Workbook
Name TeamLogo: INDEX(#REF!,'Bracket 9 - 16'!#REF!)

Sheet Setup
B2: SINGLE ELIMINATION TOURNAMENT SETUP - BEST OF THREE
B7: Number of Players/Teams | C7: 16 | D7: =IF(C7<17,1,IF(C7<33,2,IF(C7<65,3,4))) -> 1 | E7: Venue | H7: Player/Team | K7: Schedule
B8: First Round Pairing Matches | C8: Automatic Pairing | E8: No | F8: Venue Name | H8: Seeded | I8: Player/Team Name | K8: M# | L8: Date | M8: Time | N8: Venue | O8: Pairing
B9: Start Date | C9: 42040 | E9: =IF(C12<>"",1,"") -> 1 | F9: Court 1 | H9: =IF(C7<>"",1,"") -> 1 | I9: Player 1 | K9: =IF(O9<>"",1,"") -> 1 | L9: =IF($O9<>"",dummy2!C3,"") -> 42040 | M9: =IF($O9<>"",dummy2!D3,"") -> 0.625 | N9: =IF($O9<>"",dummy2!E3,"") -> Court 1 | O9: =IF(OFFSET(dummy2!L3,0,dummy1!$A$2)<>"",OFFSET(dummy2!L3,0,dummy1!$A$2),"") -> Player 1 | P9: =IF(O9<>"","vs","") -> vs | Q9: =IF(OFFSET(dummy2!M3,0,dummy1!$A$2)<>"",OFFSET(dummy2!M3,0,dummy1!$A$2),"") -> Player 16
B10: End Date (automatically shown) | C10: =dummy1!I12 -> 42040 | E10: =IF(OR(E9="",E9=$C$12),"",E9+1) -> 2 | F10: Court 2 | H10: =IF(OR(H9="",H9=$C$7),"",H9+1) -> 2 | I10: Player 2 | K10: =IF(O10<>"",K9+1,"") -> 2 | L10: =IF($O10<>"",dummy2!C4,"") -> 42040 | M10: =IF($O10<>"",dummy2!D4,"") -> 0.625 | N10: =IF($O10<>"",dummy2!E4,"") -> Court 2 | O10: =IF(OFFSET(dummy2!L4,0,dummy1!$A$2)<>"",OFFSET(dummy2!L4,0,dummy1!$A$2),"") -> Player 8 | P10: =IF(O10<>"","vs","") -> vs | Q10: =IF(OFFSET(dummy2!M4,0,dummy1!$A$2)<>"",OFFSET(dummy2!M4,0,dummy1!$A$2),"") -> Player 9
B11: Start Time per Day | C11: 0.625 | E11: =IF(OR(E10="",E10=$C$12),"",E10+1) -> 3 | F11: Court 3 | H11: =IF(OR(H10="",H10=$C$7),"",H10+1) -> 3 | I11: Player 3 | K11: =IF(O11<>"",K10+1,"") -> 3 | L11: =IF($O11<>"",dummy2!C5,"") -> 42040 | M11: =IF($O11<>"",dummy2!D5,"") -> 0.625 | N11: =IF($O11<>"",dummy2!E5,"") -> Court 3 | O11: =IF(OFFSET(dummy2!L5,0,dummy1!$A$2)<>"",OFFSET(dummy2!L5,0,dummy1!$A$2),"") -> Player 4 | P11: =IF(O11<>"","vs","") -> vs | Q11: =IF(OFFSET(dummy2!M5,0,dummy1!$A$2)<>"",OFFSET(dummy2!M5,0,dummy1!$A$2),"") -> Player 13
B12: Number of Venues | C12: 16 | E12: =IF(OR(E11="",E11=$C$12),"",E11+1) -> 4 | F12: Court 4 | H12: =IF(OR(H11="",H11=$C$7),"",H11+1) -> 4 | I12: Player 4 | K12: =IF(O12<>"",K11+1,"") -> 4 | L12: =IF($O12<>"",dummy2!C6,"") -> 42040 | M12: =IF($O12<>"",dummy2!D6,"") -> 0.625 | N12: =IF($O12<>"",dummy2!E6,"") -> Court 4 | O12: =IF(OFFSET(dummy2!L6,0,dummy1!$A$2)<>"",OFFSET(dummy2!L6,0,dummy1!$A$2),"") -> Player 5 | P12: =IF(O12<>"","vs","") -> vs | Q12: =IF(OFFSET(dummy2!M6,0,dummy1!$A$2)<>"",OFFSET(dummy2!M6,0,dummy1!$A$2),"") -> Player 12
B13: Time Interval between matches in the same venue (hour) | C13: 0.083333333 | E13: =IF(OR(E12="",E12=$C$12),"",E12+1) -> 5 | F13: Court 5 | H13: =IF(OR(H12="",H12=$C$7),"",H12+1) -> 5 | I13: Player 5 | K13: =IF(O13<>"",K12+1,"") -> 5 | L13: =IF($O13<>"",dummy2!C7,"") -> 42040 | M13: =IF($O13<>"",dummy2!D7,"") -> 0.625 | N13: =IF($O13<>"",dummy2!E7,"") -> Court 5 | O13: =IF(OFFSET(dummy2!L7,0,dummy1!$A$2)<>"",OFFSET(dummy2!L7,0,dummy1!$A$2),"") -> Player 2 | P13: =IF(O13<>"","vs","") -> vs | Q13: =IF(OFFSET(dummy2!M7,0,dummy1!$A$2)<>"",OFFSET(dummy2!M7,0,dummy1!$A$2),"") -> Player 15
B14: Maximum usage per Venues per Day | C14: 4 | E14: =IF(OR(E13="",E13=$C$12),"",E13+1) -> 6 | F14: Court 6 | H14: =IF(OR(H13="",H13=$C$7),"",H13+1) -> 6 | I14: Player 6 | K14: =IF(O14<>"",K13+1,"") -> 6 | L14: =IF($O14<>"",dummy2!C8,"") -> 42040 | M14: =IF($O14<>"",dummy2!D8,"") -> 0.625 | N14: =IF($O14<>"",dummy2!E8,"") -> Court 6 | O14: =IF(OFFSET(dummy2!L8,0,dummy1!$A$2)<>"",OFFSET(dummy2!L8,0,dummy1!$A$2),"") -> Player 7 | P14: =IF(O14<>"","vs","") -> vs | Q14: =IF(OFFSET(dummy2!M8,0,dummy1!$A$2)<>"",OFFSET(dummy2!M8,0,dummy1!$A$2),"") -> Player 10
E15: =IF(OR(E14="",E14=$C$12),"",E14+1) -> 7 | F15: Court 7 | H15: =IF(OR(H14="",H14=$C$7),"",H14+1) -> 7 | I15: Player 7 | K15: =IF(O15<>"",K14+1,"") -> 7 | L15: =IF($O15<>"",dummy2!C9,"") -> 42040 | M15: =IF($O15<>"",dummy2!D9,"") -> 0.625 | N15: =IF($O15<>"",dummy2!E9,"") -> Court 7 | O15: =IF(OFFSET(dummy2!L9,0,dummy1!$A$2)<>"",OFFSET(dummy2!L9,0,dummy1!$A$2),"") -> Player 3 | P15: =IF(O15<>"","vs","") -> vs | Q15: =IF(OFFSET(dummy2!M9,0,dummy1!$A$2)<>"",OFFSET(dummy2!M9,0,dummy1!$A$2),"") -> Player 14
E16: =IF(OR(E15="",E15=$C$12),"",E15+1) -> 8 | F16: Court 8 | H16: =IF(OR(H15="",H15=$C$7),"",H15+1) -> 8 | I16: Player 8 | K16: =IF(O16<>"",K15+1,"") -> 8 | L16: =IF($O16<>"",dummy2!C10,"") -> 42040 | M16: =IF($O16<>"",dummy2!D10,"") -> 0.625 | N16: =IF($O16<>"",dummy2!E10,"") -> Court 8 | O16: =IF(OFFSET(dummy2!L10,0,dummy1!$A$2)<>"",OFFSET(dummy2!L10,0,dummy1!$A$2),"") -> Player 6 | P16: =IF(O16<>"","vs","") -> vs | Q16: =IF(OFFSET(dummy2!M10,0,dummy1!$A$2)<>"",OFFSET(dummy2!M10,0,dummy1!$A$2),"") -> Player 11
E17: =IF(OR(E16="",E16=$C$12),"",E16+1) -> 9 | F17: Court 9 | H17: =IF(OR(H16="",H16=$C$7),"",H16+1) -> 9 | I17: Player 9 | K17: =IF(O17<>"",K16+1,"") -> 9 | L17: =IF($O17<>"",dummy2!C11,"") -> 42040 | M17: =IF($O17<>"",dummy2!D11,"") -> 0.625 | N17: =IF($O17<>"",dummy2!E11,"") -> Court 9 | O17: =IF(OFFSET(dummy2!L11,0,dummy1!$A$2)<>"",OFFSET(dummy2!L11,0,dummy1!$A$2),"") -> Winner Match 1 | P17: =IF(O17<>"","vs","") -> vs | Q17: =IF(OFFSET(dummy2!M11,0,dummy1!$A$2)<>"",OFFSET(dummy2!M11,0,dummy1!$A$2),"") -> Winner Match 2
E18: =IF(OR(E17="",E17=$C$12),"",E17+1) -> 10 | F18: Court 10 | H18: =IF(OR(H17="",H17=$C$7),"",H17+1) -> 10 | I18: Player 10 | K18: =IF(O18<>"",K17+1,"") -> 10 | L18: =IF($O18<>"",dummy2!C12,"") -> 42040 | M18: =IF($O18<>"",dummy2!D12,"") -> 0.625 | N18: =IF($O18<>"",dummy2!E12,"") -> Court 10 | O18: =IF(OFFSET(dummy2!L12,0,dummy1!$A$2)<>"",OFFSET(dummy2!L12,0,dummy1!$A$2),"") -> Winner Match 3 | P18: =IF(O18<>"","vs","") -> vs | Q18: =IF(OFFSET(dummy2!M12,0,dummy1!$A$2)<>"",OFFSET(dummy2!M12,0,dummy1!$A$2),"") -> Winner Match 4
E19: =IF(OR(E18="",E18=$C$12),"",E18+1) -> 11 | F19: Court 11 | H19: =IF(OR(H18="",H18=$C$7),"",H18+1) -> 11 | I19: Player 11 | K19: =IF(O19<>"",K18+1,"") -> 11 | L19: =IF($O19<>"",dummy2!C13,"") -> 42040 | M19: =IF($O19<>"",dummy2!D13,"") -> 0.625 | N19: =IF($O19<>"",dummy2!E13,"") -> Court 11 | O19: =IF(OFFSET(dummy2!L13,0,dummy1!$A$2)<>"",OFFSET(dummy2!L13,0,dummy1!$A$2),"") -> Winner Match 5 | P19: =IF(O19<>"","vs","") -> vs | Q19: =IF(OFFSET(dummy2!M13,0,dummy1!$A$2)<>"",OFFSET(dummy2!M13,0,dummy1!$A$2),"") -> Winner Match 6
E20: =IF(OR(E19="",E19=$C$12),"",E19+1) -> 12 | F20: Court 12 | H20: =IF(OR(H19="",H19=$C$7),"",H19+1) -> 12 | I20: Player 12 | K20: =IF(O20<>"",K19+1,"") -> 12 | L20: =IF($O20<>"",dummy2!C14,"") -> 42040 | M20: =IF($O20<>"",dummy2!D14,"") -> 0.625 | N20: =IF($O20<>"",dummy2!E14,"") -> Court 12 | O20: =IF(OFFSET(dummy2!L14,0,dummy1!$A$2)<>"",OFFSET(dummy2!L14,0,dummy1!$A$2),"") -> Winner Match 7 | P20: =IF(O20<>"","vs","") -> vs | Q20: =IF(OFFSET(dummy2!M14,0,dummy1!$A$2)<>"",OFFSET(dummy2!M14,0,dummy1!$A$2),"") -> Winner Match 8
E21: =IF(OR(E20="",E20=$C$12),"",E20+1) -> 13 | F21: Court 13 | H21: =IF(OR(H20="",H20=$C$7),"",H20+1) -> 13 | I21: Player 13 | K21: =IF(O21<>"",K20+1,"") -> 13 | L21: =IF($O21<>"",dummy2!C15,"") -> 42040 | M21: =IF($O21<>"",dummy2!D15,"") -> 0.625 | N21: =IF($O21<>"",dummy2!E15,"") -> Court 13 | O21: =IF(OFFSET(dummy2!L15,0,dummy1!$A$2)<>"",OFFSET(dummy2!L15,0,dummy1!$A$2),"") -> Winner Match 9 | P21: =IF(O21<>"","vs","") -> vs | Q21: =IF(OFFSET(dummy2!M15,0,dummy1!$A$2)<>"",OFFSET(dummy2!M15,0,dummy1!$A$2),"") -> Winner Match 10
E22: =IF(OR(E21="",E21=$C$12),"",E21+1) -> 14 | F22: Court 14 | H22: =IF(OR(H21="",H21=$C$7),"",H21+1) -> 14 | I22: Player 14 | K22: =IF(O22<>"",K21+1,"") -> 14 | L22: =IF($O22<>"",dummy2!C16,"") -> 42040 | M22: =IF($O22<>"",dummy2!D16,"") -> 0.625 | N22: =IF($O22<>"",dummy2!E16,"") -> Court 14 | O22: =IF(OFFSET(dummy2!L16,0,dummy1!$A$2)<>"",OFFSET(dummy2!L16,0,dummy1!$A$2),"") -> Winner Match 11 | P22: =IF(O22<>"","vs","") -> vs | Q22: =IF(OFFSET(dummy2!M16,0,dummy1!$A$2)<>"",OFFSET(dummy2!M16,0,dummy1!$A$2),"") -> Winner Match 12
E23: =IF(OR(E22="",E22=$C$12),"",E22+1) -> 15 | F23: Court 15 | H23: =IF(OR(H22="",H22=$C$7),"",H22+1) -> 15 | I23: Player 15 | K23: =IF(O23<>"",K22+1,"") -> 15 | L23: =IF($O23<>"",dummy2!C17,"") -> 42040 | M23: =IF($O23<>"",dummy2!D17,"") -> 0.625 | N23: =IF($O23<>"",dummy2!E17,"") -> Court 15 | O23: =IF(OFFSET(dummy2!L17,0,dummy1!$A$2)<>"",OFFSET(dummy2!L17,0,dummy1!$A$2),"") -> Loser Match 13 | P23: =IF(O23<>"","vs","") -> vs | Q23: =IF(OFFSET(dummy2!M17,0,dummy1!$A$2)<>"",OFFSET(dummy2!M17,0,dummy1!$A$2),"") -> Loser Match 14
E24: =IF(OR(E23="",E23=$C$12),"",E23+1) -> 16 | F24: Court 16 | H24: =IF(OR(H23="",H23=$C$7),"",H23+1) -> 16 | I24: Player 16 | K24: =IF(O24<>"",K23+1,"") -> 16 | L24: =IF($O24<>"",dummy2!C18,"") -> 42040 | M24: =IF($O24<>"",dummy2!D18,"") -> 0.625 | N24: =IF($O24<>"",dummy2!E18,"") -> Court 16 | O24: =IF(OFFSET(dummy2!L18,0,dummy1!$A$2)<>"",OFFSET(dummy2!L18,0,dummy1!$A$2),"") -> Winner Match 13 | P24: =IF(O24<>"","vs","") -> vs | Q24: =IF(OFFSET(dummy2!M18,0,dummy1!$A$2)<>"",OFFSET(dummy2!M18,0,dummy1!$A$2),"") -> Winner Match 14
H25: =IF(OR(H24="",H24=$C$7),"",H24+1) | K25: =IF(O25<>"",K24+1,"") | L25: =IF($O25<>"",dummy2!C19,"") | M25: =IF($O25<>"",dummy2!D19,"") | N25: =IF($O25<>"",dummy2!E19,"") | O25: =IF(OFFSET(dummy2!L19,0,dummy1!$A$2)<>"",OFFSET(dummy2!L19,0,dummy1!$A$2),"") | P25: =IF(O25<>"","vs","") | Q25: =IF(OFFSET(dummy2!M19,0,dummy1!$A$2)<>"",OFFSET(dummy2!M19,0,dummy1!$A$2),"")
H26: =IF(OR(H25="",H25=$C$7),"",H25+1) | K26: =IF(O26<>"",K25+1,"") | L26: =IF($O26<>"",dummy2!C20,"") | M26: =IF($O26<>"",dummy2!D20,"") | N26: =IF($O26<>"",dummy2!E20,"") | O26: =IF(OFFSET(dummy2!L20,0,dummy1!$A$2)<>"",OFFSET(dummy2!L20,0,dummy1!$A$2),"") | P26: =IF(O26<>"","vs","") | Q26: =IF(OFFSET(dummy2!M20,0,dummy1!$A$2)<>"",OFFSET(dummy2!M20,0,dummy1!$A$2),"")
H27: =IF(OR(H26="",H26=$C$7),"",H26+1) | K27: =IF(O27<>"",K26+1,"") | L27: =IF($O27<>"",dummy2!C21,"") | M27: =IF($O27<>"",dummy2!D21,"") | N27: =IF($O27<>"",dummy2!E21,"") | O27: =IF(OFFSET(dummy2!L21,0,dummy1!$A$2)<>"",OFFSET(dummy2!L21,0,dummy1!$A$2),"") | P27: =IF(O27<>"","vs","") | Q27: =IF(OFFSET(dummy2!M21,0,dummy1!$A$2)<>"",OFFSET(dummy2!M21,0,dummy1!$A$2),"")
H28: =IF(OR(H27="",H27=$C$7),"",H27+1) | K28: =IF(O28<>"",K27+1,"") | L28: =IF($O28<>"",dummy2!C22,"") | M28: =IF($O28<>"",dummy2!D22,"") | N28: =IF($O28<>"",dummy2!E22,"") | O28: =IF(OFFSET(dummy2!L22,0,dummy1!$A$2)<>"",OFFSET(dummy2!L22,0,dummy1!$A$2),"") | P28: =IF(O28<>"","vs","") | Q28: =IF(OFFSET(dummy2!M22,0,dummy1!$A$2)<>"",OFFSET(dummy2!M22,0,dummy1!$A$2),"")
H29: =IF(OR(H28="",H28=$C$7),"",H28+1) | K29: =IF(O29<>"",K28+1,"") | L29: =IF($O29<>"",dummy2!C23,"") | M29: =IF($O29<>"",dummy2!D23,"") | N29: =IF($O29<>"",dummy2!E23,"") | O29: =IF(OFFSET(dummy2!L23,0,dummy1!$A$2)<>"",OFFSET(dummy2!L23,0,dummy1!$A$2),"") | P29: =IF(O29<>"","vs","") | Q29: =IF(OFFSET(dummy2!M23,0,dummy1!$A$2)<>"",OFFSET(dummy2!M23,0,dummy1!$A$2),"")
H30: =IF(OR(H29="",H29=$C$7),"",H29+1) | K30: =IF(O30<>"",K29+1,"") | L30: =IF($O30<>"",dummy2!C24,"") | M30: =IF($O30<>"",dummy2!D24,"") | N30: =IF($O30<>"",dummy2!E24,"") | O30: =IF(OFFSET(dummy2!L24,0,dummy1!$A$2)<>"",OFFSET(dummy2!L24,0,dummy1!$A$2),"") | P30: =IF(O30<>"","vs","") | Q30: =IF(OFFSET(dummy2!M24,0,dummy1!$A$2)<>"",OFFSET(dummy2!M24,0,dummy1!$A$2),"")
H31: =IF(OR(H30="",H30=$C$7),"",H30+1) | K31: =IF(O31<>"",K30+1,"") | L31: =IF($O31<>"",dummy2!C25,"") | M31: =IF($O31<>"",dummy2!D25,"") | N31: =IF($O31<>"",dummy2!E25,"") | O31: =IF(OFFSET(dummy2!L25,0,dummy1!$A$2)<>"",OFFSET(dummy2!L25,0,dummy1!$A$2),"") | P31: =IF(O31<>"","vs","") | Q31: =IF(OFFSET(dummy2!M25,0,dummy1!$A$2)<>"",OFFSET(dummy2!M25,0,dummy1!$A$2),"")
H32: =IF(OR(H31="",H31=$C$7),"",H31+1) | K32: =IF(O32<>"",K31+1,"") | L32: =IF($O32<>"",dummy2!C26,"") | M32: =IF($O32<>"",dummy2!D26,"") | N32: =IF($O32<>"",dummy2!E26,"") | O32: =IF(OFFSET(dummy2!L26,0,dummy1!$A$2)<>"",OFFSET(dummy2!L26,0,dummy1!$A$2),"") | P32: =IF(O32<>"","vs","") | Q32: =IF(OFFSET(dummy2!M26,0,dummy1!$A$2)<>"",OFFSET(dummy2!M26,0,dummy1!$A$2),"")
H33: =IF(OR(H32="",H32=$C$7),"",H32+1) | K33: =IF(O33<>"",K32+1,"") | L33: =IF($O33<>"",dummy2!C27,"") | M33: =IF($O33<>"",dummy2!D27,"") | N33: =IF($O33<>"",dummy2!E27,"") | O33: =IF(OFFSET(dummy2!L27,0,dummy1!$A$2)<>"",OFFSET(dummy2!L27,0,dummy1!$A$2),"") | P33: =IF(O33<>"","vs","") | Q33: =IF(OFFSET(dummy2!M27,0,dummy1!$A$2)<>"",OFFSET(dummy2!M27,0,dummy1!$A$2),"")
H34: =IF(OR(H33="",H33=$C$7),"",H33+1) | K34: =IF(O34<>"",K33+1,"") | L34: =IF($O34<>"",dummy2!C28,"") | M34: =IF($O34<>"",dummy2!D28,"") | N34: =IF($O34<>"",dummy2!E28,"") | O34: =IF(OFFSET(dummy2!L28,0,dummy1!$A$2)<>"",OFFSET(dummy2!L28,0,dummy1!$A$2),"") | P34: =IF(O34<>"","vs","") | Q34: =IF(OFFSET(dummy2!M28,0,dummy1!$A$2)<>"",OFFSET(dummy2!M28,0,dummy1!$A$2),"")
H35: =IF(OR(H34="",H34=$C$7),"",H34+1) | K35: =IF(O35<>"",K34+1,"") | L35: =IF($O35<>"",dummy2!C29,"") | M35: =IF($O35<>"",dummy2!D29,"") | N35: =IF($O35<>"",dummy2!E29,"") | O35: =IF(OFFSET(dummy2!L29,0,dummy1!$A$2)<>"",OFFSET(dummy2!L29,0,dummy1!$A$2),"") | P35: =IF(O35<>"","vs","") | Q35: =IF(OFFSET(dummy2!M29,0,dummy1!$A$2)<>"",OFFSET(dummy2!M29,0,dummy1!$A$2),"")
H36: =IF(OR(H35="",H35=$C$7),"",H35+1) | K36: =IF(O36<>"",K35+1,"") | L36: =IF($O36<>"",dummy2!C30,"") | M36: =IF($O36<>"",dummy2!D30,"") | N36: =IF($O36<>"",dummy2!E30,"") | O36: =IF(OFFSET(dummy2!L30,0,dummy1!$A$2)<>"",OFFSET(dummy2!L30,0,dummy1!$A$2),"") | P36: =IF(O36<>"","vs","") | Q36: =IF(OFFSET(dummy2!M30,0,dummy1!$A$2)<>"",OFFSET(dummy2!M30,0,dummy1!$A$2),"")
... H136: =IF(OR(H135="",H135=$C$7),"",H135+1) | K136: =IF(O136<>"",K135+1,"") | L136: =IF($O136<>"",dummy2!C130,"") | M136: =IF($O136<>"",dummy2!D130,"") | N136: =IF($O136<>"",dummy2!E130,"") | O136: =IF(OFFSET(dummy2!L130,0,dummy1!$A$2)<>"",OFFSET(dummy2!L130,0,dummy1!$A$2),"") | P136: =IF(O136<>"","vs","") | Q136: =IF(OFFSET(dummy2!M130,0,dummy1!$A$2)<>"",OFFSET(dummy2!M130,0,dummy1!$A$2),"")
B137: © 2015 - excelindo.com
H138: =IF(OR(H136="",H136=$C$7),"",H136+1)
H139: =IF(OR(H138="",H138=$C$7),"",H138+1)
H140: =IF(OR(H139="",H139=$C$7),"",H139+1)
H141: =IF(OR(H140="",H140=$C$7),"",H140+1)
H142: =IF(OR(H141="",H141=$C$7),"",H141+1)
H143: =IF(OR(H142="",H142=$C$7),"",H142+1)
H144: =IF(OR(H143="",H143=$C$7),"",H143+1)
...

Sheet dummy1
A2: =VLOOKUP(Setup!D7,dummy1!A4:B7,2,FALSE) -> 0
A4: 1 | B4: 0
A5: 2 | B5: 8
A6: 3 | B6: 16 | S6: =(I8-4)*2-2 -> 22
A7: 4 | B7: 24 | O7: BRACKET OF 16 | U7: 5 | W7: =U7+1 -> 6 | Y7: =W7+1 -> 7 | AA7: =Y7+1 -> 8 | AC7: =AA7+1 -> 9 | AE7: =AC7+1 -> 10 | AG7: =AE7+1 -> 11 | AI7: =AG7+1 -> 12 | AK7: =AI7+1 -> 13 | AM7: =AK7+1 -> 14 | AO7: =AM7+1 -> 15 | AQ7: =AO7+1 -> 16 | AS7: =AQ7+1 -> 17 | AU7: =AS7+1 -> 18 | AW7: =AU7+1 -> 19 | AY7: =AW7+1 -> 20 | BA7: =AY7+1 -> 21 | BC7: =BA7+1 -> 22 | BE7: =BC7+1 -> 23 | BG7: =BE7+1 -> 24 | BI7: =BG7+1 -> 25 | BK7: =BI7+1 -> 26 | BM7: =BK7+1 -> 27 | BO7: =BM7+1 -> 28 | BQ7: =BO7+1 -> 29 | BS7: =BQ7+1 -> 30 | BU7: =BS7+1 -> 31 | BW7: =BU7+1 -> 32 | BY7: =BW7+1 -> 33 | CA7: =BY7+1 -> 34 | CC7: =CA7+1 -> 35 | CE7: =CC7+1 -> 36 | CG7: =CE7+1 -> 37 | CI7: =CG7+1 -> 38 | CK7: =CI7+1 -> 39 | CM7: =CK7+1 -> 40 | CO7: =CM7+1 -> 41 | CQ7: =CO7+1 -> 42 | CS7: =CQ7+1 -> 43 | CU7: =CS7+1 -> 44 | CW7: =CU7+1 -> 45 | CY7: =CW7+1 -> 46 | DA7: =CY7+1 -> 47 | DC7: =DA7+1 -> 48 | DE7: =DC7+1 -> 49 | DG7: =DE7+1 -> 50 | DI7: =DG7+1 -> 51 | DK7: =DI7+1 -> 52 | DM7: =DK7+1 -> 53 | DO7: =DM7+1 -> 54 | DQ7: =DO7+1 -> 55 | DS7: =DQ7+1 -> 56 | DU7: =DS7+1 -> 57 | DW7: =DU7+1 -> 58 | DY7: =DW7+1 -> 59 | EA7: =DY7+1 -> 60 | EC7: =EA7+1 -> 61 | EE7: =EC7+1 -> 62 | EG7: =EE7+1 -> 63 | EI7: =EG7+1 -> 64 | EK7: =EI7+1 -> 65 | EM7: =EK7+1 -> 66 | EO7: =EM7+1 -> 67 | EQ7: =EO7+1 -> 68 | ES7: =EQ7+1 -> 69 | EU7: =ES7+1 -> 70 | EW7: =EU7+1 -> 71 | EY7: =EW7+1 -> 72 | FA7: =EY7+1 -> 73 | FC7: =FA7+1 -> 74 | FE7: =FC7+1 -> 75 | FG7: =FE7+1 -> 76 | FI7: =FG7+1 -> 77 | FK7: =FI7+1 -> 78 | FM7: =FK7+1 -> 79 | FO7: =FM7+1 -> 80 | FQ7: =FO7+1 -> 81 | FS7: =FQ7+1 -> 82 | FU7: =FS7+1 -> 83 | FW7: =FU7+1 -> 84 | FY7: =FW7+1 -> 85 | GA7: =FY7+1 -> 86 | GC7: =GA7+1 -> 87 | GE7: =GC7+1 -> 88 | GG7: =GE7+1 -> 89 | GI7: =GG7+1 -> 90 | GK7: =GI7+1 -> 91 | GM7: =GK7+1 -> 92 | GO7: =GM7+1 -> 93 | GQ7: =GO7+1 -> 94 | GS7: =GQ7+1 -> 95 | GU7: =GS7+1 -> 96 | GW7: =GU7+1 -> 97 | GY7: =GW7+1 -> 98 | HA7: =GY7+1 -> 99 | HC7: =HA7+1 -> 100 | HE7: =HC7+1 -> 101 | HG7: =HE7+1 -> 102 | HI7: =HG7+1 -> 103 | HK7: =HI7+1 -> 104 | HM7: =HK7+1 -> 105 | HO7: =HM7+1 -> 106 | HQ7: =HO7+1 -> 107 | HS7: =HQ7+1 -> 108 | HU7: =HS7+1 -> 109 | HW7: =HU7+1 -> 110 | HY7: =HW7+1 -> 111 | IA7: =HY7+1 -> 112 | IC7: =IA7+1 -> 113 | IE7: =IC7+1 -> 114 | IG7: =IE7+1 -> 115 | II7: =IG7+1 -> 116 | IK7: =II7+1 -> 117 | IM7: =IK7+1 -> 118 | IO7: =IM7+1 -> 119 | IQ7: =IO7+1 -> 120 | IS7: =IQ7+1 -> 121 | IU7: =IS7+1 -> 122 | IW7: =IU7+1 -> 123 | IY7: =IW7+1 -> 124 | JA7: =IY7+1 -> 125 | JC7: =JA7+1 -> 126 | JE7: =JC7+1 -> 127 | JG7: =JE7+1 -> 128
I8: =Setup!C7 -> 16 | O8: M# | P8: Date | Q8: Time | R8: Venue
H9: Bracket Model (First Round Bracket) | I9: =IF(A2=0,16,IF(A2=8,32,IF(A2=16,64,128))) -> 16 | O9: 1 | P9: =IF(O9<>"",VLOOKUP(O9,$A$10:$F$266,6,FALSE),"") -> 42040 | Q9: =IF(O9<>"",VLOOKUP(O9,$A$10:$F$266,5,FALSE),"") -> 0.625 | R9: =IF(O9<>"",VLOOKUP(O9,$A$10:$F$266,4,FALSE),"") -> Court 1 | S9: =IF(OFFSET(U9,0,$S$6)<>"",OFFSET(U9,0,$S$6),"Bye") -> 1 | T9: =IF(OFFSET(V9,0,$S$6)<>"",OFFSET(V9,0,$S$6),"Bye") -> 16 | U9: 1 | W9: 1 | Y9: 1 | AA9: 1 | AB9: 8 | AC9: 1 | AE9: 1 | AG9: 1 | AI9: 1 | AK9: 1 | AM9: 1 | AO9: 1 | AQ9: 1 | AR9: 16 | AS9: 1 | AU9: 1 | AW9: 1 | AY9: 1 | BA9: 1 | BC9: 1 | BE9: 1 | BG9: 1 | BI9: 1 | BK9: 1 | BM9: 1 | BO9: 1 | BQ9: 1 | BS9: 1 | BU9: 1 | BW9: 1 | BX9: 32 | BY9: 1 | CA9: 1 | CC9: 1 | CE9: 1 | CG9: 1 | CI9: 1 | CK9: 1 | CM9: 1 | CO9: 1 | CQ9: 1 | CS9: 1 | CU9: 1 | CW9: 1 | CY9: 1 | DA9: 1 | DC9: 1 | DE9: 1 | DG9: 1 | DI9: 1 | DK9: 1 | DM9: 1 | DO9: 1 | DQ9: 1 | DS9: 1 | DU9: 1 | DW9: 1 | DY9: 1 | EA9: 1 | EC9: 1 | EE9: 1 | EG9: 1 | EI9: 1 | EJ9: 64 | EK9: 1 | EM9: 1 | EO9: 1 | EQ9: 1 | ES9: 1 | EU9: 1 | EW9: 1 | EY9: 1 | FA9: 1 | FC9: 1 | FE9: 1 | FG9: 1 | FI9: 1 | FK9: 1 | FM9: 1 | FO9: 1 | FQ9: 1 | FS9: 1 | FU9: 1 | FW9: 1 | FY9: 1 | GA9: 1 | GC9: 1 | GE9: 1 | GG9: 1 | GI9: 1 | GK9: 1 | GM9: 1 | GO9: 1 | GQ9: 1 | GS9: 1 | GU9: 1 | GW9: 1 | GY9: 1 | HA9: 1 | HC9: 1 | HE9: 1 | HG9: 1 | HI9: 1 | HK9: 1 | HM9: 1 | HO9: 1 | HQ9: 1 | HS9: 1 | HU9: 1 | HW9: 1 | HY9: 1 | IA9: 1 | IC9: 1 | IE9: 1 | IG9: 1 | II9: 1 | IK9: 1 | IM9: 1 | IO9: 1 | IQ9: 1 | IS9: 1 | IU9: 1 | IW9: 1 | IY9: 1 | JA9: 1 | JC9: 1 | JE9: 1 | JG9: 1 | JH9: 128
A10: 1 | B10: 1 | C10: 1 | D10: =VLOOKUP(C10,$K$15:$L$30,2,FALSE) -> Court 1 | E10: =I13 -> 0.625 | F10: =I11 -> 42040 | H10: Single Elimination Rule | I10: Best of Five | O10: =O9+1 -> 2 | P10: =IF(O10<>"",VLOOKUP(O10,$A$10:$F$266,6,FALSE),"") -> 42040 | Q10: =IF(O10<>"",VLOOKUP(O10,$A$10:$F$266,5,FALSE),"") -> 0.625 | R10: =IF(O10<>"",VLOOKUP(O10,$A$10:$F$266,4,FALSE),"") -> Court 2 | S10: =IF(OFFSET(U10,0,$S$6)<>"",OFFSET(U10,0,$S$6),"Bye") -> 8 | T10: =IF(OFFSET(V10,0,$S$6)<>"",OFFSET(V10,0,$S$6),"Bye") -> 9 | U10: 4 | V10: 5 | W10: 4 | X10: 5 | Y10: 4 | Z10: 5 | AA10: 4 | AB10: 5 | AC10: 8 | AD10: 9 | AE10: 8 | AF10: 9 | AG10: 8 | AH10: 9 | AI10: 8 | AJ10: 9 | AK10: 8 | AL10: 9 | AM10: 8 | AN10: 9 | AO10: 8 | AP10: 9 | AQ10: 8 | AR10: 9 | AS10: 16 | AT10: 17 | AU10: 16 | AV10: 17 | AW10: 16 | AX10: 17 | AY10: 16 | AZ10: 17 | BA10: 16 | BB10: 17 | BC10: 16 | BD10: 17 | BE10: 16 | BF10: 17 | BG10: 16 | BH10: 17 | BI10: 16 | BJ10: 17 | BK10: 16 | BL10: 17 | BM10: 16 | BN10: 17 | BO10: 16 | BP10: 17 | BQ10: 16 | BR10: 17 | BS10: 16 | BT10: 17 | BU10: 16 | BV10: 17 | BW10: 16 | BX10: 17 | BY10: 32 | BZ10: 33 | CA10: 32 | CB10: 33 | CC10: 32 | CD10: 33 | CE10: 32 | CF10: 33 | CG10: 32 | CH10: 33 | CI10: 32 | CJ10: 33 | CK10: 32 | CL10: 33 | CM10: 32 | CN10: 33 | CO10: 32 | CP10: 33 | CQ10: 32 | CR10: 33 | CS10: 32 | CT10: 33 | CU10: 32 | CV10: 33 | CW10: 32 | CX10: 33 | CY10: 32 | CZ10: 33 | DA10: 32 | DB10: 33 | DC10: 32 | DD10: 33 | DE10: 32 | DF10: 33 | DG10: 32 | DH10: 33 | DI10: 32 | DJ10: 33 | DK10: 32 | DL10: 33 | DM10: 32 | DN10: 33 | DO10: 32 | DP10: 33 | DQ10: 32 | DR10: 33 | DS10: 32 | DT10: 33 | DU10: 32 | DV10: 33 | DW10: 32 | DX10: 33 | DY10: 32 | DZ10: 33 | EA10: 32 | EB10: 33 | EC10: 32 | ED10: 33 | EE10: 32 | EF10: 33 | EG10: 32 | EH10: 33 | EI10: 32 | EJ10: 33 | EK10: 64 | EL10: 65 | EM10: 64 | EN10: 65 | EO10: 64 | EP10: 65 | EQ10: 64 | ER10: 65 | ES10: 64 | ET10: 65 | EU10: 64 | EV10: 65 | EW10: 64 | EX10: 65 | EY10: 64 | EZ10: 65 | FA10: 64 | FB10: 65 | FC10: 64 | FD10: 65 | FE10: 64 | FF10: 65 | FG10: 64 | FH10: 65 | FI10: 64 | FJ10: 65 | FK10: 64 | FL10: 65 | FM10: 64 | FN10: 65 | FO10: 64 | FP10: 65 | FQ10: 64 | FR10: 65 | FS10: 64 | FT10: 65 | FU10: 64 | FV10: 65 | FW10: 64 | FX10: 65 | FY10: 64 | FZ10: 65 | GA10: 64 | GB10: 65 | GC10: 64 | GD10: 65 | GE10: 64 | GF10: 65 | GG10: 64 | GH10: 65 | GI10: 64 | GJ10: 65 | GK10: 64 | GL10: 65 | GM10: 64 | GN10: 65 | GO10: 64 | GP10: 65 | GQ10: 64 | GR10: 65 | GS10: 64 | GT10: 65 | GU10: 64 | GV10: 65 | GW10: 64 | GX10: 65 | GY10: 64 | GZ10: 65 | HA10: 64 | HB10: 65 | HC10: 64 | HD10: 65 | HE10: 64 | HF10: 65 | HG10: 64 | HH10: 65 | HI10: 64 | HJ10: 65 | HK10: 64 | HL10: 65 | HM10: 64 | HN10: 65 | HO10: 64 | HP10: 65 | HQ10: 64 | HR10: 65 | HS10: 64 | HT10: 65 | HU10: 64 | HV10: 65 | HW10: 64 | HX10: 65 | HY10: 64 | HZ10: 65 | IA10: 64 | IB10: 65 | IC10: 64 | ID10: 65 | IE10: 64 | IF10: 65 | IG10: 64 | IH10: 65 | II10: 64 | IJ10: 65 | IK10: 64 | IL10: 65 | IM10: 64 | IN10: 65 | IO10: 64 | IP10: 65 | IQ10: 64 | IR10: 65 | IS10: 64 | IT10: 65 | IU10: 64 | IV10: 65 | IW10: 64 | IX10: 65 | IY10: 64 | IZ10: 65 | JA10: 64 | JB10: 65 | JC10: 64 | JD10: 65 | JE10: 64 | JF10: 65 | JG10: 64 | JH10: 65
A11: 2 | B11: =IF(MOD(A10,$I$14*$I$16)=0,B10+1,B10) -> 1 | C11: =IF(C10<>$I$14,C10+1,1) -> 2 | D11: =VLOOKUP(C11,$K$15:$L$30,2,FALSE) -> Court 2 | E11: =IF(B11=B10,IF(C11>C10,E10,E10+$I$15),$I$13) -> 0.625 | F11: =IF(B11=B10,F10,F10+1) -> 42040 | H11: Start Date | I11: =Setup!C9 -> 42040 | O11: =O10+1 -> 3 | P11: =IF(O11<>"",VLOOKUP(O11,$A$10:$F$266,6,FALSE),"") -> 42040 | Q11: =IF(O11<>"",VLOOKUP(O11,$A$10:$F$266,5,FALSE),"") -> 0.625 | R11: =IF(O11<>"",VLOOKUP(O11,$A$10:$F$266,4,FALSE),"") -> Court 3 | S11: =IF(OFFSET(U11,0,$S$6)<>"",OFFSET(U11,0,$S$6),"Bye") -> 4 | T11: =IF(OFFSET(V11,0,$S$6)<>"",OFFSET(V11,0,$S$6),"Bye") -> 13 | U11: 2 | W11: 2 | Y11: 2 | Z11: 7 | AA11: 2 | AB11: 7 | AC11: 4 | AE11: 4 | AG11: 4 | AI11: 4 | AK11: 4 | AL11: 13 | AM11: 4 | AN11: 13 | AO11: 4 | AP11: 13 | AQ11: 4 | AR11: 13 | AS11: 8 | AU11: 8 | AW11: 8 | AY11: 8 | BA11: 8 | BC11: 8 | BE11: 8 | BG11: 8 | BI11: 8 | BJ11: 25 | BK11: 8 | BL11: 25 | BM11: 8 | BN11: 25 | BO11: 8 | BP11: 25 | BQ11: 8 | BR11: 25 | BS11: 8 | BT11: 25 | BU11: 8 | BV11: 25 | BW11: 8 | BX11: 25 | BY11: 16 | CA11: 16 | CC11: 16 | CE11: 16 | CG11: 16 | CI11: 16 | CK11: 16 | CM11: 16 | CO11: 16 | CQ11: 16 | CS11: 16 | CU11: 16 | CW11: 16 | CY11: 16 | DA11: 16 | DC11: 16 | DE11: 16 | DF11: 49 | DG11: 16 | DH11: 49 | DI11: 16 | DJ11: 49 | DK11: 16 | DL11: 49 | DM11: 16 | DN11: 49 | DO11: 16 | DP11: 49 | DQ11: 16 | DR11: 49 | DS11: 16 | DT11: 49 | DU11: 16 | DV11: 49 | DW11: 16 | DX11: 49 | DY11: 16 | DZ11: 49 | EA11: 16 | EB11: 49 | EC11: 16 | ED11: 49 | EE11: 16 | EF11: 49 | EG11: 16 | EH11: 49 | EI11: 16 | EJ11: 49 | EK11: 32 | EM11: 32 | EO11: 32 | EQ11: 32 | ES11: 32 | EU11: 32 | EW11: 32 | EY11: 32 | FA11: 32 | FC11: 32 | FE11: 32 | FG11: 32 | FI11: 32 | FK11: 32 | FM11: 32 | FO11: 32 | FQ11: 32 | FS11: 32 | FU11: 32 | FW11: 32 | FY11: 32 | GA11: 32 | GC11: 32 | GE11: 32 | GG11: 32 | GI11: 32 | GK11: 32 | GM11: 32 | GO11: 32 | GQ11: 32 | GS11: 32 | GU11: 32 | GW11: 32 | GX11: 97 | GY11: 32 | GZ11: 97 | HA11: 32 | HB11: 97 | HC11: 32 | HD11: 97 | HE11: 32 | HF11: 97 | HG11: 32 | HH11: 97 | HI11: 32 | HJ11: 97 | HK11: 32 | HL11: 97 | HM11: 32 | HN11: 97 | HO11: 32 | HP11: 97 | HQ11: 32 | HR11: 97 | HS11: 32 | HT11: 97 | HU11: 32 | HV11: 97 | HW11: 32 | HX11: 97 | HY11: 32 | HZ11: 97 | IA11: 32 | IB11: 97 | IC11: 32 | ID11: 97 | IE11: 32 | IF11: 97 | IG11: 32 | IH11: 97 | II11: 32 | IJ11: 97 | IK11: 32 | IL11: 97 | IM11: 32 | IN11: 97 | IO11: 32 | IP11: 97 | IQ11: 32 | IR11: 97 | IS11: 32 | IT11: 97 | IU11: 32 | IV11: 97 | IW11: 32 | IX11: 97 | IY11: 32 | IZ11: 97 | JA11: 32 | JB11: 97 | JC11: 32 | JD11: 97 | JE11: 32 | JF11: 97 | JG11: 32 | JH11: 97
A12: 3 | B12: =IF(MOD(A11,$I$14*$I$16)=0,B11+1,B11) -> 1 | C12: =IF(C11<>$I$14,C11+1,1) -> 3 | D12: =VLOOKUP(C12,$K$15:$L$30,2,FALSE) -> Court 3 | E12: =IF(B12=B11,IF(C12>C11,E11,E11+$I$15),$I$13) -> 0.625 | F12: =IF(B12=B11,F11,F11+1) -> 42040 | H12: End Date (automatically shown) | I12: =MAX(P9:P24) -> 42040 | O12: =O11+1 -> 4 | P12: =IF(O12<>"",VLOOKUP(O12,$A$10:$F$266,6,FALSE),"") -> 42040 | Q12: =IF(O12<>"",VLOOKUP(O12,$A$10:$F$266,5,FALSE),"") -> 0.625 | R12: =IF(O12<>"",VLOOKUP(O12,$A$10:$F$266,4,FALSE),"") -> Court 4 | S12: =IF(OFFSET(U12,0,$S$6)<>"",OFFSET(U12,0,$S$6),"Bye") -> 5 | T12: =IF(OFFSET(V12,0,$S$6)<>"",OFFSET(V12,0,$S$6),"Bye") -> 12 | U12: 3 | W12: 3 | X12: 6 | Y12: 3 | Z12: 6 | AA12: 3 | AB12: 6 | AC12: 5 | AE12: 5 | AG12: 5 | AI12: 5 | AJ12: 12 | AK12: 5 | AL12: 12 | AM12: 5 | AN12: 12 | AO12: 5 | AP12: 12 | AQ12: 5 | AR12: 12 | AS12: 13 | AU12: 13 | AW12: 13 | AY12: 13 | AZ12: 20 | BA12: 13 | BB12: 20 | BC12: 13 | BD12: 20 | BE12: 13 | BF12: 20 | BG12: 13 | BH12: 20 | BI12: 13 | BJ12: 20 | BK12: 13 | BL12: 20 | BM12: 13 | BN12: 20 | BO12: 13 | BP12: 20 | BQ12: 13 | BR12: 20 | BS12: 13 | BT12: 20 | BU12: 13 | BV12: 20 | BW12: 13 | BX12: 20 | BY12: 17 | CA12: 17 | CC12: 17 | CE12: 17 | CG12: 17 | CI12: 17 | CK12: 17 | CM12: 17 | CO12: 17 | CQ12: 17 | CS12: 17 | CU12: 17 | CW12: 17 | CY12: 17 | DA12: 17 | DC12: 17 | DD12: 48 | DE12: 17 | DF12: 48 | DG12: 17 | DH12: 48 | DI12: 17 | DJ12: 48 | DK12: 17 | DL12: 48 | DM12: 17 | DN12: 48 | DO12: 17 | DP12: 48 | DQ12: 17 | DR12: 48 | DS12: 17 | DT12: 48 | DU12: 17 | DV12: 48 | DW12: 17 | DX12: 48 | DY12: 17 | DZ12: 48 | EA12: 17 | EB12: 48 | EC12: 17 | ED12: 48 | EE12: 17 | EF12: 48 | EG12: 17 | EH12: 48 | EI12: 17 | EJ12: 48 | EK12: 33 | EM12: 33 | EO12: 33 | EQ12: 33 | ES12: 33 | EU12: 33 | EW12: 33 | EY12: 33 | FA12: 33 | FC12: 33 | FE12: 33 | FG12: 33 | FI12: 33 | FK12: 33 | FM12: 33 | FO12: 33 | FQ12: 33 | FS12: 33 | FU12: 33 | FW12: 33 | FY12: 33 | GA12: 33 | GC12: 33 | GE12: 33 | GG12: 33 | GI12: 33 | GK12: 33 | GM12: 33 | GO12: 33 | GQ12: 33 | GS12: 33 | GU12: 33 | GV12: 96 | GW12: 33 | GX12: 96 | GY12: 33 | GZ12: 96 | HA12: 33 | HB12: 96 | HC12: 33 | HD12: 96 | HE12: 33 | HF12: 96 | HG12: 33 | HH12: 96 | HI12: 33 | HJ12: 96 | HK12: 33 | HL12: 96 | HM12: 33 | HN12: 96 | HO12: 33 | HP12: 96 | HQ12: 33 | HR12: 96 | HS12: 33 | HT12: 96 | HU12: 33 | HV12: 96 | HW12: 33 | HX12: 96 | HY12: 33 | HZ12: 96 | IA12: 33 | IB12: 96 | IC12: 33 | ID12: 96 | IE12: 33 | IF12: 96 | IG12: 33 | IH12: 96 | II12: 33 | IJ12: 96 | IK12: 33 | IL12: 96 | IM12: 33 | IN12: 96 | IO12: 33 | IP12: 96 | IQ12: 33 | IR12: 96 | IS12: 33 | IT12: 96 | IU12: 33 | IV12: 96 | IW12: 33 | IX12: 96 | IY12: 33 | IZ12: 96 | JA12: 33 | JB12: 96 | JC12: 33 | JD12: 96 | JE12: 33 | JF12: 96 | JG12: 33 | JH12: 96
A13: 4 | B13: =IF(MOD(A12,$I$14*$I$16)=0,B12+1,B12) -> 1 | C13: =IF(C12<>$I$14,C12+1,1) -> 4 | D13: =VLOOKUP(C13,$K$15:$L$30,2,FALSE) -> Court 4 | E13: =IF(B13=B12,IF(C13>C12,E12,E12+$I$15),$I$13) -> 0.625 | F13: =IF(B13=B12,F12,F12+1) -> 42040 | H13: Start Time per Day | I13: =Setup!C11 -> 0.625 | O13: =O12+1 -> 5 | P13: =IF(O13<>"",VLOOKUP(O13,$A$10:$F$266,6,FALSE),"") -> 42040 | Q13: =IF(O13<>"",VLOOKUP(O13,$A$10:$F$266,5,FALSE),"") -> 0.625 | R13: =IF(O13<>"",VLOOKUP(O13,$A$10:$F$266,4,FALSE),"") -> Court 5 | S13: =IF(OFFSET(U13,0,$S$6)<>"",OFFSET(U13,0,$S$6),"Bye") -> 2 | T13: =IF(OFFSET(V13,0,$S$6)<>"",OFFSET(V13,0,$S$6),"Bye") -> 15 | AC13: 2 | AE13: 2 | AG13: 2 | AI13: 2 | AK13: 2 | AM13: 2 | AO13: 2 | AP13: 15 | AQ13: 2 | AR13: 15 | AS13: 4 | AU13: 4 | AW13: 4 | AY13: 4 | BA13: 4 | BC13: 4 | BE13: 4 | BG13: 4 | BI13: 4 | BK13: 4 | BM13: 4 | BO13: 4 | BQ13: 4 | BR13: 29 | BS13: 4 | BT13: 29 | BU13: 4 | BV13: 29 | BW13: 4 | BX13: 29 | BY13: 9 | CA13: 9 | CC13: 9 | CE13: 9 | CG13: 9 | CI13: 9 | CK13: 9 | CM13: 9 | CO13: 9 | CQ13: 9 | CS13: 9 | CU13: 9 | CW13: 9 | CY13: 9 | DA13: 9 | DC13: 9 | DE13: 9 | DG13: 9 | DI13: 9 | DK13: 9 | DM13: 9 | DO13: 9 | DQ13: 9 | DS13: 9 | DT13: 56 | DU13: 9 | DV13: 56 | DW13: 9 | DX13: 56 | DY13: 9 | DZ13: 56 | EA13: 9 | EB13: 56 | EC13: 9 | ED13: 56 | EE13: 9 | EF13: 56 | EG13: 9 | EH13: 56 | EI13: 9 | EJ13: 56 | EK13: 16 | EM13: 16 | EO13: 16 | EQ13: 16 | ES13: 16 | EU13: 16 | EW13: 16 | EY13: 16 | FA13: 16 | FC13: 16 | FE13: 16 | FG13: 16 | FI13: 16 | FK13: 16 | FM13: 16 | FO13: 16 | FQ13: 16 | FS13: 16 | FU13: 16 | FW13: 16 | FY13: 16 | GA13: 16 | GC13: 16 | GE13: 16 | GG13: 16 | GI13: 16 | GK13: 16 | GM13: 16 | GO13: 16 | GQ13: 16 | GS13: 16 | GU13: 16 | GW13: 16 | GY13: 16 | HA13: 16 | HC13: 16 | HE13: 16 | HG13: 16 | HI13: 16 | HK13: 16 | HM13: 16 | HO13: 16 | HQ13: 16 | HS13: 16 | HU13: 16 | HW13: 16 | HY13: 16 | IA13: 16 | IC13: 16 | ID13: 113 | IE13: 16 | IF13: 113 | IG13: 16 | IH13: 113 | II13: 16 | IJ13: 113 | IK13: 16 | IL13: 113 | IM13: 16 | IN13: 113 | IO13: 16 | IP13: 113 | IQ13: 16 | IR13: 113 | IS13: 16 | IT13: 113 | IU13: 16 | IV13: 113 | IW13: 16 | IX13: 113 | IY13: 16 | IZ13: 113 | JA13: 16 | JB13: 113 | JC13: 16 | JD13: 113 | JE13: 16 | JF13: 113 | JG13: 16 | JH13: 113
A14: 5 | B14: =IF(MOD(A13,$I$14*$I$16)=0,B13+1,B13) -> 1 | C14: =IF(C13<>$I$14,C13+1,1) -> 5 | D14: =VLOOKUP(C14,$K$15:$L$30,2,FALSE) -> Court 5 | E14: =IF(B14=B13,IF(C14>C13,E13,E13+$I$15),$I$13) -> 0.625 | F14: =IF(B14=B13,F13,F13+1) -> 42040 | H14: Number of Venues | I14: =Setup!C12 -> 16 | K14: Venue | O14: =O13+1 -> 6 | P14: =IF(O14<>"",VLOOKUP(O14,$A$10:$F$266,6,FALSE),"") -> 42040 | Q14: =IF(O14<>"",VLOOKUP(O14,$A$10:$F$266,5,FALSE),"") -> 0.625 | R14: =IF(O14<>"",VLOOKUP(O14,$A$10:$F$266,4,FALSE),"") -> Court 6 | S14: =IF(OFFSET(U14,0,$S$6)<>"",OFFSET(U14,0,$S$6),"Bye") -> 7 | T14: =IF(OFFSET(V14,0,$S$6)<>"",OFFSET(V14,0,$S$6),"Bye") -> 10 | AC14: 7 | AE14: 7 | AF14: 10 | AG14: 7 | AH14: 10 | AI14: 7 | AJ14: 10 | AK14: 7 | AL14: 10 | AM14: 7 | AN14: 10 | AO14: 7 | AP14: 10 | AQ14: 7 | AR14: 10 | AS14: 12 | AU14: 12 | AW14: 12 | AY14: 12 | BA14: 12 | BB14: 21 | BC14: 12 | BD14: 21 | BE14: 12 | BF14: 21 | BG14: 12 | BH14: 21 | BI14: 12 | BJ14: 21 | BK14: 12 | BL14: 21 | BM14: 12 | BN14: 21 | BO14: 12 | BP14: 21 | BQ14: 12 | BR14: 21 | BS14: 12 | BT14: 21 | BU14: 12 | BV14: 21 | BW14: 12 | BX14: 21 | BY14: 24 | CA14: 24 | CC14: 24 | CE14: 24 | CG14: 24 | CI14: 24 | CK14: 24 | CM14: 24 | CO14: 24 | CP14: 41 | CQ14: 24 | CR14: 41 | CS14: 24 | CT14: 41 | CU14: 24 | CV14: 41 | CW14: 24 | CX14: 41 | CY14: 24 | CZ14: 41 | DA14: 24 | DB14: 41 | DC14: 24 | DD14: 41 | DE14: 24 | DF14: 41 | DG14: 24 | DH14: 41 | DI14: 24 | DJ14: 41 | DK14: 24 | DL14: 41 | DM14: 24 | DN14: 41 | DO14: 24 | DP14: 41 | DQ14: 24 | DR14: 41 | DS14: 24 | DT14: 41 | DU14: 24 | DV14: 41 | DW14: 24 | DX14: 41 | DY14: 24 | DZ14: 41 | EA14: 24 | EB14: 41 | EC14: 24 | ED14: 41 | EE14: 24 | EF14: 41 | EG14: 24 | EH14: 41 | EI14: 24 | EJ14: 41 | EK14: 49 | EM14: 49 | EO14: 49 | EQ14: 49 | ES14: 49 | EU14: 49 | EW14: 49 | EY14: 49 | FA14: 49 | FC14: 49 | FE14: 49 | FG14: 49 | FI14: 49 | FK14: 49 | FM14: 49 | FO14: 49 | FP14: 80 | FQ14: 49 | FR14: 80 | FS14: 49 | FT14: 80 | FU14: 49 | FV14: 80 | FW14: 49 | FX14: 80 | FY14: 49 | FZ14: 80 | GA14: 49 | GB14: 80 | GC14: 49 | GD14: 80 | GE14: 49 | GF14: 80 | GG14: 49 | GH14: 80 | GI14: 49 | GJ14: 80 | GK14: 49 | GL14: 80 | GM14: 49 | GN14: 80 | GO14: 49 | GP14: 80 | GQ14: 49 | GR14: 80 | GS14: 49 | GT14: 80 | GU14: 49 | GV14: 80 | GW14: 49 | GX14: 80 | GY14: 49 | GZ14: 80 | HA14: 49 | HB14: 80 | HC14: 49 | HD14: 80 | HE14: 49 | HF14: 80 | HG14: 49 | HH14: 80 | HI14: 49 | HJ14: 80 | HK14: 49 | HL14: 80 | HM14: 49 | HN14: 80 | HO14: 49 | HP14: 80 | HQ14: 49 | HR14: 80 | HS14: 49 | HT14: 80 | HU14: 49 | HV14: 80 | HW14: 49 | HX14: 80 | HY14: 49 | HZ14: 80 | IA14: 49 | IB14: 80 | IC14: 49 | ID14: 80 | IE14: 49 | IF14: 80 | IG14: 49 | IH14: 80 | II14: 49 | IJ14: 80 | IK14: 49 | IL14: 80 | IM14: 49 | IN14: 80 | IO14: 49 | IP14: 80 | IQ14: 49 | IR14: 80 | IS14: 49 | IT14: 80 | IU14: 49 | IV14: 80 | IW14: 49 | IX14: 80 | IY14: 49 | IZ14: 80 | JA14: 49 | JB14: 80 | JC14: 49 | JD14: 80 | JE14: 49 | JF14: 80 | JG14: 49 | JH14: 80
A15: 6 | B15: =IF(MOD(A14,$I$14*$I$16)=0,B14+1,B14) -> 1 | C15: =IF(C14<>$I$14,C14+1,1) -> 6 | D15: =VLOOKUP(C15,$K$15:$L$30,2,FALSE) -> Court 6 | E15: =IF(B15=B14,IF(C15>C14,E14,E14+$I$15),$I$13) -> 0.625 | F15: =IF(B15=B14,F14,F14+1) -> 42040 | H15: Time Interval between matches in the same venue | I15: =Setup!C13 -> 0.083333333 | K15: =Setup!E9 -> 1 | L15: =Setup!F9 -> Court 1 | O15: =O14+1 -> 7 | P15: =IF(O15<>"",VLOOKUP(O15,$A$10:$F$266,6,FALSE),"") -> 42040 | Q15: =IF(O15<>"",VLOOKUP(O15,$A$10:$F$266,5,FALSE),"") -> 0.625 | R15: =IF(O15<>"",VLOOKUP(O15,$A$10:$F$266,4,FALSE),"") -> Court 7 | S15: =IF(OFFSET(U15,0,$S$6)<>"",OFFSET(U15,0,$S$6),"Bye") -> 3 | T15: =IF(OFFSET(V15,0,$S$6)<>"",OFFSET(V15,0,$S$6),"Bye") -> 14 | AC15: 3 | AE15: 3 | AG15: 3 | AI15: 3 | AK15: 3 | AM15: 3 | AN15: 14 | AO15: 3 | AP15: 14 | AQ15: 3 | AR15: 14 | AS15: 5 | AU15: 5 | AW15: 5 | AY15: 5 | BA15: 5 | BC15: 5 | BE15: 5 | BG15: 5 | BI15: 5 | BK15: 5 | BM15: 5 | BO15: 5 | BP15: 28 | BQ15: 5 | BR15: 28 | BS15: 5 | BT15: 28 | BU15: 5 | BV15: 28 | BW15: 5 | BX15: 28 | BY15: 25 | CA15: 25 | CC15: 25 | CE15: 25 | CG15: 25 | CI15: 25 | CK15: 25 | CM15: 25 | CN15: 40 | CO15: 25 | CP15: 40 | CQ15: 25 | CR15: 40 | CS15: 25 | CT15: 40 | CU15: 25 | CV15: 40 | CW15: 25 | CX15: 40 | CY15: 25 | CZ15: 40 | DA15: 25 | DB15: 40 | DC15: 25 | DD15: 40 | DE15: 25 | DF15: 40 | DG15: 25 | DH15: 40 | DI15: 25 | DJ15: 40 | DK15: 25 | DL15: 40 | DM15: 25 | DN15: 40 | DO15: 25 | DP15: 40 | DQ15: 25 | DR15: 40 | DS15: 25 | DT15: 40 | DU15: 25 | DV15: 40 | DW15: 25 | DX15: 40 | DY15: 25 | DZ15: 40 | EA15: 25 | EB15: 40 | EC15: 25 | ED15: 40 | EE15: 25 | EF15: 40 | EG15: 25 | EH15: 40 | EI15: 25 | EJ15: 40 | EK15: 17 | EM15: 17 | EO15: 17 | EQ15: 17 | ES15: 17 | EU15: 17 | EW15: 17 | EY15: 17 | FA15: 17 | FC15: 17 | FE15: 17 | FG15: 17 | FI15: 17 | FK15: 17 | FM15: 17 | FO15: 17 | FQ15: 17 | FS15: 17 | FU15: 17 | FW15: 17 | FY15: 17 | GA15: 17 | GC15: 17 | GE15: 17 | GG15: 17 | GI15: 17 | GK15: 17 | GM15: 17 | GO15: 17 | GQ15: 17 | GS15: 17 | GU15: 17 | GW15: 17 | GY15: 17 | HA15: 17 | HC15: 17 | HE15: 17 | HG15: 17 | HI15: 17 | HK15: 17 | HM15: 17 | HO15: 17 | HQ15: 17 | HS15: 17 | HU15: 17 | HW15: 17 | HY15: 17 | IA15: 17 | IB15: 112 | IC15: 17 | ID15: 112 | IE15: 17 | IF15: 112 | IG15: 17 | IH15: 112 | II15: 17 | IJ15: 112 | IK15: 17 | IL15: 112 | IM15: 17 | IN15: 112 | IO15: 17 | IP15: 112 | IQ15: 17 | IR15: 112 | IS15: 17 | IT15: 112 | IU15: 17 | IV15: 112 | IW15: 17 | IX15: 112 | IY15: 17 | IZ15: 112 | JA15: 17 | JB15: 112 | JC15: 17 | JD15: 112 | JE15: 17 | JF15: 112 | JG15: 17 | JH15: 112
A16: 7 | B16: =IF(MOD(A15,$I$14*$I$16)=0,B15+1,B15) -> 1 | C16: =IF(C15<>$I$14,C15+1,1) -> 7 | D16: =VLOOKUP(C16,$K$15:$L$30,2,FALSE) -> Court 7 | E16: =IF(B16=B15,IF(C16>C15,E15,E15+$I$15),$I$13) -> 0.625 | F16: =IF(B16=B15,F15,F15+1) -> 42040 | H16: Maximum usage per Venues per Day | I16: =Setup!C14 -> 4 | K16: =Setup!E10 -> 2 | L16: =Setup!F10 -> Court 2 | O16: =O15+1 -> 8 | P16: =IF(O16<>"",VLOOKUP(O16,$A$10:$F$266,6,FALSE),"") -> 42040 | Q16: =IF(O16<>"",VLOOKUP(O16,$A$10:$F$266,5,FALSE),"") -> 0.625 | R16: =IF(O16<>"",VLOOKUP(O16,$A$10:$F$266,4,FALSE),"") -> Court 8 | S16: =IF(OFFSET(U16,0,$S$6)<>"",OFFSET(U16,0,$S$6),"Bye") -> 6 | T16: =IF(OFFSET(V16,0,$S$6)<>"",OFFSET(V16,0,$S$6),"Bye") -> 11 | AC16: 6 | AE16: 6 | AG16: 6 | AH16: 11 | AI16: 6 | AJ16: 11 | AK16: 6 | AL16: 11 | AM16: 6 | AN16: 11 | AO16: 6 | AP16: 11 | AQ16: 6 | AR16: 11 | AS16: 9 | AU16: 9 | AW16: 9 | AY16: 9 | BA16: 9 | BC16: 9 | BE16: 9 | BG16: 9 | BH16: 24 | BI16: 9 | BJ16: 24 | BK16: 9 | BL16: 24 | BM16: 9 | BN16: 24 | BO16: 9 | BP16: 24 | BQ16: 9 | BR16: 24 | BS16: 9 | BT16: 24 | BU16: 9 | BV16: 24 | BW16: 9 | BX16: 24 | BY16: 8 | CA16: 8 | CC16: 8 | CE16: 8 | CG16: 8 | CI16: 8 | CK16: 8 | CM16: 8 | CO16: 8 | CQ16: 8 | CS16: 8 | CU16: 8 | CW16: 8 | CY16: 8 | DA16: 8 | DC16: 8 | DE16: 8 | DG16: 8 | DI16: 8 | DK16: 8 | DM16: 8 | DO16: 8 | DQ16: 8 | DS16: 8 | DU16: 8 | DV16: 57 | DW16: 8 | DX16: 57 | DY16: 8 | DZ16: 57 | EA16: 8 | EB16: 57 | EC16: 8 | ED16: 57 | EE16: 8 | EF16: 57 | EG16: 8 | EH16: 57 | EI16: 8 | EJ16: 57 | EK16: 48 | EM16: 48 | EO16: 48 | EQ16: 48 | ES16: 48 | EU16: 48 | EW16: 48 | EY16: 48 | FA16: 48 | FC16: 48 | FE16: 48 | FG16: 48 | FI16: 48 | FK16: 48 | FM16: 48 | FO16: 48 | FQ16: 48 | FR16: 81 | FS16: 48 | FT16: 81 | FU16: 48 | FV16: 81 | FW16: 48 | FX16: 81 | FY16: 48 | FZ16: 81 | GA16: 48 | GB16: 81 | GC16: 48 | GD16: 81 | GE16: 48 | GF16: 81 | GG16: 48 | GH16: 81 | GI16: 48 | GJ16: 81 | GK16: 48 | GL16: 81 | GM16: 48 | GN16: 81 | GO16: 48 | GP16: 81 | GQ16: 48 | GR16: 81 | GS16: 48 | GT16: 81 | GU16: 48 | GV16: 81 | GW16: 48 | GX16: 81 | GY16: 48 | GZ16: 81 | HA16: 48 | HB16: 81 | HC16: 48 | HD16: 81 | HE16: 48 | HF16: 81 | HG16: 48 | HH16: 81 | HI16: 48 | HJ16: 81 | HK16: 48 | HL16: 81 | HM16: 48 | HN16: 81 | HO16: 48 | HP16: 81 | HQ16: 48 | HR16: 81 | HS16: 48 | HT16: 81 | HU16: 48 | HV16: 81 | HW16: 48 | HX16: 81 | HY16: 48 | HZ16: 81 | IA16: 48 | IB16: 81 | IC16: 48 | ID16: 81 | IE16: 48 | IF16: 81 | IG16: 48 | IH16: 81 | II16: 48 | IJ16: 81 | IK16: 48 | IL16: 81 | IM16: 48 | IN16: 81 | IO16: 48 | IP16: 81 | IQ16: 48 | IR16: 81 | IS16: 48 | IT16: 81 | IU16: 48 | IV16: 81 | IW16: 48 | IX16: 81 | IY16: 48 | IZ16: 81 | JA16: 48 | JB16: 81 | JC16: 48 | JD16: 81 | JE16: 48 | JF16: 81 | JG16: 48 | JH16: 81
A17: 8 | B17: =IF(MOD(A16,$I$14*$I$16)=0,B16+1,B16) -> 1 | C17: =IF(C16<>$I$14,C16+1,1) -> 8 | D17: =VLOOKUP(C17,$K$15:$L$30,2,FALSE) -> Court 8 | E17: =IF(B17=B16,IF(C17>C16,E16,E16+$I$15),$I$13) -> 0.625 | F17: =IF(B17=B16,F16,F16+1) -> 42040 | K17: =Setup!E11 -> 3 | L17: =Setup!F11 -> Court 3 | O17: =O16+1 -> 9 | P17: =IF(O17<>"",VLOOKUP(O17,$A$10:$F$266,6,FALSE),"") -> 42040 | Q17: =IF(O17<>"",VLOOKUP(O17,$A$10:$F$266,5,FALSE),"") -> 0.625 | R17: =IF(O17<>"",VLOOKUP(O17,$A$10:$F$266,4,FALSE),"") -> Court 9 | S17: =IF(OFFSET(U17,0,$S$6)<>"",OFFSET(U17,0,$S$6),"Bye") -> Bye | T17: =IF(OFFSET(V17,0,$S$6)<>"",OFFSET(V17,0,$S$6),"Bye") -> Bye | AS17: 2 | AU17: 2 | AW17: 2 | AY17: 2 | BA17: 2 | BC17: 2 | BE17: 2 | BG17: 2 | BI17: 2 | BK17: 2 | BM17: 2 | BO17: 2 | BQ17: 2 | BS17: 2 | BU17: 2 | BV17: 31 | BW17: 2 | BX17: 31 | BY17: 5 | CA17: 5 | CC17: 5 | CE17: 5 | CG17: 5 | CI17: 5 | CK17: 5 | CM17: 5 | CO17: 5 | CQ17: 5 | CS17: 5 | CU17: 5 | CW17: 5 | CY17: 5 | DA17: 5 | DC17: 5 | DE17: 5 | DG17: 5 | DI17: 5 | DK17: 5 | DM17: 5 | DO17: 5 | DQ17: 5 | DS17: 5 | DU17: 5 | DW17: 5 | DY17: 5 | EA17: 5 | EB17: 60 | EC17: 5 | ED17: 60 | EE17: 5 | EF17: 60 | EG17: 5 | EH17: 60 | EI17: 5 | EJ17: 60 | EK17: 9 | EM17: 9 | EO17: 9 | EQ17: 9 | ES17: 9 | EU17: 9 | EW17: 9 | EY17: 9 | FA17: 9 | FC17: 9 | FE17: 9 | FG17: 9 | FI17: 9 | FK17: 9 | FM17: 9 | FO17: 9 | FQ17: 9 | FS17: 9 | FU17: 9 | FW17: 9 | FY17: 9 | GA17: 9 | GC17: 9 | GE17: 9 | GG17: 9 | GI17: 9 | GK17: 9 | GM17: 9 | GO17: 9 | GQ17: 9 | GS17: 9 | GU17: 9 | GW17: 9 | GY17: 9 | HA17: 9 | HC17: 9 | HE17: 9 | HG17: 9 | HI17: 9 | HK17: 9 | HM17: 9 | HO17: 9 | HQ17: 9 | HS17: 9 | HU17: 9 | HW17: 9 | HY17: 9 | IA17: 9 | IC17: 9 | IE17: 9 | IG17: 9 | II17: 9 | IK17: 9 | IM17: 9 | IO17: 9 | IQ17: 9 | IR17: 120 | IS17: 9 | IT17: 120 | IU17: 9 | IV17: 120 | IW17: 9 | IX17: 120 | IY17: 9 | IZ17: 120 | JA17: 9 | JB17: 120 | JC17: 9 | JD17: 120 | JE17: 9 | JF17: 120 | JG17: 9 | JH17: 120
A18: 9 | B18: =IF(MOD(A17,$I$14*$I$16)=0,B17+1,B17) -> 1 | C18: =IF(C17<>$I$14,C17+1,1) -> 9 | D18: =VLOOKUP(C18,$K$15:$L$30,2,FALSE) -> Court 9 | E18: =IF(B18=B17,IF(C18>C17,E17,E17+$I$15),$I$13) -> 0.625 | F18: =IF(B18=B17,F17,F17+1) -> 42040 | K18: =Setup!E12 -> 4 | L18: =Setup!F12 -> Court 4 | O18: =O17+1 -> 10 | P18: =IF(O18<>"",VLOOKUP(O18,$A$10:$F$266,6,FALSE),"") -> 42040 | Q18: =IF(O18<>"",VLOOKUP(O18,$A$10:$F$266,5,FALSE),"") -> 0.625 | R18: =IF(O18<>"",VLOOKUP(O18,$A$10:$F$266,4,FALSE),"") -> Court 10 | S18: =IF(OFFSET(U18,0,$S$6)<>"",OFFSET(U18,0,$S$6),"Bye") -> Bye | T18: =IF(OFFSET(V18,0,$S$6)<>"",OFFSET(V18,0,$S$6),"Bye") -> Bye | AS18: 15 | AU18: 15 | AV18: 18 | AW18: 15 | AX18: 18 | AY18: 15 | AZ18: 18 | BA18: 15 | BB18: 18 | BC18: 15 | BD18: 18 | BE18: 15 | BF18: 18 | BG18: 15 | BH18: 18 | BI18: 15 | BJ18: 18 | BK18: 15 | BL18: 18 | BM18: 15 | BN18: 18 | BO18: 15 | BP18: 18 | BQ18: 15 | BR18: 18 | BS18: 15 | BT18: 18 | BU18: 15 | BV18: 18 | BW18: 15 | BX18: 18 | BY18: 28 | CA18: 28 | CC18: 28 | CE18: 28 | CG18: 28 | CH18: 37 | CI18: 28 | CJ18: 37 | CK18: 28 | CL18: 37 | CM18: 28 | CN18: 37 | CO18: 28 | CP18: 37 | CQ18: 28 | CR18: 37 | CS18: 28 | CT18: 37 | CU18: 28 | CV18: 37 | CW18: 28 | CX18: 37 | CY18: 28 | CZ18: 37 | DA18: 28 | DB18: 37 | DC18: 28 | DD18: 37 | DE18: 28 | DF18: 37 | DG18: 28 | DH18: 37 | DI18: 28 | DJ18: 37 | DK18: 28 | DL18: 37 | DM18: 28 | DN18: 37 | DO18: 28 | DP18: 37 | DQ18: 28 | DR18: 37 | DS18: 28 | DT18: 37 | DU18: 28 | DV18: 37 | DW18: 28 | DX18: 37 | DY18: 28 | DZ18: 37 | EA18: 28 | EB18: 37 | EC18: 28 | ED18: 37 | EE18: 28 | EF18: 37 | EG18: 28 | EH18: 37 | EI18: 28 | EJ18: 37 | EK18: 56 | EM18: 56 | EO18: 56 | EQ18: 56 | ES18: 56 | EU18: 56 | EW18: 56 | EY18: 56 | FA18: 56 | FB18: 73 | FC18: 56 | FD18: 73 | FE18: 56 | FF18: 73 | FG18: 56 | FH18: 73 | FI18: 56 | FJ18: 73 | FK18: 56 | FL18: 73 | FM18: 56 | FN18: 73 | FO18: 56 | FP18: 73 | FQ18: 56 | FR18: 73 | FS18: 56 | FT18: 73 | FU18: 56 | FV18: 73 | FW18: 56 | FX18: 73 | FY18: 56 | FZ18: 73 | GA18: 56 | GB18: 73 | GC18: 56 | GD18: 73 | GE18: 56 | GF18: 73 | GG18: 56 | GH18: 73 | GI18: 56 | GJ18: 73 | GK18: 56 | GL18: 73 | GM18: 56 | GN18: 73 | GO18: 56 | GP18: 73 | GQ18: 56 | GR18: 73 | GS18: 56 | GT18: 73 | GU18: 56 | GV18: 73 | GW18: 56 | GX18: 73 | GY18: 56 | GZ18: 73 | HA18: 56 | HB18: 73 | HC18: 56 | HD18: 73 | HE18: 56 | HF18: 73 | HG18: 56 | HH18: 73 | HI18: 56 | HJ18: 73 | HK18: 56 | HL18: 73 | HM18: 56 | HN18: 73 | HO18: 56 | HP18: 73 | HQ18: 56 | HR18: 73 | HS18: 56 | HT18: 73 | HU18: 56 | HV18: 73 | HW18: 56 | HX18: 73 | HY18: 56 | HZ18: 73 | IA18: 56 | IB18: 73 | IC18: 56 | ID18: 73 | IE18: 56 | IF18: 73 | IG18: 56 | IH18: 73 | II18: 56 | IJ18: 73 | IK18: 56 | IL18: 73 | IM18: 56 | IN18: 73 | IO18: 56 | IP18: 73 | IQ18: 56 | IR18: 73 | IS18: 56 | IT18: 73 | IU18: 56 | IV18: 73 | IW18: 56 | IX18: 73 | IY18: 56 | IZ18: 73 | JA18: 56 | JB18: 73 | JC18: 56 | JD18: 73 | JE18: 56 | JF18: 73 | JG18: 56 | JH18: 73
A19: 10 | B19: =IF(MOD(A18,$I$14*$I$16)=0,B18+1,B18) -> 1 | C19: =IF(C18<>$I$14,C18+1,1) -> 10 | D19: =VLOOKUP(C19,$K$15:$L$30,2,FALSE) -> Court 10 | E19: =IF(B19=B18,IF(C19>C18,E18,E18+$I$15),$I$13) -> 0.625 | F19: =IF(B19=B18,F18,F18+1) -> 42040 | K19: =Setup!E13 -> 5 | L19: =Setup!F13 -> Court 5 | O19: =O18+1 -> 11 | P19: =IF(O19<>"",VLOOKUP(O19,$A$10:$F$266,6,FALSE),"") -> 42040 | Q19: =IF(O19<>"",VLOOKUP(O19,$A$10:$F$266,5,FALSE),"") -> 0.625 | R19: =IF(O19<>"",VLOOKUP(O19,$A$10:$F$266,4,FALSE),"") -> Court 11 | S19: =IF(OFFSET(U19,0,$S$6)<>"",OFFSET(U19,0,$S$6),"Bye") -> Bye | T19: =IF(OFFSET(V19,0,$S$6)<>"",OFFSET(V19,0,$S$6),"Bye") -> Bye | AS19: 7 | AU19: 7 | AW19: 7 | AY19: 7 | BA19: 7 | BC19: 7 | BE19: 7 | BG19: 7 | BI19: 7 | BK19: 7 | BL19: 26 | BM19: 7 | BN19: 26 | BO19: 7 | BP19: 26 | BQ19: 7 | BR19: 26 | BS19: 7 | BT19: 26 | BU19: 7 | BV19: 26 | BW19: 7 | BX19: 26 | BY19: 12 | CA19: 12 | CC19: 12 | CE19: 12 | CG19: 12 | CI19: 12 | CK19: 12 | CM19: 12 | CO19: 12 | CQ19: 12 | CS19: 12 | CU19: 12 | CW19: 12 | CY19: 12 | DA19: 12 | DC19: 12 | DE19: 12 | DG19: 12 | DI19: 12 | DK19: 12 | DM19: 12 | DN19: 53 | DO19: 12 | DP19: 53 | DQ19: 12 | DR19: 53 | DS19: 12 | DT19: 53 | DU19: 12 | DV19: 53 | DW19: 12 | DX19: 53 | DY19: 12 | DZ19: 53 | EA19: 12 | EB19: 53 | EC19: 12 | ED19: 53 | EE19: 12 | EF19: 53 | EG19: 12 | EH19: 53 | EI19: 12 | EJ19: 53 | EK19: 24 | EM19: 24 | EO19: 24 | EQ19: 24 | ES19: 24 | EU19: 24 | EW19: 24 | EY19: 24 | FA19: 24 | FC19: 24 | FE19: 24 | FG19: 24 | FI19: 24 | FK19: 24 | FM19: 24 | FO19: 24 | FQ19: 24 | FS19: 24 | FU19: 24 | FW19: 24 | FY19: 24 | GA19: 24 | GC19: 24 | GE19: 24 | GG19: 24 | GI19: 24 | GK19: 24 | GM19: 24 | GO19: 24 | GQ19: 24 | GS19: 24 | GU19: 24 | GW19: 24 | GY19: 24 | HA19: 24 | HC19: 24 | HE19: 24 | HG19: 24 | HI19: 24 | HK19: 24 | HM19: 24 | HN19: 105 | HO19: 24 | HP19: 105 | HQ19: 24 | HR19: 105 | HS19: 24 | HT19: 105 | HU19: 24 | HV19: 105 | HW19: 24 | HX19: 105 | HY19: 24 | HZ19: 105 | IA19: 24 | IB19: 105 | IC19: 24 | ID19: 105 | IE19: 24 | IF19: 105 | IG19: 24 | IH19: 105 | II19: 24 | IJ19: 105 | IK19: 24 | IL19: 105 | IM19: 24 | IN19: 105 | IO19: 24 | IP19: 105 | IQ19: 24 | IR19: 105 | IS19: 24 | IT19: 105 | IU19: 24 | IV19: 105 | IW19: 24 | IX19: 105 | IY19: 24 | IZ19: 105 | JA19: 24 | JB19: 105 | JC19: 24 | JD19: 105 | JE19: 24 | JF19: 105 | JG19: 24 | JH19: 105
A20: 11 | B20: =IF(MOD(A19,$I$14*$I$16)=0,B19+1,B19) -> 1 | C20: =IF(C19<>$I$14,C19+1,1) -> 11 | D20: =VLOOKUP(C20,$K$15:$L$30,2,FALSE) -> Court 11 | E20: =IF(B20=B19,IF(C20>C19,E19,E19+$I$15),$I$13) -> 0.625 | F20: =IF(B20=B19,F19,F19+1) -> 42040 | K20: =Setup!E14 -> 6 | L20: =Setup!F14 -> Court 6 | O20: =O19+1 -> 12 | P20: =IF(O20<>"",VLOOKUP(O20,$A$10:$F$266,6,FALSE),"") -> 42040 | Q20: =IF(O20<>"",VLOOKUP(O20,$A$10:$F$266,5,FALSE),"") -> 0.625 | R20: =IF(O20<>"",VLOOKUP(O20,$A$10:$F$266,4,FALSE),"") -> Court 12 | S20: =IF(OFFSET(U20,0,$S$6)<>"",OFFSET(U20,0,$S$6),"Bye") -> Bye | T20: =IF(OFFSET(V20,0,$S$6)<>"",OFFSET(V20,0,$S$6),"Bye") -> Bye | AS20: 14 | AU20: 14 | AW20: 14 | AX20: 19 | AY20: 14 | AZ20: 19 | BA20: 14 | BB20: 19 | BC20: 14 | BD20: 19 | BE20: 14 | BF20: 19 | BG20: 14 | BH20: 19 | BI20: 14 | BJ20: 19 | BK20: 14 | BL20: 19 | BM20: 14 | BN20: 19 | BO20: 14 | BP20: 19 | BQ20: 14 | BR20: 19 | BS20: 14 | BT20: 19 | BU20: 14 | BV20: 19 | BW20: 14 | BX20: 19 | BY20: 21 | CA20: 21 | CC20: 21 | CE20: 21 | CG20: 21 | CI20: 21 | CK20: 21 | CM20: 21 | CO20: 21 | CQ20: 21 | CS20: 21 | CU20: 21 | CV20: 44 | CW20: 21 | CX20: 44 | CY20: 21 | CZ20: 44 | DA20: 21 | DB20: 44 | DC20: 21 | DD20: 44 | DE20: 21 | DF20: 44 | DG20: 21 | DH20: 44 | DI20: 21 | DJ20: 44 | DK20: 21 | DL20: 44 | DM20: 21 | DN20: 44 | DO20: 21 | DP20: 44 | DQ20: 21 | DR20: 44 | DS20: 21 | DT20: 44 | DU20: 21 | DV20: 44 | DW20: 21 | DX20: 44 | DY20: 21 | DZ20: 44 | EA20: 21 | EB20: 44 | EC20: 21 | ED20: 44 | EE20: 21 | EF20: 44 | EG20: 21 | EH20: 44 | EI20: 21 | EJ20: 44 | EK20: 41 | EM20: 41 | EO20: 41 | EQ20: 41 | ES20: 41 | EU20: 41 | EW20: 41 | EY20: 41 | FA20: 41 | FC20: 41 | FE20: 41 | FG20: 41 | FI20: 41 | FK20: 41 | FM20: 41 | FO20: 41 | FQ20: 41 | FS20: 41 | FU20: 41 | FW20: 41 | FY20: 41 | GA20: 41 | GC20: 41 | GE20: 41 | GF20: 88 | GG20: 41 | GH20: 88 | GI20: 41 | GJ20: 88 | GK20: 41 | GL20: 88 | GM20: 41 | GN20: 88 | GO20: 41 | GP20: 88 | GQ20: 41 | GR20: 88 | GS20: 41 | GT20: 88 | GU20: 41 | GV20: 88 | GW20: 41 | GX20: 88 | GY20: 41 | GZ20: 88 | HA20: 41 | HB20: 88 | HC20: 41 | HD20: 88 | HE20: 41 | HF20: 88 | HG20: 41 | HH20: 88 | HI20: 41 | HJ20: 88 | HK20: 41 | HL20: 88 | HM20: 41 | HN20: 88 | HO20: 41 | HP20: 88 | HQ20: 41 | HR20: 88 | HS20: 41 | HT20: 88 | HU20: 41 | HV20: 88 | HW20: 41 | HX20: 88 | HY20: 41 | HZ20: 88 | IA20: 41 | IB20: 88 | IC20: 41 | ID20: 88 | IE20: 41 | IF20: 88 | IG20: 41 | IH20: 88 | II20: 41 | IJ20: 88 | IK20: 41 | IL20: 88 | IM20: 41 | IN20: 88 | IO20: 41 | IP20: 88 | IQ20: 41 | IR20: 88 | IS20: 41 | IT20: 88 | IU20: 41 | IV20: 88 | IW20: 41 | IX20: 88 | IY20: 41 | IZ20: 88 | JA20: 41 | JB20: 88 | JC20: 41 | JD20: 88 | JE20: 41 | JF20: 88 | JG20: 41 | JH20: 88
A21: 12 | B21: =IF(MOD(A20,$I$14*$I$16)=0,B20+1,B20) -> 1 | C21: =IF(C20<>$I$14,C20+1,1) -> 12 | D21: =VLOOKUP(C21,$K$15:$L$30,2,FALSE) -> Court 12 | E21: =IF(B21=B20,IF(C21>C20,E20,E20+$I$15),$I$13) -> 0.625 | F21: =IF(B21=B20,F20,F20+1) -> 42040 | K21: =Setup!E15 -> 7 | L21: =Setup!F15 -> Court 7 | O21: =O20+1 -> 13 | P21: =IF(O21<>"",VLOOKUP(O21,$A$10:$F$266,6,FALSE),"") -> 42040 | Q21: =IF(O21<>"",VLOOKUP(O21,$A$10:$F$266,5,FALSE),"") -> 0.625 | R21: =IF(O21<>"",VLOOKUP(O21,$A$10:$F$266,4,FALSE),"") -> Court 13 | S21: =IF(OFFSET(U21,0,$S$6)<>"",OFFSET(U21,0,$S$6),"Bye") -> Bye | T21: =IF(OFFSET(V21,0,$S$6)<>"",OFFSET(V21,0,$S$6),"Bye") -> Bye | AS21: 3 | AU21: 3 | AW21: 3 | AY21: 3 | BA21: 3 | BC21: 3 | BE21: 3 | BG21: 3 | BI21: 3 | BK21: 3 | BM21: 3 | BO21: 3 | BQ21: 3 | BS21: 3 | BT21: 30 | BU21: 3 | BV21: 30 | BW21: 3 | BX21: 30 | BY21: 13 | CA21: 13 | CC21: 13 | CE21: 13 | CG21: 13 | CI21: 13 | CK21: 13 | CM21: 13 | CO21: 13 | CQ21: 13 | CS21: 13 | CU21: 13 | CW21: 13 | CY21: 13 | DA21: 13 | DC21: 13 | DE21: 13 | DG21: 13 | DI21: 13 | DK21: 13 | DL21: 52 | DM21: 13 | DN21: 52 | DO21: 13 | DP21: 52 | DQ21: 13 | DR21: 52 | DS21: 13 | DT21: 52 | DU21: 13 | DV21: 52 | DW21: 13 | DX21: 52 | DY21: 13 | DZ21: 52 | EA21: 13 | EB21: 52 | EC21: 13 | ED21: 52 | EE21: 13 | EF21: 52 | EG21: 13 | EH21: 52 | EI21: 13 | EJ21: 52 | EK21: 25 | EM21: 25 | EO21: 25 | EQ21: 25 | ES21: 25 | EU21: 25 | EW21: 25 | EY21: 25 | FA21: 25 | FC21: 25 | FE21: 25 | FG21: 25 | FI21: 25 | FK21: 25 | FM21: 25 | FO21: 25 | FQ21: 25 | FS21: 25 | FU21: 25 | FW21: 25 | FY21: 25 | GA21: 25 | GC21: 25 | GE21: 25 | GG21: 25 | GI21: 25 | GK21: 25 | GM21: 25 | GO21: 25 | GQ21: 25 | GS21: 25 | GU21: 25 | GW21: 25 | GY21: 25 | HA21: 25 | HC21: 25 | HE21: 25 | HG21: 25 | HI21: 25 | HK21: 25 | HL21: 104 | HM21: 25 | HN21: 104 | HO21: 25 | HP21: 104 | HQ21: 25 | HR21: 104 | HS21: 25 | HT21: 104 | HU21: 25 | HV21: 104 | HW21: 25 | HX21: 104 | HY21: 25 | HZ21: 104 | IA21: 25 | IB21: 104 | IC21: 25 | ID21: 104 | IE21: 25 | IF21: 104 | IG21: 25 | IH21: 104 | II21: 25 | IJ21: 104 | IK21: 25 | IL21: 104 | IM21: 25 | IN21: 104 | IO21: 25 | IP21: 104 | IQ21: 25 | IR21: 104 | IS21: 25 | IT21: 104 | IU21: 25 | IV21: 104 | IW21: 25 | IX21: 104 | IY21: 25 | IZ21: 104 | JA21: 25 | JB21: 104 | JC21: 25 | JD21: 104 | JE21: 25 | JF21: 104 | JG21: 25 | JH21: 104
A22: 13 | B22: =IF(MOD(A21,$I$14*$I$16)=0,B21+1,B21) -> 1 | C22: =IF(C21<>$I$14,C21+1,1) -> 13 | D22: =VLOOKUP(C22,$K$15:$L$30,2,FALSE) -> Court 13 | E22: =IF(B22=B21,IF(C22>C21,E21,E21+$I$15),$I$13) -> 0.625 | F22: =IF(B22=B21,F21,F21+1) -> 42040 | K22: =Setup!E16 -> 8 | L22: =Setup!F16 -> Court 8 | O22: =O21+1 -> 14 | P22: =IF(O22<>"",VLOOKUP(O22,$A$10:$F$266,6,FALSE),"") -> 42040 | Q22: =IF(O22<>"",VLOOKUP(O22,$A$10:$F$266,5,FALSE),"") -> 0.625 | R22: =IF(O22<>"",VLOOKUP(O22,$A$10:$F$266,4,FALSE),"") -> Court 14 | S22: =IF(OFFSET(U22,0,$S$6)<>"",OFFSET(U22,0,$S$6),"Bye") -> Bye | T22: =IF(OFFSET(V22,0,$S$6)<>"",OFFSET(V22,0,$S$6),"Bye") -> Bye | AS22: 11 | AU22: 11 | AW22: 11 | AY22: 11 | BA22: 11 | BC22: 11 | BD22: 22 | BE22: 11 | BF22: 22 | BG22: 11 | BH22: 22 | BI22: 11 | BJ22: 22 | BK22: 11 | BL22: 22 | BM22: 11 | BN22: 22 | BO22: 11 | BP22: 22 | BQ22: 11 | BR22: 22 | BS22: 11 | BT22: 22 | BU22: 11 | BV22: 22 | BW22: 11 | BX22: 22 | BY22: 20 | CA22: 20 | CC22: 20 | CE22: 20 | CG22: 20 | CI22: 20 | CK22: 20 | CM22: 20 | CO22: 20 | CQ22: 20 | CS22: 20 | CU22: 20 | CW22: 20 | CX22: 45 | CY22: 20 | CZ22: 45 | DA22: 20 | DB22: 45 | DC22: 20 | DD22: 45 | DE22: 20 | DF22: 45 | DG22: 20 | DH22: 45 | DI22: 20 | DJ22: 45 | DK22: 20 | DL22: 45 | DM22: 20 | DN22: 45 | DO22: 20 | DP22: 45 | DQ22: 20 | DR22: 45 | DS22: 20 | DT22: 45 | DU22: 20 | DV22: 45 | DW22: 20 | DX22: 45 | DY22: 20 | DZ22: 45 | EA22: 20 | EB22: 45 | EC22: 20 | ED22: 45 | EE22: 20 | EF22: 45 | EG22: 20 | EH22: 45 | EI22: 20 | EJ22: 45 | EK22: 40 | EM22: 40 | EO22: 40 | EQ22: 40 | ES22: 40 | EU22: 40 | EW22: 40 | EY22: 40 | FA22: 40 | FC22: 40 | FE22: 40 | FG22: 40 | FI22: 40 | FK22: 40 | FM22: 40 | FO22: 40 | FQ22: 40 | FS22: 40 | FU22: 40 | FW22: 40 | FY22: 40 | GA22: 40 | GC22: 40 | GE22: 40 | GG22: 40 | GH22: 89 | GI22: 40 | GJ22: 89 | GK22: 40 | GL22: 89 | GM22: 40 | GN22: 89 | GO22: 40 | GP22: 89 | GQ22: 40 | GR22: 89 | GS22: 40 | GT22: 89 | GU22: 40 | GV22: 89 | GW22: 40 | GX22: 89 | GY22: 40 | GZ22: 89 | HA22: 40 | HB22: 89 | HC22: 40 | HD22: 89 | HE22: 40 | HF22: 89 | HG22: 40 | HH22: 89 | HI22: 40 | HJ22: 89 | HK22: 40 | HL22: 89 | HM22: 40 | HN22: 89 | HO22: 40 | HP22: 89 | HQ22: 40 | HR22: 89 | HS22: 40 | HT22: 89 | HU22: 40 | HV22: 89 | HW22: 40 | HX22: 89 | HY22: 40 | HZ22: 89 | IA22: 40 | IB22: 89 | IC22: 40 | ID22: 89 | IE22: 40 | IF22: 89 | IG22: 40 | IH22: 89 | II22: 40 | IJ22: 89 | IK22: 40 | IL22: 89 | IM22: 40 | IN22: 89 | IO22: 40 | IP22: 89 | IQ22: 40 | IR22: 89 | IS22: 40 | IT22: 89 | IU22: 40 | IV22: 89 | IW22: 40 | IX22: 89 | IY22: 40 | IZ22: 89 | JA22: 40 | JB22: 89 | JC22: 40 | JD22: 89 | JE22: 40 | JF22: 89 | JG22: 40 | JH22: 89
A23: 14 | B23: =IF(MOD(A22,$I$14*$I$16)=0,B22+1,B22) -> 1 | C23: =IF(C22<>$I$14,C22+1,1) -> 14 | D23: =VLOOKUP(C23,$K$15:$L$30,2,FALSE) -> Court 14 | E23: =IF(B23=B22,IF(C23>C22,E22,E22+$I$15),$I$13) -> 0.625 | F23: =IF(B23=B22,F22,F22+1) -> 42040 | K23: =Setup!E17 -> 9 | L23: =Setup!F17 -> Court 9 | O23: =O22+1 -> 15 | P23: =IF(O23<>"",VLOOKUP(O23,$A$10:$F$266,6,FALSE),"") -> 42040 | Q23: =IF(O23<>"",VLOOKUP(O23,$A$10:$F$266,5,FALSE),"") -> 0.625 | R23: =IF(O23<>"",VLOOKUP(O23,$A$10:$F$266,4,FALSE),"") -> Court 15 | S23: =IF(OFFSET(U23,0,$S$6)<>"",OFFSET(U23,0,$S$6),"Bye") -> Bye | T23: =IF(OFFSET(V23,0,$S$6)<>"",OFFSET(V23,0,$S$6),"Bye") -> Bye | AS23: 6 | AU23: 6 | AW23: 6 | AY23: 6 | BA23: 6 | BC23: 6 | BE23: 6 | BG23: 6 | BI23: 6 | BK23: 6 | BM23: 6 | BN23: 27 | BO23: 6 | BP23: 27 | BQ23: 6 | BR23: 27 | BS23: 6 | BT23: 27 | BU23: 6 | BV23: 27 | BW23: 6 | BX23: 27 | BY23: 29 | CA23: 29 | CC23: 29 | CE23: 29 | CF23: 36 | CG23: 29 | CH23: 36 | CI23: 29 | CJ23: 36 | CK23: 29 | CL23: 36 | CM23: 29 | CN23: 36 | CO23: 29 | CP23: 36 | CQ23: 29 | CR23: 36 | CS23: 29 | CT23: 36 | CU23: 29 | CV23: 36 | CW23: 29 | CX23: 36 | CY23: 29 | CZ23: 36 | DA23: 29 | DB23: 36 | DC23: 29 | DD23: 36 | DE23: 29 | DF23: 36 | DG23: 29 | DH23: 36 | DI23: 29 | DJ23: 36 | DK23: 29 | DL23: 36 | DM23: 29 | DN23: 36 | DO23: 29 | DP23: 36 | DQ23: 29 | DR23: 36 | DS23: 29 | DT23: 36 | DU23: 29 | DV23: 36 | DW23: 29 | DX23: 36 | DY23: 29 | DZ23: 36 | EA23: 29 | EB23: 36 | EC23: 29 | ED23: 36 | EE23: 29 | EF23: 36 | EG23: 29 | EH23: 36 | EI23: 29 | EJ23: 36 | EK23: 8 | EM23: 8 | EO23: 8 | EQ23: 8 | ES23: 8 | EU23: 8 | EW23: 8 | EY23: 8 | FA23: 8 | FC23: 8 | FE23: 8 | FG23: 8 | FI23: 8 | FK23: 8 | FM23: 8 | FO23: 8 | FQ23: 8 | FS23: 8 | FU23: 8 | FW23: 8 | FY23: 8 | GA23: 8 | GC23: 8 | GE23: 8 | GG23: 8 | GI23: 8 | GK23: 8 | GM23: 8 | GO23: 8 | GQ23: 8 | GS23: 8 | GU23: 8 | GW23: 8 | GY23: 8 | HA23: 8 | HC23: 8 | HE23: 8 | HG23: 8 | HI23: 8 | HK23: 8 | HM23: 8 | HO23: 8 | HQ23: 8 | HS23: 8 | HU23: 8 | HW23: 8 | HY23: 8 | IA23: 8 | IC23: 8 | IE23: 8 | IG23: 8 | II23: 8 | IK23: 8 | IM23: 8 | IO23: 8 | IQ23: 8 | IS23: 8 | IT23: 121 | IU23: 8 | IV23: 121 | IW23: 8 | IX23: 121 | IY23: 8 | IZ23: 121 | JA23: 8 | JB23: 121 | JC23: 8 | JD23: 121 | JE23: 8 | JF23: 121 | JG23: 8 | JH23: 121
A24: 15 | B24: =IF(MOD(A23,$I$14*$I$16)=0,B23+1,B23) -> 1 | C24: =IF(C23<>$I$14,C23+1,1) -> 15 | D24: =VLOOKUP(C24,$K$15:$L$30,2,FALSE) -> Court 15 | E24: =IF(B24=B23,IF(C24>C23,E23,E23+$I$15),$I$13) -> 0.625 | F24: =IF(B24=B23,F23,F23+1) -> 42040 | K24: =Setup!E18 -> 10 | L24: =Setup!F18 -> Court 10 | O24: =O23+1 -> 16 | P24: =IF(O24<>"",VLOOKUP(O24,$A$10:$F$266,6,FALSE),"") -> 42040 | Q24: =IF(O24<>"",VLOOKUP(O24,$A$10:$F$266,5,FALSE),"") -> 0.625 | R24: =IF(O24<>"",VLOOKUP(O24,$A$10:$F$266,4,FALSE),"") -> Court 16 | S24: =IF(OFFSET(U24,0,$S$6)<>"",OFFSET(U24,0,$S$6),"Bye") -> Bye | T24: =IF(OFFSET(V24,0,$S$6)<>"",OFFSET(V24,0,$S$6),"Bye") -> Bye | AS24: 10 | AU24: 10 | AW24: 10 | AY24: 10 | BA24: 10 | BC24: 10 | BE24: 10 | BF24: 23 | BG24: 10 | BH24: 23 | BI24: 10 | BJ24: 23 | BK24: 10 | BL24: 23 | BM24: 10 | BN24: 23 | BO24: 10 | BP24: 23 | BQ24: 10 | BR24: 23 | BS24: 10 | BT24: 23 | BU24: 10 | BV24: 23 | BW24: 10 | BX24: 23 | BY24: 4 | CA24: 4 | CC24: 4 | CE24: 4 | CG24: 4 | CI24: 4 | CK24: 4 | CM24: 4 | CO24: 4 | CQ24: 4 | CS24: 4 | CU24: 4 | CW24: 4 | CY24: 4 | DA24: 4 | DC24: 4 | DE24: 4 | DG24: 4 | DI24: 4 | DK24: 4 | DM24: 4 | DO24: 4 | DQ24: 4 | DS24: 4 | DU24: 4 | DW24: 4 | DY24: 4 | EA24: 4 | EC24: 4 | ED24: 61 | EE24: 4 | EF24: 61 | EG24: 4 | EH24: 61 | EI24: 4 | EJ24: 61 | EK24: 57 | EM24: 57 | EO24: 57 | EQ24: 57 | ES24: 57 | EU24: 57 | EW24: 57 | EY24: 57 | EZ24: 72 | FA24: 57 | FB24: 72 | FC24: 57 | FD24: 72 | FE24: 57 | FF24: 72 | FG24: 57 | FH24: 72 | FI24: 57 | FJ24: 72 | FK24: 57 | FL24: 72 | FM24: 57 | FN24: 72 | FO24: 57 | FP24: 72 | FQ24: 57 | FR24: 72 | FS24: 57 | FT24: 72 | FU24: 57 | FV24: 72 | FW24: 57 | FX24: 72 | FY24: 57 | FZ24: 72 | GA24: 57 | GB24: 72 | GC24: 57 | GD24: 72 | GE24: 57 | GF24: 72 | GG24: 57 | GH24: 72 | GI24: 57 | GJ24: 72 | GK24: 57 | GL24: 72 | GM24: 57 | GN24: 72 | GO24: 57 | GP24: 72 | GQ24: 57 | GR24: 72 | GS24: 57 | GT24: 72 | GU24: 57 | GV24: 72 | GW24: 57 | GX24: 72 | GY24: 57 | GZ24: 72 | HA24: 57 | HB24: 72 | HC24: 57 | HD24: 72 | HE24: 57 | HF24: 72 | HG24: 57 | HH24: 72 | HI24: 57 | HJ24: 72 | HK24: 57 | HL24: 72 | HM24: 57 | HN24: 72 | HO24: 57 | HP24: 72 | HQ24: 57 | HR24: 72 | HS24: 57 | HT24: 72 | HU24: 57 | HV24: 72 | HW24: 57 | HX24: 72 | HY24: 57 | HZ24: 72 | IA24: 57 | IB24: 72 | IC24: 57 | ID24: 72 | IE24: 57 | IF24: 72 | IG24: 57 | IH24: 72 | II24: 57 | IJ24: 72 | IK24: 57 | IL24: 72 | IM24: 57 | IN24: 72 | IO24: 57 | IP24: 72 | IQ24: 57 | IR24: 72 | IS24: 57 | IT24: 72 | IU24: 57 | IV24: 72 | IW24: 57 | IX24: 72 | IY24: 57 | IZ24: 72 | JA24: 57 | JB24: 72 | JC24: 57 | JD24: 72 | JE24: 57 | JF24: 72 | JG24: 57 | JH24: 72
A25: 16 | B25: =IF(MOD(A24,$I$14*$I$16)=0,B24+1,B24) -> 1 | C25: =IF(C24<>$I$14,C24+1,1) -> 16 | D25: =VLOOKUP(C25,$K$15:$L$30,2,FALSE) -> Court 16 | E25: =IF(B25=B24,IF(C25>C24,E24,E24+$I$15),$I$13) -> 0.625 | F25: =IF(B25=B24,F24,F24+1) -> 42040 | K25: =Setup!E19 -> 11 | L25: =Setup!F19 -> Court 11 | O25: =O24+1 -> 17 | P25: =IF(O25<>"",VLOOKUP(O25,$A$10:$F$266,6,FALSE),"") -> 42040 | Q25: =IF(O25<>"",VLOOKUP(O25,$A$10:$F$266,5,FALSE),"") -> 0.70833333 | R25: =IF(O25<>"",VLOOKUP(O25,$A$10:$F$266,4,FALSE),"") -> Court 1 | S25: =IF(OFFSET(U25,0,$S$6)<>"",OFFSET(U25,0,$S$6),"Bye") -> Bye | T25: =IF(OFFSET(V25,0,$S$6)<>"",OFFSET(V25,0,$S$6),"Bye") -> Bye | BY25: 3 | CA25: 3 | CC25: 3 | CE25: 3 | CG25: 3 | CI25: 3 | CK25: 3 | CM25: 3 | CO25: 3 | CQ25: 3 | CS25: 3 | CU25: 3 | CW25: 3 | CY25: 3 | DA25: 3 | DC25: 3 | DE25: 3 | DG25: 3 | DI25: 3 | DK25: 3 | DM25: 3 | DO25: 3 | DQ25: 3 | DS25: 3 | DU25: 3 | DW25: 3 | DY25: 3 | EA25: 3 | EC25: 3 | EE25: 3 | EF25: 62 | EG25: 3 | EH25: 62 | EI25: 3 | EJ25: 62 | EK25: 5 | EM25: 5 | EO25: 5 | EQ25: 5 | ES25: 5 | EU25: 5 | EW25: 5 | EY25: 5 | FA25: 5 | FC25: 5 | FE25: 5 | FG25: 5 | FI25: 5 | FK25: 5 | FM25: 5 | FO25: 5 | FQ25: 5 | FS25: 5 | FU25: 5 | FW25: 5 | FY25: 5 | GA25: 5 | GC25: 5 | GE25: 5 | GG25: 5 | GI25: 5 | GK25: 5 | GM25: 5 | GO25: 5 | GQ25: 5 | GS25: 5 | GU25: 5 | GW25: 5 | GY25: 5 | HA25: 5 | HC25: 5 | HE25: 5 | HG25: 5 | HI25: 5 | HK25: 5 | HM25: 5 | HO25: 5 | HQ25: 5 | HS25: 5 | HU25: 5 | HW25: 5 | HY25: 5 | IA25: 5 | IC25: 5 | IE25: 5 | IG25: 5 | II25: 5 | IK25: 5 | IM25: 5 | IO25: 5 | IQ25: 5 | IS25: 5 | IU25: 5 | IW25: 5 | IY25: 5 | IZ25: 124 | JA25: 5 | JB25: 124 | JC25: 5 | JD25: 124 | JE25: 5 | JF25: 124 | JG25: 5 | JH25: 124
