Workbook
Name TeamLogo: INDEX(#REF!,'Bracket 9 - 16'!#REF!)

Sheet Setup
B2: SINGLE ELIMINATION TOURNAMENT SETUP - BEST OF THREE
B7: Number of Players/Teams | C7: 16 | D7: =IF(C7<17,1,IF(C7<33,2,IF(C7<65,3,4))) -> 1 | E7: Venue | H7: Player/Team | K7: Schedule
B8: First Round Pairing Matches | C8: Automatic Pairing | E8: No | F8: Venue Name | H8: Seeded | I8: Player/Team Name | K8: M# | L8: Date | M8: Time | N8: Venue | O8: Pairing
B9: Start Date | C9: 42040 | E9: =IF(C12<>"",1,"") -> 1 | F9: Court 1 | H9: =IF(C7<>"",1,"") -> 1 | I9: Player 1 | K9: =IF(O9<>"",1,"") -> 1 | L9: =IF($O9<>"",dummy2!C3,"") -> 42040 | M9: =IF($O9<>"",dummy2!D3,"") -> 0.625 | N9: =IF($O9<>"",dummy2!E3,"") -> Court 1 | O9: =IF(OFFSET(dummy2!L3,0,dummy1!$A$2)<>"",OFFSET(dummy2!L3,0,dummy1!$A$2),"") -> Player 1 | P9: =IF(O9<>"","vs","") -> vs | Q9: =IF(OFFSET(dummy2!M3,0,dummy1!$A$2)<>"",OFFSET(dummy2!M3,0,dummy1!$A$2),"") -> Player 16
B10: End Date (automatically shown) | C10: =dummy1!I12 -> 42040 | E10: =IF(OR(E9="",E9=$C$12),"",E9+1) -> 2 | F10: Court 2 | H10: =IF(OR(H9="",H9=$C$7),"",H9+1) -> 2 | I10: Player 2 | K10: =IF(O10<>"",K9+1,"") -> 2 | L10: =IF($O10<>"",dummy2!C4,"") -> 42040 | M10: =IF($O10<>"",dummy2!D4,"") -> 0.625 | N10: =IF($O10<>"",dummy2!E4,"") -> Court 2 | O10: =IF(OFFSET(dummy2!L4,0,dummy1!$A$2)<>"",OFFSET(dummy2!L4,0,dummy1!$A$2),"") -> Player 8 | P10: =IF(O10<>"","vs","") -> vs | Q10: =IF(OFFSET(dummy2!M4,0,dummy1!$A$2)<>"",OFFSET(dummy2!M4,0,dummy1!$A$2),"") -> Player 9
B11: Start Time per Day | C11: 0.625 | E11: =IF(OR(E10="",E10=$C$12),"",E10+1) -> 3 | F11: Court 3 | H11: =IF(OR(H10="",H10=$C$7),"",H10+1) -> 3 | I11: Player 3 | K11: =IF(O11<>"",K10+1,"") -> 3 | L11: =IF($O11<>"",dummy2!C5,"") -> 42040 | M11: =IF($O11<>"",dummy2!D5,"") -> 0.625 | N11: =IF($O11<>"",dummy2!E5,"") -> Court 3 | O11: =IF(OFFSET(dummy2!L5,0,dummy1!$A$2)<>"",OFFSET(dummy2!L5,0,dummy1!$A$2),"") -> Player 4 | P11: =IF(O11<>"","vs","") -> vs | Q11: =IF(OFFSET(dummy2!M5,0,dummy1!$A$2)<>"",OFFSET(dummy2!M5,0,dummy1!$A$2),"") -> Player 13
B12: Number of Venues | C12: 16 | E12: =IF(OR(E11="",E11=$C$12),"",E11+1) -> 4 | F12: Court 4 | H12: =IF(OR(H11="",H11=$C$7),"",H11+1) -> 4 | I12: Player 4 | K12: =IF(O12<>"",K11+1,"") -> 4 | L12: =IF($O12<>"",dummy2!C6,"") -> 42040 | M12: =IF($O12<>"",dummy2!D6,"") -> 0.625 | N12: =IF($O12<>"",dummy2!E6,"") -> Court 4 | O12: =IF(OFFSET(dummy2!L6,0,dummy1!$A$2)<>"",OFFSET(dummy2!L6,0,dummy1!$A$2),"") -> Player 5 | P12: =IF(O12<>"","vs","") -> vs | Q12: =IF(OFFSET(dummy2!M6,0,dummy1!$A$2)<>"",OFFSET(dummy2!M6,0,dummy1!$A$2),"") -> Player 12
B13: Time Interval between matches in the same venue (hour) | C13: 0.083333333 | E13: =IF(OR(E12="",E12=$C$12),"",E12+1) -> 5 | F13: Court 5 | H13: =IF(OR(H12="",H12=$C$7),"",H12+1) -> 5 | I13: Player 5 | K13: =IF(O13<>"",K12+1,"") -> 5 | L13: =IF($O13<>"",dummy2!C7,"") -> 42040 | M13: =IF($O13<>"",dummy2!D7,"") -> 0.625 | N13: =IF($O13<>"",dummy2!E7,"") -> Court 5 | O13: =IF(OFFSET(dummy2!L7,0,dummy1!$A$2)<>"",OFFSET(dummy2!L7,0,dummy1!$A$2),"") -> Player 2 | P13: =IF(O13<>"","vs","") -> vs | Q13: =IF(OFFSET(dummy2!M7,0,dummy1!$A$2)<>"",OFFSET(dummy2!M7,0,dummy1!$A$2),"") -> Player 15
B14: Maximum usage per Venues per Day | C14: 4 | E14: =IF(OR(E13="",E13=$C$12),"",E13+1) -> 6 | F14: Court 6 | H14: =IF(OR(H13="",H13=$C$7),"",H13+1) -> 6 | I14: Player 6 | K14: =IF(O14<>"",K13+1,"") -> 6 | L14: =IF($O14<>"",dummy2!C8,"") -> 42040 | M14: =IF($O14<>"",dummy2!D8,"") -> 0.625 | N14: =IF($O14<>"",dummy2!E8,"") -> Court 6 | O14: =IF(OFFSET(dummy2!L8,0,dummy1!$A$2)<>"",OFFSET(dummy2!L8,0,dummy1!$A$2),"") -> Player 7 | P14: =IF(O14<>"","vs","") -> vs | Q14: =IF(OFFSET(dummy2!M8,0,dummy1!$A$2)<>"",OFFSET(dummy2!M8,0,dummy1!$A$2),"") -> Player 10
E15: =IF(OR(E14="",E14=$C$12),"",E14+1) -> 7 | F15: Court 7 | H15: =IF(OR(H14="",H14=$C$7),"",H14+1) -> 7 | I15: Player 7 | K15: =IF(O15<>"",K14+1,"") -> 7 | L15: =IF($O15<>"",dummy2!C9,"") -> 42040 | M15: =IF($O15<>"",dummy2!D9,"") -> 0.625 | N15: =IF($O15<>"",dummy2!E9,"") -> Court 7 | O15: =IF(OFFSET(dummy2!L9,0,dummy1!$A$2)<>"",OFFSET(dummy2!L9,0,dummy1!$A$2),"") -> Player 3 | P15: =IF(O15<>"","vs","") -> vs | Q15: =IF(OFFSET(dummy2!M9,0,dummy1!$A$2)<>"",OFFSET(dummy2!M9,0,dummy1!$A$2),"") -> Player 14
E16: =IF(OR(E15="",E15=$C$12),"",E15+1) -> 8 | F16: Court 8 | H16: =IF(OR(H15="",H15=$C$7),"",H15+1) -> 8 | I16: Player 8 | K16: =IF(O16<>"",K15+1,"") -> 8 | L16: =IF($O16<>"",dummy2!C10,"") -> 42040 | M16: =IF($O16<>"",dummy2!D10,"") -> 0.625 | N16: =IF($O16<>"",dummy2!E10,"") -> Court 8 | O16: =IF(OFFSET(dummy2!L10,0,dummy1!$A$2)<>"",OFFSET(dummy2!L10,0,dummy1!$A$2),"") -> Player 6 | P16: =IF(O16<>"","vs","") -> vs | Q16: =IF(OFFSET(dummy2!M10,0,dummy1!$A$2)<>"",OFFSET(dummy2!M10,0,dummy1!$A$2),"") -> Player 11
E17: =IF(OR(E16="",E16=$C$12),"",E16+1) -> 9 | F17: Court 9 | H17: =IF(OR(H16="",H16=$C$7),"",H16+1) -> 9 | I17: Player 9 | K17: =IF(O17<>"",K16+1,"") -> 9 | L17: =IF($O17<>"",dummy2!C11,"") -> 42040 | M17: =IF($O17<>"",dummy2!D11,"") -> 0.625 | N17: =IF($O17<>"",dummy2!E11,"") -> Court 9 | O17: =IF(OFFSET(dummy2!L11,0,dummy1!$A$2)<>"",OFFSET(dummy2!L11,0,dummy1!$A$2),"") -> Winner Match 1 | P17: =IF(O17<>"","vs","") -> vs | Q17: =IF(OFFSET(dummy2!M11,0,dummy1!$A$2)<>"",OFFSET(dummy2!M11,0,dummy1!$A$2),"") -> Winner Match 2
E18: =IF(OR(E17="",E17=$C$12),"",E17+1) -> 10 | F18: Court 10 | H18: =IF(OR(H17="",H17=$C$7),"",H17+1) -> 10 | I18: Player 10 | K18: =IF(O18<>"",K17+1,"") -> 10 | L18: =IF($O18<>"",dummy2!C12,"") -> 42040 | M18: =IF($O18<>"",dummy2!D12,"") -> 0.625 | N18: =IF($O18<>"",dummy2!E12,"") -> Court 10 | O18: =IF(OFFSET(dummy2!L12,0,dummy1!$A$2)<>"",OFFSET(dummy2!L12,0,dummy1!$A$2),"") -> Winner Match 3 | P18: =IF(O18<>"","vs","") -> vs | Q18: =IF(OFFSET(dummy2!M12,0,dummy1!$A$2)<>"",OFFSET(dummy2!M12,0,dummy1!$A$2),"") -> Winner Match 4
E19: =IF(OR(E18="",E18=$C$12),"",E18+1) -> 11 | F19: Court 11 | H19: =IF(OR(H18="",H18=$C$7),"",H18+1) -> 11 | I19: Player 11 | K19: =IF(O19<>"",K18+1,"") -> 11 | L19: =IF($O19<>"",dummy2!C13,"") -> 42040 | M19: =IF($O19<>"",dummy2!D13,"") -> 0.625 | N19: =IF($O19<>"",dummy2!E13,"") -> Court 11 | O19: =IF(OFFSET(dummy2!L13,0,dummy1!$A$2)<>"",OFFSET(dummy2!L13,0,dummy1!$A$2),"") -> Winner Match 5 | P19: =IF(O19<>"","vs","") -> vs | Q19: =IF(OFFSET(dummy2!M13,0,dummy1!$A$2)<>"",OFFSET(dummy2!M13,0,dummy1!$A$2),"") -> Winner Match 6
E20: =IF(OR(E19="",E19=$C$12),"",E19+1) -> 12 | F20: Court 12 | H20: =IF(OR(H19="",H19=$C$7),"",H19+1) -> 12 | I20: Player 12 | K20: =IF(O20<>"",K19+1,"") -> 12 | L20: =IF($O20<>"",dummy2!C14,"") -> 42040 | M20: =IF($O20<>"",dummy2!D14,"") -> 0.625 | N20: =IF($O20<>"",dummy2!E14,"") -> Court 12 | O20: =IF(OFFSET(dummy2!L14,0,dummy1!$A$2)<>"",OFFSET(dummy2!L14,0,dummy1!$A$2),"") -> Winner Match 7 | P20: =IF(O20<>"","vs","") -> vs | Q20: =IF(OFFSET(dummy2!M14,0,dummy1!$A$2)<>"",OFFSET(dummy2!M14,0,dummy1!$A$2),"") -> Winner Match 8
E21: =IF(OR(E20="",E20=$C$12),"",E20+1) -> 13 | F21: Court 13 | H21: =IF(OR(H20="",H20=$C$7),"",H20+1) -> 13 | I21: Player 13 | K21: =IF(O21<>"",K20+1,"") -> 13 | L21: =IF($O21<>"",dummy2!C15,"") -> 42040 | M21: =IF($O21<>"",dummy2!D15,"") -> 0.625 | N21: =IF($O21<>"",dummy2!E15,"") -> Court 13 | O21: =IF(OFFSET(dummy2!L15,0,dummy1!$A$2)<>"",OFFSET(dummy2!L15,0,dummy1!$A$2),"") -> Winner Match 9 | P21: =IF(O21<>"","vs","") -> vs | Q21: =IF(OFFSET(dummy2!M15,0,dummy1!$A$2)<>"",OFFSET(dummy2!M15,0,dummy1!$A$2),"") -> Winner Match 10
E22: =IF(OR(E21="",E21=$C$12),"",E21+1) -> 14 | F22: Court 14 | H22: =IF(OR(H21="",H21=$C$7),"",H21+1) -> 14 | I22: Player 14 | K22: =IF(O22<>"",K21+1,"") -> 14 | L22: =IF($O22<>"",dummy2!C16,"") -> 42040 | M22: =IF($O22<>"",dummy2!D16,"") -> 0.625 | N22: =IF($O22<>"",dummy2!E16,"") -> Court 14 | O22: =IF(OFFSET(dummy2!L16,0,dummy1!$A$2)<>"",OFFSET(dummy2!L16,0,dummy1!$A$2),"") -> Winner Match 11 | P22: =IF(O22<>"","vs","") -> vs | Q22: =IF(OFFSET(dummy2!M16,0,dummy1!$A$2)<>"",OFFSET(dummy2!M16,0,dummy1!$A$2),"") -> Winner Match 12
E23: =IF(OR(E22="",E22=$C$12),"",E22+1) -> 15 | F23: Court 15 | H23: =IF(OR(H22="",H22=$C$7),"",H22+1) -> 15 | I23: Player 15 | K23: =IF(O23<>"",K22+1,"") -> 15 | L23: =IF($O23<>"",dummy2!C17,"") -> 42040 | M23: =IF($O23<>"",dummy2!D17,"") -> 0.625 | N23: =IF($O23<>"",dummy2!E17,"") -> Court 15 | O23: =IF(OFFSET(dummy2!L17,0,dummy1!$A$2)<>"",OFFSET(dummy2!L17,0,dummy1!$A$2),"") -> Loser Match 13 | P23: =IF(O23<>"","vs","") -> vs | Q23: =IF(OFFSET(dummy2!M17,0,dummy1!$A$2)<>"",OFFSET(dummy2!M17,0,dummy1!$A$2),"") -> Loser Match 14
E24: =IF(OR(E23="",E23=$C$12),"",E23+1) -> 16 | F24: Court 16 | H24: =IF(OR(H23="",H23=$C$7),"",H23+1) -> 16 | I24: Player 16 | K24: =IF(O24<>"",K23+1,"") -> 16 | L24: =IF($O24<>"",dummy2!C18,"") -> 42040 | M24: =IF($O24<>"",dummy2!D18,"") -> 0.625 | N24: =IF($O24<>"",dummy2!E18,"") -> Court 16 | O24: =IF(OFFSET(dummy2!L18,0,dummy1!$A$2)<>"",OFFSET(dummy2!L18,0,dummy1!$A$2),"") -> Winner Match 13 | P24: =IF(O24<>"","vs","") -> vs | Q24: =IF(OFFSET(dummy2!M18,0,dummy1!$A$2)<>"",OFFSET(dummy2!M18,0,dummy1!$A$2),"") -> Winner Match 14
H25: =IF(OR(H24="",H24=$C$7),"",H24+1) | K25: =IF(O25<>"",K24+1,"") | L25: =IF($O25<>"",dummy2!C19,"") | M25: =IF($O25<>"",dummy2!D19,"") | N25: =IF($O25<>"",dummy2!E19,"") | O25: =IF(OFFSET(dummy2!L19,0,dummy1!$A$2)<>"",OFFSET(dummy2!L19,0,dummy1!$A$2),"") | P25: =IF(O25<>"","vs","") | Q25: =IF(OFFSET(dummy2!M19,0,dummy1!$A$2)<>"",OFFSET(dummy2!M19,0,dummy1!$A$2),"")
H26: =IF(OR(H25="",H25=$C$7),"",H25+1) | K26: =IF(O26<>"",K25+1,"") | L26: =IF($O26<>"",dummy2!C20,"") | M26: =IF($O26<>"",dummy2!D20,"") | N26: =IF($O26<>"",dummy2!E20,"") | O26: =IF(OFFSET(dummy2!L20,0,dummy1!$A$2)<>"",OFFSET(dummy2!L20,0,dummy1!$A$2),"") | P26: =IF(O26<>"","vs","") | Q26: =IF(OFFSET(dummy2!M20,0,dummy1!$A$2)<>"",OFFSET(dummy2!M20,0,dummy1!$A$2),"")
H27: =IF(OR(H26="",H26=$C$7),"",H26+1) | K27: =IF(O27<>"",K26+1,"") | L27: =IF($O27<>"",dummy2!C21,"") | M27: =IF($O27<>"",dummy2!D21,"") | N27: =IF($O27<>"",dummy2!E21,"") | O27: =IF(OFFSET(dummy2!L21,0,dummy1!$A$2)<>"",OFFSET(dummy2!L21,0,dummy1!$A$2),"") | P27: =IF(O27<>"","vs","") | Q27: =IF(OFFSET(dummy2!M21,0,dummy1!$A$2)<>"",OFFSET(dummy2!M21,0,dummy1!$A$2),"")
H28: =IF(OR(H27="",H27=$C$7),"",H27+1) | K28: =IF(O28<>"",K27+1,"") | L28: =IF($O28<>"",dummy2!C22,"") | M28: =IF($O28<>"",dummy2!D22,"") | N28: =IF($O28<>"",dummy2!E22,"") | O28: =IF(OFFSET(dummy2!L22,0,dummy1!$A$2)<>"",OFFSET(dummy2!L22,0,dummy1!$A$2),"") | P28: =IF(O28<>"","vs","") | Q28: =IF(OFFSET(dummy2!M22,0,dummy1!$A$2)<>"",OFFSET(dummy2!M22,0,dummy1!$A$2),"")
H29: =IF(OR(H28="",H28=$C$7),"",H28+1) | K29: =IF(O29<>"",K28+1,"") | L29: =IF($O29<>"",dummy2!C23,"") | M29: =IF($O29<>"",dummy2!D23,"") | N29: =IF($O29<>"",dummy2!E23,"") | O29: =IF(OFFSET(dummy2!L23,0,dummy1!$A$2)<>"",OFFSET(dummy2!L23,0,dummy1!$A$2),"") | P29: =IF(O29<>"","vs","") | Q29: =IF(OFFSET(dummy2!M23,0,dummy1!$A$2)<>"",OFFSET(dummy2!M23,0,dummy1!$A$2),"")
H30: =IF(OR(H29="",H29=$C$7),"",H29+1) | K30: =IF(O30<>"",K29+1,"") | L30: =IF($O30<>"",dummy2!C24,"") | M30: =IF($O30<>"",dummy2!D24,"") | N30: =IF($O30<>"",dummy2!E24,"") | O30: =IF(OFFSET(dummy2!L24,0,dummy1!$A$2)<>"",OFFSET(dummy2!L24,0,dummy1!$A$2),"") | P30: =IF(O30<>"","vs","") | Q30: =IF(OFFSET(dummy2!M24,0,dummy1!$A$2)<>"",OFFSET(dummy2!M24,0,dummy1!$A$2),"")
H31: =IF(OR(H30="",H30=$C$7),"",H30+1) | K31: =IF(O31<>"",K30+1,"") | L31: =IF($O31<>"",dummy2!C25,"") | M31: =IF($O31<>"",dummy2!D25,"") | N31: =IF($O31<>"",dummy2!E25,"") | O31: =IF(OFFSET(dummy2!L25,0,dummy1!$A$2)<>"",OFFSET(dummy2!L25,0,dummy1!$A$2),"") | P31: =IF(O31<>"","vs","") | Q31: =IF(OFFSET(dummy2!M25,0,dummy1!$A$2)<>"",OFFSET(dummy2!M25,0,dummy1!$A$2),"")
H32: =IF(OR(H31="",H31=$C$7),"",H31+1) | K32: =IF(O32<>"",K31+1,"") | L32: =IF($O32<>"",dummy2!C26,"") | M32: =IF($O32<>"",dummy2!D26,"") | N32: =IF($O32<>"",dummy2!E26,"") | O32: =IF(OFFSET(dummy2!L26,0,dummy1!$A$2)<>"",OFFSET(dummy2!L26,0,dummy1!$A$2),"") | P32: =IF(O32<>"","vs","") | Q32: =IF(OFFSET(dummy2!M26,0,dummy1!$A$2)<>"",OFFSET(dummy2!M26,0,dummy1!$A$2),"")
H33: =IF(OR(H32="",H32=$C$7),"",H32+1) | K33: =IF(O33<>"",K32+1,"") | L33: =IF($O33<>"",dummy2!C27,"") | M33: =IF($O33<>"",dummy2!D27,"") | N33: =IF($O33<>"",dummy2!E27,"") | O33: =IF(OFFSET(dummy2!L27,0,dummy1!$A$2)<>"",OFFSET(dummy2!L27,0,dummy1!$A$2),"") | P33: =IF(O33<>"","vs","") | Q33: =IF(OFFSET(dummy2!M27,0,dummy1!$A$2)<>"",OFFSET(dummy2!M27,0,dummy1!$A$2),"")
H34: =IF(OR(H33="",H33=$C$7),"",H33+1) | K34: =IF(O34<>"",K33+1,"") | L34: =IF($O34<>"",dummy2!C28,"") | M34: =IF($O34<>"",dummy2!D28,"") | N34: =IF($O34<>"",dummy2!E28,"") | O34: =IF(OFFSET(dummy2!L28,0,dummy1!$A$2)<>"",OFFSET(dummy2!L28,0,dummy1!$A$2),"") | P34: =IF(O34<>"","vs","") | Q34: =IF(OFFSET(dummy2!M28,0,dummy1!$A$2)<>"",OFFSET(dummy2!M28,0,dummy1!$A$2),"")
H35: =IF(OR(H34="",H34=$C$7),"",H34+1) | K35: =IF(O35<>"",K34+1,"") | L35: =IF($O35<>"",dummy2!C29,"") | M35: =IF($O35<>"",dummy2!D29,"") | N35: =IF($O35<>"",dummy2!E29,"") | O35: =IF(OFFSET(dummy2!L29,0,dummy1!$A$2)<>"",OFFSET(dummy2!L29,0,dummy1!$A$2),"") | P35: =IF(O35<>"","vs","") | Q35: =IF(OFFSET(dummy2!M29,0,dummy1!$A$2)<>"",OFFSET(dummy2!M29,0,dummy1!$A$2),"")
H36: =IF(OR(H35="",H35=$C$7),"",H35+1) | K36: =IF(O36<>"",K35+1,"") | L36: =IF($O36<>"",dummy2!C30,"") | M36: =IF($O36<>"",dummy2!D30,"") | N36: =IF($O36<>"",dummy2!E30,"") | O36: =IF(OFFSET(dummy2!L30,0,dummy1!$A$2)<>"",OFFSET(dummy2!L30,0,dummy1!$A$2),"") | P36: =IF(O36<>"","vs","") | Q36: =IF(OFFSET(dummy2!M30,0,dummy1!$A$2)<>"",OFFSET(dummy2!M30,0,dummy1!$A$2),"")
... H136: =IF(OR(H135="",H135=$C$7),"",H135+1) | K136: =IF(O136<>"",K135+1,"") | L136: =IF($O136<>"",dummy2!C130,"") | M136: =IF($O136<>"",dummy2!D130,"") | N136: =IF($O136<>"",dummy2!E130,"") | O136: =IF(OFFSET(dummy2!L130,0,dummy1!$A$2)<>"",OFFSET(dummy2!L130,0,dummy1!$A$2),"") | P136: =IF(O136<>"","vs","") | Q136: =IF(OFFSET(dummy2!M130,0,dummy1!$A$2)<>"",OFFSET(dummy2!M130,0,dummy1!$A$2),"")
B137: © 2015 - excelindo.com
H138: =IF(OR(H136="",H136=$C$7),"",H136+1)
H139: =IF(OR(H138="",H138=$C$7),"",H138+1)
H140: =IF(OR(H139="",H139=$C$7),"",H139+1)
H141: =IF(OR(H140="",H140=$C$7),"",H140+1)
H142: =IF(OR(H141="",H141=$C$7),"",H141+1)
H143: =IF(OR(H142="",H142=$C$7),"",H142+1)
H144: =IF(OR(H143="",H143=$C$7),"",H143+1)
H145: =IF(OR(H144="",H144=$C$7),"",H144+1)
H146: =IF(OR(H145="",H145=$C$7),"",H145+1)
H147: =IF(OR(H146="",H146=$C$7),"",H146+1)
H148: =IF(OR(H147="",H147=$C$7),"",H147+1)
H149: =IF(OR(H148="",H148=$C$7),"",H148+1)
H150: =IF(OR(H149="",H149=$C$7),"",H149+1)
... H265: =IF(OR(H264="",H264=$C$7),"",H264+1)

Sheet dummy1
A2: =VLOOKUP(Setup!D7,dummy1!A4:B7,2,FALSE) -> 0
A4: 1 | B4: 0
A5: 2 | B5: 8
A6: 3 | B6: 16 | S6: =(I8-4)*2-2 -> 22
A7: 4 | B7: 24 | O7: BRACKET OF 16 | U7: 5 | W7: =U7+1 -> 6 | Y7: =W7+1 -> 7 | AA7: =Y7+1 -> 8 | AC7: =AA7+1 -> 9 | AE7: =AC7+1 -> 10 | AG7: =AE7+1 -> 11 | AI7: =AG7+1 -> 12 | AK7: =AI7+1 -> 13 | AM7: =AK7+1 -> 14 | AO7: =AM7+1 -> 15 | AQ7: =AO7+1 -> 16 | AS7: =AQ7+1 -> 17 | AU7: =AS7+1 -> 18 | AW7: =AU7+1 -> 19 | AY7: =AW7+1 -> 20 | BA7: =AY7+1 -> 21 | BC7: =BA7+1 -> 22 | BE7: =BC7+1 -> 23 | BG7: =BE7+1 -> 24 | BI7: =BG7+1 -> 25 | BK7: =BI7+1 -> 26 | BM7: =BK7+1 -> 27 | BO7: =BM7+1 -> 28 | BQ7: =BO7+1 -> 29 | BS7: =BQ7+1 -> 30 | BU7: =BS7+1 -> 31 | BW7: =BU7+1 -> 32 | BY7: =BW7+1 -> 33 | CA7: =BY7+1 -> 34 | CC7: =CA7+1 -> 35 | CE7: =CC7+1 -> 36 | CG7: =CE7+1 -> 37 | CI7: =CG7+1 -> 38 | CK7: =CI7+1 -> 39 | CM7: =CK7+1 -> 40 | CO7: =CM7+1 -> 41 | CQ7: =CO7+1 -> 42 | CS7: =CQ7+1 -> 43 | CU7: =CS7+1 -> 44 | CW7: =CU7+1 -> 45 | CY7: =CW7+1 -> 46 | DA7: =CY7+1 -> 47 | DC7: =DA7+1 -> 48 | DE7: =DC7+1 -> 49 | DG7: =DE7+1 -> 50 | DI7: =DG7+1 -> 51 | DK7: =DI7+1 -> 52 | DM7: =DK7+1 -> 53 | DO7: =DM7+1 -> 54 | DQ7: =DO7+1 -> 55 | DS7: =DQ7+1 -> 56 | DU7: =DS7+1 -> 57 | DW7: =DU7+1 -> 58 | DY7: =DW7+1 -> 59 | EA7: =DY7+1 -> 60 | EC7: =EA7+1 -> 61 | EE7: =EC7+1 -> 62 | EG7: =EE7+1 -> 63 | EI7: =EG7+1 -> 64 | EK7: =EI7+1 -> 65 | EM7: =EK7+1 -> 66 | EO7: =EM7+1 -> 67 | EQ7: =EO7+1 -> 68 | ES7: =EQ7+1 -> 69 | EU7: =ES7+1 -> 70 | EW7: =EU7+1 -> 71 | EY7: =EW7+1 -> 72 | FA7: =EY7+1 -> 73 | FC7: =FA7+1 -> 74 | FE7: =FC7+1 -> 75 | FG7: =FE7+1 -> 76 | FI7: =FG7+1 -> 77 | FK7: =FI7+1 -> 78 | FM7: =FK7+1 -> 79 | FO7: =FM7+1 -> 80 | FQ7: =FO7+1 -> 81 | FS7: =FQ7+1 -> 82 | FU7: =FS7+1 -> 83 | FW7: =FU7+1 -> 84 | FY7: =FW7+1 -> 85 | GA7: =FY7+1 -> 86 | GC7: =GA7+1 -> 87 | GE7: =GC7+1 -> 88 | GG7: =GE7+1 -> 89 | GI7: =GG7+1 -> 90 | GK7: =GI7+1 -> 91 | GM7: =GK7+1 -> 92 | GO7: =GM7+1 -> 93 | GQ7: =GO7+1 -> 94 | GS7: =GQ7+1 -> 95 | GU7: =GS7+1 -> 96 | GW7: =GU7+1 -> 97 | GY7: =GW7+1 -> 98 | HA7: =GY7+1 -> 99 | HC7: =HA7+1 -> 100 | HE7: =HC7+1 -> 101 | HG7: =HE7+1 -> 102 | HI7: =HG7+1 -> 103 | HK7: =HI7+1 -> 104 | HM7: =HK7+1 -> 105 | HO7: =HM7+1 -> 106 | HQ7: =HO7+1 -> 107 | HS7: =HQ7+1 -> 108 | HU7: =HS7+1 -> 109 | HW7: =HU7+1 -> 110 | HY7: =HW7+1 -> 111 | IA7: =HY7+1 -> 112 | IC7: =IA7+1 -> 113 | IE7: =IC7+1 -> 114 | IG7: =IE7+1 -> 115 | II7: =IG7+1 -> 116 | IK7: =II7+1 -> 117 | IM7: =IK7+1 -> 118 | IO7: =IM7+1 -> 119 | IQ7: =IO7+1 -> 120 | IS7: =IQ7+1 -> 121 | IU7: =IS7+1 -> 122 | IW7: =IU7+1 -> 123 | IY7: =IW7+1 -> 124 | JA7: =IY7+1 -> 125 | JC7: =JA7+1 -> 126 | JE7: =JC7+1 -> 127 | JG7: =JE7+1 -> 128
I8: =Setup!C7 -> 16 | O8: M# | P8: Date | Q8: Time | R8: Venue
H9: Bracket Model (First Round Bracket) | I9: =IF(A2=0,16,IF(A2=8,32,IF(A2=16,64,128))) -> 16 | O9: 1 | P9: =IF(O9<>"",VLOOKUP(O9,$A$10:$F$266,6,FALSE),"") -> 42040 | Q9: =IF(O9<>"",VLOOKUP(O9,$A$10:$F$266,5,FALSE),"") -> 0.625 | R9: =IF(O9<>"",VLOOKUP(O9,$A$10:$F$266,4,FALSE),"") -> Court 1 | S9: =IF(OFFSET(U9,0,$S$6)<>"",OFFSET(U9,0,$S$6),"Bye") -> 1 | T9: =IF(OFFSET(V9,0,$S$6)<>"",OFFSET(V9,0,$S$6),"Bye") -> 16 | U9: 1 | W9: 1 | Y9: 1 | AA9: 1 | AB9: 8 | AC9: 1 | AE9: 1 | AG9: 1 | AI9: 1 | AK9: 1 | AM9: 1 | AO9: 1 | AQ9: 1 | AR9: 16 | AS9: 1 | AU9: 1 | AW9: 1 | AY9: 1 | BA9: 1 | BC9: 1 | BE9: 1 | BG9: 1 | BI9: 1 | BK9: 1 | BM9: 1 | BO9: 1 | BQ9: 1 | BS9: 1 | BU9: 1 | BW9: 1 | BX9: 32 | BY9: 1 | CA9: 1 | CC9: 1 | CE9: 1 | CG9: 1 | CI9: 1 | CK9: 1 | CM9: 1 | CO9: 1 | CQ9: 1 | CS9: 1 | CU9: 1 | CW9: 1 | CY9: 1 | DA9: 1 | DC9: 1 | DE9: 1 | DG9: 1 | DI9: 1 | DK9: 1 | DM9: 1 | DO9: 1 | DQ9: 1 | DS9: 1 | DU9: 1 | DW9: 1 | DY9: 1 | EA9: 1 | EC9: 1 | EE9: 1 | EG9: 1 | EI9: 1 | EJ9: 64 | EK9: 1 | EM9: 1 | EO9: 1 | EQ9: 1 | ES9: 1 | EU9: 1 | EW9: 1 | EY9: 1 | FA9: 1 | FC9: 1 | FE9: 1 | FG9: 1 | FI9: 1 | FK9: 1 | FM9: 1 | FO9: 1 | FQ9: 1 | FS9: 1 | FU9: 1 | FW9: 1 | FY9: 1 | GA9: 1 | GC9: 1 | GE9: 1 | GG9: 1 | GI9: 1 | GK9: 1 | GM9: 1 | GO9: 1 | GQ9: 1 | GS9: 1 | GU9: 1 | GW9: 1 | GY9: 1 | HA9: 1 | HC9: 1 | HE9: 1 | HG9: 1 | HI9: 1 | HK9: 1 | HM9: 1 | HO9: 1 | HQ9: 1 | HS9: 1 | HU9: 1 | HW9: 1 | HY9: 1 | IA9: 1 | IC9: 1 | IE9: 1 | IG9: 1 | II9: 1 | IK9: 1 | IM9: 1 | IO9: 1 | IQ9: 1 | IS9: 1 | IU9: 1 | IW9: 1 | IY9: 1 | JA9: 1 | JC9: 1 | JE9: 1 | JG9: 1 | JH9: 128
A10: 1 | B10: 1 | C10: 1 | D10: =VLOOKUP(C10,$K$15:$L$30,2,FALSE) -> Court 1 | E10: =I13 -> 0.625 | F10: =I11 -> 42040 | H10: Single Elimination Rule | I10: Best of Five | O10: =O9+1 -> 2 | P10: =IF(O10<>"",VLOOKUP(O10,$A$10:$F$266,6,FALSE),"") -> 42040 | Q10: =IF(O10<>"",VLOOKUP(O10,$A$10:$F$266,5,FALSE),"") -> 0.625 | R10: =IF(O10<>"",VLOOKUP(O10,$A$10:$F$266,4,FALSE),"") -> Court 2 | S10: =IF(OFFSET(U10,0,$S$6)<>"",OFFSET(U10,0,$S$6),"Bye") -> 8 | T10: =IF(OFFSET(V10,0,$S$6)<>"",OFFSET(V10,0,$S$6),"Bye") -> 9 | U10: 4 | V10: 5 | W10: 4 | X10: 5 | Y10: 4 | Z10: 5 | AA10: 4 | AB10: 5 | AC10: 8 | AD10: 9 | AE10: 8 | AF10: 9 | AG10: 8 | AH10: 9 | AI10: 8 | AJ10: 9 | AK10: 8 | AL10: 9 | AM10: 8 | AN10: 9 | AO10: 8 | AP10: 9 | AQ10: 8 | AR10: 9 | AS10: 16 | AT10: 17 | AU10: 16 | AV10: 17 | AW10: 16 | AX10: 17 | AY10: 16 | AZ10: 17 | BA10: 16 | BB10: 17 | BC10: 16 | BD10: 17 | BE10: 16 | BF10: 17 | BG10: 16 | BH10: 17 | BI10: 16 | BJ10: 17 | BK10: 16 | BL10: 17 | BM10: 16 | BN10: 17 | BO10: 16 | BP10: 17 | BQ10: 16 | BR10: 17 | BS10: 16 | BT10: 17 | BU10: 16 | BV10: 17 | BW10: 16 | BX10: 17 | BY10: 32 | BZ10: 33 | CA10: 32 | CB10: 33 | CC10: 32 | CD10: 33 | CE10: 32 | CF10: 33 | CG10: 32 | CH10: 33 | CI10: 32 | CJ10: 33 | CK10: 32 | CL10: 33 | CM10: 32 | CN10: 33 | CO10: 32 | CP10: 33 | CQ10: 32 | CR10: 33 | CS10: 32 | CT10: 33 | CU10: 32 | CV10: 33 | CW10: 32 | CX10: 33 | CY10: 32 | CZ10: 33 | DA10: 32 | DB10: 33 | DC10: 32 | DD10: 33 | DE10: 32 | DF10: 33 | DG10: 32 | DH10: 33 | DI10: 32 | DJ10: 33 | DK10: 32 | DL10: 33 | DM10: 32 | DN10: 33 | DO10: 32 | DP10: 33 | DQ10: 32 | DR10: 33 | DS10: 32 | DT10: 33 | DU10: 32 | DV10: 33 | DW10: 32 | DX10: 33 | DY10: 32 | DZ10: 33 | EA10: 32 | EB10: 33 | EC10: 32 | ED10: 33 | EE10: 32 | EF10: 33 | EG10: 32 | EH10: 33 | EI10: 32 | EJ10: 33 | EK10: 64 | EL10: 65 | EM10: 64 | EN10: 65 | EO10: 64 | EP10: 65 | EQ10: 64 | ER10: 65 | ES10: 64 | ET10: 65 | EU10: 64 | EV10: 65 | EW10: 64 | EX10: 65 | EY10: 64 | EZ10: 65 | FA10: 64 | FB10: 65 | FC10: 64 | FD10: 65 | FE10: 64 | FF10: 65 | FG10: 64 | FH10: 65 | FI10: 64 | FJ10: 65 | FK10: 64 | FL10: 65 | FM10: 64 | FN10: 65 | FO10: 64 | FP10: 65 | FQ10: 64 | FR10: 65 | FS10: 64 | FT10: 65 | FU10: 64 | FV10: 65 | FW10: 64 | FX10: 65 | FY10: 64 | FZ10: 65 | GA10: 64 | GB10: 65 | GC10: 64 | GD10: 65 | GE10: 64 | GF10: 65 | GG10: 64 | GH10: 65 | GI10: 64 | GJ10: 65 | GK10: 64 | GL10: 65 | GM10: 64 | GN10: 65 | GO10: 64 | GP10: 65 | GQ10: 64 | GR10: 65 | GS10: 64 | GT10: 65 | GU10: 64 | GV10: 65 | GW10: 64 | GX10: 65 | GY10: 64 | GZ10: 65 | HA10: 64 | HB10: 65 | HC10: 64 | HD10: 65 | HE10: 64 | HF10: 65 | HG10: 64 | HH10: 65 | HI10: 64 | HJ10: 65 | HK10: 64 | HL10: 65 | HM10: 64 | HN10: 65 | HO10: 64 | HP10: 65 | HQ10: 64 | HR10: 65 | HS10: 64 | HT10: 65 | HU10: 64 | HV10: 65 | HW10: 64 | HX10: 65 | HY10: 64 | HZ10: 65 | IA10: 64 | IB10: 65 | IC10: 64 | ID10: 65 | IE10: 64 | IF10: 65 | IG10: 64 | IH10: 65 | II10: 64 | IJ10: 65 | IK10: 64 | IL10: 65 | IM10: 64 | IN10: 65 | IO10: 64 | IP10: 65 | IQ10: 64 | IR10: 65 | IS10: 64 | IT10: 65 | IU10: 64 | IV10: 65 | IW10: 64 | IX10: 65 | IY10: 64 | IZ10: 65 | JA10: 64 | JB10: 65 | JC10: 64 | JD10: 65 | JE10: 64 | JF10: 65 | JG10: 64 | JH10: 65
A11: 2 | B11: =IF(MOD(A10,$I$14*$I$16)=0,B10+1,B10) -> 1 | C11: =IF(C10<>$I$14,C10+1,1) -> 2 | D11: =VLOOKUP(C11,$K$15:$L$30,2,FALSE) -> Court 2 | E11: =IF(B11=B10,IF(C11>C10,E10,E10+$I$15),$I$13) -> 0.625 | F11: =IF(B11=B10,F10,F10+1) -> 42040 | H11: Start Date | I11: =Setup!C9 -> 42040 | O11: =O10+1 -> 3 | P11: =IF(O11<>"",VLOOKUP(O11,$A$10:$F$266,6,FALSE),"") -> 42040 | Q11: =IF(O11<>"",VLOOKUP(O11,$A$10:$F$266,5,FALSE),"") -> 0.625 | R11: =IF(O11<>"",VLOOKUP(O11,$A$10:$F$266,4,FALSE),"") -> Court 3 | S11: =IF(OFFSET(U11,0,$S$6)<>"",OFFSET(U11,0,$S$6),"Bye") -> 4 | T11: =IF(OFFSET(V11,0,$S$6)<>"",OFFSET(V11,0,$S$6),"Bye") -> 13 | U11: 2 | W11: 2 | Y11: 2 | Z11: 7 | AA11: 2 | AB11: 7 | AC11: 4 | AE11: 4 | AG11: 4 | AI11: 4 | AK11: 4 | AL11: 13 | AM11: 4 | AN11: 13 | AO11: 4 | AP11: 13 | AQ11: 4 | AR11: 13 | AS11: 8 | AU11: 8 | AW11: 8 | AY11: 8 | BA11: 8 | BC11: 8 | BE11: 8 | BG11: 8 | BI11: 8 | BJ11: 25 | BK11: 8 | BL11: 25 | BM11: 8 | BN11: 25 | BO11: 8 | BP11: 25 | BQ11: 8 | BR11: 25 | BS11: 8 | BT11: 25 | BU11: 8 | BV11: 25 | BW11: 8 | BX11: 25 | BY11: 16 | CA11: 16 | CC11: 16 | CE11: 16 | CG11: 16 | CI11: 16 | CK11: 16 | CM11: 16 | CO11: 16 | CQ11: 16 | CS11: 16 | CU11: 16 | CW11: 16 | CY11: 16 | DA11: 16 | DC11: 16 | DE11: 16 | DF11: 49 | DG11: 16 | DH11: 49 | DI11: 16 | DJ11: 49 | DK11: 16 | DL11: 49 | DM11: 16 | DN11: 49 | DO11: 16 | DP11: 49 | DQ11: 16 | DR11: 49 | DS11: 16 | DT11: 49 | DU11: 16 | DV11: 49 | DW11: 16 | DX11: 49 | DY11: 16 | DZ11: 49 | EA11: 16 | EB11: 49 | EC11: 16 | ED11: 49 | EE11: 16 | EF11: 49 | EG11: 16 | EH11: 49 | EI11: 16 | EJ11: 49 | EK11: 32 | EM11: 32 | EO11: 32 | EQ11: 32 | ES11: 32 | EU11: 32 | EW11: 32 | EY11: 32 | FA11: 32 | FC11: 32 | FE11: 32 | FG11: 32 | FI11: 32 | FK11: 32 | FM11: 32 | FO11: 32 | FQ11: 32 | FS11: 32 | FU11: 32 | FW11: 32 | FY11: 32 | GA11: 32 | GC11: 32 | GE11: 32 | GG11: 32 | GI11: 32 | GK11: 32 | GM11: 32 | GO11: 32 | GQ11: 32 | GS11: 32 | GU11: 32 | GW11: 32 | GX11: 97 | GY11: 32 | GZ11: 97 | HA11: 32 | HB11: 97 | HC11: 32 | HD11: 97 | HE11: 32 | HF11: 97 | HG11: 32 | HH11: 97 | HI11: 32 | HJ11: 97 | HK11: 32 | HL11: 97 | HM11: 32 | HN11: 97 | HO11: 32 | HP11: 97 | HQ11: 32 | HR11: 97 | HS11: 32 | HT11: 97 | HU11: 32 | HV11: 97 | HW11: 32 | HX11: 97 | HY11: 32 | HZ11: 97 | IA11: 32 | IB11: 97 | IC11: 32 | ID11: 97 | IE11: 32 | IF11: 97 | IG11: 32 | IH11: 97 | II11: 32 | IJ11: 97 | IK11: 32 | IL11: 97 | IM11: 32 | IN11: 97 | IO11: 32 | IP11: 97 | IQ11: 32 | IR11: 97 | IS11: 32 | IT11: 97 | IU11: 32 | IV11: 97 | IW11: 32 | IX11: 97 | IY11: 32 | IZ11: 97 | JA11: 32 | JB11: 97 | JC11: 32 | JD11: 97 | JE11: 32 | JF11: 97 | JG11: 32 | JH11: 97
A12: 3 | B12: =IF(MOD(A11,$I$14*$I$16)=0,B11+1,B11) -> 1 | C12: =IF(C11<>$I$14,C11+1,1) -> 3 | D12: =VLOOKUP(C12,$K$15:$L$30,2,FALSE) -> Court 3 | E12: =IF(B12=B11,IF(C12>C11,E11,E11+$I$15),$I$13) -> 0.625 | F12: =IF(B12=B11,F11,F11+1) -> 42040 | H12: End Date (automatically shown) | I12: =MAX(P9:P24) -> 42040 | O12: =O11+1 -> 4 | P12: =IF(O12<>"",VLOOKUP(O12,$A$10:$F$266,6,FALSE),"") -> 42040 | Q12: =IF(O12<>"",VLOOKUP(O12,$A$10:$F$266,5,FALSE),"") -> 0.625 | R12: =IF(O12<>"",VLOOKUP(O12,$A$10:$F$266,4,FALSE),"") -> Court 4 | S12: =IF(OFFSET(U12,0,$S$6)<>"",OFFSET(U12,0,$S$6),"Bye") -> 5 | T12: =IF(OFFSET(V12,0,$S$6)<>"",OFFSET(V12,0,$S$6),"Bye") -> 12 | U12: 3 | W12: 3 | X12: 6 | Y12: 3 | Z12: 6 | AA12: 3 | AB12: 6 | AC12: 5 | AE12: 5 | AG12: 5 | AI12: 5 | AJ12: 12 | AK12: 5 | AL12: 12 | AM12: 5 | AN12: 12 | AO12: 5 | AP12: 12 | AQ12: 5 | AR12: 12 | AS12: 13 | AU12: 13 | AW12: 13 | AY12: 13 | AZ12: 20 | BA12: 13 | BB12: 20 | BC12: 13 | BD12: 20 | BE12: 13 | BF12: 20 | BG12: 13 | BH12: 20 | BI12: 13 | BJ12: 20 | BK12: 13 | BL12: 20 | BM12: 13 | BN12: 20 | BO12: 13 | BP12: 20 | BQ12: 13 | BR12: 20 | BS12: 13 | BT12: 20 | BU12: 13 | BV12: 20 | BW12: 13 | BX12: 20 | BY12: 17 | CA12: 17 | CC12: 17 | CE12: 17 | CG12: 17 | CI12: 17 | CK12: 17 | CM12: 17 | CO12: 17 | CQ12: 17 | CS12: 17 | CU12: 17 | CW12: 17 | CY12: 17 | DA12: 17 | DC12: 17 | DD12: 48 | DE12: 17 | DF12: 48 | DG12: 17 | DH12: 48 | DI12: 17 | DJ12: 48 | DK12: 17 | DL12: 48 | DM12: 17 | DN12: 48 | DO12: 17 | DP12: 48 | DQ12: 17 | DR12: 48 | DS12: 17 | DT12: 48 | DU12: 17 | DV12: 48 | DW12: 17 | DX12: 48 | DY12: 17 | DZ12: 48 | EA12: 17 | EB12: 48 | EC12: 17 | ED12: 48 | EE12: 17 | EF12: 48 | EG12: 17 | EH12: 48 | EI12: 17 | EJ12: 48 | EK12: 33 | EM12: 33 | EO12: 33 | EQ12: 33 | ES12: 33 | EU12: 33 | EW12: 33 | EY12: 33 | FA12: 33 | FC12: 33 | FE12: 33 | FG12: 33 | FI12: 33 | FK12: 33 | FM12: 33 | FO12: 33 | FQ12: 33 | FS12: 33 | FU12: 33 | FW12: 33 | FY12: 33 | GA12: 33 | GC12: 33 | GE12: 33 | GG12: 33 | GI12: 33 | GK12: 33 | GM12: 33 | GO12: 33 | GQ12: 33 | GS12: 33 | GU12: 33 | GV12: 96 | GW12: 33 | GX12: 96 | GY12: 33 | GZ12: 96 | HA12: 33 | HB12: 96 | HC12: 33 | HD12: 96 | HE12: 33 | HF12: 96 | HG12: 33 | HH12: 96 | HI12: 33 | HJ12: 96 | HK12: 33 | HL12: 96 | HM12: 33 | HN12: 96 | HO12: 33 | HP12: 96 | HQ12: 33 | HR12: 96 | HS12: 33 | HT12: 96 | HU12: 33 | HV12: 96 | HW12: 33 | HX12: 96 | HY12: 33 | HZ12: 96 | IA12: 33 | IB12: 96 | IC12: 33 | ID12: 96 | IE12: 33 | IF12: 96 | IG12: 33 | IH12: 96 | II12: 33 | IJ12: 96 | IK12: 33 | IL12: 96 | IM12: 33 | IN12: 96 | IO12: 33 | IP12: 96 | IQ12: 33 | IR12: 96 | IS12: 33 | IT12: 96 | IU12: 33 | IV12: 96 | IW12: 33 | IX12: 96 | IY12: 33 | IZ12: 96 | JA12: 33 | JB12: 96 | JC12: 33 | JD12: 96 | JE12: 33 | JF12: 96 | JG12: 33 | JH12: 96
A13: 4 | B13: =IF(MOD(A12,$I$14*$I$16)=0,B12+1,B12) -> 1 | C13: =IF(C12<>$I$14,C12+1,1) -> 4 | D13: =VLOOKUP(C13,$K$15:$L$30,2,FALSE) -> Court 4 | E13: =IF(B13=B12,IF(C13>C12,E12,E12+$I$15),$I$13) -> 0.625 | F13: =IF(B13=B12,F12,F12+1) -> 42040 | H13: Start Time per Day | I13: =Setup!C11 -> 0.625 | O13: =O12+1 -> 5 | P13: =IF(O13<>"",VLOOKUP(O13,$A$10:$F$266,6,FALSE),"") -> 42040 | Q13: =IF(O13<>"",VLOOKUP(O13,$A$10:$F$266,5,FALSE),"") -> 0.625 | R13: =IF(O13<>"",VLOOKUP(O13,$A$10:$F$266,4,FALSE),"") -> Court 5 | S13: =IF(OFFSET(U13,0,$S$6)<>"",OFFSET(U13,0,$S$6),"Bye") -> 2 | T13: =IF(OFFSET(V13,0,$S$6)<>"",OFFSET(V13,0,$S$6),"Bye") -> 15 | AC13: 2 | AE13: 2 | AG13: 2 | AI13: 2 | AK13: 2 | AM13: 2 | AO13: 2 | AP13: 15 | AQ13: 2 | AR13: 15 | AS13: 4 | AU13: 4 | AW13: 4 | AY13: 4 | BA13: 4 | BC13: 4 | BE13: 4 | BG13: 4 | BI13: 4 | BK13: 4 | BM13: 4 | BO13: 4 | BQ13: 4 | BR13: 29 | BS13: 4 | BT13: 29 | BU13: 4 | BV13: 29 | BW13: 4 | BX13: 29 | BY13: 9 | CA13: 9 | CC13: 9 | CE13: 9 | CG13: 9 | CI13: 9 | CK13: 9 | CM13: 9 | CO13: 9 | CQ13: 9 | CS13: 9 | CU13: 9 | CW13: 9 | CY13: 9 | DA13: 9 | DC13: 9 | DE13: 9 | DG13: 9 | DI13: 9 | DK13: 9 | DM13: 9 | DO13: 9 | DQ13: 9 | DS13: 9 | DT13: 56 | DU13: 9 | DV13: 56 | DW13: 9 | DX13: 56 | DY13: 9 | DZ13: 56 | EA13: 9 | EB13: 56 | EC13: 9 | ED13: 56 | EE13: 9 | EF13: 56 | EG13: 9 | EH13: 56 | EI13: 9 | EJ13: 56 | EK13: 16 | EM13: 16 | EO13: 16 | EQ13: 16 | ES13: 16 | EU13: 16 | EW13: 16 | EY13: 16 | FA13: 16 | FC13: 16 | FE13: 16 | FG13: 16 | FI13: 16 | FK13: 16 | FM13: 16 | FO13: 16 | FQ13: 16 | FS13: 16 | FU13: 16 | FW13: 16 | FY13: 16 | GA13: 16 | GC13: 16 | GE13: 16 | GG13: 16 | GI13: 16 | GK13: 16 | GM13: 16 | GO13: 16 | GQ13: 16 | GS13: 16 | GU13: 16 | GW13: 16 | GY13: 16 | HA13: 16 | HC13: 16 | HE13: 16 | HG13: 16 | HI13: 16 | HK13: 16 | HM13: 16 | HO13: 16 | HQ13: 16 | HS13: 16 | HU13: 16 | HW13: 16 | HY13: 16 | IA13: 16 | IC13: 16 | ID13: 113 | IE13: 16 | IF13: 113 | IG13: 16 | IH13: 113 | II13: 16 | IJ13: 113 | IK13: 16 | IL13: 113 | IM13: 16 | IN13: 113 | IO13: 16 | IP13: 113 | IQ13: 16 | IR13: 113 | IS13: 16 | IT13: 113 | IU13: 16 | IV13: 113 | IW13: 16 | IX13: 113 | IY13: 16 | IZ13: 113 | JA13: 16 | JB13: 113 | JC13: 16 | JD13: 113 | JE13: 16 | JF13: 113 | JG13: 16 | JH13: 113
A14: 5 | B14: =IF(MOD(A13,$I$14*$I$16)=0,B13+1,B13) -> 1 | C14: =IF(C13<>$I$14,C13+1,1) -> 5 | D14: =VLOOKUP(C14,$K$15:$L$30,2,FALSE) -> Court 5 | E14: =IF(B14=B13,IF(C14>C13,E13,E13+$I$15),$I$13) -> 0.625 | F14: =IF(B14=B13,F13,F13+1) -> 42040 | H14: Number of Venues | I14: =Setup!C12 -> 16 | K14: Venue | O14: =O13+1 -> 6 | P14: =IF(O14<>"",VLOOKUP(O14,$A$10:$F$266,6,FALSE),"") -> 42040 | Q14: =IF(O14<>"",VLOOKUP(O14,$A$10:$F$266,5,FALSE),"") -> 0.625 | R14: =IF(O14<>"",VLOOKUP(O14,$A$10:$F$266,4,FALSE),"") -> Court 6 | S14: =IF(OFFSET(U14,0,$S$6)<>"",OFFSET(U14,0,$S$6),"Bye") -> 7 | T14: =IF(OFFSET(V14,0,$S$6)<>"",OFFSET(V14,0,$S$6),"Bye") -> 10 | AC14: 7 | AE14: 7 | AF14: 10 | AG14: 7 | AH14: 10 | AI14: 7 | AJ14: 10 | AK14: 7 | AL14: 10 | AM14: 7 | AN14: 10 | AO14: 7 | AP14: 10 | AQ14: 7 | AR14: 10 | AS14: 12 | AU14: 12 | AW14: 12 | AY14: 12 | BA14: 12 | BB14: 21 | BC14: 12 | BD14: 21 | BE14: 12 | BF14: 21 | BG14: 12 | BH14: 21 | BI14: 12 | BJ14: 21 | BK14: 12 | BL14: 21 | BM14: 12 | BN14: 21 | BO14: 12 | BP14: 21 | BQ14: 12 | BR14: 21 | BS14: 12 | BT14: 21 | BU14: 12 | BV14: 21 | BW14: 12 | BX14: 21 | BY14: 24 | CA14: 24 | CC14: 24 | CE14: 24 | CG14: 24 | CI14: 24 | CK14: 24 | CM14: 24 | CO14: 24 | CP14: 41 | CQ14: 24 | CR14: 41 | CS14: 24 | CT14: 41 | CU14: 24 | CV14: 41 | CW14: 24 | CX14: 41 | CY14: 24 | CZ14: 41 | DA14: 24 | DB14: 41 | DC14: 24 | DD14: 41 | DE14: 24 | DF14: 41 | DG14: 24 | DH14: 41 | DI14: 24 | DJ14: 41 | DK14: 24 | DL14: 41 | DM14: 24 | DN14: 41 | DO14: 24 | DP14: 41 | DQ14: 24 | DR14: 41 | DS14: 24 | DT14: 41 | DU14: 24 | DV14: 41 | DW14: 24 | DX14: 41 | DY14: 24 | DZ14: 41 | EA14: 24 | EB14: 41 | EC14: 24 | ED14: 41 | EE14: 24 | EF14: 41 | EG14: 24 | EH14: 41 | EI14: 24 | EJ14: 41 | EK14: 49 | EM14: 49 | EO14: 49 | EQ14: 49 | ES14: 49 | EU14: 49 | EW14: 49 | EY14: 49 | FA14: 49 | FC14: 49 | FE14: 49 | FG14: 49 | FI14: 49 | FK14: 49 | FM14: 49 | FO14: 49 | FP14: 80 | FQ14: 49 | FR14: 80 | FS14: 49 | FT14: 80 | FU14: 49 | FV14: 80 | FW14: 49 | FX14: 80 | FY14: 49 | FZ14: 80 | GA14: 49 | GB14: 80 | GC14: 49 | GD14: 80 | GE14: 49 | GF14: 80 | GG14: 49 | GH14: 80 | GI14: 49 | GJ14: 80 | GK14: 49 | GL14: 80 | GM14: 49 | GN14: 80 | GO14: 49 | GP14: 80 | GQ14: 49 | GR14: 80 | GS14: 49 | GT14: 80 | GU14: 49 | GV14: 80 | GW14: 49 | GX14: 80 | GY14: 49 | GZ14: 80 | HA14: 49 | HB14: 80 | HC14: 49 | HD14: 80 | HE14: 49 | HF14: 80 | HG14: 49 | HH14: 80 | HI14: 49 | HJ14: 80 | HK14: 49 | HL14: 80 | HM14: 49 | HN14: 80 | HO14: 49 | HP14: 80 | HQ14: 49 | HR14: 80 | HS14: 49 | HT14: 80 | HU14: 49 | HV14: 80 | HW14: 49 | HX14: 80 | HY14: 49 | HZ14: 80 | IA14: 49 | IB14: 80 | IC14: 49 | ID14: 80 | IE14: 49 | IF14: 80 | IG14: 49 | IH14: 80 | II14: 49 | IJ14: 80 | IK14: 49 | IL14: 80 | IM14: 49 | IN14: 80 | IO14: 49 | IP14: 80 | IQ14: 49 | IR14: 80 | IS14: 49 | IT14: 80 | IU14: 49 | IV14: 80 | IW14: 49 | IX14: 80 | IY14: 49 | IZ14: 80 | JA14: 49 | JB14: 80 | JC14: 49 | JD14: 80 | JE14: 49 | JF14: 80 | JG14: 49 | JH14: 80
A15: 6 | B15: =IF(MOD(A14,$I$14*$I$16)=0,B14+1,B14) -> 1 | C15: =IF(C14<>$I$14,C14+1,1) -> 6 | D15: =VLOOKUP(C15,$K$15:$L$30,2,FALSE) -> Court 6 | E15: =IF(B15=B14,IF(C15>C14,E14,E14+$I$15),$I$13) -> 0.625 | F15: =IF(B15=B14,F14,F14+1) -> 42040 | H15: Time Interval between matches in the same venue | I15: =Setup!C13 -> 0.083333333 | K15: =Setup!E9 -> 1 | L15: =Setup!F9 -> Court 1 | O15: =O14+1 -> 7 | P15: =IF(O15<>"",VLOOKUP(O15,$A$10:$F$266,6,FALSE),"") -> 42040 | Q15: =IF(O15<>"",VLOOKUP(O15,$A$10:$F$266,5,FALSE),"") -> 0.625 | R15: =IF(O15<>"",VLOOKUP(O15,$A$10:$F$266,4,FALSE),"") -> Court 7 | S15: =IF(OFFSET(U15,0,$S$6)<>"",OFFSET(U15,0,$S$6),"Bye") -> 3 | T15: =IF(OFFSET(V15,0,$S$6)<>"",OFFSET(V15,0,$S$6),"Bye") -> 14 | AC15: 3 | AE15: 3 | AG15: 3 | AI15: 3 | AK15: 3 | AM15: 3 | AN15: 14 | AO15: 3 | AP15: 14 | AQ15: 3 | AR15: 14 | AS15: 5 | AU15: 5 | AW15: 5 | AY15: 5 | BA15: 5 | BC15: 5 | BE15: 5 | BG15: 5 | BI15: 5 | BK15: 5 | BM15: 5 | BO15: 5 | BP15: 28 | BQ15: 5 | BR15: 28 | BS15: 5 | BT15: 28 | BU15: 5 | BV15: 28 | BW15: 5 | BX15: 28 | BY15: 25 | CA15: 25 | CC15: 25 | CE15: 25 | CG15: 25 | CI15: 25 | CK15: 25 | CM15: 25 | CN15: 40 | CO15: 25 | CP15: 40 | CQ15: 25 | CR15: 40 | CS15: 25 | CT15: 40 | CU15: 25 | CV15: 40 | CW15: 25 | CX15: 40 | CY15: 25 | CZ15: 40 | DA15: 25 | DB15: 40 | DC15: 25 | DD15: 40 | DE15: 25 | DF15: 40 | DG15: 25 | DH15: 40 | DI15: 25 | DJ15: 40 | DK15: 25 | DL15: 40 | DM15: 25 | DN15: 40 | DO15: 25 | DP15: 40 | DQ15: 25 | DR15: 40 | DS15: 25 | DT15: 40 | DU15: 25 | DV15: 40 | DW15: 25 | DX15: 40 | DY15: 25 | DZ15: 40 | EA15: 25 | EB15: 40 | EC15: 25 | ED15: 40 | EE15: 25 | EF15: 40 | EG15: 25 | EH15: 40 | EI15: 25 | EJ15: 40 | EK15: 17 | EM15: 17 | EO15: 17 | EQ15: 17 | ES15: 17 | EU15: 17 | EW15: 17 | EY15: 17 | FA15: 17 | FC15: 17 | FE15: 17 | FG15: 17 | FI15: 17 | FK15: 17 | FM15: 17 | FO15: 17 | FQ15: 17 | FS15: 17 | FU15: 17 | FW15: 17 | FY15: 17 | GA15: 17 | GC15: 17 | GE15: 17 | GG15: 17 | GI15: 17 | GK15: 17 | GM15: 17 | GO15: 17 | GQ15: 17 | GS15: 17 | GU15: 17 | GW15: 17 | GY15: 17 | HA15: 17 | HC15: 17 | HE15: 17 | HG15: 17 | HI15: 17 | HK15: 17 | HM15: 17 | HO15: 17 | HQ15: 17 | HS15: 17 | HU15: 17 | HW15: 17 | HY15: 17 | IA15: 17 | IB15: 112 | IC15: 17 | ID15: 112 | IE15: 17 | IF15: 112 | IG15: 17 | IH15: 112 | II15: 17 | IJ15: 112 | IK15: 17 | IL15: 112 | IM15: 17 | IN15: 112 | IO15: 17 | IP15: 112 | IQ15: 17 | IR15: 112 | IS15: 17 | IT15: 112 | IU15: 17 | IV15: 112 | IW15: 17 | IX15: 112 | IY15: 17 | IZ15: 112 | JA15: 17 | JB15: 112 | JC15: 17 | JD15: 112 | JE15: 17 | JF15: 112 | JG15: 17 | JH15: 112
A16: 7 | B16: =IF(MOD(A15,$I$14*$I$16)=0,B15+1,B15) -> 1 | C16: =IF(C15<>$I$14,C15+1,1) -> 7 | D16: =VLOOKUP(C16,$K$15:$L$30,2,FALSE) -> Court 7 | E16: =IF(B16=B15,IF(C16>C15,E15,E15+$I$15),$I$13) -> 0.625 | F16: =IF(B16=B15,F15,F15+1) -> 42040 | H16: Maximum usage per Venues per Day | I16: =Setup!C14 -> 4 | K16: =Setup!E10 -> 2 | L16: =Setup!F10 -> Court 2 | O16: =O15+1 -> 8 | P16: =IF(O16<>"",VLOOKUP(O16,$A$10:$F$266,6,FALSE),"") -> 42040 | Q16: =IF(O16<>"",VLOOKUP(O16,$A$10:$F$266,5,FALSE),"") -> 0.625 | R16: =IF(O16<>"",VLOOKUP(O16,$A$10:$F$266,4,FALSE),"") -> Court 8 | S16: =IF(OFFSET(U16,0,$S$6)<>"",OFFSET(U16,0,$S$6),"Bye") -> 6 | T16: =IF(OFFSET(V16,0,$S$6)<>"",OFFSET(V16,0,$S$6),"Bye") -> 11 | AC16: 6 | AE16: 6 | AG16: 6 | AH16: 11 | AI16: 6 | AJ16: 11 | AK16: 6 | AL16: 11 | AM16: 6 | AN16: 11 | AO16: 6 | AP16: 11 | AQ16: 6 | AR16: 11 | AS16: 9 | AU16: 9 | AW16: 9 | AY16: 9 | BA16: 9 | BC16: 9 | BE16: 9 | BG16: 9 | BH16: 24 | BI16: 9 | BJ16: 24 | BK16: 9 | BL16: 24 | BM16: 9 | BN16: 24 | BO16: 9 | BP16: 24 | BQ16: 9 | BR16: 24 | BS16: 9 | BT16: 24 | BU16: 9 | BV16: 24 | BW16: 9 | BX16: 24 | BY16: 8 | CA16: 8 | CC16: 8 | CE16: 8 | CG16: 8 | CI16: 8 | CK16: 8 | CM16: 8 | CO16: 8 | CQ16: 8 | CS16: 8 | CU16: 8 | CW16: 8 | CY16: 8 | DA16: 8 | DC16: 8 | DE16: 8 | DG16: 8 | DI16: 8 | DK16: 8 | DM16: 8 | DO16: 8 | DQ16: 8 | DS16: 8 | DU16: 8 | DV16: 57 | DW16: 8 | DX16: 57 | DY16: 8 | DZ16: 57 | EA16: 8 | EB16: 57 | EC16: 8 | ED16: 57 | EE16: 8 | EF16: 57 | EG16: 8 | EH16: 57 | EI16: 8 | EJ16: 57 | EK16: 48 | EM16: 48 | EO16: 48 | EQ16: 48 | ES16: 48 | EU16: 48 | EW16: 48 | EY16: 48 | FA16: 48 | FC16: 48 | FE16: 48 | FG16: 48 | FI16: 48 | FK16: 48 | FM16: 48 | FO16: 48 | FQ16: 48 | FR16: 81 | FS16: 48 | FT16: 81 | FU16: 48 | FV16: 81 | FW16: 48 | FX16: 81 | FY16: 48 | FZ16: 81 | GA16: 48 | GB16: 81 | GC16: 48 | GD16: 81 | GE16: 48 | GF16: 81 | GG16: 48 | GH16: 81 | GI16: 48 | GJ16: 81 | GK16: 48 | GL16: 81 | GM16: 48 | GN16: 81 | GO16: 48 | GP16: 81 | GQ16: 48 | GR16: 81 | GS16: 48 | GT16: 81 | GU16: 48 | GV16: 81 | GW16: 48 | GX16: 81 | GY16: 48 | GZ16: 81 | HA16: 48 | HB16: 81 | HC16: 48 | HD16: 81 | HE16: 48 | HF16: 81 | HG16: 48 | HH16: 81 | HI16: 48 | HJ16: 81 | HK16: 48 | HL16: 81 | HM16: 48 | HN16: 81 | HO16: 48 | HP16: 81 | HQ16: 48 | HR16: 81 | HS16: 48 | HT16: 81 | HU16: 48 | HV16: 81 | HW16: 48 | HX16: 81 | HY16: 48 | HZ16: 81 | IA16: 48 | IB16: 81 | IC16: 48 | ID16: 81 | IE16: 48 | IF16: 81 | IG16: 48 | IH16: 81 | II16: 48 | IJ16: 81 | IK16: 48 | IL16: 81 | IM16: 48 | IN16: 81 | IO16: 48 | IP16: 81 | IQ16: 48 | IR16: 81 | IS16: 48 | IT16: 81 | IU16: 48 | IV16: 81 | IW16: 48 | IX16: 81 | IY16: 48 | IZ16: 81 | JA16: 48 | JB16: 81 | JC16: 48 | JD16: 81 | JE16: 48 | JF16: 81 | JG16: 48 | JH16: 81
A17: 8 | B17: =IF(MOD(A16,$I$14*$I$16)=0,B16+1,B16) -> 1 | C17: =IF(C16<>$I$14,C16+1,1) -> 8 | D17: =VLOOKUP(C17,$K$15:$L$30,2,FALSE) -> Court 8 | E17: =IF(B17=B16,IF(C17>C16,E16,E16+$I$15),$I$13) -> 0.625 | F17: =IF(B17=B16,F16,F16+1) -> 42040 | K17: =Setup!E11 -> 3 | L17: =Setup!F11 -> Court 3 | O17: =O16+1 -> 9 | P17: =IF(O17<>"",VLOOKUP(O17,$A$10:$F$266,6,FALSE),"") -> 42040 | Q17: =IF(O17<>"",VLOOKUP(O17,$A$10:$F$266,5,FALSE),"") -> 0.625 | R17: =IF(O17<>"",VLOOKUP(O17,$A$10:$F$266,4,FALSE),"") -> Court 9 | S17: =IF(OFFSET(U17,0,$S$6)<>"",OFFSET(U17,0,$S$6),"Bye") -> Bye | T17: =IF(OFFSET(V17,0,$S$6)<>"",OFFSET(V17,0,$S$6),"Bye") -> Bye | AS17: 2 | AU17: 2 | AW17: 2 | AY17: 2 | BA17: 2 | BC17: 2 | BE17: 2 | BG17: 2 | BI17: 2 | BK17: 2 | BM17: 2 | BO17: 2 | BQ17: 2 | BS17: 2 | BU17: 2 | BV17: 31 | BW17: 2 | BX17: 31 | BY17: 5 | CA17: 5 | CC17: 5 | CE17: 5 | CG17: 5 | CI17: 5 | CK17: 5 | CM17: 5 | CO17: 5 | CQ17: 5 | CS17: 5 | CU17: 5 | CW17: 5 | CY17: 5 | DA17: 5 | DC17: 5 | DE17: 5 | DG17: 5 | DI17: 5 | DK17: 5 | DM17: 5 | DO17: 5 | DQ17: 5 | DS17: 5 | DU17: 5 | DW17: 5 | DY17: 5 | EA17: 5 | EB17: 60 | EC17: 5 | ED17: 60 | EE17: 5 | EF17: 60 | EG17: 5 | EH17: 60 | EI17: 5 | EJ17: 60 | EK17: 9 | EM17: 9 | EO17: 9 | EQ17: 9 | ES17: 9 | EU17: 9 | EW17: 9 | EY17: 9 | FA17: 9 | FC17: 9 | FE17: 9 | FG17: 9 | FI17: 9 | FK17: 9 | FM17: 9 | FO17: 9 | FQ17: 9 | FS17: 9 | FU17: 9 | FW17: 9 | FY17: 9 | GA17: 9 | GC17: 9 | GE17: 9 | GG17: 9 | GI17: 9 | GK17: 9 | GM17: 9 | GO17: 9 | GQ17: 9 | GS17: 9 | GU17: 9 | GW17: 9 | GY17: 9 | HA17: 9 | HC17: 9 | HE17: 9 | HG17: 9 | HI17: 9 | HK17: 9 | HM17: 9 | HO17: 9 | HQ17: 9 | HS17: 9 | HU17: 9 | HW17: 9 | HY17: 9 | IA17: 9 | IC17: 9 | IE17: 9 | IG17: 9 | II17: 9 | IK17: 9 | IM17: 9 | IO17: 9 | IQ17: 9 | IR17: 120 | IS17: 9 | IT17: 120 | IU17: 9 | IV17: 120 | IW17: 9 | IX17: 120 | IY17: 9 | IZ17: 120 | JA17: 9 | JB17: 120 | JC17: 9 | JD17: 120 | JE17: 9 | JF17: 120 | JG17: 9 | JH17: 120
A18: 9 | B18: =IF(MOD(A17,$I$14*$I$16)=0,B17+1,B17) -> 1 | C18: =IF(C17<>$I$14,C17+1,1) -> 9 | D18: =VLOOKUP(C18,$K$15:$L$30,2,FALSE) -> Court 9 | E18: =IF(B18=B17,IF(C18>C17,E17,E17+$I$15),$I$13) -> 0.625 | F18: =IF(B18=B17,F17,F17+1) -> 42040 | K18: =Setup!E12 -> 4 | L18: =Setup!F12 -> Court 4 | O18: =O17+1 -> 10 | P18: =IF(O18<>"",VLOOKUP(O18,$A$10:$F$266,6,FALSE),"") -> 42040 | Q18: =IF(O18<>"",VLOOKUP(O18,$A$10:$F$266,5,FALSE),"") -> 0.625 | R18: =IF(O18<>"",VLOOKUP(O18,$A$10:$F$266,4,FALSE),"") -> Court 10 | S18: =IF(OFFSET(U18,0,$S$6)<>"",OFFSET(U18,0,$S$6),"Bye") -> Bye | T18: =IF(OFFSET(V18,0,$S$6)<>"",OFFSET(V18,0,$S$6),"Bye") -> Bye | AS18: 15 | AU18: 15 | AV18: 18 | AW18: 15 | AX18: 18 | AY18: 15 | AZ18: 18 | BA18: 15 | BB18: 18 | BC18: 15 | BD18: 18 | BE18: 15 | BF18: 18 | BG18: 15 | BH18: 18 | BI18: 15 | BJ18: 18 | BK18: 15 | BL18: 18 | BM18: 15 | BN18: 18 | BO18: 15 | BP18: 18 | BQ18: 15 | BR18: 18 | BS18: 15 | BT18: 18 | BU18: 15 | BV18: 18 | BW18: 15 | BX18: 18 | BY18: 28 | CA18: 28 | CC18: 28 | CE18: 28 | CG18: 28 | CH18: 37 | CI18: 28 | CJ18: 37 | CK18: 28 | CL18: 37 | CM18: 28 | CN18: 37 | CO18: 28 | CP18: 37 | CQ18: 28 | CR18: 37 | CS18: 28 | CT18: 37 | CU18: 28 | CV18: 37 | CW18: 28 | CX18: 37 | CY18: 28 | CZ18: 37 | DA18: 28 | DB18: 37 | DC18: 28 | DD18: 37 | DE18: 28 | DF18: 37 | DG18: 28 | DH18: 37 | DI18: 28 | DJ18: 37 | DK18: 28 | DL18: 37 | DM18: 28 | DN18: 37 | DO18: 28 | DP18: 37 | DQ18: 28 | DR18: 37 | DS18: 28 | DT18: 37 | DU18: 28 | DV18: 37 | DW18: 28 | DX18: 37 | DY18: 28 | DZ18: 37 | EA18: 28 | EB18: 37 | EC18: 28 | ED18: 37 | EE18: 28 | EF18: 37 | EG18: 28 | EH18: 37 | EI18: 28 | EJ18: 37 | EK18: 56 | EM18: 56 | EO18: 56 | EQ18: 56 | ES18: 56 | EU18: 56 | EW18: 56 | EY18: 56 | FA18: 56 | FB18: 73 | FC18: 56 | FD18: 73 | FE18: 56 | FF18: 73 | FG18: 56 | FH18: 73 | FI18: 56 | FJ18: 73 | FK18: 56 | FL18: 73 | FM18: 56 | FN18: 73 | FO18: 56 | FP18: 73 | FQ18: 56 | FR18: 73 | FS18: 56 | FT18: 73 | FU18: 56 | FV18: 73 | FW18: 56 | FX18: 73 | FY18: 56 | FZ18: 73 | GA18: 56 | GB18: 73 | GC18: 56 | GD18: 73 | GE18: 56 | GF18: 73 | GG18: 56 | GH18: 73 | GI18: 56 | GJ18: 73 | GK18: 56 | GL18: 73 | GM18: 56 | GN18: 73 | GO18: 56 | GP18: 73 | GQ18: 56 | GR18: 73 | GS18: 56 | GT18: 73 | GU18: 56 | GV18: 73 | GW18: 56 | GX18: 73 | GY18: 56 | GZ18: 73 | HA18: 56 | HB18: 73 | HC18: 56 | HD18: 73 | HE18: 56 | HF18: 73 | HG18: 56 | HH18: 73 | HI18: 56 | HJ18: 73 | HK18: 56 | HL18: 73 | HM18: 56 | HN18: 73 | HO18: 56 | HP18: 73 | HQ18: 56 | HR18: 73 | HS18: 56 | HT18: 73 | HU18: 56 | HV18: 73 | HW18: 56 | HX18: 73 | HY18: 56 | HZ18: 73 | IA18: 56 | IB18: 73 | IC18: 56 | ID18: 73 | IE18: 56 | IF18: 73 | IG18: 56 | IH18: 73 | II18: 56 | IJ18: 73 | IK18: 56 | IL18: 73 | IM18: 56 | IN18: 73 | IO18: 56 | IP18: 73 | IQ18: 56 | IR18: 73 | IS18: 56 | IT18: 73 | IU18: 56 | IV18: 73 | IW18: 56 | IX18: 73 | IY18: 56 | IZ18: 73 | JA18: 56 | JB18: 73 | JC18: 56 | JD18: 73 | JE18: 56 | JF18: 73 | JG18: 56 | JH18: 73
A19: 10 | B19: =IF(MOD(A18,$I$14*$I$16)=0,B18+1,B18) -> 1 | C19: =IF(C18<>$I$14,C18+1,1) -> 10 | D19: =VLOOKUP(C19,$K$15:$L$30,2,FALSE) -> Court 10 | E19: =IF(B19=B18,IF(C19>C18,E18,E18+$I$15),$I$13) -> 0.625 | F19: =IF(B19=B18,F18,F18+1) -> 42040 | K19: =Setup!E13 -> 5 | L19: =Setup!F13 -> Court 5 | O19: =O18+1 -> 11 | P19: =IF(O19<>"",VLOOKUP(O19,$A$10:$F$266,6,FALSE),"") -> 42040 | Q19: =IF(O19<>"",VLOOKUP(O19,$A$10:$F$266,5,FALSE),"") -> 0.625 | R19: =IF(O19<>"",VLOOKUP(O19,$A$10:$F$266,4,FALSE),"") -> Court 11 | S19: =IF(OFFSET(U19,0,$S$6)<>"",OFFSET(U19,0,$S$6),"Bye") -> Bye | T19: =IF(OFFSET(V19,0,$S$6)<>"",OFFSET(V19,0,$S$6),"Bye") -> Bye | AS19: 7 | AU19: 7 | AW19: 7 | AY19: 7 | BA19: 7 | BC19: 7 | BE19: 7 | BG19: 7 | BI19: 7 | BK19: 7 | BL19: 26 | BM19: 7 | BN19: 26 | BO19: 7 | BP19: 26 | BQ19: 7 | BR19: 26 | BS19: 7 | BT19: 26 | BU19: 7 | BV19: 26 | BW19: 7 | BX19: 26 | BY19: 12 | CA19: 12 | CC19: 12 | CE19: 12 | CG19: 12 | CI19: 12 | CK19: 12 | CM19: 12 | CO19: 12 | CQ19: 12 | CS19: 12 | CU19: 12 | CW19: 12 | CY19: 12 | DA19: 12 | DC19: 12 | DE19: 12 | DG19: 12 | DI19: 12 | DK19: 12 | DM19: 12 | DN19: 53 | DO19: 12 | DP19: 53 | DQ19: 12 | DR19: 53 | DS19: 12 | DT19: 53 | DU19: 12 | DV19: 53 | DW19: 12 | DX19: 53 | DY19: 12 | DZ19: 53 | EA19: 12 | EB19: 53 | EC19: 12 | ED19: 53 | EE19: 12 | EF19: 53 | EG19: 12 | EH19: 53 | EI19: 12 | EJ19: 53 | EK19: 24 | EM19: 24 | EO19: 24 | EQ19: 24 | ES19: 24 | EU19: 24 | EW19: 24 | EY19: 24 | FA19: 24 | FC19: 24 | FE19: 24 | FG19: 24 | FI19: 24 | FK19: 24 | FM19: 24 | FO19: 24 | FQ19: 24 | FS19: 24 | FU19: 24 | FW19: 24 | FY19: 24 | GA19: 24 | GC19: 24 | GE19: 24 | GG19: 24 | GI19: 24 | GK19: 24 | GM19: 24 | GO19: 24 | GQ19: 24 | GS19: 24 | GU19: 24 | GW19: 24 | GY19: 24 | HA19: 24 | HC19: 24 | HE19: 24 | HG19: 24 | HI19: 24 | HK19: 24 | HM19: 24 | HN19: 105 | HO19: 24 | HP19: 105 | HQ19: 24 | HR19: 105 | HS19: 24 | HT19: 105 | HU19: 24 | HV19: 105 | HW19: 24 | HX19: 105 | HY19: 24 | HZ19: 105 | IA19: 24 | IB19: 105 | IC19: 24 | ID19: 105 | IE19: 24 | IF19: 105 | IG19: 24 | IH19: 105 | II19: 24 | IJ19: 105 | IK19: 24 | IL19: 105 | IM19: 24 | IN19: 105 | IO19: 24 | IP19: 105 | IQ19: 24 | IR19: 105 | IS19: 24 | IT19: 105 | IU19: 24 | IV19: 105 | IW19: 24 | IX19: 105 | IY19: 24 | IZ19: 105 | JA19: 24 | JB19: 105 | JC19: 24 | JD19: 105 | JE19: 24 | JF19: 105 | JG19: 24 | JH19: 105
A20: 11 | B20: =IF(MOD(A19,$I$14*$I$16)=0,B19+1,B19) -> 1 | C20: =IF(C19<>$I$14,C19+1,1) -> 11 | D20: =VLOOKUP(C20,$K$15:$L$30,2,FALSE) -> Court 11 | E20: =IF(B20=B19,IF(C20>C19,E19,E19+$I$15),$I$13) -> 0.625 | F20: =IF(B20=B19,F19,F19+1) -> 42040 | K20: =Setup!E14 -> 6 | L20: =Setup!F14 -> Court 6 | O20: =O19+1 -> 12 | P20: =IF(O20<>"",VLOOKUP(O20,$A$10:$F$266,6,FALSE),"") -> 42040 | Q20: =IF(O20<>"",VLOOKUP(O20,$A$10:$F$266,5,FALSE),"") -> 0.625 | R20: =IF(O20<>"",VLOOKUP(O20,$A$10:$F$266,4,FALSE),"") -> Court 12 | S20: =IF(OFFSET(U20,0,$S$6)<>"",OFFSET(U20,0,$S$6),"Bye") -> Bye | T20: =IF(OFFSET(V20,0,$S$6)<>"",OFFSET(V20,0,$S$6),"Bye") -> Bye | AS20: 14 | AU20: 14 | AW20: 14 | AX20: 19 | AY20: 14 | AZ20: 19 | BA20: 14 | BB20: 19 | BC20: 14 | BD20: 19 | BE20: 14 | BF20: 19 | BG20: 14 | BH20: 19 | BI20: 14 | BJ20: 19 | BK20: 14 | BL20: 19 | BM20: 14 | BN20: 19 | BO20: 14 | BP20: 19 | BQ20: 14 | BR20: 19 | BS20: 14 | BT20: 19 | BU20: 14 | BV20: 19 | BW20: 14 | BX20: 19 | BY20: 21 | CA20: 21 | CC20: 21 | CE20: 21 | CG20: 21 | CI20: 21 | CK20: 21 | CM20: 21 | CO20: 21 | CQ20: 21 | CS20: 21 | CU20: 21 | CV20: 44 | CW20: 21 | CX20: 44 | CY20: 21 | CZ20: 44 | DA20: 21 | DB20: 44 | DC20: 21 | DD20: 44 | DE20: 21 | DF20: 44 | DG20: 21 | DH20: 44 | DI20: 21 | DJ20: 44 | DK20: 21 | DL20: 44 | DM20: 21 | DN20: 44 | DO20: 21 | DP20: 44 | DQ20: 21 | DR20: 44 | DS20: 21 | DT20: 44 | DU20: 21 | DV20: 44 | DW20: 21 | DX20: 44 | DY20: 21 | DZ20: 44 | EA20: 21 | EB20: 44 | EC20: 21 | ED20: 44 | EE20: 21 | EF20: 44 | EG20: 21 | EH20: 44 | EI20: 21 | EJ20: 44 | EK20: 41 | EM20: 41 | EO20: 41 | EQ20: 41 | ES20: 41 | EU20: 41 | EW20: 41 | EY20: 41 | FA20: 41 | FC20: 41 | FE20: 41 | FG20: 41 | FI20: 41 | FK20: 41 | FM20: 41 | FO20: 41 | FQ20: 41 | FS20: 41 | FU20: 41 | FW20: 41 | FY20: 41 | GA20: 41 | GC20: 41 | GE20: 41 | GF20: 88 | GG20: 41 | GH20: 88 | GI20: 41 | GJ20: 88 | GK20: 41 | GL20: 88 | GM20: 41 | GN20: 88 | GO20: 41 | GP20: 88 | GQ20: 41 | GR20: 88 | GS20: 41 | GT20: 88 | GU20: 41 | GV20: 88 | GW20: 41 | GX20: 88 | GY20: 41 | GZ20: 88 | HA20: 41 | HB20: 88 | HC20: 41 | HD20: 88 | HE20: 41 | HF20: 88 | HG20: 41 | HH20: 88 | HI20: 41 | HJ20: 88 | HK20: 41 | HL20: 88 | HM20: 41 | HN20: 88 | HO20: 41 | HP20: 88 | HQ20: 41 | HR20: 88 | HS20: 41 | HT20: 88 | HU20: 41 | HV20: 88 | HW20: 41 | HX20: 88 | HY20: 41 | HZ20: 88 | IA20: 41 | IB20: 88 | IC20: 41 | ID20: 88 | IE20: 41 | IF20: 88 | IG20: 41 | IH20: 88 | II20: 41 | IJ20: 88 | IK20: 41 | IL20: 88 | IM20: 41 | IN20: 88 | IO20: 41 | IP20: 88 | IQ20: 41 | IR20: 88 | IS20: 41 | IT20: 88 | IU20: 41 | IV20: 88 | IW20: 41 | IX20: 88 | IY20: 41 | IZ20: 88 | JA20: 41 | JB20: 88 | JC20: 41 | JD20: 88 | JE20: 41 | JF20: 88 | JG20: 41 | JH20: 88
A21: 12 | B21: =IF(MOD(A20,$I$14*$I$16)=0,B20+1,B20) -> 1 | C21: =IF(C20<>$I$14,C20+1,1) -> 12 | D21: =VLOOKUP(C21,$K$15:$L$30,2,FALSE) -> Court 12 | E21: =IF(B21=B20,IF(C21>C20,E20,E20+$I$15),$I$13) -> 0.625 | F21: =IF(B21=B20,F20,F20+1) -> 42040 | K21: =Setup!E15 -> 7 | L21: =Setup!F15 -> Court 7 | O21: =O20+1 -> 13 | P21: =IF(O21<>"",VLOOKUP(O21,$A$10:$F$266,6,FALSE),"") -> 42040 | Q21: =IF(O21<>"",VLOOKUP(O21,$A$10:$F$266,5,FALSE),"") -> 0.625 | R21: =IF(O21<>"",VLOOKUP(O21,$A$10:$F$266,4,FALSE),"") -> Court 13 | S21: =IF(OFFSET(U21,0,$S$6)<>"",OFFSET(U21,0,$S$6),"Bye") -> Bye | T21: =IF(OFFSET(V21,0,$S$6)<>"",OFFSET(V21,0,$S$6),"Bye") -> Bye | AS21: 3 | AU21: 3 | AW21: 3 | AY21: 3 | BA21: 3 | BC21: 3 | BE21: 3 | BG21: 3 | BI21: 3 | BK21: 3 | BM21: 3 | BO21: 3 | BQ21: 3 | BS21: 3 | BT21: 30 | BU21: 3 | BV21: 30 | BW21: 3 | BX21: 30 | BY21: 13 | CA21: 13 | CC21: 13 | CE21: 13 | CG21: 13 | CI21: 13 | CK21: 13 | CM21: 13 | CO21: 13 | CQ21: 13 | CS21: 13 | CU21: 13 | CW21: 13 | CY21: 13 | DA21: 13 | DC21: 13 | DE21: 13 | DG21: 13 | DI21: 13 | DK21: 13 | DL21: 52 | DM21: 13 | DN21: 52 | DO21: 13 | DP21: 52 | DQ21: 13 | DR21: 52 | DS21: 13 | DT21: 52 | DU21: 13 | DV21: 52 | DW21: 13 | DX21: 52 | DY21: 13 | DZ21: 52 | EA21: 13 | EB21: 52 | EC21: 13 | ED21: 52 | EE21: 13 | EF21: 52 | EG21: 13 | EH21: 52 | EI21: 13 | EJ21: 52 | EK21: 25 | EM21: 25 | EO21: 25 | EQ21: 25 | ES21: 25 | EU21: 25 | EW21: 25 | EY21: 25 | FA21: 25 | FC21: 25 | FE21: 25 | FG21: 25 | FI21: 25 | FK21: 25 | FM21: 25 | FO21: 25 | FQ21: 25 | FS21: 25 | FU21: 25 | FW21: 25 | FY21: 25 | GA21: 25 | GC21: 25 | GE21: 25 | GG21: 25 | GI21: 25 | GK21: 25 | GM21: 25 | GO21: 25 | GQ21: 25 | GS21: 25 | GU21: 25 | GW21: 25 | GY21: 25 | HA21: 25 | HC21: 25 | HE21: 25 | HG21: 25 | HI21: 25 | HK21: 25 | HL21: 104 | HM21: 25 | HN21: 104 | HO21: 25 | HP21: 104 | HQ21: 25 | HR21: 104 | HS21: 25 | HT21: 104 | HU21: 25 | HV21: 104 | HW21: 25 | HX21: 104 | HY21: 25 | HZ21: 104 | IA21: 25 | IB21: 104 | IC21: 25 | ID21: 104 | IE21: 25 | IF21: 104 | IG21: 25 | IH21: 104 | II21: 25 | IJ21: 104 | IK21: 25 | IL21: 104 | IM21: 25 | IN21: 104 | IO21: 25 | IP21: 104 | IQ21: 25 | IR21: 104 | IS21: 25 | IT21: 104 | IU21: 25 | IV21: 104 | IW21: 25 | IX21: 104 | IY21: 25 | IZ21: 104 | JA21: 25 | JB21: 104 | JC21: 25 | JD21: 104 | JE21: 25 | JF21: 104 | JG21: 25 | JH21: 104
A22: 13 | B22: =IF(MOD(A21,$I$14*$I$16)=0,B21+1,B21) -> 1 | C22: =IF(C21<>$I$14,C21+1,1) -> 13 | D22: =VLOOKUP(C22,$K$15:$L$30,2,FALSE) -> Court 13 | E22: =IF(B22=B21,IF(C22>C21,E21,E21+$I$15),$I$13) -> 0.625 | F22: =IF(B22=B21,F21,F21+1) -> 42040 | K22: =Setup!E16 -> 8 | L22: =Setup!F16 -> Court 8 | O22: =O21+1 -> 14 | P22: =IF(O22<>"",VLOOKUP(O22,$A$10:$F$266,6,FALSE),"") -> 42040 | Q22: =IF(O22<>"",VLOOKUP(O22,$A$10:$F$266,5,FALSE),"") -> 0.625 | R22: =IF(O22<>"",VLOOKUP(O22,$A$10:$F$266,4,FALSE),"") -> Court 14 | S22: =IF(OFFSET(U22,0,$S$6)<>"",OFFSET(U22,0,$S$6),"Bye") -> Bye | T22: =IF(OFFSET(V22,0,$S$6)<>"",OFFSET(V22,0,$S$6),"Bye") -> Bye | AS22: 11 | AU22: 11 | AW22: 11 | AY22: 11 | BA22: 11 | BC22: 11 | BD22: 22 | BE22: 11 | BF22: 22 | BG22: 11 | BH22: 22 | BI22: 11 | BJ22: 22 | BK22: 11 | BL22: 22 | BM22: 11 | BN22: 22 | BO22: 11 | BP22: 22 | BQ22: 11 | BR22: 22 | BS22: 11 | BT22: 22 | BU22: 11 | BV22: 22 | BW22: 11 | BX22: 22 | BY22: 20 | CA22: 20 | CC22: 20 | CE22: 20 | CG22: 20 | CI22: 20 | CK22: 20 | CM22: 20 | CO22: 20 | CQ22: 20 | CS22: 20 | CU22: 20 | CW22: 20 | CX22: 45 | CY22: 20 | CZ22: 45 | DA22: 20 | DB22: 45 | DC22: 20 | DD22: 45 | DE22: 20 | DF22: 45 | DG22: 20 | DH22: 45 | DI22: 20 | DJ22: 45 | DK22: 20 | DL22: 45 | DM22: 20 | DN22: 45 | DO22: 20 | DP22: 45 | DQ22: 20 | DR22: 45 | DS22: 20 | DT22: 45 | DU22: 20 | DV22: 45 | DW22: 20 | DX22: 45 | DY22: 20 | DZ22: 45 | EA22: 20 | EB22: 45 | EC22: 20 | ED22: 45 | EE22: 20 | EF22: 45 | EG22: 20 | EH22: 45 | EI22: 20 | EJ22: 45 | EK22: 40 | EM22: 40 | EO22: 40 | EQ22: 40 | ES22: 40 | EU22: 40 | EW22: 40 | EY22: 40 | FA22: 40 | FC22: 40 | FE22: 40 | FG22: 40 | FI22: 40 | FK22: 40 | FM22: 40 | FO22: 40 | FQ22: 40 | FS22: 40 | FU22: 40 | FW22: 40 | FY22: 40 | GA22: 40 | GC22: 40 | GE22: 40 | GG22: 40 | GH22: 89 | GI22: 40 | GJ22: 89 | GK22: 40 | GL22: 89 | GM22: 40 | GN22: 89 | GO22: 40 | GP22: 89 | GQ22: 40 | GR22: 89 | GS22: 40 | GT22: 89 | GU22: 40 | GV22: 89 | GW22: 40 | GX22: 89 | GY22: 40 | GZ22: 89 | HA22: 40 | HB22: 89 | HC22: 40 | HD22: 89 | HE22: 40 | HF22: 89 | HG22: 40 | HH22: 89 | HI22: 40 | HJ22: 89 | HK22: 40 | HL22: 89 | HM22: 40 | HN22: 89 | HO22: 40 | HP22: 89 | HQ22: 40 | HR22: 89 | HS22: 40 | HT22: 89 | HU22: 40 | HV22: 89 | HW22: 40 | HX22: 89 | HY22: 40 | HZ22: 89 | IA22: 40 | IB22: 89 | IC22: 40 | ID22: 89 | IE22: 40 | IF22: 89 | IG22: 40 | IH22: 89 | II22: 40 | IJ22: 89 | IK22: 40 | IL22: 89 | IM22: 40 | IN22: 89 | IO22: 40 | IP22: 89 | IQ22: 40 | IR22: 89 | IS22: 40 | IT22: 89 | IU22: 40 | IV22: 89 | IW22: 40 | IX22: 89 | IY22: 40 | IZ22: 89 | JA22: 40 | JB22: 89 | JC22: 40 | JD22: 89 | JE22: 40 | JF22: 89 | JG22: 40 | JH22: 89
A23: 14 | B23: =IF(MOD(A22,$I$14*$I$16)=0,B22+1,B22) -> 1 | C23: =IF(C22<>$I$14,C22+1,1) -> 14 | D23: =VLOOKUP(C23,$K$15:$L$30,2,FALSE) -> Court 14 | E23: =IF(B23=B22,IF(C23>C22,E22,E22+$I$15),$I$13) -> 0.625 | F23: =IF(B23=B22,F22,F22+1) -> 42040 | K23: =Setup!E17 -> 9 | L23: =Setup!F17 -> Court 9 | O23: =O22+1 -> 15 | P23: =IF(O23<>"",VLOOKUP(O23,$A$10:$F$266,6,FALSE),"") -> 42040 | Q23: =IF(O23<>"",VLOOKUP(O23,$A$10:$F$266,5,FALSE),"") -> 0.625 | R23: =IF(O23<>"",VLOOKUP(O23,$A$10:$F$266,4,FALSE),"") -> Court 15 | S23: =IF(OFFSET(U23,0,$S$6)<>"",OFFSET(U23,0,$S$6),"Bye") -> Bye | T23: =IF(OFFSET(V23,0,$S$6)<>"",OFFSET(V23,0,$S$6),"Bye") -> Bye | AS23: 6 | AU23: 6 | AW23: 6 | AY23: 6 | BA23: 6 | BC23: 6 | BE23: 6 | BG23: 6 | BI23: 6 | BK23: 6 | BM23: 6 | BN23: 27 | BO23: 6 | BP23: 27 | BQ23: 6 | BR23: 27 | BS23: 6 | BT23: 27 | BU23: 6 | BV23: 27 | BW23: 6 | BX23: 27 | BY23: 29 | CA23: 29 | CC23: 29 | CE23: 29 | CF23: 36 | CG23: 29 | CH23: 36 | CI23: 29 | CJ23: 36 | CK23: 29 | CL23: 36 | CM23: 29 | CN23: 36 | CO23: 29 | CP23: 36 | CQ23: 29 | CR23: 36 | CS23: 29 | CT23: 36 | CU23: 29 | CV23: 36 | CW23: 29 | CX23: 36 | CY23: 29 | CZ23: 36 | DA23: 29 | DB23: 36 | DC23: 29 | DD23: 36 | DE23: 29 | DF23: 36 | DG23: 29 | DH23: 36 | DI23: 29 | DJ23: 36 | DK23: 29 | DL23: 36 | DM23: 29 | DN23: 36 | DO23: 29 | DP23: 36 | DQ23: 29 | DR23: 36 | DS23: 29 | DT23: 36 | DU23: 29 | DV23: 36 | DW23: 29 | DX23: 36 | DY23: 29 | DZ23: 36 | EA23: 29 | EB23: 36 | EC23: 29 | ED23: 36 | EE23: 29 | EF23: 36 | EG23: 29 | EH23: 36 | EI23: 29 | EJ23: 36 | EK23: 8 | EM23: 8 | EO23: 8 | EQ23: 8 | ES23: 8 | EU23: 8 | EW23: 8 | EY23: 8 | FA23: 8 | FC23: 8 | FE23: 8 | FG23: 8 | FI23: 8 | FK23: 8 | FM23: 8 | FO23: 8 | FQ23: 8 | FS23: 8 | FU23: 8 | FW23: 8 | FY23: 8 | GA23: 8 | GC23: 8 | GE23: 8 | GG23: 8 | GI23: 8 | GK23: 8 | GM23: 8 | GO23: 8 | GQ23: 8 | GS23: 8 | GU23: 8 | GW23: 8 | GY23: 8 | HA23: 8 | HC23: 8 | HE23: 8 | HG23: 8 | HI23: 8 | HK23: 8 | HM23: 8 | HO23: 8 | HQ23: 8 | HS23: 8 | HU23: 8 | HW23: 8 | HY23: 8 | IA23: 8 | IC23: 8 | IE23: 8 | IG23: 8 | II23: 8 | IK23: 8 | IM23: 8 | IO23: 8 | IQ23: 8 | IS23: 8 | IT23: 121 | IU23: 8 | IV23: 121 | IW23: 8 | IX23: 121 | IY23: 8 | IZ23: 121 | JA23: 8 | JB23: 121 | JC23: 8 | JD23: 121 | JE23: 8 | JF23: 121 | JG23: 8 | JH23: 121
A24: 15 | B24: =IF(MOD(A23,$I$14*$I$16)=0,B23+1,B23) -> 1 | C24: =IF(C23<>$I$14,C23+1,1) -> 15 | D24: =VLOOKUP(C24,$K$15:$L$30,2,FALSE) -> Court 15 | E24: =IF(B24=B23,IF(C24>C23,E23,E23+$I$15),$I$13) -> 0.625 | F24: =IF(B24=B23,F23,F23+1) -> 42040 | K24: =Setup!E18 -> 10 | L24: =Setup!F18 -> Court 10 | O24: =O23+1 -> 16 | P24: =IF(O24<>"",VLOOKUP(O24,$A$10:$F$266,6,FALSE),"") -> 42040 | Q24: =IF(O24<>"",VLOOKUP(O24,$A$10:$F$266,5,FALSE),"") -> 0.625 | R24: =IF(O24<>"",VLOOKUP(O24,$A$10:$F$266,4,FALSE),"") -> Court 16 | S24: =IF(OFFSET(U24,0,$S$6)<>"",OFFSET(U24,0,$S$6),"Bye") -> Bye | T24: =IF(OFFSET(V24,0,$S$6)<>"",OFFSET(V24,0,$S$6),"Bye") -> Bye | AS24: 10 | AU24: 10 | AW24: 10 | AY24: 10 | BA24: 10 | BC24: 10 | BE24: 10 | BF24: 23 | BG24: 10 | BH24: 23 | BI24: 10 | BJ24: 23 | BK24: 10 | BL24: 23 | BM24: 10 | BN24: 23 | BO24: 10 | BP24: 23 | BQ24: 10 | BR24: 23 | BS24: 10 | BT24: 23 | BU24: 10 | BV24: 23 | BW24: 10 | BX24: 23 | BY24: 4 | CA24: 4 | CC24: 4 | CE24: 4 | CG24: 4 | CI24: 4 | CK24: 4 | CM24: 4 | CO24: 4 | CQ24: 4 | CS24: 4 | CU24: 4 | CW24: 4 | CY24: 4 | DA24: 4 | DC24: 4 | DE24: 4 | DG24: 4 | DI24: 4 | DK24: 4 | DM24: 4 | DO24: 4 | DQ24: 4 | DS24: 4 | DU24: 4 | DW24: 4 | DY24: 4 | EA24: 4 | EC24: 4 | ED24: 61 | EE24: 4 | EF24: 61 | EG24: 4 | EH24: 61 | EI24: 4 | EJ24: 61 | EK24: 57 | EM24: 57 | EO24: 57 | EQ24: 57 | ES24: 57 | EU24: 57 | EW24: 57 | EY24: 57 | EZ24: 72 | FA24: 57 | FB24: 72 | FC24: 57 | FD24: 72 | FE24: 57 | FF24: 72 | FG24: 57 | FH24: 72 | FI24: 57 | FJ24: 72 | FK24: 57 | FL24: 72 | FM24: 57 | FN24: 72 | FO24: 57 | FP24: 72 | FQ24: 57 | FR24: 72 | FS24: 57 | FT24: 72 | FU24: 57 | FV24: 72 | FW24: 57 | FX24: 72 | FY24: 57 | FZ24: 72 | GA24: 57 | GB24: 72 | GC24: 57 | GD24: 72 | GE24: 57 | GF24: 72 | GG24: 57 | GH24: 72 | GI24: 57 | GJ24: 72 | GK24: 57 | GL24: 72 | GM24: 57 | GN24: 72 | GO24: 57 | GP24: 72 | GQ24: 57 | GR24: 72 | GS24: 57 | GT24: 72 | GU24: 57 | GV24: 72 | GW24: 57 | GX24: 72 | GY24: 57 | GZ24: 72 | HA24: 57 | HB24: 72 | HC24: 57 | HD24: 72 | HE24: 57 | HF24: 72 | HG24: 57 | HH24: 72 | HI24: 57 | HJ24: 72 | HK24: 57 | HL24: 72 | HM24: 57 | HN24: 72 | HO24: 57 | HP24: 72 | HQ24: 57 | HR24: 72 | HS24: 57 | HT24: 72 | HU24: 57 | HV24: 72 | HW24: 57 | HX24: 72 | HY24: 57 | HZ24: 72 | IA24: 57 | IB24: 72 | IC24: 57 | ID24: 72 | IE24: 57 | IF24: 72 | IG24: 57 | IH24: 72 | II24: 57 | IJ24: 72 | IK24: 57 | IL24: 72 | IM24: 57 | IN24: 72 | IO24: 57 | IP24: 72 | IQ24: 57 | IR24: 72 | IS24: 57 | IT24: 72 | IU24: 57 | IV24: 72 | IW24: 57 | IX24: 72 | IY24: 57 | IZ24: 72 | JA24: 57 | JB24: 72 | JC24: 57 | JD24: 72 | JE24: 57 | JF24: 72 | JG24: 57 | JH24: 72
A25: 16 | B25: =IF(MOD(A24,$I$14*$I$16)=0,B24+1,B24) -> 1 | C25: =IF(C24<>$I$14,C24+1,1) -> 16 | D25: =VLOOKUP(C25,$K$15:$L$30,2,FALSE) -> Court 16 | E25: =IF(B25=B24,IF(C25>C24,E24,E24+$I$15),$I$13) -> 0.625 | F25: =IF(B25=B24,F24,F24+1) -> 42040 | K25: =Setup!E19 -> 11 | L25: =Setup!F19 -> Court 11 | O25: =O24+1 -> 17 | P25: =IF(O25<>"",VLOOKUP(O25,$A$10:$F$266,6,FALSE),"") -> 42040 | Q25: =IF(O25<>"",VLOOKUP(O25,$A$10:$F$266,5,FALSE),"") -> 0.70833333 | R25: =IF(O25<>"",VLOOKUP(O25,$A$10:$F$266,4,FALSE),"") -> Court 1 | S25: =IF(OFFSET(U25,0,$S$6)<>"",OFFSET(U25,0,$S$6),"Bye") -> Bye | T25: =IF(OFFSET(V25,0,$S$6)<>"",OFFSET(V25,0,$S$6),"Bye") -> Bye | BY25: 3 | CA25: 3 | CC25: 3 | CE25: 3 | CG25: 3 | CI25: 3 | CK25: 3 | CM25: 3 | CO25: 3 | CQ25: 3 | CS25: 3 | CU25: 3 | CW25: 3 | CY25: 3 | DA25: 3 | DC25: 3 | DE25: 3 | DG25: 3 | DI25: 3 | DK25: 3 | DM25: 3 | DO25: 3 | DQ25: 3 | DS25: 3 | DU25: 3 | DW25: 3 | DY25: 3 | EA25: 3 | EC25: 3 | EE25: 3 | EF25: 62 | EG25: 3 | EH25: 62 | EI25: 3 | EJ25: 62 | EK25: 5 | EM25: 5 | EO25: 5 | EQ25: 5 | ES25: 5 | EU25: 5 | EW25: 5 | EY25: 5 | FA25: 5 | FC25: 5 | FE25: 5 | FG25: 5 | FI25: 5 | FK25: 5 | FM25: 5 | FO25: 5 | FQ25: 5 | FS25: 5 | FU25: 5 | FW25: 5 | FY25: 5 | GA25: 5 | GC25: 5 | GE25: 5 | GG25: 5 | GI25: 5 | GK25: 5 | GM25: 5 | GO25: 5 | GQ25: 5 | GS25: 5 | GU25: 5 | GW25: 5 | GY25: 5 | HA25: 5 | HC25: 5 | HE25: 5 | HG25: 5 | HI25: 5 | HK25: 5 | HM25: 5 | HO25: 5 | HQ25: 5 | HS25: 5 | HU25: 5 | HW25: 5 | HY25: 5 | IA25: 5 | IC25: 5 | IE25: 5 | IG25: 5 | II25: 5 | IK25: 5 | IM25: 5 | IO25: 5 | IQ25: 5 | IS25: 5 | IU25: 5 | IW25: 5 | IY25: 5 | IZ25: 124 | JA25: 5 | JB25: 124 | JC25: 5 | JD25: 124 | JE25: 5 | JF25: 124 | JG25: 5 | JH25: 124
A26: 17 | B26: =IF(MOD(A25,$I$14*$I$16)=0,B25+1,B25) -> 1 | C26: =IF(C25<>$I$14,C25+1,1) -> 1 | D26: =VLOOKUP(C26,$K$15:$L$30,2,FALSE) -> Court 1 | E26: =IF(B26=B25,IF(C26>C25,E25,E25+$I$15),$I$13) -> 0.70833333 | F26: =IF(B26=B25,F25,F25+1) -> 42040 | K26: =Setup!E20 -> 12 | L26: =Setup!F20 -> Court 12 | O26: =O25+1 -> 18 | P26: =IF(O26<>"",VLOOKUP(O26,$A$10:$F$266,6,FALSE),"") -> 42040 | Q26: =IF(O26<>"",VLOOKUP(O26,$A$10:$F$266,5,FALSE),"") -> 0.70833333 | R26: =IF(O26<>"",VLOOKUP(O26,$A$10:$F$266,4,FALSE),"") -> Court 2 | S26: =IF(OFFSET(U26,0,$S$6)<>"",OFFSET(U26,0,$S$6),"Bye") -> Bye | T26: =IF(OFFSET(V26,0,$S$6)<>"",OFFSET(V26,0,$S$6),"Bye") -> Bye | BY26: 30 | CA26: 30 | CC26: 30 | CD26: 35 | CE26: 30 | CF26: 35 | CG26: 30 | CH26: 35 | CI26: 30 | CJ26: 35 | CK26: 30 | CL26: 35 | CM26: 30 | CN26: 35 | CO26: 30 | CP26: 35 | CQ26: 30 | CR26: 35 | CS26: 30 | CT26: 35 | CU26: 30 | CV26: 35 | CW26: 30 | CX26: 35 | CY26: 30 | CZ26: 35 | DA26: 30 | DB26: 35 | DC26: 30 | DD26: 35 | DE26: 30 | DF26: 35 | DG26: 30 | DH26: 35 | DI26: 30 | DJ26: 35 | DK26: 30 | DL26: 35 | DM26: 30 | DN26: 35 | DO26: 30 | DP26: 35 | DQ26: 30 | DR26: 35 | DS26: 30 | DT26: 35 | DU26: 30 | DV26: 35 | DW26: 30 | DX26: 35 | DY26: 30 | DZ26: 35 | EA26: 30 | EB26: 35 | EC26: 30 | ED26: 35 | EE26: 30 | EF26: 35 | EG26: 30 | EH26: 35 | EI26: 30 | EJ26: 35 | EK26: 60 | EM26: 60 | EO26: 60 | EQ26: 60 | ES26: 60 | ET26: 69 | EU26: 60 | EV26: 69 | EW26: 60 | EX26: 69 | EY26: 60 | EZ26: 69 | FA26: 60 | FB26: 69 | FC26: 60 | FD26: 69 | FE26: 60 | FF26: 69 | FG26: 60 | FH26: 69 | FI26: 60 | FJ26: 69 | FK26: 60 | FL26: 69 | FM26: 60 | FN26: 69 | FO26: 60 | FP26: 69 | FQ26: 60 | FR26: 69 | FS26: 60 | FT26: 69 | FU26: 60 | FV26: 69 | FW26: 60 | FX26: 69 | FY26: 60 | FZ26: 69 | GA26: 60 | GB26: 69 | GC26: 60 | GD26: 69 | GE26: 60 | GF26: 69 | GG26: 60 | GH26: 69 | GI26: 60 | GJ26: 69 | GK26: 60 | GL26: 69 | GM26: 60 | GN26: 69 | GO26: 60 | GP26: 69 | GQ26: 60 | GR26: 69 | GS26: 60 | GT26: 69 | GU26: 60 | GV26: 69 | GW26: 60 | GX26: 69 | GY26: 60 | GZ26: 69 | HA26: 60 | HB26: 69 | HC26: 60 | HD26: 69 | HE26: 60 | HF26: 69 | HG26: 60 | HH26: 69 | HI26: 60 | HJ26: 69 | HK26: 60 | HL26: 69 | HM26: 60 | HN26: 69 | HO26: 60 | HP26: 69 | HQ26: 60 | HR26: 69 | HS26: 60 | HT26: 69 | HU26: 60 | HV26: 69 | HW26: 60 | HX26: 69 | HY26: 60 | HZ26: 69 | IA26: 60 | IB26: 69 | IC26: 60 | ID26: 69 | IE26: 60 | IF26: 69 | IG26: 60 | IH26: 69 | II26: 60 | IJ26: 69 | IK26: 60 | IL26: 69 | IM26: 60 | IN26: 69 | IO26: 60 | IP26: 69 | IQ26: 60 | IR26: 69 | IS26: 60 | IT26: 69 | IU26: 60 | IV26: 69 | IW26: 60 | IX26: 69 | IY26: 60 | IZ26: 69 | JA26: 60 | JB26: 69 | JC26: 60 | JD26: 69 | JE26: 60 | JF26: 69 | JG26: 60 | JH26: 69
A27: 18 | B27: =IF(MOD(A26,$I$14*$I$16)=0,B26+1,B26) -> 1 | C27: =IF(C26<>$I$14,C26+1,1) -> 2 | D27: =VLOOKUP(C27,$K$15:$L$30,2,FALSE) -> Court 2 | E27: =IF(B27=B26,IF(C27>C26,E26,E26+$I$15),$I$13) -> 0.70833333 | F27: =IF(B27=B26,F26,F26+1) -> 42040 | K27: =Setup!E21 -> 13 | L27: =Setup!F21 -> Court 13 | O27: =O26+1 -> 19 | P27: =IF(O27<>"",VLOOKUP(O27,$A$10:$F$266,6,FALSE),"") -> 42040 | Q27: =IF(O27<>"",VLOOKUP(O27,$A$10:$F$266,5,FALSE),"") -> 0.70833333 | R27: =IF(O27<>"",VLOOKUP(O27,$A$10:$F$266,4,FALSE),"") -> Court 3 | S27: =IF(OFFSET(U27,0,$S$6)<>"",OFFSET(U27,0,$S$6),"Bye") -> Bye | T27: =IF(OFFSET(V27,0,$S$6)<>"",OFFSET(V27,0,$S$6),"Bye") -> Bye | BY27: 14 | CA27: 14 | CC27: 14 | CE27: 14 | CG27: 14 | CI27: 14 | CK27: 14 | CM27: 14 | CO27: 14 | CQ27: 14 | CS27: 14 | CU27: 14 | CW27: 14 | CY27: 14 | DA27: 14 | DC27: 14 | DE27: 14 | DG27: 14 | DI27: 14 | DJ27: 51 | DK27: 14 | DL27: 51 | DM27: 14 | DN27: 51 | DO27: 14 | DP27: 51 | DQ27: 14 | DR27: 51 | DS27: 14 | DT27: 51 | DU27: 14 | DV27: 51 | DW27: 14 | DX27: 51 | DY27: 14 | DZ27: 51 | EA27: 14 | EB27: 51 | EC27: 14 | ED27: 51 | EE27: 14 | EF27: 51 | EG27: 14 | EH27: 51 | EI27: 14 | EJ27: 51 | EK27: 28 | EM27: 28 | EO27: 28 | EQ27: 28 | ES27: 28 | EU27: 28 | EW27: 28 | EY27: 28 | FA27: 28 | FC27: 28 | FE27: 28 | FG27: 28 | FI27: 28 | FK27: 28 | FM27: 28 | FO27: 28 | FQ27: 28 | FS27: 28 | FU27: 28 | FW27: 28 | FY27: 28 | GA27: 28 | GC27: 28 | GE27: 28 | GG27: 28 | GI27: 28 | GK27: 28 | GM27: 28 | GO27: 28 | GQ27: 28 | GS27: 28 | GU27: 28 | GW27: 28 | GY27: 28 | HA27: 28 | HC27: 28 | HE27: 28 | HF27: 101 | HG27: 28 | HH27: 101 | HI27: 28 | HJ27: 101 | HK27: 28 | HL27: 101 | HM27: 28 | HN27: 101 | HO27: 28 | HP27: 101 | HQ27: 28 | HR27: 101 | HS27: 28 | HT27: 101 | HU27: 28 | HV27: 101 | HW27: 28 | HX27: 101 | HY27: 28 | HZ27: 101 | IA27: 28 | IB27: 101 | IC27: 28 | ID27: 101 | IE27: 28 | IF27: 101 | IG27: 28 | IH27: 101 | II27: 28 | IJ27: 101 | IK27: 28 | IL27: 101 | IM27: 28 | IN27: 101 | IO27: 28 | IP27: 101 | IQ27: 28 | IR27: 101 | IS27: 28 | IT27: 101 | IU27: 28 | IV27: 101 | IW27: 28 | IX27: 101 | IY27: 28 | IZ27: 101 | JA27: 28 | JB27: 101 | JC27: 28 | JD27: 101 | JE27: 28 | JF27: 101 | JG27: 28 | JH27: 101
A28: 19 | B28: =IF(MOD(A27,$I$14*$I$16)=0,B27+1,B27) -> 1 | C28: =IF(C27<>$I$14,C27+1,1) -> 3 | D28: =VLOOKUP(C28,$K$15:$L$30,2,FALSE) -> Court 3 | E28: =IF(B28=B27,IF(C28>C27,E27,E27+$I$15),$I$13) -> 0.70833333 | F28: =IF(B28=B27,F27,F27+1) -> 42040 | K28: =Setup!E22 -> 14 | L28: =Setup!F22 -> Court 14 | O28: =O27+1 -> 20 | P28: =IF(O28<>"",VLOOKUP(O28,$A$10:$F$266,6,FALSE),"") -> 42040 | Q28: =IF(O28<>"",VLOOKUP(O28,$A$10:$F$266,5,FALSE),"") -> 0.70833333 | R28: =IF(O28<>"",VLOOKUP(O28,$A$10:$F$266,4,FALSE),"") -> Court 4 | S28: =IF(OFFSET(U28,0,$S$6)<>"",OFFSET(U28,0,$S$6),"Bye") -> Bye | T28: =IF(OFFSET(V28,0,$S$6)<>"",OFFSET(V28,0,$S$6),"Bye") -> Bye | BY28: 19 | CA28: 19 | CC28: 19 | CE28: 19 | CG28: 19 | CI28: 19 | CK28: 19 | CM28: 19 | CO28: 19 | CQ28: 19 | CS28: 19 | CU28: 19 | CW28: 19 | CY28: 19 | CZ28: 46 | DA28: 19 | DB28: 46 | DC28: 19 | DD28: 46 | DE28: 19 | DF28: 46 | DG28: 19 | DH28: 46 | DI28: 19 | DJ28: 46 | DK28: 19 | DL28: 46 | DM28: 19 | DN28: 46 | DO28: 19 | DP28: 46 | DQ28: 19 | DR28: 46 | DS28: 19 | DT28: 46 | DU28: 19 | DV28: 46 | DW28: 19 | DX28: 46 | DY28: 19 | DZ28: 46 | EA28: 19 | EB28: 46 | EC28: 19 | ED28: 46 | EE28: 19 | EF28: 46 | EG28: 19 | EH28: 46 | EI28: 19 | EJ28: 46 | EK28: 37 | EM28: 37 | EO28: 37 | EQ28: 37 | ES28: 37 | EU28: 37 | EW28: 37 | EY28: 37 | FA28: 37 | FC28: 37 | FE28: 37 | FG28: 37 | FI28: 37 | FK28: 37 | FM28: 37 | FO28: 37 | FQ28: 37 | FS28: 37 | FU28: 37 | FW28: 37 | FY28: 37 | GA28: 37 | GC28: 37 | GE28: 37 | GG28: 37 | GI28: 37 | GK28: 37 | GM28: 37 | GN28: 92 | GO28: 37 | GP28: 92 | GQ28: 37 | GR28: 92 | GS28: 37 | GT28: 92 | GU28: 37 | GV28: 92 | GW28: 37 | GX28: 92 | GY28: 37 | GZ28: 92 | HA28: 37 | HB28: 92 | HC28: 37 | HD28: 92 | HE28: 37 | HF28: 92 | HG28: 37 | HH28: 92 | HI28: 37 | HJ28: 92 | HK28: 37 | HL28: 92 | HM28: 37 | HN28: 92 | HO28: 37 | HP28: 92 | HQ28: 37 | HR28: 92 | HS28: 37 | HT28: 92 | HU28: 37 | HV28: 92 | HW28: 37 | HX28: 92 | HY28: 37 | HZ28: 92 | IA28: 37 | IB28: 92 | IC28: 37 | ID28: 92 | IE28: 37 | IF28: 92 | IG28: 37 | IH28: 92 | II28: 37 | IJ28: 92 | IK28: 37 | IL28: 92 | IM28: 37 | IN28: 92 | IO28: 37 | IP28: 92 | IQ28: 37 | IR28: 92 | IS28: 37 | IT28: 92 | IU28: 37 | IV28: 92 | IW28: 37 | IX28: 92 | IY28: 37 | IZ28: 92 | JA28: 37 | JB28: 92 | JC28: 37 | JD28: 92 | JE28: 37 | JF28: 92 | JG28: 37 | JH28: 92
A29: 20 | B29: =IF(MOD(A28,$I$14*$I$16)=0,B28+1,B28) -> 1 | C29: =IF(C28<>$I$14,C28+1,1) -> 4 | D29: =VLOOKUP(C29,$K$15:$L$30,2,FALSE) -> Court 4 | E29: =IF(B29=B28,IF(C29>C28,E28,E28+$I$15),$I$13) -> 0.70833333 | F29: =IF(B29=B28,F28,F28+1) -> 42040 | K29: =Setup!E23 -> 15 | L29: =Setup!F23 -> Court 15 | O29: =O28+1 -> 21 | P29: =IF(O29<>"",VLOOKUP(O29,$A$10:$F$266,6,FALSE),"") -> 42040 | Q29: =IF(O29<>"",VLOOKUP(O29,$A$10:$F$266,5,FALSE),"") -> 0.70833333 | R29: =IF(O29<>"",VLOOKUP(O29,$A$10:$F$266,4,FALSE),"") -> Court 5 | S29: =IF(OFFSET(U29,0,$S$6)<>"",OFFSET(U29,0,$S$6),"Bye") -> Bye | T29: =IF(OFFSET(V29,0,$S$6)<>"",OFFSET(V29,0,$S$6),"Bye") -> Bye | BY29: 11 | CA29: 11 | CC29: 11 | CE29: 11 | CG29: 11 | CI29: 11 | CK29: 11 | CM29: 11 | CO29: 11 | CQ29: 11 | CS29: 11 | CU29: 11 | CW29: 11 | CY29: 11 | DA29: 11 | DC29: 11 | DE29: 11 | DG29: 11 | DI29: 11 | DK29: 11 | DM29: 11 | DO29: 11 | DP29: 54 | DQ29: 11 | DR29: 54 | DS29: 11 | DT29: 54 | DU29: 11 | DV29: 54 | DW29: 11 | DX29: 54 | DY29: 11 | DZ29: 54 | EA29: 11 | EB29: 54 | EC29: 11 | ED29: 54 | EE29: 11 | EF29: 54 | EG29: 11 | EH29: 54 | EI29: 11 | EJ29: 54 | EK29: 12 | EM29: 12 | EO29: 12 | EQ29: 12 | ES29: 12 | EU29: 12 | EW29: 12 | EY29: 12 | FA29: 12 | FC29: 12 | FE29: 12 | FG29: 12 | FI29: 12 | FK29: 12 | FM29: 12 | FO29: 12 | FQ29: 12 | FS29: 12 | FU29: 12 | FW29: 12 | FY29: 12 | GA29: 12 | GC29: 12 | GE29: 12 | GG29: 12 | GI29: 12 | GK29: 12 | GM29: 12 | GO29: 12 | GQ29: 12 | GS29: 12 | GU29: 12 | GW29: 12 | GY29: 12 | HA29: 12 | HC29: 12 | HE29: 12 | HG29: 12 | HI29: 12 | HK29: 12 | HM29: 12 | HO29: 12 | HQ29: 12 | HS29: 12 | HU29: 12 | HW29: 12 | HY29: 12 | IA29: 12 | IC29: 12 | IE29: 12 | IG29: 12 | II29: 12 | IK29: 12 | IL29: 117 | IM29: 12 | IN29: 117 | IO29: 12 | IP29: 117 | IQ29: 12 | IR29: 117 | IS29: 12 | IT29: 117 | IU29: 12 | IV29: 117 | IW29: 12 | IX29: 117 | IY29: 12 | IZ29: 117 | JA29: 12 | JB29: 117 | JC29: 12 | JD29: 117 | JE29: 12 | JF29: 117 | JG29: 12 | JH29: 117
A30: 21 | B30: =IF(MOD(A29,$I$14*$I$16)=0,B29+1,B29) -> 1 | C30: =IF(C29<>$I$14,C29+1,1) -> 5 | D30: =VLOOKUP(C30,$K$15:$L$30,2,FALSE) -> Court 5 | E30: =IF(B30=B29,IF(C30>C29,E29,E29+$I$15),$I$13) -> 0.70833333 | F30: =IF(B30=B29,F29,F29+1) -> 42040 | K30: =Setup!E24 -> 16 | L30: =Setup!F24 -> Court 16 | O30: =O29+1 -> 22 | P30: =IF(O30<>"",VLOOKUP(O30,$A$10:$F$266,6,FALSE),"") -> 42040 | Q30: =IF(O30<>"",VLOOKUP(O30,$A$10:$F$266,5,FALSE),"") -> 0.70833333 | R30: =IF(O30<>"",VLOOKUP(O30,$A$10:$F$266,4,FALSE),"") -> Court 6 | S30: =IF(OFFSET(U30,0,$S$6)<>"",OFFSET(U30,0,$S$6),"Bye") -> Bye | T30: =IF(OFFSET(V30,0,$S$6)<>"",OFFSET(V30,0,$S$6),"Bye") -> Bye | BY30: 22 | CA30: 22 | CC30: 22 | CE30: 22 | CG30: 22 | CI30: 22 | CK30: 22 | CM30: 22 | CO30: 22 | CQ30: 22 | CS30: 22 | CT30: 43 | CU30: 22 | CV30: 43 | CW30: 22 | CX30: 43 | CY30: 22 | CZ30: 43 | DA30: 22 | DB30: 43 | DC30: 22 | DD30: 43 | DE30: 22 | DF30: 43 | DG30: 22 | DH30: 43 | DI30: 22 | DJ30: 43 | DK30: 22 | DL30: 43 | DM30: 22 | DN30: 43 | DO30: 22 | DP30: 43 | DQ30: 22 | DR30: 43 | DS30: 22 | DT30: 43 | DU30: 22 | DV30: 43 | DW30: 22 | DX30: 43 | DY30: 22 | DZ30: 43 | EA30: 22 | EB30: 43 | EC30: 22 | ED30: 43 | EE30: 22 | EF30: 43 | EG30: 22 | EH30: 43 | EI30: 22 | EJ30: 43 | EK30: 53 | EM30: 53 | EO30: 53 | EQ30: 53 | ES30: 53 | EU30: 53 | EW30: 53 | EY30: 53 | FA30: 53 | FC30: 53 | FE30: 53 | FG30: 53 | FH30: 76 | FI30: 53 | FJ30: 76 | FK30: 53 | FL30: 76 | FM30: 53 | FN30: 76 | FO30: 53 | FP30: 76 | FQ30: 53 | FR30: 76 | FS30: 53 | FT30: 76 | FU30: 53 | FV30: 76 | FW30: 53 | FX30: 76 | FY30: 53 | FZ30: 76 | GA30: 53 | GB30: 76 | GC30: 53 | GD30: 76 | GE30: 53 | GF30: 76 | GG30: 53 | GH30: 76 | GI30: 53 | GJ30: 76 | GK30: 53 | GL30: 76 | GM30: 53 | GN30: 76 | GO30: 53 | GP30: 76 | GQ30: 53 | GR30: 76 | GS30: 53 | GT30: 76 | GU30: 53 | GV30: 76 | GW30: 53 | GX30: 76 | GY30: 53 | GZ30: 76 | HA30: 53 | HB30: 76 | HC30: 53 | HD30: 76 | HE30: 53 | HF30: 76 | HG30: 53 | HH30: 76 | HI30: 53 | HJ30: 76 | HK30: 53 | HL30: 76 | HM30: 53 | HN30: 76 | HO30: 53 | HP30: 76 | HQ30: 53 | HR30: 76 | HS30: 53 | HT30: 76 | HU30: 53 | HV30: 76 | HW30: 53 | HX30: 76 | HY30: 53 | HZ30: 76 | IA30: 53 | IB30: 76 | IC30: 53 | ID30: 76 | IE30: 53 | IF30: 76 | IG30: 53 | IH30: 76 | II30: 53 | IJ30: 76 | IK30: 53 | IL30: 76 | IM30: 53 | IN30: 76 | IO30: 53 | IP30: 76 | IQ30: 53 | IR30: 76 | IS30: 53 | IT30: 76 | IU30: 53 | IV30: 76 | IW30: 53 | IX30: 76 | IY30: 53 | IZ30: 76 | JA30: 53 | JB30: 76 | JC30: 53 | JD30: 76 | JE30: 53 | JF30: 76 | JG30: 53 | JH30: 76
A31: 22 | B31: =IF(MOD(A30,$I$14*$I$16)=0,B30+1,B30) -> 1 | C31: =IF(C30<>$I$14,C30+1,1) -> 6 | D31: =VLOOKUP(C31,$K$15:$L$30,2,FALSE) -> Court 6 | E31: =IF(B31=B30,IF(C31>C30,E30,E30+$I$15),$I$13) -> 0.70833333 | F31: =IF(B31=B30,F30,F30+1) -> 42040 | O31: =O30+1 -> 23 | P31: =IF(O31<>"",VLOOKUP(O31,$A$10:$F$266,6,FALSE),"") -> 42040 | Q31: =IF(O31<>"",VLOOKUP(O31,$A$10:$F$266,5,FALSE),"") -> 0.70833333 | R31: =IF(O31<>"",VLOOKUP(O31,$A$10:$F$266,4,FALSE),"") -> Court 7 | S31: =IF(OFFSET(U31,0,$S$6)<>"",OFFSET(U31,0,$S$6),"Bye") -> Bye | T31: =IF(OFFSET(V31,0,$S$6)<>"",OFFSET(V31,0,$S$6),"Bye") -> Bye | BY31: 27 | CA31: 27 | CC31: 27 | CE31: 27 | CG31: 27 | CI31: 27 | CJ31: 38 | CK31: 27 | CL31: 38 | CM31: 27 | CN31: 38 | CO31: 27 | CP31: 38 | CQ31: 27 | CR31: 38 | CS31: 27 | CT31: 38 | CU31: 27 | CV31: 38 | CW31: 27 | CX31: 38 | CY31: 27 | CZ31: 38 | DA31: 27 | DB31: 38 | DC31: 27 | DD31: 38 | DE31: 27 | DF31: 38 | DG31: 27 | DH31: 38 | DI31: 27 | DJ31: 38 | DK31: 27 | DL31: 38 | DM31: 27 | DN31: 38 | DO31: 27 | DP31: 38 | DQ31: 27 | DR31: 38 | DS31: 27 | DT31: 38 | DU31: 27 | DV31: 38 | DW31: 27 | DX31: 38 | DY31: 27 | DZ31: 38 | EA31: 27 | EB31: 38 | EC31: 27 | ED31: 38 | EE31: 27 | EF31: 38 | EG31: 27 | EH31: 38 | EI31: 27 | EJ31: 38 | EK31: 21 | EM31: 21 | EO31: 21 | EQ31: 21 | ES31: 21 | EU31: 21 | EW31: 21 | EY31: 21 | FA31: 21 | FC31: 21 | FE31: 21 | FG31: 21 | FI31: 21 | FK31: 21 | FM31: 21 | FO31: 21 | FQ31: 21 | FS31: 21 | FU31: 21 | FW31: 21 | FY31: 21 | GA31: 21 | GC31: 21 | GE31: 21 | GG31: 21 | GI31: 21 | GK31: 21 | GM31: 21 | GO31: 21 | GQ31: 21 | GS31: 21 | GU31: 21 | GW31: 21 | GY31: 21 | HA31: 21 | HC31: 21 | HE31: 21 | HG31: 21 | HI31: 21 | HK31: 21 | HM31: 21 | HO31: 21 | HQ31: 21 | HS31: 21 | HT31: 108 | HU31: 21 | HV31: 108 | HW31: 21 | HX31: 108 | HY31: 21 | HZ31: 108 | IA31: 21 | IB31: 108 | IC31: 21 | ID31: 108 | IE31: 21 | IF31: 108 | IG31: 21 | IH31: 108 | II31: 21 | IJ31: 108 | IK31: 21 | IL31: 108 | IM31: 21 | IN31: 108 | IO31: 21 | IP31: 108 | IQ31: 21 | IR31: 108 | IS31: 21 | IT31: 108 | IU31: 21 | IV31: 108 | IW31: 21 | IX31: 108 | IY31: 21 | IZ31: 108 | JA31: 21 | JB31: 108 | JC31: 21 | JD31: 108 | JE31: 21 | JF31: 108 | JG31: 21 | JH31: 108
A32: 23 | B32: =IF(MOD(A31,$I$14*$I$16)=0,B31+1,B31) -> 1 | C32: =IF(C31<>$I$14,C31+1,1) -> 7 | D32: =VLOOKUP(C32,$K$15:$L$30,2,FALSE) -> Court 7 | E32: =IF(B32=B31,IF(C32>C31,E31,E31+$I$15),$I$13) -> 0.70833333 | F32: =IF(B32=B31,F31,F31+1) -> 42040 | O32: =O31+1 -> 24 | P32: =IF(O32<>"",VLOOKUP(O32,$A$10:$F$266,6,FALSE),"") -> 42040 | Q32: =IF(O32<>"",VLOOKUP(O32,$A$10:$F$266,5,FALSE),"") -> 0.70833333 | R32: =IF(O32<>"",VLOOKUP(O32,$A$10:$F$266,4,FALSE),"") -> Court 8 | S32: =IF(OFFSET(U32,0,$S$6)<>"",OFFSET(U32,0,$S$6),"Bye") -> Bye | T32: =IF(OFFSET(V32,0,$S$6)<>"",OFFSET(V32,0,$S$6),"Bye") -> Bye | BY32: 6 | CA32: 6 | CC32: 6 | CE32: 6 | CG32: 6 | CI32: 6 | CK32: 6 | CM32: 6 | CO32: 6 | CQ32: 6 | CS32: 6 | CU32: 6 | CW32: 6 | CY32: 6 | DA32: 6 | DC32: 6 | DE32: 6 | DG32: 6 | DI32: 6 | DK32: 6 | DM32: 6 | DO32: 6 | DQ32: 6 | DS32: 6 | DU32: 6 | DW32: 6 | DY32: 6 | DZ32: 59 | EA32: 6 | EB32: 59 | EC32: 6 | ED32: 59 | EE32: 6 | EF32: 59 | EG32: 6 | EH32: 59 | EI32: 6 | EJ32: 59 | EK32: 44 | EM32: 44 | EO32: 44 | EQ32: 44 | ES32: 44 | EU32: 44 | EW32: 44 | EY32: 44 | FA32: 44 | FC32: 44 | FE32: 44 | FG32: 44 | FI32: 44 | FK32: 44 | FM32: 44 | FO32: 44 | FQ32: 44 | FS32: 44 | FU32: 44 | FW32: 44 | FY32: 44 | FZ32: 85 | GA32: 44 | GB32: 85 | GC32: 44 | GD32: 85 | GE32: 44 | GF32: 85 | GG32: 44 | GH32: 85 | GI32: 44 | GJ32: 85 | GK32: 44 | GL32: 85 | GM32: 44 | GN32: 85 | GO32: 44 | GP32: 85 | GQ32: 44 | GR32: 85 | GS32: 44 | GT32: 85 | GU32: 44 | GV32: 85 | GW32: 44 | GX32: 85 | GY32: 44 | GZ32: 85 | HA32: 44 | HB32: 85 | HC32: 44 | HD32: 85 | HE32: 44 | HF32: 85 | HG32: 44 | HH32: 85 | HI32: 44 | HJ32: 85 | HK32: 44 | HL32: 85 | HM32: 44 | HN32: 85 | HO32: 44 | HP32: 85 | HQ32: 44 | HR32: 85 | HS32: 44 | HT32: 85 | HU32: 44 | HV32: 85 | HW32: 44 | HX32: 85 | HY32: 44 | HZ32: 85 | IA32: 44 | IB32: 85 | IC32: 44 | ID32: 85 | IE32: 44 | IF32: 85 | IG32: 44 | IH32: 85 | II32: 44 | IJ32: 85 | IK32: 44 | IL32: 85 | IM32: 44 | IN32: 85 | IO32: 44 | IP32: 85 | IQ32: 44 | IR32: 85 | IS32: 44 | IT32: 85 | IU32: 44 | IV32: 85 | IW32: 44 | IX32: 85 | IY32: 44 | IZ32: 85 | JA32: 44 | JB32: 85 | JC32: 44 | JD32: 85 | JE32: 44 | JF32: 85 | JG32: 44 | JH32: 85
A33: 24 | B33: =IF(MOD(A32,$I$14*$I$16)=0,B32+1,B32) -> 1 | C33: =IF(C32<>$I$14,C32+1,1) -> 8 | D33: =VLOOKUP(C33,$K$15:$L$30,2,FALSE) -> Court 8 | E33: =IF(B33=B32,IF(C33>C32,E32,E32+$I$15),$I$13) -> 0.70833333 | F33: =IF(B33=B32,F32,F32+1) -> 42040 | O33: =O32+1 -> 25 | P33: =IF(O33<>"",VLOOKUP(O33,$A$10:$F$266,6,FALSE),"") -> 42040 | Q33: =IF(O33<>"",VLOOKUP(O33,$A$10:$F$266,5,FALSE),"") -> 0.70833333 | R33: =IF(O33<>"",VLOOKUP(O33,$A$10:$F$266,4,FALSE),"") -> Court 9 | S33: =IF(OFFSET(U33,0,$S$6)<>"",OFFSET(U33,0,$S$6),"Bye") -> Bye | T33: =IF(OFFSET(V33,0,$S$6)<>"",OFFSET(V33,0,$S$6),"Bye") -> Bye | BY33: 7 | CA33: 7 | CC33: 7 | CE33: 7 | CG33: 7 | CI33: 7 | CK33: 7 | CM33: 7 | CO33: 7 | CQ33: 7 | CS33: 7 | CU33: 7 | CW33: 7 | CY33: 7 | DA33: 7 | DC33: 7 | DE33: 7 | DG33: 7 | DI33: 7 | DK33: 7 | DM33: 7 | DO33: 7 | DQ33: 7 | DS33: 7 | DU33: 7 | DW33: 7 | DX33: 58 | DY33: 7 | DZ33: 58 | EA33: 7 | EB33: 58 | EC33: 7 | ED33: 58 | EE33: 7 | EF33: 58 | EG33: 7 | EH33: 58 | EI33: 7 | EJ33: 58 | EK33: 13 | EM33: 13 | EO33: 13 | EQ33: 13 | ES33: 13 | EU33: 13 | EW33: 13 | EY33: 13 | FA33: 13 | FC33: 13 | FE33: 13 | FG33: 13 | FI33: 13 | FK33: 13 | FM33: 13 | FO33: 13 | FQ33: 13 | FS33: 13 | FU33: 13 | FW33: 13 | FY33: 13 | GA33: 13 | GC33: 13 | GE33: 13 | GG33: 13 | GI33: 13 | GK33: 13 | GM33: 13 | GO33: 13 | GQ33: 13 | GS33: 13 | GU33: 13 | GW33: 13 | GY33: 13 | HA33: 13 | HC33: 13 | HE33: 13 | HG33: 13 | HI33: 13 | HK33: 13 | HM33: 13 | HO33: 13 | HQ33: 13 | HS33: 13 | HU33: 13 | HW33: 13 | HY33: 13 | IA33: 13 | IC33: 13 | IE33: 13 | IG33: 13 | II33: 13 | IJ33: 116 | IK33: 13 | IL33: 116 | IM33: 13 | IN33: 116 | IO33: 13 | IP33: 116 | IQ33: 13 | IR33: 116 | IS33: 13 | IT33: 116 | IU33: 13 | IV33: 116 | IW33: 13 | IX33: 116 | IY33: 13 | IZ33: 116 | JA33: 13 | JB33: 116 | JC33: 13 | JD33: 116 | JE33: 13 | JF33: 116 | JG33: 13 | JH33: 116
A34: 25 | B34: =IF(MOD(A33,$I$14*$I$16)=0,B33+1,B33) -> 1 | C34: =IF(C33<>$I$14,C33+1,1) -> 9 | D34: =VLOOKUP(C34,$K$15:$L$30,2,FALSE) -> Court 9 | E34: =IF(B34=B33,IF(C34>C33,E33,E33+$I$15),$I$13) -> 0.70833333 | F34: =IF(B34=B33,F33,F33+1) -> 42040 | O34: =O33+1 -> 26 | P34: =IF(O34<>"",VLOOKUP(O34,$A$10:$F$266,6,FALSE),"") -> 42040 | Q34: =IF(O34<>"",VLOOKUP(O34,$A$10:$F$266,5,FALSE),"") -> 0.70833333 | R34: =IF(O34<>"",VLOOKUP(O34,$A$10:$F$266,4,FALSE),"") -> Court 10 | S34: =IF(OFFSET(U34,0,$S$6)<>"",OFFSET(U34,0,$S$6),"Bye") -> Bye | T34: =IF(OFFSET(V34,0,$S$6)<>"",OFFSET(V34,0,$S$6),"Bye") -> Bye | BY34: 26 | CA34: 26 | CC34: 26 | CE34: 26 | CG34: 26 | CI34: 26 | CK34: 26 | CL34: 39 | CM34: 26 | CN34: 39 | CO34: 26 | CP34: 39 | CQ34: 26 | CR34: 39 | CS34: 26 | CT34: 39 | CU34: 26 | CV34: 39 | CW34: 26 | CX34: 39 | CY34: 26 | CZ34: 39 | DA34: 26 | DB34: 39 | DC34: 26 | DD34: 39 | DE34: 26 | DF34: 39 | DG34: 26 | DH34: 39 | DI34: 26 | DJ34: 39 | DK34: 26 | DL34: 39 | DM34: 26 | DN34: 39 | DO34: 26 | DP34: 39 | DQ34: 26 | DR34: 39 | DS34: 26 | DT34: 39 | DU34: 26 | DV34: 39 | DW34: 26 | DX34: 39 | DY34: 26 | DZ34: 39 | EA34: 26 | EB34: 39 | EC34: 26 | ED34: 39 | EE34: 26 | EF34: 39 | EG34: 26 | EH34: 39 | EI34: 26 | EJ34: 39 | EK34: 52 | EM34: 52 | EO34: 52 | EQ34: 52 | ES34: 52 | EU34: 52 | EW34: 52 | EY34: 52 | FA34: 52 | FC34: 52 | FE34: 52 | FG34: 52 | FI34: 52 | FJ34: 77 | FK34: 52 | FL34: 77 | FM34: 52 | FN34: 77 | FO34: 52 | FP34: 77 | FQ34: 52 | FR34: 77 | FS34: 52 | FT34: 77 | FU34: 52 | FV34: 77 | FW34: 52 | FX34: 77 | FY34: 52 | FZ34: 77 | GA34: 52 | GB34: 77 | GC34: 52 | GD34: 77 | GE34: 52 | GF34: 77 | GG34: 52 | GH34: 77 | GI34: 52 | GJ34: 77 | GK34: 52 | GL34: 77 | GM34: 52 | GN34: 77 | GO34: 52 | GP34: 77 | GQ34: 52 | GR34: 77 | GS34: 52 | GT34: 77 | GU34: 52 | GV34: 77 | GW34: 52 | GX34: 77 | GY34: 52 | GZ34: 77 | HA34: 52 | HB34: 77 | HC34: 52 | HD34: 77 | HE34: 52 | HF34: 77 | HG34: 52 | HH34: 77 | HI34: 52 | HJ34: 77 | HK34: 52 | HL34: 77 | HM34: 52 | HN34: 77 | HO34: 52 | HP34: 77 | HQ34: 52 | HR34: 77 | HS34: 52 | HT34: 77 | HU34: 52 | HV34: 77 | HW34: 52 | HX34: 77 | HY34: 52 | HZ34: 77 | IA34: 52 | IB34: 77 | IC34: 52 | ID34: 77 | IE34: 52 | IF34: 77 | IG34: 52 | IH34: 77 | II34: 52 | IJ34: 77 | IK34: 52 | IL34: 77 | IM34: 52 | IN34: 77 | IO34: 52 | IP34: 77 | IQ34: 52 | IR34: 77 | IS34: 52 | IT34: 77 | IU34: 52 | IV34: 77 | IW34: 52 | IX34: 77 | IY34: 52 | IZ34: 77 | JA34: 52 | JB34: 77 | JC34: 52 | JD34: 77 | JE34: 52 | JF34: 77 | JG34: 52 | JH34: 77
A35: 26 | B35: =IF(MOD(A34,$I$14*$I$16)=0,B34+1,B34) -> 1 | C35: =IF(C34<>$I$14,C34+1,1) -> 10 | D35: =VLOOKUP(C35,$K$15:$L$30,2,FALSE) -> Court 10 | E35: =IF(B35=B34,IF(C35>C34,E34,E34+$I$15),$I$13) -> 0.70833333 | F35: =IF(B35=B34,F34,F34+1) -> 42040 | O35: =O34+1 -> 27 | P35: =IF(O35<>"",VLOOKUP(O35,$A$10:$F$266,6,FALSE),"") -> 42040 | Q35: =IF(O35<>"",VLOOKUP(O35,$A$10:$F$266,5,FALSE),"") -> 0.70833333 | R35: =IF(O35<>"",VLOOKUP(O35,$A$10:$F$266,4,FALSE),"") -> Court 11 | S35: =IF(OFFSET(U35,0,$S$6)<>"",OFFSET(U35,0,$S$6),"Bye") -> Bye | T35: =IF(OFFSET(V35,0,$S$6)<>"",OFFSET(V35,0,$S$6),"Bye") -> Bye | BY35: 10 | CA35: 10 | CC35: 10 | CE35: 10 | CG35: 10 | CI35: 10 | CK35: 10 | CM35: 10 | CO35: 10 | CQ35: 10 | CS35: 10 | CU35: 10 | CW35: 10 | CY35: 10 | DA35: 10 | DC35: 10 | DE35: 10 | DG35: 10 | DI35: 10 | DK35: 10 | DM35: 10 | DO35: 10 | DQ35: 10 | DR35: 55 | DS35: 10 | DT35: 55 | DU35: 10 | DV35: 55 | DW35: 10 | DX35: 55 | DY35: 10 | DZ35: 55 | EA35: 10 | EB35: 55 | EC35: 10 | ED35: 55 | EE35: 10 | EF35: 55 | EG35: 10 | EH35: 55 | EI35: 10 | EJ35: 55 | EK35: 20 | EM35: 20 | EO35: 20 | EQ35: 20 | ES35: 20 | EU35: 20 | EW35: 20 | EY35: 20 | FA35: 20 | FC35: 20 | FE35: 20 | FG35: 20 | FI35: 20 | FK35: 20 | FM35: 20 | FO35: 20 | FQ35: 20 | FS35: 20 | FU35: 20 | FW35: 20 | FY35: 20 | GA35: 20 | GC35: 20 | GE35: 20 | GG35: 20 | GI35: 20 | GK35: 20 | GM35: 20 | GO35: 20 | GQ35: 20 | GS35: 20 | GU35: 20 | GW35: 20 | GY35: 20 | HA35: 20 | HC35: 20 | HE35: 20 | HG35: 20 | HI35: 20 | HK35: 20 | HM35: 20 | HO35: 20 | HQ35: 20 | HS35: 20 | HU35: 20 | HV35: 109 | HW35: 20 | HX35: 109 | HY35: 20 | HZ35: 109 | IA35: 20 | IB35: 109 | IC35: 20 | ID35: 109 | IE35: 20 | IF35: 109 | IG35: 20 | IH35: 109 | II35: 20 | IJ35: 109 | IK35: 20 | IL35: 109 | IM35: 20 | IN35: 109 | IO35: 20 | IP35: 109 | IQ35: 20 | IR35: 109 | IS35: 20 | IT35: 109 | IU35: 20 | IV35: 109 | IW35: 20 | IX35: 109 | IY35: 20 | IZ35: 109 | JA35: 20 | JB35: 109 | JC35: 20 | JD35: 109 | JE35: 20 | JF35: 109 | JG35: 20 | JH35: 109
A36: 27 | B36: =IF(MOD(A35,$I$14*$I$16)=0,B35+1,B35) -> 1 | C36: =IF(C35<>$I$14,C35+1,1) -> 11 | D36: =VLOOKUP(C36,$K$15:$L$30,2,FALSE) -> Court 11 | E36: =IF(B36=B35,IF(C36>C35,E35,E35+$I$15),$I$13) -> 0.70833333 | F36: =IF(B36=B35,F35,F35+1) -> 42040 | O36: =O35+1 -> 28 | P36: =IF(O36<>"",VLOOKUP(O36,$A$10:$F$266,6,FALSE),"") -> 42040 | Q36: =IF(O36<>"",VLOOKUP(O36,$A$10:$F$266,5,FALSE),"") -> 0.70833333 | R36: =IF(O36<>"",VLOOKUP(O36,$A$10:$F$266,4,FALSE),"") -> Court 12 | S36: =IF(OFFSET(U36,0,$S$6)<>"",OFFSET(U36,0,$S$6),"Bye") -> Bye | T36: =IF(OFFSET(V36,0,$S$6)<>"",OFFSET(V36,0,$S$6),"Bye") -> Bye | BY36: 23 | CA36: 23 | CC36: 23 | CE36: 23 | CG36: 23 | CI36: 23 | CK36: 23 | CM36: 23 | CO36: 23 | CQ36: 23 | CR36: 42 | CS36: 23 | CT36: 42 | CU36: 23 | CV36: 42 | CW36: 23 | CX36: 42 | CY36: 23 | CZ36: 42 | DA36: 23 | DB36: 42 | DC36: 23 | DD36: 42 | DE36: 23 | DF36: 42 | DG36: 23 | DH36: 42 | DI36: 23 | DJ36: 42 | DK36: 23 | DL36: 42 | DM36: 23 | DN36: 42 | DO36: 23 | DP36: 42 | DQ36: 23 | DR36: 42 | DS36: 23 | DT36: 42 | DU36: 23 | DV36: 42 | DW36: 23 | DX36: 42 | DY36: 23 | DZ36: 42 | EA36: 23 | EB36: 42 | EC36: 23 | ED36: 42 | EE36: 23 | EF36: 42 | EG36: 23 | EH36: 42 | EI36: 23 | EJ36: 42 | EK36: 45 | EM36: 45 | EO36: 45 | EQ36: 45 | ES36: 45 | EU36: 45 | EW36: 45 | EY36: 45 | FA36: 45 | FC36: 45 | FE36: 45 | FG36: 45 | FI36: 45 | FK36: 45 | FM36: 45 | FO36: 45 | FQ36: 45 | FS36: 45 | FU36: 45 | FW36: 45 | FX36: 84 | FY36: 45 | FZ36: 84 | GA36: 45 | GB36: 84 | GC36: 45 | GD36: 84 | GE36: 45 | GF36: 84 | GG36: 45 | GH36: 84 | GI36: 45 | GJ36: 84 | GK36: 45 | GL36: 84 | GM36: 45 | GN36: 84 | GO36: 45 | GP36: 84 | GQ36: 45 | GR36: 84 | GS36: 45 | GT36: 84 | GU36: 45 | GV36: 84 | GW36: 45 | GX36: 84 | GY36: 45 | GZ36: 84 | HA36: 45 | HB36: 84 | HC36: 45 | HD36: 84 | HE36: 45 | HF36: 84 | HG36: 45 | HH36: 84 | HI36: 45 | HJ36: 84 | HK36: 45 | HL36: 84 | HM36: 45 | HN36: 84 | HO36: 45 | HP36: 84 | HQ36: 45 | HR36: 84 | HS36: 45 | HT36: 84 | HU36: 45 | HV36: 84 | HW36: 45 | HX36: 84 | HY36: 45 | HZ36: 84 | IA36: 45 | IB36: 84 | IC36: 45 | ID36: 84 | IE36: 45 | IF36: 84 | IG36: 45 | IH36: 84 | II36: 45 | IJ36: 84 | IK36: 45 | IL36: 84 | IM36: 45 | IN36: 84 | IO36: 45 | IP36: 84 | IQ36: 45 | IR36: 84 | IS36: 45 | IT36: 84 | IU36: 45 | IV36: 84 | IW36: 45 | IX36: 84 | IY36: 45 | IZ36: 84 | JA36: 45 | JB36: 84 | JC36: 45 | JD36: 84 | JE36: 45 | JF36: 84 | JG36: 45 | JH36: 84
A37: 28 | B37: =IF(MOD(A36,$I$14*$I$16)=0,B36+1,B36) -> 1 | C37: =IF(C36<>$I$14,C36+1,1) -> 12 | D37: =VLOOKUP(C37,$K$15:$L$30,2,FALSE) -> Court 12 | E37: =IF(B37=B36,IF(C37>C36,E36,E36+$I$15),$I$13) -> 0.70833333 | F37: =IF(B37=B36,F36,F36+1) -> 42040 | O37: =O36+1 -> 29 | P37: =IF(O37<>"",VLOOKUP(O37,$A$10:$F$266,6,FALSE),"") -> 42040 | Q37: =IF(O37<>"",VLOOKUP(O37,$A$10:$F$266,5,FALSE),"") -> 0.70833333 | R37: =IF(O37<>"",VLOOKUP(O37,$A$10:$F$266,4,FALSE),"") -> Court 13 | S37: =IF(OFFSET(U37,0,$S$6)<>"",OFFSET(U37,0,$S$6),"Bye") -> Bye | T37: =IF(OFFSET(V37,0,$S$6)<>"",OFFSET(V37,0,$S$6),"Bye") -> Bye | BY37: 15 | CA37: 15 | CC37: 15 | CE37: 15 | CG37: 15 | CI37: 15 | CK37: 15 | CM37: 15 | CO37: 15 | CQ37: 15 | CS37: 15 | CU37: 15 | CW37: 15 | CY37: 15 | DA37: 15 | DC37: 15 | DE37: 15 | DG37: 15 | DH37: 50 | DI37: 15 | DJ37: 50 | DK37: 15 | DL37: 50 | DM37: 15 | DN37: 50 | DO37: 15 | DP37: 50 | DQ37: 15 | DR37: 50 | DS37: 15 | DT37: 50 | DU37: 15 | DV37: 50 | DW37: 15 | DX37: 50 | DY37: 15 | DZ37: 50 | EA37: 15 | EB37: 50 | EC37: 15 | ED37: 50 | EE37: 15 | EF37: 50 | EG37: 15 | EH37: 50 | EI37: 15 | EJ37: 50 | EK37: 29 | EM37: 29 | EO37: 29 | EQ37: 29 | ES37: 29 | EU37: 29 | EW37: 29 | EY37: 29 | FA37: 29 | FC37: 29 | FE37: 29 | FG37: 29 | FI37: 29 | FK37: 29 | FM37: 29 | FO37: 29 | FQ37: 29 | FS37: 29 | FU37: 29 | FW37: 29 | FY37: 29 | GA37: 29 | GC37: 29 | GE37: 29 | GG37: 29 | GI37: 29 | GK37: 29 | GM37: 29 | GO37: 29 | GQ37: 29 | GS37: 29 | GU37: 29 | GW37: 29 | GY37: 29 | HA37: 29 | HC37: 29 | HD37: 100 | HE37: 29 | HF37: 100 | HG37: 29 | HH37: 100 | HI37: 29 | HJ37: 100 | HK37: 29 | HL37: 100 | HM37: 29 | HN37: 100 | HO37: 29 | HP37: 100 | HQ37: 29 | HR37: 100 | HS37: 29 | HT37: 100 | HU37: 29 | HV37: 100 | HW37: 29 | HX37: 100 | HY37: 29 | HZ37: 100 | IA37: 29 | IB37: 100 | IC37: 29 | ID37: 100 | IE37: 29 | IF37: 100 | IG37: 29 | IH37: 100 | II37: 29 | IJ37: 100 | IK37: 29 | IL37: 100 | IM37: 29 | IN37: 100 | IO37: 29 | IP37: 100 | IQ37: 29 | IR37: 100 | IS37: 29 | IT37: 100 | IU37: 29 | IV37: 100 | IW37: 29 | IX37: 100 | IY37: 29 | IZ37: 100 | JA37: 29 | JB37: 100 | JC37: 29 | JD37: 100 | JE37: 29 | JF37: 100 | JG37: 29 | JH37: 100
A38: 29 | B38: =IF(MOD(A37,$I$14*$I$16)=0,B37+1,B37) -> 1 | C38: =IF(C37<>$I$14,C37+1,1) -> 13 | D38: =VLOOKUP(C38,$K$15:$L$30,2,FALSE) -> Court 13 | E38: =IF(B38=B37,IF(C38>C37,E37,E37+$I$15),$I$13) -> 0.70833333 | F38: =IF(B38=B37,F37,F37+1) -> 42040 | O38: =O37+1 -> 30 | P38: =IF(O38<>"",VLOOKUP(O38,$A$10:$F$266,6,FALSE),"") -> 42040 | Q38: =IF(O38<>"",VLOOKUP(O38,$A$10:$F$266,5,FALSE),"") -> 0.70833333 | R38: =IF(O38<>"",VLOOKUP(O38,$A$10:$F$266,4,FALSE),"") -> Court 14 | S38: =IF(OFFSET(U38,0,$S$6)<>"",OFFSET(U38,0,$S$6),"Bye") -> Bye | T38: =IF(OFFSET(V38,0,$S$6)<>"",OFFSET(V38,0,$S$6),"Bye") -> Bye | BY38: 18 | CA38: 18 | CC38: 18 | CE38: 18 | CG38: 18 | CI38: 18 | CK38: 18 | CM38: 18 | CO38: 18 | CQ38: 18 | CS38: 18 | CU38: 18 | CW38: 18 | CY38: 18 | DA38: 18 | DB38: 47 | DC38: 18 | DD38: 47 | DE38: 18 | DF38: 47 | DG38: 18 | DH38: 47 | DI38: 18 | DJ38: 47 | DK38: 18 | DL38: 47 | DM38: 18 | DN38: 47 | DO38: 18 | DP38: 47 | DQ38: 18 | DR38: 47 | DS38: 18 | DT38: 47 | DU38: 18 | DV38: 47 | DW38: 18 | DX38: 47 | DY38: 18 | DZ38: 47 | EA38: 18 | EB38: 47 | EC38: 18 | ED38: 47 | EE38: 18 | EF38: 47 | EG38: 18 | EH38: 47 | EI38: 18 | EJ38: 47 | EK38: 36 | EM38: 36 | EO38: 36 | EQ38: 36 | ES38: 36 | EU38: 36 | EW38: 36 | EY38: 36 | FA38: 36 | FC38: 36 | FE38: 36 | FG38: 36 | FI38: 36 | FK38: 36 | FM38: 36 | FO38: 36 | FQ38: 36 | FS38: 36 | FU38: 36 | FW38: 36 | FY38: 36 | GA38: 36 | GC38: 36 | GE38: 36 | GG38: 36 | GI38: 36 | GK38: 36 | GM38: 36 | GO38: 36 | GP38: 93 | GQ38: 36 | GR38: 93 | GS38: 36 | GT38: 93 | GU38: 36 | GV38: 93 | GW38: 36 | GX38: 93 | GY38: 36 | GZ38: 93 | HA38: 36 | HB38: 93 | HC38: 36 | HD38: 93 | HE38: 36 | HF38: 93 | HG38: 36 | HH38: 93 | HI38: 36 | HJ38: 93 | HK38: 36 | HL38: 93 | HM38: 36 | HN38: 93 | HO38: 36 | HP38: 93 | HQ38: 36 | HR38: 93 | HS38: 36 | HT38: 93 | HU38: 36 | HV38: 93 | HW38: 36 | HX38: 93 | HY38: 36 | HZ38: 93 | IA38: 36 | IB38: 93 | IC38: 36 | ID38: 93 | IE38: 36 | IF38: 93 | IG38: 36 | IH38: 93 | II38: 36 | IJ38: 93 | IK38: 36 | IL38: 93 | IM38: 36 | IN38: 93 | IO38: 36 | IP38: 93 | IQ38: 36 | IR38: 93 | IS38: 36 | IT38: 93 | IU38: 36 | IV38: 93 | IW38: 36 | IX38: 93 | IY38: 36 | IZ38: 93 | JA38: 36 | JB38: 93 | JC38: 36 | JD38: 93 | JE38: 36 | JF38: 93 | JG38: 36 | JH38: 93
A39: 30 | B39: =IF(MOD(A38,$I$14*$I$16)=0,B38+1,B38) -> 1 | C39: =IF(C38<>$I$14,C38+1,1) -> 14 | D39: =VLOOKUP(C39,$K$15:$L$30,2,FALSE) -> Court 14 | E39: =IF(B39=B38,IF(C39>C38,E38,E38+$I$15),$I$13) -> 0.70833333 | F39: =IF(B39=B38,F38,F38+1) -> 42040 | O39: =O38+1 -> 31 | P39: =IF(O39<>"",VLOOKUP(O39,$A$10:$F$266,6,FALSE),"") -> 42040 | Q39: =IF(O39<>"",VLOOKUP(O39,$A$10:$F$266,5,FALSE),"") -> 0.70833333 | R39: =IF(O39<>"",VLOOKUP(O39,$A$10:$F$266,4,FALSE),"") -> Court 15 | S39: =IF(OFFSET(U39,0,$S$6)<>"",OFFSET(U39,0,$S$6),"Bye") -> Bye | T39: =IF(OFFSET(V39,0,$S$6)<>"",OFFSET(V39,0,$S$6),"Bye") -> Bye | BY39: 31 | CA39: 31 | CB39: 34 | CC39: 31 | CD39: 34 | CE39: 31 | CF39: 34 | CG39: 31 | CH39: 34 | CI39: 31 | CJ39: 34 | CK39: 31 | CL39: 34 | CM39: 31 | CN39: 34 | CO39: 31 | CP39: 34 | CQ39: 31 | CR39: 34 | CS39: 31 | CT39: 34 | CU39: 31 | CV39: 34 | CW39: 31 | CX39: 34 | CY39: 31 | CZ39: 34 | DA39: 31 | DB39: 34 | DC39: 31 | DD39: 34 | DE39: 31 | DF39: 34 | DG39: 31 | DH39: 34 | DI39: 31 | DJ39: 34 | DK39: 31 | DL39: 34 | DM39: 31 | DN39: 34 | DO39: 31 | DP39: 34 | DQ39: 31 | DR39: 34 | DS39: 31 | DT39: 34 | DU39: 31 | DV39: 34 | DW39: 31 | DX39: 34 | DY39: 31 | DZ39: 34 | EA39: 31 | EB39: 34 | EC39: 31 | ED39: 34 | EE39: 31 | EF39: 34 | EG39: 31 | EH39: 34 | EI39: 31 | EJ39: 34 | EK39: 4 | EM39: 4 | EO39: 4 | EQ39: 4 | ES39: 4 | EU39: 4 | EW39: 4 | EY39: 4 | FA39: 4 | FC39: 4 | FE39: 4 | FG39: 4 | FI39: 4 | FK39: 4 | FM39: 4 | FO39: 4 | FQ39: 4 | FS39: 4 | FU39: 4 | FW39: 4 | FY39: 4 | GA39: 4 | GC39: 4 | GE39: 4 | GG39: 4 | GI39: 4 | GK39: 4 | GM39: 4 | GO39: 4 | GQ39: 4 | GS39: 4 | GU39: 4 | GW39: 4 | GY39: 4 | HA39: 4 | HC39: 4 | HE39: 4 | HG39: 4 | HI39: 4 | HK39: 4 | HM39: 4 | HO39: 4 | HQ39: 4 | HS39: 4 | HU39: 4 | HW39: 4 | HY39: 4 | IA39: 4 | IC39: 4 | IE39: 4 | IG39: 4 | II39: 4 | IK39: 4 | IM39: 4 | IO39: 4 | IQ39: 4 | IS39: 4 | IU39: 4 | IW39: 4 | IY39: 4 | JA39: 4 | JB39: 125 | JC39: 4 | JD39: 125 | JE39: 4 | JF39: 125 | JG39: 4 | JH39: 125
A40: 31 | B40: =IF(MOD(A39,$I$14*$I$16)=0,B39+1,B39) -> 1 | C40: =IF(C39<>$I$14,C39+1,1) -> 15 | D40: =VLOOKUP(C40,$K$15:$L$30,2,FALSE) -> Court 15 | E40: =IF(B40=B39,IF(C40>C39,E39,E39+$I$15),$I$13) -> 0.70833333 | F40: =IF(B40=B39,F39,F39+1) -> 42040 | O40: =O39+1 -> 32 | P40: =IF(O40<>"",VLOOKUP(O40,$A$10:$F$266,6,FALSE),"") -> 42040 | Q40: =IF(O40<>"",VLOOKUP(O40,$A$10:$F$266,5,FALSE),"") -> 0.70833333 | R40: =IF(O40<>"",VLOOKUP(O40,$A$10:$F$266,4,FALSE),"") -> Court 16 | S40: =IF(OFFSET(U40,0,$S$6)<>"",OFFSET(U40,0,$S$6),"Bye") -> Bye | T40: =IF(OFFSET(V40,0,$S$6)<>"",OFFSET(V40,0,$S$6),"Bye") -> Bye | BY40: 2 | CA40: 2 | CC40: 2 | CE40: 2 | CG40: 2 | CI40: 2 | CK40: 2 | CM40: 2 | CO40: 2 | CQ40: 2 | CS40: 2 | CU40: 2 | CW40: 2 | CY40: 2 | DA40: 2 | DC40: 2 | DE40: 2 | DG40: 2 | DI40: 2 | DK40: 2 | DM40: 2 | DO40: 2 | DQ40: 2 | DS40: 2 | DU40: 2 | DW40: 2 | DY40: 2 | EA40: 2 | EC40: 2 | EE40: 2 | EG40: 2 | EH40: 63 | EI40: 2 | EJ40: 63 | EK40: 61 | EM40: 61 | EO40: 61 | EQ40: 61 | ER40: 68 | ES40: 61 | ET40: 68 | EU40: 61 | EV40: 68 | EW40: 61 | EX40: 68 | EY40: 61 | EZ40: 68 | FA40: 61 | FB40: 68 | FC40: 61 | FD40: 68 | FE40: 61 | FF40: 68 | FG40: 61 | FH40: 68 | FI40: 61 | FJ40: 68 | FK40: 61 | FL40: 68 | FM40: 61 | FN40: 68 | FO40: 61 | FP40: 68 | FQ40: 61 | FR40: 68 | FS40: 61 | FT40: 68 | FU40: 61 | FV40: 68 | FW40: 61 | FX40: 68 | FY40: 61 | FZ40: 68 | GA40: 61 | GB40: 68 | GC40: 61 | GD40: 68 | GE40: 61 | GF40: 68 | GG40: 61 | GH40: 68 | GI40: 61 | GJ40: 68 | GK40: 61 | GL40: 68 | GM40: 61 | GN40: 68 | GO40: 61 | GP40: 68 | GQ40: 61 | GR40: 68 | GS40: 61 | GT40: 68 | GU40: 61 | GV40: 68 | GW40: 61 | GX40: 68 | GY40: 61 | GZ40: 68 | HA40: 61 | HB40: 68 | HC40: 61 | HD40: 68 | HE40: 61 | HF40: 68 | HG40: 61 | HH40: 68 | HI40: 61 | HJ40: 68 | HK40: 61 | HL40: 68 | HM40: 61 | HN40: 68 | HO40: 61 | HP40: 68 | HQ40: 61 | HR40: 68 | HS40: 61 | HT40: 68 | HU40: 61 | HV40: 68 | HW40: 61 | HX40: 68 | HY40: 61 | HZ40: 68 | IA40: 61 | IB40: 68 | IC40: 61 | ID40: 68 | IE40: 61 | IF40: 68 | IG40: 61 | IH40: 68 | II40: 61 | IJ40: 68 | IK40: 61 | IL40: 68 | IM40: 61 | IN40: 68 | IO40: 61 | IP40: 68 | IQ40: 61 | IR40: 68 | IS40: 61 | IT40: 68 | IU40: 61 | IV40: 68 | IW40: 61 | IX40: 68 | IY40: 61 | IZ40: 68 | JA40: 61 | JB40: 68 | JC40: 61 | JD40: 68 | JE40: 61 | JF40: 68 | JG40: 61 | JH40: 68
A41: 32 | B41: =IF(MOD(A40,$I$14*$I$16)=0,B40+1,B40) -> 1 | C41: =IF(C40<>$I$14,C40+1,1) -> 16 | D41: =VLOOKUP(C41,$K$15:$L$30,2,FALSE) -> Court 16 | E41: =IF(B41=B40,IF(C41>C40,E40,E40+$I$15),$I$13) -> 0.70833333 | F41: =IF(B41=B40,F40,F40+1) -> 42040 | O41: =O40+1 -> 33 | P41: =IF(O41<>"",VLOOKUP(O41,$A$10:$F$266,6,FALSE),"") -> 42040 | Q41: =IF(O41<>"",VLOOKUP(O41,$A$10:$F$266,5,FALSE),"") -> 0.79166667 | R41: =IF(O41<>"",VLOOKUP(O41,$A$10:$F$266,4,FALSE),"") -> Court 1 | S41: =IF(OFFSET(U41,0,$S$6)<>"",OFFSET(U41,0,$S$6),"Bye") -> Bye | T41: =IF(OFFSET(V41,0,$S$6)<>"",OFFSET(V41,0,$S$6),"Bye") -> Bye | EK41: 3 | EM41: 3 | EO41: 3 | EQ41: 3 | ES41: 3 | EU41: 3 | EW41: 3 | EY41: 3 | FA41: 3 | FC41: 3 | FE41: 3 | FG41: 3 | FI41: 3 | FK41: 3 | FM41: 3 | FO41: 3 | FQ41: 3 | FS41: 3 | FU41: 3 | FW41: 3 | FY41: 3 | GA41: 3 | GC41: 3 | GE41: 3 | GG41: 3 | GI41: 3 | GK41: 3 | GM41: 3 | GO41: 3 | GQ41: 3 | GS41: 3 | GU41: 3 | GW41: 3 | GY41: 3 | HA41: 3 | HC41: 3 | HE41: 3 | HG41: 3 | HI41: 3 | HK41: 3 | HM41: 3 | HO41: 3 | HQ41: 3 | HS41: 3 | HU41: 3 | HW41: 3 | HY41: 3 | IA41: 3 | IC41: 3 | IE41: 3 | IG41: 3 | II41: 3 | IK41: 3 | IM41: 3 | IO41: 3 | IQ41: 3 | IS41: 3 | IU41: 3 | IW41: 3 | IY41: 3 | JA41: 3 | JC41: 3 | JD41: 126 | JE41: 3 | JF41: 126 | JG41: 3 | JH41: 126
A42: 33 | B42: =IF(MOD(A41,$I$14*$I$16)=0,B41+1,B41) -> 1 | C42: =IF(C41<>$I$14,C41+1,1) -> 1 | D42: =VLOOKUP(C42,$K$15:$L$30,2,FALSE) -> Court 1 | E42: =IF(B42=B41,IF(C42>C41,E41,E41+$I$15),$I$13) -> 0.79166667 | F42: =IF(B42=B41,F41,F41+1) -> 42040 | K42: SEEDED | L42: PLAYER NAME | O42: =O41+1 -> 34 | P42: =IF(O42<>"",VLOOKUP(O42,$A$10:$F$266,6,FALSE),"") -> 42040 | Q42: =IF(O42<>"",VLOOKUP(O42,$A$10:$F$266,5,FALSE),"") -> 0.79166667 | R42: =IF(O42<>"",VLOOKUP(O42,$A$10:$F$266,4,FALSE),"") -> Court 2 | S42: =IF(OFFSET(U42,0,$S$6)<>"",OFFSET(U42,0,$S$6),"Bye") -> Bye | T42: =IF(OFFSET(V42,0,$S$6)<>"",OFFSET(V42,0,$S$6),"Bye") -> Bye | EK42: 62 | EM42: 62 | EO42: 62 | EP42: 67 | EQ42: 62 | ER42: 67 | ES42: 62 | ET42: 67 | EU42: 62 | EV42: 67 | EW42: 62 | EX42: 67 | EY42: 62 | EZ42: 67 | FA42: 62 | FB42: 67 | FC42: 62 | FD42: 67 | FE42: 62 | FF42: 67 | FG42: 62 | FH42: 67 | FI42: 62 | FJ42: 67 | FK42: 62 | FL42: 67 | FM42: 62 | FN42: 67 | FO42: 62 | FP42: 67 | FQ42: 62 | FR42: 67 | FS42: 62 | FT42: 67 | FU42: 62 | FV42: 67 | FW42: 62 | FX42: 67 | FY42: 62 | FZ42: 67 | GA42: 62 | GB42: 67 | GC42: 62 | GD42: 67 | GE42: 62 | GF42: 67 | GG42: 62 | GH42: 67 | GI42: 62 | GJ42: 67 | GK42: 62 | GL42: 67 | GM42: 62 | GN42: 67 | GO42: 62 | GP42: 67 | GQ42: 62 | GR42: 67 | GS42: 62 | GT42: 67 | GU42: 62 | GV42: 67 | GW42: 62 | GX42: 67 | GY42: 62 | GZ42: 67 | HA42: 62 | HB42: 67 | HC42: 62 | HD42: 67 | HE42: 62 | HF42: 67 | HG42: 62 | HH42: 67 | HI42: 62 | HJ42: 67 | HK42: 62 | HL42: 67 | HM42: 62 | HN42: 67 | HO42: 62 | HP42: 67 | HQ42: 62 | HR42: 67 | HS42: 62 | HT42: 67 | HU42: 62 | HV42: 67 | HW42: 62 | HX42: 67 | HY42: 62 | HZ42: 67 | IA42: 62 | IB42: 67 | IC42: 62 | ID42: 67 | IE42: 62 | IF42: 67 | IG42: 62 | IH42: 67 | II42: 62 | IJ42: 67 | IK42: 62 | IL42: 67 | IM42: 62 | IN42: 67 | IO42: 62 | IP42: 67 | IQ42: 62 | IR42: 67 | IS42: 62 | IT42: 67 | IU42: 62 | IV42: 67 | IW42: 62 | IX42: 67 | IY42: 62 | IZ42: 67 | JA42: 62 | JB42: 67 | JC42: 62 | JD42: 67 | JE42: 62 | JF42: 67 | JG42: 62 | JH42: 67
A43: 34 | B43: =IF(MOD(A42,$I$14*$I$16)=0,B42+1,B42) -> 1 | C43: =IF(C42<>$I$14,C42+1,1) -> 2 | D43: =VLOOKUP(C43,$K$15:$L$30,2,FALSE) -> Court 2 | E43: =IF(B43=B42,IF(C43>C42,E42,E42+$I$15),$I$13) -> 0.79166667 | F43: =IF(B43=B42,F42,F42+1) -> 42040 | O43: =O42+1 -> 35 | P43: =IF(O43<>"",VLOOKUP(O43,$A$10:$F$266,6,FALSE),"") -> 42040 | Q43: =IF(O43<>"",VLOOKUP(O43,$A$10:$F$266,5,FALSE),"") -> 0.79166667 | R43: =IF(O43<>"",VLOOKUP(O43,$A$10:$F$266,4,FALSE),"") -> Court 3 | S43: =IF(OFFSET(U43,0,$S$6)<>"",OFFSET(U43,0,$S$6),"Bye") -> Bye | T43: =IF(OFFSET(V43,0,$S$6)<>"",OFFSET(V43,0,$S$6),"Bye") -> Bye | EK43: 30 | EM43: 30 | EO43: 30 | EQ43: 30 | ES43: 30 | EU43: 30 | EW43: 30 | EY43: 30 | FA43: 30 | FC43: 30 | FE43: 30 | FG43: 30 | FI43: 30 | FK43: 30 | FM43: 30 | FO43: 30 | FQ43: 30 | FS43: 30 | FU43: 30 | FW43: 30 | FY43: 30 | GA43: 30 | GC43: 30 | GE43: 30 | GG43: 30 | GI43: 30 | GK43: 30 | GM43: 30 | GO43: 30 | GQ43: 30 | GS43: 30 | GU43: 30 | GW43: 30 | GY43: 30 | HA43: 30 | HB43: 99 | HC43: 30 | HD43: 99 | HE43: 30 | HF43: 99 | HG43: 30 | HH43: 99 | HI43: 30 | HJ43: 99 | HK43: 30 | HL43: 99 | HM43: 30 | HN43: 99 | HO43: 30 | HP43: 99 | HQ43: 30 | HR43: 99 | HS43: 30 | HT43: 99 | HU43: 30 | HV43: 99 | HW43: 30 | HX43: 99 | HY43: 30 | HZ43: 99 | IA43: 30 | IB43: 99 | IC43: 30 | ID43: 99 | IE43: 30 | IF43: 99 | IG43: 30 | IH43: 99 | II43: 30 | IJ43: 99 | IK43: 30 | IL43: 99 | IM43: 30 | IN43: 99 | IO43: 30 | IP43: 99 | IQ43: 30 | IR43: 99 | IS43: 30 | IT43: 99 | IU43: 30 | IV43: 99 | IW43: 30 | IX43: 99 | IY43: 30 | IZ43: 99 | JA43: 30 | JB43: 99 | JC43: 30 | JD43: 99 | JE43: 30 | JF43: 99 | JG43: 30 | JH43: 99
A44: 35 | B44: =IF(MOD(A43,$I$14*$I$16)=0,B43+1,B43) -> 1 | C44: =IF(C43<>$I$14,C43+1,1) -> 3 | D44: =VLOOKUP(C44,$K$15:$L$30,2,FALSE) -> Court 3 | E44: =IF(B44=B43,IF(C44>C43,E43,E43+$I$15),$I$13) -> 0.79166667 | F44: =IF(B44=B43,F43,F43+1) -> 42040 | O44: =O43+1 -> 36 | P44: =IF(O44<>"",VLOOKUP(O44,$A$10:$F$266,6,FALSE),"") -> 42040 | Q44: =IF(O44<>"",VLOOKUP(O44,$A$10:$F$266,5,FALSE),"") -> 0.79166667 | R44: =IF(O44<>"",VLOOKUP(O44,$A$10:$F$266,4,FALSE),"") -> Court 4 | S44: =IF(OFFSET(U44,0,$S$6)<>"",OFFSET(U44,0,$S$6),"Bye") -> Bye | T44: =IF(OFFSET(V44,0,$S$6)<>"",OFFSET(V44,0,$S$6),"Bye") -> Bye | EK44: 35 | EM44: 35 | EO44: 35 | EQ44: 35 | ES44: 35 | EU44: 35 | EW44: 35 | EY44: 35 | FA44: 35 | FC44: 35 | FE44: 35 | FG44: 35 | FI44: 35 | FK44: 35 | FM44: 35 | FO44: 35 | FQ44: 35 | FS44: 35 | FU44: 35 | FW44: 35 | FY44: 35 | GA44: 35 | GC44: 35 | GE44: 35 | GG44: 35 | GI44: 35 | GK44: 35 | GM44: 35 | GO44: 35 | GQ44: 35 | GR44: 94 | GS44: 35 | GT44: 94 | GU44: 35 | GV44: 94 | GW44: 35 | GX44: 94 | GY44: 35 | GZ44: 94 | HA44: 35 | HB44: 94 | HC44: 35 | HD44: 94 | HE44: 35 | HF44: 94 | HG44: 35 | HH44: 94 | HI44: 35 | HJ44: 94 | HK44: 35 | HL44: 94 | HM44: 35 | HN44: 94 | HO44: 35 | HP44: 94 | HQ44: 35 | HR44: 94 | HS44: 35 | HT44: 94 | HU44: 35 | HV44: 94 | HW44: 35 | HX44: 94 | HY44: 35 | HZ44: 94 | IA44: 35 | IB44: 94 | IC44: 35 | ID44: 94 | IE44: 35 | IF44: 94 | IG44: 35 | IH44: 94 | II44: 35 | IJ44: 94 | IK44: 35 | IL44: 94 | IM44: 35 | IN44: 94 | IO44: 35 | IP44: 94 | IQ44: 35 | IR44: 94 | IS44: 35 | IT44: 94 | IU44: 35 | IV44: 94 | IW44: 35 | IX44: 94 | IY44: 35 | IZ44: 94 | JA44: 35 | JB44: 94 | JC44: 35 | JD44: 94 | JE44: 35 | JF44: 94 | JG44: 35 | JH44: 94
A45: 36 | B45: =IF(MOD(A44,$I$14*$I$16)=0,B44+1,B44) -> 1 | C45: =IF(C44<>$I$14,C44+1,1) -> 4 | D45: =VLOOKUP(C45,$K$15:$L$30,2,FALSE) -> Court 4 | E45: =IF(B45=B44,IF(C45>C44,E44,E44+$I$15),$I$13) -> 0.79166667 | F45: =IF(B45=B44,F44,F44+1) -> 42040 | K45: =Setup!H9 -> 1 | L45: =Setup!I9 -> Player 1 | O45: =O44+1 -> 37 | P45: =IF(O45<>"",VLOOKUP(O45,$A$10:$F$266,6,FALSE),"") -> 42040 | Q45: =IF(O45<>"",VLOOKUP(O45,$A$10:$F$266,5,FALSE),"") -> 0.79166667 | R45: =IF(O45<>"",VLOOKUP(O45,$A$10:$F$266,4,FALSE),"") -> Court 5 | S45: =IF(OFFSET(U45,0,$S$6)<>"",OFFSET(U45,0,$S$6),"Bye") -> Bye | T45: =IF(OFFSET(V45,0,$S$6)<>"",OFFSET(V45,0,$S$6),"Bye") -> Bye | EK45: 14 | EM45: 14 | EO45: 14 | EQ45: 14 | ES45: 14 | EU45: 14 | EW45: 14 | EY45: 14 | FA45: 14 | FC45: 14 | FE45: 14 | FG45: 14 | FI45: 14 | FK45: 14 | FM45: 14 | FO45: 14 | FQ45: 14 | FS45: 14 | FU45: 14 | FW45: 14 | FY45: 14 | GA45: 14 | GC45: 14 | GE45: 14 | GG45: 14 | GI45: 14 | GK45: 14 | GM45: 14 | GO45: 14 | GQ45: 14 | GS45: 14 | GU45: 14 | GW45: 14 | GY45: 14 | HA45: 14 | HC45: 14 | HE45: 14 | HG45: 14 | HI45: 14 | HK45: 14 | HM45: 14 | HO45: 14 | HQ45: 14 | HS45: 14 | HU45: 14 | HW45: 14 | HY45: 14 | IA45: 14 | IC45: 14 | IE45: 14 | IG45: 14 | IH45: 115 | II45: 14 | IJ45: 115 | IK45: 14 | IL45: 115 | IM45: 14 | IN45: 115 | IO45: 14 | IP45: 115 | IQ45: 14 | IR45: 115 | IS45: 14 | IT45: 115 | IU45: 14 | IV45: 115 | IW45: 14 | IX45: 115 | IY45: 14 | IZ45: 115 | JA45: 14 | JB45: 115 | JC45: 14 | JD45: 115 | JE45: 14 | JF45: 115 | JG45: 14 | JH45: 115
A46: 37 | B46: =IF(MOD(A45,$I$14*$I$16)=0,B45+1,B45) -> 1 | C46: =IF(C45<>$I$14,C45+1,1) -> 5 | D46: =VLOOKUP(C46,$K$15:$L$30,2,FALSE) -> Court 5 | E46: =IF(B46=B45,IF(C46>C45,E45,E45+$I$15),$I$13) -> 0.79166667 | F46: =IF(B46=B45,F45,F45+1) -> 42040 | K46: =Setup!H10 -> 2 | L46: =Setup!I10 -> Player 2 | O46: =O45+1 -> 38 | P46: =IF(O46<>"",VLOOKUP(O46,$A$10:$F$266,6,FALSE),"") -> 42040 | Q46: =IF(O46<>"",VLOOKUP(O46,$A$10:$F$266,5,FALSE),"") -> 0.79166667 | R46: =IF(O46<>"",VLOOKUP(O46,$A$10:$F$266,4,FALSE),"") -> Court 6 | S46: =IF(OFFSET(U46,0,$S$6)<>"",OFFSET(U46,0,$S$6),"Bye") -> Bye | T46: =IF(OFFSET(V46,0,$S$6)<>"",OFFSET(V46,0,$S$6),"Bye") -> Bye | EK46: 51 | EM46: 51 | EO46: 51 | EQ46: 51 | ES46: 51 | EU46: 51 | EW46: 51 | EY46: 51 | FA46: 51 | FC46: 51 | FE46: 51 | FG46: 51 | FI46: 51 | FK46: 51 | FL46: 78 | FM46: 51 | FN46: 78 | FO46: 51 | FP46: 78 | FQ46: 51 | FR46: 78 | FS46: 51 | FT46: 78 | FU46: 51 | FV46: 78 | FW46: 51 | FX46: 78 | FY46: 51 | FZ46: 78 | GA46: 51 | GB46: 78 | GC46: 51 | GD46: 78 | GE46: 51 | GF46: 78 | GG46: 51 | GH46: 78 | GI46: 51 | GJ46: 78 | GK46: 51 | GL46: 78 | GM46: 51 | GN46: 78 | GO46: 51 | GP46: 78 | GQ46: 51 | GR46: 78 | GS46: 51 | GT46: 78 | GU46: 51 | GV46: 78 | GW46: 51 | GX46: 78 | GY46: 51 | GZ46: 78 | HA46: 51 | HB46: 78 | HC46: 51 | HD46: 78 | HE46: 51 | HF46: 78 | HG46: 51 | HH46: 78 | HI46: 51 | HJ46: 78 | HK46: 51 | HL46: 78 | HM46: 51 | HN46: 78 | HO46: 51 | HP46: 78 | HQ46: 51 | HR46: 78 | HS46: 51 | HT46: 78 | HU46: 51 | HV46: 78 | HW46: 51 | HX46: 78 | HY46: 51 | HZ46: 78 | IA46: 51 | IB46: 78 | IC46: 51 | ID46: 78 | IE46: 51 | IF46: 78 | IG46: 51 | IH46: 78 | II46: 51 | IJ46: 78 | IK46: 51 | IL46: 78 | IM46: 51 | IN46: 78 | IO46: 51 | IP46: 78 | IQ46: 51 | IR46: 78 | IS46: 51 | IT46: 78 | IU46: 51 | IV46: 78 | IW46: 51 | IX46: 78 | IY46: 51 | IZ46: 78 | JA46: 51 | JB46: 78 | JC46: 51 | JD46: 78 | JE46: 51 | JF46: 78 | JG46: 51 | JH46: 78
A47: 38 | B47: =IF(MOD(A46,$I$14*$I$16)=0,B46+1,B46) -> 1 | C47: =IF(C46<>$I$14,C46+1,1) -> 6 | D47: =VLOOKUP(C47,$K$15:$L$30,2,FALSE) -> Court 6 | E47: =IF(B47=B46,IF(C47>C46,E46,E46+$I$15),$I$13) -> 0.79166667 | F47: =IF(B47=B46,F46,F46+1) -> 42040 | K47: =Setup!H11 -> 3 | L47: =Setup!I11 -> Player 3 | O47: =O46+1 -> 39 | P47: =IF(O47<>"",VLOOKUP(O47,$A$10:$F$266,6,FALSE),"") -> 42040 | Q47: =IF(O47<>"",VLOOKUP(O47,$A$10:$F$266,5,FALSE),"") -> 0.79166667 | R47: =IF(O47<>"",VLOOKUP(O47,$A$10:$F$266,4,FALSE),"") -> Court 7 | S47: =IF(OFFSET(U47,0,$S$6)<>"",OFFSET(U47,0,$S$6),"Bye") -> Bye | T47: =IF(OFFSET(V47,0,$S$6)<>"",OFFSET(V47,0,$S$6),"Bye") -> Bye | EK47: 19 | EM47: 19 | EO47: 19 | EQ47: 19 | ES47: 19 | EU47: 19 | EW47: 19 | EY47: 19 | FA47: 19 | FC47: 19 | FE47: 19 | FG47: 19 | FI47: 19 | FK47: 19 | FM47: 19 | FO47: 19 | FQ47: 19 | FS47: 19 | FU47: 19 | FW47: 19 | FY47: 19 | GA47: 19 | GC47: 19 | GE47: 19 | GG47: 19 | GI47: 19 | GK47: 19 | GM47: 19 | GO47: 19 | GQ47: 19 | GS47: 19 | GU47: 19 | GW47: 19 | GY47: 19 | HA47: 19 | HC47: 19 | HE47: 19 | HG47: 19 | HI47: 19 | HK47: 19 | HM47: 19 | HO47: 19 | HQ47: 19 | HS47: 19 | HU47: 19 | HW47: 19 | HX47: 110 | HY47: 19 | HZ47: 110 | IA47: 19 | IB47: 110 | IC47: 19 | ID47: 110 | IE47: 19 | IF47: 110 | IG47: 19 | IH47: 110 | II47: 19 | IJ47: 110 | IK47: 19 | IL47: 110 | IM47: 19 | IN47: 110 | IO47: 19 | IP47: 110 | IQ47: 19 | IR47: 110 | IS47: 19 | IT47: 110 | IU47: 19 | IV47: 110 | IW47: 19 | IX47: 110 | IY47: 19 | IZ47: 110 | JA47: 19 | JB47: 110 | JC47: 19 | JD47: 110 | JE47: 19 | JF47: 110 | JG47: 19 | JH47: 110
A48: 39 | B48: =IF(MOD(A47,$I$14*$I$16)=0,B47+1,B47) -> 1 | C48: =IF(C47<>$I$14,C47+1,1) -> 7 | D48: =VLOOKUP(C48,$K$15:$L$30,2,FALSE) -> Court 7 | E48: =IF(B48=B47,IF(C48>C47,E47,E47+$I$15),$I$13) -> 0.79166667 | F48: =IF(B48=B47,F47,F47+1) -> 42040 | K48: =Setup!H12 -> 4 | L48: =Setup!I12 -> Player 4 | O48: =O47+1 -> 40 | P48: =IF(O48<>"",VLOOKUP(O48,$A$10:$F$266,6,FALSE),"") -> 42040 | Q48: =IF(O48<>"",VLOOKUP(O48,$A$10:$F$266,5,FALSE),"") -> 0.79166667 | R48: =IF(O48<>"",VLOOKUP(O48,$A$10:$F$266,4,FALSE),"") -> Court 8 | S48: =IF(OFFSET(U48,0,$S$6)<>"",OFFSET(U48,0,$S$6),"Bye") -> Bye | T48: =IF(OFFSET(V48,0,$S$6)<>"",OFFSET(V48,0,$S$6),"Bye") -> Bye | EK48: 46 | EM48: 46 | EO48: 46 | EQ48: 46 | ES48: 46 | EU48: 46 | EW48: 46 | EY48: 46 | FA48: 46 | FC48: 46 | FE48: 46 | FG48: 46 | FI48: 46 | FK48: 46 | FM48: 46 | FO48: 46 | FQ48: 46 | FS48: 46 | FU48: 46 | FV48: 83 | FW48: 46 | FX48: 83 | FY48: 46 | FZ48: 83 | GA48: 46 | GB48: 83 | GC48: 46 | GD48: 83 | GE48: 46 | GF48: 83 | GG48: 46 | GH48: 83 | GI48: 46 | GJ48: 83 | GK48: 46 | GL48: 83 | GM48: 46 | GN48: 83 | GO48: 46 | GP48: 83 | GQ48: 46 | GR48: 83 | GS48: 46 | GT48: 83 | GU48: 46 | GV48: 83 | GW48: 46 | GX48: 83 | GY48: 46 | GZ48: 83 | HA48: 46 | HB48: 83 | HC48: 46 | HD48: 83 | HE48: 46 | HF48: 83 | HG48: 46 | HH48: 83 | HI48: 46 | HJ48: 83 | HK48: 46 | HL48: 83 | HM48: 46 | HN48: 83 | HO48: 46 | HP48: 83 | HQ48: 46 | HR48: 83 | HS48: 46 | HT48: 83 | HU48: 46 | HV48: 83 | HW48: 46 | HX48: 83 | HY48: 46 | HZ48: 83 | IA48: 46 | IB48: 83 | IC48: 46 | ID48: 83 | IE48: 46 | IF48: 83 | IG48: 46 | IH48: 83 | II48: 46 | IJ48: 83 | IK48: 46 | IL48: 83 | IM48: 46 | IN48: 83 | IO48: 46 | IP48: 83 | IQ48: 46 | IR48: 83 | IS48: 46 | IT48: 83 | IU48: 46 | IV48: 83 | IW48: 46 | IX48: 83 | IY48: 46 | IZ48: 83 | JA48: 46 | JB48: 83 | JC48: 46 | JD48: 83 | JE48: 46 | JF48: 83 | JG48: 46 | JH48: 83
A49: 40 | B49: =IF(MOD(A48,$I$14*$I$16)=0,B48+1,B48) -> 1 | C49: =IF(C48<>$I$14,C48+1,1) -> 8 | D49: =VLOOKUP(C49,$K$15:$L$30,2,FALSE) -> Court 8 | E49: =IF(B49=B48,IF(C49>C48,E48,E48+$I$15),$I$13) -> 0.79166667 | F49: =IF(B49=B48,F48,F48+1) -> 42040 | K49: =Setup!H13 -> 5 | L49: =Setup!I13 -> Player 5 | O49: =O48+1 -> 41 | P49: =IF(O49<>"",VLOOKUP(O49,$A$10:$F$266,6,FALSE),"") -> 42040 | Q49: =IF(O49<>"",VLOOKUP(O49,$A$10:$F$266,5,FALSE),"") -> 0.79166667 | R49: =IF(O49<>"",VLOOKUP(O49,$A$10:$F$266,4,FALSE),"") -> Court 9 | S49: =IF(OFFSET(U49,0,$S$6)<>"",OFFSET(U49,0,$S$6),"Bye") -> Bye | T49: =IF(OFFSET(V49,0,$S$6)<>"",OFFSET(V49,0,$S$6),"Bye") -> Bye | EK49: 11 | EM49: 11 | EO49: 11 | EQ49: 11 | ES49: 11 | EU49: 11 | EW49: 11 | EY49: 11 | FA49: 11 | FC49: 11 | FE49: 11 | FG49: 11 | FI49: 11 | FK49: 11 | FM49: 11 | FO49: 11 | FQ49: 11 | FS49: 11 | FU49: 11 | FW49: 11 | FY49: 11 | GA49: 11 | GC49: 11 | GE49: 11 | GG49: 11 | GI49: 11 | GK49: 11 | GM49: 11 | GO49: 11 | GQ49: 11 | GS49: 11 | GU49: 11 | GW49: 11 | GY49: 11 | HA49: 11 | HC49: 11 | HE49: 11 | HG49: 11 | HI49: 11 | HK49: 11 | HM49: 11 | HO49: 11 | HQ49: 11 | HS49: 11 | HU49: 11 | HW49: 11 | HY49: 11 | IA49: 11 | IC49: 11 | IE49: 11 | IG49: 11 | II49: 11 | IK49: 11 | IM49: 11 | IN49: 118 | IO49: 11 | IP49: 118 | IQ49: 11 | IR49: 118 | IS49: 11 | IT49: 118 | IU49: 11 | IV49: 118 | IW49: 11 | IX49: 118 | IY49: 11 | IZ49: 118 | JA49: 11 | JB49: 118 | JC49: 11 | JD49: 118 | JE49: 11 | JF49: 118 | JG49: 11 | JH49: 118
A50: 41 | B50: =IF(MOD(A49,$I$14*$I$16)=0,B49+1,B49) -> 1 | C50: =IF(C49<>$I$14,C49+1,1) -> 9 | D50: =VLOOKUP(C50,$K$15:$L$30,2,FALSE) -> Court 9 | E50: =IF(B50=B49,IF(C50>C49,E49,E49+$I$15),$I$13) -> 0.79166667 | F50: =IF(B50=B49,F49,F49+1) -> 42040 | K50: =Setup!H14 -> 6 | L50: =Setup!I14 -> Player 6 | O50: =O49+1 -> 42 | P50: =IF(O50<>"",VLOOKUP(O50,$A$10:$F$266,6,FALSE),"") -> 42040 | Q50: =IF(O50<>"",VLOOKUP(O50,$A$10:$F$266,5,FALSE),"") -> 0.79166667 | R50: =IF(O50<>"",VLOOKUP(O50,$A$10:$F$266,4,FALSE),"") -> Court 10 | S50: =IF(OFFSET(U50,0,$S$6)<>"",OFFSET(U50,0,$S$6),"Bye") -> Bye | T50: =IF(OFFSET(V50,0,$S$6)<>"",OFFSET(V50,0,$S$6),"Bye") -> Bye | EK50: 54 | EM50: 54 | EO50: 54 | EQ50: 54 | ES50: 54 | EU50: 54 | EW50: 54 | EY50: 54 | FA50: 54 | FC50: 54 | FE50: 54 | FF50: 75 | FG50: 54 | FH50: 75 | FI50: 54 | FJ50: 75 | FK50: 54 | FL50: 75 | FM50: 54 | FN50: 75 | FO50: 54 | FP50: 75 | FQ50: 54 | FR50: 75 | FS50: 54 | FT50: 75 | FU50: 54 | FV50: 75 | FW50: 54 | FX50: 75 | FY50: 54 | FZ50: 75 | GA50: 54 | GB50: 75 | GC50: 54 | GD50: 75 | GE50: 54 | GF50: 75 | GG50: 54 | GH50: 75 | GI50: 54 | GJ50: 75 | GK50: 54 | GL50: 75 | GM50: 54 | GN50: 75 | GO50: 54 | GP50: 75 | GQ50: 54 | GR50: 75 | GS50: 54 | GT50: 75 | GU50: 54 | GV50: 75 | GW50: 54 | GX50: 75 | GY50: 54 | GZ50: 75 | HA50: 54 | HB50: 75 | HC50: 54 | HD50: 75 | HE50: 54 | HF50: 75 | HG50: 54 | HH50: 75 | HI50: 54 | HJ50: 75 | HK50: 54 | HL50: 75 | HM50: 54 | HN50: 75 | HO50: 54 | HP50: 75 | HQ50: 54 | HR50: 75 | HS50: 54 | HT50: 75 | HU50: 54 | HV50: 75 | HW50: 54 | HX50: 75 | HY50: 54 | HZ50: 75 | IA50: 54 | IB50: 75 | IC50: 54 | ID50: 75 | IE50: 54 | IF50: 75 | IG50: 54 | IH50: 75 | II50: 54 | IJ50: 75 | IK50: 54 | IL50: 75 | IM50: 54 | IN50: 75 | IO50: 54 | IP50: 75 | IQ50: 54 | IR50: 75 | IS50: 54 | IT50: 75 | IU50: 54 | IV50: 75 | IW50: 54 | IX50: 75 | IY50: 54 | IZ50: 75 | JA50: 54 | JB50: 75 | JC50: 54 | JD50: 75 | JE50: 54 | JF50: 75 | JG50: 54 | JH50: 75
A51: 42 | B51: =IF(MOD(A50,$I$14*$I$16)=0,B50+1,B50) -> 1 | C51: =IF(C50<>$I$14,C50+1,1) -> 10 | D51: =VLOOKUP(C51,$K$15:$L$30,2,FALSE) -> Court 10 | E51: =IF(B51=B50,IF(C51>C50,E50,E50+$I$15),$I$13) -> 0.79166667 | F51: =IF(B51=B50,F50,F50+1) -> 42040 | K51: =Setup!H15 -> 7 | L51: =Setup!I15 -> Player 7 | O51: =O50+1 -> 43 | P51: =IF(O51<>"",VLOOKUP(O51,$A$10:$F$266,6,FALSE),"") -> 42040 | Q51: =IF(O51<>"",VLOOKUP(O51,$A$10:$F$266,5,FALSE),"") -> 0.79166667 | R51: =IF(O51<>"",VLOOKUP(O51,$A$10:$F$266,4,FALSE),"") -> Court 11 | S51: =IF(OFFSET(U51,0,$S$6)<>"",OFFSET(U51,0,$S$6),"Bye") -> Bye | T51: =IF(OFFSET(V51,0,$S$6)<>"",OFFSET(V51,0,$S$6),"Bye") -> Bye | EK51: 22 | EM51: 22 | EO51: 22 | EQ51: 22 | ES51: 22 | EU51: 22 | EW51: 22 | EY51: 22 | FA51: 22 | FC51: 22 | FE51: 22 | FG51: 22 | FI51: 22 | FK51: 22 | FM51: 22 | FO51: 22 | FQ51: 22 | FS51: 22 | FU51: 22 | FW51: 22 | FY51: 22 | GA51: 22 | GC51: 22 | GE51: 22 | GG51: 22 | GI51: 22 | GK51: 22 | GM51: 22 | GO51: 22 | GQ51: 22 | GS51: 22 | GU51: 22 | GW51: 22 | GY51: 22 | HA51: 22 | HC51: 22 | HE51: 22 | HG51: 22 | HI51: 22 | HK51: 22 | HM51: 22 | HO51: 22 | HQ51: 22 | HR51: 107 | HS51: 22 | HT51: 107 | HU51: 22 | HV51: 107 | HW51: 22 | HX51: 107 | HY51: 22 | HZ51: 107 | IA51: 22 | IB51: 107 | IC51: 22 | ID51: 107 | IE51: 22 | IF51: 107 | IG51: 22 | IH51: 107 | II51: 22 | IJ51: 107 | IK51: 22 | IL51: 107 | IM51: 22 | IN51: 107 | IO51: 22 | IP51: 107 | IQ51: 22 | IR51: 107 | IS51: 22 | IT51: 107 | IU51: 22 | IV51: 107 | IW51: 22 | IX51: 107 | IY51: 22 | IZ51: 107 | JA51: 22 | JB51: 107 | JC51: 22 | JD51: 107 | JE51: 22 | JF51: 107 | JG51: 22 | JH51: 107
A52: 43 | B52: =IF(MOD(A51,$I$14*$I$16)=0,B51+1,B51) -> 1 | C52: =IF(C51<>$I$14,C51+1,1) -> 11 | D52: =VLOOKUP(C52,$K$15:$L$30,2,FALSE) -> Court 11 | E52: =IF(B52=B51,IF(C52>C51,E51,E51+$I$15),$I$13) -> 0.79166667 | F52: =IF(B52=B51,F51,F51+1) -> 42040 | K52: =Setup!H16 -> 8 | L52: =Setup!I16 -> Player 8 | O52: =O51+1 -> 44 | P52: =IF(O52<>"",VLOOKUP(O52,$A$10:$F$266,6,FALSE),"") -> 42040 | Q52: =IF(O52<>"",VLOOKUP(O52,$A$10:$F$266,5,FALSE),"") -> 0.79166667 | R52: =IF(O52<>"",VLOOKUP(O52,$A$10:$F$266,4,FALSE),"") -> Court 12 | S52: =IF(OFFSET(U52,0,$S$6)<>"",OFFSET(U52,0,$S$6),"Bye") -> Bye | T52: =IF(OFFSET(V52,0,$S$6)<>"",OFFSET(V52,0,$S$6),"Bye") -> Bye | EK52: 43 | EM52: 43 | EO52: 43 | EQ52: 43 | ES52: 43 | EU52: 43 | EW52: 43 | EY52: 43 | FA52: 43 | FC52: 43 | FE52: 43 | FG52: 43 | FI52: 43 | FK52: 43 | FM52: 43 | FO52: 43 | FQ52: 43 | FS52: 43 | FU52: 43 | FW52: 43 | FY52: 43 | GA52: 43 | GB52: 86 | GC52: 43 | GD52: 86 | GE52: 43 | GF52: 86 | GG52: 43 | GH52: 86 | GI52: 43 | GJ52: 86 | GK52: 43 | GL52: 86 | GM52: 43 | GN52: 86 | GO52: 43 | GP52: 86 | GQ52: 43 | GR52: 86 | GS52: 43 | GT52: 86 | GU52: 43 | GV52: 86 | GW52: 43 | GX52: 86 | GY52: 43 | GZ52: 86 | HA52: 43 | HB52: 86 | HC52: 43 | HD52: 86 | HE52: 43 | HF52: 86 | HG52: 43 | HH52: 86 | HI52: 43 | HJ52: 86 | HK52: 43 | HL52: 86 | HM52: 43 | HN52: 86 | HO52: 43 | HP52: 86 | HQ52: 43 | HR52: 86 | HS52: 43 | HT52: 86 | HU52: 43 | HV52: 86 | HW52: 43 | HX52: 86 | HY52: 43 | HZ52: 86 | IA52: 43 | IB52: 86 | IC52: 43 | ID52: 86 | IE52: 43 | IF52: 86 | IG52: 43 | IH52: 86 | II52: 43 | IJ52: 86 | IK52: 43 | IL52: 86 | IM52: 43 | IN52: 86 | IO52: 43 | IP52: 86 | IQ52: 43 | IR52: 86 | IS52: 43 | IT52: 86 | IU52: 43 | IV52: 86 | IW52: 43 | IX52: 86 | IY52: 43 | IZ52: 86 | JA52: 43 | JB52: 86 | JC52: 43 | JD52: 86 | JE52: 43 | JF52: 86 | JG52: 43 | JH52: 86
A53: 44 | B53: =IF(MOD(A52,$I$14*$I$16)=0,B52+1,B52) -> 1 | C53: =IF(C52<>$I$14,C52+1,1) -> 12 | D53: =VLOOKUP(C53,$K$15:$L$30,2,FALSE) -> Court 12 | E53: =IF(B53=B52,IF(C53>C52,E52,E52+$I$15),$I$13) -> 0.79166667 | F53: =IF(B53=B52,F52,F52+1) -> 42040 | K53: =Setup!H17 -> 9 | L53: =Setup!I17 -> Player 9 | O53: =O52+1 -> 45 | P53: =IF(O53<>"",VLOOKUP(O53,$A$10:$F$266,6,FALSE),"") -> 42040 | Q53: =IF(O53<>"",VLOOKUP(O53,$A$10:$F$266,5,FALSE),"") -> 0.79166667 | R53: =IF(O53<>"",VLOOKUP(O53,$A$10:$F$266,4,FALSE),"") -> Court 13 | S53: =IF(OFFSET(U53,0,$S$6)<>"",OFFSET(U53,0,$S$6),"Bye") -> Bye | T53: =IF(OFFSET(V53,0,$S$6)<>"",OFFSET(V53,0,$S$6),"Bye") -> Bye | EK53: 27 | EM53: 27 | EO53: 27 | EQ53: 27 | ES53: 27 | EU53: 27 | EW53: 27 | EY53: 27 | FA53: 27 | FC53: 27 | FE53: 27 | FG53: 27 | FI53: 27 | FK53: 27 | FM53: 27 | FO53: 27 | FQ53: 27 | FS53: 27 | FU53: 27 | FW53: 27 | FY53: 27 | GA53: 27 | GC53: 27 | GE53: 27 | GG53: 27 | GI53: 27 | GK53: 27 | GM53: 27 | GO53: 27 | GQ53: 27 | GS53: 27 | GU53: 27 | GW53: 27 | GY53: 27 | HA53: 27 | HC53: 27 | HE53: 27 | HG53: 27 | HH53: 102 | HI53: 27 | HJ53: 102 | HK53: 27 | HL53: 102 | HM53: 27 | HN53: 102 | HO53: 27 | HP53: 102 | HQ53: 27 | HR53: 102 | HS53: 27 | HT53: 102 | HU53: 27 | HV53: 102 | HW53: 27 | HX53: 102 | HY53: 27 | HZ53: 102 | IA53: 27 | IB53: 102 | IC53: 27 | ID53: 102 | IE53: 27 | IF53: 102 | IG53: 27 | IH53: 102 | II53: 27 | IJ53: 102 | IK53: 27 | IL53: 102 | IM53: 27 | IN53: 102 | IO53: 27 | IP53: 102 | IQ53: 27 | IR53: 102 | IS53: 27 | IT53: 102 | IU53: 27 | IV53: 102 | IW53: 27 | IX53: 102 | IY53: 27 | IZ53: 102 | JA53: 27 | JB53: 102 | JC53: 27 | JD53: 102 | JE53: 27 | JF53: 102 | JG53: 27 | JH53: 102
A54: 45 | B54: =IF(MOD(A53,$I$14*$I$16)=0,B53+1,B53) -> 1 | C54: =IF(C53<>$I$14,C53+1,1) -> 13 | D54: =VLOOKUP(C54,$K$15:$L$30,2,FALSE) -> Court 13 | E54: =IF(B54=B53,IF(C54>C53,E53,E53+$I$15),$I$13) -> 0.79166667 | F54: =IF(B54=B53,F53,F53+1) -> 42040 | K54: =Setup!H18 -> 10 | L54: =Setup!I18 -> Player 10 | O54: =O53+1 -> 46 | P54: =IF(O54<>"",VLOOKUP(O54,$A$10:$F$266,6,FALSE),"") -> 42040 | Q54: =IF(O54<>"",VLOOKUP(O54,$A$10:$F$266,5,FALSE),"") -> 0.79166667 | R54: =IF(O54<>"",VLOOKUP(O54,$A$10:$F$266,4,FALSE),"") -> Court 14 | S54: =IF(OFFSET(U54,0,$S$6)<>"",OFFSET(U54,0,$S$6),"Bye") -> Bye | T54: =IF(OFFSET(V54,0,$S$6)<>"",OFFSET(V54,0,$S$6),"Bye") -> Bye | EK54: 38 | EM54: 38 | EO54: 38 | EQ54: 38 | ES54: 38 | EU54: 38 | EW54: 38 | EY54: 38 | FA54: 38 | FC54: 38 | FE54: 38 | FG54: 38 | FI54: 38 | FK54: 38 | FM54: 38 | FO54: 38 | FQ54: 38 | FS54: 38 | FU54: 38 | FW54: 38 | FY54: 38 | GA54: 38 | GC54: 38 | GE54: 38 | GG54: 38 | GI54: 38 | GK54: 38 | GL54: 91 | GM54: 38 | GN54: 91 | GO54: 38 | GP54: 91 | GQ54: 38 | GR54: 91 | GS54: 38 | GT54: 91 | GU54: 38 | GV54: 91 | GW54: 38 | GX54: 91 | GY54: 38 | GZ54: 91 | HA54: 38 | HB54: 91 | HC54: 38 | HD54: 91 | HE54: 38 | HF54: 91 | HG54: 38 | HH54: 91 | HI54: 38 | HJ54: 91 | HK54: 38 | HL54: 91 | HM54: 38 | HN54: 91 | HO54: 38 | HP54: 91 | HQ54: 38 | HR54: 91 | HS54: 38 | HT54: 91 | HU54: 38 | HV54: 91 | HW54: 38 | HX54: 91 | HY54: 38 | HZ54: 91 | IA54: 38 | IB54: 91 | IC54: 38 | ID54: 91 | IE54: 38 | IF54: 91 | IG54: 38 | IH54: 91 | II54: 38 | IJ54: 91 | IK54: 38 | IL54: 91 | IM54: 38 | IN54: 91 | IO54: 38 | IP54: 91 | IQ54: 38 | IR54: 91 | IS54: 38 | IT54: 91 | IU54: 38 | IV54: 91 | IW54: 38 | IX54: 91 | IY54: 38 | IZ54: 91 | JA54: 38 | JB54: 91 | JC54: 38 | JD54: 91 | JE54: 38 | JF54: 91 | JG54: 38 | JH54: 91
A55: 46 | B55: =IF(MOD(A54,$I$14*$I$16)=0,B54+1,B54) -> 1 | C55: =IF(C54<>$I$14,C54+1,1) -> 14 | D55: =VLOOKUP(C55,$K$15:$L$30,2,FALSE) -> Court 14 | E55: =IF(B55=B54,IF(C55>C54,E54,E54+$I$15),$I$13) -> 0.79166667 | F55: =IF(B55=B54,F54,F54+1) -> 42040 | K55: =Setup!H19 -> 11 | L55: =Setup!I19 -> Player 11 | O55: =O54+1 -> 47 | P55: =IF(O55<>"",VLOOKUP(O55,$A$10:$F$266,6,FALSE),"") -> 42040 | Q55: =IF(O55<>"",VLOOKUP(O55,$A$10:$F$266,5,FALSE),"") -> 0.79166667 | R55: =IF(O55<>"",VLOOKUP(O55,$A$10:$F$266,4,FALSE),"") -> Court 15 | S55: =IF(OFFSET(U55,0,$S$6)<>"",OFFSET(U55,0,$S$6),"Bye") -> Bye | T55: =IF(OFFSET(V55,0,$S$6)<>"",OFFSET(V55,0,$S$6),"Bye") -> Bye | EK55: 6 | EM55: 6 | EO55: 6 | EQ55: 6 | ES55: 6 | EU55: 6 | EW55: 6 | EY55: 6 | FA55: 6 | FC55: 6 | FE55: 6 | FG55: 6 | FI55: 6 | FK55: 6 | FM55: 6 | FO55: 6 | FQ55: 6 | FS55: 6 | FU55: 6 | FW55: 6 | FY55: 6 | GA55: 6 | GC55: 6 | GE55: 6 | GG55: 6 | GI55: 6 | GK55: 6 | GM55: 6 | GO55: 6 | GQ55: 6 | GS55: 6 | GU55: 6 | GW55: 6 | GY55: 6 | HA55: 6 | HC55: 6 | HE55: 6 | HG55: 6 | HI55: 6 | HK55: 6 | HM55: 6 | HO55: 6 | HQ55: 6 | HS55: 6 | HU55: 6 | HW55: 6 | HY55: 6 | IA55: 6 | IC55: 6 | IE55: 6 | IG55: 6 | II55: 6 | IK55: 6 | IM55: 6 | IO55: 6 | IQ55: 6 | IS55: 6 | IU55: 6 | IW55: 6 | IX55: 123 | IY55: 6 | IZ55: 123 | JA55: 6 | JB55: 123 | JC55: 6 | JD55: 123 | JE55: 6 | JF55: 123 | JG55: 6 | JH55: 123
A56: 47 | B56: =IF(MOD(A55,$I$14*$I$16)=0,B55+1,B55) -> 1 | C56: =IF(C55<>$I$14,C55+1,1) -> 15 | D56: =VLOOKUP(C56,$K$15:$L$30,2,FALSE) -> Court 15 | E56: =IF(B56=B55,IF(C56>C55,E55,E55+$I$15),$I$13) -> 0.79166667 | F56: =IF(B56=B55,F55,F55+1) -> 42040 | K56: =Setup!H20 -> 12 | L56: =Setup!I20 -> Player 12 | O56: =O55+1 -> 48 | P56: =IF(O56<>"",VLOOKUP(O56,$A$10:$F$266,6,FALSE),"") -> 42040 | Q56: =IF(O56<>"",VLOOKUP(O56,$A$10:$F$266,5,FALSE),"") -> 0.79166667 | R56: =IF(O56<>"",VLOOKUP(O56,$A$10:$F$266,4,FALSE),"") -> Court 16 | S56: =IF(OFFSET(U56,0,$S$6)<>"",OFFSET(U56,0,$S$6),"Bye") -> Bye | T56: =IF(OFFSET(V56,0,$S$6)<>"",OFFSET(V56,0,$S$6),"Bye") -> Bye | EK56: 59 | EM56: 59 | EO56: 59 | EQ56: 59 | ES56: 59 | EU56: 59 | EV56: 70 | EW56: 59 | EX56: 70 | EY56: 59 | EZ56: 70 | FA56: 59 | FB56: 70 | FC56: 59 | FD56: 70 | FE56: 59 | FF56: 70 | FG56: 59 | FH56: 70 | FI56: 59 | FJ56: 70 | FK56: 59 | FL56: 70 | FM56: 59 | FN56: 70 | FO56: 59 | FP56: 70 | FQ56: 59 | FR56: 70 | FS56: 59 | FT56: 70 | FU56: 59 | FV56: 70 | FW56: 59 | FX56: 70 | FY56: 59 | FZ56: 70 | GA56: 59 | GB56: 70 | GC56: 59 | GD56: 70 | GE56: 59 | GF56: 70 | GG56: 59 | GH56: 70 | GI56: 59 | GJ56: 70 | GK56: 59 | GL56: 70 | GM56: 59 | GN56: 70 | GO56: 59 | GP56: 70 | GQ56: 59 | GR56: 70 | GS56: 59 | GT56: 70 | GU56: 59 | GV56: 70 | GW56: 59 | GX56: 70 | GY56: 59 | GZ56: 70 | HA56: 59 | HB56: 70 | HC56: 59 | HD56: 70 | HE56: 59 | HF56: 70 | HG56: 59 | HH56: 70 | HI56: 59 | HJ56: 70 | HK56: 59 | HL56: 70 | HM56: 59 | HN56: 70 | HO56: 59 | HP56: 70 | HQ56: 59 | HR56: 70 | HS56: 59 | HT56: 70 | HU56: 59 | HV56: 70 | HW56: 59 | HX56: 70 | HY56: 59 | HZ56: 70 | IA56: 59 | IB56: 70 | IC56: 59 | ID56: 70 | IE56: 59 | IF56: 70 | IG56: 59 | IH56: 70 | II56: 59 | IJ56: 70 | IK56: 59 | IL56: 70 | IM56: 59 | IN56: 70 | IO56: 59 | IP56: 70 | IQ56: 59 | IR56: 70 | IS56: 59 | IT56: 70 | IU56: 59 | IV56: 70 | IW56: 59 | IX56: 70 | IY56: 59 | IZ56: 70 | JA56: 59 | JB56: 70 | JC56: 59 | JD56: 70 | JE56: 59 | JF56: 70 | JG56: 59 | JH56: 70
A57: 48 | B57: =IF(MOD(A56,$I$14*$I$16)=0,B56+1,B56) -> 1 | C57: =IF(C56<>$I$14,C56+1,1) -> 16 | D57: =VLOOKUP(C57,$K$15:$L$30,2,FALSE) -> Court 16 | E57: =IF(B57=B56,IF(C57>C56,E56,E56+$I$15),$I$13) -> 0.79166667 | F57: =IF(B57=B56,F56,F56+1) -> 42040 | K57: =Setup!H21 -> 13 | L57: =Setup!I21 -> Player 13 | O57: =O56+1 -> 49 | P57: =IF(O57<>"",VLOOKUP(O57,$A$10:$F$266,6,FALSE),"") -> 42040 | Q57: =IF(O57<>"",VLOOKUP(O57,$A$10:$F$266,5,FALSE),"") -> 0.875 | R57: =IF(O57<>"",VLOOKUP(O57,$A$10:$F$266,4,FALSE),"") -> Court 1 | S57: =IF(OFFSET(U57,0,$S$6)<>"",OFFSET(U57,0,$S$6),"Bye") -> Bye | T57: =IF(OFFSET(V57,0,$S$6)<>"",OFFSET(V57,0,$S$6),"Bye") -> Bye | EK57: 7 | EM57: 7 | EO57: 7 | EQ57: 7 | ES57: 7 | EU57: 7 | EW57: 7 | EY57: 7 | FA57: 7 | FC57: 7 | FE57: 7 | FG57: 7 | FI57: 7 | FK57: 7 | FM57: 7 | FO57: 7 | FQ57: 7 | FS57: 7 | FU57: 7 | FW57: 7 | FY57: 7 | GA57: 7 | GC57: 7 | GE57: 7 | GG57: 7 | GI57: 7 | GK57: 7 | GM57: 7 | GO57: 7 | GQ57: 7 | GS57: 7 | GU57: 7 | GW57: 7 | GY57: 7 | HA57: 7 | HC57: 7 | HE57: 7 | HG57: 7 | HI57: 7 | HK57: 7 | HM57: 7 | HO57: 7 | HQ57: 7 | HS57: 7 | HU57: 7 | HW57: 7 | HY57: 7 | IA57: 7 | IC57: 7 | IE57: 7 | IG57: 7 | II57: 7 | IK57: 7 | IM57: 7 | IO57: 7 | IQ57: 7 | IS57: 7 | IU57: 7 | IV57: 122 | IW57: 7 | IX57: 122 | IY57: 7 | IZ57: 122 | JA57: 7 | JB57: 122 | JC57: 7 | JD57: 122 | JE57: 7 | JF57: 122 | JG57: 7 | JH57: 122
A58: 49 | B58: =IF(MOD(A57,$I$14*$I$16)=0,B57+1,B57) -> 1 | C58: =IF(C57<>$I$14,C57+1,1) -> 1 | D58: =VLOOKUP(C58,$K$15:$L$30,2,FALSE) -> Court 1 | E58: =IF(B58=B57,IF(C58>C57,E57,E57+$I$15),$I$13) -> 0.875 | F58: =IF(B58=B57,F57,F57+1) -> 42040 | K58: =Setup!H22 -> 14 | L58: =Setup!I22 -> Player 14 | O58: =O57+1 -> 50 | P58: =IF(O58<>"",VLOOKUP(O58,$A$10:$F$266,6,FALSE),"") -> 42040 | Q58: =IF(O58<>"",VLOOKUP(O58,$A$10:$F$266,5,FALSE),"") -> 0.875 | R58: =IF(O58<>"",VLOOKUP(O58,$A$10:$F$266,4,FALSE),"") -> Court 2 | S58: =IF(OFFSET(U58,0,$S$6)<>"",OFFSET(U58,0,$S$6),"Bye") -> Bye | T58: =IF(OFFSET(V58,0,$S$6)<>"",OFFSET(V58,0,$S$6),"Bye") -> Bye | EK58: 58 | EM58: 58 | EO58: 58 | EQ58: 58 | ES58: 58 | EU58: 58 | EW58: 58 | EX58: 71 | EY58: 58 | EZ58: 71 | FA58: 58 | FB58: 71 | FC58: 58 | FD58: 71 | FE58: 58 | FF58: 71 | FG58: 58 | FH58: 71 | FI58: 58 | FJ58: 71 | FK58: 58 | FL58: 71 | FM58: 58 | FN58: 71 | FO58: 58 | FP58: 71 | FQ58: 58 | FR58: 71 | FS58: 58 | FT58: 71 | FU58: 58 | FV58: 71 | FW58: 58 | FX58: 71 | FY58: 58 | FZ58: 71 | GA58: 58 | GB58: 71 | GC58: 58 | GD58: 71 | GE58: 58 | GF58: 71 | GG58: 58 | GH58: 71 | GI58: 58 | GJ58: 71 | GK58: 58 | GL58: 71 | GM58: 58 | GN58: 71 | GO58: 58 | GP58: 71 | GQ58: 58 | GR58: 71 | GS58: 58 | GT58: 71 | GU58: 58 | GV58: 71 | GW58: 58 | GX58: 71 | GY58: 58 | GZ58: 71 | HA58: 58 | HB58: 71 | HC58: 58 | HD58: 71 | HE58: 58 | HF58: 71 | HG58: 58 | HH58: 71 | HI58: 58 | HJ58: 71 | HK58: 58 | HL58: 71 | HM58: 58 | HN58: 71 | HO58: 58 | HP58: 71 | HQ58: 58 | HR58: 71 | HS58: 58 | HT58: 71 | HU58: 58 | HV58: 71 | HW58: 58 | HX58: 71 | HY58: 58 | HZ58: 71 | IA58: 58 | IB58: 71 | IC58: 58 | ID58: 71 | IE58: 58 | IF58: 71 | IG58: 58 | IH58: 71 | II58: 58 | IJ58: 71 | IK58: 58 | IL58: 71 | IM58: 58 | IN58: 71 | IO58: 58 | IP58: 71 | IQ58: 58 | IR58: 71 | IS58: 58 | IT58: 71 | IU58: 58 | IV58: 71 | IW58: 58 | IX58: 71 | IY58: 58 | IZ58: 71 | JA58: 58 | JB58: 71 | JC58: 58 | JD58: 71 | JE58: 58 | JF58: 71 | JG58: 58 | JH58: 71
A59: 50 | B59: =IF(MOD(A58,$I$14*$I$16)=0,B58+1,B58) -> 1 | C59: =IF(C58<>$I$14,C58+1,1) -> 2 | D59: =VLOOKUP(C59,$K$15:$L$30,2,FALSE) -> Court 2 | E59: =IF(B59=B58,IF(C59>C58,E58,E58+$I$15),$I$13) -> 0.875 | F59: =IF(B59=B58,F58,F58+1) -> 42040 | K59: =Setup!H23 -> 15 | L59: =Setup!I23 -> Player 15 | O59: =O58+1 -> 51 | P59: =IF(O59<>"",VLOOKUP(O59,$A$10:$F$266,6,FALSE),"") -> 42040 | Q59: =IF(O59<>"",VLOOKUP(O59,$A$10:$F$266,5,FALSE),"") -> 0.875 | R59: =IF(O59<>"",VLOOKUP(O59,$A$10:$F$266,4,FALSE),"") -> Court 3 | S59: =IF(OFFSET(U59,0,$S$6)<>"",OFFSET(U59,0,$S$6),"Bye") -> Bye | T59: =IF(OFFSET(V59,0,$S$6)<>"",OFFSET(V59,0,$S$6),"Bye") -> Bye | EK59: 26 | EM59: 26 | EO59: 26 | EQ59: 26 | ES59: 26 | EU59: 26 | EW59: 26 | EY59: 26 | FA59: 26 | FC59: 26 | FE59: 26 | FG59: 26 | FI59: 26 | FK59: 26 | FM59: 26 | FO59: 26 | FQ59: 26 | FS59: 26 | FU59: 26 | FW59: 26 | FY59: 26 | GA59: 26 | GC59: 26 | GE59: 26 | GG59: 26 | GI59: 26 | GK59: 26 | GM59: 26 | GO59: 26 | GQ59: 26 | GS59: 26 | GU59: 26 | GW59: 26 | GY59: 26 | HA59: 26 | HC59: 26 | HE59: 26 | HG59: 26 | HI59: 26 | HJ59: 103 | HK59: 26 | HL59: 103 | HM59: 26 | HN59: 103 | HO59: 26 | HP59: 103 | HQ59: 26 | HR59: 103 | HS59: 26 | HT59: 103 | HU59: 26 | HV59: 103 | HW59: 26 | HX59: 103 | HY59: 26 | HZ59: 103 | IA59: 26 | IB59: 103 | IC59: 26 | ID59: 103 | IE59: 26 | IF59: 103 | IG59: 26 | IH59: 103 | II59: 26 | IJ59: 103 | IK59: 26 | IL59: 103 | IM59: 26 | IN59: 103 | IO59: 26 | IP59: 103 | IQ59: 26 | IR59: 103 | IS59: 26 | IT59: 103 | IU59: 26 | IV59: 103 | IW59: 26 | IX59: 103 | IY59: 26 | IZ59: 103 | JA59: 26 | JB59: 103 | JC59: 26 | JD59: 103 | JE59: 26 | JF59: 103 | JG59: 26 | JH59: 103
A60: 51 | B60: =IF(MOD(A59,$I$14*$I$16)=0,B59+1,B59) -> 1 | C60: =IF(C59<>$I$14,C59+1,1) -> 3 | D60: =VLOOKUP(C60,$K$15:$L$30,2,FALSE) -> Court 3 | E60: =IF(B60=B59,IF(C60>C59,E59,E59+$I$15),$I$13) -> 0.875 | F60: =IF(B60=B59,F59,F59+1) -> 42040 | K60: =Setup!H24 -> 16 | L60: =Setup!I24 -> Player 16 | O60: =O59+1 -> 52 | P60: =IF(O60<>"",VLOOKUP(O60,$A$10:$F$266,6,FALSE),"") -> 42040 | Q60: =IF(O60<>"",VLOOKUP(O60,$A$10:$F$266,5,FALSE),"") -> 0.875 | R60: =IF(O60<>"",VLOOKUP(O60,$A$10:$F$266,4,FALSE),"") -> Court 4 | S60: =IF(OFFSET(U60,0,$S$6)<>"",OFFSET(U60,0,$S$6),"Bye") -> Bye | T60: =IF(OFFSET(V60,0,$S$6)<>"",OFFSET(V60,0,$S$6),"Bye") -> Bye | EK60: 39 | EM60: 39 | EO60: 39 | EQ60: 39 | ES60: 39 | EU60: 39 | EW60: 39 | EY60: 39 | FA60: 39 | FC60: 39 | FE60: 39 | FG60: 39 | FI60: 39 | FK60: 39 | FM60: 39 | FO60: 39 | FQ60: 39 | FS60: 39 | FU60: 39 | FW60: 39 | FY60: 39 | GA60: 39 | GC60: 39 | GE60: 39 | GG60: 39 | GI60: 39 | GJ60: 90 | GK60: 39 | GL60: 90 | GM60: 39 | GN60: 90 | GO60: 39 | GP60: 90 | GQ60: 39 | GR60: 90 | GS60: 39 | GT60: 90 | GU60: 39 | GV60: 90 | GW60: 39 | GX60: 90 | GY60: 39 | GZ60: 90 | HA60: 39 | HB60: 90 | HC60: 39 | HD60: 90 | HE60: 39 | HF60: 90 | HG60: 39 | HH60: 90 | HI60: 39 | HJ60: 90 | HK60: 39 | HL60: 90 | HM60: 39 | HN60: 90 | HO60: 39 | HP60: 90 | HQ60: 39 | HR60: 90 | HS60: 39 | HT60: 90 | HU60: 39 | HV60: 90 | HW60: 39 | HX60: 90 | HY60: 39 | HZ60: 90 | IA60: 39 | IB60: 90 | IC60: 39 | ID60: 90 | IE60: 39 | IF60: 90 | IG60: 39 | IH60: 90 | II60: 39 | IJ60: 90 | IK60: 39 | IL60: 90 | IM60: 39 | IN60: 90 | IO60: 39 | IP60: 90 | IQ60: 39 | IR60: 90 | IS60: 39 | IT60: 90 | IU60: 39 | IV60: 90 | IW60: 39 | IX60: 90 | IY60: 39 | IZ60: 90 | JA60: 39 | JB60: 90 | JC60: 39 | JD60: 90 | JE60: 39 | JF60: 90 | JG60: 39 | JH60: 90
A61: 52 | B61: =IF(MOD(A60,$I$14*$I$16)=0,B60+1,B60) -> 1 | C61: =IF(C60<>$I$14,C60+1,1) -> 4 | D61: =VLOOKUP(C61,$K$15:$L$30,2,FALSE) -> Court 4 | E61: =IF(B61=B60,IF(C61>C60,E60,E60+$I$15),$I$13) -> 0.875 | F61: =IF(B61=B60,F60,F60+1) -> 42040 | K61: =Setup!H25 | L61: =Setup!I25 -> 0 | O61: =O60+1 -> 53 | P61: =IF(O61<>"",VLOOKUP(O61,$A$10:$F$266,6,FALSE),"") -> 42040 | Q61: =IF(O61<>"",VLOOKUP(O61,$A$10:$F$266,5,FALSE),"") -> 0.875 | R61: =IF(O61<>"",VLOOKUP(O61,$A$10:$F$266,4,FALSE),"") -> Court 5 | S61: =IF(OFFSET(U61,0,$S$6)<>"",OFFSET(U61,0,$S$6),"Bye") -> Bye | T61: =IF(OFFSET(V61,0,$S$6)<>"",OFFSET(V61,0,$S$6),"Bye") -> Bye | EK61: 10 | EM61: 10 | EO61: 10 | EQ61: 10 | ES61: 10 | EU61: 10 | EW61: 10 | EY61: 10 | FA61: 10 | FC61: 10 | FE61: 10 | FG61: 10 | FI61: 10 | FK61: 10 | FM61: 10 | FO61: 10 | FQ61: 10 | FS61: 10 | FU61: 10 | FW61: 10 | FY61: 10 | GA61: 10 | GC61: 10 | GE61: 10 | GG61: 10 | GI61: 10 | GK61: 10 | GM61: 10 | GO61: 10 | GQ61: 10 | GS61: 10 | GU61: 10 | GW61: 10 | GY61: 10 | HA61: 10 | HC61: 10 | HE61: 10 | HG61: 10 | HI61: 10 | HK61: 10 | HM61: 10 | HO61: 10 | HQ61: 10 | HS61: 10 | HU61: 10 | HW61: 10 | HY61: 10 | IA61: 10 | IC61: 10 | IE61: 10 | IG61: 10 | II61: 10 | IK61: 10 | IM61: 10 | IO61: 10 | IP61: 119 | IQ61: 10 | IR61: 119 | IS61: 10 | IT61: 119 | IU61: 10 | IV61: 119 | IW61: 10 | IX61: 119 | IY61: 10 | IZ61: 119 | JA61: 10 | JB61: 119 | JC61: 10 | JD61: 119 | JE61: 10 | JF61: 119 | JG61: 10 | JH61: 119
A62: 53 | B62: =IF(MOD(A61,$I$14*$I$16)=0,B61+1,B61) -> 1 | C62: =IF(C61<>$I$14,C61+1,1) -> 5 | D62: =VLOOKUP(C62,$K$15:$L$30,2,FALSE) -> Court 5 | E62: =IF(B62=B61,IF(C62>C61,E61,E61+$I$15),$I$13) -> 0.875 | F62: =IF(B62=B61,F61,F61+1) -> 42040 | K62: =Setup!H26 | L62: =Setup!I26 -> 0 | O62: =O61+1 -> 54 | P62: =IF(O62<>"",VLOOKUP(O62,$A$10:$F$266,6,FALSE),"") -> 42040 | Q62: =IF(O62<>"",VLOOKUP(O62,$A$10:$F$266,5,FALSE),"") -> 0.875 | R62: =IF(O62<>"",VLOOKUP(O62,$A$10:$F$266,4,FALSE),"") -> Court 6 | S62: =IF(OFFSET(U62,0,$S$6)<>"",OFFSET(U62,0,$S$6),"Bye") -> Bye | T62: =IF(OFFSET(V62,0,$S$6)<>"",OFFSET(V62,0,$S$6),"Bye") -> Bye | EK62: 55 | EM62: 55 | EO62: 55 | EQ62: 55 | ES62: 55 | EU62: 55 | EW62: 55 | EY62: 55 | FA62: 55 | FC62: 55 | FD62: 74 | FE62: 55 | FF62: 74 | FG62: 55 | FH62: 74 | FI62: 55 | FJ62: 74 | FK62: 55 | FL62: 74 | FM62: 55 | FN62: 74 | FO62: 55 | FP62: 74 | FQ62: 55 | FR62: 74 | FS62: 55 | FT62: 74 | FU62: 55 | FV62: 74 | FW62: 55 | FX62: 74 | FY62: 55 | FZ62: 74 | GA62: 55 | GB62: 74 | GC62: 55 | GD62: 74 | GE62: 55 | GF62: 74 | GG62: 55 | GH62: 74 | GI62: 55 | GJ62: 74 | GK62: 55 | GL62: 74 | GM62: 55 | GN62: 74 | GO62: 55 | GP62: 74 | GQ62: 55 | GR62: 74 | GS62: 55 | GT62: 74 | GU62: 55 | GV62: 74 | GW62: 55 | GX62: 74 | GY62: 55 | GZ62: 74 | HA62: 55 | HB62: 74 | HC62: 55 | HD62: 74 | HE62: 55 | HF62: 74 | HG62: 55 | HH62: 74 | HI62: 55 | HJ62: 74 | HK62: 55 | HL62: 74 | HM62: 55 | HN62: 74 | HO62: 55 | HP62: 74 | HQ62: 55 | HR62: 74 | HS62: 55 | HT62: 74 | HU62: 55 | HV62: 74 | HW62: 55 | HX62: 74 | HY62: 55 | HZ62: 74 | IA62: 55 | IB62: 74 | IC62: 55 | ID62: 74 | IE62: 55 | IF62: 74 | IG62: 55 | IH62: 74 | II62: 55 | IJ62: 74 | IK62: 55 | IL62: 74 | IM62: 55 | IN62: 74 | IO62: 55 | IP62: 74 | IQ62: 55 | IR62: 74 | IS62: 55 | IT62: 74 | IU62: 55 | IV62: 74 | IW62: 55 | IX62: 74 | IY62: 55 | IZ62: 74 | JA62: 55 | JB62: 74 | JC62: 55 | JD62: 74 | JE62: 55 | JF62: 74 | JG62: 55 | JH62: 74
A63: 54 | B63: =IF(MOD(A62,$I$14*$I$16)=0,B62+1,B62) -> 1 | C63: =IF(C62<>$I$14,C62+1,1) -> 6 | D63: =VLOOKUP(C63,$K$15:$L$30,2,FALSE) -> Court 6 | E63: =IF(B63=B62,IF(C63>C62,E62,E62+$I$15),$I$13) -> 0.875 | F63: =IF(B63=B62,F62,F62+1) -> 42040 | K63: =Setup!H27 | L63: =Setup!I27 -> 0 | O63: =O62+1 -> 55 | P63: =IF(O63<>"",VLOOKUP(O63,$A$10:$F$266,6,FALSE),"") -> 42040 | Q63: =IF(O63<>"",VLOOKUP(O63,$A$10:$F$266,5,FALSE),"") -> 0.875 | R63: =IF(O63<>"",VLOOKUP(O63,$A$10:$F$266,4,FALSE),"") -> Court 7 | S63: =IF(OFFSET(U63,0,$S$6)<>"",OFFSET(U63,0,$S$6),"Bye") -> Bye | T63: =IF(OFFSET(V63,0,$S$6)<>"",OFFSET(V63,0,$S$6),"Bye") -> Bye | EK63: 23 | EM63: 23 | EO63: 23 | EQ63: 23 | ES63: 23 | EU63: 23 | EW63: 23 | EY63: 23 | FA63: 23 | FC63: 23 | FE63: 23 | FG63: 23 | FI63: 23 | FK63: 23 | FM63: 23 | FO63: 23 | FQ63: 23 | FS63: 23 | FU63: 23 | FW63: 23 | FY63: 23 | GA63: 23 | GC63: 23 | GE63: 23 | GG63: 23 | GI63: 23 | GK63: 23 | GM63: 23 | GO63: 23 | GQ63: 23 | GS63: 23 | GU63: 23 | GW63: 23 | GY63: 23 | HA63: 23 | HC63: 23 | HE63: 23 | HG63: 23 | HI63: 23 | HK63: 23 | HM63: 23 | HO63: 23 | HP63: 106 | HQ63: 23 | HR63: 106 | HS63: 23 | HT63: 106 | HU63: 23 | HV63: 106 | HW63: 23 | HX63: 106 | HY63: 23 | HZ63: 106 | IA63: 23 | IB63: 106 | IC63: 23 | ID63: 106 | IE63: 23 | IF63: 106 | IG63: 23 | IH63: 106 | II63: 23 | IJ63: 106 | IK63: 23 | IL63: 106 | IM63: 23 | IN63: 106 | IO63: 23 | IP63: 106 | IQ63: 23 | IR63: 106 | IS63: 23 | IT63: 106 | IU63: 23 | IV63: 106 | IW63: 23 | IX63: 106 | IY63: 23 | IZ63: 106 | JA63: 23 | JB63: 106 | JC63: 23 | JD63: 106 | JE63: 23 | JF63: 106 | JG63: 23 | JH63: 106
A64: 55 | B64: =IF(MOD(A63,$I$14*$I$16)=0,B63+1,B63) -> 1 | C64: =IF(C63<>$I$14,C63+1,1) -> 7 | D64: =VLOOKUP(C64,$K$15:$L$30,2,FALSE) -> Court 7 | E64: =IF(B64=B63,IF(C64>C63,E63,E63+$I$15),$I$13) -> 0.875 | F64: =IF(B64=B63,F63,F63+1) -> 42040 | K64: =Setup!H28 | L64: =Setup!I28 -> 0 | O64: =O63+1 -> 56 | P64: =IF(O64<>"",VLOOKUP(O64,$A$10:$F$266,6,FALSE),"") -> 42040 | Q64: =IF(O64<>"",VLOOKUP(O64,$A$10:$F$266,5,FALSE),"") -> 0.875 | R64: =IF(O64<>"",VLOOKUP(O64,$A$10:$F$266,4,FALSE),"") -> Court 8 | S64: =IF(OFFSET(U64,0,$S$6)<>"",OFFSET(U64,0,$S$6),"Bye") -> Bye | T64: =IF(OFFSET(V64,0,$S$6)<>"",OFFSET(V64,0,$S$6),"Bye") -> Bye | EK64: 42 | EM64: 42 | EO64: 42 | EQ64: 42 | ES64: 42 | EU64: 42 | EW64: 42 | EY64: 42 | FA64: 42 | FC64: 42 | FE64: 42 | FG64: 42 | FI64: 42 | FK64: 42 | FM64: 42 | FO64: 42 | FQ64: 42 | FS64: 42 | FU64: 42 | FW64: 42 | FY64: 42 | GA64: 42 | GC64: 42 | GD64: 87 | GE64: 42 | GF64: 87 | GG64: 42 | GH64: 87 | GI64: 42 | GJ64: 87 | GK64: 42 | GL64: 87 | GM64: 42 | GN64: 87 | GO64: 42 | GP64: 87 | GQ64: 42 | GR64: 87 | GS64: 42 | GT64: 87 | GU64: 42 | GV64: 87 | GW64: 42 | GX64: 87 | GY64: 42 | GZ64: 87 | HA64: 42 | HB64: 87 | HC64: 42 | HD64: 87 | HE64: 42 | HF64: 87 | HG64: 42 | HH64: 87 | HI64: 42 | HJ64: 87 | HK64: 42 | HL64: 87 | HM64: 42 | HN64: 87 | HO64: 42 | HP64: 87 | HQ64: 42 | HR64: 87 | HS64: 42 | HT64: 87 | HU64: 42 | HV64: 87 | HW64: 42 | HX64: 87 | HY64: 42 | HZ64: 87 | IA64: 42 | IB64: 87 | IC64: 42 | ID64: 87 | IE64: 42 | IF64: 87 | IG64: 42 | IH64: 87 | II64: 42 | IJ64: 87 | IK64: 42 | IL64: 87 | IM64: 42 | IN64: 87 | IO64: 42 | IP64: 87 | IQ64: 42 | IR64: 87 | IS64: 42 | IT64: 87 | IU64: 42 | IV64: 87 | IW64: 42 | IX64: 87 | IY64: 42 | IZ64: 87 | JA64: 42 | JB64: 87 | JC64: 42 | JD64: 87 | JE64: 42 | JF64: 87 | JG64: 42 | JH64: 87
A65: 56 | B65: =IF(MOD(A64,$I$14*$I$16)=0,B64+1,B64) -> 1 | C65: =IF(C64<>$I$14,C64+1,1) -> 8 | D65: =VLOOKUP(C65,$K$15:$L$30,2,FALSE) -> Court 8 | E65: =IF(B65=B64,IF(C65>C64,E64,E64+$I$15),$I$13) -> 0.875 | F65: =IF(B65=B64,F64,F64+1) -> 42040 | K65: =Setup!H29 | L65: =Setup!I29 -> 0 | O65: =O64+1 -> 57 | P65: =IF(O65<>"",VLOOKUP(O65,$A$10:$F$266,6,FALSE),"") -> 42040 | Q65: =IF(O65<>"",VLOOKUP(O65,$A$10:$F$266,5,FALSE),"") -> 0.875 | R65: =IF(O65<>"",VLOOKUP(O65,$A$10:$F$266,4,FALSE),"") -> Court 9 | S65: =IF(OFFSET(U65,0,$S$6)<>"",OFFSET(U65,0,$S$6),"Bye") -> Bye | T65: =IF(OFFSET(V65,0,$S$6)<>"",OFFSET(V65,0,$S$6),"Bye") -> Bye | EK65: 15 | EM65: 15 | EO65: 15 | EQ65: 15 | ES65: 15 | EU65: 15 | EW65: 15 | EY65: 15 | FA65: 15 | FC65: 15 | FE65: 15 | FG65: 15 | FI65: 15 | FK65: 15 | FM65: 15 | FO65: 15 | FQ65: 15 | FS65: 15 | FU65: 15 | FW65: 15 | FY65: 15 | GA65: 15 | GC65: 15 | GE65: 15 | GG65: 15 | GI65: 15 | GK65: 15 | GM65: 15 | GO65: 15 | GQ65: 15 | GS65: 15 | GU65: 15 | GW65: 15 | GY65: 15 | HA65: 15 | HC65: 15 | HE65: 15 | HG65: 15 | HI65: 15 | HK65: 15 | HM65: 15 | HO65: 15 | HQ65: 15 | HS65: 15 | HU65: 15 | HW65: 15 | HY65: 15 | IA65: 15 | IC65: 15 | IE65: 15 | IF65: 114 | IG65: 15 | IH65: 114 | II65: 15 | IJ65: 114 | IK65: 15 | IL65: 114 | IM65: 15 | IN65: 114 | IO65: 15 | IP65: 114 | IQ65: 15 | IR65: 114 | IS65: 15 | IT65: 114 | IU65: 15 | IV65: 114 | IW65: 15 | IX65: 114 | IY65: 15 | IZ65: 114 | JA65: 15 | JB65: 114 | JC65: 15 | JD65: 114 | JE65: 15 | JF65: 114 | JG65: 15 | JH65: 114
A66: 57 | B66: =IF(MOD(A65,$I$14*$I$16)=0,B65+1,B65) -> 1 | C66: =IF(C65<>$I$14,C65+1,1) -> 9 | D66: =VLOOKUP(C66,$K$15:$L$30,2,FALSE) -> Court 9 | E66: =IF(B66=B65,IF(C66>C65,E65,E65+$I$15),$I$13) -> 0.875 | F66: =IF(B66=B65,F65,F65+1) -> 42040 | K66: =Setup!H30 | L66: =Setup!I30 -> 0 | O66: =O65+1 -> 58 | P66: =IF(O66<>"",VLOOKUP(O66,$A$10:$F$266,6,FALSE),"") -> 42040 | Q66: =IF(O66<>"",VLOOKUP(O66,$A$10:$F$266,5,FALSE),"") -> 0.875 | R66: =IF(O66<>"",VLOOKUP(O66,$A$10:$F$266,4,FALSE),"") -> Court 10 | S66: =IF(OFFSET(U66,0,$S$6)<>"",OFFSET(U66,0,$S$6),"Bye") -> Bye | T66: =IF(OFFSET(V66,0,$S$6)<>"",OFFSET(V66,0,$S$6),"Bye") -> Bye | EK66: 50 | EM66: 50 | EO66: 50 | EQ66: 50 | ES66: 50 | EU66: 50 | EW66: 50 | EY66: 50 | FA66: 50 | FC66: 50 | FE66: 50 | FG66: 50 | FI66: 50 | FK66: 50 | FM66: 50 | FN66: 79 | FO66: 50 | FP66: 79 | FQ66: 50 | FR66: 79 | FS66: 50 | FT66: 79 | FU66: 50 | FV66: 79 | FW66: 50 | FX66: 79 | FY66: 50 | FZ66: 79 | GA66: 50 | GB66: 79 | GC66: 50 | GD66: 79 | GE66: 50 | GF66: 79 | GG66: 50 | GH66: 79 | GI66: 50 | GJ66: 79 | GK66: 50 | GL66: 79 | GM66: 50 | GN66: 79 | GO66: 50 | GP66: 79 | GQ66: 50 | GR66: 79 | GS66: 50 | GT66: 79 | GU66: 50 | GV66: 79 | GW66: 50 | GX66: 79 | GY66: 50 | GZ66: 79 | HA66: 50 | HB66: 79 | HC66: 50 | HD66: 79 | HE66: 50 | HF66: 79 | HG66: 50 | HH66: 79 | HI66: 50 | HJ66: 79 | HK66: 50 | HL66: 79 | HM66: 50 | HN66: 79 | HO66: 50 | HP66: 79 | HQ66: 50 | HR66: 79 | HS66: 50 | HT66: 79 | HU66: 50 | HV66: 79 | HW66: 50 | HX66: 79 | HY66: 50 | HZ66: 79 | IA66: 50 | IB66: 79 | IC66: 50 | ID66: 79 | IE66: 50 | IF66: 79 | IG66: 50 | IH66: 79 | II66: 50 | IJ66: 79 | IK66: 50 | IL66: 79 | IM66: 50 | IN66: 79 | IO66: 50 | IP66: 79 | IQ66: 50 | IR66: 79 | IS66: 50 | IT66: 79 | IU66: 50 | IV66: 79 | IW66: 50 | IX66: 79 | IY66: 50 | IZ66: 79 | JA66: 50 | JB66: 79 | JC66: 50 | JD66: 79 | JE66: 50 | JF66: 79 | JG66: 50 | JH66: 79
A67: 58 | B67: =IF(MOD(A66,$I$14*$I$16)=0,B66+1,B66) -> 1 | C67: =IF(C66<>$I$14,C66+1,1) -> 10 | D67: =VLOOKUP(C67,$K$15:$L$30,2,FALSE) -> Court 10 | E67: =IF(B67=B66,IF(C67>C66,E66,E66+$I$15),$I$13) -> 0.875 | F67: =IF(B67=B66,F66,F66+1) -> 42040 | K67: =Setup!H31 | L67: =Setup!I31 -> 0 | O67: =O66+1 -> 59 | P67: =IF(O67<>"",VLOOKUP(O67,$A$10:$F$266,6,FALSE),"") -> 42040 | Q67: =IF(O67<>"",VLOOKUP(O67,$A$10:$F$266,5,FALSE),"") -> 0.875 | R67: =IF(O67<>"",VLOOKUP(O67,$A$10:$F$266,4,FALSE),"") -> Court 11 | S67: =IF(OFFSET(U67,0,$S$6)<>"",OFFSET(U67,0,$S$6),"Bye") -> Bye | T67: =IF(OFFSET(V67,0,$S$6)<>"",OFFSET(V67,0,$S$6),"Bye") -> Bye | EK67: 18 | EM67: 18 | EO67: 18 | EQ67: 18 | ES67: 18 | EU67: 18 | EW67: 18 | EY67: 18 | FA67: 18 | FC67: 18 | FE67: 18 | FG67: 18 | FI67: 18 | FK67: 18 | FM67: 18 | FO67: 18 | FQ67: 18 | FS67: 18 | FU67: 18 | FW67: 18 | FY67: 18 | GA67: 18 | GC67: 18 | GE67: 18 | GG67: 18 | GI67: 18 | GK67: 18 | GM67: 18 | GO67: 18 | GQ67: 18 | GS67: 18 | GU67: 18 | GW67: 18 | GY67: 18 | HA67: 18 | HC67: 18 | HE67: 18 | HG67: 18 | HI67: 18 | HK67: 18 | HM67: 18 | HO67: 18 | HQ67: 18 | HS67: 18 | HU67: 18 | HW67: 18 | HY67: 18 | HZ67: 111 | IA67: 18 | IB67: 111 | IC67: 18 | ID67: 111 | IE67: 18 | IF67: 111 | IG67: 18 | IH67: 111 | II67: 18 | IJ67: 111 | IK67: 18 | IL67: 111 | IM67: 18 | IN67: 111 | IO67: 18 | IP67: 111 | IQ67: 18 | IR67: 111 | IS67: 18 | IT67: 111 | IU67: 18 | IV67: 111 | IW67: 18 | IX67: 111 | IY67: 18 | IZ67: 111 | JA67: 18 | JB67: 111 | JC67: 18 | JD67: 111 | JE67: 18 | JF67: 111 | JG67: 18 | JH67: 111
A68: 59 | B68: =IF(MOD(A67,$I$14*$I$16)=0,B67+1,B67) -> 1 | C68: =IF(C67<>$I$14,C67+1,1) -> 11 | D68: =VLOOKUP(C68,$K$15:$L$30,2,FALSE) -> Court 11 | E68: =IF(B68=B67,IF(C68>C67,E67,E67+$I$15),$I$13) -> 0.875 | F68: =IF(B68=B67,F67,F67+1) -> 42040 | K68: =Setup!H32 | L68: =Setup!I32 -> 0 | O68: =O67+1 -> 60 | P68: =IF(O68<>"",VLOOKUP(O68,$A$10:$F$266,6,FALSE),"") -> 42040 | Q68: =IF(O68<>"",VLOOKUP(O68,$A$10:$F$266,5,FALSE),"") -> 0.875 | R68: =IF(O68<>"",VLOOKUP(O68,$A$10:$F$266,4,FALSE),"") -> Court 12 | S68: =IF(OFFSET(U68,0,$S$6)<>"",OFFSET(U68,0,$S$6),"Bye") -> Bye | T68: =IF(OFFSET(V68,0,$S$6)<>"",OFFSET(V68,0,$S$6),"Bye") -> Bye | EK68: 47 | EM68: 47 | EO68: 47 | EQ68: 47 | ES68: 47 | EU68: 47 | EW68: 47 | EY68: 47 | FA68: 47 | FC68: 47 | FE68: 47 | FG68: 47 | FI68: 47 | FK68: 47 | FM68: 47 | FO68: 47 | FQ68: 47 | FS68: 47 | FT68: 82 | FU68: 47 | FV68: 82 | FW68: 47 | FX68: 82 | FY68: 47 | FZ68: 82 | GA68: 47 | GB68: 82 | GC68: 47 | GD68: 82 | GE68: 47 | GF68: 82 | GG68: 47 | GH68: 82 | GI68: 47 | GJ68: 82 | GK68: 47 | GL68: 82 | GM68: 47 | GN68: 82 | GO68: 47 | GP68: 82 | GQ68: 47 | GR68: 82 | GS68: 47 | GT68: 82 | GU68: 47 | GV68: 82 | GW68: 47 | GX68: 82 | GY68: 47 | GZ68: 82 | HA68: 47 | HB68: 82 | HC68: 47 | HD68: 82 | HE68: 47 | HF68: 82 | HG68: 47 | HH68: 82 | HI68: 47 | HJ68: 82 | HK68: 47 | HL68: 82 | HM68: 47 | HN68: 82 | HO68: 47 | HP68: 82 | HQ68: 47 | HR68: 82 | HS68: 47 | HT68: 82 | HU68: 47 | HV68: 82 | HW68: 47 | HX68: 82 | HY68: 47 | HZ68: 82 | IA68: 47 | IB68: 82 | IC68: 47 | ID68: 82 | IE68: 47 | IF68: 82 | IG68: 47 | IH68: 82 | II68: 47 | IJ68: 82 | IK68: 47 | IL68: 82 | IM68: 47 | IN68: 82 | IO68: 47 | IP68: 82 | IQ68: 47 | IR68: 82 | IS68: 47 | IT68: 82 | IU68: 47 | IV68: 82 | IW68: 47 | IX68: 82 | IY68: 47 | IZ68: 82 | JA68: 47 | JB68: 82 | JC68: 47 | JD68: 82 | JE68: 47 | JF68: 82 | JG68: 47 | JH68: 82
A69: 60 | B69: =IF(MOD(A68,$I$14*$I$16)=0,B68+1,B68) -> 1 | C69: =IF(C68<>$I$14,C68+1,1) -> 12 | D69: =VLOOKUP(C69,$K$15:$L$30,2,FALSE) -> Court 12 | E69: =IF(B69=B68,IF(C69>C68,E68,E68+$I$15),$I$13) -> 0.875 | F69: =IF(B69=B68,F68,F68+1) -> 42040 | K69: =Setup!H33 | L69: =Setup!I33 -> 0 | O69: =O68+1 -> 61 | P69: =IF(O69<>"",VLOOKUP(O69,$A$10:$F$266,6,FALSE),"") -> 42040 | Q69: =IF(O69<>"",VLOOKUP(O69,$A$10:$F$266,5,FALSE),"") -> 0.875 | R69: =IF(O69<>"",VLOOKUP(O69,$A$10:$F$266,4,FALSE),"") -> Court 13 | S69: =IF(OFFSET(U69,0,$S$6)<>"",OFFSET(U69,0,$S$6),"Bye") -> Bye | T69: =IF(OFFSET(V69,0,$S$6)<>"",OFFSET(V69,0,$S$6),"Bye") -> Bye | EK69: 31 | EM69: 31 | EO69: 31 | EQ69: 31 | ES69: 31 | EU69: 31 | EW69: 31 | EY69: 31 | FA69: 31 | FC69: 31 | FE69: 31 | FG69: 31 | FI69: 31 | FK69: 31 | FM69: 31 | FO69: 31 | FQ69: 31 | FS69: 31 | FU69: 31 | FW69: 31 | FY69: 31 | GA69: 31 | GC69: 31 | GE69: 31 | GG69: 31 | GI69: 31 | GK69: 31 | GM69: 31 | GO69: 31 | GQ69: 31 | GS69: 31 | GU69: 31 | GW69: 31 | GY69: 31 | GZ69: 98 | HA69: 31 | HB69: 98 | HC69: 31 | HD69: 98 | HE69: 31 | HF69: 98 | HG69: 31 | HH69: 98 | HI69: 31 | HJ69: 98 | HK69: 31 | HL69: 98 | HM69: 31 | HN69: 98 | HO69: 31 | HP69: 98 | HQ69: 31 | HR69: 98 | HS69: 31 | HT69: 98 | HU69: 31 | HV69: 98 | HW69: 31 | HX69: 98 | HY69: 31 | HZ69: 98 | IA69: 31 | IB69: 98 | IC69: 31 | ID69: 98 | IE69: 31 | IF69: 98 | IG69: 31 | IH69: 98 | II69: 31 | IJ69: 98 | IK69: 31 | IL69: 98 | IM69: 31 | IN69: 98 | IO69: 31 | IP69: 98 | IQ69: 31 | IR69: 98 | IS69: 31 | IT69: 98 | IU69: 31 | IV69: 98 | IW69: 31 | IX69: 98 | IY69: 31 | IZ69: 98 | JA69: 31 | JB69: 98 | JC69: 31 | JD69: 98 | JE69: 31 | JF69: 98 | JG69: 31 | JH69: 98
A70: 61 | B70: =IF(MOD(A69,$I$14*$I$16)=0,B69+1,B69) -> 1 | C70: =IF(C69<>$I$14,C69+1,1) -> 13 | D70: =VLOOKUP(C70,$K$15:$L$30,2,FALSE) -> Court 13 | E70: =IF(B70=B69,IF(C70>C69,E69,E69+$I$15),$I$13) -> 0.875 | F70: =IF(B70=B69,F69,F69+1) -> 42040 | K70: =Setup!H34 | L70: =Setup!I34 -> 0 | O70: =O69+1 -> 62 | P70: =IF(O70<>"",VLOOKUP(O70,$A$10:$F$266,6,FALSE),"") -> 42040 | Q70: =IF(O70<>"",VLOOKUP(O70,$A$10:$F$266,5,FALSE),"") -> 0.875 | R70: =IF(O70<>"",VLOOKUP(O70,$A$10:$F$266,4,FALSE),"") -> Court 14 | S70: =IF(OFFSET(U70,0,$S$6)<>"",OFFSET(U70,0,$S$6),"Bye") -> Bye | T70: =IF(OFFSET(V70,0,$S$6)<>"",OFFSET(V70,0,$S$6),"Bye") -> Bye | EK70: 34 | EM70: 34 | EO70: 34 | EQ70: 34 | ES70: 34 | EU70: 34 | EW70: 34 | EY70: 34 | FA70: 34 | FC70: 34 | FE70: 34 | FG70: 34 | FI70: 34 | FK70: 34 | FM70: 34 | FO70: 34 | FQ70: 34 | FS70: 34 | FU70: 34 | FW70: 34 | FY70: 34 | GA70: 34 | GC70: 34 | GE70: 34 | GG70: 34 | GI70: 34 | GK70: 34 | GM70: 34 | GO70: 34 | GQ70: 34 | GS70: 34 | GT70: 95 | GU70: 34 | GV70: 95 | GW70: 34 | GX70: 95 | GY70: 34 | GZ70: 95 | HA70: 34 | HB70: 95 | HC70: 34 | HD70: 95 | HE70: 34 | HF70: 95 | HG70: 34 | HH70: 95 | HI70: 34 | HJ70: 95 | HK70: 34 | HL70: 95 | HM70: 34 | HN70: 95 | HO70: 34 | HP70: 95 | HQ70: 34 | HR70: 95 | HS70: 34 | HT70: 95 | HU70: 34 | HV70: 95 | HW70: 34 | HX70: 95 | HY70: 34 | HZ70: 95 | IA70: 34 | IB70: 95 | IC70: 34 | ID70: 95 | IE70: 34 | IF70: 95 | IG70: 34 | IH70: 95 | II70: 34 | IJ70: 95 | IK70: 34 | IL70: 95 | IM70: 34 | IN70: 95 | IO70: 34 | IP70: 95 | IQ70: 34 | IR70: 95 | IS70: 34 | IT70: 95 | IU70: 34 | IV70: 95 | IW70: 34 | IX70: 95 | IY70: 34 | IZ70: 95 | JA70: 34 | JB70: 95 | JC70: 34 | JD70: 95 | JE70: 34 | JF70: 95 | JG70: 34 | JH70: 95
A71: 62 | B71: =IF(MOD(A70,$I$14*$I$16)=0,B70+1,B70) -> 1 | C71: =IF(C70<>$I$14,C70+1,1) -> 14 | D71: =VLOOKUP(C71,$K$15:$L$30,2,FALSE) -> Court 14 | E71: =IF(B71=B70,IF(C71>C70,E70,E70+$I$15),$I$13) -> 0.875 | F71: =IF(B71=B70,F70,F70+1) -> 42040 | K71: =Setup!H35 | L71: =Setup!I35 -> 0 | O71: =O70+1 -> 63 | P71: =IF(O71<>"",VLOOKUP(O71,$A$10:$F$266,6,FALSE),"") -> 42040 | Q71: =IF(O71<>"",VLOOKUP(O71,$A$10:$F$266,5,FALSE),"") -> 0.875 | R71: =IF(O71<>"",VLOOKUP(O71,$A$10:$F$266,4,FALSE),"") -> Court 15 | S71: =IF(OFFSET(U71,0,$S$6)<>"",OFFSET(U71,0,$S$6),"Bye") -> Bye | T71: =IF(OFFSET(V71,0,$S$6)<>"",OFFSET(V71,0,$S$6),"Bye") -> Bye | EK71: 63 | EM71: 63 | EN71: 66 | EO71: 63 | EP71: 66 | EQ71: 63 | ER71: 66 | ES71: 63 | ET71: 66 | EU71: 63 | EV71: 66 | EW71: 63 | EX71: 66 | EY71: 63 | EZ71: 66 | FA71: 63 | FB71: 66 | FC71: 63 | FD71: 66 | FE71: 63 | FF71: 66 | FG71: 63 | FH71: 66 | FI71: 63 | FJ71: 66 | FK71: 63 | FL71: 66 | FM71: 63 | FN71: 66 | FO71: 63 | FP71: 66 | FQ71: 63 | FR71: 66 | FS71: 63 | FT71: 66 | FU71: 63 | FV71: 66 | FW71: 63 | FX71: 66 | FY71: 63 | FZ71: 66 | GA71: 63 | GB71: 66 | GC71: 63 | GD71: 66 | GE71: 63 | GF71: 66 | GG71: 63 | GH71: 66 | GI71: 63 | GJ71: 66 | GK71: 63 | GL71: 66 | GM71: 63 | GN71: 66 | GO71: 63 | GP71: 66 | GQ71: 63 | GR71: 66 | GS71: 63 | GT71: 66 | GU71: 63 | GV71: 66 | GW71: 63 | GX71: 66 | GY71: 63 | GZ71: 66 | HA71: 63 | HB71: 66 | HC71: 63 | HD71: 66 | HE71: 63 | HF71: 66 | HG71: 63 | HH71: 66 | HI71: 63 | HJ71: 66 | HK71: 63 | HL71: 66 | HM71: 63 | HN71: 66 | HO71: 63 | HP71: 66 | HQ71: 63 | HR71: 66 | HS71: 63 | HT71: 66 | HU71: 63 | HV71: 66 | HW71: 63 | HX71: 66 | HY71: 63 | HZ71: 66 | IA71: 63 | IB71: 66 | IC71: 63 | ID71: 66 | IE71: 63 | IF71: 66 | IG71: 63 | IH71: 66 | II71: 63 | IJ71: 66 | IK71: 63 | IL71: 66 | IM71: 63 | IN71: 66 | IO71: 63 | IP71: 66 | IQ71: 63 | IR71: 66 | IS71: 63 | IT71: 66 | IU71: 63 | IV71: 66 | IW71: 63 | IX71: 66 | IY71: 63 | IZ71: 66 | JA71: 63 | JB71: 66 | JC71: 63 | JD71: 66 | JE71: 63 | JF71: 66 | JG71: 63 | JH71: 66
A72: 63 | B72: =IF(MOD(A71,$I$14*$I$16)=0,B71+1,B71) -> 1 | C72: =IF(C71<>$I$14,C71+1,1) -> 15 | D72: =VLOOKUP(C72,$K$15:$L$30,2,FALSE) -> Court 15 | E72: =IF(B72=B71,IF(C72>C71,E71,E71+$I$15),$I$13) -> 0.875 | F72: =IF(B72=B71,F71,F71+1) -> 42040 | K72: =Setup!H36 | L72: =Setup!I36 -> 0 | O72: =O71+1 -> 64 | P72: =IF(O72<>"",VLOOKUP(O72,$A$10:$F$266,6,FALSE),"") -> 42040 | Q72: =IF(O72<>"",VLOOKUP(O72,$A$10:$F$266,5,FALSE),"") -> 0.875 | R72: =IF(O72<>"",VLOOKUP(O72,$A$10:$F$266,4,FALSE),"") -> Court 16 | S72: =IF(OFFSET(U72,0,$S$6)<>"",OFFSET(U72,0,$S$6),"Bye") -> Bye | T72: =IF(OFFSET(V72,0,$S$6)<>"",OFFSET(V72,0,$S$6),"Bye") -> Bye | EK72: 2 | EM72: 2 | EO72: 2 | EQ72: 2 | ES72: 2 | EU72: 2 | EW72: 2 | EY72: 2 | FA72: 2 | FC72: 2 | FE72: 2 | FG72: 2 | FI72: 2 | FK72: 2 | FM72: 2 | FO72: 2 | FQ72: 2 | FS72: 2 | FU72: 2 | FW72: 2 | FY72: 2 | GA72: 2 | GC72: 2 | GE72: 2 | GG72: 2 | GI72: 2 | GK72: 2 | GM72: 2 | GO72: 2 | GQ72: 2 | GS72: 2 | GU72: 2 | GW72: 2 | GY72: 2 | HA72: 2 | HC72: 2 | HE72: 2 | HG72: 2 | HI72: 2 | HK72: 2 | HM72: 2 | HO72: 2 | HQ72: 2 | HS72: 2 | HU72: 2 | HW72: 2 | HY72: 2 | IA72: 2 | IC72: 2 | IE72: 2 | IG72: 2 | II72: 2 | IK72: 2 | IM72: 2 | IO72: 2 | IQ72: 2 | IS72: 2 | IU72: 2 | IW72: 2 | IY72: 2 | JA72: 2 | JC72: 2 | JE72: 2 | JF72: 127 | JG72: 2 | JH72: 127
A73: 64 | B73: =IF(MOD(A72,$I$14*$I$16)=0,B72+1,B72) -> 1 | C73: =IF(C72<>$I$14,C72+1,1) -> 16 | D73: =VLOOKUP(C73,$K$15:$L$30,2,FALSE) -> Court 16 | E73: =IF(B73=B72,IF(C73>C72,E72,E72+$I$15),$I$13) -> 0.875 | F73: =IF(B73=B72,F72,F72+1) -> 42040 | K73: =Setup!H37 | L73: =Setup!I37 -> 0 | O73: =O72+1 -> 65 | P73: =IF(O73<>"",VLOOKUP(O73,$A$10:$F$266,6,FALSE),"") -> 42041 | Q73: =IF(O73<>"",VLOOKUP(O73,$A$10:$F$266,5,FALSE),"") -> 0.625 | R73: =IF(O73<>"",VLOOKUP(O73,$A$10:$F$266,4,FALSE),"") -> Court 1 | S73: =IF(OFFSET(U73,0,$S$6)<>"",OFFSET(U73,0,$S$6),"Bye") -> Bye | T73: =IF(OFFSET(V73,0,$S$6)<>"",OFFSET(V73,0,$S$6),"Bye") -> Bye
A74: 65 | B74: =IF(MOD(A73,$I$14*$I$16)=0,B73+1,B73) -> 2 | C74: =IF(C73<>$I$14,C73+1,1) -> 1 | D74: =VLOOKUP(C74,$K$15:$L$30,2,FALSE) -> Court 1 | E74: =IF(B74=B73,IF(C74>C73,E73,E73+$I$15),$I$13) -> 0.625 | F74: =IF(B74=B73,F73,F73+1) -> 42041 | K74: =Setup!H38 | L74: =Setup!I38 -> 0 | O74: =O73+1 -> 66 | P74: =IF(O74<>"",VLOOKUP(O74,$A$10:$F$266,6,FALSE),"") -> 42041 | Q74: =IF(O74<>"",VLOOKUP(O74,$A$10:$F$266,5,FALSE),"") -> 0.625 | R74: =IF(O74<>"",VLOOKUP(O74,$A$10:$F$266,4,FALSE),"") -> Court 2 | S74: =IF(OFFSET(U74,0,$S$6)<>"",OFFSET(U74,0,$S$6),"Bye") -> Bye | T74: =IF(OFFSET(V74,0,$S$6)<>"",OFFSET(V74,0,$S$6),"Bye") -> Bye
A75: 66 | B75: =IF(MOD(A74,$I$14*$I$16)=0,B74+1,B74) -> 2 | C75: =IF(C74<>$I$14,C74+1,1) -> 2 | D75: =VLOOKUP(C75,$K$15:$L$30,2,FALSE) -> Court 2 | E75: =IF(B75=B74,IF(C75>C74,E74,E74+$I$15),$I$13) -> 0.625 | F75: =IF(B75=B74,F74,F74+1) -> 42041 | K75: =Setup!H39 | L75: =Setup!I39 -> 0 | O75: =O74+1 -> 67 | P75: =IF(O75<>"",VLOOKUP(O75,$A$10:$F$266,6,FALSE),"") -> 42041 | Q75: =IF(O75<>"",VLOOKUP(O75,$A$10:$F$266,5,FALSE),"") -> 0.625 | R75: =IF(O75<>"",VLOOKUP(O75,$A$10:$F$266,4,FALSE),"") -> Court 3 | S75: =IF(OFFSET(U75,0,$S$6)<>"",OFFSET(U75,0,$S$6),"Bye") -> Bye | T75: =IF(OFFSET(V75,0,$S$6)<>"",OFFSET(V75,0,$S$6),"Bye") -> Bye
A76: 67 | B76: =IF(MOD(A75,$I$14*$I$16)=0,B75+1,B75) -> 2 | C76: =IF(C75<>$I$14,C75+1,1) -> 3 | D76: =VLOOKUP(C76,$K$15:$L$30,2,FALSE) -> Court 3 | E76: =IF(B76=B75,IF(C76>C75,E75,E75+$I$15),$I$13) -> 0.625 | F76: =IF(B76=B75,F75,F75+1) -> 42041 | K76: =Setup!H40 | L76: =Setup!I40 -> 0 | O76: =O75+1 -> 68 | P76: =IF(O76<>"",VLOOKUP(O76,$A$10:$F$266,6,FALSE),"") -> 42041 | Q76: =IF(O76<>"",VLOOKUP(O76,$A$10:$F$266,5,FALSE),"") -> 0.625 | R76: =IF(O76<>"",VLOOKUP(O76,$A$10:$F$266,4,FALSE),"") -> Court 4 | S76: =IF(OFFSET(U76,0,$S$6)<>"",OFFSET(U76,0,$S$6),"Bye") -> Bye | T76: =IF(OFFSET(V76,0,$S$6)<>"",OFFSET(V76,0,$S$6),"Bye") -> Bye
A77: 68 | B77: =IF(MOD(A76,$I$14*$I$16)=0,B76+1,B76) -> 2 | C77: =IF(C76<>$I$14,C76+1,1) -> 4 | D77: =VLOOKUP(C77,$K$15:$L$30,2,FALSE) -> Court 4 | E77: =IF(B77=B76,IF(C77>C76,E76,E76+$I$15),$I$13) -> 0.625 | F77: =IF(B77=B76,F76,F76+1) -> 42041 | K77: =Setup!H41 | L77: =Setup!I41 -> 0 | O77: =O76+1 -> 69 | P77: =IF(O77<>"",VLOOKUP(O77,$A$10:$F$266,6,FALSE),"") -> 42041 | Q77: =IF(O77<>"",VLOOKUP(O77,$A$10:$F$266,5,FALSE),"") -> 0.625 | R77: =IF(O77<>"",VLOOKUP(O77,$A$10:$F$266,4,FALSE),"") -> Court 5 | S77: =IF(OFFSET(U77,0,$S$6)<>"",OFFSET(U77,0,$S$6),"Bye") -> Bye | T77: =IF(OFFSET(V77,0,$S$6)<>"",OFFSET(V77,0,$S$6),"Bye") -> Bye
A78: 69 | B78: =IF(MOD(A77,$I$14*$I$16)=0,B77+1,B77) -> 2 | C78: =IF(C77<>$I$14,C77+1,1) -> 5 | D78: =VLOOKUP(C78,$K$15:$L$30,2,FALSE) -> Court 5 | E78: =IF(B78=B77,IF(C78>C77,E77,E77+$I$15),$I$13) -> 0.625 | F78: =IF(B78=B77,F77,F77+1) -> 42041 | K78: =Setup!H42 | L78: =Setup!I42 -> 0 | O78: =O77+1 -> 70 | P78: =IF(O78<>"",VLOOKUP(O78,$A$10:$F$266,6,FALSE),"") -> 42041 | Q78: =IF(O78<>"",VLOOKUP(O78,$A$10:$F$266,5,FALSE),"") -> 0.625 | R78: =IF(O78<>"",VLOOKUP(O78,$A$10:$F$266,4,FALSE),"") -> Court 6 | S78: =IF(OFFSET(U78,0,$S$6)<>"",OFFSET(U78,0,$S$6),"Bye") -> Bye | T78: =IF(OFFSET(V78,0,$S$6)<>"",OFFSET(V78,0,$S$6),"Bye") -> Bye
A79: 70 | B79: =IF(MOD(A78,$I$14*$I$16)=0,B78+1,B78) -> 2 | C79: =IF(C78<>$I$14,C78+1,1) -> 6 | D79: =VLOOKUP(C79,$K$15:$L$30,2,FALSE) -> Court 6 | E79: =IF(B79=B78,IF(C79>C78,E78,E78+$I$15),$I$13) -> 0.625 | F79: =IF(B79=B78,F78,F78+1) -> 42041 | K79: =Setup!H43 | L79: =Setup!I43 -> 0 | O79: =O78+1 -> 71 | P79: =IF(O79<>"",VLOOKUP(O79,$A$10:$F$266,6,FALSE),"") -> 42041 | Q79: =IF(O79<>"",VLOOKUP(O79,$A$10:$F$266,5,FALSE),"") -> 0.625 | R79: =IF(O79<>"",VLOOKUP(O79,$A$10:$F$266,4,FALSE),"") -> Court 7 | S79: =IF(OFFSET(U79,0,$S$6)<>"",OFFSET(U79,0,$S$6),"Bye") -> Bye | T79: =IF(OFFSET(V79,0,$S$6)<>"",OFFSET(V79,0,$S$6),"Bye") -> Bye
A80: 71 | B80: =IF(MOD(A79,$I$14*$I$16)=0,B79+1,B79) -> 2 | C80: =IF(C79<>$I$14,C79+1,1) -> 7 | D80: =VLOOKUP(C80,$K$15:$L$30,2,FALSE) -> Court 7 | E80: =IF(B80=B79,IF(C80>C79,E79,E79+$I$15),$I$13) -> 0.625 | F80: =IF(B80=B79,F79,F79+1) -> 42041 | K80: =Setup!H44 | L80: =Setup!I44 -> 0 | O80: =O79+1 -> 72 | P80: =IF(O80<>"",VLOOKUP(O80,$A$10:$F$266,6,FALSE),"") -> 42041 | Q80: =IF(O80<>"",VLOOKUP(O80,$A$10:$F$266,5,FALSE),"") -> 0.625 | R80: =IF(O80<>"",VLOOKUP(O80,$A$10:$F$266,4,FALSE),"") -> Court 8 | S80: =IF(OFFSET(U80,0,$S$6)<>"",OFFSET(U80,0,$S$6),"Bye") -> Bye | T80: =IF(OFFSET(V80,0,$S$6)<>"",OFFSET(V80,0,$S$6),"Bye") -> Bye
A81: 72 | B81: =IF(MOD(A80,$I$14*$I$16)=0,B80+1,B80) -> 2 | C81: =IF(C80<>$I$14,C80+1,1) -> 8 | D81: =VLOOKUP(C81,$K$15:$L$30,2,FALSE) -> Court 8 | E81: =IF(B81=B80,IF(C81>C80,E80,E80+$I$15),$I$13) -> 0.625 | F81: =IF(B81=B80,F80,F80+1) -> 42041 | K81: =Setup!H45 | L81: =Setup!I45 -> 0 | O81: =O80+1 -> 73 | P81: =IF(O81<>"",VLOOKUP(O81,$A$10:$F$266,6,FALSE),"") -> 42041 | Q81: =IF(O81<>"",VLOOKUP(O81,$A$10:$F$266,5,FALSE),"") -> 0.625 | R81: =IF(O81<>"",VLOOKUP(O81,$A$10:$F$266,4,FALSE),"") -> Court 9 | S81: =IF(OFFSET(U81,0,$S$6)<>"",OFFSET(U81,0,$S$6),"Bye") -> Bye | T81: =IF(OFFSET(V81,0,$S$6)<>"",OFFSET(V81,0,$S$6),"Bye") -> Bye
A82: 73 | B82: =IF(MOD(A81,$I$14*$I$16)=0,B81+1,B81) -> 2 | C82: =IF(C81<>$I$14,C81+1,1) -> 9 | D82: =VLOOKUP(C82,$K$15:$L$30,2,FALSE) -> Court 9 | E82: =IF(B82=B81,IF(C82>C81,E81,E81+$I$15),$I$13) -> 0.625 | F82: =IF(B82=B81,F81,F81+1) -> 42041 | K82: =Setup!H46 | L82: =Setup!I46 -> 0 | O82: =O81+1 -> 74 | P82: =IF(O82<>"",VLOOKUP(O82,$A$10:$F$266,6,FALSE),"") -> 42041 | Q82: =IF(O82<>"",VLOOKUP(O82,$A$10:$F$266,5,FALSE),"") -> 0.625 | R82: =IF(O82<>"",VLOOKUP(O82,$A$10:$F$266,4,FALSE),"") -> Court 10 | S82: =IF(OFFSET(U82,0,$S$6)<>"",OFFSET(U82,0,$S$6),"Bye") -> Bye | T82: =IF(OFFSET(V82,0,$S$6)<>"",OFFSET(V82,0,$S$6),"Bye") -> Bye
A83: 74 | B83: =IF(MOD(A82,$I$14*$I$16)=0,B82+1,B82) -> 2 | C83: =IF(C82<>$I$14,C82+1,1) -> 10 | D83: =VLOOKUP(C83,$K$15:$L$30,2,FALSE) -> Court 10 | E83: =IF(B83=B82,IF(C83>C82,E82,E82+$I$15),$I$13) -> 0.625 | F83: =IF(B83=B82,F82,F82+1) -> 42041 | K83: =Setup!H47 | L83: =Setup!I47 -> 0 | O83: =O82+1 -> 75 | P83: =IF(O83<>"",VLOOKUP(O83,$A$10:$F$266,6,FALSE),"") -> 42041 | Q83: =IF(O83<>"",VLOOKUP(O83,$A$10:$F$266,5,FALSE),"") -> 0.625 | R83: =IF(O83<>"",VLOOKUP(O83,$A$10:$F$266,4,FALSE),"") -> Court 11 | S83: =IF(OFFSET(U83,0,$S$6)<>"",OFFSET(U83,0,$S$6),"Bye") -> Bye | T83: =IF(OFFSET(V83,0,$S$6)<>"",OFFSET(V83,0,$S$6),"Bye") -> Bye
A84: 75 | B84: =IF(MOD(A83,$I$14*$I$16)=0,B83+1,B83) -> 2 | C84: =IF(C83<>$I$14,C83+1,1) -> 11 | D84: =VLOOKUP(C84,$K$15:$L$30,2,FALSE) -> Court 11 | E84: =IF(B84=B83,IF(C84>C83,E83,E83+$I$15),$I$13) -> 0.625 | F84: =IF(B84=B83,F83,F83+1) -> 42041 | K84: =Setup!H48 | L84: =Setup!I48 -> 0 | O84: =O83+1 -> 76 | P84: =IF(O84<>"",VLOOKUP(O84,$A$10:$F$266,6,FALSE),"") -> 42041 | Q84: =IF(O84<>"",VLOOKUP(O84,$A$10:$F$266,5,FALSE),"") -> 0.625 | R84: =IF(O84<>"",VLOOKUP(O84,$A$10:$F$266,4,FALSE),"") -> Court 12 | S84: =IF(OFFSET(U84,0,$S$6)<>"",OFFSET(U84,0,$S$6),"Bye") -> Bye | T84: =IF(OFFSET(V84,0,$S$6)<>"",OFFSET(V84,0,$S$6),"Bye") -> Bye
... A136: 127 | B136: =IF(MOD(A135,$I$14*$I$16)=0,B135+1,B135) -> 2 | C136: =IF(C135<>$I$14,C135+1,1) -> 15 | D136: =VLOOKUP(C136,$K$15:$L$30,2,FALSE) -> Court 15 | E136: =IF(B136=B135,IF(C136>C135,E135,E135+$I$15),$I$13) -> 0.875 | F136: =IF(B136=B135,F135,F135+1) -> 42041 | K136: =Setup!H100 | L136: =Setup!I100 -> 0 | O136: =O135+1 -> 128 | P136: =IF(O136<>"",VLOOKUP(O136,$A$10:$F$266,6,FALSE),"") -> 42041 | Q136: =IF(O136<>"",VLOOKUP(O136,$A$10:$F$266,5,FALSE),"") -> 0.875 | R136: =IF(O136<>"",VLOOKUP(O136,$A$10:$F$266,4,FALSE),"") -> Court 16 | S136: =IF(OFFSET(U136,0,$S$6)<>"",OFFSET(U136,0,$S$6),"Bye") -> Bye | T136: =IF(OFFSET(V136,0,$S$6)<>"",OFFSET(V136,0,$S$6),"Bye") -> Bye
A137: 128 | B137: =IF(MOD(A136,$I$14*$I$16)=0,B136+1,B136) -> 2 | C137: =IF(C136<>$I$14,C136+1,1) -> 16 | D137: =VLOOKUP(C137,$K$15:$L$30,2,FALSE) -> Court 16 | E137: =IF(B137=B136,IF(C137>C136,E136,E136+$I$15),$I$13) -> 0.875 | F137: =IF(B137=B136,F136,F136+1) -> 42041 | K137: =Setup!H101 | L137: =Setup!I101 -> 0
A138: 129 | B138: =IF(MOD(A137,$I$14*$I$16)=0,B137+1,B137) -> 3 | C138: =IF(C137<>$I$14,C137+1,1) -> 1 | D138: =VLOOKUP(C138,$K$15:$L$30,2,FALSE) -> Court 1 | E138: =IF(B138=B137,IF(C138>C137,E137,E137+$I$15),$I$13) -> 0.625 | F138: =IF(B138=B137,F137,F137+1) -> 42042 | K138: =Setup!H102 | L138: =Setup!I102 -> 0
A139: 130 | B139: =IF(MOD(A138,$I$14*$I$16)=0,B138+1,B138) -> 3 | C139: =IF(C138<>$I$14,C138+1,1) -> 2 | D139: =VLOOKUP(C139,$K$15:$L$30,2,FALSE) -> Court 2 | E139: =IF(B139=B138,IF(C139>C138,E138,E138+$I$15),$I$13) -> 0.625 | F139: =IF(B139=B138,F138,F138+1) -> 42042 | K139: =Setup!H103 | L139: =Setup!I103 -> 0
A140: 131 | B140: =IF(MOD(A139,$I$14*$I$16)=0,B139+1,B139) -> 3 | C140: =IF(C139<>$I$14,C139+1,1) -> 3 | D140: =VLOOKUP(C140,$K$15:$L$30,2,FALSE) -> Court 3 | E140: =IF(B140=B139,IF(C140>C139,E139,E139+$I$15),$I$13) -> 0.625 | F140: =IF(B140=B139,F139,F139+1) -> 42042 | K140: =Setup!H104 | L140: =Setup!I104 -> 0
A141: 132 | B141: =IF(MOD(A140,$I$14*$I$16)=0,B140+1,B140) -> 3 | C141: =IF(C140<>$I$14,C140+1,1) -> 4 | D141: =VLOOKUP(C141,$K$15:$L$30,2,FALSE) -> Court 4 | E141: =IF(B141=B140,IF(C141>C140,E140,E140+$I$15),$I$13) -> 0.625 | F141: =IF(B141=B140,F140,F140+1) -> 42042 | K141: =Setup!H105 | L141: =Setup!I105 -> 0
A142: 133 | B142: =IF(MOD(A141,$I$14*$I$16)=0,B141+1,B141) -> 3 | C142: =IF(C141<>$I$14,C141+1,1) -> 5 | D142: =VLOOKUP(C142,$K$15:$L$30,2,FALSE) -> Court 5 | E142: =IF(B142=B141,IF(C142>C141,E141,E141+$I$15),$I$13) -> 0.625 | F142: =IF(B142=B141,F141,F141+1) -> 42042 | K142: =Setup!H106 | L142: =Setup!I106 -> 0
A143: 134 | B143: =IF(MOD(A142,$I$14*$I$16)=0,B142+1,B142) -> 3 | C143: =IF(C142<>$I$14,C142+1,1) -> 6 | D143: =VLOOKUP(C143,$K$15:$L$30,2,FALSE) -> Court 6 | E143: =IF(B143=B142,IF(C143>C142,E142,E142+$I$15),$I$13) -> 0.625 | F143: =IF(B143=B142,F142,F142+1) -> 42042 | K143: =Setup!H107 | L143: =Setup!I107 -> 0
A144: 135 | B144: =IF(MOD(A143,$I$14*$I$16)=0,B143+1,B143) -> 3 | C144: =IF(C143<>$I$14,C143+1,1) -> 7 | D144: =VLOOKUP(C144,$K$15:$L$30,2,FALSE) -> Court 7 | E144: =IF(B144=B143,IF(C144>C143,E143,E143+$I$15),$I$13) -> 0.625 | F144: =IF(B144=B143,F143,F143+1) -> 42042 | K144: =Setup!H108 | L144: =Setup!I108 -> 0
A145: 136 | B145: =IF(MOD(A144,$I$14*$I$16)=0,B144+1,B144) -> 3 | C145: =IF(C144<>$I$14,C144+1,1) -> 8 | D145: =VLOOKUP(C145,$K$15:$L$30,2,FALSE) -> Court 8 | E145: =IF(B145=B144,IF(C145>C144,E144,E144+$I$15),$I$13) -> 0.625 | F145: =IF(B145=B144,F144,F144+1) -> 42042 | K145: =Setup!H109 | L145: =Setup!I109 -> 0
A146: 137 | B146: =IF(MOD(A145,$I$14*$I$16)=0,B145+1,B145) -> 3 | C146: =IF(C145<>$I$14,C145+1,1) -> 9 | D146: =VLOOKUP(C146,$K$15:$L$30,2,FALSE) -> Court 9 | E146: =IF(B146=B145,IF(C146>C145,E145,E145+$I$15),$I$13) -> 0.625 | F146: =IF(B146=B145,F145,F145+1) -> 42042 | K146: =Setup!H110 | L146: =Setup!I110 -> 0
A147: 138 | B147: =IF(MOD(A146,$I$14*$I$16)=0,B146+1,B146) -> 3 | C147: =IF(C146<>$I$14,C146+1,1) -> 10 | D147: =VLOOKUP(C147,$K$15:$L$30,2,FALSE) -> Court 10 | E147: =IF(B147=B146,IF(C147>C146,E146,E146+$I$15),$I$13) -> 0.625 | F147: =IF(B147=B146,F146,F146+1) -> 42042 | K147: =Setup!H111 | L147: =Setup!I111 -> 0
A148: 139 | B148: =IF(MOD(A147,$I$14*$I$16)=0,B147+1,B147) -> 3 | C148: =IF(C147<>$I$14,C147+1,1) -> 11 | D148: =VLOOKUP(C148,$K$15:$L$30,2,FALSE) -> Court 11 | E148: =IF(B148=B147,IF(C148>C147,E147,E147+$I$15),$I$13) -> 0.625 | F148: =IF(B148=B147,F147,F147+1) -> 42042 | K148: =Setup!H112 | L148: =Setup!I112 -> 0
... A172: 163 | B172: =IF(MOD(A171,$I$14*$I$16)=0,B171+1,B171) -> 3 | C172: =IF(C171<>$I$14,C171+1,1) -> 3 | D172: =VLOOKUP(C172,$K$15:$L$30,2,FALSE) -> Court 3 | E172: =IF(B172=B171,IF(C172>C171,E171,E171+$I$15),$I$13) -> 0.79166667 | F172: =IF(B172=B171,F171,F171+1) -> 42042 | K172: =Setup!H136 | L172: =Setup!I136 -> 0
A173: 164 | B173: =IF(MOD(A172,$I$14*$I$16)=0,B172+1,B172) -> 3 | C173: =IF(C172<>$I$14,C172+1,1) -> 4 | D173: =VLOOKUP(C173,$K$15:$L$30,2,FALSE) -> Court 4 | E173: =IF(B173=B172,IF(C173>C172,E172,E172+$I$15),$I$13) -> 0.79166667 | F173: =IF(B173=B172,F172,F172+1) -> 42042
A174: 165 | B174: =IF(MOD(A173,$I$14*$I$16)=0,B173+1,B173) -> 3 | C174: =IF(C173<>$I$14,C173+1,1) -> 5 | D174: =VLOOKUP(C174,$K$15:$L$30,2,FALSE) -> Court 5 | E174: =IF(B174=B173,IF(C174>C173,E173,E173+$I$15),$I$13) -> 0.79166667 | F174: =IF(B174=B173,F173,F173+1) -> 42042
A175: 166 | B175: =IF(MOD(A174,$I$14*$I$16)=0,B174+1,B174) -> 3 | C175: =IF(C174<>$I$14,C174+1,1) -> 6 | D175: =VLOOKUP(C175,$K$15:$L$30,2,FALSE) -> Court 6 | E175: =IF(B175=B174,IF(C175>C174,E174,E174+$I$15),$I$13) -> 0.79166667 | F175: =IF(B175=B174,F174,F174+1) -> 42042
A176: 167 | B176: =IF(MOD(A175,$I$14*$I$16)=0,B175+1,B175) -> 3 | C176: =IF(C175<>$I$14,C175+1,1) -> 7 | D176: =VLOOKUP(C176,$K$15:$L$30,2,FALSE) -> Court 7 | E176: =IF(B176=B175,IF(C176>C175,E175,E175+$I$15),$I$13) -> 0.79166667 | F176: =IF(B176=B175,F175,F175+1) -> 42042
...

Sheet Schedule - by Venues
B2: TOURNAMENT SCHEDULE
A5: =dummy1!I14 -> 16 | B5: Venue | D5: =dummy1!I11 -> 42040 | I5: =D5+1 -> 42041 | N5: =I5+1 -> 42042 | S5: =N5+1 -> 42043 | X5: =S5+1 -> 42044 | AC5: =X5+1 -> 42045 | AH5: =AC5+1 -> 42046
A6: 0 | C6: no | D6: Time | E6: M# | F6: Match | I6: Time | J6: M# | K6: Match | N6: Time | O6: M# | P6: Match | S6: Time | T6: M# | U6: Match | X6: Time | Y6: M# | Z6: Match | AC6: Time | AD6: M# | AE6: Match | AH6: Time | AI6: M# | AJ6: Match
A7: 1 | B7: =dummy1!L15 -> Court 1 | C7: 1 | D7: =OFFSET(dummy2!AZ5,0,dummy2!$AS$3) -> 0.625 | E7: =OFFSET(dummy2!BA5,0,dummy2!$AS$3) -> 1 | F7: =OFFSET(dummy2!BB5,0,dummy2!$AS$3) -> Player 1 | G7: =IF(F7<>"","vs","") -> vs | H7: =OFFSET(dummy2!BC5,0,dummy2!$AS$3) -> Player 16 | I7: =OFFSET(dummy2!$AZ5,0,dummy2!$AT$3) | J7: =OFFSET(dummy2!$BA5,0,dummy2!$AT$3) | K7: =OFFSET(dummy2!$BB5,0,dummy2!$AT$3) | L7: =IF(K7<>"","vs","") | M7: =OFFSET(dummy2!$BC5,0,dummy2!$AT$3) | N7: =OFFSET(dummy2!$AZ5,0,dummy2!$AU$3) | O7: =OFFSET(dummy2!$BA5,0,dummy2!$AU$3) | P7: =OFFSET(dummy2!$BB5,0,dummy2!$AU$3) | Q7: =IF(P7<>"","vs","") | R7: =OFFSET(dummy2!$BC5,0,dummy2!$AU$3) | S7: =OFFSET(dummy2!$AZ5,0,dummy2!$AV$3) | T7: =OFFSET(dummy2!$BA5,0,dummy2!$AV$3) | U7: =OFFSET(dummy2!$BB5,0,dummy2!$AV$3) | V7: =IF(U7<>"","vs","") | W7: =OFFSET(dummy2!$BC5,0,dummy2!$AV$3) | X7: =OFFSET(dummy2!$AZ5,0,dummy2!$AW$3) | Y7: =OFFSET(dummy2!$BA5,0,dummy2!$AW$3) | Z7: =OFFSET(dummy2!$BB5,0,dummy2!$AW$3) | AA7: =IF(Z7<>"","vs","") | AB7: =OFFSET(dummy2!$BC5,0,dummy2!$AW$3) | AC7: =OFFSET(dummy2!$AZ5,0,dummy2!$AX$3) | AD7: =OFFSET(dummy2!$BA5,0,dummy2!$AX$3) | AE7: =OFFSET(dummy2!$BB5,0,dummy2!$AX$3) | AF7: =IF(AE7<>"","vs","") | AG7: =OFFSET(dummy2!$BC5,0,dummy2!$AX$3) | AH7: =OFFSET(dummy2!$AZ5,0,dummy2!$AY$3) | AI7: =OFFSET(dummy2!$BA5,0,dummy2!$AY$3) | AJ7: =OFFSET(dummy2!$BB5,0,dummy2!$AY$3) | AK7: =IF(AJ7<>"","vs","") | AL7: =OFFSET(dummy2!$BC5,0,dummy2!$AY$3)
A8: 1 | C8: 2 | D8: =OFFSET(dummy2!AZ6,0,dummy2!$AS$3) | E8: =OFFSET(dummy2!BA6,0,dummy2!$AS$3) | F8: =OFFSET(dummy2!BB6,0,dummy2!$AS$3) | G8: =IF(F8<>"","vs","") | H8: =OFFSET(dummy2!BC6,0,dummy2!$AS$3) | I8: =OFFSET(dummy2!AZ6,0,dummy2!$AT$3) | J8: =OFFSET(dummy2!$BA6,0,dummy2!$AT$3) | K8: =OFFSET(dummy2!BB6,0,dummy2!$AT$3) | L8: =IF(K8<>"","vs","") | M8: =OFFSET(dummy2!BC6,0,dummy2!$AT$3) | N8: =OFFSET(dummy2!$AZ6,0,dummy2!$AU$3) | O8: =OFFSET(dummy2!$BA6,0,dummy2!$AU$3) | P8: =OFFSET(dummy2!$BB6,0,dummy2!$AU$3) | Q8: =IF(P8<>"","vs","") | R8: =OFFSET(dummy2!$BC6,0,dummy2!$AU$3) | S8: =OFFSET(dummy2!$AZ6,0,dummy2!$AV$3) | T8: =OFFSET(dummy2!$BA6,0,dummy2!$AV$3) | U8: =OFFSET(dummy2!$BB6,0,dummy2!$AV$3) | V8: =IF(U8<>"","vs","") | W8: =OFFSET(dummy2!$BC6,0,dummy2!$AV$3) | X8: =OFFSET(dummy2!$AZ6,0,dummy2!$AW$3) | Y8: =OFFSET(dummy2!$BA6,0,dummy2!$AW$3) | Z8: =OFFSET(dummy2!$BB6,0,dummy2!$AW$3) | AA8: =IF(Z8<>"","vs","") | AB8: =OFFSET(dummy2!$BC6,0,dummy2!$AW$3) | AC8: =OFFSET(dummy2!$AZ6,0,dummy2!$AX$3) | AD8: =OFFSET(dummy2!$BA6,0,dummy2!$AX$3) | AE8: =OFFSET(dummy2!$BB6,0,dummy2!$AX$3) | AF8: =IF(AE8<>"","vs","") | AG8: =OFFSET(dummy2!$BC6,0,dummy2!$AX$3) | AH8: =OFFSET(dummy2!$AZ6,0,dummy2!$AY$3) | AI8: =OFFSET(dummy2!$BA6,0,dummy2!$AY$3) | AJ8: =OFFSET(dummy2!$BB6,0,dummy2!$AY$3) | AK8: =IF(AJ8<>"","vs","") | AL8: =OFFSET(dummy2!$BC6,0,dummy2!$AY$3)
A9: 1 | C9: 3 | D9: =OFFSET(dummy2!AZ7,0,dummy2!$AS$3) | E9: =OFFSET(dummy2!BA7,0,dummy2!$AS$3) | F9: =OFFSET(dummy2!BB7,0,dummy2!$AS$3) | G9: =IF(F9<>"","vs","") | H9: =OFFSET(dummy2!BC7,0,dummy2!$AS$3) | I9: =OFFSET(dummy2!AZ7,0,dummy2!$AT$3) | J9: =OFFSET(dummy2!$BA7,0,dummy2!$AT$3) | K9: =OFFSET(dummy2!BB7,0,dummy2!$AT$3) | L9: =IF(K9<>"","vs","") | M9: =OFFSET(dummy2!BC7,0,dummy2!$AT$3) | N9: =OFFSET(dummy2!$AZ7,0,dummy2!$AU$3) | O9: =OFFSET(dummy2!$BA7,0,dummy2!$AU$3) | P9: =OFFSET(dummy2!$BB7,0,dummy2!$AU$3) | Q9: =IF(P9<>"","vs","") | R9: =OFFSET(dummy2!$BC7,0,dummy2!$AU$3) | S9: =OFFSET(dummy2!$AZ7,0,dummy2!$AV$3) | T9: =OFFSET(dummy2!$BA7,0,dummy2!$AV$3) | U9: =OFFSET(dummy2!$BB7,0,dummy2!$AV$3) | V9: =IF(U9<>"","vs","") | W9: =OFFSET(dummy2!$BC7,0,dummy2!$AV$3) | X9: =OFFSET(dummy2!$AZ7,0,dummy2!$AW$3) | Y9: =OFFSET(dummy2!$BA7,0,dummy2!$AW$3) | Z9: =OFFSET(dummy2!$BB7,0,dummy2!$AW$3) | AA9: =IF(Z9<>"","vs","") | AB9: =OFFSET(dummy2!$BC7,0,dummy2!$AW$3) | AC9: =OFFSET(dummy2!$AZ7,0,dummy2!$AX$3) | AD9: =OFFSET(dummy2!$BA7,0,dummy2!$AX$3) | AE9: =OFFSET(dummy2!$BB7,0,dummy2!$AX$3) | AF9: =IF(AE9<>"","vs","") | AG9: =OFFSET(dummy2!$BC7,0,dummy2!$AX$3) | AH9: =OFFSET(dummy2!$AZ7,0,dummy2!$AY$3) | AI9: =OFFSET(dummy2!$BA7,0,dummy2!$AY$3) | AJ9: =OFFSET(dummy2!$BB7,0,dummy2!$AY$3) | AK9: =IF(AJ9<>"","vs","") | AL9: =OFFSET(dummy2!$BC7,0,dummy2!$AY$3)
A10: 1 | C10: 4 | D10: =OFFSET(dummy2!AZ8,0,dummy2!$AS$3) | E10: =OFFSET(dummy2!BA8,0,dummy2!$AS$3) | F10: =OFFSET(dummy2!BB8,0,dummy2!$AS$3) | G10: =IF(F10<>"","vs","") | H10: =OFFSET(dummy2!BC8,0,dummy2!$AS$3) | I10: =OFFSET(dummy2!AZ8,0,dummy2!$AT$3) | J10: =OFFSET(dummy2!$BA8,0,dummy2!$AT$3) | K10: =OFFSET(dummy2!BB8,0,dummy2!$AT$3) | L10: =IF(K10<>"","vs","") | M10: =OFFSET(dummy2!BC8,0,dummy2!$AT$3) | N10: =OFFSET(dummy2!$AZ8,0,dummy2!$AU$3) | O10: =OFFSET(dummy2!$BA8,0,dummy2!$AU$3) | P10: =OFFSET(dummy2!$BB8,0,dummy2!$AU$3) | Q10: =IF(P10<>"","vs","") | R10: =OFFSET(dummy2!$BC8,0,dummy2!$AU$3) | S10: =OFFSET(dummy2!$AZ8,0,dummy2!$AV$3) | T10: =OFFSET(dummy2!$BA8,0,dummy2!$AV$3) | U10: =OFFSET(dummy2!$BB8,0,dummy2!$AV$3) | V10: =IF(U10<>"","vs","") | W10: =OFFSET(dummy2!$BC8,0,dummy2!$AV$3) | X10: =OFFSET(dummy2!$AZ8,0,dummy2!$AW$3) | Y10: =OFFSET(dummy2!$BA8,0,dummy2!$AW$3) | Z10: =OFFSET(dummy2!$BB8,0,dummy2!$AW$3) | AA10: =IF(Z10<>"","vs","") | AB10: =OFFSET(dummy2!$BC8,0,dummy2!$AW$3) | AC10: =OFFSET(dummy2!$AZ8,0,dummy2!$AX$3) | AD10: =OFFSET(dummy2!$BA8,0,dummy2!$AX$3) | AE10: =OFFSET(dummy2!$BB8,0,dummy2!$AX$3) | AF10: =IF(AE10<>"","vs","") | AG10: =OFFSET(dummy2!$BC8,0,dummy2!$AX$3) | AH10: =OFFSET(dummy2!$AZ8,0,dummy2!$AY$3) | AI10: =OFFSET(dummy2!$BA8,0,dummy2!$AY$3) | AJ10: =OFFSET(dummy2!$BB8,0,dummy2!$AY$3) | AK10: =IF(AJ10<>"","vs","") | AL10: =OFFSET(dummy2!$BC8,0,dummy2!$AY$3)
A11: 1 | C11: 5 | D11: =OFFSET(dummy2!AZ9,0,dummy2!$AS$3) | E11: =OFFSET(dummy2!BA9,0,dummy2!$AS$3) | F11: =OFFSET(dummy2!BB9,0,dummy2!$AS$3) | G11: =IF(F11<>"","vs","") | H11: =OFFSET(dummy2!BC9,0,dummy2!$AS$3) | I11: =OFFSET(dummy2!AZ9,0,dummy2!$AT$3) | J11: =OFFSET(dummy2!$BA9,0,dummy2!$AT$3) | K11: =OFFSET(dummy2!BB9,0,dummy2!$AT$3) | L11: =IF(K11<>"","vs","") | M11: =OFFSET(dummy2!BC9,0,dummy2!$AT$3) | N11: =OFFSET(dummy2!$AZ9,0,dummy2!$AU$3) | O11: =OFFSET(dummy2!$BA9,0,dummy2!$AU$3) | P11: =OFFSET(dummy2!$BB9,0,dummy2!$AU$3) | Q11: =IF(P11<>"","vs","") | R11: =OFFSET(dummy2!$BC9,0,dummy2!$AU$3) | S11: =OFFSET(dummy2!$AZ9,0,dummy2!$AV$3) | T11: =OFFSET(dummy2!$BA9,0,dummy2!$AV$3) | U11: =OFFSET(dummy2!$BB9,0,dummy2!$AV$3) | V11: =IF(U11<>"","vs","") | W11: =OFFSET(dummy2!$BC9,0,dummy2!$AV$3) | X11: =OFFSET(dummy2!$AZ9,0,dummy2!$AW$3) | Y11: =OFFSET(dummy2!$BA9,0,dummy2!$AW$3) | Z11: =OFFSET(dummy2!$BB9,0,dummy2!$AW$3) | AA11: =IF(Z11<>"","vs","") | AB11: =OFFSET(dummy2!$BC9,0,dummy2!$AW$3) | AC11: =OFFSET(dummy2!$AZ9,0,dummy2!$AX$3) | AD11: =OFFSET(dummy2!$BA9,0,dummy2!$AX$3) | AE11: =OFFSET(dummy2!$BB9,0,dummy2!$AX$3) | AF11: =IF(AE11<>"","vs","") | AG11: =OFFSET(dummy2!$BC9,0,dummy2!$AX$3) | AH11: =OFFSET(dummy2!$AZ9,0,dummy2!$AY$3) | AI11: =OFFSET(dummy2!$BA9,0,dummy2!$AY$3) | AJ11: =OFFSET(dummy2!$BB9,0,dummy2!$AY$3) | AK11: =IF(AJ11<>"","vs","") | AL11: =OFFSET(dummy2!$BC9,0,dummy2!$AY$3)
A12: 1 | C12: 6 | D12: =OFFSET(dummy2!AZ10,0,dummy2!$AS$3) | E12: =OFFSET(dummy2!BA10,0,dummy2!$AS$3) | F12: =OFFSET(dummy2!BB10,0,dummy2!$AS$3) | G12: =IF(F12<>"","vs","") | H12: =OFFSET(dummy2!BC10,0,dummy2!$AS$3) | I12: =OFFSET(dummy2!AZ10,0,dummy2!$AT$3) | J12: =OFFSET(dummy2!$BA10,0,dummy2!$AT$3) | K12: =OFFSET(dummy2!BB10,0,dummy2!$AT$3) | L12: =IF(K12<>"","vs","") | M12: =OFFSET(dummy2!BC10,0,dummy2!$AT$3) | N12: =OFFSET(dummy2!$AZ10,0,dummy2!$AU$3) | O12: =OFFSET(dummy2!$BA10,0,dummy2!$AU$3) | P12: =OFFSET(dummy2!$BB10,0,dummy2!$AU$3) | Q12: =IF(P12<>"","vs","") | R12: =OFFSET(dummy2!$BC10,0,dummy2!$AU$3) | S12: =OFFSET(dummy2!$AZ10,0,dummy2!$AV$3) | T12: =OFFSET(dummy2!$BA10,0,dummy2!$AV$3) | U12: =OFFSET(dummy2!$BB10,0,dummy2!$AV$3) | V12: =IF(U12<>"","vs","") | W12: =OFFSET(dummy2!$BC10,0,dummy2!$AV$3) | X12: =OFFSET(dummy2!$AZ10,0,dummy2!$AW$3) | Y12: =OFFSET(dummy2!$BA10,0,dummy2!$AW$3) | Z12: =OFFSET(dummy2!$BB10,0,dummy2!$AW$3) | AA12: =IF(Z12<>"","vs","") | AB12: =OFFSET(dummy2!$BC10,0,dummy2!$AW$3) | AC12: =OFFSET(dummy2!$AZ10,0,dummy2!$AX$3) | AD12: =OFFSET(dummy2!$BA10,0,dummy2!$AX$3) | AE12: =OFFSET(dummy2!$BB10,0,dummy2!$AX$3) | AF12: =IF(AE12<>"","vs","") | AG12: =OFFSET(dummy2!$BC10,0,dummy2!$AX$3) | AH12: =OFFSET(dummy2!$AZ10,0,dummy2!$AY$3) | AI12: =OFFSET(dummy2!$BA10,0,dummy2!$AY$3) | AJ12: =OFFSET(dummy2!$BB10,0,dummy2!$AY$3) | AK12: =IF(AJ12<>"","vs","") | AL12: =OFFSET(dummy2!$BC10,0,dummy2!$AY$3)
A13: 1 | C13: 7 | D13: =OFFSET(dummy2!AZ11,0,dummy2!$AS$3) | E13: =OFFSET(dummy2!BA11,0,dummy2!$AS$3) | F13: =OFFSET(dummy2!BB11,0,dummy2!$AS$3) | G13: =IF(F13<>"","vs","") | H13: =OFFSET(dummy2!BC11,0,dummy2!$AS$3) | I13: =OFFSET(dummy2!AZ11,0,dummy2!$AT$3) | J13: =OFFSET(dummy2!$BA11,0,dummy2!$AT$3) | K13: =OFFSET(dummy2!BB11,0,dummy2!$AT$3) | L13: =IF(K13<>"","vs","") | M13: =OFFSET(dummy2!BC11,0,dummy2!$AT$3) | N13: =OFFSET(dummy2!$AZ11,0,dummy2!$AU$3) | O13: =OFFSET(dummy2!$BA11,0,dummy2!$AU$3) | P13: =OFFSET(dummy2!$BB11,0,dummy2!$AU$3) | Q13: =IF(P13<>"","vs","") | R13: =OFFSET(dummy2!$BC11,0,dummy2!$AU$3) | S13: =OFFSET(dummy2!$AZ11,0,dummy2!$AV$3) | T13: =OFFSET(dummy2!$BA11,0,dummy2!$AV$3) | U13: =OFFSET(dummy2!$BB11,0,dummy2!$AV$3) | V13: =IF(U13<>"","vs","") | W13: =OFFSET(dummy2!$BC11,0,dummy2!$AV$3) | X13: =OFFSET(dummy2!$AZ11,0,dummy2!$AW$3) | Y13: =OFFSET(dummy2!$BA11,0,dummy2!$AW$3) | Z13: =OFFSET(dummy2!$BB11,0,dummy2!$AW$3) | AA13: =IF(Z13<>"","vs","") | AB13: =OFFSET(dummy2!$BC11,0,dummy2!$AW$3) | AC13: =OFFSET(dummy2!$AZ11,0,dummy2!$AX$3) | AD13: =OFFSET(dummy2!$BA11,0,dummy2!$AX$3) | AE13: =OFFSET(dummy2!$BB11,0,dummy2!$AX$3) | AF13: =IF(AE13<>"","vs","") | AG13: =OFFSET(dummy2!$BC11,0,dummy2!$AX$3) | AH13: =OFFSET(dummy2!$AZ11,0,dummy2!$AY$3) | AI13: =OFFSET(dummy2!$BA11,0,dummy2!$AY$3) | AJ13: =OFFSET(dummy2!$BB11,0,dummy2!$AY$3) | AK13: =IF(AJ13<>"","vs","") | AL13: =OFFSET(dummy2!$BC11,0,dummy2!$AY$3)
A14: 1 | C14: 8 | D14: =OFFSET(dummy2!AZ12,0,dummy2!$AS$3) | E14: =OFFSET(dummy2!BA12,0,dummy2!$AS$3) | F14: =OFFSET(dummy2!BB12,0,dummy2!$AS$3) | G14: =IF(F14<>"","vs","") | H14: =OFFSET(dummy2!BC12,0,dummy2!$AS$3) | I14: =OFFSET(dummy2!AZ12,0,dummy2!$AT$3) | J14: =OFFSET(dummy2!$BA12,0,dummy2!$AT$3) | K14: =OFFSET(dummy2!BB12,0,dummy2!$AT$3) | L14: =IF(K14<>"","vs","") | M14: =OFFSET(dummy2!BC12,0,dummy2!$AT$3) | N14: =OFFSET(dummy2!$AZ12,0,dummy2!$AU$3) | O14: =OFFSET(dummy2!$BA12,0,dummy2!$AU$3) | P14: =OFFSET(dummy2!$BB12,0,dummy2!$AU$3) | Q14: =IF(P14<>"","vs","") | R14: =OFFSET(dummy2!$BC12,0,dummy2!$AU$3) | S14: =OFFSET(dummy2!$AZ12,0,dummy2!$AV$3) | T14: =OFFSET(dummy2!$BA12,0,dummy2!$AV$3) | U14: =OFFSET(dummy2!$BB12,0,dummy2!$AV$3) | V14: =IF(U14<>"","vs","") | W14: =OFFSET(dummy2!$BC12,0,dummy2!$AV$3) | X14: =OFFSET(dummy2!$AZ12,0,dummy2!$AW$3) | Y14: =OFFSET(dummy2!$BA12,0,dummy2!$AW$3) | Z14: =OFFSET(dummy2!$BB12,0,dummy2!$AW$3) | AA14: =IF(Z14<>"","vs","") | AB14: =OFFSET(dummy2!$BC12,0,dummy2!$AW$3) | AC14: =OFFSET(dummy2!$AZ12,0,dummy2!$AX$3) | AD14: =OFFSET(dummy2!$BA12,0,dummy2!$AX$3) | AE14: =OFFSET(dummy2!$BB12,0,dummy2!$AX$3) | AF14: =IF(AE14<>"","vs","") | AG14: =OFFSET(dummy2!$BC12,0,dummy2!$AX$3) | AH14: =OFFSET(dummy2!$AZ12,0,dummy2!$AY$3) | AI14: =OFFSET(dummy2!$BA12,0,dummy2!$AY$3) | AJ14: =OFFSET(dummy2!$BB12,0,dummy2!$AY$3) | AK14: =IF(AJ14<>"","vs","") | AL14: =OFFSET(dummy2!$BC12,0,dummy2!$AY$3)
A15: =IFERROR(IF(A7+1>$A$5,"",A7+1),"") -> 2 | B15: =dummy1!L16 -> Court 2 | C15: =C7 -> 1 | D15: =OFFSET(dummy2!AZ13,0,dummy2!$AS$3) -> 0.625 | E15: =OFFSET(dummy2!BA13,0,dummy2!$AS$3) -> 2 | F15: =OFFSET(dummy2!BB13,0,dummy2!$AS$3) -> Player 8 | G15: =IF(F15<>"","vs","") -> vs | H15: =OFFSET(dummy2!BC13,0,dummy2!$AS$3) -> Player 9 | I15: =OFFSET(dummy2!AZ13,0,dummy2!$AT$3) | J15: =OFFSET(dummy2!$BA13,0,dummy2!$AT$3) | K15: =OFFSET(dummy2!BB13,0,dummy2!$AT$3) | L15: =IF(K15<>"","vs","") | M15: =OFFSET(dummy2!BC13,0,dummy2!$AT$3) | N15: =OFFSET(dummy2!$AZ13,0,dummy2!$AU$3) | O15: =OFFSET(dummy2!$BA13,0,dummy2!$AU$3) | P15: =OFFSET(dummy2!$BB13,0,dummy2!$AU$3) | Q15: =IF(P15<>"","vs","") | R15: =OFFSET(dummy2!$BC13,0,dummy2!$AU$3) | S15: =OFFSET(dummy2!$AZ13,0,dummy2!$AV$3) | T15: =OFFSET(dummy2!$BA13,0,dummy2!$AV$3) | U15: =OFFSET(dummy2!$BB13,0,dummy2!$AV$3) | V15: =IF(U15<>"","vs","") | W15: =OFFSET(dummy2!$BC13,0,dummy2!$AV$3) | X15: =OFFSET(dummy2!$AZ13,0,dummy2!$AW$3) | Y15: =OFFSET(dummy2!$BA13,0,dummy2!$AW$3) | Z15: =OFFSET(dummy2!$BB13,0,dummy2!$AW$3) | AA15: =IF(Z15<>"","vs","") | AB15: =OFFSET(dummy2!$BC13,0,dummy2!$AW$3) | AC15: =OFFSET(dummy2!$AZ13,0,dummy2!$AX$3) | AD15: =OFFSET(dummy2!$BA13,0,dummy2!$AX$3) | AE15: =OFFSET(dummy2!$BB13,0,dummy2!$AX$3) | AF15: =IF(AE15<>"","vs","") | AG15: =OFFSET(dummy2!$BC13,0,dummy2!$AX$3) | AH15: =OFFSET(dummy2!$AZ13,0,dummy2!$AY$3) | AI15: =OFFSET(dummy2!$BA13,0,dummy2!$AY$3) | AJ15: =OFFSET(dummy2!$BB13,0,dummy2!$AY$3) | AK15: =IF(AJ15<>"","vs","") | AL15: =OFFSET(dummy2!$BC13,0,dummy2!$AY$3)
A16: =IFERROR(IF(A8+1>$A$5,"",A8+1),"") -> 2 | C16: =C8 -> 2 | D16: =OFFSET(dummy2!AZ14,0,dummy2!$AS$3) | E16: =OFFSET(dummy2!BA14,0,dummy2!$AS$3) | F16: =OFFSET(dummy2!BB14,0,dummy2!$AS$3) | G16: =IF(F16<>"","vs","") | H16: =OFFSET(dummy2!BC14,0,dummy2!$AS$3) | I16: =OFFSET(dummy2!AZ14,0,dummy2!$AT$3) | J16: =OFFSET(dummy2!$BA14,0,dummy2!$AT$3) | K16: =OFFSET(dummy2!BB14,0,dummy2!$AT$3) | L16: =IF(K16<>"","vs","") | M16: =OFFSET(dummy2!BC14,0,dummy2!$AT$3) | N16: =OFFSET(dummy2!$AZ14,0,dummy2!$AU$3) | O16: =OFFSET(dummy2!$BA14,0,dummy2!$AU$3) | P16: =OFFSET(dummy2!$BB14,0,dummy2!$AU$3) | Q16: =IF(P16<>"","vs","") | R16: =OFFSET(dummy2!$BC14,0,dummy2!$AU$3) | S16: =OFFSET(dummy2!$AZ14,0,dummy2!$AV$3) | T16: =OFFSET(dummy2!$BA14,0,dummy2!$AV$3) | U16: =OFFSET(dummy2!$BB14,0,dummy2!$AV$3) | V16: =IF(U16<>"","vs","") | W16: =OFFSET(dummy2!$BC14,0,dummy2!$AV$3) | X16: =OFFSET(dummy2!$AZ14,0,dummy2!$AW$3) | Y16: =OFFSET(dummy2!$BA14,0,dummy2!$AW$3) | Z16: =OFFSET(dummy2!$BB14,0,dummy2!$AW$3) | AA16: =IF(Z16<>"","vs","") | AB16: =OFFSET(dummy2!$BC14,0,dummy2!$AW$3) | AC16: =OFFSET(dummy2!$AZ14,0,dummy2!$AX$3) | AD16: =OFFSET(dummy2!$BA14,0,dummy2!$AX$3) | AE16: =OFFSET(dummy2!$BB14,0,dummy2!$AX$3) | AF16: =IF(AE16<>"","vs","") | AG16: =OFFSET(dummy2!$BC14,0,dummy2!$AX$3) | AH16: =OFFSET(dummy2!$AZ14,0,dummy2!$AY$3) | AI16: =OFFSET(dummy2!$BA14,0,dummy2!$AY$3) | AJ16: =OFFSET(dummy2!$BB14,0,dummy2!$AY$3) | AK16: =IF(AJ16<>"","vs","") | AL16: =OFFSET(dummy2!$BC14,0,dummy2!$AY$3)
A17: =IFERROR(IF(A9+1>$A$5,"",A9+1),"") -> 2 | C17: =C9 -> 3 | D17: =OFFSET(dummy2!AZ15,0,dummy2!$AS$3) | E17: =OFFSET(dummy2!BA15,0,dummy2!$AS$3) | F17: =OFFSET(dummy2!BB15,0,dummy2!$AS$3) | G17: =IF(F17<>"","vs","") | H17: =OFFSET(dummy2!BC15,0,dummy2!$AS$3) | I17: =OFFSET(dummy2!AZ15,0,dummy2!$AT$3) | J17: =OFFSET(dummy2!$BA15,0,dummy2!$AT$3) | K17: =OFFSET(dummy2!BB15,0,dummy2!$AT$3) | L17: =IF(K17<>"","vs","") | M17: =OFFSET(dummy2!BC15,0,dummy2!$AT$3) | N17: =OFFSET(dummy2!$AZ15,0,dummy2!$AU$3) | O17: =OFFSET(dummy2!$BA15,0,dummy2!$AU$3) | P17: =OFFSET(dummy2!$BB15,0,dummy2!$AU$3) | Q17: =IF(P17<>"","vs","") | R17: =OFFSET(dummy2!$BC15,0,dummy2!$AU$3) | S17: =OFFSET(dummy2!$AZ15,0,dummy2!$AV$3) | T17: =OFFSET(dummy2!$BA15,0,dummy2!$AV$3) | U17: =OFFSET(dummy2!$BB15,0,dummy2!$AV$3) | V17: =IF(U17<>"","vs","") | W17: =OFFSET(dummy2!$BC15,0,dummy2!$AV$3) | X17: =OFFSET(dummy2!$AZ15,0,dummy2!$AW$3) | Y17: =OFFSET(dummy2!$BA15,0,dummy2!$AW$3) | Z17: =OFFSET(dummy2!$BB15,0,dummy2!$AW$3) | AA17: =IF(Z17<>"","vs","") | AB17: =OFFSET(dummy2!$BC15,0,dummy2!$AW$3) | AC17: =OFFSET(dummy2!$AZ15,0,dummy2!$AX$3) | AD17: =OFFSET(dummy2!$BA15,0,dummy2!$AX$3) | AE17: =OFFSET(dummy2!$BB15,0,dummy2!$AX$3) | AF17: =IF(AE17<>"","vs","") | AG17: =OFFSET(dummy2!$BC15,0,dummy2!$AX$3) | AH17: =OFFSET(dummy2!$AZ15,0,dummy2!$AY$3) | AI17: =OFFSET(dummy2!$BA15,0,dummy2!$AY$3) | AJ17: =OFFSET(dummy2!$BB15,0,dummy2!$AY$3) | AK17: =IF(AJ17<>"","vs","") | AL17: =OFFSET(dummy2!$BC15,0,dummy2!$AY$3)
A18: =IFERROR(IF(A10+1>$A$5,"",A10+1),"") -> 2 | C18: =C10 -> 4 | D18: =OFFSET(dummy2!AZ16,0,dummy2!$AS$3) | E18: =OFFSET(dummy2!BA16,0,dummy2!$AS$3) | F18: =OFFSET(dummy2!BB16,0,dummy2!$AS$3) | G18: =IF(F18<>"","vs","") | H18: =OFFSET(dummy2!BC16,0,dummy2!$AS$3) | I18: =OFFSET(dummy2!AZ16,0,dummy2!$AT$3) | J18: =OFFSET(dummy2!$BA16,0,dummy2!$AT$3) | K18: =OFFSET(dummy2!BB16,0,dummy2!$AT$3) | L18: =IF(K18<>"","vs","") | M18: =OFFSET(dummy2!BC16,0,dummy2!$AT$3) | N18: =OFFSET(dummy2!$AZ16,0,dummy2!$AU$3) | O18: =OFFSET(dummy2!$BA16,0,dummy2!$AU$3) | P18: =OFFSET(dummy2!$BB16,0,dummy2!$AU$3) | Q18: =IF(P18<>"","vs","") | R18: =OFFSET(dummy2!$BC16,0,dummy2!$AU$3) | S18: =OFFSET(dummy2!$AZ16,0,dummy2!$AV$3) | T18: =OFFSET(dummy2!$BA16,0,dummy2!$AV$3) | U18: =OFFSET(dummy2!$BB16,0,dummy2!$AV$3) | V18: =IF(U18<>"","vs","") | W18: =OFFSET(dummy2!$BC16,0,dummy2!$AV$3) | X18: =OFFSET(dummy2!$AZ16,0,dummy2!$AW$3) | Y18: =OFFSET(dummy2!$BA16,0,dummy2!$AW$3) | Z18: =OFFSET(dummy2!$BB16,0,dummy2!$AW$3) | AA18: =IF(Z18<>"","vs","") | AB18: =OFFSET(dummy2!$BC16,0,dummy2!$AW$3) | AC18: =OFFSET(dummy2!$AZ16,0,dummy2!$AX$3) | AD18: =OFFSET(dummy2!$BA16,0,dummy2!$AX$3) | AE18: =OFFSET(dummy2!$BB16,0,dummy2!$AX$3) | AF18: =IF(AE18<>"","vs","") | AG18: =OFFSET(dummy2!$BC16,0,dummy2!$AX$3) | AH18: =OFFSET(dummy2!$AZ16,0,dummy2!$AY$3) | AI18: =OFFSET(dummy2!$BA16,0,dummy2!$AY$3) | AJ18: =OFFSET(dummy2!$BB16,0,dummy2!$AY$3) | AK18: =IF(AJ18<>"","vs","") | AL18: =OFFSET(dummy2!$BC16,0,dummy2!$AY$3)
A19: =IFERROR(IF(A11+1>$A$5,"",A11+1),"") -> 2 | C19: =C11 -> 5 | D19: =OFFSET(dummy2!AZ17,0,dummy2!$AS$3) | E19: =OFFSET(dummy2!BA17,0,dummy2!$AS$3) | F19: =OFFSET(dummy2!BB17,0,dummy2!$AS$3) | G19: =IF(F19<>"","vs","") | H19: =OFFSET(dummy2!BC17,0,dummy2!$AS$3) | I19: =OFFSET(dummy2!AZ17,0,dummy2!$AT$3) | J19: =OFFSET(dummy2!$BA17,0,dummy2!$AT$3) | K19: =OFFSET(dummy2!BB17,0,dummy2!$AT$3) | L19: =IF(K19<>"","vs","") | M19: =OFFSET(dummy2!BC17,0,dummy2!$AT$3) | N19: =OFFSET(dummy2!$AZ17,0,dummy2!$AU$3) | O19: =OFFSET(dummy2!$BA17,0,dummy2!$AU$3) | P19: =OFFSET(dummy2!$BB17,0,dummy2!$AU$3) | Q19: =IF(P19<>"","vs","") | R19: =OFFSET(dummy2!$BC17,0,dummy2!$AU$3) | S19: =OFFSET(dummy2!$AZ17,0,dummy2!$AV$3) | T19: =OFFSET(dummy2!$BA17,0,dummy2!$AV$3) | U19: =OFFSET(dummy2!$BB17,0,dummy2!$AV$3) | V19: =IF(U19<>"","vs","") | W19: =OFFSET(dummy2!$BC17,0,dummy2!$AV$3) | X19: =OFFSET(dummy2!$AZ17,0,dummy2!$AW$3) | Y19: =OFFSET(dummy2!$BA17,0,dummy2!$AW$3) | Z19: =OFFSET(dummy2!$BB17,0,dummy2!$AW$3) | AA19: =IF(Z19<>"","vs","") | AB19: =OFFSET(dummy2!$BC17,0,dummy2!$AW$3) | AC19: =OFFSET(dummy2!$AZ17,0,dummy2!$AX$3) | AD19: =OFFSET(dummy2!$BA17,0,dummy2!$AX$3) | AE19: =OFFSET(dummy2!$BB17,0,dummy2!$AX$3) | AF19: =IF(AE19<>"","vs","") | AG19: =OFFSET(dummy2!$BC17,0,dummy2!$AX$3) | AH19: =OFFSET(dummy2!$AZ17,0,dummy2!$AY$3) | AI19: =OFFSET(dummy2!$BA17,0,dummy2!$AY$3) | AJ19: =OFFSET(dummy2!$BB17,0,dummy2!$AY$3) | AK19: =IF(AJ19<>"","vs","") | AL19: =OFFSET(dummy2!$BC17,0,dummy2!$AY$3)
A20: =IFERROR(IF(A12+1>$A$5,"",A12+1),"") -> 2 | C20: =C12 -> 6 | D20: =OFFSET(dummy2!AZ18,0,dummy2!$AS$3) | E20: =OFFSET(dummy2!BA18,0,dummy2!$AS$3) | F20: =OFFSET(dummy2!BB18,0,dummy2!$AS$3) | G20: =IF(F20<>"","vs","") | H20: =OFFSET(dummy2!BC18,0,dummy2!$AS$3) | I20: =OFFSET(dummy2!AZ18,0,dummy2!$AT$3) | J20: =OFFSET(dummy2!$BA18,0,dummy2!$AT$3) | K20: =OFFSET(dummy2!BB18,0,dummy2!$AT$3) | L20: =IF(K20<>"","vs","") | M20: =OFFSET(dummy2!BC18,0,dummy2!$AT$3) | N20: =OFFSET(dummy2!$AZ18,0,dummy2!$AU$3) | O20: =OFFSET(dummy2!$BA18,0,dummy2!$AU$3) | P20: =OFFSET(dummy2!$BB18,0,dummy2!$AU$3) | Q20: =IF(P20<>"","vs","") | R20: =OFFSET(dummy2!$BC18,0,dummy2!$AU$3) | S20: =OFFSET(dummy2!$AZ18,0,dummy2!$AV$3) | T20: =OFFSET(dummy2!$BA18,0,dummy2!$AV$3) | U20: =OFFSET(dummy2!$BB18,0,dummy2!$AV$3) | V20: =IF(U20<>"","vs","") | W20: =OFFSET(dummy2!$BC18,0,dummy2!$AV$3) | X20: =OFFSET(dummy2!$AZ18,0,dummy2!$AW$3) | Y20: =OFFSET(dummy2!$BA18,0,dummy2!$AW$3) | Z20: =OFFSET(dummy2!$BB18,0,dummy2!$AW$3) | AA20: =IF(Z20<>"","vs","") | AB20: =OFFSET(dummy2!$BC18,0,dummy2!$AW$3) | AC20: =OFFSET(dummy2!$AZ18,0,dummy2!$AX$3) | AD20: =OFFSET(dummy2!$BA18,0,dummy2!$AX$3) | AE20: =OFFSET(dummy2!$BB18,0,dummy2!$AX$3) | AF20: =IF(AE20<>"","vs","") | AG20: =OFFSET(dummy2!$BC18,0,dummy2!$AX$3) | AH20: =OFFSET(dummy2!$AZ18,0,dummy2!$AY$3) | AI20: =OFFSET(dummy2!$BA18,0,dummy2!$AY$3) | AJ20: =OFFSET(dummy2!$BB18,0,dummy2!$AY$3) | AK20: =IF(AJ20<>"","vs","") | AL20: =OFFSET(dummy2!$BC18,0,dummy2!$AY$3)
A21: =IFERROR(IF(A13+1>$A$5,"",A13+1),"") -> 2 | C21: =C13 -> 7 | D21: =OFFSET(dummy2!AZ19,0,dummy2!$AS$3) | E21: =OFFSET(dummy2!BA19,0,dummy2!$AS$3) | F21: =OFFSET(dummy2!BB19,0,dummy2!$AS$3) | G21: =IF(F21<>"","vs","") | H21: =OFFSET(dummy2!BC19,0,dummy2!$AS$3) | I21: =OFFSET(dummy2!AZ19,0,dummy2!$AT$3) | J21: =OFFSET(dummy2!$BA19,0,dummy2!$AT$3) | K21: =OFFSET(dummy2!BB19,0,dummy2!$AT$3) | L21: =IF(K21<>"","vs","") | M21: =OFFSET(dummy2!BC19,0,dummy2!$AT$3) | N21: =OFFSET(dummy2!$AZ19,0,dummy2!$AU$3) | O21: =OFFSET(dummy2!$BA19,0,dummy2!$AU$3) | P21: =OFFSET(dummy2!$BB19,0,dummy2!$AU$3) | Q21: =IF(P21<>"","vs","") | R21: =OFFSET(dummy2!$BC19,0,dummy2!$AU$3) | S21: =OFFSET(dummy2!$AZ19,0,dummy2!$AV$3) | T21: =OFFSET(dummy2!$BA19,0,dummy2!$AV$3) | U21: =OFFSET(dummy2!$BB19,0,dummy2!$AV$3) | V21: =IF(U21<>"","vs","") | W21: =OFFSET(dummy2!$BC19,0,dummy2!$AV$3) | X21: =OFFSET(dummy2!$AZ19,0,dummy2!$AW$3) | Y21: =OFFSET(dummy2!$BA19,0,dummy2!$AW$3) | Z21: =OFFSET(dummy2!$BB19,0,dummy2!$AW$3) | AA21: =IF(Z21<>"","vs","") | AB21: =OFFSET(dummy2!$BC19,0,dummy2!$AW$3) | AC21: =OFFSET(dummy2!$AZ19,0,dummy2!$AX$3) | AD21: =OFFSET(dummy2!$BA19,0,dummy2!$AX$3) | AE21: =OFFSET(dummy2!$BB19,0,dummy2!$AX$3) | AF21: =IF(AE21<>"","vs","") | AG21: =OFFSET(dummy2!$BC19,0,dummy2!$AX$3) | AH21: =OFFSET(dummy2!$AZ19,0,dummy2!$AY$3) | AI21: =OFFSET(dummy2!$BA19,0,dummy2!$AY$3) | AJ21: =OFFSET(dummy2!$BB19,0,dummy2!$AY$3) | AK21: =IF(AJ21<>"","vs","") | AL21: =OFFSET(dummy2!$BC19,0,dummy2!$AY$3)
A22: =IFERROR(IF(A14+1>$A$5,"",A14+1),"") -> 2 | C22: =C14 -> 8 | D22: =OFFSET(dummy2!AZ20,0,dummy2!$AS$3) | E22: =OFFSET(dummy2!BA20,0,dummy2!$AS$3) | F22: =OFFSET(dummy2!BB20,0,dummy2!$AS$3) | G22: =IF(F22<>"","vs","") | H22: =OFFSET(dummy2!BC20,0,dummy2!$AS$3) | I22: =OFFSET(dummy2!AZ20,0,dummy2!$AT$3) | J22: =OFFSET(dummy2!$BA20,0,dummy2!$AT$3) | K22: =OFFSET(dummy2!BB20,0,dummy2!$AT$3) | L22: =IF(K22<>"","vs","") | M22: =OFFSET(dummy2!BC20,0,dummy2!$AT$3) | N22: =OFFSET(dummy2!$AZ20,0,dummy2!$AU$3) | O22: =OFFSET(dummy2!$BA20,0,dummy2!$AU$3) | P22: =OFFSET(dummy2!$BB20,0,dummy2!$AU$3) | Q22: =IF(P22<>"","vs","") | R22: =OFFSET(dummy2!$BC20,0,dummy2!$AU$3) | S22: =OFFSET(dummy2!$AZ20,0,dummy2!$AV$3) | T22: =OFFSET(dummy2!$BA20,0,dummy2!$AV$3) | U22: =OFFSET(dummy2!$BB20,0,dummy2!$AV$3) | V22: =IF(U22<>"","vs","") | W22: =OFFSET(dummy2!$BC20,0,dummy2!$AV$3) | X22: =OFFSET(dummy2!$AZ20,0,dummy2!$AW$3) | Y22: =OFFSET(dummy2!$BA20,0,dummy2!$AW$3) | Z22: =OFFSET(dummy2!$BB20,0,dummy2!$AW$3) | AA22: =IF(Z22<>"","vs","") | AB22: =OFFSET(dummy2!$BC20,0,dummy2!$AW$3) | AC22: =OFFSET(dummy2!$AZ20,0,dummy2!$AX$3) | AD22: =OFFSET(dummy2!$BA20,0,dummy2!$AX$3) | AE22: =OFFSET(dummy2!$BB20,0,dummy2!$AX$3) | AF22: =IF(AE22<>"","vs","") | AG22: =OFFSET(dummy2!$BC20,0,dummy2!$AX$3) | AH22: =OFFSET(dummy2!$AZ20,0,dummy2!$AY$3) | AI22: =OFFSET(dummy2!$BA20,0,dummy2!$AY$3) | AJ22: =OFFSET(dummy2!$BB20,0,dummy2!$AY$3) | AK22: =IF(AJ22<>"","vs","") | AL22: =OFFSET(dummy2!$BC20,0,dummy2!$AY$3)
A23: =IFERROR(IF(A15+1>$A$5,"",A15+1),"") -> 3 | B23: =dummy1!L17 -> Court 3 | C23: =C15 -> 1 | D23: =OFFSET(dummy2!AZ21,0,dummy2!$AS$3) -> 0.625 | E23: =OFFSET(dummy2!BA21,0,dummy2!$AS$3) -> 3 | F23: =OFFSET(dummy2!BB21,0,dummy2!$AS$3) -> Player 4 | G23: =IF(F23<>"","vs","") -> vs | H23: =OFFSET(dummy2!BC21,0,dummy2!$AS$3) -> Player 13 | I23: =OFFSET(dummy2!AZ21,0,dummy2!$AT$3) | J23: =OFFSET(dummy2!$BA21,0,dummy2!$AT$3) | K23: =OFFSET(dummy2!BB21,0,dummy2!$AT$3) | L23: =IF(K23<>"","vs","") | M23: =OFFSET(dummy2!BC21,0,dummy2!$AT$3) | N23: =OFFSET(dummy2!$AZ21,0,dummy2!$AU$3) | O23: =OFFSET(dummy2!$BA21,0,dummy2!$AU$3) | P23: =OFFSET(dummy2!$BB21,0,dummy2!$AU$3) | Q23: =IF(P23<>"","vs","") | R23: =OFFSET(dummy2!$BC21,0,dummy2!$AU$3) | S23: =OFFSET(dummy2!$AZ21,0,dummy2!$AV$3) | T23: =OFFSET(dummy2!$BA21,0,dummy2!$AV$3) | U23: =OFFSET(dummy2!$BB21,0,dummy2!$AV$3) | V23: =IF(U23<>"","vs","") | W23: =OFFSET(dummy2!$BC21,0,dummy2!$AV$3) | X23: =OFFSET(dummy2!$AZ21,0,dummy2!$AW$3) | Y23: =OFFSET(dummy2!$BA21,0,dummy2!$AW$3) | Z23: =OFFSET(dummy2!$BB21,0,dummy2!$AW$3) | AA23: =IF(Z23<>"","vs","") | AB23: =OFFSET(dummy2!$BC21,0,dummy2!$AW$3) | AC23: =OFFSET(dummy2!$AZ21,0,dummy2!$AX$3) | AD23: =OFFSET(dummy2!$BA21,0,dummy2!$AX$3) | AE23: =OFFSET(dummy2!$BB21,0,dummy2!$AX$3) | AF23: =IF(AE23<>"","vs","") | AG23: =OFFSET(dummy2!$BC21,0,dummy2!$AX$3) | AH23: =OFFSET(dummy2!$AZ21,0,dummy2!$AY$3) | AI23: =OFFSET(dummy2!$BA21,0,dummy2!$AY$3) | AJ23: =OFFSET(dummy2!$BB21,0,dummy2!$AY$3) | AK23: =IF(AJ23<>"","vs","") | AL23: =OFFSET(dummy2!$BC21,0,dummy2!$AY$3)
A24: =IFERROR(IF(A16+1>$A$5,"",A16+1),"") -> 3 | C24: =C16 -> 2 | D24: =OFFSET(dummy2!AZ22,0,dummy2!$AS$3) | E24: =OFFSET(dummy2!BA22,0,dummy2!$AS$3) | F24: =OFFSET(dummy2!BB22,0,dummy2!$AS$3) | G24: =IF(F24<>"","vs","") | H24: =OFFSET(dummy2!BC22,0,dummy2!$AS$3) | I24: =OFFSET(dummy2!AZ22,0,dummy2!$AT$3) | J24: =OFFSET(dummy2!$BA22,0,dummy2!$AT$3) | K24: =OFFSET(dummy2!BB22,0,dummy2!$AT$3) | L24: =IF(K24<>"","vs","") | M24: =OFFSET(dummy2!BC22,0,dummy2!$AT$3) | N24: =OFFSET(dummy2!$AZ22,0,dummy2!$AU$3) | O24: =OFFSET(dummy2!$BA22,0,dummy2!$AU$3) | P24: =OFFSET(dummy2!$BB22,0,dummy2!$AU$3) | Q24: =IF(P24<>"","vs","") | R24: =OFFSET(dummy2!$BC22,0,dummy2!$AU$3) | S24: =OFFSET(dummy2!$AZ22,0,dummy2!$AV$3) | T24: =OFFSET(dummy2!$BA22,0,dummy2!$AV$3) | U24: =OFFSET(dummy2!$BB22,0,dummy2!$AV$3) | V24: =IF(U24<>"","vs","") | W24: =OFFSET(dummy2!$BC22,0,dummy2!$AV$3) | X24: =OFFSET(dummy2!$AZ22,0,dummy2!$AW$3) | Y24: =OFFSET(dummy2!$BA22,0,dummy2!$AW$3) | Z24: =OFFSET(dummy2!$BB22,0,dummy2!$AW$3) | AA24: =IF(Z24<>"","vs","") | AB24: =OFFSET(dummy2!$BC22,0,dummy2!$AW$3) | AC24: =OFFSET(dummy2!$AZ22,0,dummy2!$AX$3) | AD24: =OFFSET(dummy2!$BA22,0,dummy2!$AX$3) | AE24: =OFFSET(dummy2!$BB22,0,dummy2!$AX$3) | AF24: =IF(AE24<>"","vs","") | AG24: =OFFSET(dummy2!$BC22,0,dummy2!$AX$3) | AH24: =OFFSET(dummy2!$AZ22,0,dummy2!$AY$3) | AI24: =OFFSET(dummy2!$BA22,0,dummy2!$AY$3) | AJ24: =OFFSET(dummy2!$BB22,0,dummy2!$AY$3) | AK24: =IF(AJ24<>"","vs","") | AL24: =OFFSET(dummy2!$BC22,0,dummy2!$AY$3)
A25: =IFERROR(IF(A17+1>$A$5,"",A17+1),"") -> 3 | C25: =C17 -> 3 | D25: =OFFSET(dummy2!AZ23,0,dummy2!$AS$3) | E25: =OFFSET(dummy2!BA23,0,dummy2!$AS$3) | F25: =OFFSET(dummy2!BB23,0,dummy2!$AS$3) | G25: =IF(F25<>"","vs","") | H25: =OFFSET(dummy2!BC23,0,dummy2!$AS$3) | I25: =OFFSET(dummy2!AZ23,0,dummy2!$AT$3) | J25: =OFFSET(dummy2!$BA23,0,dummy2!$AT$3) | K25: =OFFSET(dummy2!BB23,0,dummy2!$AT$3) | L25: =IF(K25<>"","vs","") | M25: =OFFSET(dummy2!BC23,0,dummy2!$AT$3) | N25: =OFFSET(dummy2!$AZ23,0,dummy2!$AU$3) | O25: =OFFSET(dummy2!$BA23,0,dummy2!$AU$3) | P25: =OFFSET(dummy2!$BB23,0,dummy2!$AU$3) | Q25: =IF(P25<>"","vs","") | R25: =OFFSET(dummy2!$BC23,0,dummy2!$AU$3) | S25: =OFFSET(dummy2!$AZ23,0,dummy2!$AV$3) | T25: =OFFSET(dummy2!$BA23,0,dummy2!$AV$3) | U25: =OFFSET(dummy2!$BB23,0,dummy2!$AV$3) | V25: =IF(U25<>"","vs","") | W25: =OFFSET(dummy2!$BC23,0,dummy2!$AV$3) | X25: =OFFSET(dummy2!$AZ23,0,dummy2!$AW$3) | Y25: =OFFSET(dummy2!$BA23,0,dummy2!$AW$3) | Z25: =OFFSET(dummy2!$BB23,0,dummy2!$AW$3) | AA25: =IF(Z25<>"","vs","") | AB25: =OFFSET(dummy2!$BC23,0,dummy2!$AW$3) | AC25: =OFFSET(dummy2!$AZ23,0,dummy2!$AX$3) | AD25: =OFFSET(dummy2!$BA23,0,dummy2!$AX$3) | AE25: =OFFSET(dummy2!$BB23,0,dummy2!$AX$3) | AF25: =IF(AE25<>"","vs","") | AG25: =OFFSET(dummy2!$BC23,0,dummy2!$AX$3) | AH25: =OFFSET(dummy2!$AZ23,0,dummy2!$AY$3) | AI25: =OFFSET(dummy2!$BA23,0,dummy2!$AY$3) | AJ25: =OFFSET(dummy2!$BB23,0,dummy2!$AY$3) | AK25: =IF(AJ25<>"","vs","") | AL25: =OFFSET(dummy2!$BC23,0,dummy2!$AY$3)
A26: =IFERROR(IF(A18+1>$A$5,"",A18+1),"") -> 3 | C26: =C18 -> 4 | D26: =OFFSET(dummy2!AZ24,0,dummy2!$AS$3) | E26: =OFFSET(dummy2!BA24,0,dummy2!$AS$3) | F26: =OFFSET(dummy2!BB24,0,dummy2!$AS$3) | G26: =IF(F26<>"","vs","") | H26: =OFFSET(dummy2!BC24,0,dummy2!$AS$3) | I26: =OFFSET(dummy2!AZ24,0,dummy2!$AT$3) | J26: =OFFSET(dummy2!$BA24,0,dummy2!$AT$3) | K26: =OFFSET(dummy2!BB24,0,dummy2!$AT$3) | L26: =IF(K26<>"","vs","") | M26: =OFFSET(dummy2!BC24,0,dummy2!$AT$3) | N26: =OFFSET(dummy2!$AZ24,0,dummy2!$AU$3) | O26: =OFFSET(dummy2!$BA24,0,dummy2!$AU$3) | P26: =OFFSET(dummy2!$BB24,0,dummy2!$AU$3) | Q26: =IF(P26<>"","vs","") | R26: =OFFSET(dummy2!$BC24,0,dummy2!$AU$3) | S26: =OFFSET(dummy2!$AZ24,0,dummy2!$AV$3) | T26: =OFFSET(dummy2!$BA24,0,dummy2!$AV$3) | U26: =OFFSET(dummy2!$BB24,0,dummy2!$AV$3) | V26: =IF(U26<>"","vs","") | W26: =OFFSET(dummy2!$BC24,0,dummy2!$AV$3) | X26: =OFFSET(dummy2!$AZ24,0,dummy2!$AW$3) | Y26: =OFFSET(dummy2!$BA24,0,dummy2!$AW$3) | Z26: =OFFSET(dummy2!$BB24,0,dummy2!$AW$3) | AA26: =IF(Z26<>"","vs","") | AB26: =OFFSET(dummy2!$BC24,0,dummy2!$AW$3) | AC26: =OFFSET(dummy2!$AZ24,0,dummy2!$AX$3) | AD26: =OFFSET(dummy2!$BA24,0,dummy2!$AX$3) | AE26: =OFFSET(dummy2!$BB24,0,dummy2!$AX$3) | AF26: =IF(AE26<>"","vs","") | AG26: =OFFSET(dummy2!$BC24,0,dummy2!$AX$3) | AH26: =OFFSET(dummy2!$AZ24,0,dummy2!$AY$3) | AI26: =OFFSET(dummy2!$BA24,0,dummy2!$AY$3) | AJ26: =OFFSET(dummy2!$BB24,0,dummy2!$AY$3) | AK26: =IF(AJ26<>"","vs","") | AL26: =OFFSET(dummy2!$BC24,0,dummy2!$AY$3)
A27: =IFERROR(IF(A19+1>$A$5,"",A19+1),"") -> 3 | C27: =C19 -> 5 | D27: =OFFSET(dummy2!AZ25,0,dummy2!$AS$3) | E27: =OFFSET(dummy2!BA25,0,dummy2!$AS$3) | F27: =OFFSET(dummy2!BB25,0,dummy2!$AS$3) | G27: =IF(F27<>"","vs","") | H27: =OFFSET(dummy2!BC25,0,dummy2!$AS$3) | I27: =OFFSET(dummy2!AZ25,0,dummy2!$AT$3) | J27: =OFFSET(dummy2!$BA25,0,dummy2!$AT$3) | K27: =OFFSET(dummy2!BB25,0,dummy2!$AT$3) | L27: =IF(K27<>"","vs","") | M27: =OFFSET(dummy2!BC25,0,dummy2!$AT$3) | N27: =OFFSET(dummy2!$AZ25,0,dummy2!$AU$3) | O27: =OFFSET(dummy2!$BA25,0,dummy2!$AU$3) | P27: =OFFSET(dummy2!$BB25,0,dummy2!$AU$3) | Q27: =IF(P27<>"","vs","") | R27: =OFFSET(dummy2!$BC25,0,dummy2!$AU$3) | S27: =OFFSET(dummy2!$AZ25,0,dummy2!$AV$3) | T27: =OFFSET(dummy2!$BA25,0,dummy2!$AV$3) | U27: =OFFSET(dummy2!$BB25,0,dummy2!$AV$3) | V27: =IF(U27<>"","vs","") | W27: =OFFSET(dummy2!$BC25,0,dummy2!$AV$3) | X27: =OFFSET(dummy2!$AZ25,0,dummy2!$AW$3) | Y27: =OFFSET(dummy2!$BA25,0,dummy2!$AW$3) | Z27: =OFFSET(dummy2!$BB25,0,dummy2!$AW$3) | AA27: =IF(Z27<>"","vs","") | AB27: =OFFSET(dummy2!$BC25,0,dummy2!$AW$3) | AC27: =OFFSET(dummy2!$AZ25,0,dummy2!$AX$3) | AD27: =OFFSET(dummy2!$BA25,0,dummy2!$AX$3) | AE27: =OFFSET(dummy2!$BB25,0,dummy2!$AX$3) | AF27: =IF(AE27<>"","vs","") | AG27: =OFFSET(dummy2!$BC25,0,dummy2!$AX$3) | AH27: =OFFSET(dummy2!$AZ25,0,dummy2!$AY$3) | AI27: =OFFSET(dummy2!$BA25,0,dummy2!$AY$3) | AJ27: =OFFSET(dummy2!$BB25,0,dummy2!$AY$3) | AK27: =IF(AJ27<>"","vs","") | AL27: =OFFSET(dummy2!$BC25,0,dummy2!$AY$3)
A28: =IFERROR(IF(A20+1>$A$5,"",A20+1),"") -> 3 | C28: =C20 -> 6 | D28: =OFFSET(dummy2!AZ26,0,dummy2!$AS$3) | E28: =OFFSET(dummy2!BA26,0,dummy2!$AS$3) | F28: =OFFSET(dummy2!BB26,0,dummy2!$AS$3) | G28: =IF(F28<>"","vs","") | H28: =OFFSET(dummy2!BC26,0,dummy2!$AS$3) | I28: =OFFSET(dummy2!AZ26,0,dummy2!$AT$3) | J28: =OFFSET(dummy2!$BA26,0,dummy2!$AT$3) | K28: =OFFSET(dummy2!BB26,0,dummy2!$AT$3) | L28: =IF(K28<>"","vs","") | M28: =OFFSET(dummy2!BC26,0,dummy2!$AT$3) | N28: =OFFSET(dummy2!$AZ26,0,dummy2!$AU$3) | O28: =OFFSET(dummy2!$BA26,0,dummy2!$AU$3) | P28: =OFFSET(dummy2!$BB26,0,dummy2!$AU$3) | Q28: =IF(P28<>"","vs","") | R28: =OFFSET(dummy2!$BC26,0,dummy2!$AU$3) | S28: =OFFSET(dummy2!$AZ26,0,dummy2!$AV$3) | T28: =OFFSET(dummy2!$BA26,0,dummy2!$AV$3) | U28: =OFFSET(dummy2!$BB26,0,dummy2!$AV$3) | V28: =IF(U28<>"","vs","") | W28: =OFFSET(dummy2!$BC26,0,dummy2!$AV$3) | X28: =OFFSET(dummy2!$AZ26,0,dummy2!$AW$3) | Y28: =OFFSET(dummy2!$BA26,0,dummy2!$AW$3) | Z28: =OFFSET(dummy2!$BB26,0,dummy2!$AW$3) | AA28: =IF(Z28<>"","vs","") | AB28: =OFFSET(dummy2!$BC26,0,dummy2!$AW$3) | AC28: =OFFSET(dummy2!$AZ26,0,dummy2!$AX$3) | AD28: =OFFSET(dummy2!$BA26,0,dummy2!$AX$3) | AE28: =OFFSET(dummy2!$BB26,0,dummy2!$AX$3) | AF28: =IF(AE28<>"","vs","") | AG28: =OFFSET(dummy2!$BC26,0,dummy2!$AX$3) | AH28: =OFFSET(dummy2!$AZ26,0,dummy2!$AY$3) | AI28: =OFFSET(dummy2!$BA26,0,dummy2!$AY$3) | AJ28: =OFFSET(dummy2!$BB26,0,dummy2!$AY$3) | AK28: =IF(AJ28<>"","vs","") | AL28: =OFFSET(dummy2!$BC26,0,dummy2!$AY$3)
A29: =IFERROR(IF(A21+1>$A$5,"",A21+1),"") -> 3 | C29: =C21 -> 7 | D29: =OFFSET(dummy2!AZ27,0,dummy2!$AS$3) | E29: =OFFSET(dummy2!BA27,0,dummy2!$AS$3) | F29: =OFFSET(dummy2!BB27,0,dummy2!$AS$3) | G29: =IF(F29<>"","vs","") | H29: =OFFSET(dummy2!BC27,0,dummy2!$AS$3) | I29: =OFFSET(dummy2!AZ27,0,dummy2!$AT$3) | J29: =OFFSET(dummy2!$BA27,0,dummy2!$AT$3) | K29: =OFFSET(dummy2!BB27,0,dummy2!$AT$3) | L29: =IF(K29<>"","vs","") | M29: =OFFSET(dummy2!BC27,0,dummy2!$AT$3) | N29: =OFFSET(dummy2!$AZ27,0,dummy2!$AU$3) | O29: =OFFSET(dummy2!$BA27,0,dummy2!$AU$3) | P29: =OFFSET(dummy2!$BB27,0,dummy2!$AU$3) | Q29: =IF(P29<>"","vs","") | R29: =OFFSET(dummy2!$BC27,0,dummy2!$AU$3) | S29: =OFFSET(dummy2!$AZ27,0,dummy2!$AV$3) | T29: =OFFSET(dummy2!$BA27,0,dummy2!$AV$3) | U29: =OFFSET(dummy2!$BB27,0,dummy2!$AV$3) | V29: =IF(U29<>"","vs","") | W29: =OFFSET(dummy2!$BC27,0,dummy2!$AV$3) | X29: =OFFSET(dummy2!$AZ27,0,dummy2!$AW$3) | Y29: =OFFSET(dummy2!$BA27,0,dummy2!$AW$3) | Z29: =OFFSET(dummy2!$BB27,0,dummy2!$AW$3) | AA29: =IF(Z29<>"","vs","") | AB29: =OFFSET(dummy2!$BC27,0,dummy2!$AW$3) | AC29: =OFFSET(dummy2!$AZ27,0,dummy2!$AX$3) | AD29: =OFFSET(dummy2!$BA27,0,dummy2!$AX$3) | AE29: =OFFSET(dummy2!$BB27,0,dummy2!$AX$3) | AF29: =IF(AE29<>"","vs","") | AG29: =OFFSET(dummy2!$BC27,0,dummy2!$AX$3) | AH29: =OFFSET(dummy2!$AZ27,0,dummy2!$AY$3) | AI29: =OFFSET(dummy2!$BA27,0,dummy2!$AY$3) | AJ29: =OFFSET(dummy2!$BB27,0,dummy2!$AY$3) | AK29: =IF(AJ29<>"","vs","") | AL29: =OFFSET(dummy2!$BC27,0,dummy2!$AY$3)
A30: =IFERROR(IF(A22+1>$A$5,"",A22+1),"") -> 3 | C30: =C22 -> 8 | D30: =OFFSET(dummy2!AZ28,0,dummy2!$AS$3) | E30: =OFFSET(dummy2!BA28,0,dummy2!$AS$3) | F30: =OFFSET(dummy2!BB28,0,dummy2!$AS$3) | G30: =IF(F30<>"","vs","") | H30: =OFFSET(dummy2!BC28,0,dummy2!$AS$3) | I30: =OFFSET(dummy2!AZ28,0,dummy2!$AT$3) | J30: =OFFSET(dummy2!$BA28,0,dummy2!$AT$3) | K30: =OFFSET(dummy2!BB28,0,dummy2!$AT$3) | L30: =IF(K30<>"","vs","") | M30: =OFFSET(dummy2!BC28,0,dummy2!$AT$3) | N30: =OFFSET(dummy2!$AZ28,0,dummy2!$AU$3) | O30: =OFFSET(dummy2!$BA28,0,dummy2!$AU$3) | P30: =OFFSET(dummy2!$BB28,0,dummy2!$AU$3) | Q30: =IF(P30<>"","vs","") | R30: =OFFSET(dummy2!$BC28,0,dummy2!$AU$3) | S30: =OFFSET(dummy2!$AZ28,0,dummy2!$AV$3) | T30: =OFFSET(dummy2!$BA28,0,dummy2!$AV$3) | U30: =OFFSET(dummy2!$BB28,0,dummy2!$AV$3) | V30: =IF(U30<>"","vs","") | W30: =OFFSET(dummy2!$BC28,0,dummy2!$AV$3) | X30: =OFFSET(dummy2!$AZ28,0,dummy2!$AW$3) | Y30: =OFFSET(dummy2!$BA28,0,dummy2!$AW$3) | Z30: =OFFSET(dummy2!$BB28,0,dummy2!$AW$3) | AA30: =IF(Z30<>"","vs","") | AB30: =OFFSET(dummy2!$BC28,0,dummy2!$AW$3) | AC30: =OFFSET(dummy2!$AZ28,0,dummy2!$AX$3) | AD30: =OFFSET(dummy2!$BA28,0,dummy2!$AX$3) | AE30: =OFFSET(dummy2!$BB28,0,dummy2!$AX$3) | AF30: =IF(AE30<>"","vs","") | AG30: =OFFSET(dummy2!$BC28,0,dummy2!$AX$3) | AH30: =OFFSET(dummy2!$AZ28,0,dummy2!$AY$3) | AI30: =OFFSET(dummy2!$BA28,0,dummy2!$AY$3) | AJ30: =OFFSET(dummy2!$BB28,0,dummy2!$AY$3) | AK30: =IF(AJ30<>"","vs","") | AL30: =OFFSET(dummy2!$BC28,0,dummy2!$AY$3)
A31: =IFERROR(IF(A23+1>$A$5,"",A23+1),"") -> 4 | B31: =dummy1!L18 -> Court 4 | C31: =C23 -> 1 | D31: =OFFSET(dummy2!AZ29,0,dummy2!$AS$3) -> 0.625 | E31: =OFFSET(dummy2!BA29,0,dummy2!$AS$3) -> 4 | F31: =OFFSET(dummy2!BB29,0,dummy2!$AS$3) -> Player 5 | G31: =IF(F31<>"","vs","") -> vs | H31: =OFFSET(dummy2!BC29,0,dummy2!$AS$3) -> Player 12 | I31: =OFFSET(dummy2!AZ29,0,dummy2!$AT$3) | J31: =OFFSET(dummy2!$BA29,0,dummy2!$AT$3) | K31: =OFFSET(dummy2!BB29,0,dummy2!$AT$3) | L31: =IF(K31<>"","vs","") | M31: =OFFSET(dummy2!BC29,0,dummy2!$AT$3) | N31: =OFFSET(dummy2!$AZ29,0,dummy2!$AU$3) | O31: =OFFSET(dummy2!$BA29,0,dummy2!$AU$3) | P31: =OFFSET(dummy2!$BB29,0,dummy2!$AU$3) | Q31: =IF(P31<>"","vs","") | R31: =OFFSET(dummy2!$BC29,0,dummy2!$AU$3) | S31: =OFFSET(dummy2!$AZ29,0,dummy2!$AV$3) | T31: =OFFSET(dummy2!$BA29,0,dummy2!$AV$3) | U31: =OFFSET(dummy2!$BB29,0,dummy2!$AV$3) | V31: =IF(U31<>"","vs","") | W31: =OFFSET(dummy2!$BC29,0,dummy2!$AV$3) | X31: =OFFSET(dummy2!$AZ29,0,dummy2!$AW$3) | Y31: =OFFSET(dummy2!$BA29,0,dummy2!$AW$3) | Z31: =OFFSET(dummy2!$BB29,0,dummy2!$AW$3) | AA31: =IF(Z31<>"","vs","") | AB31: =OFFSET(dummy2!$BC29,0,dummy2!$AW$3) | AC31: =OFFSET(dummy2!$AZ29,0,dummy2!$AX$3) | AD31: =OFFSET(dummy2!$BA29,0,dummy2!$AX$3) | AE31: =OFFSET(dummy2!$BB29,0,dummy2!$AX$3) | AF31: =IF(AE31<>"","vs","") | AG31: =OFFSET(dummy2!$BC29,0,dummy2!$AX$3) | AH31: =OFFSET(dummy2!$AZ29,0,dummy2!$AY$3) | AI31: =OFFSET(dummy2!$BA29,0,dummy2!$AY$3) | AJ31: =OFFSET(dummy2!$BB29,0,dummy2!$AY$3) | AK31: =IF(AJ31<>"","vs","") | AL31: =OFFSET(dummy2!$BC29,0,dummy2!$AY$3)
