Workbook

Sheet Baby Growth Tracker
A1: YOUR CHILD INFORMATION
B3: Your Child Name : | C3: Angelina Dolly | F3: YOUR CHILD WEIGHT AND HEIGHT REFERENCE | J3: CONVERTER BOXES
J4: Weight Converter
B5: Gender : | C5: Female | F5: Date : | G5: 39692 | J5: 120 | K5: pounds | L5: =J5/2.20462262 -> 54.431084 | M5: kg
G6: Weight | H6: Height | J6: * 1 kilogram = 2.20462262 pounds
B7: Date of Birth : | C7: 39614 | F7: 10th | G7: =VLOOKUP(ROUND((G5-C7+1)/30,1),Table!C$2:M$362,5,FALSE) -> 4.4439304 | H7: =VLOOKUP(ROUND((G5-C7+1)/30,1),Table!O$2:Y$362,5,FALSE) -> 55.260191
F8: 25th | G8: =VLOOKUP(ROUND((G5-C7+1)/30,1),Table!C$2:M$362,6,FALSE) -> 4.8442525 | H8: =VLOOKUP(ROUND((G5-C7+1)/30,1),Table!O$2:Y$362,6,FALSE) -> 56.704473 | J8: Height Converter
B9: Weight Birth : | C9: 3.2 | D9: kg(s) | F9: 50th | G9: =VLOOKUP(ROUND((G5-C7+1)/30,1),Table!C$2:M$362,7,FALSE) -> 5.2935219 | H9: =VLOOKUP(ROUND((G5-C7+1)/30,1),Table!O$2:Y$362,7,FALSE) -> 58.330418 | J9: 20 | K9: inch | L9: =J9/0.393700787 -> 50.8 | M9: cm
F10: 75th | G10: =VLOOKUP(ROUND((G5-C7+1)/30,1),Table!C$2:M$362,8,FALSE) -> 5.7472261 | H10: =VLOOKUP(ROUND((G5-C7+1)/30,1),Table!O$2:Y$362,8,FALSE) -> 59.978732 | J10: * 1 centimeter = 0.393700787 inch
B11: Height Birth : | C11: 50 | D11: cm(s) | F11: 90th | G11: =VLOOKUP(ROUND((G5-C7+1)/30,1),Table!C$2:M$362,9,FALSE) -> 6.1591537 | H11: =VLOOKUP(ROUND((G5-C7+1)/30,1),Table!O$2:Y$362,9,FALSE) -> 61.4814
A13: No | B13: Date | C13: Day | D13: Month | E13: Weight (kg) | F13: Height (cm) | G13: Weight Percentile | H13: Height Percentile | J13: Baby Growth Percentile Definition
A14: 1 | B14: 39616 | C14: =IF(B14="","",B14-$C$7+1) -> 3 | D14: =IF(B14="","",ROUND(C14/30,1)) -> 0.1 | E14: 3.3 | F14: 51 | G14: =IF(ISNA(VLOOKUP(E14,Table!D$2:N$362,11,FALSE)),"",VLOOKUP(E14,Table!D$2:N$362,11,FALSE)) -> 25th | H14: =IF(ISNA(VLOOKUP(F14,Table!P$2:Z$362,11,FALSE)),"",VLOOKUP(F14,Table!P$2:Z$362,11,FALSE)) -> 50th | J14: If your child have 25th percentile in height, means that your child would be taller than 250 and shorter than 750 normal children of the same age and sex, and if your child have 50th percentile in weight, means that your child would be heavier than 500 and lighter than 500 normal children of the same age and sex.
A15: 2 | B15: 39624 | C15: =IF(B15="","",B15-$C$7+1) -> 11 | D15: =IF(B15="","",ROUND(C15/30,1)) -> 0.4 | E15: 3.6 | F15: 52 | G15: =IF(ISNA(VLOOKUP(E15,Table!D$2:N$362,11,FALSE)),"",VLOOKUP(E15,Table!D$2:N$362,11,FALSE)) -> 25th | H15: =IF(ISNA(VLOOKUP(F15,Table!P$2:Z$362,11,FALSE)),"",VLOOKUP(F15,Table!P$2:Z$362,11,FALSE)) -> 50th
A16: 3 | B16: 39644 | C16: =IF(B16="","",B16-$C$7+1) -> 31 | D16: =IF(B16="","",ROUND(C16/30,1)) -> 1 | E16: 4.4 | F16: 55 | G16: =IF(ISNA(VLOOKUP(E16,Table!D$2:N$362,11,FALSE)),"",VLOOKUP(E16,Table!D$2:N$362,11,FALSE)) -> 50th | H16: =IF(ISNA(VLOOKUP(F16,Table!P$2:Z$362,11,FALSE)),"",VLOOKUP(F16,Table!P$2:Z$362,11,FALSE)) -> 50th
A17: 4 | B17: 39661 | C17: =IF(B17="","",B17-$C$7+1) -> 48 | D17: =IF(B17="","",ROUND(C17/30,1)) -> 1.6 | E17: 5 | F17: 57 | G17: =IF(ISNA(VLOOKUP(E17,Table!D$2:N$362,11,FALSE)),"",VLOOKUP(E17,Table!D$2:N$362,11,FALSE)) -> 50th | H17: =IF(ISNA(VLOOKUP(F17,Table!P$2:Z$362,11,FALSE)),"",VLOOKUP(F17,Table!P$2:Z$362,11,FALSE)) -> 50th
A18: 5 | B18: 39692 | C18: =IF(B18="","",B18-$C$7+1) -> 79 | D18: =IF(B18="","",ROUND(C18/30,1)) -> 2.6 | E18: 6 | F18: 60 | G18: =IF(ISNA(VLOOKUP(E18,Table!D$2:N$362,11,FALSE)),"",VLOOKUP(E18,Table!D$2:N$362,11,FALSE)) -> 75th | H18: =IF(ISNA(VLOOKUP(F18,Table!P$2:Z$362,11,FALSE)),"",VLOOKUP(F18,Table!P$2:Z$362,11,FALSE)) -> 75th
A19: 6 | C19: =IF(B19="","",B19-$C$7+1) | D19: =IF(B19="","",ROUND(C19/30,1)) | G19: =IF(ISNA(VLOOKUP(E19,Table!D$2:N$362,11,FALSE)),"",VLOOKUP(E19,Table!D$2:N$362,11,FALSE)) | H19: =IF(ISNA(VLOOKUP(F19,Table!P$2:Z$362,11,FALSE)),"",VLOOKUP(F19,Table!P$2:Z$362,11,FALSE))
A20: 7 | C20: =IF(B20="","",B20-$C$7+1) | D20: =IF(B20="","",ROUND(C20/30,1)) | G20: =IF(ISNA(VLOOKUP(E20,Table!D$2:N$362,11,FALSE)),"",VLOOKUP(E20,Table!D$2:N$362,11,FALSE)) | H20: =IF(ISNA(VLOOKUP(F20,Table!P$2:Z$362,11,FALSE)),"",VLOOKUP(F20,Table!P$2:Z$362,11,FALSE))
A21: 8 | C21: =IF(B21="","",B21-$C$7+1) | D21: =IF(B21="","",ROUND(C21/30,1)) | G21: =IF(ISNA(VLOOKUP(E21,Table!D$2:N$362,11,FALSE)),"",VLOOKUP(E21,Table!D$2:N$362,11,FALSE)) | H21: =IF(ISNA(VLOOKUP(F21,Table!P$2:Z$362,11,FALSE)),"",VLOOKUP(F21,Table!P$2:Z$362,11,FALSE))
A22: 9 | C22: =IF(B22="","",B22-$C$7+1) | D22: =IF(B22="","",ROUND(C22/30,1)) | G22: =IF(ISNA(VLOOKUP(E22,Table!D$2:N$362,11,FALSE)),"",VLOOKUP(E22,Table!D$2:N$362,11,FALSE)) | H22: =IF(ISNA(VLOOKUP(F22,Table!P$2:Z$362,11,FALSE)),"",VLOOKUP(F22,Table!P$2:Z$362,11,FALSE))
A23: 10 | C23: =IF(B23="","",B23-$C$7+1) | D23: =IF(B23="","",ROUND(C23/30,1)) | G23: =IF(ISNA(VLOOKUP(E23,Table!D$2:N$362,11,FALSE)),"",VLOOKUP(E23,Table!D$2:N$362,11,FALSE)) | H23: =IF(ISNA(VLOOKUP(F23,Table!P$2:Z$362,11,FALSE)),"",VLOOKUP(F23,Table!P$2:Z$362,11,FALSE))
A24: 11 | C24: =IF(B24="","",B24-$C$7+1) | D24: =IF(B24="","",ROUND(C24/30,1)) | G24: =IF(ISNA(VLOOKUP(E24,Table!D$2:N$362,11,FALSE)),"",VLOOKUP(E24,Table!D$2:N$362,11,FALSE)) | H24: =IF(ISNA(VLOOKUP(F24,Table!P$2:Z$362,11,FALSE)),"",VLOOKUP(F24,Table!P$2:Z$362,11,FALSE))
A25: 12 | C25: =IF(B25="","",B25-$C$7+1) | D25: =IF(B25="","",ROUND(C25/30,1)) | G25: =IF(ISNA(VLOOKUP(E25,Table!D$2:N$362,11,FALSE)),"",VLOOKUP(E25,Table!D$2:N$362,11,FALSE)) | H25: =IF(ISNA(VLOOKUP(F25,Table!P$2:Z$362,11,FALSE)),"",VLOOKUP(F25,Table!P$2:Z$362,11,FALSE)) | J25: VISIT WWW.EXCELTEMPLATE.NET FOR MORE TEMPLATES AND UPDATES
A26: 13 | C26: =IF(B26="","",B26-$C$7+1) | D26: =IF(B26="","",ROUND(C26/30,1)) | G26: =IF(ISNA(VLOOKUP(E26,Table!D$2:N$362,11,FALSE)),"",VLOOKUP(E26,Table!D$2:N$362,11,FALSE)) | H26: =IF(ISNA(VLOOKUP(F26,Table!P$2:Z$362,11,FALSE)),"",VLOOKUP(F26,Table!P$2:Z$362,11,FALSE))
A27: 14 | C27: =IF(B27="","",B27-$C$7+1) | D27: =IF(B27="","",ROUND(C27/30,1)) | G27: =IF(ISNA(VLOOKUP(E27,Table!D$2:N$362,11,FALSE)),"",VLOOKUP(E27,Table!D$2:N$362,11,FALSE)) | H27: =IF(ISNA(VLOOKUP(F27,Table!P$2:Z$362,11,FALSE)),"",VLOOKUP(F27,Table!P$2:Z$362,11,FALSE))
A28: 15 | C28: =IF(B28="","",B28-$C$7+1) | D28: =IF(B28="","",ROUND(C28/30,1)) | G28: =IF(ISNA(VLOOKUP(E28,Table!D$2:N$362,11,FALSE)),"",VLOOKUP(E28,Table!D$2:N$362,11,FALSE)) | H28: =IF(ISNA(VLOOKUP(F28,Table!P$2:Z$362,11,FALSE)),"",VLOOKUP(F28,Table!P$2:Z$362,11,FALSE))
A29: 16 | C29: =IF(B29="","",B29-$C$7+1) | D29: =IF(B29="","",ROUND(C29/30,1)) | G29: =IF(ISNA(VLOOKUP(E29,Table!D$2:N$362,11,FALSE)),"",VLOOKUP(E29,Table!D$2:N$362,11,FALSE)) | H29: =IF(ISNA(VLOOKUP(F29,Table!P$2:Z$362,11,FALSE)),"",VLOOKUP(F29,Table!P$2:Z$362,11,FALSE))
A30: 17 | C30: =IF(B30="","",B30-$C$7+1) | D30: =IF(B30="","",ROUND(C30/30,1)) | G30: =IF(ISNA(VLOOKUP(E30,Table!D$2:N$362,11,FALSE)),"",VLOOKUP(E30,Table!D$2:N$362,11,FALSE)) | H30: =IF(ISNA(VLOOKUP(F30,Table!P$2:Z$362,11,FALSE)),"",VLOOKUP(F30,Table!P$2:Z$362,11,FALSE))
A31: 18 | C31: =IF(B31="","",B31-$C$7+1) | D31: =IF(B31="","",ROUND(C31/30,1)) | G31: =IF(ISNA(VLOOKUP(E31,Table!D$2:N$362,11,FALSE)),"",VLOOKUP(E31,Table!D$2:N$362,11,FALSE)) | H31: =IF(ISNA(VLOOKUP(F31,Table!P$2:Z$362,11,FALSE)),"",VLOOKUP(F31,Table!P$2:Z$362,11,FALSE))
A32: 19 | C32: =IF(B32="","",B32-$C$7+1) | D32: =IF(B32="","",ROUND(C32/30,1)) | G32: =IF(ISNA(VLOOKUP(E32,Table!D$2:N$362,11,FALSE)),"",VLOOKUP(E32,Table!D$2:N$362,11,FALSE)) | H32: =IF(ISNA(VLOOKUP(F32,Table!P$2:Z$362,11,FALSE)),"",VLOOKUP(F32,Table!P$2:Z$362,11,FALSE))
A33: 20 | C33: =IF(B33="","",B33-$C$7+1) | D33: =IF(B33="","",ROUND(C33/30,1)) | G33: =IF(ISNA(VLOOKUP(E33,Table!D$2:N$362,11,FALSE)),"",VLOOKUP(E33,Table!D$2:N$362,11,FALSE)) | H33: =IF(ISNA(VLOOKUP(F33,Table!P$2:Z$362,11,FALSE)),"",VLOOKUP(F33,Table!P$2:Z$362,11,FALSE))
A34: 21 | C34: =IF(B34="","",B34-$C$7+1) | D34: =IF(B34="","",ROUND(C34/30,1)) | G34: =IF(ISNA(VLOOKUP(E34,Table!D$2:N$362,11,FALSE)),"",VLOOKUP(E34,Table!D$2:N$362,11,FALSE)) | H34: =IF(ISNA(VLOOKUP(F34,Table!P$2:Z$362,11,FALSE)),"",VLOOKUP(F34,Table!P$2:Z$362,11,FALSE))
A35: 22 | C35: =IF(B35="","",B35-$C$7+1) | D35: =IF(B35="","",ROUND(C35/30,1)) | G35: =IF(ISNA(VLOOKUP(E35,Table!D$2:N$362,11,FALSE)),"",VLOOKUP(E35,Table!D$2:N$362,11,FALSE)) | H35: =IF(ISNA(VLOOKUP(F35,Table!P$2:Z$362,11,FALSE)),"",VLOOKUP(F35,Table!P$2:Z$362,11,FALSE))
A36: 23 | C36: =IF(B36="","",B36-$C$7+1) | D36: =IF(B36="","",ROUND(C36/30,1)) | G36: =IF(ISNA(VLOOKUP(E36,Table!D$2:N$362,11,FALSE)),"",VLOOKUP(E36,Table!D$2:N$362,11,FALSE)) | H36: =IF(ISNA(VLOOKUP(F36,Table!P$2:Z$362,11,FALSE)),"",VLOOKUP(F36,Table!P$2:Z$362,11,FALSE))
A37: 24 | C37: =IF(B37="","",B37-$C$7+1) | D37: =IF(B37="","",ROUND(C37/30,1)) | G37: =IF(ISNA(VLOOKUP(E37,Table!D$2:N$362,11,FALSE)),"",VLOOKUP(E37,Table!D$2:N$362,11,FALSE)) | H37: =IF(ISNA(VLOOKUP(F37,Table!P$2:Z$362,11,FALSE)),"",VLOOKUP(F37,Table!P$2:Z$362,11,FALSE))
... A113: 100 | C113: =IF(B113="","",B113-$C$7+1) | D113: =IF(B113="","",ROUND(C113/30,1)) | G113: =IF(ISNA(VLOOKUP(E113,Table!D$2:N$362,11,FALSE)),"",VLOOKUP(E113,Table!D$2:N$362,11,FALSE)) | H113: =IF(ISNA(VLOOKUP(F113,Table!P$2:Z$362,11,FALSE)),"",VLOOKUP(F113,Table!P$2:Z$362,11,FALSE))

Sheet Table
A1: Sex | B1: Day | C1: Agemos | D1: ='Baby Growth Tracker'!C3 -> Angelina Dolly | E1: 3rd | F1: 5th | G1: 10th | H1: 25th | I1: 50th | J1: 75th | K1: 90th | L1: 95th | M1: 97th | O1: Agemos | P1: =D1 -> Angelina Dolly | Q1: 3rd | R1: 5th | S1: 10th | T1: 25th | U1: 50th | V1: 75th | W1: 90th | X1: 95th | Y1: 97th | AA1: Male | AS1: Female
A2: Male | B2: 0 | C2: 0 | D2: ='Baby Growth Tracker'!C9 -> 3.2 | E2: =IF('Baby Growth Tracker'!$C$5="Male",Table!AA2,Table!AS2) -> 2.414112 | F2: =IF('Baby Growth Tracker'!$C$5="Male",Table!AB2,Table!AT2) -> 2.5479052 | G2: =IF('Baby Growth Tracker'!$C$5="Male",Table!AC2,Table!AU2) -> 2.7472223 | H2: =IF('Baby Growth Tracker'!$C$5="Male",Table!AD2,Table!AV2) -> 3.0648647 | I2: =IF('Baby Growth Tracker'!$C$5="Male",Table!AE2,Table!AW2) -> 3.3991865 | J2: =IF('Baby Growth Tracker'!$C$5="Male",Table!AF2,Table!AX2) -> 3.7175194 | K2: =IF('Baby Growth Tracker'!$C$5="Male",Table!AG2,Table!AY2) -> 3.9925722 | L2: =IF('Baby Growth Tracker'!$C$5="Male",Table!AH2,Table!AZ2) -> 4.1526366 | M2: =IF('Baby Growth Tracker'!$C$5="Male",Table!AI2,Table!BA2) -> 4.254922 | N2: =LOOKUP(D2,E2:M2,$E$1:$M$1) -> 25th | O2: 0 | P2: ='Baby Growth Tracker'!C11 -> 50 | Q2: =IF('Baby Growth Tracker'!$C$5="Male",Table!AJ2,Table!BB2) -> 45.094883 | R2: =IF('Baby Growth Tracker'!$C$5="Male",Table!AK2,Table!BC2) -> 45.575607 | S2: =IF('Baby Growth Tracker'!$C$5="Male",Table!AL2,Table!BD2) -> 46.339337 | T2: =IF('Baby Growth Tracker'!$C$5="Male",Table!AM2,Table!BE2) -> 47.683455 | U2: =IF('Baby Growth Tracker'!$C$5="Male",Table!AN2,Table!BF2) -> 49.286396 | V2: =IF('Baby Growth Tracker'!$C$5="Male",Table!AO2,Table!BG2) -> 51.018696 | W2: =IF('Baby Growth Tracker'!$C$5="Male",Table!AP2,Table!BH2) -> 52.702501 | X2: =IF('Baby Growth Tracker'!$C$5="Male",Table!AQ2,Table!BI2) -> 53.772909 | Y2: =IF('Baby Growth Tracker'!$C$5="Male",Table!AR2,Table!BJ2) -> 54.495274 | Z2: =LOOKUP(P2,Q2:Y2,$Q$1:$Y$1) -> 50th | AA2: 2.355451 | AB2: 2.526904 | AC2: 2.7738018 | AD2: 3.1506111 | AE2: 3.5302032 | AF2: 3.8790766 | AG2: 4.1724934 | AH2: 4.3402927 | AI2: 4.4464883 | AJ2: 44.925098 | AK2: 45.568409 | AL2: 46.554293 | AM2: 48.189374 | AN2: 49.988884 | AO2: 51.771257 | AP2: 53.361535 | AQ2: 54.307212 | AR2: 54.919004 | AS2: 2.414112 | AT2: 2.5479052 | AU2: 2.7472223 | AV2: 3.0648647 | AW2: 3.3991865 | AX2: 3.7175194 | AY2: 3.9925722 | AZ2: 4.1526366 | BA2: 4.254922 | BB2: 45.094883 | BC2: 45.575607 | BD2: 46.339337 | BE2: 47.683455 | BF2: 49.286396 | BG2: 51.018696 | BH2: 52.702501 | BI2: 53.772909 | BJ2: 54.495274
B3: =C3*30 -> 3 | C3: 0.1 | D3: =VLOOKUP(Table!C3,'Baby Growth Tracker'!$D$14:$E$99,2,FALSE) -> 3.3 | E3: =IF('Baby Growth Tracker'!$C$5="Male",Table!AA3,Table!AS3) -> 2.482673 | F3: =IF('Baby Growth Tracker'!$C$5="Male",Table!AB3,Table!AT3) -> 2.6172126 | G3: =IF('Baby Growth Tracker'!$C$5="Male",Table!AC3,Table!AU3) -> 2.8181312 | H3: =IF('Baby Growth Tracker'!$C$5="Male",Table!AD3,Table!AV3) -> 3.1394174 | I3: =IF('Baby Growth Tracker'!$C$5="Male",Table!AE3,Table!AW3) -> 3.4788549 | J3: =IF('Baby Growth Tracker'!$C$5="Male",Table!AF3,Table!AX3) -> 3.8031342 | K3: =IF('Baby Growth Tracker'!$C$5="Male",Table!AG3,Table!AY3) -> 4.0840829 | L3: =IF('Baby Growth Tracker'!$C$5="Male",Table!AH3,Table!AZ3) -> 4.2478766 | M3: =IF('Baby Growth Tracker'!$C$5="Male",Table!AI3,Table!BA3) -> 4.352654 | N3: =LOOKUP(D3,E3:M3,$E$1:$M$1) -> 25th | O3: 0.1 | P3: =VLOOKUP(Table!O3,'Baby Growth Tracker'!$D$14:$F$99,3,FALSE) -> 51 | Q3: =IF('Baby Growth Tracker'!$C$5="Male",Table!AJ3,Table!BB3) -> 45.569738 | R3: =IF('Baby Growth Tracker'!$C$5="Male",Table!AK3,Table!BC3) -> 46.053134 | S3: =IF('Baby Growth Tracker'!$C$5="Male",Table!AL3,Table!BD3) -> 46.819966 | T3: =IF('Baby Growth Tracker'!$C$5="Male",Table!AM3,Table!BE3) -> 48.166135 | U3: =IF('Baby Growth Tracker'!$C$5="Male",Table!AN3,Table!BF3) -> 49.765833 | V3: =IF('Baby Growth Tracker'!$C$5="Male",Table!AO3,Table!BG3) -> 51.487681 | W3: =IF('Baby Growth Tracker'!$C$5="Male",Table!AP3,Table!BH3) -> 53.154445 | X3: =IF('Baby Growth Tracker'!$C$5="Male",Table!AQ3,Table!BI3) -> 54.210515 | Y3: =IF('Baby Growth Tracker'!$C$5="Male",Table!AR3,Table!BJ3) -> 54.921675 | Z3: =LOOKUP(P3,Q3:Y3,$Q$1:$Y$1) -> 50th | AA3: 2.4442705 | AB3: 2.6144543 | AC3: 2.8609435 | AD3: 3.239968 | AE3: 3.6247838 | AF3: 3.9807458 | AG3: 4.281627 | AH3: 4.4542602 | AI3: 4.5637156 | AJ3: 45.535703 | AK3: 46.166346 | AL3: 47.134995 | AM3: 48.747337 | AN3: 50.530302 | AO3: 52.305115 | AP3: 53.896116 | AQ3: 54.845585 | AR3: 55.461172 | AS3: 2.482673 | AT3: 2.6172126 | AU3: 2.8181312 | AV3: 3.1394174 | AW3: 3.4788549 | AX3: 3.8031342 | AY3: 4.0840829 | AZ3: 4.2478766 | BA3: 4.352654 | BB3: 45.569738 | BC3: 46.053134 | BD3: 46.819966 | BE3: 48.166135 | BF3: 49.765833 | BG3: 51.487681 | BH3: 53.154445 | BI3: 54.210515 | BJ3: 54.921675
B4: =C4*30 -> 6 | C4: 0.2 | D4: =VLOOKUP(Table!C4,'Baby Growth Tracker'!$D$14:$E$99,2,FALSE) -> #N/A | E4: =IF('Baby Growth Tracker'!$C$5="Male",Table!AA4,Table!AS4) -> 2.5504293 | F4: =IF('Baby Growth Tracker'!$C$5="Male",Table!AB4,Table!AT4) -> 2.6857219 | G4: =IF('Baby Growth Tracker'!$C$5="Male",Table!AC4,Table!AU4) -> 2.8882262 | H4: =IF('Baby Growth Tracker'!$C$5="Male",Table!AD4,Table!AV4) -> 3.2130869 | I4: =IF('Baby Growth Tracker'!$C$5="Male",Table!AE4,Table!AW4) -> 3.5575345 | J4: =IF('Baby Growth Tracker'!$C$5="Male",Table!AF4,Table!AX4) -> 3.8876496 | K4: =IF('Baby Growth Tracker'!$C$5="Male",Table!AG4,Table!AY4) -> 4.1744016 | L4: =IF('Baby Growth Tracker'!$C$5="Male",Table!AH4,Table!AZ4) -> 4.3418752 | M4: =IF('Baby Growth Tracker'!$C$5="Male",Table!AI4,Table!BA4) -> 4.4491155 | N4: =LOOKUP(D4,E4:M4,$E$1:$M$1) -> #N/A | O4: 0.2 | P4: =VLOOKUP(Table!O4,'Baby Growth Tracker'!$D$14:$F$99,3,FALSE) -> #N/A | Q4: =IF('Baby Growth Tracker'!$C$5="Male",Table!AJ4,Table!BB4) -> 46.019379 | R4: =IF('Baby Growth Tracker'!$C$5="Male",Table!AK4,Table!BC4) -> 46.505489 | S4: =IF('Baby Growth Tracker'!$C$5="Male",Table!AL4,Table!BD4) -> 47.275545 | T4: =IF('Baby Growth Tracker'!$C$5="Male",Table!AM4,Table!BE4) -> 48.624157 | U4: =IF('Baby Growth Tracker'!$C$5="Male",Table!AN4,Table!BF4) -> 50.221433 | V4: =IF('Baby Growth Tracker'!$C$5="Male",Table!AO4,Table!BG4) -> 51.934224 | W4: =IF('Baby Growth Tracker'!$C$5="Male",Table!AP4,Table!BH4) -> 53.585879 | X4: =IF('Baby Growth Tracker'!$C$5="Male",Table!AQ4,Table!BI4) -> 54.629164 | Y4: =IF('Baby Growth Tracker'!$C$5="Male",Table!AR4,Table!BJ4) -> 55.330318 | Z4: =LOOKUP(P4,Q4:Y4,$Q$1:$Y$1) -> #N/A | AA4: 2.53309 | AB4: 2.7020047 | AC4: 2.9480851 | AD4: 3.3293249 | AE4: 3.7193645 | AF4: 4.082415 | AG4: 4.3907605 | AH4: 4.5682277 | AI4: 4.680943 | AJ4: 46.108597 | AK4: 46.728055 | AL4: 47.681474 | AM4: 49.273706 | AN4: 51.042086 | AO4: 52.810401 | AP4: 54.40242 | AQ4: 55.355595 | AR4: 55.974828 | AS4: 2.5504293 | AT4: 2.6857219 | AU4: 2.8882262 | AV4: 3.2130869 | AW4: 3.5575345 | AX4: 3.8876496 | AY4: 4.1744016 | AZ4: 4.3418752 | BA4: 4.4491155 | BB4: 46.019379 | BC4: 46.505489 | BD4: 47.275545 | BE4: 48.624157 | BF4: 50.221433 | BG4: 51.934224 | BH4: 53.585879 | BI4: 54.629164 | BJ4: 55.330318
B5: =C5*30 -> 9 | C5: 0.3 | D5: =VLOOKUP(Table!C5,'Baby Growth Tracker'!$D$14:$E$99,2,FALSE) -> #N/A | E5: =IF('Baby Growth Tracker'!$C$5="Male",Table!AA5,Table!AS5) -> 2.6174422 | F5: =IF('Baby Growth Tracker'!$C$5="Male",Table!AB5,Table!AT5) -> 2.7534924 | G5: =IF('Baby Growth Tracker'!$C$5="Male",Table!AC5,Table!AU5) -> 2.957567 | H5: =IF('Baby Growth Tracker'!$C$5="Male",Table!AD5,Table!AV5) -> 3.2859387 | I5: =IF('Baby Growth Tracker'!$C$5="Male",Table!AE5,Table!AW5) -> 3.6353004 | J5: =IF('Baby Growth Tracker'!$C$5="Male",Table!AF5,Table!AX5) -> 3.9711495 | K5: =IF('Baby Growth Tracker'!$C$5="Male",Table!AG5,Table!AY5) -> 4.2636197 | L5: =IF('Baby Growth Tracker'!$C$5="Male",Table!AH5,Table!AZ5) -> 4.4347274 | M5: =IF('Baby Growth Tracker'!$C$5="Male",Table!AI5,Table!BA5) -> 4.5444034 | N5: =LOOKUP(D5,E5:M5,$E$1:$M$1) -> #N/A | O5: 0.3 | P5: =VLOOKUP(Table!O5,'Baby Growth Tracker'!$D$14:$F$99,3,FALSE) -> #N/A | Q5: =IF('Baby Growth Tracker'!$C$5="Male",Table!AJ5,Table!BB5) -> 46.447217 | R5: =IF('Baby Growth Tracker'!$C$5="Male",Table!AK5,Table!BC5) -> 46.936073 | S5: =IF('Baby Growth Tracker'!$C$5="Male",Table!AL5,Table!BD5) -> 47.709446 | T5: =IF('Baby Growth Tracker'!$C$5="Male",Table!AM5,Table!BE5) -> 49.060827 | U5: =IF('Baby Growth Tracker'!$C$5="Male",Table!AN5,Table!BF5) -> 50.656375 | V5: =IF('Baby Growth Tracker'!$C$5="Male",Table!AO5,Table!BG5) -> 52.361296 | W5: =IF('Baby Growth Tracker'!$C$5="Male",Table!AP5,Table!BH5) -> 53.99949 | X5: =IF('Baby Growth Tracker'!$C$5="Male",Table!AQ5,Table!BI5) -> 55.031315 | Y5: =IF('Baby Growth Tracker'!$C$5="Male",Table!AR5,Table!BJ5) -> 55.723486 | Z5: =LOOKUP(P5,Q5:Y5,$Q$1:$Y$1) -> #N/A | AA5: 2.6219096 | AB5: 2.789555 | AC5: 3.0352267 | AD5: 3.4186818 | AE5: 3.8139451 | AF5: 4.1840842 | AG5: 4.4998941 | AH5: 4.6821952 | AI5: 4.7981703 | AJ5: 46.649009 | AK5: 47.258542 | AL5: 48.19843 | AM5: 49.77279 | AN5: 51.528258 | AO5: 53.290986 | AP5: 54.884269 | AQ5: 55.84107 | AR5: 56.463815 | AS5: 2.6174422 | AT5: 2.7534924 | AU5: 2.957567 | AV5: 3.2859387 | AW5: 3.6353004 | AX5: 3.9711495 | AY5: 4.2636197 | AZ5: 4.4347274 | BA5: 4.5444034 | BB5: 46.447217 | BC5: 46.936073 | BD5: 47.709446 | BE5: 49.060827 | BF5: 50.656375 | BG5: 52.361296 | BH5: 53.99949 | BI5: 55.031315 | BJ5: 55.723486
B6: =C6*30 -> 12 | C6: 0.4 | D6: =VLOOKUP(Table!C6,'Baby Growth Tracker'!$D$14:$E$99,2,FALSE) -> 3.6 | E6: =IF('Baby Growth Tracker'!$C$5="Male",Table!AA6,Table!AS6) -> 2.6837613 | F6: =IF('Baby Growth Tracker'!$C$5="Male",Table!AB6,Table!AT6) -> 2.8205723 | G6: =IF('Baby Growth Tracker'!$C$5="Male",Table!AC6,Table!AU6) -> 3.0262021 | H6: =IF('Baby Growth Tracker'!$C$5="Male",Table!AD6,Table!AV6) -> 3.3580261 | I6: =IF('Baby Growth Tracker'!$C$5="Male",Table!AE6,Table!AW6) -> 3.7122132 | J6: =IF('Baby Growth Tracker'!$C$5="Male",Table!AF6,Table!AX6) -> 4.0537028 | K6: =IF('Baby Growth Tracker'!$C$5="Male",Table!AG6,Table!AY6) -> 4.3518116 | L6: =IF('Baby Growth Tracker'!$C$5="Male",Table!AH6,Table!AZ6) -> 4.5265106 | M6: =IF('Baby Growth Tracker'!$C$5="Male",Table!AI6,Table!BA6) -> 4.6385967 | N6: =LOOKUP(D6,E6:M6,$E$1:$M$1) -> 25th | O6: 0.4 | P6: =VLOOKUP(Table!O6,'Baby Growth Tracker'!$D$14:$F$99,3,FALSE) -> 52 | Q6: =IF('Baby Growth Tracker'!$C$5="Male",Table!AJ6,Table!BB6) -> 46.856057 | R6: =IF('Baby Growth Tracker'!$C$5="Male",Table!AK6,Table!BC6) -> 47.347678 | S6: =IF('Baby Growth Tracker'!$C$5="Male",Table!AL6,Table!BD6) -> 48.124443 | T6: =IF('Baby Growth Tracker'!$C$5="Male",Table!AM6,Table!BE6) -> 49.478861 | U6: =IF('Baby Growth Tracker'!$C$5="Male",Table!AN6,Table!BF6) -> 51.073271 | V6: =IF('Baby Growth Tracker'!$C$5="Male",Table!AO6,Table!BG6) -> 52.771341 | W6: =IF('Baby Growth Tracker'!$C$5="Male",Table!AP6,Table!BH6) -> 54.397489 | X6: =IF('Baby Growth Tracker'!$C$5="Male",Table!AQ6,Table!BI6) -> 55.418993 | Y6: =IF('Baby Growth Tracker'!$C$5="Male",Table!AR6,Table!BJ6) -> 56.10306 | Z6: =LOOKUP(P6,Q6:Y6,$Q$1:$Y$1) -> 50th | AA6: 2.7107291 | AB6: 2.8771053 | AC6: 3.1223684 | AD6: 3.5080387 | AE6: 3.9085258 | AF6: 4.2857534 | AG6: 4.6090277 | AH6: 4.7961626 | AI6: 4.9153976 | AJ6: 47.161237 | AK6: 47.761916 | AL6: 48.689726 | AM6: 50.248131 | AN6: 51.992125 | AO6: 53.750049 | AP6: 55.344804 | AQ6: 56.305156 | AR6: 56.931292 | AS6: 2.6837613 | AT6: 2.8205723 | AU6: 3.0262021 | AV6: 3.3580261 | AW6: 3.7122132 | AX6: 4.0537028 | AY6: 4.3518116 | AZ6: 4.5265106 | BA6: 4.6385967 | BB6: 46.856057 | BC6: 47.347678 | BD6: 48.124443 | BE6: 49.478861 | BF6: 51.073271 | BG6: 52.771341 | BH6: 54.397489 | BI6: 55.418993 | BJ6: 56.10306
A7: Male | B7: =C7*30 -> 15 | C7: 0.5 | D7: =VLOOKUP(Table!C7,'Baby Growth Tracker'!$D$14:$E$99,2,FALSE) -> #N/A | E7: =IF('Baby Growth Tracker'!$C$5="Male",Table!AA7,Table!AS7) -> 2.756917 | F7: =IF('Baby Growth Tracker'!$C$5="Male",Table!AB7,Table!AT7) -> 2.8944423 | G7: =IF('Baby Growth Tracker'!$C$5="Male",Table!AC7,Table!AU7) -> 3.1017671 | H7: =IF('Baby Growth Tracker'!$C$5="Male",Table!AD7,Table!AV7) -> 3.4376283 | I7: =IF('Baby Growth Tracker'!$C$5="Male",Table!AE7,Table!AW7) -> 3.7975285 | J7: =IF('Baby Growth Tracker'!$C$5="Male",Table!AF7,Table!AX7) -> 4.1455937 | K7: =IF('Baby Growth Tracker'!$C$5="Male",Table!AG7,Table!AY7) -> 4.4501256 | L7: =IF('Baby Growth Tracker'!$C$5="Male",Table!AH7,Table!AZ7) -> 4.6288364 | M7: =IF('Baby Growth Tracker'!$C$5="Male",Table!AI7,Table!BA7) -> 4.7435818 | N7: =LOOKUP(D7,E7:M7,$E$1:$M$1) -> #N/A | O7: 0.5 | P7: =VLOOKUP(Table!O7,'Baby Growth Tracker'!$D$14:$F$99,3,FALSE) -> #N/A | Q7: =IF('Baby Growth Tracker'!$C$5="Male",Table!AJ7,Table!BB7) -> 47.469158 | R7: =IF('Baby Growth Tracker'!$C$5="Male",Table!AK7,Table!BC7) -> 47.96324 | S7: =IF('Baby Growth Tracker'!$C$5="Male",Table!AL7,Table!BD7) -> 48.742482 | T7: =IF('Baby Growth Tracker'!$C$5="Male",Table!AM7,Table!BE7) -> 50.096855 | U7: =IF('Baby Growth Tracker'!$C$5="Male",Table!AN7,Table!BF7) -> 51.683581 | V7: =IF('Baby Growth Tracker'!$C$5="Male",Table!AO7,Table!BG7) -> 53.363623 | W7: =IF('Baby Growth Tracker'!$C$5="Male",Table!AP7,Table!BH7) -> 54.962223 | X7: =IF('Baby Growth Tracker'!$C$5="Male",Table!AQ7,Table!BI7) -> 55.960942 | Y7: =IF('Baby Growth Tracker'!$C$5="Male",Table!AR7,Table!BJ7) -> 56.627281 | Z7: =LOOKUP(P7,Q7:Y7,$Q$1:$Y$1) -> #N/A | AA7: 2.7995486 | AB7: 2.9646557 | AC7: 3.20951 | AD7: 3.5973956 | AE7: 4.0031064 | AF7: 4.3874226 | AG7: 4.7181613 | AH7: 4.9101301 | AI7: 5.032625 | AJ7: 47.978124 | AK7: 48.558092 | AL7: 49.457804 | AM7: 50.979189 | AN7: 52.695975 | AO7: 54.440543 | AP7: 56.034441 | AQ7: 56.999077 | AR7: 57.629843 | AS7: 2.756917 | AT7: 2.8944423 | AU7: 3.1017671 | AV7: 3.4376283 | AW7: 3.7975285 | AX7: 4.1455937 | AY7: 4.4501256 | AZ7: 4.6288364 | BA7: 4.7435818 | BB7: 47.469158 | BC7: 47.96324 | BD7: 48.742482 | BE7: 50.096855 | BF7: 51.683581 | BG7: 53.363623 | BH7: 54.962223 | BI7: 55.960942 | BJ7: 56.627281
B8: =C8*30 -> 18 | C8: 0.6 | D8: =VLOOKUP(Table!C8,'Baby Growth Tracker'!$D$14:$E$99,2,FALSE) -> #N/A | E8: =IF('Baby Growth Tracker'!$C$5="Male",Table!AA8,Table!AS8) -> 2.8214546 | F8: =IF('Baby Growth Tracker'!$C$5="Male",Table!AB8,Table!AT8) -> 2.9597591 | G8: =IF('Baby Growth Tracker'!$C$5="Male",Table!AC8,Table!AU8) -> 3.1686061 | H8: =IF('Baby Growth Tracker'!$C$5="Male",Table!AD8,Table!AV8) -> 3.5077648 | I8: =IF('Baby Growth Tracker'!$C$5="Male",Table!AE8,Table!AW8) -> 3.8722533 | J8: =IF('Baby Growth Tracker'!$C$5="Male",Table!AF8,Table!AX8) -> 4.2257109 | K8: =IF('Baby Growth Tracker'!$C$5="Male",Table!AG8,Table!AY8) -> 4.5356763 | L8: =IF('Baby Growth Tracker'!$C$5="Male",Table!AH8,Table!AZ8) -> 4.7178697 | M8: =IF('Baby Growth Tracker'!$C$5="Male",Table!AI8,Table!BA8) -> 4.8349615 | N8: =LOOKUP(D8,E8:M8,$E$1:$M$1) -> #N/A | O8: 0.6 | P8: =VLOOKUP(Table!O8,'Baby Growth Tracker'!$D$14:$F$99,3,FALSE) -> #N/A | Q8: =IF('Baby Growth Tracker'!$C$5="Male",Table!AJ8,Table!BB8) -> 47.817943 | R8: =IF('Baby Growth Tracker'!$C$5="Male",Table!AK8,Table!BC8) -> 48.314911 | S8: =IF('Baby Growth Tracker'!$C$5="Male",Table!AL8,Table!BD8) -> 49.09786 | T8: =IF('Baby Growth Tracker'!$C$5="Male",Table!AM8,Table!BE8) -> 50.456248 | U8: =IF('Baby Growth Tracker'!$C$5="Male",Table!AN8,Table!BF8) -> 52.043835 | V8: =IF('Baby Growth Tracker'!$C$5="Male",Table!AO8,Table!BG8) -> 53.720397 | W8: =IF('Baby Growth Tracker'!$C$5="Male",Table!AP8,Table!BH8) -> 55.311613 | X8: =IF('Baby Growth Tracker'!$C$5="Male",Table!AQ8,Table!BI8) -> 56.303759 | Y8: =IF('Baby Growth Tracker'!$C$5="Male",Table!AR8,Table!BJ8) -> 56.96489 | Z8: =LOOKUP(P8,Q8:Y8,$Q$1:$Y$1) -> #N/A | AA8: 2.8810626 | AB8: 3.045675 | AC8: 3.2906152 | AD8: 3.6805433 | AE8: 4.0907483 | AF8: 4.4814131 | AG8: 4.8191604 | AH8: 5.0158273 | AI8: 5.1415554 | AJ8: 48.400171 | AK8: 48.974894 | AL8: 49.867388 | AM8: 51.37918 | AN8: 53.089221 | AO8: 54.831548 | AP8: 56.427637 | AQ8: 57.395635 | AR8: 58.02945 | AS8: 2.8214546 | AT8: 2.9597591 | AU8: 3.1686061 | AV8: 3.5077648 | AW8: 3.8722533 | AX8: 4.2257109 | AY8: 4.5356763 | AZ8: 4.7178697 | BA8: 4.8349615 | BB8: 47.817943 | BC8: 48.314911 | BD8: 49.09786 | BE8: 50.456248 | BF8: 52.043835 | BG8: 53.720397 | BH8: 55.311613 | BI8: 56.303759 | BJ8: 56.96489
B9: =C9*30 -> 21 | C9: 0.7 | D9: =VLOOKUP(Table!C9,'Baby Growth Tracker'!$D$14:$E$99,2,FALSE) -> #N/A | E9: =IF('Baby Growth Tracker'!$C$5="Male",Table!AA9,Table!AS9) -> 2.8854936 | F9: =IF('Baby Growth Tracker'!$C$5="Male",Table!AB9,Table!AT9) -> 3.0245745 | G9: =IF('Baby Growth Tracker'!$C$5="Male",Table!AC9,Table!AU9) -> 3.2349301 | H9: =IF('Baby Growth Tracker'!$C$5="Male",Table!AD9,Table!AV9) -> 3.577346 | I9: =IF('Baby Growth Tracker'!$C$5="Male",Table!AE9,Table!AW9) -> 3.9463637 | J9: =IF('Baby Growth Tracker'!$C$5="Male",Table!AF9,Table!AX9) -> 4.3051495 | K9: =IF('Baby Growth Tracker'!$C$5="Male",Table!AG9,Table!AY9) -> 4.620492 | L9: =IF('Baby Growth Tracker'!$C$5="Male",Table!AH9,Table!AZ9) -> 4.8061363 | M9: =IF('Baby Growth Tracker'!$C$5="Male",Table!AI9,Table!BA9) -> 4.9255552 | N9: =LOOKUP(D9,E9:M9,$E$1:$M$1) -> #N/A | O9: 0.7 | P9: =VLOOKUP(Table!O9,'Baby Growth Tracker'!$D$14:$F$99,3,FALSE) -> #N/A | Q9: =IF('Baby Growth Tracker'!$C$5="Male",Table!AJ9,Table!BB9) -> 48.158571 | R9: =IF('Baby Growth Tracker'!$C$5="Male",Table!AK9,Table!BC9) -> 48.658407 | S9: =IF('Baby Growth Tracker'!$C$5="Male",Table!AL9,Table!BD9) -> 49.445053 | T9: =IF('Baby Growth Tracker'!$C$5="Male",Table!AM9,Table!BE9) -> 50.807506 | U9: =IF('Baby Growth Tracker'!$C$5="Male",Table!AN9,Table!BF9) -> 52.396142 | V9: =IF('Baby Growth Tracker'!$C$5="Male",Table!AO9,Table!BG9) -> 54.069584 | W9: =IF('Baby Growth Tracker'!$C$5="Male",Table!AP9,Table!BH9) -> 55.653933 | X9: =IF('Baby Growth Tracker'!$C$5="Male",Table!AQ9,Table!BI9) -> 56.639919 | Y9: =IF('Baby Growth Tracker'!$C$5="Male",Table!AR9,Table!BJ9) -> 57.29616 | Z9: =LOOKUP(P9,Q9:Y9,$Q$1:$Y$1) -> #N/A | AA9: 2.9625765 | AB9: 3.1266943 | AC9: 3.3717203 | AD9: 3.763691 | AE9: 4.1783902 | AF9: 4.5754036 | AG9: 4.9201596 | AH9: 5.1215244 | AI9: 5.2504858 | AJ9: 48.810659 | AK9: 49.380488 | AL9: 50.266255 | AM9: 51.769126 | AN9: 53.472947 | AO9: 55.213326 | AP9: 56.811666 | AQ9: 57.782969 | AR9: 58.419762 | AS9: 2.8854936 | AT9: 3.0245745 | AU9: 3.2349301 | AV9: 3.577346 | AW9: 3.9463637 | AX9: 4.3051495 | AY9: 4.620492 | AZ9: 4.8061363 | BA9: 4.9255552 | BB9: 48.158571 | BC9: 48.658407 | BD9: 49.445053 | BE9: 50.807506 | BF9: 52.396142 | BG9: 54.069584 | BH9: 55.653933 | BI9: 56.639919 | BJ9: 57.29616
B10: =C10*30 -> 24 | C10: 0.8 | D10: =VLOOKUP(Table!C10,'Baby Growth Tracker'!$D$14:$E$99,2,FALSE) -> #N/A | E10: =IF('Baby Growth Tracker'!$C$5="Male",Table!AA10,Table!AS10) -> 2.9490379 | F10: =IF('Baby Growth Tracker'!$C$5="Male",Table!AB10,Table!AT10) -> 3.0888921 | G10: =IF('Baby Growth Tracker'!$C$5="Male",Table!AC10,Table!AU10) -> 3.3007425 | H10: =IF('Baby Growth Tracker'!$C$5="Male",Table!AD10,Table!AV10) -> 3.6463758 | I10: =IF('Baby Growth Tracker'!$C$5="Male",Table!AE10,Table!AW10) -> 4.0198647 | J10: =IF('Baby Growth Tracker'!$C$5="Male",Table!AF10,Table!AX10) -> 4.3839156 | K10: =IF('Baby Growth Tracker'!$C$5="Male",Table!AG10,Table!AY10) -> 4.7045793 | L10: =IF('Baby Growth Tracker'!$C$5="Male",Table!AH10,Table!AZ10) -> 4.8936432 | M10: =IF('Baby Growth Tracker'!$C$5="Male",Table!AI10,Table!BA10) -> 5.0153699 | N10: =LOOKUP(D10,E10:M10,$E$1:$M$1) -> #N/A | O10: 0.8 | P10: =VLOOKUP(Table!O10,'Baby Growth Tracker'!$D$14:$F$99,3,FALSE) -> #N/A | Q10: =IF('Baby Growth Tracker'!$C$5="Male",Table!AJ10,Table!BB10) -> 48.491418 | R10: =IF('Baby Growth Tracker'!$C$5="Male",Table!AK10,Table!BC10) -> 48.9941 | S10: =IF('Baby Growth Tracker'!$C$5="Male",Table!AL10,Table!BD10) -> 49.78443 | T10: =IF('Baby Growth Tracker'!$C$5="Male",Table!AM10,Table!BE10) -> 51.150995 | U10: =IF('Baby Growth Tracker'!$C$5="Male",Table!AN10,Table!BF10) -> 52.740852 | V10: =IF('Baby Growth Tracker'!$C$5="Male",Table!AO10,Table!BG10) -> 54.411517 | W10: =IF('Baby Growth Tracker'!$C$5="Male",Table!AP10,Table!BH10) -> 55.989487 | X10: =IF('Baby Growth Tracker'!$C$5="Male",Table!AQ10,Table!BI10) -> 56.969703 | Y10: =IF('Baby Growth Tracker'!$C$5="Male",Table!AR10,Table!BJ10) -> 57.621352 | Z10: =LOOKUP(P10,Q10:Y10,$Q$1:$Y$1) -> #N/A | AA10: 3.0440905 | AB10: 3.2077136 | AC10: 3.4528254 | AD10: 3.8468388 | AE10: 4.266032 | AF10: 4.6693941 | AG10: 5.0211587 | AH10: 5.2272216 | AI10: 5.3594162 | AJ10: 49.210148 | AK10: 49.775414 | AL10: 50.654912 | AM10: 52.149494 | AN10: 53.847593 | AO10: 55.586299 | AP10: 57.186945 | AQ10: 58.1615 | AR10: 58.8012 | AS10: 2.9490379 | AT10: 3.0888921 | AU10: 3.3007425 | AV10: 3.6463758 | AW10: 4.0198647 | AX10: 4.3839156 | AY10: 4.7045793 | AZ10: 4.8936432 | BA10: 5.0153699 | BB10: 48.491418 | BC10: 48.9941 | BD10: 49.78443 | BE10: 51.150995 | BF10: 52.740852 | BG10: 54.411517 | BH10: 55.989487 | BI10: 56.969703 | BJ10: 57.621352
B11: =C11*30 -> 27 | C11: 0.9 | D11: =VLOOKUP(Table!C11,'Baby Growth Tracker'!$D$14:$E$99,2,FALSE) -> #N/A | E11: =IF('Baby Growth Tracker'!$C$5="Male",Table!AA11,Table!AS11) -> 3.0120913 | F11: =IF('Baby Growth Tracker'!$C$5="Male",Table!AB11,Table!AT11) -> 3.1527155 | G11: =IF('Baby Growth Tracker'!$C$5="Male",Table!AC11,Table!AU11) -> 3.3660469 | H11: =IF('Baby Growth Tracker'!$C$5="Male",Table!AD11,Table!AV11) -> 3.7148583 | I11: =IF('Baby Growth Tracker'!$C$5="Male",Table!AE11,Table!AW11) -> 4.0927613 | J11: =IF('Baby Growth Tracker'!$C$5="Male",Table!AF11,Table!AX11) -> 4.462015 | K11: =IF('Baby Growth Tracker'!$C$5="Male",Table!AG11,Table!AY11) -> 4.7879449 | L11: =IF('Baby Growth Tracker'!$C$5="Male",Table!AH11,Table!AZ11) -> 4.9803971 | M11: =IF('Baby Growth Tracker'!$C$5="Male",Table!AI11,Table!BA11) -> 5.1044125 | N11: =LOOKUP(D11,E11:M11,$E$1:$M$1) -> #N/A | O11: 0.9 | P11: =VLOOKUP(Table!O11,'Baby Growth Tracker'!$D$14:$F$99,3,FALSE) -> #N/A | Q11: =IF('Baby Growth Tracker'!$C$5="Male",Table!AJ11,Table!BB11) -> 48.816833 | R11: =IF('Baby Growth Tracker'!$C$5="Male",Table!AK11,Table!BC11) -> 49.32234 | S11: =IF('Baby Growth Tracker'!$C$5="Male",Table!AL11,Table!BD11) -> 50.116342 | T11: =IF('Baby Growth Tracker'!$C$5="Male",Table!AM11,Table!BE11) -> 51.487058 | U11: =IF('Baby Growth Tracker'!$C$5="Male",Table!AN11,Table!BF11) -> 53.078301 | V11: =IF('Baby Growth Tracker'!$C$5="Male",Table!AO11,Table!BG11) -> 54.74651 | W11: =IF('Baby Growth Tracker'!$C$5="Male",Table!AP11,Table!BH11) -> 56.318562 | X11: =IF('Baby Growth Tracker'!$C$5="Male",Table!AQ11,Table!BI11) -> 57.293377 | Y11: =IF('Baby Growth Tracker'!$C$5="Male",Table!AR11,Table!BJ11) -> 57.940714 | Z11: =LOOKUP(P11,Q11:Y11,$Q$1:$Y$1) -> #N/A | AA11: 3.1256044 | AB11: 3.2887329 | AC11: 3.5339306 | AD11: 3.9299865 | AE11: 4.3536739 | AF11: 4.7633846 | AG11: 5.1221579 | AH11: 5.3329187 | AI11: 5.4683466 | AJ11: 49.599162 | AK11: 50.160175 | AL11: 51.033838 | AM11: 52.520727 | AN11: 54.213573 | AO11: 55.950865 | AP11: 57.553869 | AQ11: 58.531623 | AR11: 59.174163 | AS11: 3.0120913 | AT11: 3.1527155 | AU11: 3.3660469 | AV11: 3.7148583 | AW11: 4.0927613 | AX11: 4.462015 | AY11: 4.7879449 | AZ11: 4.9803971 | BA11: 5.1044125 | BB11: 48.816833 | BC11: 49.32234 | BD11: 50.116342 | BE11: 51.487058 | BF11: 53.078301 | BG11: 54.74651 | BH11: 56.318562 | BI11: 57.293377 | BJ11: 57.940714
A12: Male | B12: =C12*30 -> 30 | C12: 1 | D12: =VLOOKUP(Table!C12,'Baby Growth Tracker'!$D$14:$E$99,2,FALSE) -> 4.4 | E12: =IF('Baby Growth Tracker'!$C$5="Male",Table!AA12,Table!AS12) -> 3.0746578 | F12: =IF('Baby Growth Tracker'!$C$5="Male",Table!AB12,Table!AT12) -> 3.2160482 | G12: =IF('Baby Growth Tracker'!$C$5="Male",Table!AC12,Table!AU12) -> 3.4308467 | H12: =IF('Baby Growth Tracker'!$C$5="Male",Table!AD12,Table!AV12) -> 3.7827974 | I12: =IF('Baby Growth Tracker'!$C$5="Male",Table!AE12,Table!AW12) -> 4.1650584 | J12: =IF('Baby Growth Tracker'!$C$5="Male",Table!AF12,Table!AX12) -> 4.5394536 | K12: =IF('Baby Growth Tracker'!$C$5="Male",Table!AG12,Table!AY12) -> 4.8705951 | L12: =IF('Baby Growth Tracker'!$C$5="Male",Table!AH12,Table!AZ12) -> 5.0664049 | M12: =IF('Baby Growth Tracker'!$C$5="Male",Table!AI12,Table!BA12) -> 5.19269 | N12: =LOOKUP(D12,E12:M12,$E$1:$M$1) -> 50th | O12: 1 | P12: =VLOOKUP(Table!O12,'Baby Growth Tracker'!$D$14:$F$99,3,FALSE) -> 55 | Q12: =IF('Baby Growth Tracker'!$C$5="Male",Table!AJ12,Table!BB12) -> 49.13515 | R12: =IF('Baby Growth Tracker'!$C$5="Male",Table!AK12,Table!BC12) -> 49.64346 | S12: =IF('Baby Growth Tracker'!$C$5="Male",Table!AL12,Table!BD12) -> 50.441118 | T12: =IF('Baby Growth Tracker'!$C$5="Male",Table!AM12,Table!BE12) -> 51.816022 | U12: =IF('Baby Growth Tracker'!$C$5="Male",Table!AN12,Table!BF12) -> 53.408801 | V12: =IF('Baby Growth Tracker'!$C$5="Male",Table!AO12,Table!BG12) -> 55.074859 | W12: =IF('Baby Growth Tracker'!$C$5="Male",Table!AP12,Table!BH12) -> 56.641428 | X12: =IF('Baby Growth Tracker'!$C$5="Male",Table!AQ12,Table!BI12) -> 57.611189 | Y12: =IF('Baby Growth Tracker'!$C$5="Male",Table!AR12,Table!BJ12) -> 58.25448 | Z12: =LOOKUP(P12,Q12:Y12,$Q$1:$Y$1) -> 50th | AA12: 3.2071184 | AB12: 3.3697523 | AC12: 3.6150357 | AD12: 4.0131343 | AE12: 4.4413158 | AF12: 4.8573751 | AG12: 5.223157 | AH12: 5.4386159 | AI12: 5.577277 | AJ12: 49.978195 | AK12: 50.535248 | AL12: 51.403483 | AM12: 52.883242 | AN12: 54.571278 | AO12: 56.307402 | AP12: 57.91281 | AQ12: 58.893713 | AR12: 59.539027 | AS12: 3.0746578 | AT12: 3.2160482 | AU12: 3.4308467 | AV12: 3.7827974 | AW12: 4.1650584 | AX12: 4.5394536 | AY12: 4.8705951 | AZ12: 5.0664049 | BA12: 5.19269 | BB12: 49.13515 | BC12: 49.64346 | BD12: 50.441118 | BE12: 51.816022 | BF12: 53.408801 | BG12: 55.074859 | BH12: 56.641428 | BI12: 57.611189 | BJ12: 58.25448
B13: =C13*30 -> 33 | C13: 1.1 | D13: =VLOOKUP(Table!C13,'Baby Growth Tracker'!$D$14:$E$99,2,FALSE) -> #N/A | E13: =IF('Baby Growth Tracker'!$C$5="Male",Table!AA13,Table!AS13) -> 3.1367411 | F13: =IF('Baby Growth Tracker'!$C$5="Male",Table!AB13,Table!AT13) -> 3.2788938 | G13: =IF('Baby Growth Tracker'!$C$5="Male",Table!AC13,Table!AU13) -> 3.4951455 | H13: =IF('Baby Growth Tracker'!$C$5="Male",Table!AD13,Table!AV13) -> 3.8501972 | I13: =IF('Baby Growth Tracker'!$C$5="Male",Table!AE13,Table!AW13) -> 4.2367609 | J13: =IF('Baby Growth Tracker'!$C$5="Male",Table!AF13,Table!AX13) -> 4.6162372 | K13: =IF('Baby Growth Tracker'!$C$5="Male",Table!AG13,Table!AY13) -> 4.9525366 | L13: =IF('Baby Growth Tracker'!$C$5="Male",Table!AH13,Table!AZ13) -> 5.1516733 | M13: =IF('Baby Growth Tracker'!$C$5="Male",Table!AI13,Table!BA13) -> 5.2802092 | N13: =LOOKUP(D13,E13:M13,$E$1:$M$1) -> #N/A | O13: 1.1 | P13: =VLOOKUP(Table!O13,'Baby Growth Tracker'!$D$14:$F$99,3,FALSE) -> #N/A | Q13: =IF('Baby Growth Tracker'!$C$5="Male",Table!AJ13,Table!BB13) -> 49.446681 | R13: =IF('Baby Growth Tracker'!$C$5="Male",Table!AK13,Table!BC13) -> 49.957771 | S13: =IF('Baby Growth Tracker'!$C$5="Male",Table!AL13,Table!BD13) -> 50.759069 | T13: =IF('Baby Growth Tracker'!$C$5="Male",Table!AM13,Table!BE13) -> 52.138191 | U13: =IF('Baby Growth Tracker'!$C$5="Male",Table!AN13,Table!BF13) -> 53.732651 | V13: =IF('Baby Growth Tracker'!$C$5="Male",Table!AO13,Table!BG13) -> 55.396843 | W13: =IF('Baby Growth Tracker'!$C$5="Male",Table!AP13,Table!BH13) -> 56.95834 | X13: =IF('Baby Growth Tracker'!$C$5="Male",Table!AQ13,Table!BI13) -> 57.923377 | Y13: =IF('Baby Growth Tracker'!$C$5="Male",Table!AR13,Table!BJ13) -> 58.562874 | Z13: =LOOKUP(P13,Q13:Y13,$Q$1:$Y$1) -> #N/A | AA13: 3.2886323 | AB13: 3.4507716 | AC13: 3.6961409 | AD13: 4.096282 | AE13: 4.5289576 | AF13: 4.9513656 | AG13: 5.3241562 | AH13: 5.544313 | AI13: 5.6862075 | AJ13: 50.347712 | AK13: 50.901081 | AL13: 51.764272 | AM13: 53.23743 | AN13: 54.921074 | AO13: 56.656262 | AP13: 58.264119 | AQ13: 59.24812 | AR13: 59.896145 | AS13: 3.1367411 | AT13: 3.2788938 | AU13: 3.4951455 | AV13: 3.8501972 | AW13: 4.2367609 | AX13: 4.6162372 | AY13: 4.9525366 | AZ13: 5.1516733 | BA13: 5.2802092 | BB13: 49.446681 | BC13: 49.957771 | BD13: 50.759069 | BE13: 52.138191 | BF13: 53.732651 | BG13: 55.396843 | BH13: 56.95834 | BI13: 57.923377 | BJ13: 58.562874
B14: =C14*30 -> 36 | C14: 1.2 | D14: =VLOOKUP(Table!C14,'Baby Growth Tracker'!$D$14:$E$99,2,FALSE) -> #N/A | E14: =IF('Baby Growth Tracker'!$C$5="Male",Table!AA14,Table!AS14) -> 3.1983451 | F14: =IF('Baby Growth Tracker'!$C$5="Male",Table!AB14,Table!AT14) -> 3.3412558 | G14: =IF('Baby Growth Tracker'!$C$5="Male",Table!AC14,Table!AU14) -> 3.5589467 | H14: =IF('Baby Growth Tracker'!$C$5="Male",Table!AD14,Table!AV14) -> 3.9170617 | I14: =IF('Baby Growth Tracker'!$C$5="Male",Table!AE14,Table!AW14) -> 4.3078738 | J14: =IF('Baby Growth Tracker'!$C$5="Male",Table!AF14,Table!AX14) -> 4.6923717 | K14: =IF('Baby Growth Tracker'!$C$5="Male",Table!AG14,Table!AY14) -> 5.0337756 | L14: =IF('Baby Growth Tracker'!$C$5="Male",Table!AH14,Table!AZ14) -> 5.236209 | M14: =IF('Baby Growth Tracker'!$C$5="Male",Table!AI14,Table!BA14) -> 5.3669769 | N14: =LOOKUP(D14,E14:M14,$E$1:$M$1) -> #N/A | O14: 1.2 | P14: =VLOOKUP(Table!O14,'Baby Growth Tracker'!$D$14:$F$99,3,FALSE) -> #N/A | Q14: =IF('Baby Growth Tracker'!$C$5="Male",Table!AJ14,Table!BB14) -> 49.75172 | R14: =IF('Baby Growth Tracker'!$C$5="Male",Table!AK14,Table!BC14) -> 50.265568 | S14: =IF('Baby Growth Tracker'!$C$5="Male",Table!AL14,Table!BD14) -> 51.070488 | T14: =IF('Baby Growth Tracker'!$C$5="Male",Table!AM14,Table!BE14) -> 52.453857 | U14: =IF('Baby Growth Tracker'!$C$5="Male",Table!AN14,Table!BF14) -> 54.050129 | V14: =IF('Baby Growth Tracker'!$C$5="Male",Table!AO14,Table!BG14) -> 55.712727 | W14: =IF('Baby Growth Tracker'!$C$5="Male",Table!AP14,Table!BH14) -> 57.269542 | X14: =IF('Baby Growth Tracker'!$C$5="Male",Table!AQ14,Table!BI14) -> 58.230165 | Y14: =IF('Baby Growth Tracker'!$C$5="Male",Table!AR14,Table!BJ14) -> 58.866105 | Z14: =LOOKUP(P14,Q14:Y14,$Q$1:$Y$1) -> #N/A | AA14: 3.3701462 | AB14: 3.5317909 | AC14: 3.777246 | AD14: 4.1794297 | AE14: 4.6165995 | AF14: 5.0453561 | AG14: 5.4251553 | AH14: 5.6500102 | AI14: 5.7951379 | AJ14: 50.708152 | AK14: 51.258095 | AL14: 52.116604 | AM14: 53.583661 | AN14: 55.26331 | AO14: 56.99778 | AP14: 58.608127 | AQ14: 59.595177 | AR14: 60.245853 | AS14: 3.1983451 | AT14: 3.3412558 | AU14: 3.5589467 | AV14: 3.9170617 | AW14: 4.3078738 | AX14: 4.6923717 | AY14: 5.0337756 | AZ14: 5.236209 | BA14: 5.3669769 | BB14: 49.75172 | BC14: 50.265568 | BD14: 51.070488 | BE14: 52.453857 | BF14: 54.050129 | BG14: 55.712727 | BH14: 57.269542 | BI14: 58.230165 | BJ14: 58.866105
B15: =C15*30 -> 39 | C15: 1.3 | D15: =VLOOKUP(Table!C15,'Baby Growth Tracker'!$D$14:$E$99,2,FALSE) -> #N/A | E15: =IF('Baby Growth Tracker'!$C$5="Male",Table!AA15,Table!AS15) -> 3.2594733 | F15: =IF('Baby Growth Tracker'!$C$5="Male",Table!AB15,Table!AT15) -> 3.4031377 | G15: =IF('Baby Growth Tracker'!$C$5="Male",Table!AC15,Table!AU15) -> 3.6222539 | H15: =IF('Baby Growth Tracker'!$C$5="Male",Table!AD15,Table!AV15) -> 3.9833949 | I15: =IF('Baby Growth Tracker'!$C$5="Male",Table!AE15,Table!AW15) -> 4.3784018 | J15: =IF('Baby Growth Tracker'!$C$5="Male",Table!AF15,Table!AX15) -> 4.7678626 | K15: =IF('Baby Growth Tracker'!$C$5="Male",Table!AG15,Table!AY15) -> 5.1143186 | L15: =IF('Baby Growth Tracker'!$C$5="Male",Table!AH15,Table!AZ15) -> 5.3200186 | M15: =IF('Baby Growth Tracker'!$C$5="Male",Table!AI15,Table!BA15) -> 5.453 | N15: =LOOKUP(D15,E15:M15,$E$1:$M$1) -> #N/A | O15: 1.3 | P15: =VLOOKUP(Table!O15,'Baby Growth Tracker'!$D$14:$F$99,3,FALSE) -> #N/A | Q15: =IF('Baby Growth Tracker'!$C$5="Male",Table!AJ15,Table!BB15) -> 50.050547 | R15: =IF('Baby Growth Tracker'!$C$5="Male",Table!AK15,Table!BC15) -> 50.56713 | S15: =IF('Baby Growth Tracker'!$C$5="Male",Table!AL15,Table!BD15) -> 51.375653 | T15: =IF('Baby Growth Tracker'!$C$5="Male",Table!AM15,Table!BE15) -> 52.763292 | U15: =IF('Baby Growth Tracker'!$C$5="Male",Table!AN15,Table!BF15) -> 54.361502 | V15: =IF('Baby Growth Tracker'!$C$5="Male",Table!AO15,Table!BG15) -> 56.022761 | W15: =IF('Baby Growth Tracker'!$C$5="Male",Table!AP15,Table!BH15) -> 57.575262 | X15: =IF('Baby Growth Tracker'!$C$5="Male",Table!AQ15,Table!BI15) -> 58.531765 | Y15: =IF('Baby Growth Tracker'!$C$5="Male",Table!AR15,Table!BJ15) -> 59.164372 | Z15: =LOOKUP(P15,Q15:Y15,$Q$1:$Y$1) -> #N/A | AA15: 3.4516602 | AB15: 3.6128102 | AC15: 3.8583512 | AD15: 4.2625775 | AE15: 4.7042414 | AF15: 5.1393466 | AG15: 5.5261545 | AH15: 5.7557073 | AI15: 5.9040683 | AJ15: 51.059927 | AK15: 51.606688 | AL15: 52.460857 | AM15: 53.922285 | AN15: 55.598312 | AO15: 57.332271 | AP15: 58.945145 | AQ15: 59.935197 | AR15: 60.588465 | AS15: 3.2594733 | AT15: 3.4031377 | AU15: 3.6222539 | AV15: 3.9833949 | AW15: 4.3784018 | AX15: 4.7678626 | AY15: 5.1143186 | AZ15: 5.3200186 | BA15: 5.453 | BB15: 50.050547 | BC15: 50.56713 | BD15: 51.375653 | BE15: 52.763292 | BF15: 54.361502 | BG15: 56.022761 | BH15: 57.575262 | BI15: 58.531765 | BJ15: 59.164372
B16: =C16*30 -> 42 | C16: 1.4 | D16: =VLOOKUP(Table!C16,'Baby Growth Tracker'!$D$14:$E$99,2,FALSE) -> #N/A | E16: =IF('Baby Growth Tracker'!$C$5="Male",Table!AA16,Table!AS16) -> 3.3201296 | F16: =IF('Baby Growth Tracker'!$C$5="Male",Table!AB16,Table!AT16) -> 3.464543 | G16: =IF('Baby Growth Tracker'!$C$5="Male",Table!AC16,Table!AU16) -> 3.6850704 | H16: =IF('Baby Growth Tracker'!$C$5="Male",Table!AD16,Table!AV16) -> 4.0492006 | I16: =IF('Baby Growth Tracker'!$C$5="Male",Table!AE16,Table!AW16) -> 4.4483499 | J16: =IF('Baby Growth Tracker'!$C$5="Male",Table!AF16,Table!AX16) -> 4.8427158 | K16: =IF('Baby Growth Tracker'!$C$5="Male",Table!AG16,Table!AY16) -> 5.1941719 | L16: =IF('Baby Growth Tracker'!$C$5="Male",Table!AH16,Table!AZ16) -> 5.4031087 | M16: =IF('Baby Growth Tracker'!$C$5="Male",Table!AI16,Table!BA16) -> 5.5382852 | N16: =LOOKUP(D16,E16:M16,$E$1:$M$1) -> #N/A | O16: 1.4 | P16: =VLOOKUP(Table!O16,'Baby Growth Tracker'!$D$14:$F$99,3,FALSE) -> #N/A | Q16: =IF('Baby Growth Tracker'!$C$5="Male",Table!AJ16,Table!BB16) -> 50.343425 | R16: =IF('Baby Growth Tracker'!$C$5="Male",Table!AK16,Table!BC16) -> 50.862719 | S16: =IF('Baby Growth Tracker'!$C$5="Male",Table!AL16,Table!BD16) -> 51.674827 | T16: =IF('Baby Growth Tracker'!$C$5="Male",Table!AM16,Table!BE16) -> 53.066754 | U16: =IF('Baby Growth Tracker'!$C$5="Male",Table!AN16,Table!BF16) -> 54.667019 | V16: =IF('Baby Growth Tracker'!$C$5="Male",Table!AO16,Table!BG16) -> 56.327181 | W16: =IF('Baby Growth Tracker'!$C$5="Male",Table!AP16,Table!BH16) -> 57.875717 | X16: =IF('Baby Growth Tracker'!$C$5="Male",Table!AQ16,Table!BI16) -> 58.828379 | Y16: =IF('Baby Growth Tracker'!$C$5="Male",Table!AR16,Table!BJ16) -> 59.457864 | Z16: =LOOKUP(P16,Q16:Y16,$Q$1:$Y$1) -> #N/A | AA16: 3.5331741 | AB16: 3.6938295 | AC16: 3.9394563 | AD16: 4.3457252 | AE16: 4.7918832 | AF16: 5.2333371 | AG16: 5.6271536 | AH16: 5.8614045 | AI16: 6.0129987 | AJ16: 51.403426 | AK16: 51.947235 | AL16: 52.797385 | AM16: 54.253631 | AN16: 55.926389 | AO16: 57.660035 | AP16: 59.275469 | AQ16: 60.268478 | AR16: 60.92428 | AS16: 3.3201296 | AT16: 3.464543 | AU16: 3.6850704 | AV16: 4.0492006 | AW16: 4.4483499 | AX16: 4.8427158 | AY16: 5.1941719 | AZ16: 5.4031087 | BA16: 5.5382852 | BB16: 50.343425 | BC16: 50.862719 | BD16: 51.674827 | BE16: 53.066754 | BF16: 54.667019 | BG16: 56.327181 | BH16: 57.875717 | BI16: 58.828379 | BJ16: 59.457864
A17: Male | B17: =C17*30 -> 45 | C17: 1.5 | D17: =VLOOKUP(Table!C17,'Baby Growth Tracker'!$D$14:$E$99,2,FALSE) -> #N/A | E17: =IF('Baby Growth Tracker'!$C$5="Male",Table!AA17,Table!AS17) -> 3.4022933 | F17: =IF('Baby Growth Tracker'!$C$5="Male",Table!AB17,Table!AT17) -> 3.5476103 | G17: =IF('Baby Growth Tracker'!$C$5="Male",Table!AC17,Table!AU17) -> 3.7701575 | H17: =IF('Baby Growth Tracker'!$C$5="Male",Table!AD17,Table!AV17) -> 4.1389938 | I17: =IF('Baby Growth Tracker'!$C$5="Male",Table!AE17,Table!AW17) -> 4.5447765 | J17: =IF('Baby Growth Tracker'!$C$5="Male",Table!AF17,Table!AX17) -> 4.9467655 | K17: =IF('Baby Growth Tracker'!$C$5="Male",Table!AG17,Table!AY17) -> 5.3056325 | L17: =IF('Baby Growth Tracker'!$C$5="Male",Table!AH17,Table!AZ17) -> 5.5191693 | M17: =IF('Baby Growth Tracker'!$C$5="Male",Table!AI17,Table!BA17) -> 5.6573791 | N17: =LOOKUP(D17,E17:M17,$E$1:$M$1) -> #N/A | O17: 1.5 | P17: =VLOOKUP(Table!O17,'Baby Growth Tracker'!$D$14:$F$99,3,FALSE) -> #N/A | Q17: =IF('Baby Growth Tracker'!$C$5="Male",Table!AJ17,Table!BB17) -> 50.957006 | R17: =IF('Baby Growth Tracker'!$C$5="Male",Table!AK17,Table!BC17) -> 51.479957 | S17: =IF('Baby Growth Tracker'!$C$5="Male",Table!AL17,Table!BD17) -> 52.296269 | T17: =IF('Baby Growth Tracker'!$C$5="Male",Table!AM17,Table!BE17) -> 53.690781 | U17: =IF('Baby Growth Tracker'!$C$5="Male",Table!AN17,Table!BF17) -> 55.286128 | V17: =IF('Baby Growth Tracker'!$C$5="Male",Table!AO17,Table!BG17) -> 56.931361 | W17: =IF('Baby Growth Tracker'!$C$5="Male",Table!AP17,Table!BH17) -> 58.456124 | X17: =IF('Baby Growth Tracker'!$C$5="Male",Table!AQ17,Table!BI17) -> 59.389107 | Y17: =IF('Baby Growth Tracker'!$C$5="Male",Table!AR17,Table!BJ17) -> 60.003378 | Z17: =LOOKUP(P17,Q17:Y17,$Q$1:$Y$1) -> #N/A | AA17: 3.6146881 | AB17: 3.7748489 | AC17: 4.0205614 | AD17: 4.428873 | AE17: 4.8795251 | AF17: 5.3273276 | AG17: 5.7281528 | AH17: 5.9671016 | AI17: 6.121918 | AJ17: 52.198595 | AK17: 52.726107 | AL17: 53.553647 | AM17: 54.979104 | AN17: 56.628429 | AO17: 58.350594 | AP17: 59.966403 | AQ17: 60.964654 | AR17: 61.625915 | AS17: 3.4022933 | AT17: 3.5476103 | AU17: 3.7701575 | AV17: 4.1389938 | AW17: 4.5447765 | AX17: 4.9467655 | AY17: 5.3056325 | AZ17: 5.5191693 | BA17: 5.6573791 | BB17: 50.957006 | BC17: 51.479957 | BD17: 52.296269 | BE17: 53.690781 | BF17: 55.286128 | BG17: 56.931361 | BH17: 58.456124 | BI17: 59.389107 | BJ17: 60.003378
B18: =C18*30 -> 48 | C18: 1.6 | D18: =VLOOKUP(Table!C18,'Baby Growth Tracker'!$D$14:$E$99,2,FALSE) -> 5 | E18: =IF('Baby Growth Tracker'!$C$5="Male",Table!AA18,Table!AS18) -> 3.4618445 | F18: =IF('Baby Growth Tracker'!$C$5="Male",Table!AB18,Table!AT18) -> 3.6079131 | G18: =IF('Baby Growth Tracker'!$C$5="Male",Table!AC18,Table!AU18) -> 3.8318459 | H18: =IF('Baby Growth Tracker'!$C$5="Male",Table!AD18,Table!AV18) -> 4.2035764 | I18: =IF('Baby Growth Tracker'!$C$5="Male",Table!AE18,Table!AW18) -> 4.6133573 | J18: =IF('Baby Growth Tracker'!$C$5="Male",Table!AF18,Table!AX18) -> 5.0200973 | K18: =IF('Baby Growth Tracker'!$C$5="Male",Table!AG18,Table!AY18) -> 5.3838333 | L18: =IF('Baby Growth Tracker'!$C$5="Male",Table!AH18,Table!AZ18) -> 5.600536 | M18: =IF('Baby Growth Tracker'!$C$5="Male",Table!AI18,Table!BA18) -> 5.7408986 | N18: =LOOKUP(D18,E18:M18,$E$1:$M$1) -> 50th | O18: 1.6 | P18: =VLOOKUP(Table!O18,'Baby Growth Tracker'!$D$14:$F$99,3,FALSE) -> 57 | Q18: =IF('Baby Growth Tracker'!$C$5="Male",Table!AJ18,Table!BB18) -> 51.22423 | R18: =IF('Baby Growth Tracker'!$C$5="Male",Table!AK18,Table!BC18) -> 51.749869 | S18: =IF('Baby Growth Tracker'!$C$5="Male",Table!AL18,Table!BD18) -> 52.569786 | T18: =IF('Baby Growth Tracker'!$C$5="Male",Table!AM18,Table!BE18) -> 53.968828 | U18: =IF('Baby Growth Tracker'!$C$5="Male",Table!AN18,Table!BF18) -> 55.566897 | V18: =IF('Baby Growth Tracker'!$C$5="Male",Table!AO18,Table!BG18) -> 57.212269 | W18: =IF('Baby Growth Tracker'!$C$5="Male",Table!AP18,Table!BH18) -> 58.734817 | X18: =IF('Baby Growth Tracker'!$C$5="Male",Table!AQ18,Table!BI18) -> 59.665362 | Y18: =IF('Baby Growth Tracker'!$C$5="Male",Table!AR18,Table!BJ18) -> 60.277587 | Z18: =LOOKUP(P18,Q18:Y18,$Q$1:$Y$1) -> 50th | AA18: 3.6874534 | AB18: 3.8476895 | AC18: 4.0939532 | AD18: 4.5043234 | AE18: 4.9588615 | AF18: 5.4121546 | AG18: 5.8192354 | AH18: 6.0625034 | AI18: 6.2203092 | AJ18: 52.505057 | AK18: 53.030841 | AL18: 53.856054 | AM18: 55.278634 | AN18: 56.926481 | AO18: 58.649323 | AP18: 60.267921 | AQ18: 61.268977 | AR18: 61.932564 | AS18: 3.4618445 | AT18: 3.6079131 | AU18: 3.8318459 | AV18: 4.2035764 | AW18: 4.6133573 | AX18: 5.0200973 | AY18: 5.3838333 | AZ18: 5.600536 | BA18: 5.7408986 | BB18: 51.22423 | BC18: 51.749869 | BD18: 52.569786 | BE18: 53.968828 | BF18: 55.566897 | BG18: 57.212269 | BH18: 58.734817 | BI18: 59.665362 | BJ18: 60.277587
B19: =C19*30 -> 51 | C19: 1.7 | D19: =VLOOKUP(Table!C19,'Baby Growth Tracker'!$D$14:$E$99,2,FALSE) -> #N/A | E19: =IF('Baby Growth Tracker'!$C$5="Male",Table!AA19,Table!AS19) -> 3.5209364 | F19: =IF('Baby Growth Tracker'!$C$5="Male",Table!AB19,Table!AT19) -> 3.6677505 | G19: =IF('Baby Growth Tracker'!$C$5="Male",Table!AC19,Table!AU19) -> 3.8930544 | H19: =IF('Baby Growth Tracker'!$C$5="Male",Table!AD19,Table!AV19) -> 4.267644 | I19: =IF('Baby Growth Tracker'!$C$5="Male",Table!AE19,Table!AW19) -> 4.6813737 | J19: =IF('Baby Growth Tracker'!$C$5="Male",Table!AF19,Table!AX19) -> 5.0928102 | K19: =IF('Baby Growth Tracker'!$C$5="Male",Table!AG19,Table!AY19) -> 5.4613654 | L19: =IF('Baby Growth Tracker'!$C$5="Male",Table!AH19,Table!AZ19) -> 5.681205 | M19: =IF('Baby Growth Tracker'!$C$5="Male",Table!AI19,Table!BA19) -> 5.8237021 | N19: =LOOKUP(D19,E19:M19,$E$1:$M$1) -> #N/A | O19: 1.7 | P19: =VLOOKUP(Table!O19,'Baby Growth Tracker'!$D$14:$F$99,3,FALSE) -> #N/A | Q19: =IF('Baby Growth Tracker'!$C$5="Male",Table!AJ19,Table!BB19) -> 51.487034 | R19: =IF('Baby Growth Tracker'!$C$5="Male",Table!AK19,Table!BC19) -> 52.015332 | S19: =IF('Baby Growth Tracker'!$C$5="Male",Table!AL19,Table!BD19) -> 52.838827 | T19: =IF('Baby Growth Tracker'!$C$5="Male",Table!AM19,Table!BE19) -> 54.242393 | U19: =IF('Baby Growth Tracker'!$C$5="Male",Table!AN19,Table!BF19) -> 55.843249 | V19: =IF('Baby Growth Tracker'!$C$5="Male",Table!AO19,Table!BG19) -> 57.488916 | W19: =IF('Baby Growth Tracker'!$C$5="Male",Table!AP19,Table!BH19) -> 59.009475 | X19: =IF('Baby Growth Tracker'!$C$5="Male",Table!AQ19,Table!BI19) -> 59.937763 | Y19: =IF('Baby Growth Tracker'!$C$5="Male",Table!AR19,Table!BJ19) -> 60.548078 | Z19: =LOOKUP(P19,Q19:Y19,$Q$1:$Y$1) -> #N/A | AA19: 3.7602187 | AB19: 3.9205302 | AC19: 4.167345 | AD19: 4.5797739 | AE19: 5.0381978 | AF19: 5.4969817 | AG19: 5.910318 | AH19: 6.1579051 | AI19: 6.318704 | AJ19: 52.805546 | AK19: 53.329742 | AL19: 54.152827 | AM19: 55.57281 | AN19: 57.219409 | AO19: 58.943054 | AP19: 60.564457 | AQ19: 61.568278 | AR19: 62.234144 | AS19: 3.5209364 | AT19: 3.6677505 | AU19: 3.8930544 | AV19: 4.267644 | AW19: 4.6813737 | AX19: 5.0928102 | AY19: 5.4613654 | AZ19: 5.681205 | BA19: 5.8237021 | BB19: 51.487034 | BC19: 52.015332 | BD19: 52.838827 | BE19: 54.242393 | BF19: 55.843249 | BG19: 57.488916 | BH19: 59.009475 | BI19: 59.937763 | BJ19: 60.548078
B20: =C20*30 -> 54 | C20: 1.8 | D20: =VLOOKUP(Table!C20,'Baby Growth Tracker'!$D$14:$E$99,2,FALSE) -> #N/A | E20: =IF('Baby Growth Tracker'!$C$5="Male",Table!AA20,Table!AS20) -> 3.5795725 | F20: =IF('Baby Growth Tracker'!$C$5="Male",Table!AB20,Table!AT20) -> 3.7271259 | G20: =IF('Baby Growth Tracker'!$C$5="Male",Table!AC20,Table!AU20) -> 3.9537863 | H20: =IF('Baby Growth Tracker'!$C$5="Male",Table!AD20,Table!AV20) -> 4.3312005 | I20: =IF('Baby Growth Tracker'!$C$5="Male",Table!AE20,Table!AW20) -> 4.7488306 | J20: =IF('Baby Growth Tracker'!$C$5="Male",Table!AF20,Table!AX20) -> 5.1649096 | K20: =IF('Baby Growth Tracker'!$C$5="Male",Table!AG20,Table!AY20) -> 5.5382347 | L20: =IF('Baby Growth Tracker'!$C$5="Male",Table!AH20,Table!AZ20) -> 5.7611825 | M20: =IF('Baby Growth Tracker'!$C$5="Male",Table!AI20,Table!BA20) -> 5.9057962 | N20: =LOOKUP(D20,E20:M20,$E$1:$M$1) -> #N/A | O20: 1.8 | P20: =VLOOKUP(Table!O20,'Baby Growth Tracker'!$D$14:$F$99,3,FALSE) -> #N/A | Q20: =IF('Baby Growth Tracker'!$C$5="Male",Table!AJ20,Table!BB20) -> 51.745574 | R20: =IF('Baby Growth Tracker'!$C$5="Male",Table!AK20,Table!BC20) -> 52.276504 | S20: =IF('Baby Growth Tracker'!$C$5="Male",Table!AL20,Table!BD20) -> 53.103548 | T20: =IF('Baby Growth Tracker'!$C$5="Male",Table!AM20,Table!BE20) -> 54.511631 | U20: =IF('Baby Growth Tracker'!$C$5="Male",Table!AN20,Table!BF20) -> 56.115337 | V20: =IF('Baby Growth Tracker'!$C$5="Male",Table!AO20,Table!BG20) -> 57.761445 | W20: =IF('Baby Growth Tracker'!$C$5="Male",Table!AP20,Table!BH20) -> 59.280233 | X20: =IF('Baby Growth Tracker'!$C$5="Male",Table!AQ20,Table!BI20) -> 60.206434 | Y20: =IF('Baby Growth Tracker'!$C$5="Male",Table!AR20,Table!BJ20) -> 60.814971 | Z20: =LOOKUP(P20,Q20:Y20,$Q$1:$Y$1) -> #N/A | AA20: 3.8329841 | AB20: 3.9933708 | AC20: 4.2407368 | AD20: 4.6552243 | AE20: 5.1175342 | AF20: 5.5818087 | AG20: 6.0014007 | AH20: 6.2533069 | AI20: 6.417208 | AJ20: 53.100286 | AK20: 53.623028 | AL20: 54.444173 | AM20: 55.861827 | AN20: 57.507396 | AO20: 59.231966 | AP20: 60.856188 | AQ20: 61.862734 | AR20: 62.530832 | AS20: 3.5795725 | AT20: 3.7271259 | AU20: 3.9537863 | AV20: 4.3312005 | AW20: 4.7488306 | AX20: 5.1649096 | AY20: 5.5382347 | AZ20: 5.7611825 | BA20: 5.9057962 | BB20: 51.745574 | BC20: 52.276504 | BD20: 53.103548 | BE20: 54.511631 | BF20: 56.115337 | BG20: 57.761445 | BH20: 59.280233 | BI20: 60.206434 | BJ20: 60.814971
B21: =C21*30 -> 57 | C21: 1.9 | D21: =VLOOKUP(Table!C21,'Baby Growth Tracker'!$D$14:$E$99,2,FALSE) -> #N/A | E21: =IF('Baby Growth Tracker'!$C$5="Male",Table!AA21,Table!AS21) -> 3.6377562 | F21: =IF('Baby Growth Tracker'!$C$5="Male",Table!AB21,Table!AT21) -> 3.7860426 | G21: =IF('Baby Growth Tracker'!$C$5="Male",Table!AC21,Table!AU21) -> 4.0140452 | H21: =IF('Baby Growth Tracker'!$C$5="Male",Table!AD21,Table!AV21) -> 4.3942498 | I21: =IF('Baby Growth Tracker'!$C$5="Male",Table!AE21,Table!AW21) -> 4.8157324 | J21: =IF('Baby Growth Tracker'!$C$5="Male",Table!AF21,Table!AX21) -> 5.2364011 | K21: =IF('Baby Growth Tracker'!$C$5="Male",Table!AG21,Table!AY21) -> 5.6144474 | L21: =IF('Baby Growth Tracker'!$C$5="Male",Table!AH21,Table!AZ21) -> 5.840475 | M21: =IF('Baby Growth Tracker'!$C$5="Male",Table!AI21,Table!BA21) -> 5.9871872 | N21: =LOOKUP(D21,E21:M21,$E$1:$M$1) -> #N/A | O21: 1.9 | P21: =VLOOKUP(Table!O21,'Baby Growth Tracker'!$D$14:$F$99,3,FALSE) -> #N/A | Q21: =IF('Baby Growth Tracker'!$C$5="Male",Table!AJ21,Table!BB21) -> 52 | R21: =IF('Baby Growth Tracker'!$C$5="Male",Table!AK21,Table!BC21) -> 52.533536 | S21: =IF('Baby Growth Tracker'!$C$5="Male",Table!AL21,Table!BD21) -> 53.3641 | T21: =IF('Baby Growth Tracker'!$C$5="Male",Table!AM21,Table!BE21) -> 54.776693 | U21: =IF('Baby Growth Tracker'!$C$5="Male",Table!AN21,Table!BF21) -> 56.383306 | V21: =IF('Baby Growth Tracker'!$C$5="Male",Table!AO21,Table!BG21) -> 58.029995 | W21: =IF('Baby Growth Tracker'!$C$5="Male",Table!AP21,Table!BH21) -> 59.547219 | X21: =IF('Baby Growth Tracker'!$C$5="Male",Table!AQ21,Table!BI21) -> 60.471499 | Y21: =IF('Baby Growth Tracker'!$C$5="Male",Table!AR21,Table!BJ21) -> 61.078381 | Z21: =LOOKUP(P21,Q21:Y21,$Q$1:$Y$1) -> #N/A | AA21: 3.9057494 | AB21: 4.0662115 | AC21: 4.3141286 | AD21: 4.7306748 | AE21: 5.1968706 | AF21: 5.6666358 | AG21: 6.0924833 | AH21: 6.3487086 | AI21: 6.515601 | AJ21: 53.389493 | AK21: 53.910906 | AL21: 54.730292 | AM21: 56.145872 | AN21: 57.790618 | AO21: 59.516228 | AP21: 61.143282 | AQ21: 62.152515 | AR21: 62.8228 | AS21: 3.6377562 | AT21: 3.7860426 | AU21: 4.0140452 | AV21: 4.3942498 | AW21: 4.8157324 | AX21: 5.2364011 | AY21: 5.6144474 | AZ21: 5.840475 | BA21: 5.9871872 | BB21: 52 | BC21: 52.533536 | BD21: 53.3641 | BE21: 54.776693 | BF21: 56.383306 | BG21: 58.029995 | BH21: 59.547219 | BI21: 60.471499 | BJ21: 61.078381
A22: Male | B22: =C22*30 -> 60 | C22: 2 | D22: =VLOOKUP(Table!C22,'Baby Growth Tracker'!$D$14:$E$99,2,FALSE) -> #N/A | E22: =IF('Baby Growth Tracker'!$C$5="Male",Table!AA22,Table!AS22) -> 3.695491 | F22: =IF('Baby Growth Tracker'!$C$5="Male",Table!AB22,Table!AT22) -> 3.8445041 | G22: =IF('Baby Growth Tracker'!$C$5="Male",Table!AC22,Table!AU22) -> 4.0738345 | H22: =IF('Baby Growth Tracker'!$C$5="Male",Table!AD22,Table!AV22) -> 4.4567957 | I22: =IF('Baby Growth Tracker'!$C$5="Male",Table!AE22,Table!AW22) -> 4.8820839 | J22: =IF('Baby Growth Tracker'!$C$5="Male",Table!AF22,Table!AX22) -> 5.30729 | K22: =IF('Baby Growth Tracker'!$C$5="Male",Table!AG22,Table!AY22) -> 5.6900095 | L22: =IF('Baby Growth Tracker'!$C$5="Male",Table!AH22,Table!AZ22) -> 5.9190888 | M22: =IF('Baby Growth Tracker'!$C$5="Male",Table!AI22,Table!BA22) -> 6.0678819 | N22: =LOOKUP(D22,E22:M22,$E$1:$M$1) -> #N/A | O22: 2 | P22: =VLOOKUP(Table!O22,'Baby Growth Tracker'!$D$14:$F$99,3,FALSE) -> #N/A | Q22: =IF('Baby Growth Tracker'!$C$5="Male",Table!AJ22,Table!BB22) -> 52.250455 | R22: =IF('Baby Growth Tracker'!$C$5="Male",Table!AK22,Table!BC22) -> 52.78657 | S22: =IF('Baby Growth Tracker'!$C$5="Male",Table!AL22,Table!BD22) -> 53.620626 | T22: =IF('Baby Growth Tracker'!$C$5="Male",Table!AM22,Table!BE22) -> 55.037719 | U22: =IF('Baby Growth Tracker'!$C$5="Male",Table!AN22,Table!BF22) -> 56.647294 | V22: =IF('Baby Growth Tracker'!$C$5="Male",Table!AO22,Table!BG22) -> 58.294699 | W22: =IF('Baby Growth Tracker'!$C$5="Male",Table!AP22,Table!BH22) -> 59.810555 | X22: =IF('Baby Growth Tracker'!$C$5="Male",Table!AQ22,Table!BI22) -> 60.73307 | Y22: =IF('Baby Growth Tracker'!$C$5="Male",Table!AR22,Table!BJ22) -> 61.338416 | Z22: =LOOKUP(P22,Q22:Y22,$Q$1:$Y$1) -> #N/A | AA22: 3.9785148 | AB22: 4.1390521 | AC22: 4.3875204 | AD22: 4.8061252 | AE22: 5.2762069 | AF22: 5.7514629 | AG22: 6.1835659 | AH22: 6.4441104 | AI22: 6.614013 | AJ22: 53.67337 | AK22: 54.193575 | AL22: 55.011372 | AM22: 56.425121 | AN22: 58.069243 | AO22: 59.796002 | AP22: 61.4259 | AQ22: 62.437783 | AR22: 63.110211 | AS22: 3.695491 | AT22: 3.8445041 | AU22: 4.0738345 | AV22: 4.4567957 | AW22: 4.8820839 | AX22: 5.30729 | AY22: 5.6900095 | AZ22: 5.9190888 | BA22: 6.0678819 | BB22: 52.250455 | BC22: 52.78657 | BD22: 53.620626 | BE22: 55.037719 | BF22: 56.647294 | BG22: 58.294699 | BH22: 59.810555 | BI22: 60.73307 | BJ22: 61.338416
