Workbook

Sheet Baby Growth Tracker
A1: YOUR CHILD INFORMATION
B3: Your Child Name : | C3: Angelina Dolly | F3: YOUR CHILD WEIGHT AND HEIGHT REFERENCE | J3: CONVERTER BOXES
J4: Weight Converter
B5: Gender : | C5: Female | F5: Date : | G5: 39692 | J5: 120 | K5: pounds | L5: =J5/2.20462262 -> 54.431084 | M5: kg
G6: Weight | H6: Height | J6: * 1 kilogram = 2.20462262 pounds
B7: Date of Birth : | C7: 39614 | F7: 10th | G7: =VLOOKUP(ROUND((G5-C7+1)/30,1),Table!C$2:M$362,5,FALSE) -> 4.4439304 | H7: =VLOOKUP(ROUND((G5-C7+1)/30,1),Table!O$2:Y$362,5,FALSE) -> 55.260191
F8: 25th | G8: =VLOOKUP(ROUND((G5-C7+1)/30,1),Table!C$2:M$362,6,FALSE) -> 4.8442525 | H8: =VLOOKUP(ROUND((G5-C7+1)/30,1),Table!O$2:Y$362,6,FALSE) -> 56.704473 | J8: Height Converter
B9: Weight Birth : | C9: 3.2 | D9: kg(s) | F9: 50th | G9: =VLOOKUP(ROUND((G5-C7+1)/30,1),Table!C$2:M$362,7,FALSE) -> 5.2935219 | H9: =VLOOKUP(ROUND((G5-C7+1)/30,1),Table!O$2:Y$362,7,FALSE) -> 58.330418 | J9: 20 | K9: inch | L9: =J9/0.393700787 -> 50.8 | M9: cm
F10: 75th | G10: =VLOOKUP(ROUND((G5-C7+1)/30,1),Table!C$2:M$362,8,FALSE) -> 5.7472261 | H10: =VLOOKUP(ROUND((G5-C7+1)/30,1),Table!O$2:Y$362,8,FALSE) -> 59.978732 | J10: * 1 centimeter = 0.393700787 inch
B11: Height Birth : | C11: 50 | D11: cm(s) | F11: 90th | G11: =VLOOKUP(ROUND((G5-C7+1)/30,1),Table!C$2:M$362,9,FALSE) -> 6.1591537 | H11: =VLOOKUP(ROUND((G5-C7+1)/30,1),Table!O$2:Y$362,9,FALSE) -> 61.4814
A13: No | B13: Date | C13: Day | D13: Month | E13: Weight (kg) | F13: Height (cm) | G13: Weight Percentile | H13: Height Percentile | J13: Baby Growth Percentile Definition
A14: 1 | B14: 39616 | C14: =IF(B14="","",B14-$C$7+1) -> 3 | D14: =IF(B14="","",ROUND(C14/30,1)) -> 0.1 | E14: 3.3 | F14: 51 | G14: =IF(ISNA(VLOOKUP(E14,Table!D$2:N$362,11,FALSE)),"",VLOOKUP(E14,Table!D$2:N$362,11,FALSE)) -> 25th | H14: =IF(ISNA(VLOOKUP(F14,Table!P$2:Z$362,11,FALSE)),"",VLOOKUP(F14,Table!P$2:Z$362,11,FALSE)) -> 50th | J14: If your child have 25th percentile in height, means that your child would be taller than 250 and shorter than 750 normal children of the same age and sex, and if your child have 50th percentile in weight, means that your child would be heavier than 500 and lighter than 500 normal children of the same age and sex.
A15: 2 | B15: 39624 | C15: =IF(B15="","",B15-$C$7+1) -> 11 | D15: =IF(B15="","",ROUND(C15/30,1)) -> 0.4 | E15: 3.6 | F15: 52 | G15: =IF(ISNA(VLOOKUP(E15,Table!D$2:N$362,11,FALSE)),"",VLOOKUP(E15,Table!D$2:N$362,11,FALSE)) -> 25th | H15: =IF(ISNA(VLOOKUP(F15,Table!P$2:Z$362,11,FALSE)),"",VLOOKUP(F15,Table!P$2:Z$362,11,FALSE)) -> 50th
A16: 3 | B16: 39644 | C16: =IF(B16="","",B16-$C$7+1) -> 31 | D16: =IF(B16="","",ROUND(C16/30,1)) -> 1 | E16: 4.4 | F16: 55 | G16: =IF(ISNA(VLOOKUP(E16,Table!D$2:N$362,11,FALSE)),"",VLOOKUP(E16,Table!D$2:N$362,11,FALSE)) -> 50th | H16: =IF(ISNA(VLOOKUP(F16,Table!P$2:Z$362,11,FALSE)),"",VLOOKUP(F16,Table!P$2:Z$362,11,FALSE)) -> 50th
A17: 4 | B17: 39661 | C17: =IF(B17="","",B17-$C$7+1) -> 48 | D17: =IF(B17="","",ROUND(C17/30,1)) -> 1.6 | E17: 5 | F17: 57 | G17: =IF(ISNA(VLOOKUP(E17,Table!D$2:N$362,11,FALSE)),"",VLOOKUP(E17,Table!D$2:N$362,11,FALSE)) -> 50th | H17: =IF(ISNA(VLOOKUP(F17,Table!P$2:Z$362,11,FALSE)),"",VLOOKUP(F17,Table!P$2:Z$362,11,FALSE)) -> 50th
A18: 5 | B18: 39692 | C18: =IF(B18="","",B18-$C$7+1) -> 79 | D18: =IF(B18="","",ROUND(C18/30,1)) -> 2.6 | E18: 6 | F18: 60 | G18: =IF(ISNA(VLOOKUP(E18,Table!D$2:N$362,11,FALSE)),"",VLOOKUP(E18,Table!D$2:N$362,11,FALSE)) -> 75th | H18: =IF(ISNA(VLOOKUP(F18,Table!P$2:Z$362,11,FALSE)),"",VLOOKUP(F18,Table!P$2:Z$362,11,FALSE)) -> 75th
A19: 6 | C19: =IF(B19="","",B19-$C$7+1) | D19: =IF(B19="","",ROUND(C19/30,1)) | G19: =IF(ISNA(VLOOKUP(E19,Table!D$2:N$362,11,FALSE)),"",VLOOKUP(E19,Table!D$2:N$362,11,FALSE)) | H19: =IF(ISNA(VLOOKUP(F19,Table!P$2:Z$362,11,FALSE)),"",VLOOKUP(F19,Table!P$2:Z$362,11,FALSE))
A20: 7 | C20: =IF(B20="","",B20-$C$7+1) | D20: =IF(B20="","",ROUND(C20/30,1)) | G20: =IF(ISNA(VLOOKUP(E20,Table!D$2:N$362,11,FALSE)),"",VLOOKUP(E20,Table!D$2:N$362,11,FALSE)) | H20: =IF(ISNA(VLOOKUP(F20,Table!P$2:Z$362,11,FALSE)),"",VLOOKUP(F20,Table!P$2:Z$362,11,FALSE))
A21: 8 | C21: =IF(B21="","",B21-$C$7+1) | D21: =IF(B21="","",ROUND(C21/30,1)) | G21: =IF(ISNA(VLOOKUP(E21,Table!D$2:N$362,11,FALSE)),"",VLOOKUP(E21,Table!D$2:N$362,11,FALSE)) | H21: =IF(ISNA(VLOOKUP(F21,Table!P$2:Z$362,11,FALSE)),"",VLOOKUP(F21,Table!P$2:Z$362,11,FALSE))
A22: 9 | C22: =IF(B22="","",B22-$C$7+1) | D22: =IF(B22="","",ROUND(C22/30,1)) | G22: =IF(ISNA(VLOOKUP(E22,Table!D$2:N$362,11,FALSE)),"",VLOOKUP(E22,Table!D$2:N$362,11,FALSE)) | H22: =IF(ISNA(VLOOKUP(F22,Table!P$2:Z$362,11,FALSE)),"",VLOOKUP(F22,Table!P$2:Z$362,11,FALSE))
A23: 10 | C23: =IF(B23="","",B23-$C$7+1) | D23: =IF(B23="","",ROUND(C23/30,1)) | G23: =IF(ISNA(VLOOKUP(E23,Table!D$2:N$362,11,FALSE)),"",VLOOKUP(E23,Table!D$2:N$362,11,FALSE)) | H23: =IF(ISNA(VLOOKUP(F23,Table!P$2:Z$362,11,FALSE)),"",VLOOKUP(F23,Table!P$2:Z$362,11,FALSE))
A24: 11 | C24: =IF(B24="","",B24-$C$7+1) | D24: =IF(B24="","",ROUND(C24/30,1)) | G24: =IF(ISNA(VLOOKUP(E24,Table!D$2:N$362,11,FALSE)),"",VLOOKUP(E24,Table!D$2:N$362,11,FALSE)) | H24: =IF(ISNA(VLOOKUP(F24,Table!P$2:Z$362,11,FALSE)),"",VLOOKUP(F24,Table!P$2:Z$362,11,FALSE))
A25: 12 | C25: =IF(B25="","",B25-$C$7+1) | D25: =IF(B25="","",ROUND(C25/30,1)) | G25: =IF(ISNA(VLOOKUP(E25,Table!D$2:N$362,11,FALSE)),"",VLOOKUP(E25,Table!D$2:N$362,11,FALSE)) | H25: =IF(ISNA(VLOOKUP(F25,Table!P$2:Z$362,11,FALSE)),"",VLOOKUP(F25,Table!P$2:Z$362,11,FALSE)) | J25: VISIT WWW.EXCELTEMPLATE.NET FOR MORE TEMPLATES AND UPDATES
A26: 13 | C26: =IF(B26="","",B26-$C$7+1) | D26: =IF(B26="","",ROUND(C26/30,1)) | G26: =IF(ISNA(VLOOKUP(E26,Table!D$2:N$362,11,FALSE)),"",VLOOKUP(E26,Table!D$2:N$362,11,FALSE)) | H26: =IF(ISNA(VLOOKUP(F26,Table!P$2:Z$362,11,FALSE)),"",VLOOKUP(F26,Table!P$2:Z$362,11,FALSE))
A27: 14 | C27: =IF(B27="","",B27-$C$7+1) | D27: =IF(B27="","",ROUND(C27/30,1)) | G27: =IF(ISNA(VLOOKUP(E27,Table!D$2:N$362,11,FALSE)),"",VLOOKUP(E27,Table!D$2:N$362,11,FALSE)) | H27: =IF(ISNA(VLOOKUP(F27,Table!P$2:Z$362,11,FALSE)),"",VLOOKUP(F27,Table!P$2:Z$362,11,FALSE))
A28: 15 | C28: =IF(B28="","",B28-$C$7+1) | D28: =IF(B28="","",ROUND(C28/30,1)) | G28: =IF(ISNA(VLOOKUP(E28,Table!D$2:N$362,11,FALSE)),"",VLOOKUP(E28,Table!D$2:N$362,11,FALSE)) | H28: =IF(ISNA(VLOOKUP(F28,Table!P$2:Z$362,11,FALSE)),"",VLOOKUP(F28,Table!P$2:Z$362,11,FALSE))
A29: 16 | C29: =IF(B29="","",B29-$C$7+1) | D29: =IF(B29="","",ROUND(C29/30,1)) | G29: =IF(ISNA(VLOOKUP(E29,Table!D$2:N$362,11,FALSE)),"",VLOOKUP(E29,Table!D$2:N$362,11,FALSE)) | H29: =IF(ISNA(VLOOKUP(F29,Table!P$2:Z$362,11,FALSE)),"",VLOOKUP(F29,Table!P$2:Z$362,11,FALSE))
A30: 17 | C30: =IF(B30="","",B30-$C$7+1) | D30: =IF(B30="","",ROUND(C30/30,1)) | G30: =IF(ISNA(VLOOKUP(E30,Table!D$2:N$362,11,FALSE)),"",VLOOKUP(E30,Table!D$2:N$362,11,FALSE)) | H30: =IF(ISNA(VLOOKUP(F30,Table!P$2:Z$362,11,FALSE)),"",VLOOKUP(F30,Table!P$2:Z$362,11,FALSE))
A31: 18 | C31: =IF(B31="","",B31-$C$7+1) | D31: =IF(B31="","",ROUND(C31/30,1)) | G31: =IF(ISNA(VLOOKUP(E31,Table!D$2:N$362,11,FALSE)),"",VLOOKUP(E31,Table!D$2:N$362,11,FALSE)) | H31: =IF(ISNA(VLOOKUP(F31,Table!P$2:Z$362,11,FALSE)),"",VLOOKUP(F31,Table!P$2:Z$362,11,FALSE))
A32: 19 | C32: =IF(B32="","",B32-$C$7+1) | D32: =IF(B32="","",ROUND(C32/30,1)) | G32: =IF(ISNA(VLOOKUP(E32,Table!D$2:N$362,11,FALSE)),"",VLOOKUP(E32,Table!D$2:N$362,11,FALSE)) | H32: =IF(ISNA(VLOOKUP(F32,Table!P$2:Z$362,11,FALSE)),"",VLOOKUP(F32,Table!P$2:Z$362,11,FALSE))
A33: 20 | C33: =IF(B33="","",B33-$C$7+1) | D33: =IF(B33="","",ROUND(C33/30,1)) | G33: =IF(ISNA(VLOOKUP(E33,Table!D$2:N$362,11,FALSE)),"",VLOOKUP(E33,Table!D$2:N$362,11,FALSE)) | H33: =IF(ISNA(VLOOKUP(F33,Table!P$2:Z$362,11,FALSE)),"",VLOOKUP(F33,Table!P$2:Z$362,11,FALSE))
A34: 21 | C34: =IF(B34="","",B34-$C$7+1) | D34: =IF(B34="","",ROUND(C34/30,1)) | G34: =IF(ISNA(VLOOKUP(E34,Table!D$2:N$362,11,FALSE)),"",VLOOKUP(E34,Table!D$2:N$362,11,FALSE)) | H34: =IF(ISNA(VLOOKUP(F34,Table!P$2:Z$362,11,FALSE)),"",VLOOKUP(F34,Table!P$2:Z$362,11,FALSE))
A35: 22 | C35: =IF(B35="","",B35-$C$7+1) | D35: =IF(B35="","",ROUND(C35/30,1)) | G35: =IF(ISNA(VLOOKUP(E35,Table!D$2:N$362,11,FALSE)),"",VLOOKUP(E35,Table!D$2:N$362,11,FALSE)) | H35: =IF(ISNA(VLOOKUP(F35,Table!P$2:Z$362,11,FALSE)),"",VLOOKUP(F35,Table!P$2:Z$362,11,FALSE))
A36: 23 | C36: =IF(B36="","",B36-$C$7+1) | D36: =IF(B36="","",ROUND(C36/30,1)) | G36: =IF(ISNA(VLOOKUP(E36,Table!D$2:N$362,11,FALSE)),"",VLOOKUP(E36,Table!D$2:N$362,11,FALSE)) | H36: =IF(ISNA(VLOOKUP(F36,Table!P$2:Z$362,11,FALSE)),"",VLOOKUP(F36,Table!P$2:Z$362,11,FALSE))
A37: 24 | C37: =IF(B37="","",B37-$C$7+1) | D37: =IF(B37="","",ROUND(C37/30,1)) | G37: =IF(ISNA(VLOOKUP(E37,Table!D$2:N$362,11,FALSE)),"",VLOOKUP(E37,Table!D$2:N$362,11,FALSE)) | H37: =IF(ISNA(VLOOKUP(F37,Table!P$2:Z$362,11,FALSE)),"",VLOOKUP(F37,Table!P$2:Z$362,11,FALSE))
... A113: 100 | C113: =IF(B113="","",B113-$C$7+1) | D113: =IF(B113="","",ROUND(C113/30,1)) | G113: =IF(ISNA(VLOOKUP(E113,Table!D$2:N$362,11,FALSE)),"",VLOOKUP(E113,Table!D$2:N$362,11,FALSE)) | H113: =IF(ISNA(VLOOKUP(F113,Table!P$2:Z$362,11,FALSE)),"",VLOOKUP(F113,Table!P$2:Z$362,11,FALSE))

Sheet Table
A1: Sex | B1: Day | C1: Agemos | D1: ='Baby Growth Tracker'!C3 -> Angelina Dolly | E1: 3rd | F1: 5th | G1: 10th | H1: 25th | I1: 50th | J1: 75th | K1: 90th | L1: 95th | M1: 97th | O1: Agemos | P1: =D1 -> Angelina Dolly | Q1: 3rd | R1: 5th | S1: 10th | T1: 25th | U1: 50th | V1: 75th | W1: 90th | X1: 95th | Y1: 97th | AA1: Male | AS1: Female
A2: Male | B2: 0 | C2: 0 | D2: ='Baby Growth Tracker'!C9 -> 3.2 | E2: =IF('Baby Growth Tracker'!$C$5="Male",Table!AA2,Table!AS2) -> 2.414112 | F2: =IF('Baby Growth Tracker'!$C$5="Male",Table!AB2,Table!AT2) -> 2.5479052 | G2: =IF('Baby Growth Tracker'!$C$5="Male",Table!AC2,Table!AU2) -> 2.7472223 | H2: =IF('Baby Growth Tracker'!$C$5="Male",Table!AD2,Table!AV2) -> 3.0648647 | I2: =IF('Baby Growth Tracker'!$C$5="Male",Table!AE2,Table!AW2) -> 3.3991865 | J2: =IF('Baby Growth Tracker'!$C$5="Male",Table!AF2,Table!AX2) -> 3.7175194 | K2: =IF('Baby Growth Tracker'!$C$5="Male",Table!AG2,Table!AY2) -> 3.9925722 | L2: =IF('Baby Growth Tracker'!$C$5="Male",Table!AH2,Table!AZ2) -> 4.1526366 | M2: =IF('Baby Growth Tracker'!$C$5="Male",Table!AI2,Table!BA2) -> 4.254922 | N2: =LOOKUP(D2,E2:M2,$E$1:$M$1) -> 25th | O2: 0 | P2: ='Baby Growth Tracker'!C11 -> 50 | Q2: =IF('Baby Growth Tracker'!$C$5="Male",Table!AJ2,Table!BB2) -> 45.094883 | R2: =IF('Baby Growth Tracker'!$C$5="Male",Table!AK2,Table!BC2) -> 45.575607 | S2: =IF('Baby Growth Tracker'!$C$5="Male",Table!AL2,Table!BD2) -> 46.339337 | T2: =IF('Baby Growth Tracker'!$C$5="Male",Table!AM2,Table!BE2) -> 47.683455 | U2: =IF('Baby Growth Tracker'!$C$5="Male",Table!AN2,Table!BF2) -> 49.286396 | V2: =IF('Baby Growth Tracker'!$C$5="Male",Table!AO2,Table!BG2) -> 51.018696 | W2: =IF('Baby Growth Tracker'!$C$5="Male",Table!AP2,Table!BH2) -> 52.702501 | X2: =IF('Baby Growth Tracker'!$C$5="Male",Table!AQ2,Table!BI2) -> 53.772909 | Y2: =IF('Baby Growth Tracker'!$C$5="Male",Table!AR2,Table!BJ2) -> 54.495274 | Z2: =LOOKUP(P2,Q2:Y2,$Q$1:$Y$1) -> 50th | AA2: 2.355451 | AB2: 2.526904 | AC2: 2.7738018 | AD2: 3.1506111 | AE2: 3.5302032 | AF2: 3.8790766 | AG2: 4.1724934 | AH2: 4.3402927 | AI2: 4.4464883 | AJ2: 44.925098 | AK2: 45.568409 | AL2: 46.554293 | AM2: 48.189374 | AN2: 49.988884 | AO2: 51.771257 | AP2: 53.361535 | AQ2: 54.307212 | AR2: 54.919004 | AS2: 2.414112 | AT2: 2.5479052 | AU2: 2.7472223 | AV2: 3.0648647 | AW2: 3.3991865 | AX2: 3.7175194 | AY2: 3.9925722 | AZ2: 4.1526366 | BA2: 4.254922 | BB2: 45.094883 | BC2: 45.575607 | BD2: 46.339337 | BE2: 47.683455 | BF2: 49.286396 | BG2: 51.018696 | BH2: 52.702501 | BI2: 53.772909 | BJ2: 54.495274
B3: =C3*30 -> 3 | C3: 0.1 | D3: =VLOOKUP(Table!C3,'Baby Growth Tracker'!$D$14:$E$99,2,FALSE) -> 3.3 | E3: =IF('Baby Growth Tracker'!$C$5="Male",Table!AA3,Table!AS3) -> 2.482673 | F3: =IF('Baby Growth Tracker'!$C$5="Male",Table!AB3,Table!AT3) -> 2.6172126 | G3: =IF('Baby Growth Tracker'!$C$5="Male",Table!AC3,Table!AU3) -> 2.8181312 | H3: =IF('Baby Growth Tracker'!$C$5="Male",Table!AD3,Table!AV3) -> 3.1394174 | I3: =IF('Baby Growth Tracker'!$C$5="Male",Table!AE3,Table!AW3) -> 3.4788549 | J3: =IF('Baby Growth Tracker'!$C$5="Male",Table!AF3,Table!AX3) -> 3.8031342 | K3: =IF('Baby Growth Tracker'!$C$5="Male",Table!AG3,Table!AY3) -> 4.0840829 | L3: =IF('Baby Growth Tracker'!$C$5="Male",Table!AH3,Table!AZ3) -> 4.2478766 | M3: =IF('Baby Growth Tracker'!$C$5="Male",Table!AI3,Table!BA3) -> 4.352654 | N3: =LOOKUP(D3,E3:M3,$E$1:$M$1) -> 25th | O3: 0.1 | P3: =VLOOKUP(Table!O3,'Baby Growth Tracker'!$D$14:$F$99,3,FALSE) -> 51 | Q3: =IF('Baby Growth Tracker'!$C$5="Male",Table!AJ3,Table!BB3) -> 45.569738 | R3: =IF('Baby Growth Tracker'!$C$5="Male",Table!AK3,Table!BC3) -> 46.053134 | S3: =IF('Baby Growth Tracker'!$C$5="Male",Table!AL3,Table!BD3) -> 46.819966 | T3: =IF('Baby Growth Tracker'!$C$5="Male",Table!AM3,Table!BE3) -> 48.166135 | U3: =IF('Baby Growth Tracker'!$C$5="Male",Table!AN3,Table!BF3) -> 49.765833 | V3: =IF('Baby Growth Tracker'!$C$5="Male",Table!AO3,Table!BG3) -> 51.487681 | W3: =IF('Baby Growth Tracker'!$C$5="Male",Table!AP3,Table!BH3) -> 53.154445 | X3: =IF('Baby Growth Tracker'!$C$5="Male",Table!AQ3,Table!BI3) -> 54.210515 | Y3: =IF('Baby Growth Tracker'!$C$5="Male",Table!AR3,Table!BJ3) -> 54.921675 | Z3: =LOOKUP(P3,Q3:Y3,$Q$1:$Y$1) -> 50th | AA3: 2.4442705 | AB3: 2.6144543 | AC3: 2.8609435 | AD3: 3.239968 | AE3: 3.6247838 | AF3: 3.9807458 | AG3: 4.281627 | AH3: 4.4542602 | AI3: 4.5637156 | AJ3: 45.535703 | AK3: 46.166346 | AL3: 47.134995 | AM3: 48.747337 | AN3: 50.530302 | AO3: 52.305115 | AP3: 53.896116 | AQ3: 54.845585 | AR3: 55.461172 | AS3: 2.482673 | AT3: 2.6172126 | AU3: 2.8181312 | AV3: 3.1394174 | AW3: 3.4788549 | AX3: 3.8031342 | AY3: 4.0840829 | AZ3: 4.2478766 | BA3: 4.352654 | BB3: 45.569738 | BC3: 46.053134 | BD3: 46.819966 | BE3: 48.166135 | BF3: 49.765833 | BG3: 51.487681 | BH3: 53.154445 | BI3: 54.210515 | BJ3: 54.921675
B4: =C4*30 -> 6 | C4: 0.2 | D4: =VLOOKUP(Table!C4,'Baby Growth Tracker'!$D$14:$E$99,2,FALSE) -> #N/A | E4: =IF('Baby Growth Tracker'!$C$5="Male",Table!AA4,Table!AS4) -> 2.5504293 | F4: =IF('Baby Growth Tracker'!$C$5="Male",Table!AB4,Table!AT4) -> 2.6857219 | G4: =IF('Baby Growth Tracker'!$C$5="Male",Table!AC4,Table!AU4) -> 2.8882262 | H4: =IF('Baby Growth Tracker'!$C$5="Male",Table!AD4,Table!AV4) -> 3.2130869 | I4: =IF('Baby Growth Tracker'!$C$5="Male",Table!AE4,Table!AW4) -> 3.5575345 | J4: =IF('Baby Growth Tracker'!$C$5="Male",Table!AF4,Table!AX4) -> 3.8876496 | K4: =IF('Baby Growth Tracker'!$C$5="Male",Table!AG4,Table!AY4) -> 4.1744016 | L4: =IF('Baby Growth Tracker'!$C$5="Male",Table!AH4,Table!AZ4) -> 4.3418752 | M4: =IF('Baby Growth Tracker'!$C$5="Male",Table!AI4,Table!BA4) -> 4.4491155 | N4: =LOOKUP(D4,E4:M4,$E$1:$M$1) -> #N/A | O4: 0.2 | P4: =VLOOKUP(Table!O4,'Baby Growth Tracker'!$D$14:$F$99,3,FALSE) -> #N/A | Q4: =IF('Baby Growth Tracker'!$C$5="Male",Table!AJ4,Table!BB4) -> 46.019379 | R4: =IF('Baby Growth Tracker'!$C$5="Male",Table!AK4,Table!BC4) -> 46.505489 | S4: =IF('Baby Growth Tracker'!$C$5="Male",Table!AL4,Table!BD4) -> 47.275545 | T4: =IF('Baby Growth Tracker'!$C$5="Male",Table!AM4,Table!BE4) -> 48.624157 | U4: =IF('Baby Growth Tracker'!$C$5="Male",Table!AN4,Table!BF4) -> 50.221433 | V4: =IF('Baby Growth Tracker'!$C$5="Male",Table!AO4,Table!BG4) -> 51.934224 | W4: =IF('Baby Growth Tracker'!$C$5="Male",Table!AP4,Table!BH4) -> 53.585879 | X4: =IF('Baby Growth Tracker'!$C$5="Male",Table!AQ4,Table!BI4) -> 54.629164 | Y4: =IF('Baby Growth Tracker'!$C$5="Male",Table!AR4,Table!BJ4) -> 55.330318 | Z4: =LOOKUP(P4,Q4:Y4,$Q$1:$Y$1) -> #N/A | AA4: 2.53309 | AB4: 2.7020047 | AC4: 2.9480851 | AD4: 3.3293249 | AE4: 3.7193645 | AF4: 4.082415 | AG4: 4.3907605 | AH4: 4.5682277 | AI4: 4.680943 | AJ4: 46.108597 | AK4: 46.728055 | AL4: 47.681474 | AM4: 49.273706 | AN4: 51.042086 | AO4: 52.810401 | AP4: 54.40242 | AQ4: 55.355595 | AR4: 55.974828 | AS4: 2.5504293 | AT4: 2.6857219 | AU4: 2.8882262 | AV4: 3.2130869 | AW4: 3.5575345 | AX4: 3.8876496 | AY4: 4.1744016 | AZ4: 4.3418752 | BA4: 4.4491155 | BB4: 46.019379 | BC4: 46.505489 | BD4: 47.275545 | BE4: 48.624157 | BF4: 50.221433 | BG4: 51.934224 | BH4: 53.585879 | BI4: 54.629164 | BJ4: 55.330318
B5: =C5*30 -> 9 | C5: 0.3 | D5: =VLOOKUP(Table!C5,'Baby Growth Tracker'!$D$14:$E$99,2,FALSE) -> #N/A | E5: =IF('Baby Growth Tracker'!$C$5="Male",Table!AA5,Table!AS5) -> 2.6174422 | F5: =IF('Baby Growth Tracker'!$C$5="Male",Table!AB5,Table!AT5) -> 2.7534924 | G5: =IF('Baby Growth Tracker'!$C$5="Male",Table!AC5,Table!AU5) -> 2.957567 | H5: =IF('Baby Growth Tracker'!$C$5="Male",Table!AD5,Table!AV5) -> 3.2859387 | I5: =IF('Baby Growth Tracker'!$C$5="Male",Table!AE5,Table!AW5) -> 3.6353004 | J5: =IF('Baby Growth Tracker'!$C$5="Male",Table!AF5,Table!AX5) -> 3.9711495 | K5: =IF('Baby Growth Tracker'!$C$5="Male",Table!AG5,Table!AY5) -> 4.2636197 | L5: =IF('Baby Growth Tracker'!$C$5="Male",Table!AH5,Table!AZ5) -> 4.4347274 | M5: =IF('Baby Growth Tracker'!$C$5="Male",Table!AI5,Table!BA5) -> 4.5444034 | N5: =LOOKUP(D5,E5:M5,$E$1:$M$1) -> #N/A | O5: 0.3 | P5: =VLOOKUP(Table!O5,'Baby Growth Tracker'!$D$14:$F$99,3,FALSE) -> #N/A | Q5: =IF('Baby Growth Tracker'!$C$5="Male",Table!AJ5,Table!BB5) -> 46.447217 | R5: =IF('Baby Growth Tracker'!$C$5="Male",Table!AK5,Table!BC5) -> 46.936073 | S5: =IF('Baby Growth Tracker'!$C$5="Male",Table!AL5,Table!BD5) -> 47.709446 | T5: =IF('Baby Growth Tracker'!$C$5="Male",Table!AM5,Table!BE5) -> 49.060827 | U5: =IF('Baby Growth Tracker'!$C$5="Male",Table!AN5,Table!BF5) -> 50.656375 | V5: =IF('Baby Growth Tracker'!$C$5="Male",Table!AO5,Table!BG5) -> 52.361296 | W5: =IF('Baby Growth Tracker'!$C$5="Male",Table!AP5,Table!BH5) -> 53.99949 | X5: =IF('Baby Growth Tracker'!$C$5="Male",Table!AQ5,Table!BI5) -> 55.031315 | Y5: =IF('Baby Growth Tracker'!$C$5="Male",Table!AR5,Table!BJ5) -> 55.723486 | Z5: =LOOKUP(P5,Q5:Y5,$Q$1:$Y$1) -> #N/A | AA5: 2.6219096 | AB5: 2.789555 | AC5: 3.0352267 | AD5: 3.4186818 | AE5: 3.8139451 | AF5: 4.1840842 | AG5: 4.4998941 | AH5: 4.6821952 | AI5: 4.7981703 | AJ5: 46.649009 | AK5: 47.258542 | AL5: 48.19843 | AM5: 49.77279 | AN5: 51.528258 | AO5: 53.290986 | AP5: 54.884269 | AQ5: 55.84107 | AR5: 56.463815 | AS5: 2.6174422 | AT5: 2.7534924 | AU5: 2.957567 | AV5: 3.2859387 | AW5: 3.6353004 | AX5: 3.9711495 | AY5: 4.2636197 | AZ5: 4.4347274 | BA5: 4.5444034 | BB5: 46.447217 | BC5: 46.936073 | BD5: 47.709446 | BE5: 49.060827 | BF5: 50.656375 | BG5: 52.361296 | BH5: 53.99949 | BI5: 55.031315 | BJ5: 55.723486
B6: =C6*30 -> 12 | C6: 0.4 | D6: =VLOOKUP(Table!C6,'Baby Growth Tracker'!$D$14:$E$99,2,FALSE) -> 3.6 | E6: =IF('Baby Growth Tracker'!$C$5="Male",Table!AA6,Table!AS6) -> 2.6837613 | F6: =IF('Baby Growth Tracker'!$C$5="Male",Table!AB6,Table!AT6) -> 2.8205723 | G6: =IF('Baby Growth Tracker'!$C$5="Male",Table!AC6,Table!AU6) -> 3.0262021 | H6: =IF('Baby Growth Tracker'!$C$5="Male",Table!AD6,Table!AV6) -> 3.3580261 | I6: =IF('Baby Growth Tracker'!$C$5="Male",Table!AE6,Table!AW6) -> 3.7122132 | J6: =IF('Baby Growth Tracker'!$C$5="Male",Table!AF6,Table!AX6) -> 4.0537028 | K6: =IF('Baby Growth Tracker'!$C$5="Male",Table!AG6,Table!AY6) -> 4.3518116 | L6: =IF('Baby Growth Tracker'!$C$5="Male",Table!AH6,Table!AZ6) -> 4.5265106 | M6: =IF('Baby Growth Tracker'!$C$5="Male",Table!AI6,Table!BA6) -> 4.6385967 | N6: =LOOKUP(D6,E6:M6,$E$1:$M$1) -> 25th | O6: 0.4 | P6: =VLOOKUP(Table!O6,'Baby Growth Tracker'!$D$14:$F$99,3,FALSE) -> 52 | Q6: =IF('Baby Growth Tracker'!$C$5="Male",Table!AJ6,Table!BB6) -> 46.856057 | R6: =IF('Baby Growth Tracker'!$C$5="Male",Table!AK6,Table!BC6) -> 47.347678 | S6: =IF('Baby Growth Tracker'!$C$5="Male",Table!AL6,Table!BD6) -> 48.124443 | T6: =IF('Baby Growth Tracker'!$C$5="Male",Table!AM6,Table!BE6) -> 49.478861 | U6: =IF('Baby Growth Tracker'!$C$5="Male",Table!AN6,Table!BF6) -> 51.073271 | V6: =IF('Baby Growth Tracker'!$C$5="Male",Table!AO6,Table!BG6) -> 52.771341 | W6: =IF('Baby Growth Tracker'!$C$5="Male",Table!AP6,Table!BH6) -> 54.397489 | X6: =IF('Baby Growth Tracker'!$C$5="Male",Table!AQ6,Table!BI6) -> 55.418993 | Y6: =IF('Baby Growth Tracker'!$C$5="Male",Table!AR6,Table!BJ6) -> 56.10306 | Z6: =LOOKUP(P6,Q6:Y6,$Q$1:$Y$1) -> 50th | AA6: 2.7107291 | AB6: 2.8771053 | AC6: 3.1223684 | AD6: 3.5080387 | AE6: 3.9085258 | AF6: 4.2857534 | AG6: 4.6090277 | AH6: 4.7961626 | AI6: 4.9153976 | AJ6: 47.161237 | AK6: 47.761916 | AL6: 48.689726 | AM6: 50.248131 | AN6: 51.992125 | AO6: 53.750049 | AP6: 55.344804 | AQ6: 56.305156 | AR6: 56.931292 | AS6: 2.6837613 | AT6: 2.8205723 | AU6: 3.0262021 | AV6: 3.3580261 | AW6: 3.7122132 | AX6: 4.0537028 | AY6: 4.3518116 | AZ6: 4.5265106 | BA6: 4.6385967 | BB6: 46.856057 | BC6: 47.347678 | BD6: 48.124443 | BE6: 49.478861 | BF6: 51.073271 | BG6: 52.771341 | BH6: 54.397489 | BI6: 55.418993 | BJ6: 56.10306
A7: Male | B7: =C7*30 -> 15 | C7: 0.5 | D7: =VLOOKUP(Table!C7,'Baby Growth Tracker'!$D$14:$E$99,2,FALSE) -> #N/A | E7: =IF('Baby Growth Tracker'!$C$5="Male",Table!AA7,Table!AS7) -> 2.756917 | F7: =IF('Baby Growth Tracker'!$C$5="Male",Table!AB7,Table!AT7) -> 2.8944423 | G7: =IF('Baby Growth Tracker'!$C$5="Male",Table!AC7,Table!AU7) -> 3.1017671 | H7: =IF('Baby Growth Tracker'!$C$5="Male",Table!AD7,Table!AV7) -> 3.4376283 | I7: =IF('Baby Growth Tracker'!$C$5="Male",Table!AE7,Table!AW7) -> 3.7975285 | J7: =IF('Baby Growth Tracker'!$C$5="Male",Table!AF7,Table!AX7) -> 4.1455937 | K7: =IF('Baby Growth Tracker'!$C$5="Male",Table!AG7,Table!AY7) -> 4.4501256 | L7: =IF('Baby Growth Tracker'!$C$5="Male",Table!AH7,Table!AZ7) -> 4.6288364 | M7: =IF('Baby Growth Tracker'!$C$5="Male",Table!AI7,Table!BA7) -> 4.7435818 | N7: =LOOKUP(D7,E7:M7,$E$1:$M$1) -> #N/A | O7: 0.5 | P7: =VLOOKUP(Table!O7,'Baby Growth Tracker'!$D$14:$F$99,3,FALSE) -> #N/A | Q7: =IF('Baby Growth Tracker'!$C$5="Male",Table!AJ7,Table!BB7) -> 47.469158 | R7: =IF('Baby Growth Tracker'!$C$5="Male",Table!AK7,Table!BC7) -> 47.96324 | S7: =IF('Baby Growth Tracker'!$C$5="Male",Table!AL7,Table!BD7) -> 48.742482 | T7: =IF('Baby Growth Tracker'!$C$5="Male",Table!AM7,Table!BE7) -> 50.096855 | U7: =IF('Baby Growth Tracker'!$C$5="Male",Table!AN7,Table!BF7) -> 51.683581 | V7: =IF('Baby Growth Tracker'!$C$5="Male",Table!AO7,Table!BG7) -> 53.363623 | W7: =IF('Baby Growth Tracker'!$C$5="Male",Table!AP7,Table!BH7) -> 54.962223 | X7: =IF('Baby Growth Tracker'!$C$5="Male",Table!AQ7,Table!BI7) -> 55.960942 | Y7: =IF('Baby Growth Tracker'!$C$5="Male",Table!AR7,Table!BJ7) -> 56.627281 | Z7: =LOOKUP(P7,Q7:Y7,$Q$1:$Y$1) -> #N/A | AA7: 2.7995486 | AB7: 2.9646557 | AC7: 3.20951 | AD7: 3.5973956 | AE7: 4.0031064 | AF7: 4.3874226 | AG7: 4.7181613 | AH7: 4.9101301 | AI7: 5.032625 | AJ7: 47.978124 | AK7: 48.558092 | AL7: 49.457804 | AM7: 50.979189 | AN7: 52.695975 | AO7: 54.440543 | AP7: 56.034441 | AQ7: 56.999077 | AR7: 57.629843 | AS7: 2.756917 | AT7: 2.8944423 | AU7: 3.1017671 | AV7: 3.4376283 | AW7: 3.7975285 | AX7: 4.1455937 | AY7: 4.4501256 | AZ7: 4.6288364 | BA7: 4.7435818 | BB7: 47.469158 | BC7: 47.96324 | BD7: 48.742482 | BE7: 50.096855 | BF7: 51.683581 | BG7: 53.363623 | BH7: 54.962223 | BI7: 55.960942 | BJ7: 56.627281
B8: =C8*30 -> 18 | C8: 0.6 | D8: =VLOOKUP(Table!C8,'Baby Growth Tracker'!$D$14:$E$99,2,FALSE) -> #N/A | E8: =IF('Baby Growth Tracker'!$C$5="Male",Table!AA8,Table!AS8) -> 2.8214546 | F8: =IF('Baby Growth Tracker'!$C$5="Male",Table!AB8,Table!AT8) -> 2.9597591 | G8: =IF('Baby Growth Tracker'!$C$5="Male",Table!AC8,Table!AU8) -> 3.1686061 | H8: =IF('Baby Growth Tracker'!$C$5="Male",Table!AD8,Table!AV8) -> 3.5077648 | I8: =IF('Baby Growth Tracker'!$C$5="Male",Table!AE8,Table!AW8) -> 3.8722533 | J8: =IF('Baby Growth Tracker'!$C$5="Male",Table!AF8,Table!AX8) -> 4.2257109 | K8: =IF('Baby Growth Tracker'!$C$5="Male",Table!AG8,Table!AY8) -> 4.5356763 | L8: =IF('Baby Growth Tracker'!$C$5="Male",Table!AH8,Table!AZ8) -> 4.7178697 | M8: =IF('Baby Growth Tracker'!$C$5="Male",Table!AI8,Table!BA8) -> 4.8349615 | N8: =LOOKUP(D8,E8:M8,$E$1:$M$1) -> #N/A | O8: 0.6 | P8: =VLOOKUP(Table!O8,'Baby Growth Tracker'!$D$14:$F$99,3,FALSE) -> #N/A | Q8: =IF('Baby Growth Tracker'!$C$5="Male",Table!AJ8,Table!BB8) -> 47.817943 | R8: =IF('Baby Growth Tracker'!$C$5="Male",Table!AK8,Table!BC8) -> 48.314911 | S8: =IF('Baby Growth Tracker'!$C$5="Male",Table!AL8,Table!BD8) -> 49.09786 | T8: =IF('Baby Growth Tracker'!$C$5="Male",Table!AM8,Table!BE8) -> 50.456248 | U8: =IF('Baby Growth Tracker'!$C$5="Male",Table!AN8,Table!BF8) -> 52.043835 | V8: =IF('Baby Growth Tracker'!$C$5="Male",Table!AO8,Table!BG8) -> 53.720397 | W8: =IF('Baby Growth Tracker'!$C$5="Male",Table!AP8,Table!BH8) -> 55.311613 | X8: =IF('Baby Growth Tracker'!$C$5="Male",Table!AQ8,Table!BI8) -> 56.303759 | Y8: =IF('Baby Growth Tracker'!$C$5="Male",Table!AR8,Table!BJ8) -> 56.96489 | Z8: =LOOKUP(P8,Q8:Y8,$Q$1:$Y$1) -> #N/A | AA8: 2.8810626 | AB8: 3.045675 | AC8: 3.2906152 | AD8: 3.6805433 | AE8: 4.0907483 | AF8: 4.4814131 | AG8: 4.8191604 | AH8: 5.0158273 | AI8: 5.1415554 | AJ8: 48.400171 | AK8: 48.974894 | AL8: 49.867388 | AM8: 51.37918 | AN8: 53.089221 | AO8: 54.831548 | AP8: 56.427637 | AQ8: 57.395635 | AR8: 58.02945 | AS8: 2.8214546 | AT8: 2.9597591 | AU8: 3.1686061 | AV8: 3.5077648 | AW8: 3.8722533 | AX8: 4.2257109 | AY8: 4.5356763 | AZ8: 4.7178697 | BA8: 4.8349615 | BB8: 47.817943 | BC8: 48.314911 | BD8: 49.09786 | BE8: 50.456248 | BF8: 52.043835 | BG8: 53.720397 | BH8: 55.311613 | BI8: 56.303759 | BJ8: 56.96489
B9: =C9*30 -> 21 | C9: 0.7 | D9: =VLOOKUP(Table!C9,'Baby Growth Tracker'!$D$14:$E$99,2,FALSE) -> #N/A | E9: =IF('Baby Growth Tracker'!$C$5="Male",Table!AA9,Table!AS9) -> 2.8854936 | F9: =IF('Baby Growth Tracker'!$C$5="Male",Table!AB9,Table!AT9) -> 3.0245745 | G9: =IF('Baby Growth Tracker'!$C$5="Male",Table!AC9,Table!AU9) -> 3.2349301 | H9: =IF('Baby Growth Tracker'!$C$5="Male",Table!AD9,Table!AV9) -> 3.577346 | I9: =IF('Baby Growth Tracker'!$C$5="Male",Table!AE9,Table!AW9) -> 3.9463637 | J9: =IF('Baby Growth Tracker'!$C$5="Male",Table!AF9,Table!AX9) -> 4.3051495 | K9: =IF('Baby Growth Tracker'!$C$5="Male",Table!AG9,Table!AY9) -> 4.620492 | L9: =IF('Baby Growth Tracker'!$C$5="Male",Table!AH9,Table!AZ9) -> 4.8061363 | M9: =IF('Baby Growth Tracker'!$C$5="Male",Table!AI9,Table!BA9) -> 4.9255552 | N9: =LOOKUP(D9,E9:M9,$E$1:$M$1) -> #N/A | O9: 0.7 | P9: =VLOOKUP(Table!O9,'Baby Growth Tracker'!$D$14:$F$99,3,FALSE) -> #N/A | Q9: =IF('Baby Growth Tracker'!$C$5="Male",Table!AJ9,Table!BB9) -> 48.158571 | R9: =IF('Baby Growth Tracker'!$C$5="Male",Table!AK9,Table!BC9) -> 48.658407 | S9: =IF('Baby Growth Tracker'!$C$5="Male",Table!AL9,Table!BD9) -> 49.445053 | T9: =IF('Baby Growth Tracker'!$C$5="Male",Table!AM9,Table!BE9) -> 50.807506 | U9: =IF('Baby Growth Tracker'!$C$5="Male",Table!AN9,Table!BF9) -> 52.396142 | V9: =IF('Baby Growth Tracker'!$C$5="Male",Table!AO9,Table!BG9) -> 54.069584 | W9: =IF('Baby Growth Tracker'!$C$5="Male",Table!AP9,Table!BH9) -> 55.653933 | X9: =IF('Baby Growth Tracker'!$C$5="Male",Table!AQ9,Table!BI9) -> 56.639919 | Y9: =IF('Baby Growth Tracker'!$C$5="Male",Table!AR9,Table!BJ9) -> 57.29616 | Z9: =LOOKUP(P9,Q9:Y9,$Q$1:$Y$1) -> #N/A | AA9: 2.9625765 | AB9: 3.1266943 | AC9: 3.3717203 | AD9: 3.763691 | AE9: 4.1783902 | AF9: 4.5754036 | AG9: 4.9201596 | AH9: 5.1215244 | AI9: 5.2504858 | AJ9: 48.810659 | AK9: 49.380488 | AL9: 50.266255 | AM9: 51.769126 | AN9: 53.472947 | AO9: 55.213326 | AP9: 56.811666 | AQ9: 57.782969 | AR9: 58.419762 | AS9: 2.8854936 | AT9: 3.0245745 | AU9: 3.2349301 | AV9: 3.577346 | AW9: 3.9463637 | AX9: 4.3051495 | AY9: 4.620492 | AZ9: 4.8061363 | BA9: 4.9255552 | BB9: 48.158571 | BC9: 48.658407 | BD9: 49.445053 | BE9: 50.807506 | BF9: 52.396142 | BG9: 54.069584 | BH9: 55.653933 | BI9: 56.639919 | BJ9: 57.29616
B10: =C10*30 -> 24 | C10: 0.8 | D10: =VLOOKUP(Table!C10,'Baby Growth Tracker'!$D$14:$E$99,2,FALSE) -> #N/A | E10: =IF('Baby Growth Tracker'!$C$5="Male",Table!AA10,Table!AS10) -> 2.9490379 | F10: =IF('Baby Growth Tracker'!$C$5="Male",Table!AB10,Table!AT10) -> 3.0888921 | G10: =IF('Baby Growth Tracker'!$C$5="Male",Table!AC10,Table!AU10) -> 3.3007425 | H10: =IF('Baby Growth Tracker'!$C$5="Male",Table!AD10,Table!AV10) -> 3.6463758 | I10: =IF('Baby Growth Tracker'!$C$5="Male",Table!AE10,Table!AW10) -> 4.0198647 | J10: =IF('Baby Growth Tracker'!$C$5="Male",Table!AF10,Table!AX10) -> 4.3839156 | K10: =IF('Baby Growth Tracker'!$C$5="Male",Table!AG10,Table!AY10) -> 4.7045793 | L10: =IF('Baby Growth Tracker'!$C$5="Male",Table!AH10,Table!AZ10) -> 4.8936432 | M10: =IF('Baby Growth Tracker'!$C$5="Male",Table!AI10,Table!BA10) -> 5.0153699 | N10: =LOOKUP(D10,E10:M10,$E$1:$M$1) -> #N/A | O10: 0.8 | P10: =VLOOKUP(Table!O10,'Baby Growth Tracker'!$D$14:$F$99,3,FALSE) -> #N/A | Q10: =IF('Baby Growth Tracker'!$C$5="Male",Table!AJ10,Table!BB10) -> 48.491418 | R10: =IF('Baby Growth Tracker'!$C$5="Male",Table!AK10,Table!BC10) -> 48.9941 | S10: =IF('Baby Growth Tracker'!$C$5="Male",Table!AL10,Table!BD10) -> 49.78443 | T10: =IF('Baby Growth Tracker'!$C$5="Male",Table!AM10,Table!BE10) -> 51.150995 | U10: =IF('Baby Growth Tracker'!$C$5="Male",Table!AN10,Table!BF10) -> 52.740852 | V10: =IF('Baby Growth Tracker'!$C$5="Male",Table!AO10,Table!BG10) -> 54.411517 | W10: =IF('Baby Growth Tracker'!$C$5="Male",Table!AP10,Table!BH10) -> 55.989487 | X10: =IF('Baby Growth Tracker'!$C$5="Male",Table!AQ10,Table!BI10) -> 56.969703 | Y10: =IF('Baby Growth Tracker'!$C$5="Male",Table!AR10,Table!BJ10) -> 57.621352 | Z10: =LOOKUP(P10,Q10:Y10,$Q$1:$Y$1) -> #N/A | AA10: 3.0440905 | AB10: 3.2077136 | AC10: 3.4528254 | AD10: 3.8468388 | AE10: 4.266032 | AF10: 4.6693941 | AG10: 5.0211587 | AH10: 5.2272216 | AI10: 5.3594162 | AJ10: 49.210148 | AK10: 49.775414 | AL10: 50.654912 | AM10: 52.149494 | AN10: 53.847593 | AO10: 55.586299 | AP10: 57.186945 | AQ10: 58.1615 | AR10: 58.8012 | AS10: 2.9490379 | AT10: 3.0888921 | AU10: 3.3007425 | AV10: 3.6463758 | AW10: 4.0198647 | AX10: 4.3839156 | AY10: 4.7045793 | AZ10: 4.8936432 | BA10: 5.0153699 | BB10: 48.491418 | BC10: 48.9941 | BD10: 49.78443 | BE10: 51.150995 | BF10: 52.740852 | BG10: 54.411517 | BH10: 55.989487 | BI10: 56.969703 | BJ10: 57.621352
B11: =C11*30 -> 27 | C11: 0.9 | D11: =VLOOKUP(Table!C11,'Baby Growth Tracker'!$D$14:$E$99,2,FALSE) -> #N/A | E11: =IF('Baby Growth Tracker'!$C$5="Male",Table!AA11,Table!AS11) -> 3.0120913 | F11: =IF('Baby Growth Tracker'!$C$5="Male",Table!AB11,Table!AT11) -> 3.1527155 | G11: =IF('Baby Growth Tracker'!$C$5="Male",Table!AC11,Table!AU11) -> 3.3660469 | H11: =IF('Baby Growth Tracker'!$C$5="Male",Table!AD11,Table!AV11) -> 3.7148583 | I11: =IF('Baby Growth Tracker'!$C$5="Male",Table!AE11,Table!AW11) -> 4.0927613 | J11: =IF('Baby Growth Tracker'!$C$5="Male",Table!AF11,Table!AX11) -> 4.462015 | K11: =IF('Baby Growth Tracker'!$C$5="Male",Table!AG11,Table!AY11) -> 4.7879449 | L11: =IF('Baby Growth Tracker'!$C$5="Male",Table!AH11,Table!AZ11) -> 4.9803971 | M11: =IF('Baby Growth Tracker'!$C$5="Male",Table!AI11,Table!BA11) -> 5.1044125 | N11: =LOOKUP(D11,E11:M11,$E$1:$M$1) -> #N/A | O11: 0.9 | P11: =VLOOKUP(Table!O11,'Baby Growth Tracker'!$D$14:$F$99,3,FALSE) -> #N/A | Q11: =IF('Baby Growth Tracker'!$C$5="Male",Table!AJ11,Table!BB11) -> 48.816833 | R11: =IF('Baby Growth Tracker'!$C$5="Male",Table!AK11,Table!BC11) -> 49.32234 | S11: =IF('Baby Growth Tracker'!$C$5="Male",Table!AL11,Table!BD11) -> 50.116342 | T11: =IF('Baby Growth Tracker'!$C$5="Male",Table!AM11,Table!BE11) -> 51.487058 | U11: =IF('Baby Growth Tracker'!$C$5="Male",Table!AN11,Table!BF11) -> 53.078301 | V11: =IF('Baby Growth Tracker'!$C$5="Male",Table!AO11,Table!BG11) -> 54.74651 | W11: =IF('Baby Growth Tracker'!$C$5="Male",Table!AP11,Table!BH11) -> 56.318562 | X11: =IF('Baby Growth Tracker'!$C$5="Male",Table!AQ11,Table!BI11) -> 57.293377 | Y11: =IF('Baby Growth Tracker'!$C$5="Male",Table!AR11,Table!BJ11) -> 57.940714 | Z11: =LOOKUP(P11,Q11:Y11,$Q$1:$Y$1) -> #N/A | AA11: 3.1256044 | AB11: 3.2887329 | AC11: 3.5339306 | AD11: 3.9299865 | AE11: 4.3536739 | AF11: 4.7633846 | AG11: 5.1221579 | AH11: 5.3329187 | AI11: 5.4683466 | AJ11: 49.599162 | AK11: 50.160175 | AL11: 51.033838 | AM11: 52.520727 | AN11: 54.213573 | AO11: 55.950865 | AP11: 57.553869 | AQ11: 58.531623 | AR11: 59.174163 | AS11: 3.0120913 | AT11: 3.1527155 | AU11: 3.3660469 | AV11: 3.7148583 | AW11: 4.0927613 | AX11: 4.462015 | AY11: 4.7879449 | AZ11: 4.9803971 | BA11: 5.1044125 | BB11: 48.816833 | BC11: 49.32234 | BD11: 50.116342 | BE11: 51.487058 | BF11: 53.078301 | BG11: 54.74651 | BH11: 56.318562 | BI11: 57.293377 | BJ11: 57.940714
A12: Male | B12: =C12*30 -> 30 | C12: 1 | D12: =VLOOKUP(Table!C12,'Baby Growth Tracker'!$D$14:$E$99,2,FALSE) -> 4.4 | E12: =IF('Baby Growth Tracker'!$C$5="Male",Table!AA12,Table!AS12) -> 3.0746578 | F12: =IF('Baby Growth Tracker'!$C$5="Male",Table!AB12,Table!AT12) -> 3.2160482 | G12: =IF('Baby Growth Tracker'!$C$5="Male",Table!AC12,Table!AU12) -> 3.4308467 | H12: =IF('Baby Growth Tracker'!$C$5="Male",Table!AD12,Table!AV12) -> 3.7827974 | I12: =IF('Baby Growth Tracker'!$C$5="Male",Table!AE12,Table!AW12) -> 4.1650584 | J12: =IF('Baby Growth Tracker'!$C$5="Male",Table!AF12,Table!AX12) -> 4.5394536 | K12: =IF('Baby Growth Tracker'!$C$5="Male",Table!AG12,Table!AY12) -> 4.8705951 | L12: =IF('Baby Growth Tracker'!$C$5="Male",Table!AH12,Table!AZ12) -> 5.0664049 | M12: =IF('Baby Growth Tracker'!$C$5="Male",Table!AI12,Table!BA12) -> 5.19269 | N12: =LOOKUP(D12,E12:M12,$E$1:$M$1) -> 50th | O12: 1 | P12: =VLOOKUP(Table!O12,'Baby Growth Tracker'!$D$14:$F$99,3,FALSE) -> 55 | Q12: =IF('Baby Growth Tracker'!$C$5="Male",Table!AJ12,Table!BB12) -> 49.13515 | R12: =IF('Baby Growth Tracker'!$C$5="Male",Table!AK12,Table!BC12) -> 49.64346 | S12: =IF('Baby Growth Tracker'!$C$5="Male",Table!AL12,Table!BD12) -> 50.441118 | T12: =IF('Baby Growth Tracker'!$C$5="Male",Table!AM12,Table!BE12) -> 51.816022 | U12: =IF('Baby Growth Tracker'!$C$5="Male",Table!AN12,Table!BF12) -> 53.408801 | V12: =IF('Baby Growth Tracker'!$C$5="Male",Table!AO12,Table!BG12) -> 55.074859 | W12: =IF('Baby Growth Tracker'!$C$5="Male",Table!AP12,Table!BH12) -> 56.641428 | X12: =IF('Baby Growth Tracker'!$C$5="Male",Table!AQ12,Table!BI12) -> 57.611189 | Y12: =IF('Baby Growth Tracker'!$C$5="Male",Table!AR12,Table!BJ12) -> 58.25448 | Z12: =LOOKUP(P12,Q12:Y12,$Q$1:$Y$1) -> 50th | AA12: 3.2071184 | AB12: 3.3697523 | AC12: 3.6150357 | AD12: 4.0131343 | AE12: 4.4413158 | AF12: 4.8573751 | AG12: 5.223157 | AH12: 5.4386159 | AI12: 5.577277 | AJ12: 49.978195 | AK12: 50.535248 | AL12: 51.403483 | AM12: 52.883242 | AN12: 54.571278 | AO12: 56.307402 | AP12: 57.91281 | AQ12: 58.893713 | AR12: 59.539027 | AS12: 3.0746578 | AT12: 3.2160482 | AU12: 3.4308467 | AV12: 3.7827974 | AW12: 4.1650584 | AX12: 4.5394536 | AY12: 4.8705951 | AZ12: 5.0664049 | BA12: 5.19269 | BB12: 49.13515 | BC12: 49.64346 | BD12: 50.441118 | BE12: 51.816022 | BF12: 53.408801 | BG12: 55.074859 | BH12: 56.641428 | BI12: 57.611189 | BJ12: 58.25448
B13: =C13*30 -> 33 | C13: 1.1 | D13: =VLOOKUP(Table!C13,'Baby Growth Tracker'!$D$14:$E$99,2,FALSE) -> #N/A | E13: =IF('Baby Growth Tracker'!$C$5="Male",Table!AA13,Table!AS13) -> 3.1367411 | F13: =IF('Baby Growth Tracker'!$C$5="Male",Table!AB13,Table!AT13) -> 3.2788938 | G13: =IF('Baby Growth Tracker'!$C$5="Male",Table!AC13,Table!AU13) -> 3.4951455 | H13: =IF('Baby Growth Tracker'!$C$5="Male",Table!AD13,Table!AV13) -> 3.8501972 | I13: =IF('Baby Growth Tracker'!$C$5="Male",Table!AE13,Table!AW13) -> 4.2367609 | J13: =IF('Baby Growth Tracker'!$C$5="Male",Table!AF13,Table!AX13) -> 4.6162372 | K13: =IF('Baby Growth Tracker'!$C$5="Male",Table!AG13,Table!AY13) -> 4.9525366 | L13: =IF('Baby Growth Tracker'!$C$5="Male",Table!AH13,Table!AZ13) -> 5.1516733 | M13: =IF('Baby Growth Tracker'!$C$5="Male",Table!AI13,Table!BA13) -> 5.2802092 | N13: =LOOKUP(D13,E13:M13,$E$1:$M$1) -> #N/A | O13: 1.1 | P13: =VLOOKUP(Table!O13,'Baby Growth Tracker'!$D$14:$F$99,3,FALSE) -> #N/A | Q13: =IF('Baby Growth Tracker'!$C$5="Male",Table!AJ13,Table!BB13) -> 49.446681 | R13: =IF('Baby Growth Tracker'!$C$5="Male",Table!AK13,Table!BC13) -> 49.957771 | S13: =IF('Baby Growth Tracker'!$C$5="Male",Table!AL13,Table!BD13) -> 50.759069 | T13: =IF('Baby Growth Tracker'!$C$5="Male",Table!AM13,Table!BE13) -> 52.138191 | U13: =IF('Baby Growth Tracker'!$C$5="Male",Table!AN13,Table!BF13) -> 53.732651 | V13: =IF('Baby Growth Tracker'!$C$5="Male",Table!AO13,Table!BG13) -> 55.396843 | W13: =IF('Baby Growth Tracker'!$C$5="Male",Table!AP13,Table!BH13) -> 56.95834 | X13: =IF('Baby Growth Tracker'!$C$5="Male",Table!AQ13,Table!BI13) -> 57.923377 | Y13: =IF('Baby Growth Tracker'!$C$5="Male",Table!AR13,Table!BJ13) -> 58.562874 | Z13: =LOOKUP(P13,Q13:Y13,$Q$1:$Y$1) -> #N/A | AA13: 3.2886323 | AB13: 3.4507716 | AC13: 3.6961409 | AD13: 4.096282 | AE13: 4.5289576 | AF13: 4.9513656 | AG13: 5.3241562 | AH13: 5.544313 | AI13: 5.6862075 | AJ13: 50.347712 | AK13: 50.901081 | AL13: 51.764272 | AM13: 53.23743 | AN13: 54.921074 | AO13: 56.656262 | AP13: 58.264119 | AQ13: 59.24812 | AR13: 59.896145 | AS13: 3.1367411 | AT13: 3.2788938 | AU13: 3.4951455 | AV13: 3.8501972 | AW13: 4.2367609 | AX13: 4.6162372 | AY13: 4.9525366 | AZ13: 5.1516733 | BA13: 5.2802092 | BB13: 49.446681 | BC13: 49.957771 | BD13: 50.759069 | BE13: 52.138191 | BF13: 53.732651 | BG13: 55.396843 | BH13: 56.95834 | BI13: 57.923377 | BJ13: 58.562874
B14: =C14*30 -> 36 | C14: 1.2 | D14: =VLOOKUP(Table!C14,'Baby Growth Tracker'!$D$14:$E$99,2,FALSE) -> #N/A | E14: =IF('Baby Growth Tracker'!$C$5="Male",Table!AA14,Table!AS14) -> 3.1983451 | F14: =IF('Baby Growth Tracker'!$C$5="Male",Table!AB14,Table!AT14) -> 3.3412558 | G14: =IF('Baby Growth Tracker'!$C$5="Male",Table!AC14,Table!AU14) -> 3.5589467 | H14: =IF('Baby Growth Tracker'!$C$5="Male",Table!AD14,Table!AV14) -> 3.9170617 | I14: =IF('Baby Growth Tracker'!$C$5="Male",Table!AE14,Table!AW14) -> 4.3078738 | J14: =IF('Baby Growth Tracker'!$C$5="Male",Table!AF14,Table!AX14) -> 4.6923717 | K14: =IF('Baby Growth Tracker'!$C$5="Male",Table!AG14,Table!AY14) -> 5.0337756 | L14: =IF('Baby Growth Tracker'!$C$5="Male",Table!AH14,Table!AZ14) -> 5.236209 | M14: =IF('Baby Growth Tracker'!$C$5="Male",Table!AI14,Table!BA14) -> 5.3669769 | N14: =LOOKUP(D14,E14:M14,$E$1:$M$1) -> #N/A | O14: 1.2 | P14: =VLOOKUP(Table!O14,'Baby Growth Tracker'!$D$14:$F$99,3,FALSE) -> #N/A | Q14: =IF('Baby Growth Tracker'!$C$5="Male",Table!AJ14,Table!BB14) -> 49.75172 | R14: =IF('Baby Growth Tracker'!$C$5="Male",Table!AK14,Table!BC14) -> 50.265568 | S14: =IF('Baby Growth Tracker'!$C$5="Male",Table!AL14,Table!BD14) -> 51.070488 | T14: =IF('Baby Growth Tracker'!$C$5="Male",Table!AM14,Table!BE14) -> 52.453857 | U14: =IF('Baby Growth Tracker'!$C$5="Male",Table!AN14,Table!BF14) -> 54.050129 | V14: =IF('Baby Growth Tracker'!$C$5="Male",Table!AO14,Table!BG14) -> 55.712727 | W14: =IF('Baby Growth Tracker'!$C$5="Male",Table!AP14,Table!BH14) -> 57.269542 | X14: =IF('Baby Growth Tracker'!$C$5="Male",Table!AQ14,Table!BI14) -> 58.230165 | Y14: =IF('Baby Growth Tracker'!$C$5="Male",Table!AR14,Table!BJ14) -> 58.866105 | Z14: =LOOKUP(P14,Q14:Y14,$Q$1:$Y$1) -> #N/A | AA14: 3.3701462 | AB14: 3.5317909 | AC14: 3.777246 | AD14: 4.1794297 | AE14: 4.6165995 | AF14: 5.0453561 | AG14: 5.4251553 | AH14: 5.6500102 | AI14: 5.7951379 | AJ14: 50.708152 | AK14: 51.258095 | AL14: 52.116604 | AM14: 53.583661 | AN14: 55.26331 | AO14: 56.99778 | AP14: 58.608127 | AQ14: 59.595177 | AR14: 60.245853 | AS14: 3.1983451 | AT14: 3.3412558 | AU14: 3.5589467 | AV14: 3.9170617 | AW14: 4.3078738 | AX14: 4.6923717 | AY14: 5.0337756 | AZ14: 5.236209 | BA14: 5.3669769 | BB14: 49.75172 | BC14: 50.265568 | BD14: 51.070488 | BE14: 52.453857 | BF14: 54.050129 | BG14: 55.712727 | BH14: 57.269542 | BI14: 58.230165 | BJ14: 58.866105
B15: =C15*30 -> 39 | C15: 1.3 | D15: =VLOOKUP(Table!C15,'Baby Growth Tracker'!$D$14:$E$99,2,FALSE) -> #N/A | E15: =IF('Baby Growth Tracker'!$C$5="Male",Table!AA15,Table!AS15) -> 3.2594733 | F15: =IF('Baby Growth Tracker'!$C$5="Male",Table!AB15,Table!AT15) -> 3.4031377 | G15: =IF('Baby Growth Tracker'!$C$5="Male",Table!AC15,Table!AU15) -> 3.6222539 | H15: =IF('Baby Growth Tracker'!$C$5="Male",Table!AD15,Table!AV15) -> 3.9833949 | I15: =IF('Baby Growth Tracker'!$C$5="Male",Table!AE15,Table!AW15) -> 4.3784018 | J15: =IF('Baby Growth Tracker'!$C$5="Male",Table!AF15,Table!AX15) -> 4.7678626 | K15: =IF('Baby Growth Tracker'!$C$5="Male",Table!AG15,Table!AY15) -> 5.1143186 | L15: =IF('Baby Growth Tracker'!$C$5="Male",Table!AH15,Table!AZ15) -> 5.3200186 | M15: =IF('Baby Growth Tracker'!$C$5="Male",Table!AI15,Table!BA15) -> 5.453 | N15: =LOOKUP(D15,E15:M15,$E$1:$M$1) -> #N/A | O15: 1.3 | P15: =VLOOKUP(Table!O15,'Baby Growth Tracker'!$D$14:$F$99,3,FALSE) -> #N/A | Q15: =IF('Baby Growth Tracker'!$C$5="Male",Table!AJ15,Table!BB15) -> 50.050547 | R15: =IF('Baby Growth Tracker'!$C$5="Male",Table!AK15,Table!BC15) -> 50.56713 | S15: =IF('Baby Growth Tracker'!$C$5="Male",Table!AL15,Table!BD15) -> 51.375653 | T15: =IF('Baby Growth Tracker'!$C$5="Male",Table!AM15,Table!BE15) -> 52.763292 | U15: =IF('Baby Growth Tracker'!$C$5="Male",Table!AN15,Table!BF15) -> 54.361502 | V15: =IF('Baby Growth Tracker'!$C$5="Male",Table!AO15,Table!BG15) -> 56.022761 | W15: =IF('Baby Growth Tracker'!$C$5="Male",Table!AP15,Table!BH15) -> 57.575262 | X15: =IF('Baby Growth Tracker'!$C$5="Male",Table!AQ15,Table!BI15) -> 58.531765 | Y15: =IF('Baby Growth Tracker'!$C$5="Male",Table!AR15,Table!BJ15) -> 59.164372 | Z15: =LOOKUP(P15,Q15:Y15,$Q$1:$Y$1) -> #N/A | AA15: 3.4516602 | AB15: 3.6128102 | AC15: 3.8583512 | AD15: 4.2625775 | AE15: 4.7042414 | AF15: 5.1393466 | AG15: 5.5261545 | AH15: 5.7557073 | AI15: 5.9040683 | AJ15: 51.059927 | AK15: 51.606688 | AL15: 52.460857 | AM15: 53.922285 | AN15: 55.598312 | AO15: 57.332271 | AP15: 58.945145 | AQ15: 59.935197 | AR15: 60.588465 | AS15: 3.2594733 | AT15: 3.4031377 | AU15: 3.6222539 | AV15: 3.9833949 | AW15: 4.3784018 | AX15: 4.7678626 | AY15: 5.1143186 | AZ15: 5.3200186 | BA15: 5.453 | BB15: 50.050547 | BC15: 50.56713 | BD15: 51.375653 | BE15: 52.763292 | BF15: 54.361502 | BG15: 56.022761 | BH15: 57.575262 | BI15: 58.531765 | BJ15: 59.164372
B16: =C16*30 -> 42 | C16: 1.4 | D16: =VLOOKUP(Table!C16,'Baby Growth Tracker'!$D$14:$E$99,2,FALSE) -> #N/A | E16: =IF('Baby Growth Tracker'!$C$5="Male",Table!AA16,Table!AS16) -> 3.3201296 | F16: =IF('Baby Growth Tracker'!$C$5="Male",Table!AB16,Table!AT16) -> 3.464543 | G16: =IF('Baby Growth Tracker'!$C$5="Male",Table!AC16,Table!AU16) -> 3.6850704 | H16: =IF('Baby Growth Tracker'!$C$5="Male",Table!AD16,Table!AV16) -> 4.0492006 | I16: =IF('Baby Growth Tracker'!$C$5="Male",Table!AE16,Table!AW16) -> 4.4483499 | J16: =IF('Baby Growth Tracker'!$C$5="Male",Table!AF16,Table!AX16) -> 4.8427158 | K16: =IF('Baby Growth Tracker'!$C$5="Male",Table!AG16,Table!AY16) -> 5.1941719 | L16: =IF('Baby Growth Tracker'!$C$5="Male",Table!AH16,Table!AZ16) -> 5.4031087 | M16: =IF('Baby Growth Tracker'!$C$5="Male",Table!AI16,Table!BA16) -> 5.5382852 | N16: =LOOKUP(D16,E16:M16,$E$1:$M$1) -> #N/A | O16: 1.4 | P16: =VLOOKUP(Table!O16,'Baby Growth Tracker'!$D$14:$F$99,3,FALSE) -> #N/A | Q16: =IF('Baby Growth Tracker'!$C$5="Male",Table!AJ16,Table!BB16) -> 50.343425 | R16: =IF('Baby Growth Tracker'!$C$5="Male",Table!AK16,Table!BC16) -> 50.862719 | S16: =IF('Baby Growth Tracker'!$C$5="Male",Table!AL16,Table!BD16) -> 51.674827 | T16: =IF('Baby Growth Tracker'!$C$5="Male",Table!AM16,Table!BE16) -> 53.066754 | U16: =IF('Baby Growth Tracker'!$C$5="Male",Table!AN16,Table!BF16) -> 54.667019 | V16: =IF('Baby Growth Tracker'!$C$5="Male",Table!AO16,Table!BG16) -> 56.327181 | W16: =IF('Baby Growth Tracker'!$C$5="Male",Table!AP16,Table!BH16) -> 57.875717 | X16: =IF('Baby Growth Tracker'!$C$5="Male",Table!AQ16,Table!BI16) -> 58.828379 | Y16: =IF('Baby Growth Tracker'!$C$5="Male",Table!AR16,Table!BJ16) -> 59.457864 | Z16: =LOOKUP(P16,Q16:Y16,$Q$1:$Y$1) -> #N/A | AA16: 3.5331741 | AB16: 3.6938295 | AC16: 3.9394563 | AD16: 4.3457252 | AE16: 4.7918832 | AF16: 5.2333371 | AG16: 5.6271536 | AH16: 5.8614045 | AI16: 6.0129987 | AJ16: 51.403426 | AK16: 51.947235 | AL16: 52.797385 | AM16: 54.253631 | AN16: 55.926389 | AO16: 57.660035 | AP16: 59.275469 | AQ16: 60.268478 | AR16: 60.92428 | AS16: 3.3201296 | AT16: 3.464543 | AU16: 3.6850704 | AV16: 4.0492006 | AW16: 4.4483499 | AX16: 4.8427158 | AY16: 5.1941719 | AZ16: 5.4031087 | BA16: 5.5382852 | BB16: 50.343425 | BC16: 50.862719 | BD16: 51.674827 | BE16: 53.066754 | BF16: 54.667019 | BG16: 56.327181 | BH16: 57.875717 | BI16: 58.828379 | BJ16: 59.457864
A17: Male | B17: =C17*30 -> 45 | C17: 1.5 | D17: =VLOOKUP(Table!C17,'Baby Growth Tracker'!$D$14:$E$99,2,FALSE) -> #N/A | E17: =IF('Baby Growth Tracker'!$C$5="Male",Table!AA17,Table!AS17) -> 3.4022933 | F17: =IF('Baby Growth Tracker'!$C$5="Male",Table!AB17,Table!AT17) -> 3.5476103 | G17: =IF('Baby Growth Tracker'!$C$5="Male",Table!AC17,Table!AU17) -> 3.7701575 | H17: =IF('Baby Growth Tracker'!$C$5="Male",Table!AD17,Table!AV17) -> 4.1389938 | I17: =IF('Baby Growth Tracker'!$C$5="Male",Table!AE17,Table!AW17) -> 4.5447765 | J17: =IF('Baby Growth Tracker'!$C$5="Male",Table!AF17,Table!AX17) -> 4.9467655 | K17: =IF('Baby Growth Tracker'!$C$5="Male",Table!AG17,Table!AY17) -> 5.3056325 | L17: =IF('Baby Growth Tracker'!$C$5="Male",Table!AH17,Table!AZ17) -> 5.5191693 | M17: =IF('Baby Growth Tracker'!$C$5="Male",Table!AI17,Table!BA17) -> 5.6573791 | N17: =LOOKUP(D17,E17:M17,$E$1:$M$1) -> #N/A | O17: 1.5 | P17: =VLOOKUP(Table!O17,'Baby Growth Tracker'!$D$14:$F$99,3,FALSE) -> #N/A | Q17: =IF('Baby Growth Tracker'!$C$5="Male",Table!AJ17,Table!BB17) -> 50.957006 | R17: =IF('Baby Growth Tracker'!$C$5="Male",Table!AK17,Table!BC17) -> 51.479957 | S17: =IF('Baby Growth Tracker'!$C$5="Male",Table!AL17,Table!BD17) -> 52.296269 | T17: =IF('Baby Growth Tracker'!$C$5="Male",Table!AM17,Table!BE17) -> 53.690781 | U17: =IF('Baby Growth Tracker'!$C$5="Male",Table!AN17,Table!BF17) -> 55.286128 | V17: =IF('Baby Growth Tracker'!$C$5="Male",Table!AO17,Table!BG17) -> 56.931361 | W17: =IF('Baby Growth Tracker'!$C$5="Male",Table!AP17,Table!BH17) -> 58.456124 | X17: =IF('Baby Growth Tracker'!$C$5="Male",Table!AQ17,Table!BI17) -> 59.389107 | Y17: =IF('Baby Growth Tracker'!$C$5="Male",Table!AR17,Table!BJ17) -> 60.003378 | Z17: =LOOKUP(P17,Q17:Y17,$Q$1:$Y$1) -> #N/A | AA17: 3.6146881 | AB17: 3.7748489 | AC17: 4.0205614 | AD17: 4.428873 | AE17: 4.8795251 | AF17: 5.3273276 | AG17: 5.7281528 | AH17: 5.9671016 | AI17: 6.121918 | AJ17: 52.198595 | AK17: 52.726107 | AL17: 53.553647 | AM17: 54.979104 | AN17: 56.628429 | AO17: 58.350594 | AP17: 59.966403 | AQ17: 60.964654 | AR17: 61.625915 | AS17: 3.4022933 | AT17: 3.5476103 | AU17: 3.7701575 | AV17: 4.1389938 | AW17: 4.5447765 | AX17: 4.9467655 | AY17: 5.3056325 | AZ17: 5.5191693 | BA17: 5.6573791 | BB17: 50.957006 | BC17: 51.479957 | BD17: 52.296269 | BE17: 53.690781 | BF17: 55.286128 | BG17: 56.931361 | BH17: 58.456124 | BI17: 59.389107 | BJ17: 60.003378
B18: =C18*30 -> 48 | C18: 1.6 | D18: =VLOOKUP(Table!C18,'Baby Growth Tracker'!$D$14:$E$99,2,FALSE) -> 5 | E18: =IF('Baby Growth Tracker'!$C$5="Male",Table!AA18,Table!AS18) -> 3.4618445 | F18: =IF('Baby Growth Tracker'!$C$5="Male",Table!AB18,Table!AT18) -> 3.6079131 | G18: =IF('Baby Growth Tracker'!$C$5="Male",Table!AC18,Table!AU18) -> 3.8318459 | H18: =IF('Baby Growth Tracker'!$C$5="Male",Table!AD18,Table!AV18) -> 4.2035764 | I18: =IF('Baby Growth Tracker'!$C$5="Male",Table!AE18,Table!AW18) -> 4.6133573 | J18: =IF('Baby Growth Tracker'!$C$5="Male",Table!AF18,Table!AX18) -> 5.0200973 | K18: =IF('Baby Growth Tracker'!$C$5="Male",Table!AG18,Table!AY18) -> 5.3838333 | L18: =IF('Baby Growth Tracker'!$C$5="Male",Table!AH18,Table!AZ18) -> 5.600536 | M18: =IF('Baby Growth Tracker'!$C$5="Male",Table!AI18,Table!BA18) -> 5.7408986 | N18: =LOOKUP(D18,E18:M18,$E$1:$M$1) -> 50th | O18: 1.6 | P18: =VLOOKUP(Table!O18,'Baby Growth Tracker'!$D$14:$F$99,3,FALSE) -> 57 | Q18: =IF('Baby Growth Tracker'!$C$5="Male",Table!AJ18,Table!BB18) -> 51.22423 | R18: =IF('Baby Growth Tracker'!$C$5="Male",Table!AK18,Table!BC18) -> 51.749869 | S18: =IF('Baby Growth Tracker'!$C$5="Male",Table!AL18,Table!BD18) -> 52.569786 | T18: =IF('Baby Growth Tracker'!$C$5="Male",Table!AM18,Table!BE18) -> 53.968828 | U18: =IF('Baby Growth Tracker'!$C$5="Male",Table!AN18,Table!BF18) -> 55.566897 | V18: =IF('Baby Growth Tracker'!$C$5="Male",Table!AO18,Table!BG18) -> 57.212269 | W18: =IF('Baby Growth Tracker'!$C$5="Male",Table!AP18,Table!BH18) -> 58.734817 | X18: =IF('Baby Growth Tracker'!$C$5="Male",Table!AQ18,Table!BI18) -> 59.665362 | Y18: =IF('Baby Growth Tracker'!$C$5="Male",Table!AR18,Table!BJ18) -> 60.277587 | Z18: =LOOKUP(P18,Q18:Y18,$Q$1:$Y$1) -> 50th | AA18: 3.6874534 | AB18: 3.8476895 | AC18: 4.0939532 | AD18: 4.5043234 | AE18: 4.9588615 | AF18: 5.4121546 | AG18: 5.8192354 | AH18: 6.0625034 | AI18: 6.2203092 | AJ18: 52.505057 | AK18: 53.030841 | AL18: 53.856054 | AM18: 55.278634 | AN18: 56.926481 | AO18: 58.649323 | AP18: 60.267921 | AQ18: 61.268977 | AR18: 61.932564 | AS18: 3.4618445 | AT18: 3.6079131 | AU18: 3.8318459 | AV18: 4.2035764 | AW18: 4.6133573 | AX18: 5.0200973 | AY18: 5.3838333 | AZ18: 5.600536 | BA18: 5.7408986 | BB18: 51.22423 | BC18: 51.749869 | BD18: 52.569786 | BE18: 53.968828 | BF18: 55.566897 | BG18: 57.212269 | BH18: 58.734817 | BI18: 59.665362 | BJ18: 60.277587
B19: =C19*30 -> 51 | C19: 1.7 | D19: =VLOOKUP(Table!C19,'Baby Growth Tracker'!$D$14:$E$99,2,FALSE) -> #N/A | E19: =IF('Baby Growth Tracker'!$C$5="Male",Table!AA19,Table!AS19) -> 3.5209364 | F19: =IF('Baby Growth Tracker'!$C$5="Male",Table!AB19,Table!AT19) -> 3.6677505 | G19: =IF('Baby Growth Tracker'!$C$5="Male",Table!AC19,Table!AU19) -> 3.8930544 | H19: =IF('Baby Growth Tracker'!$C$5="Male",Table!AD19,Table!AV19) -> 4.267644 | I19: =IF('Baby Growth Tracker'!$C$5="Male",Table!AE19,Table!AW19) -> 4.6813737 | J19: =IF('Baby Growth Tracker'!$C$5="Male",Table!AF19,Table!AX19) -> 5.0928102 | K19: =IF('Baby Growth Tracker'!$C$5="Male",Table!AG19,Table!AY19) -> 5.4613654 | L19: =IF('Baby Growth Tracker'!$C$5="Male",Table!AH19,Table!AZ19) -> 5.681205 | M19: =IF('Baby Growth Tracker'!$C$5="Male",Table!AI19,Table!BA19) -> 5.8237021 | N19: =LOOKUP(D19,E19:M19,$E$1:$M$1) -> #N/A | O19: 1.7 | P19: =VLOOKUP(Table!O19,'Baby Growth Tracker'!$D$14:$F$99,3,FALSE) -> #N/A | Q19: =IF('Baby Growth Tracker'!$C$5="Male",Table!AJ19,Table!BB19) -> 51.487034 | R19: =IF('Baby Growth Tracker'!$C$5="Male",Table!AK19,Table!BC19) -> 52.015332 | S19: =IF('Baby Growth Tracker'!$C$5="Male",Table!AL19,Table!BD19) -> 52.838827 | T19: =IF('Baby Growth Tracker'!$C$5="Male",Table!AM19,Table!BE19) -> 54.242393 | U19: =IF('Baby Growth Tracker'!$C$5="Male",Table!AN19,Table!BF19) -> 55.843249 | V19: =IF('Baby Growth Tracker'!$C$5="Male",Table!AO19,Table!BG19) -> 57.488916 | W19: =IF('Baby Growth Tracker'!$C$5="Male",Table!AP19,Table!BH19) -> 59.009475 | X19: =IF('Baby Growth Tracker'!$C$5="Male",Table!AQ19,Table!BI19) -> 59.937763 | Y19: =IF('Baby Growth Tracker'!$C$5="Male",Table!AR19,Table!BJ19) -> 60.548078 | Z19: =LOOKUP(P19,Q19:Y19,$Q$1:$Y$1) -> #N/A | AA19: 3.7602187 | AB19: 3.9205302 | AC19: 4.167345 | AD19: 4.5797739 | AE19: 5.0381978 | AF19: 5.4969817 | AG19: 5.910318 | AH19: 6.1579051 | AI19: 6.318704 | AJ19: 52.805546 | AK19: 53.329742 | AL19: 54.152827 | AM19: 55.57281 | AN19: 57.219409 | AO19: 58.943054 | AP19: 60.564457 | AQ19: 61.568278 | AR19: 62.234144 | AS19: 3.5209364 | AT19: 3.6677505 | AU19: 3.8930544 | AV19: 4.267644 | AW19: 4.6813737 | AX19: 5.0928102 | AY19: 5.4613654 | AZ19: 5.681205 | BA19: 5.8237021 | BB19: 51.487034 | BC19: 52.015332 | BD19: 52.838827 | BE19: 54.242393 | BF19: 55.843249 | BG19: 57.488916 | BH19: 59.009475 | BI19: 59.937763 | BJ19: 60.548078
B20: =C20*30 -> 54 | C20: 1.8 | D20: =VLOOKUP(Table!C20,'Baby Growth Tracker'!$D$14:$E$99,2,FALSE) -> #N/A | E20: =IF('Baby Growth Tracker'!$C$5="Male",Table!AA20,Table!AS20) -> 3.5795725 | F20: =IF('Baby Growth Tracker'!$C$5="Male",Table!AB20,Table!AT20) -> 3.7271259 | G20: =IF('Baby Growth Tracker'!$C$5="Male",Table!AC20,Table!AU20) -> 3.9537863 | H20: =IF('Baby Growth Tracker'!$C$5="Male",Table!AD20,Table!AV20) -> 4.3312005 | I20: =IF('Baby Growth Tracker'!$C$5="Male",Table!AE20,Table!AW20) -> 4.7488306 | J20: =IF('Baby Growth Tracker'!$C$5="Male",Table!AF20,Table!AX20) -> 5.1649096 | K20: =IF('Baby Growth Tracker'!$C$5="Male",Table!AG20,Table!AY20) -> 5.5382347 | L20: =IF('Baby Growth Tracker'!$C$5="Male",Table!AH20,Table!AZ20) -> 5.7611825 | M20: =IF('Baby Growth Tracker'!$C$5="Male",Table!AI20,Table!BA20) -> 5.9057962 | N20: =LOOKUP(D20,E20:M20,$E$1:$M$1) -> #N/A | O20: 1.8 | P20: =VLOOKUP(Table!O20,'Baby Growth Tracker'!$D$14:$F$99,3,FALSE) -> #N/A | Q20: =IF('Baby Growth Tracker'!$C$5="Male",Table!AJ20,Table!BB20) -> 51.745574 | R20: =IF('Baby Growth Tracker'!$C$5="Male",Table!AK20,Table!BC20) -> 52.276504 | S20: =IF('Baby Growth Tracker'!$C$5="Male",Table!AL20,Table!BD20) -> 53.103548 | T20: =IF('Baby Growth Tracker'!$C$5="Male",Table!AM20,Table!BE20) -> 54.511631 | U20: =IF('Baby Growth Tracker'!$C$5="Male",Table!AN20,Table!BF20) -> 56.115337 | V20: =IF('Baby Growth Tracker'!$C$5="Male",Table!AO20,Table!BG20) -> 57.761445 | W20: =IF('Baby Growth Tracker'!$C$5="Male",Table!AP20,Table!BH20) -> 59.280233 | X20: =IF('Baby Growth Tracker'!$C$5="Male",Table!AQ20,Table!BI20) -> 60.206434 | Y20: =IF('Baby Growth Tracker'!$C$5="Male",Table!AR20,Table!BJ20) -> 60.814971 | Z20: =LOOKUP(P20,Q20:Y20,$Q$1:$Y$1) -> #N/A | AA20: 3.8329841 | AB20: 3.9933708 | AC20: 4.2407368 | AD20: 4.6552243 | AE20: 5.1175342 | AF20: 5.5818087 | AG20: 6.0014007 | AH20: 6.2533069 | AI20: 6.417208 | AJ20: 53.100286 | AK20: 53.623028 | AL20: 54.444173 | AM20: 55.861827 | AN20: 57.507396 | AO20: 59.231966 | AP20: 60.856188 | AQ20: 61.862734 | AR20: 62.530832 | AS20: 3.5795725 | AT20: 3.7271259 | AU20: 3.9537863 | AV20: 4.3312005 | AW20: 4.7488306 | AX20: 5.1649096 | AY20: 5.5382347 | AZ20: 5.7611825 | BA20: 5.9057962 | BB20: 51.745574 | BC20: 52.276504 | BD20: 53.103548 | BE20: 54.511631 | BF20: 56.115337 | BG20: 57.761445 | BH20: 59.280233 | BI20: 60.206434 | BJ20: 60.814971
B21: =C21*30 -> 57 | C21: 1.9 | D21: =VLOOKUP(Table!C21,'Baby Growth Tracker'!$D$14:$E$99,2,FALSE) -> #N/A | E21: =IF('Baby Growth Tracker'!$C$5="Male",Table!AA21,Table!AS21) -> 3.6377562 | F21: =IF('Baby Growth Tracker'!$C$5="Male",Table!AB21,Table!AT21) -> 3.7860426 | G21: =IF('Baby Growth Tracker'!$C$5="Male",Table!AC21,Table!AU21) -> 4.0140452 | H21: =IF('Baby Growth Tracker'!$C$5="Male",Table!AD21,Table!AV21) -> 4.3942498 | I21: =IF('Baby Growth Tracker'!$C$5="Male",Table!AE21,Table!AW21) -> 4.8157324 | J21: =IF('Baby Growth Tracker'!$C$5="Male",Table!AF21,Table!AX21) -> 5.2364011 | K21: =IF('Baby Growth Tracker'!$C$5="Male",Table!AG21,Table!AY21) -> 5.6144474 | L21: =IF('Baby Growth Tracker'!$C$5="Male",Table!AH21,Table!AZ21) -> 5.840475 | M21: =IF('Baby Growth Tracker'!$C$5="Male",Table!AI21,Table!BA21) -> 5.9871872 | N21: =LOOKUP(D21,E21:M21,$E$1:$M$1) -> #N/A | O21: 1.9 | P21: =VLOOKUP(Table!O21,'Baby Growth Tracker'!$D$14:$F$99,3,FALSE) -> #N/A | Q21: =IF('Baby Growth Tracker'!$C$5="Male",Table!AJ21,Table!BB21) -> 52 | R21: =IF('Baby Growth Tracker'!$C$5="Male",Table!AK21,Table!BC21) -> 52.533536 | S21: =IF('Baby Growth Tracker'!$C$5="Male",Table!AL21,Table!BD21) -> 53.3641 | T21: =IF('Baby Growth Tracker'!$C$5="Male",Table!AM21,Table!BE21) -> 54.776693 | U21: =IF('Baby Growth Tracker'!$C$5="Male",Table!AN21,Table!BF21) -> 56.383306 | V21: =IF('Baby Growth Tracker'!$C$5="Male",Table!AO21,Table!BG21) -> 58.029995 | W21: =IF('Baby Growth Tracker'!$C$5="Male",Table!AP21,Table!BH21) -> 59.547219 | X21: =IF('Baby Growth Tracker'!$C$5="Male",Table!AQ21,Table!BI21) -> 60.471499 | Y21: =IF('Baby Growth Tracker'!$C$5="Male",Table!AR21,Table!BJ21) -> 61.078381 | Z21: =LOOKUP(P21,Q21:Y21,$Q$1:$Y$1) -> #N/A | AA21: 3.9057494 | AB21: 4.0662115 | AC21: 4.3141286 | AD21: 4.7306748 | AE21: 5.1968706 | AF21: 5.6666358 | AG21: 6.0924833 | AH21: 6.3487086 | AI21: 6.515601 | AJ21: 53.389493 | AK21: 53.910906 | AL21: 54.730292 | AM21: 56.145872 | AN21: 57.790618 | AO21: 59.516228 | AP21: 61.143282 | AQ21: 62.152515 | AR21: 62.8228 | AS21: 3.6377562 | AT21: 3.7860426 | AU21: 4.0140452 | AV21: 4.3942498 | AW21: 4.8157324 | AX21: 5.2364011 | AY21: 5.6144474 | AZ21: 5.840475 | BA21: 5.9871872 | BB21: 52 | BC21: 52.533536 | BD21: 53.3641 | BE21: 54.776693 | BF21: 56.383306 | BG21: 58.029995 | BH21: 59.547219 | BI21: 60.471499 | BJ21: 61.078381
A22: Male | B22: =C22*30 -> 60 | C22: 2 | D22: =VLOOKUP(Table!C22,'Baby Growth Tracker'!$D$14:$E$99,2,FALSE) -> #N/A | E22: =IF('Baby Growth Tracker'!$C$5="Male",Table!AA22,Table!AS22) -> 3.695491 | F22: =IF('Baby Growth Tracker'!$C$5="Male",Table!AB22,Table!AT22) -> 3.8445041 | G22: =IF('Baby Growth Tracker'!$C$5="Male",Table!AC22,Table!AU22) -> 4.0738345 | H22: =IF('Baby Growth Tracker'!$C$5="Male",Table!AD22,Table!AV22) -> 4.4567957 | I22: =IF('Baby Growth Tracker'!$C$5="Male",Table!AE22,Table!AW22) -> 4.8820839 | J22: =IF('Baby Growth Tracker'!$C$5="Male",Table!AF22,Table!AX22) -> 5.30729 | K22: =IF('Baby Growth Tracker'!$C$5="Male",Table!AG22,Table!AY22) -> 5.6900095 | L22: =IF('Baby Growth Tracker'!$C$5="Male",Table!AH22,Table!AZ22) -> 5.9190888 | M22: =IF('Baby Growth Tracker'!$C$5="Male",Table!AI22,Table!BA22) -> 6.0678819 | N22: =LOOKUP(D22,E22:M22,$E$1:$M$1) -> #N/A | O22: 2 | P22: =VLOOKUP(Table!O22,'Baby Growth Tracker'!$D$14:$F$99,3,FALSE) -> #N/A | Q22: =IF('Baby Growth Tracker'!$C$5="Male",Table!AJ22,Table!BB22) -> 52.250455 | R22: =IF('Baby Growth Tracker'!$C$5="Male",Table!AK22,Table!BC22) -> 52.78657 | S22: =IF('Baby Growth Tracker'!$C$5="Male",Table!AL22,Table!BD22) -> 53.620626 | T22: =IF('Baby Growth Tracker'!$C$5="Male",Table!AM22,Table!BE22) -> 55.037719 | U22: =IF('Baby Growth Tracker'!$C$5="Male",Table!AN22,Table!BF22) -> 56.647294 | V22: =IF('Baby Growth Tracker'!$C$5="Male",Table!AO22,Table!BG22) -> 58.294699 | W22: =IF('Baby Growth Tracker'!$C$5="Male",Table!AP22,Table!BH22) -> 59.810555 | X22: =IF('Baby Growth Tracker'!$C$5="Male",Table!AQ22,Table!BI22) -> 60.73307 | Y22: =IF('Baby Growth Tracker'!$C$5="Male",Table!AR22,Table!BJ22) -> 61.338416 | Z22: =LOOKUP(P22,Q22:Y22,$Q$1:$Y$1) -> #N/A | AA22: 3.9785148 | AB22: 4.1390521 | AC22: 4.3875204 | AD22: 4.8061252 | AE22: 5.2762069 | AF22: 5.7514629 | AG22: 6.1835659 | AH22: 6.4441104 | AI22: 6.614013 | AJ22: 53.67337 | AK22: 54.193575 | AL22: 55.011372 | AM22: 56.425121 | AN22: 58.069243 | AO22: 59.796002 | AP22: 61.4259 | AQ22: 62.437783 | AR22: 63.110211 | AS22: 3.695491 | AT22: 3.8445041 | AU22: 4.0738345 | AV22: 4.4567957 | AW22: 4.8820839 | AX22: 5.30729 | AY22: 5.6900095 | AZ22: 5.9190888 | BA22: 6.0678819 | BB22: 52.250455 | BC22: 52.78657 | BD22: 53.620626 | BE22: 55.037719 | BF22: 56.647294 | BG22: 58.294699 | BH22: 59.810555 | BI22: 60.73307 | BJ22: 61.338416
B23: =C23*30 -> 63 | C23: 2.1 | D23: =VLOOKUP(Table!C23,'Baby Growth Tracker'!$D$14:$E$99,2,FALSE) -> #N/A | E23: =IF('Baby Growth Tracker'!$C$5="Male",Table!AA23,Table!AS23) -> 3.7527803 | F23: =IF('Baby Growth Tracker'!$C$5="Male",Table!AB23,Table!AT23) -> 3.9025138 | G23: =IF('Baby Growth Tracker'!$C$5="Male",Table!AC23,Table!AU23) -> 4.1331577 | H23: =IF('Baby Growth Tracker'!$C$5="Male",Table!AD23,Table!AV23) -> 4.5188423 | I23: =IF('Baby Growth Tracker'!$C$5="Male",Table!AE23,Table!AW23) -> 4.9478897 | J23: =IF('Baby Growth Tracker'!$C$5="Male",Table!AF23,Table!AX23) -> 5.3775816 | K23: =IF('Baby Growth Tracker'!$C$5="Male",Table!AG23,Table!AY23) -> 5.7649269 | L23: =IF('Baby Growth Tracker'!$C$5="Male",Table!AH23,Table!AZ23) -> 5.9970301 | M23: =IF('Baby Growth Tracker'!$C$5="Male",Table!AI23,Table!BA23) -> 6.1478866 | N23: =LOOKUP(D23,E23:M23,$E$1:$M$1) -> #N/A | O23: 2.1 | P23: =VLOOKUP(Table!O23,'Baby Growth Tracker'!$D$14:$F$99,3,FALSE) -> #N/A | Q23: =IF('Baby Growth Tracker'!$C$5="Male",Table!AJ23,Table!BB23) -> 52.497075 | R23: =IF('Baby Growth Tracker'!$C$5="Male",Table!AK23,Table!BC23) -> 53.035743 | S23: =IF('Baby Growth Tracker'!$C$5="Male",Table!AL23,Table!BD23) -> 53.873263 | T23: =IF('Baby Growth Tracker'!$C$5="Male",Table!AM23,Table!BE23) -> 55.294847 | U23: =IF('Baby Growth Tracker'!$C$5="Male",Table!AN23,Table!BF23) -> 56.907436 | V23: =IF('Baby Growth Tracker'!$C$5="Male",Table!AO23,Table!BG23) -> 58.555682 | W23: =IF('Baby Growth Tracker'!$C$5="Male",Table!AP23,Table!BH23) -> 60.070359 | X23: =IF('Baby Growth Tracker'!$C$5="Male",Table!AQ23,Table!BI23) -> 60.991258 | Y23: =IF('Baby Growth Tracker'!$C$5="Male",Table!AR23,Table!BJ23) -> 61.595181 | Z23: =LOOKUP(P23,Q23:Y23,$Q$1:$Y$1) -> #N/A | AA23: 4.0512801 | AB23: 4.2118928 | AC23: 4.4609122 | AD23: 4.8815757 | AE23: 5.3555433 | AF23: 5.8362899 | AG23: 6.2746486 | AH23: 6.5395121 | AI23: 6.712521 | AJ23: 53.95211 | AK23: 54.471222 | AL23: 55.287594 | AM23: 56.699744 | AN23: 58.343429 | AO23: 60.071443 | AP23: 61.704194 | AQ23: 62.71869 | AR23: 63.39322 | AS23: 3.7527803 | AT23: 3.9025138 | AU23: 4.1331577 | AV23: 4.5188423 | AW23: 4.9478897 | AX23: 5.3775816 | AY23: 5.7649269 | AZ23: 5.9970301 | BA23: 6.1478866 | BB23: 52.497075 | BC23: 53.035743 | BD23: 53.873263 | BE23: 55.294847 | BF23: 56.907436 | BG23: 58.555682 | BH23: 60.070359 | BI23: 60.991258 | BJ23: 61.595181
B24: =C24*30 -> 66 | C24: 2.2 | D24: =VLOOKUP(Table!C24,'Baby Growth Tracker'!$D$14:$E$99,2,FALSE) -> #N/A | E24: =IF('Baby Growth Tracker'!$C$5="Male",Table!AA24,Table!AS24) -> 3.8096276 | F24: =IF('Baby Growth Tracker'!$C$5="Male",Table!AB24,Table!AT24) -> 3.960075 | G24: =IF('Baby Growth Tracker'!$C$5="Male",Table!AC24,Table!AU24) -> 4.1920181 | H24: =IF('Baby Growth Tracker'!$C$5="Male",Table!AD24,Table!AV24) -> 4.5803932 | I24: =IF('Baby Growth Tracker'!$C$5="Male",Table!AE24,Table!AW24) -> 5.0131542 | J24: =IF('Baby Growth Tracker'!$C$5="Male",Table!AF24,Table!AX24) -> 5.4472813 | K24: =IF('Baby Growth Tracker'!$C$5="Male",Table!AG24,Table!AY24) -> 5.8392055 | L24: =IF('Baby Growth Tracker'!$C$5="Male",Table!AH24,Table!AZ24) -> 6.0743051 | M24: =IF('Baby Growth Tracker'!$C$5="Male",Table!AI24,Table!BA24) -> 6.2272077 | N24: =LOOKUP(D24,E24:M24,$E$1:$M$1) -> #N/A | O24: 2.2 | P24: =VLOOKUP(Table!O24,'Baby Growth Tracker'!$D$14:$F$99,3,FALSE) -> #N/A | Q24: =IF('Baby Growth Tracker'!$C$5="Male",Table!AJ24,Table!BB24) -> 52.73999 | R24: =IF('Baby Growth Tracker'!$C$5="Male",Table!AK24,Table!BC24) -> 53.281184 | S24: =IF('Baby Growth Tracker'!$C$5="Male",Table!AL24,Table!BD24) -> 54.122141 | T24: =IF('Baby Growth Tracker'!$C$5="Male",Table!AM24,Table!BE24) -> 55.548205 | U24: =IF('Baby Growth Tracker'!$C$5="Male",Table!AN24,Table!BF24) -> 57.163856 | V24: =IF('Baby Growth Tracker'!$C$5="Male",Table!AO24,Table!BG24) -> 58.813066 | W24: =IF('Baby Growth Tracker'!$C$5="Male",Table!AP24,Table!BH24) -> 60.326743 | X24: =IF('Baby Growth Tracker'!$C$5="Male",Table!AQ24,Table!BI24) -> 61.246169 | Y24: =IF('Baby Growth Tracker'!$C$5="Male",Table!AR24,Table!BJ24) -> 61.848776 | Z24: =LOOKUP(P24,Q24:Y24,$Q$1:$Y$1) -> #N/A | AA24: 4.1240454 | AB24: 4.2847334 | AC24: 4.534304 | AD24: 4.9570262 | AE24: 5.4348797 | AF24: 5.921117 | AG24: 6.3657312 | AH24: 6.6349139 | AI24: 6.810919 | AJ24: 54.225899 | AK24: 54.744027 | AL24: 55.559129 | AM24: 56.9699 | AN24: 58.61333 | AO24: 60.342697 | AP24: 61.97831 | AQ24: 62.995384 | AR24: 63.671974 | AS24: 3.8096276 | AT24: 3.960075 | AU24: 4.1920181 | AV24: 4.5803932 | AW24: 5.0131542 | AX24: 5.4472813 | AY24: 5.8392055 | AZ24: 6.0743051 | BA24: 6.2272077 | BB24: 52.73999 | BC24: 53.281184 | BD24: 54.122141 | BE24: 55.548205 | BF24: 57.163856 | BG24: 58.813066 | BH24: 60.326743 | BI24: 61.246169 | BJ24: 61.848776
B25: =C25*30 -> 69 | C25: 2.3 | D25: =VLOOKUP(Table!C25,'Baby Growth Tracker'!$D$14:$E$99,2,FALSE) -> #N/A | E25: =IF('Baby Growth Tracker'!$C$5="Male",Table!AA25,Table!AS25) -> 3.8660362 | F25: =IF('Baby Growth Tracker'!$C$5="Male",Table!AB25,Table!AT25) -> 4.017191 | G25: =IF('Baby Growth Tracker'!$C$5="Male",Table!AC25,Table!AU25) -> 4.2504193 | H25: =IF('Baby Growth Tracker'!$C$5="Male",Table!AD25,Table!AV25) -> 4.6414524 | I25: =IF('Baby Growth Tracker'!$C$5="Male",Table!AE25,Table!AW25) -> 5.0778821 | J25: =IF('Baby Growth Tracker'!$C$5="Male",Table!AF25,Table!AX25) -> 5.5163943 | K25: =IF('Baby Growth Tracker'!$C$5="Male",Table!AG25,Table!AY25) -> 5.9128513 | L25: =IF('Baby Growth Tracker'!$C$5="Male",Table!AH25,Table!AZ25) -> 6.1509202 | M25: =IF('Baby Growth Tracker'!$C$5="Male",Table!AI25,Table!BA25) -> 6.3058515 | N25: =LOOKUP(D25,E25:M25,$E$1:$M$1) -> #N/A | O25: 2.3 | P25: =VLOOKUP(Table!O25,'Baby Growth Tracker'!$D$14:$F$99,3,FALSE) -> #N/A | Q25: =IF('Baby Growth Tracker'!$C$5="Male",Table!AJ25,Table!BB25) -> 52.979323 | R25: =IF('Baby Growth Tracker'!$C$5="Male",Table!AK25,Table!BC25) -> 53.523019 | S25: =IF('Baby Growth Tracker'!$C$5="Male",Table!AL25,Table!BD25) -> 54.367385 | T25: =IF('Baby Growth Tracker'!$C$5="Male",Table!AM25,Table!BE25) -> 55.797917 | U25: =IF('Baby Growth Tracker'!$C$5="Male",Table!AN25,Table!BF25) -> 57.416676 | V25: =IF('Baby Growth Tracker'!$C$5="Male",Table!AO25,Table!BG25) -> 59.066965 | W25: =IF('Baby Growth Tracker'!$C$5="Male",Table!AP25,Table!BH25) -> 60.579813 | X25: =IF('Baby Growth Tracker'!$C$5="Male",Table!AQ25,Table!BI25) -> 61.497903 | Y25: =IF('Baby Growth Tracker'!$C$5="Male",Table!AR25,Table!BJ25) -> 62.099297 | Z25: =LOOKUP(P25,Q25:Y25,$Q$1:$Y$1) -> #N/A | AA25: 4.1968108 | AB25: 4.357574 | AC25: 4.6076958 | AD25: 5.0324766 | AE25: 5.514216 | AF25: 6.005944 | AG25: 6.4568139 | AH25: 6.7303157 | AI25: 6.909301 | AJ25: 54.494913 | AK25: 55.012161 | AL25: 55.826141 | AM25: 57.235744 | AN25: 58.879089 | AO25: 60.609904 | AP25: 62.248389 | AQ25: 63.268006 | AR25: 63.946616 | AS25: 3.8660362 | AT25: 4.017191 | AU25: 4.2504193 | AV25: 4.6414524 | AW25: 5.0778821 | AX25: 5.5163943 | AY25: 5.9128513 | AZ25: 6.1509202 | BA25: 6.3058515 | BB25: 52.979323 | BC25: 53.523019 | BD25: 54.367385 | BE25: 55.797917 | BF25: 57.416676 | BG25: 59.066965 | BH25: 60.579813 | BI25: 61.497903 | BJ25: 62.099297
B26: =C26*30 -> 72 | C26: 2.4 | D26: =VLOOKUP(Table!C26,'Baby Growth Tracker'!$D$14:$E$99,2,FALSE) -> #N/A | E26: =IF('Baby Growth Tracker'!$C$5="Male",Table!AA26,Table!AS26) -> 3.9220095 | F26: =IF('Baby Growth Tracker'!$C$5="Male",Table!AB26,Table!AT26) -> 4.0738652 | G26: =IF('Baby Growth Tracker'!$C$5="Male",Table!AC26,Table!AU26) -> 4.3083646 | H26: =IF('Baby Growth Tracker'!$C$5="Male",Table!AD26,Table!AV26) -> 4.7020238 | I26: =IF('Baby Growth Tracker'!$C$5="Male",Table!AE26,Table!AW26) -> 5.1420778 | J26: =IF('Baby Growth Tracker'!$C$5="Male",Table!AF26,Table!AX26) -> 5.584926 | K26: =IF('Baby Growth Tracker'!$C$5="Male",Table!AG26,Table!AY26) -> 5.9858701 | L26: =IF('Baby Growth Tracker'!$C$5="Male",Table!AH26,Table!AZ26) -> 6.2268813 | M26: =IF('Baby Growth Tracker'!$C$5="Male",Table!AI26,Table!BA26) -> 6.3838245 | N26: =LOOKUP(D26,E26:M26,$E$1:$M$1) -> #N/A | O26: 2.4 | P26: =VLOOKUP(Table!O26,'Baby Growth Tracker'!$D$14:$F$99,3,FALSE) -> #N/A | Q26: =IF('Baby Growth Tracker'!$C$5="Male",Table!AJ26,Table!BB26) -> 53.215194 | R26: =IF('Baby Growth Tracker'!$C$5="Male",Table!AK26,Table!BC26) -> 53.761366 | S26: =IF('Baby Growth Tracker'!$C$5="Male",Table!AL26,Table!BD26) -> 54.609113 | T26: =IF('Baby Growth Tracker'!$C$5="Male",Table!AM26,Table!BE26) -> 56.044102 | U26: =IF('Baby Growth Tracker'!$C$5="Male",Table!AN26,Table!BF26) -> 57.666011 | V26: =IF('Baby Growth Tracker'!$C$5="Male",Table!AO26,Table!BG26) -> 59.317489 | W26: =IF('Baby Growth Tracker'!$C$5="Male",Table!AP26,Table!BH26) -> 60.829673 | X26: =IF('Baby Growth Tracker'!$C$5="Male",Table!AQ26,Table!BI26) -> 61.746557 | Y26: =IF('Baby Growth Tracker'!$C$5="Male",Table!AR26,Table!BJ26) -> 62.346836 | Z26: =LOOKUP(P26,Q26:Y26,$Q$1:$Y$1) -> #N/A | AA26: 4.2695761 | AB26: 4.4304147 | AC26: 4.6810876 | AD26: 5.1079271 | AE26: 5.5935524 | AF26: 6.0907711 | AG26: 6.5478965 | AH26: 6.8257174 | AI26: 7.007804 | AJ26: 54.759319 | AK26: 55.275787 | AL26: 56.088785 | AM26: 57.497422 | AN26: 59.140846 | AO26: 60.873199 | AP26: 62.514562 | AQ26: 63.536689 | AR26: 64.217281 | AS26: 3.9220095 | AT26: 4.0738652 | AU26: 4.3083646 | AV26: 4.7020238 | AW26: 5.1420778 | AX26: 5.584926 | AY26: 5.9858701 | AZ26: 6.2268813 | BA26: 6.3838245 | BB26: 53.215194 | BC26: 53.761366 | BD26: 54.609113 | BE26: 56.044102 | BF26: 57.666011 | BG26: 59.317489 | BH26: 60.829673 | BI26: 61.746557 | BJ26: 62.346836
A27: Male | B27: =C27*30 -> 75 | C27: 2.5 | D27: =VLOOKUP(Table!C27,'Baby Growth Tracker'!$D$14:$E$99,2,FALSE) -> #N/A | E27: =IF('Baby Growth Tracker'!$C$5="Male",Table!AA27,Table!AS27) -> 3.9978056 | F27: =IF('Baby Growth Tracker'!$C$5="Male",Table!AB27,Table!AT27) -> 4.1506385 | G27: =IF('Baby Growth Tracker'!$C$5="Male",Table!AC27,Table!AU27) -> 4.387042 | H27: =IF('Baby Growth Tracker'!$C$5="Male",Table!AD27,Table!AV27) -> 4.7848204 | I27: =IF('Baby Growth Tracker'!$C$5="Male",Table!AE27,Table!AW27) -> 5.2305842 | J27: =IF('Baby Growth Tracker'!$C$5="Male",Table!AF27,Table!AX27) -> 5.6800832 | K27: =IF('Baby Growth Tracker'!$C$5="Male",Table!AG27,Table!AY27) -> 6.0876408 | L27: =IF('Baby Growth Tracker'!$C$5="Male",Table!AH27,Table!AZ27) -> 6.3328371 | M27: =IF('Baby Growth Tracker'!$C$5="Male",Table!AI27,Table!BA27) -> 6.4925744 | N27: =LOOKUP(D27,E27:M27,$E$1:$M$1) -> #N/A | O27: 2.5 | P27: =VLOOKUP(Table!O27,'Baby Growth Tracker'!$D$14:$F$99,3,FALSE) -> #N/A | Q27: =IF('Baby Growth Tracker'!$C$5="Male",Table!AJ27,Table!BB27) -> 53.629253 | R27: =IF('Baby Growth Tracker'!$C$5="Male",Table!AK27,Table!BC27) -> 54.179074 | S27: =IF('Baby Growth Tracker'!$C$5="Male",Table!AL27,Table!BD27) -> 55.031443 | T27: =IF('Baby Growth Tracker'!$C$5="Male",Table!AM27,Table!BE27) -> 56.471252 | U27: =IF('Baby Growth Tracker'!$C$5="Male",Table!AN27,Table!BF27) -> 58.093819 | V27: =IF('Baby Growth Tracker'!$C$5="Male",Table!AO27,Table!BG27) -> 59.740447 | W27: =IF('Baby Growth Tracker'!$C$5="Male",Table!AP27,Table!BH27) -> 61.243058 | X27: =IF('Baby Growth Tracker'!$C$5="Male",Table!AQ27,Table!BI27) -> 62.151656 | Y27: =IF('Baby Growth Tracker'!$C$5="Male",Table!AR27,Table!BJ27) -> 62.74547 | Z27: =LOOKUP(P27,Q27:Y27,$Q$1:$Y$1) -> #N/A | AA27: 4.3423415 | AB27: 4.5032553 | AC27: 4.7544794 | AD27: 5.1833775 | AE27: 5.6728888 | AF27: 6.1755982 | AG27: 6.6389791 | AH27: 6.9211192 | AI27: 7.1062501 | AJ27: 55.263218 | AK27: 55.773451 | AL27: 56.577721 | AM27: 57.974399 | AN27: 59.608953 | AO27: 61.337881 | AP27: 62.981581 | AQ27: 64.007885 | AR27: 64.692409 | AS27: 3.9978056 | AT27: 4.1506385 | AU27: 4.387042 | AV27: 4.7848204 | AW27: 5.2305842 | AX27: 5.6800832 | AY27: 6.0876408 | AZ27: 6.3328371 | BA27: 6.4925744 | BB27: 53.629253 | BC27: 54.179074 | BD27: 55.031443 | BE27: 56.471252 | BF27: 58.093819 | BG27: 59.740447 | BH27: 61.243058 | BI27: 62.151656 | BJ27: 62.74547
B28: =C28*30 -> 78 | C28: 2.6 | D28: =VLOOKUP(Table!C28,'Baby Growth Tracker'!$D$14:$E$99,2,FALSE) -> 6 | E28: =IF('Baby Growth Tracker'!$C$5="Male",Table!AA28,Table!AS28) -> 4.0527634 | F28: =IF('Baby Growth Tracker'!$C$5="Male",Table!AB28,Table!AT28) -> 4.2062869 | G28: =IF('Baby Growth Tracker'!$C$5="Male",Table!AC28,Table!AU28) -> 4.4439304 | H28: =IF('Baby Growth Tracker'!$C$5="Male",Table!AD28,Table!AV28) -> 4.8442525 | I28: =IF('Baby Growth Tracker'!$C$5="Male",Table!AE28,Table!AW28) -> 5.2935219 | J28: =IF('Baby Growth Tracker'!$C$5="Male",Table!AF28,Table!AX28) -> 5.7472261 | K28: =IF('Baby Growth Tracker'!$C$5="Male",Table!AG28,Table!AY28) -> 6.1591537 | L28: =IF('Baby Growth Tracker'!$C$5="Male",Table!AH28,Table!AZ28) -> 6.4072256 | M28: =IF('Baby Growth Tracker'!$C$5="Male",Table!AI28,Table!BA28) -> 6.5689335 | N28: =LOOKUP(D28,E28:M28,$E$1:$M$1) -> 75th | O28: 2.6 | P28: =VLOOKUP(Table!O28,'Baby Growth Tracker'!$D$14:$F$99,3,FALSE) -> 60 | Q28: =IF('Baby Growth Tracker'!$C$5="Male",Table!AJ28,Table!BB28) -> 53.852268 | R28: =IF('Baby Growth Tracker'!$C$5="Male",Table!AK28,Table!BC28) -> 54.404501 | S28: =IF('Baby Growth Tracker'!$C$5="Male",Table!AL28,Table!BD28) -> 55.260191 | T28: =IF('Baby Growth Tracker'!$C$5="Male",Table!AM28,Table!BE28) -> 56.704473 | U28: =IF('Baby Growth Tracker'!$C$5="Male",Table!AN28,Table!BF28) -> 58.330418 | V28: =IF('Baby Growth Tracker'!$C$5="Male",Table!AO28,Table!BG28) -> 59.978732 | W28: =IF('Baby Growth Tracker'!$C$5="Male",Table!AP28,Table!BH28) -> 61.4814 | X28: =IF('Baby Growth Tracker'!$C$5="Male",Table!AQ28,Table!BI28) -> 62.389366 | Y28: =IF('Baby Growth Tracker'!$C$5="Male",Table!AR28,Table!BJ28) -> 62.9825 | Z28: =LOOKUP(P28,Q28:Y28,$Q$1:$Y$1) -> 75th | AA28: 4.4073971 | AB28: 4.568671 | AC28: 4.8207117 | AD28: 5.2517204 | AE28: 5.7447391 | AF28: 6.2522601 | AG28: 6.7211515 | AH28: 7.0071474 | AI28: 7.195001 | AJ28: 55.509945 | AK28: 56.01985 | AL28: 56.82378 | AM28: 58.220392 | AN28: 59.855758 | AO28: 61.586635 | AP28: 63.233281 | AQ28: 64.261986 | AR28: 64.948358 | AS28: 4.0527634 | AT28: 4.2062869 | AU28: 4.4439304 | AV28: 4.8442525 | AW28: 5.2935219 | AX28: 5.7472261 | AY28: 6.1591537 | AZ28: 6.4072256 | BA28: 6.5689335 | BB28: 53.852268 | BC28: 54.404501 | BD28: 55.260191 | BE28: 56.704473 | BF28: 58.330418 | BG28: 59.978732 | BH28: 61.4814 | BI28: 62.389366 | BJ28: 62.9825
B29: =C29*30 -> 81 | C29: 2.7 | D29: =VLOOKUP(Table!C29,'Baby Growth Tracker'!$D$14:$E$99,2,FALSE) -> #N/A | E29: =IF('Baby Growth Tracker'!$C$5="Male",Table!AA29,Table!AS29) -> 4.1072969 | F29: =IF('Baby Growth Tracker'!$C$5="Male",Table!AB29,Table!AT29) -> 4.2615041 | G29: =IF('Baby Growth Tracker'!$C$5="Male",Table!AC29,Table!AU29) -> 4.5003737 | H29: =IF('Baby Growth Tracker'!$C$5="Male",Table!AD29,Table!AV29) -> 4.9032088 | I29: =IF('Baby Growth Tracker'!$C$5="Male",Table!AE29,Table!AW29) -> 5.355942 | J29: =IF('Baby Growth Tracker'!$C$5="Male",Table!AF29,Table!AX29) -> 5.8138048 | K29: =IF('Baby Growth Tracker'!$C$5="Male",Table!AG29,Table!AY29) -> 6.2300588 | L29: =IF('Baby Growth Tracker'!$C$5="Male",Table!AH29,Table!AZ29) -> 6.4809804 | M29: =IF('Baby Growth Tracker'!$C$5="Male",Table!AI29,Table!BA29) -> 6.6446424 | N29: =LOOKUP(D29,E29:M29,$E$1:$M$1) -> #N/A | O29: 2.7 | P29: =VLOOKUP(Table!O29,'Baby Growth Tracker'!$D$14:$F$99,3,FALSE) -> #N/A | Q29: =IF('Baby Growth Tracker'!$C$5="Male",Table!AJ29,Table!BB29) -> 54.072434 | R29: =IF('Baby Growth Tracker'!$C$5="Male",Table!AK29,Table!BC29) -> 54.627056 | S29: =IF('Baby Growth Tracker'!$C$5="Male",Table!AL29,Table!BD29) -> 55.486039 | T29: =IF('Baby Growth Tracker'!$C$5="Male",Table!AM29,Table!BE29) -> 56.934776 | U29: =IF('Baby Growth Tracker'!$C$5="Male",Table!AN29,Table!BF29) -> 58.564126 | V29: =IF('Baby Growth Tracker'!$C$5="Male",Table!AO29,Table!BG29) -> 60.214206 | W29: =IF('Baby Growth Tracker'!$C$5="Male",Table!AP29,Table!BH29) -> 61.717052 | X29: =IF('Baby Growth Tracker'!$C$5="Male",Table!AQ29,Table!BI29) -> 62.624482 | Y29: =IF('Baby Growth Tracker'!$C$5="Male",Table!AR29,Table!BJ29) -> 63.21701 | Z29: =LOOKUP(P29,Q29:Y29,$Q$1:$Y$1) -> #N/A | AA29: 4.4724527 | AB29: 4.6340866 | AC29: 4.8869441 | AD29: 5.3200633 | AE29: 5.8165894 | AF29: 6.3289219 | AG29: 6.8033238 | AH29: 7.0931756 | AI29: 7.2837757 | AJ29: 55.752952 | AK29: 56.262599 | AL29: 57.06629 | AM29: 58.462984 | AN29: 60.099281 | AO29: 61.832173 | AP29: 63.481765 | AQ29: 64.512841 | AR29: 65.201028 | AS29: 4.1072969 | AT29: 4.2615041 | AU29: 4.5003737 | AV29: 4.9032088 | AW29: 5.355942 | AX29: 5.8138048 | AY29: 6.2300588 | AZ29: 6.4809804 | BA29: 6.6446424 | BB29: 54.072434 | BC29: 54.627056 | BD29: 55.486039 | BE29: 56.934776 | BF29: 58.564126 | BG29: 60.214206 | BH29: 61.717052 | BI29: 62.624482 | BJ29: 63.21701
B30: =C30*30 -> 84 | C30: 2.8 | D30: =VLOOKUP(Table!C30,'Baby Growth Tracker'!$D$14:$E$99,2,FALSE) -> #N/A | E30: =IF('Baby Growth Tracker'!$C$5="Male",Table!AA30,Table!AS30) -> 4.1614095 | F30: =IF('Baby Growth Tracker'!$C$5="Male",Table!AB30,Table!AT30) -> 4.3162934 | G30: =IF('Baby Growth Tracker'!$C$5="Male",Table!AC30,Table!AU30) -> 4.5563752 | H30: =IF('Baby Growth Tracker'!$C$5="Male",Table!AD30,Table!AV30) -> 4.9616932 | I30: =IF('Baby Growth Tracker'!$C$5="Male",Table!AE30,Table!AW30) -> 5.4178491 | J30: =IF('Baby Growth Tracker'!$C$5="Male",Table!AF30,Table!AX30) -> 5.8798244 | K30: =IF('Baby Growth Tracker'!$C$5="Male",Table!AG30,Table!AY30) -> 6.3003617 | L30: =IF('Baby Growth Tracker'!$C$5="Male",Table!AH30,Table!AZ30) -> 6.5541074 | M30: =IF('Baby Growth Tracker'!$C$5="Male",Table!AI30,Table!BA30) -> 6.7197071 | N30: =LOOKUP(D30,E30:M30,$E$1:$M$1) -> #N/A | O30: 2.8 | P30: =VLOOKUP(Table!O30,'Baby Growth Tracker'!$D$14:$F$99,3,FALSE) -> #N/A | Q30: =IF('Baby Growth Tracker'!$C$5="Male",Table!AJ30,Table!BB30) -> 54.289834 | R30: =IF('Baby Growth Tracker'!$C$5="Male",Table!AK30,Table!BC30) -> 54.846821 | S30: =IF('Baby Growth Tracker'!$C$5="Male",Table!AL30,Table!BD30) -> 55.709069 | T30: =IF('Baby Growth Tracker'!$C$5="Male",Table!AM30,Table!BE30) -> 57.162244 | U30: =IF('Baby Growth Tracker'!$C$5="Male",Table!AN30,Table!BF30) -> 58.795024 | V30: =IF('Baby Growth Tracker'!$C$5="Male",Table!AO30,Table!BG30) -> 60.446948 | W30: =IF('Baby Growth Tracker'!$C$5="Male",Table!AP30,Table!BH30) -> 61.950089 | X30: =IF('Baby Growth Tracker'!$C$5="Male",Table!AQ30,Table!BI30) -> 62.857075 | Y30: =IF('Baby Growth Tracker'!$C$5="Male",Table!AR30,Table!BJ30) -> 63.449065 | Z30: =LOOKUP(P30,Q30:Y30,$Q$1:$Y$1) -> #N/A | AA30: 4.5375084 | AB30: 4.6995022 | AC30: 4.9531764 | AD30: 5.3884062 | AE30: 5.8884397 | AF30: 6.4055838 | AG30: 6.8854961 | AH30: 7.1792038 | AI30: 7.3725385 | AJ30: 55.992353 | AK30: 56.501811 | AL30: 57.30536 | AM30: 58.702276 | AN30: 60.339619 | AO30: 62.074588 | AP30: 63.727128 | AQ30: 64.760545 | AR30: 65.450515 | AS30: 4.1614095 | AT30: 4.3162934 | AU30: 4.5563752 | AV30: 4.9616932 | AW30: 5.4178491 | AX30: 5.8798244 | AY30: 6.3003617 | AZ30: 6.5541074 | BA30: 6.7197071 | BB30: 54.289834 | BC30: 54.846821 | BD30: 55.709069 | BE30: 57.162244 | BF30: 58.795024 | BG30: 60.446948 | BH30: 61.950089 | BI30: 62.857075 | BJ30: 63.449065
B31: =C31*30 -> 87 | C31: 2.9 | D31: =VLOOKUP(Table!C31,'Baby Growth Tracker'!$D$14:$E$99,2,FALSE) -> #N/A | E31: =IF('Baby Growth Tracker'!$C$5="Male",Table!AA31,Table!AS31) -> 4.2151042 | F31: =IF('Baby Growth Tracker'!$C$5="Male",Table!AB31,Table!AT31) -> 4.3706579 | G31: =IF('Baby Growth Tracker'!$C$5="Male",Table!AC31,Table!AU31) -> 4.6119382 | H31: =IF('Baby Growth Tracker'!$C$5="Male",Table!AD31,Table!AV31) -> 5.0197093 | I31: =IF('Baby Growth Tracker'!$C$5="Male",Table!AE31,Table!AW31) -> 5.4792474 | J31: =IF('Baby Growth Tracker'!$C$5="Male",Table!AF31,Table!AX31) -> 5.9452899 | K31: =IF('Baby Growth Tracker'!$C$5="Male",Table!AG31,Table!AY31) -> 6.3700681 | L31: =IF('Baby Growth Tracker'!$C$5="Male",Table!AH31,Table!AZ31) -> 6.6266126 | M31: =IF('Baby Growth Tracker'!$C$5="Male",Table!AI31,Table!BA31) -> 6.7941338 | N31: =LOOKUP(D31,E31:M31,$E$1:$M$1) -> #N/A | O31: 2.9 | P31: =VLOOKUP(Table!O31,'Baby Growth Tracker'!$D$14:$F$99,3,FALSE) -> #N/A | Q31: =IF('Baby Growth Tracker'!$C$5="Male",Table!AJ31,Table!BB31) -> 54.504549 | R31: =IF('Baby Growth Tracker'!$C$5="Male",Table!AK31,Table!BC31) -> 55.063876 | S31: =IF('Baby Growth Tracker'!$C$5="Male",Table!AL31,Table!BD31) -> 55.929362 | T31: =IF('Baby Growth Tracker'!$C$5="Male",Table!AM31,Table!BE31) -> 57.386958 | U31: =IF('Baby Growth Tracker'!$C$5="Male",Table!AN31,Table!BF31) -> 59.023193 | V31: =IF('Baby Growth Tracker'!$C$5="Male",Table!AO31,Table!BG31) -> 60.677032 | W31: =IF('Baby Growth Tracker'!$C$5="Male",Table!AP31,Table!BH31) -> 62.18058 | X31: =IF('Baby Growth Tracker'!$C$5="Male",Table!AQ31,Table!BI31) -> 63.087211 | Y31: =IF('Baby Growth Tracker'!$C$5="Male",Table!AR31,Table!BJ31) -> 63.678729 | Z31: =LOOKUP(P31,Q31:Y31,$Q$1:$Y$1) -> #N/A | AA31: 4.602564 | AB31: 4.7649179 | AC31: 5.0194088 | AD31: 5.456749 | AE31: 5.9602901 | AF31: 6.4822457 | AG31: 6.9676684 | AH31: 7.265232 | AI31: 7.4613013 | AJ31: 56.228258 | AK31: 56.737593 | AL31: 57.541094 | AM31: 58.938365 | AN31: 60.576864 | AO31: 62.313971 | AP31: 63.969458 | AQ31: 65.005188 | AR31: 65.696909 | AS31: 4.2151042 | AT31: 4.3706579 | AU31: 4.6119382 | AV31: 5.0197093 | AW31: 5.4792474 | AX31: 5.9452899 | AY31: 6.3700681 | AZ31: 6.6266126 | BA31: 6.7941338 | BB31: 54.504549 | BC31: 55.063876 | BD31: 55.929362 | BE31: 57.386958 | BF31: 59.023193 | BG31: 60.677032 | BH31: 62.18058 | BI31: 63.087211 | BJ31: 63.678729
A32: Male | B32: =C32*30 -> 90 | C32: 3 | D32: =VLOOKUP(Table!C32,'Baby Growth Tracker'!$D$14:$E$99,2,FALSE) -> #N/A | E32: =IF('Baby Growth Tracker'!$C$5="Male",Table!AA32,Table!AS32) -> 4.2683844 | F32: =IF('Baby Growth Tracker'!$C$5="Male",Table!AB32,Table!AT32) -> 4.4246009 | G32: =IF('Baby Growth Tracker'!$C$5="Male",Table!AC32,Table!AU32) -> 4.6670661 | H32: =IF('Baby Growth Tracker'!$C$5="Male",Table!AD32,Table!AV32) -> 5.077261 | I32: =IF('Baby Growth Tracker'!$C$5="Male",Table!AE32,Table!AW32) -> 5.5401413 | J32: =IF('Baby Growth Tracker'!$C$5="Male",Table!AF32,Table!AX32) -> 6.0102063 | K32: =IF('Baby Growth Tracker'!$C$5="Male",Table!AG32,Table!AY32) -> 6.4391835 | L32: =IF('Baby Growth Tracker'!$C$5="Male",Table!AH32,Table!AZ32) -> 6.6985018 | M32: =IF('Baby Growth Tracker'!$C$5="Male",Table!AI32,Table!BA32) -> 6.8679286 | N32: =LOOKUP(D32,E32:M32,$E$1:$M$1) -> #N/A | O32: 3 | P32: =VLOOKUP(Table!O32,'Baby Growth Tracker'!$D$14:$F$99,3,FALSE) -> #N/A | Q32: =IF('Baby Growth Tracker'!$C$5="Male",Table!AJ32,Table!BB32) -> 54.716654 | R32: =IF('Baby Growth Tracker'!$C$5="Male",Table!AK32,Table!BC32) -> 55.278297 | S32: =IF('Baby Growth Tracker'!$C$5="Male",Table!AL32,Table!BD32) -> 56.146996 | T32: =IF('Baby Growth Tracker'!$C$5="Male",Table!AM32,Table!BE32) -> 57.608994 | U32: =IF('Baby Growth Tracker'!$C$5="Male",Table!AN32,Table!BF32) -> 59.248706 | V32: =IF('Baby Growth Tracker'!$C$5="Male",Table!AO32,Table!BG32) -> 60.904533 | W32: =IF('Baby Growth Tracker'!$C$5="Male",Table!AP32,Table!BH32) -> 62.408595 | X32: =IF('Baby Growth Tracker'!$C$5="Male",Table!AQ32,Table!BI32) -> 63.314954 | Y32: =IF('Baby Growth Tracker'!$C$5="Male",Table!AR32,Table!BJ32) -> 63.906065 | Z32: =LOOKUP(P32,Q32:Y32,$Q$1:$Y$1) -> #N/A | AA32: 4.6676197 | AB32: 4.8303335 | AC32: 5.0856411 | AD32: 5.5250919 | AE32: 6.0321404 | AF32: 6.5589076 | AG32: 7.0498407 | AH32: 7.3512602 | AI32: 7.5500641 | AJ32: 56.460774 | AK32: 56.970048 | AL32: 57.77359 | AM32: 59.171346 | AN32: 60.811107 | AO32: 62.550407 | AP32: 64.208841 | AQ32: 65.246857 | AR32: 65.940298 | AS32: 4.2683844 | AT32: 4.4246009 | AU32: 4.6670661 | AV32: 5.077261 | AW32: 5.5401413 | AX32: 6.0102063 | AY32: 6.4391835 | AZ32: 6.6985018 | BA32: 6.8679286 | BB32: 54.716654 | BC32: 55.278297 | BD32: 56.146996 | BE32: 57.608994 | BF32: 59.248706 | BG32: 60.904533 | BH32: 62.408595 | BI32: 63.314954 | BJ32: 63.906065
B33: =C33*30 -> 93 | C33: 3.1 | D33: =VLOOKUP(Table!C33,'Baby Growth Tracker'!$D$14:$E$99,2,FALSE) -> #N/A | E33: =IF('Baby Growth Tracker'!$C$5="Male",Table!AA33,Table!AS33) -> 4.3212531 | F33: =IF('Baby Growth Tracker'!$C$5="Male",Table!AB33,Table!AT33) -> 4.4781256 | G33: =IF('Baby Growth Tracker'!$C$5="Male",Table!AC33,Table!AU33) -> 4.7217623 | H33: =IF('Baby Growth Tracker'!$C$5="Male",Table!AD33,Table!AV33) -> 5.1343518 | I33: =IF('Baby Growth Tracker'!$C$5="Male",Table!AE33,Table!AW33) -> 5.600535 | J33: =IF('Baby Growth Tracker'!$C$5="Male",Table!AF33,Table!AX33) -> 6.0745786 | K33: =IF('Baby Growth Tracker'!$C$5="Male",Table!AG33,Table!AY33) -> 6.5077134 | L33: =IF('Baby Growth Tracker'!$C$5="Male",Table!AH33,Table!AZ33) -> 6.7697808 | M33: =IF('Baby Growth Tracker'!$C$5="Male",Table!AI33,Table!BA33) -> 6.9410974 | N33: =LOOKUP(D33,E33:M33,$E$1:$M$1) -> #N/A | O33: 3.1 | P33: =VLOOKUP(Table!O33,'Baby Growth Tracker'!$D$14:$F$99,3,FALSE) -> #N/A | Q33: =IF('Baby Growth Tracker'!$C$5="Male",Table!AJ33,Table!BB33) -> 54.926222 | R33: =IF('Baby Growth Tracker'!$C$5="Male",Table!AK33,Table!BC33) -> 55.49016 | S33: =IF('Baby Growth Tracker'!$C$5="Male",Table!AL33,Table!BD33) -> 56.362043 | T33: =IF('Baby Growth Tracker'!$C$5="Male",Table!AM33,Table!BE33) -> 57.828427 | U33: =IF('Baby Growth Tracker'!$C$5="Male",Table!AN33,Table!BF33) -> 59.471637 | V33: =IF('Baby Growth Tracker'!$C$5="Male",Table!AO33,Table!BG33) -> 61.129518 | W33: =IF('Baby Growth Tracker'!$C$5="Male",Table!AP33,Table!BH33) -> 62.634197 | X33: =IF('Baby Growth Tracker'!$C$5="Male",Table!AQ33,Table!BI33) -> 63.540367 | Y33: =IF('Baby Growth Tracker'!$C$5="Male",Table!AR33,Table!BJ33) -> 64.131132 | Z33: =LOOKUP(P33,Q33:Y33,$Q$1:$Y$1) -> #N/A | AA33: 4.7326753 | AB33: 4.8957491 | AC33: 5.1518735 | AD33: 5.5934348 | AE33: 6.1039907 | AF33: 6.6355695 | AG33: 7.1320131 | AH33: 7.4372884 | AI33: 7.6388269 | AJ33: 56.690001 | AK33: 57.199275 | AL33: 58.002944 | AM33: 59.401308 | AN33: 61.042432 | AO33: 62.78398 | AP33: 64.445361 | AQ33: 65.485634 | AR33: 66.180766 | AS33: 4.3212531 | AT33: 4.4781256 | AU33: 4.7217623 | AV33: 5.1343518 | AW33: 5.600535 | AX33: 6.0745786 | AY33: 6.5077134 | AZ33: 6.7697808 | BA33: 6.9410974 | BB33: 54.926222 | BC33: 55.49016 | BD33: 56.362043 | BE33: 57.828427 | BF33: 59.471637 | BG33: 61.129518 | BH33: 62.634197 | BI33: 63.540367 | BJ33: 64.131132
B34: =C34*30 -> 96 | C34: 3.2 | D34: =VLOOKUP(Table!C34,'Baby Growth Tracker'!$D$14:$E$99,2,FALSE) -> #N/A | E34: =IF('Baby Growth Tracker'!$C$5="Male",Table!AA34,Table!AS34) -> 4.3737135 | F34: =IF('Baby Growth Tracker'!$C$5="Male",Table!AB34,Table!AT34) -> 4.5312351 | G34: =IF('Baby Growth Tracker'!$C$5="Male",Table!AC34,Table!AU34) -> 4.7760299 | H34: =IF('Baby Growth Tracker'!$C$5="Male",Table!AD34,Table!AV34) -> 5.1909856 | I34: =IF('Baby Growth Tracker'!$C$5="Male",Table!AE34,Table!AW34) -> 5.6604329 | J34: =IF('Baby Growth Tracker'!$C$5="Male",Table!AF34,Table!AX34) -> 6.1384117 | K34: =IF('Baby Growth Tracker'!$C$5="Male",Table!AG34,Table!AY34) -> 6.5756634 | L34: =IF('Baby Growth Tracker'!$C$5="Male",Table!AH34,Table!AZ34) -> 6.8404554 | M34: =IF('Baby Growth Tracker'!$C$5="Male",Table!AI34,Table!BA34) -> 7.0136462 | N34: =LOOKUP(D34,E34:M34,$E$1:$M$1) -> #N/A | O34: 3.2 | P34: =VLOOKUP(Table!O34,'Baby Growth Tracker'!$D$14:$F$99,3,FALSE) -> #N/A | Q34: =IF('Baby Growth Tracker'!$C$5="Male",Table!AJ34,Table!BB34) -> 55.133324 | R34: =IF('Baby Growth Tracker'!$C$5="Male",Table!AK34,Table!BC34) -> 55.699534 | S34: =IF('Baby Growth Tracker'!$C$5="Male",Table!AL34,Table!BD34) -> 56.574577 | T34: =IF('Baby Growth Tracker'!$C$5="Male",Table!AM34,Table!BE34) -> 58.045327 | U34: =IF('Baby Growth Tracker'!$C$5="Male",Table!AN34,Table!BF34) -> 59.692055 | V34: =IF('Baby Growth Tracker'!$C$5="Male",Table!AO34,Table!BG34) -> 61.352056 | W34: =IF('Baby Growth Tracker'!$C$5="Male",Table!AP34,Table!BH34) -> 62.857449 | X34: =IF('Baby Growth Tracker'!$C$5="Male",Table!AQ34,Table!BI34) -> 63.76351 | Y34: =IF('Baby Growth Tracker'!$C$5="Male",Table!AR34,Table!BJ34) -> 64.353987 | Z34: =LOOKUP(P34,Q34:Y34,$Q$1:$Y$1) -> #N/A | AA34: 4.797731 | AB34: 4.9611648 | AC34: 5.2181058 | AD34: 5.6617776 | AE34: 6.175841 | AF34: 6.7122314 | AG34: 7.2141854 | AH34: 7.5233166 | AI34: 7.7275897 | AJ34: 56.916037 | AK34: 57.425368 | AL34: 58.229247 | AM34: 59.628338 | AN34: 61.270922 | AO34: 63.014769 | AP34: 64.679095 | AQ34: 65.7216 | AR34: 66.418394 | AS34: 4.3737135 | AT34: 4.5312351 | AU34: 4.7760299 | AV34: 5.1909856 | AW34: 5.6604329 | AX34: 6.1384117 | AY34: 6.5756634 | AZ34: 6.8404554 | BA34: 7.0136462 | BB34: 55.133324 | BC34: 55.699534 | BD34: 56.574577 | BE34: 58.045327 | BF34: 59.692055 | BG34: 61.352056 | BH34: 62.857449 | BI34: 63.76351 | BJ34: 64.353987
B35: =C35*30 -> 99 | C35: 3.3 | D35: =VLOOKUP(Table!C35,'Baby Growth Tracker'!$D$14:$E$99,2,FALSE) -> #N/A | E35: =IF('Baby Growth Tracker'!$C$5="Male",Table!AA35,Table!AS35) -> 4.4257688 | F35: =IF('Baby Growth Tracker'!$C$5="Male",Table!AB35,Table!AT35) -> 4.5839326 | G35: =IF('Baby Growth Tracker'!$C$5="Male",Table!AC35,Table!AU35) -> 4.8298723 | H35: =IF('Baby Growth Tracker'!$C$5="Male",Table!AD35,Table!AV35) -> 5.2471659 | I35: =IF('Baby Growth Tracker'!$C$5="Male",Table!AE35,Table!AW35) -> 5.7198392 | J35: =IF('Baby Growth Tracker'!$C$5="Male",Table!AF35,Table!AX35) -> 6.2017104 | K35: =IF('Baby Growth Tracker'!$C$5="Male",Table!AG35,Table!AY35) -> 6.6430387 | L35: =IF('Baby Growth Tracker'!$C$5="Male",Table!AH35,Table!AZ35) -> 6.9105314 | M35: =IF('Baby Growth Tracker'!$C$5="Male",Table!AI35,Table!BA35) -> 7.0855811 | N35: =LOOKUP(D35,E35:M35,$E$1:$M$1) -> #N/A | O35: 3.3 | P35: =VLOOKUP(Table!O35,'Baby Growth Tracker'!$D$14:$F$99,3,FALSE) -> #N/A | Q35: =IF('Baby Growth Tracker'!$C$5="Male",Table!AJ35,Table!BB35) -> 55.338029 | R35: =IF('Baby Growth Tracker'!$C$5="Male",Table!AK35,Table!BC35) -> 55.906487 | S35: =IF('Baby Growth Tracker'!$C$5="Male",Table!AL35,Table!BD35) -> 56.784664 | T35: =IF('Baby Growth Tracker'!$C$5="Male",Table!AM35,Table!BE35) -> 58.259764 | U35: =IF('Baby Growth Tracker'!$C$5="Male",Table!AN35,Table!BF35) -> 59.910029 | V35: =IF('Baby Growth Tracker'!$C$5="Male",Table!AO35,Table!BG35) -> 61.57221 | W35: =IF('Baby Growth Tracker'!$C$5="Male",Table!AP35,Table!BH35) -> 63.078414 | X35: =IF('Baby Growth Tracker'!$C$5="Male",Table!AQ35,Table!BI35) -> 63.984439 | Y35: =IF('Baby Growth Tracker'!$C$5="Male",Table!AR35,Table!BJ35) -> 64.574685 | Z35: =LOOKUP(P35,Q35:Y35,$Q$1:$Y$1) -> #N/A | AA35: 4.8627866 | AB35: 5.0265804 | AC35: 5.2843382 | AD35: 5.7301205 | AE35: 6.2476913 | AF35: 6.7888933 | AG35: 7.2963577 | AH35: 7.6093447 | AI35: 7.8163525 | AJ35: 57.138976 | AK35: 57.648419 | AL35: 58.452588 | AM35: 59.852519 | AN35: 61.496656 | AO35: 63.242852 | AP35: 64.910122 | AQ35: 65.954832 | AR35: 66.653259 | AS35: 4.4257688 | AT35: 4.5839326 | AU35: 4.8298723 | AV35: 5.2471659 | AW35: 5.7198392 | AX35: 6.2017104 | AY35: 6.6430387 | AZ35: 6.9105314 | BA35: 7.0855811 | BB35: 55.338029 | BC35: 55.906487 | BD35: 56.784664 | BE35: 58.259764 | BF35: 59.910029 | BG35: 61.57221 | BH35: 63.078414 | BI35: 63.984439 | BJ35: 64.574685
B36: =C36*30 -> 102 | C36: 3.4 | D36: =VLOOKUP(Table!C36,'Baby Growth Tracker'!$D$14:$E$99,2,FALSE) -> #N/A | E36: =IF('Baby Growth Tracker'!$C$5="Male",Table!AA36,Table!AS36) -> 4.4774219 | F36: =IF('Baby Growth Tracker'!$C$5="Male",Table!AB36,Table!AT36) -> 4.6362212 | G36: =IF('Baby Growth Tracker'!$C$5="Male",Table!AC36,Table!AU36) -> 4.8832927 | H36: =IF('Baby Growth Tracker'!$C$5="Male",Table!AD36,Table!AV36) -> 5.3028965 | I36: =IF('Baby Growth Tracker'!$C$5="Male",Table!AE36,Table!AW36) -> 5.7787581 | J36: =IF('Baby Growth Tracker'!$C$5="Male",Table!AF36,Table!AX36) -> 6.2644796 | K36: =IF('Baby Growth Tracker'!$C$5="Male",Table!AG36,Table!AY36) -> 6.7098449 | L36: =IF('Baby Growth Tracker'!$C$5="Male",Table!AH36,Table!AZ36) -> 6.9800145 | M36: =IF('Baby Growth Tracker'!$C$5="Male",Table!AI36,Table!BA36) -> 7.1569078 | N36: =LOOKUP(D36,E36:M36,$E$1:$M$1) -> #N/A | O36: 3.4 | P36: =VLOOKUP(Table!O36,'Baby Growth Tracker'!$D$14:$F$99,3,FALSE) -> #N/A | Q36: =IF('Baby Growth Tracker'!$C$5="Male",Table!AJ36,Table!BB36) -> 55.5404 | R36: =IF('Baby Growth Tracker'!$C$5="Male",Table!AK36,Table!BC36) -> 56.111086 | S36: =IF('Baby Growth Tracker'!$C$5="Male",Table!AL36,Table!BD36) -> 56.992372 | T36: =IF('Baby Growth Tracker'!$C$5="Male",Table!AM36,Table!BE36) -> 58.471803 | U36: =IF('Baby Growth Tracker'!$C$5="Male",Table!AN36,Table!BF36) -> 60.125621 | V36: =IF('Baby Growth Tracker'!$C$5="Male",Table!AO36,Table!BG36) -> 61.790043 | W36: =IF('Baby Growth Tracker'!$C$5="Male",Table!AP36,Table!BH36) -> 63.297148 | X36: =IF('Baby Growth Tracker'!$C$5="Male",Table!AQ36,Table!BI36) -> 64.20321 | Y36: =IF('Baby Growth Tracker'!$C$5="Male",Table!AR36,Table!BJ36) -> 64.79328 | Z36: =LOOKUP(P36,Q36:Y36,$Q$1:$Y$1) -> #N/A | AA36: 4.9278423 | AB36: 5.091996 | AC36: 5.3505705 | AD36: 5.7984634 | AE36: 6.3195417 | AF36: 6.8655552 | AG36: 7.37853 | AH36: 7.6953729 | AI36: 7.9051153 | AJ36: 57.358906 | AK36: 57.868515 | AL36: 58.67305 | AM36: 60.073931 | AN36: 61.71971 | AO36: 63.468302 | AP36: 65.138513 | AQ36: 66.185404 | AR36: 66.885436 | AS36: 4.4774219 | AT36: 4.6362212 | AU36: 4.8832927 | AV36: 5.3028965 | AW36: 5.7787581 | AX36: 6.2644796 | AY36: 6.7098449 | AZ36: 6.9800145 | BA36: 7.1569078 | BB36: 55.5404 | BC36: 56.111086 | BD36: 56.992372 | BE36: 58.471803 | BF36: 60.125621 | BG36: 61.790043 | BH36: 63.297148 | BI36: 64.20321 | BJ36: 64.79328
A37: Male | B37: =C37*30 -> 105 | C37: 3.5 | D37: =VLOOKUP(Table!C37,'Baby Growth Tracker'!$D$14:$E$99,2,FALSE) -> #N/A | E37: =IF('Baby Growth Tracker'!$C$5="Male",Table!AA37,Table!AS37) -> 4.5473833 | F37: =IF('Baby Growth Tracker'!$C$5="Male",Table!AB37,Table!AT37) -> 4.7071225 | G37: =IF('Baby Growth Tracker'!$C$5="Male",Table!AC37,Table!AU37) -> 4.9559263 | H37: =IF('Baby Growth Tracker'!$C$5="Male",Table!AD37,Table!AV37) -> 5.379141 | I37: =IF('Baby Growth Tracker'!$C$5="Male",Table!AE37,Table!AW37) -> 5.8599608 | J37: =IF('Baby Growth Tracker'!$C$5="Male",Table!AF37,Table!AX37) -> 6.351512 | K37: =IF('Baby Growth Tracker'!$C$5="Male",Table!AG37,Table!AY37) -> 6.8027698 | L37: =IF('Baby Growth Tracker'!$C$5="Male",Table!AH37,Table!AZ37) -> 7.0767225 | M37: =IF('Baby Growth Tracker'!$C$5="Male",Table!AI37,Table!BA37) -> 7.2561656 | N37: =LOOKUP(D37,E37:M37,$E$1:$M$1) -> #N/A | O37: 3.5 | P37: =VLOOKUP(Table!O37,'Baby Growth Tracker'!$D$14:$F$99,3,FALSE) -> #N/A | Q37: =IF('Baby Growth Tracker'!$C$5="Male",Table!AJ37,Table!BB37) -> 55.859399 | R37: =IF('Baby Growth Tracker'!$C$5="Male",Table!AK37,Table!BC37) -> 56.433349 | S37: =IF('Baby Growth Tracker'!$C$5="Male",Table!AL37,Table!BD37) -> 57.318924 | T37: =IF('Baby Growth Tracker'!$C$5="Male",Table!AM37,Table!BE37) -> 58.803462 | U37: =IF('Baby Growth Tracker'!$C$5="Male",Table!AN37,Table!BF37) -> 60.459808 | V37: =IF('Baby Growth Tracker'!$C$5="Male",Table!AO37,Table!BG37) -> 62.123295 | W37: =IF('Baby Growth Tracker'!$C$5="Male",Table!AP37,Table!BH37) -> 63.626479 | X37: =IF('Baby Growth Tracker'!$C$5="Male",Table!AQ37,Table!BI37) -> 64.528753 | Y37: =IF('Baby Growth Tracker'!$C$5="Male",Table!AR37,Table!BJ37) -> 65.115773 | Z37: =LOOKUP(P37,Q37:Y37,$Q$1:$Y$1) -> #N/A | AA37: 4.9928979 | AB37: 5.1574117 | AC37: 5.4168029 | AD37: 5.8668063 | AE37: 6.391392 | AF37: 6.9422171 | AG37: 7.4607024 | AH37: 7.7814011 | AI37: 7.993878 | AJ37: 57.730493 | AK37: 58.237443 | AL37: 59.038302 | AM37: 60.434334 | AN37: 62.077 | AO37: 63.825426 | AP37: 65.49858 | AQ37: 66.54889 | AR37: 67.251896 | AS37: 4.5473833 | AT37: 4.7071225 | AU37: 4.9559263 | AV37: 5.379141 | AW37: 5.8599608 | AX37: 6.351512 | AY37: 6.8027698 | AZ37: 7.0767225 | BA37: 7.2561656 | BB37: 55.859399 | BC37: 56.433349 | BD37: 57.318924 | BE37: 58.803462 | BF37: 60.459808 | BG37: 62.123295 | BH37: 63.626479 | BI37: 64.528753 | BJ37: 65.115773
B38: =C38*30 -> 108 | C38: 3.6 | D38: =VLOOKUP(Table!C38,'Baby Growth Tracker'!$D$14:$E$99,2,FALSE) -> #N/A | E38: =IF('Baby Growth Tracker'!$C$5="Male",Table!AA38,Table!AS38) -> 4.5980989 | F38: =IF('Baby Growth Tracker'!$C$5="Male",Table!AB38,Table!AT38) -> 4.758459 | G38: =IF('Baby Growth Tracker'!$C$5="Male",Table!AC38,Table!AU38) -> 5.0083632 | H38: =IF('Baby Growth Tracker'!$C$5="Male",Table!AD38,Table!AV38) -> 5.4338158 | I38: =IF('Baby Growth Tracker'!$C$5="Male",Table!AE38,Table!AW38) -> 5.9177235 | J38: =IF('Baby Growth Tracker'!$C$5="Male",Table!AF38,Table!AX38) -> 6.4130132 | K38: =IF('Baby Growth Tracker'!$C$5="Male",Table!AG38,Table!AY38) -> 6.8682047 | L38: =IF('Baby Growth Tracker'!$C$5="Male",Table!AH38,Table!AZ38) -> 7.1447737 | M38: =IF('Baby Growth Tracker'!$C$5="Male",Table!AI38,Table!BA38) -> 7.326022 | N38: =LOOKUP(D38,E38:M38,$E$1:$M$1) -> #N/A | O38: 3.6 | P38: =VLOOKUP(Table!O38,'Baby Growth Tracker'!$D$14:$F$99,3,FALSE) -> #N/A | Q38: =IF('Baby Growth Tracker'!$C$5="Male",Table!AJ38,Table!BB38) -> 56.05393 | R38: =IF('Baby Growth Tracker'!$C$5="Male",Table!AK38,Table!BC38) -> 56.630047 | S38: =IF('Baby Growth Tracker'!$C$5="Male",Table!AL38,Table!BD38) -> 57.518665 | T38: =IF('Baby Growth Tracker'!$C$5="Male",Table!AM38,Table!BE38) -> 59.007502 | U38: =IF('Baby Growth Tracker'!$C$5="Male",Table!AN38,Table!BF38) -> 60.667497 | V38: =IF('Baby Growth Tracker'!$C$5="Male",Table!AO38,Table!BG38) -> 62.333473 | W38: =IF('Baby Growth Tracker'!$C$5="Male",Table!AP38,Table!BH38) -> 63.837927 | X38: =IF('Baby Growth Tracker'!$C$5="Male",Table!AQ38,Table!BI38) -> 64.74053 | Y38: =IF('Baby Growth Tracker'!$C$5="Male",Table!AR38,Table!BJ38) -> 65.327593 | Z38: =LOOKUP(P38,Q38:Y38,$Q$1:$Y$1) -> #N/A | AA38: 5.051125 | AB38: 5.2161456 | AC38: 5.4764942 | AD38: 5.9286225 | AE38: 6.4564364 | AF38: 7.0115277 | AG38: 7.5348515 | AH38: 7.8589424 | AI38: 8.0738346 | AJ38: 57.940012 | AK38: 58.447346 | AL38: 59.248882 | AM38: 60.64631 | AN38: 62.290987 | AO38: 64.042014 | AP38: 65.718127 | AQ38: 66.770539 | AR38: 67.47506 | AS38: 4.5980989 | AT38: 4.758459 | AU38: 5.0083632 | AV38: 5.4338158 | AW38: 5.9177235 | AX38: 6.4130132 | AY38: 6.8682047 | AZ38: 7.1447737 | BA38: 7.326022 | BB38: 56.05393 | BC38: 56.630047 | BD38: 57.518665 | BE38: 59.007502 | BF38: 60.667497 | BG38: 62.333473 | BH38: 63.837927 | BI38: 64.74053 | BJ38: 65.327593
B39: =C39*30 -> 111 | C39: 3.7 | D39: =VLOOKUP(Table!C39,'Baby Growth Tracker'!$D$14:$E$99,2,FALSE) -> #N/A | E39: =IF('Baby Growth Tracker'!$C$5="Male",Table!AA39,Table!AS39) -> 4.6484225 | F39: =IF('Baby Growth Tracker'!$C$5="Male",Table!AB39,Table!AT39) -> 4.8093967 | G39: =IF('Baby Growth Tracker'!$C$5="Male",Table!AC39,Table!AU39) -> 5.0603886 | H39: =IF('Baby Growth Tracker'!$C$5="Male",Table!AD39,Table!AV39) -> 5.4880524 | I39: =IF('Baby Growth Tracker'!$C$5="Male",Table!AE39,Table!AW39) -> 5.9750125 | J39: =IF('Baby Growth Tracker'!$C$5="Male",Table!AF39,Table!AX39) -> 6.4740008 | K39: =IF('Baby Growth Tracker'!$C$5="Male",Table!AG39,Table!AY39) -> 6.9330883 | L39: =IF('Baby Growth Tracker'!$C$5="Male",Table!AH39,Table!AZ39) -> 7.2122507 | M39: =IF('Baby Growth Tracker'!$C$5="Male",Table!AI39,Table!BA39) -> 7.3952897 | N39: =LOOKUP(D39,E39:M39,$E$1:$M$1) -> #N/A | O39: 3.7 | P39: =VLOOKUP(Table!O39,'Baby Growth Tracker'!$D$14:$F$99,3,FALSE) -> #N/A | Q39: =IF('Baby Growth Tracker'!$C$5="Male",Table!AJ39,Table!BB39) -> 56.24644 | R39: =IF('Baby Growth Tracker'!$C$5="Male",Table!AK39,Table!BC39) -> 56.824704 | S39: =IF('Baby Growth Tracker'!$C$5="Male",Table!AL39,Table!BD39) -> 57.71634 | T39: =IF('Baby Growth Tracker'!$C$5="Male",Table!AM39,Table!BE39) -> 59.209458 | U39: =IF('Baby Growth Tracker'!$C$5="Male",Table!AN39,Table!BF39) -> 60.873113 | V39: =IF('Baby Growth Tracker'!$C$5="Male",Table!AO39,Table!BG39) -> 62.541624 | W39: =IF('Baby Growth Tracker'!$C$5="Male",Table!AP39,Table!BH39) -> 64.04742 | X39: =IF('Baby Growth Tracker'!$C$5="Male",Table!AQ39,Table!BI39) -> 64.95041 | Y39: =IF('Baby Growth Tracker'!$C$5="Male",Table!AR39,Table!BJ39) -> 65.537559 | Z39: =LOOKUP(P39,Q39:Y39,$Q$1:$Y$1) -> #N/A | AA39: 5.1093521 | AB39: 5.2748796 | AC39: 5.5361855 | AD39: 5.9904388 | AE39: 6.5214809 | AF39: 7.0808383 | AG39: 7.6090005 | AH39: 7.9364836 | AI39: 8.1537912 | AJ39: 58.146961 | AK39: 58.65472 | AL39: 59.456992 | AM39: 60.855901 | AN39: 62.502659 | AO39: 64.256324 | AP39: 65.935391 | AQ39: 66.989882 | AR39: 67.695895 | AS39: 4.6484225 | AT39: 4.8093967 | AU39: 5.0603886 | AV39: 5.4880524 | AW39: 5.9750125 | AX39: 6.4740008 | AY39: 6.9330883 | AZ39: 7.2122507 | BA39: 7.3952897 | BB39: 56.24644 | BC39: 56.824704 | BD39: 57.71634 | BE39: 59.209458 | BF39: 60.873113 | BG39: 62.541624 | BH39: 64.04742 | BI39: 64.95041 | BJ39: 65.537559
B40: =C40*30 -> 114 | C40: 3.8 | D40: =VLOOKUP(Table!C40,'Baby Growth Tracker'!$D$14:$E$99,2,FALSE) -> #N/A | E40: =IF('Baby Growth Tracker'!$C$5="Male",Table!AA40,Table!AS40) -> 4.6983571 | F40: =IF('Baby Growth Tracker'!$C$5="Male",Table!AB40,Table!AT40) -> 4.8599387 | G40: =IF('Baby Growth Tracker'!$C$5="Male",Table!AC40,Table!AU40) -> 5.1120056 | H40: =IF('Baby Growth Tracker'!$C$5="Male",Table!AD40,Table!AV40) -> 5.5418546 | I40: =IF('Baby Growth Tracker'!$C$5="Male",Table!AE40,Table!AW40) -> 6.0318321 | J40: =IF('Baby Growth Tracker'!$C$5="Male",Table!AF40,Table!AX40) -> 6.5344796 | K40: =IF('Baby Growth Tracker'!$C$5="Male",Table!AG40,Table!AY40) -> 6.9974256 | L40: =IF('Baby Growth Tracker'!$C$5="Male",Table!AH40,Table!AZ40) -> 7.279159 | M40: =IF('Baby Growth Tracker'!$C$5="Male",Table!AI40,Table!BA40) -> 7.4639742 | N40: =LOOKUP(D40,E40:M40,$E$1:$M$1) -> #N/A | O40: 3.8 | P40: =VLOOKUP(Table!O40,'Baby Growth Tracker'!$D$14:$F$99,3,FALSE) -> #N/A | Q40: =IF('Baby Growth Tracker'!$C$5="Male",Table!AJ40,Table!BB40) -> 56.436979 | R40: =IF('Baby Growth Tracker'!$C$5="Male",Table!AK40,Table!BC40) -> 57.01737 | S40: =IF('Baby Growth Tracker'!$C$5="Male",Table!AL40,Table!BD40) -> 57.912002 | T40: =IF('Baby Growth Tracker'!$C$5="Male",Table!AM40,Table!BE40) -> 59.409382 | U40: =IF('Baby Growth Tracker'!$C$5="Male",Table!AN40,Table!BF40) -> 61.076706 | V40: =IF('Baby Growth Tracker'!$C$5="Male",Table!AO40,Table!BG40) -> 62.747796 | W40: =IF('Baby Growth Tracker'!$C$5="Male",Table!AP40,Table!BH40) -> 64.255003 | X40: =IF('Baby Growth Tracker'!$C$5="Male",Table!AQ40,Table!BI40) -> 65.158435 | Y40: =IF('Baby Growth Tracker'!$C$5="Male",Table!AR40,Table!BJ40) -> 65.745711 | Z40: =LOOKUP(P40,Q40:Y40,$Q$1:$Y$1) -> #N/A | AA40: 5.1675792 | AB40: 5.3336136 | AC40: 5.5958769 | AD40: 6.0522551 | AE40: 6.5865253 | AF40: 7.1501489 | AG40: 7.6831496 | AH40: 8.0140248 | AI40: 8.2337477 | AJ40: 58.351407 | AK40: 58.85963 | AL40: 59.662696 | AM40: 61.06317 | AN40: 62.712075 | AO40: 64.468411 | AP40: 66.150428 | AQ40: 67.206975 | AR40: 67.914456 | AS40: 4.6983571 | AT40: 4.8599387 | AU40: 5.1120056 | AV40: 5.5418546 | AW40: 6.0318321 | AX40: 6.5344796 | AY40: 6.9974256 | AZ40: 7.279159 | BA40: 7.4639742 | BB40: 56.436979 | BC40: 57.01737 | BD40: 57.912002 | BE40: 59.409382 | BF40: 61.076706 | BG40: 62.747796 | BH40: 64.255003 | BI40: 65.158435 | BJ40: 65.745711
B41: =C41*30 -> 117 | C41: 3.9 | D41: =VLOOKUP(Table!C41,'Baby Growth Tracker'!$D$14:$E$99,2,FALSE) -> #N/A | E41: =IF('Baby Growth Tracker'!$C$5="Male",Table!AA41,Table!AS41) -> 4.7479059 | F41: =IF('Baby Growth Tracker'!$C$5="Male",Table!AB41,Table!AT41) -> 4.910088 | G41: =IF('Baby Growth Tracker'!$C$5="Male",Table!AC41,Table!AU41) -> 5.1632174 | H41: =IF('Baby Growth Tracker'!$C$5="Male",Table!AD41,Table!AV41) -> 5.5952258 | I41: =IF('Baby Growth Tracker'!$C$5="Male",Table!AE41,Table!AW41) -> 6.0881861 | J41: =IF('Baby Growth Tracker'!$C$5="Male",Table!AF41,Table!AX41) -> 6.5944541 | K41: =IF('Baby Growth Tracker'!$C$5="Male",Table!AG41,Table!AY41) -> 7.0612221 | L41: =IF('Baby Growth Tracker'!$C$5="Male",Table!AH41,Table!AZ41) -> 7.3455043 | M41: =IF('Baby Growth Tracker'!$C$5="Male",Table!AI41,Table!BA41) -> 7.5320814 | N41: =LOOKUP(D41,E41:M41,$E$1:$M$1) -> #N/A | O41: 3.9 | P41: =VLOOKUP(Table!O41,'Baby Growth Tracker'!$D$14:$F$99,3,FALSE) -> #N/A | Q41: =IF('Baby Growth Tracker'!$C$5="Male",Table!AJ41,Table!BB41) -> 56.625596 | R41: =IF('Baby Growth Tracker'!$C$5="Male",Table!AK41,Table!BC41) -> 57.208094 | S41: =IF('Baby Growth Tracker'!$C$5="Male",Table!AL41,Table!BD41) -> 58.105697 | T41: =IF('Baby Growth Tracker'!$C$5="Male",Table!AM41,Table!BE41) -> 59.60732 | U41: =IF('Baby Growth Tracker'!$C$5="Male",Table!AN41,Table!BF41) -> 61.278325 | V41: =IF('Baby Growth Tracker'!$C$5="Male",Table!AO41,Table!BG41) -> 62.952035 | W41: =IF('Baby Growth Tracker'!$C$5="Male",Table!AP41,Table!BH41) -> 64.460721 | X41: =IF('Baby Growth Tracker'!$C$5="Male",Table!AQ41,Table!BI41) -> 65.364646 | Y41: =IF('Baby Growth Tracker'!$C$5="Male",Table!AR41,Table!BJ41) -> 65.952089 | Z41: =LOOKUP(P41,Q41:Y41,$Q$1:$Y$1) -> #N/A | AA41: 5.2258064 | AB41: 5.3923476 | AC41: 5.6555682 | AD41: 6.1140714 | AE41: 6.6515698 | AF41: 7.2194595 | AG41: 7.7572987 | AH41: 8.091566 | AI41: 8.3137043 | AJ41: 58.553414 | AK41: 59.062141 | AL41: 59.866056 | AM41: 61.268173 | AN41: 62.91929 | AO41: 64.678331 | AP41: 66.363292 | AQ41: 67.421874 | AR41: 68.1308 | AS41: 4.7479059 | AT41: 4.910088 | AU41: 5.1632174 | AV41: 5.5952258 | AW41: 6.0881861 | AX41: 6.5944541 | AY41: 7.0612221 | AZ41: 7.3455043 | BA41: 7.5320814 | BB41: 56.625596 | BC41: 57.208094 | BD41: 58.105697 | BE41: 59.60732 | BF41: 61.278325 | BG41: 62.952035 | BH41: 64.460721 | BI41: 65.364646 | BJ41: 65.952089
A42: Male | B42: =C42*30 -> 120 | C42: 4 | D42: =VLOOKUP(Table!C42,'Baby Growth Tracker'!$D$14:$E$99,2,FALSE) -> #N/A | E42: =IF('Baby Growth Tracker'!$C$5="Male",Table!AA42,Table!AS42) -> 4.7970716 | F42: =IF('Baby Growth Tracker'!$C$5="Male",Table!AB42,Table!AT42) -> 4.9598477 | G42: =IF('Baby Growth Tracker'!$C$5="Male",Table!AC42,Table!AU42) -> 5.2140273 | H42: =IF('Baby Growth Tracker'!$C$5="Male",Table!AD42,Table!AV42) -> 5.6481696 | I42: =IF('Baby Growth Tracker'!$C$5="Male",Table!AE42,Table!AW42) -> 6.1440788 | J42: =IF('Baby Growth Tracker'!$C$5="Male",Table!AF42,Table!AX42) -> 6.6539292 | K42: =IF('Baby Growth Tracker'!$C$5="Male",Table!AG42,Table!AY42) -> 7.1244827 | L42: =IF('Baby Growth Tracker'!$C$5="Male",Table!AH42,Table!AZ42) -> 7.4112918 | M42: =IF('Baby Growth Tracker'!$C$5="Male",Table!AI42,Table!BA42) -> 7.5996167 | N42: =LOOKUP(D42,E42:M42,$E$1:$M$1) -> #N/A | O42: 4 | P42: =VLOOKUP(Table!O42,'Baby Growth Tracker'!$D$14:$F$99,3,FALSE) -> #N/A | Q42: =IF('Baby Growth Tracker'!$C$5="Male",Table!AJ42,Table!BB42) -> 56.812337 | R42: =IF('Baby Growth Tracker'!$C$5="Male",Table!AK42,Table!BC42) -> 57.396922 | S42: =IF('Baby Growth Tracker'!$C$5="Male",Table!AL42,Table!BD42) -> 58.297474 | T42: =IF('Baby Growth Tracker'!$C$5="Male",Table!AM42,Table!BE42) -> 59.803322 | U42: =IF('Baby Growth Tracker'!$C$5="Male",Table!AN42,Table!BF42) -> 61.478015 | V42: =IF('Baby Growth Tracker'!$C$5="Male",Table!AO42,Table!BG42) -> 63.154387 | W42: =IF('Baby Growth Tracker'!$C$5="Male",Table!AP42,Table!BH42) -> 64.664615 | X42: =IF('Baby Growth Tracker'!$C$5="Male",Table!AQ42,Table!BI42) -> 65.569086 | Y42: =IF('Baby Growth Tracker'!$C$5="Male",Table!AR42,Table!BJ42) -> 66.156734 | Z42: =LOOKUP(P42,Q42:Y42,$Q$1:$Y$1) -> #N/A | AA42: 5.2840335 | AB42: 5.4510816 | AC42: 5.7152595 | AD42: 6.1758877 | AE42: 6.7166142 | AF42: 7.2887701 | AG42: 7.8314478 | AH42: 8.1691072 | AI42: 8.3936609 | AJ42: 58.753046 | AK42: 59.262314 | AL42: 60.067131 | AM42: 61.470968 | AN42: 63.124359 | AO42: 64.886135 | AP42: 66.574035 | AQ42: 67.634631 | AR42: 68.344979 | AS42: 4.7970716 | AT42: 4.9598477 | AU42: 5.2140273 | AV42: 5.6481696 | AW42: 6.1440788 | AX42: 6.6539292 | AY42: 7.1244827 | AZ42: 7.4112918 | BA42: 7.5996167 | BB42: 56.812337 | BC42: 57.396922 | BD42: 58.297474 | BE42: 59.803322 | BF42: 61.478015 | BG42: 63.154387 | BH42: 64.664615 | BI42: 65.569086 | BJ42: 66.156734
B43: =C43*30 -> 123 | C43: 4.1 | D43: =VLOOKUP(Table!C43,'Baby Growth Tracker'!$D$14:$E$99,2,FALSE) -> #N/A | E43: =IF('Baby Growth Tracker'!$C$5="Male",Table!AA43,Table!AS43) -> 4.8458573 | F43: =IF('Baby Growth Tracker'!$C$5="Male",Table!AB43,Table!AT43) -> 5.0092207 | G43: =IF('Baby Growth Tracker'!$C$5="Male",Table!AC43,Table!AU43) -> 5.2644384 | H43: =IF('Baby Growth Tracker'!$C$5="Male",Table!AD43,Table!AV43) -> 5.7006894 | I43: =IF('Baby Growth Tracker'!$C$5="Male",Table!AE43,Table!AW43) -> 6.199514 | J43: =IF('Baby Growth Tracker'!$C$5="Male",Table!AF43,Table!AX43) -> 6.7129092 | K43: =IF('Baby Growth Tracker'!$C$5="Male",Table!AG43,Table!AY43) -> 7.1872127 | L43: =IF('Baby Growth Tracker'!$C$5="Male",Table!AH43,Table!AZ43) -> 7.4765271 | M43: =IF('Baby Growth Tracker'!$C$5="Male",Table!AI43,Table!BA43) -> 7.6665859 | N43: =LOOKUP(D43,E43:M43,$E$1:$M$1) -> #N/A | O43: 4.1 | P43: =VLOOKUP(Table!O43,'Baby Growth Tracker'!$D$14:$F$99,3,FALSE) -> #N/A | Q43: =IF('Baby Growth Tracker'!$C$5="Male",Table!AJ43,Table!BB43) -> 56.997247 | R43: =IF('Baby Growth Tracker'!$C$5="Male",Table!AK43,Table!BC43) -> 57.583899 | S43: =IF('Baby Growth Tracker'!$C$5="Male",Table!AL43,Table!BD43) -> 58.487378 | T43: =IF('Baby Growth Tracker'!$C$5="Male",Table!AM43,Table!BE43) -> 59.997432 | U43: =IF('Baby Growth Tracker'!$C$5="Male",Table!AN43,Table!BF43) -> 61.675822 | V43: =IF('Baby Growth Tracker'!$C$5="Male",Table!AO43,Table!BG43) -> 63.354894 | W43: =IF('Baby Growth Tracker'!$C$5="Male",Table!AP43,Table!BH43) -> 64.866726 | X43: =IF('Baby Growth Tracker'!$C$5="Male",Table!AQ43,Table!BI43) -> 65.771791 | Y43: =IF('Baby Growth Tracker'!$C$5="Male",Table!AR43,Table!BJ43) -> 66.359682 | Z43: =LOOKUP(P43,Q43:Y43,$Q$1:$Y$1) -> #N/A | AA43: 5.3422606 | AB43: 5.5098156 | AC43: 5.7749509 | AD43: 6.237704 | AE43: 6.7816587 | AF43: 7.3580806 | AG43: 7.9055969 | AH43: 8.2466485 | AI43: 8.4736174 | AJ43: 58.950363 | AK43: 59.460207 | AL43: 60.265978 | AM43: 61.671608 | AN43: 63.327333 | AO43: 65.091875 | AP43: 66.782708 | AQ43: 67.845296 | AR43: 68.557044 | AS43: 4.8458573 | AT43: 5.0092207 | AU43: 5.2644384 | AV43: 5.7006894 | AW43: 6.199514 | AX43: 6.7129092 | AY43: 7.1872127 | AZ43: 7.4765271 | BA43: 7.6665859 | BB43: 56.997247 | BC43: 57.583899 | BD43: 58.487378 | BE43: 59.997432 | BF43: 61.675822 | BG43: 63.354894 | BH43: 64.866726 | BI43: 65.771791 | BJ43: 66.359682
B44: =C44*30 -> 126 | C44: 4.2 | D44: =VLOOKUP(Table!C44,'Baby Growth Tracker'!$D$14:$E$99,2,FALSE) -> #N/A | E44: =IF('Baby Growth Tracker'!$C$5="Male",Table!AA44,Table!AS44) -> 4.8942659 | F44: =IF('Baby Growth Tracker'!$C$5="Male",Table!AB44,Table!AT44) -> 5.05821 | G44: =IF('Baby Growth Tracker'!$C$5="Male",Table!AC44,Table!AU44) -> 5.3144538 | H44: =IF('Baby Growth Tracker'!$C$5="Male",Table!AD44,Table!AV44) -> 5.7527889 | I44: =IF('Baby Growth Tracker'!$C$5="Male",Table!AE44,Table!AW44) -> 6.2544959 | J44: =IF('Baby Growth Tracker'!$C$5="Male",Table!AF44,Table!AX44) -> 6.7713989 | K44: =IF('Baby Growth Tracker'!$C$5="Male",Table!AG44,Table!AY44) -> 7.2494171 | L44: =IF('Baby Growth Tracker'!$C$5="Male",Table!AH44,Table!AZ44) -> 7.5412155 | M44: =IF('Baby Growth Tracker'!$C$5="Male",Table!AI44,Table!BA44) -> 7.7329946 | N44: =LOOKUP(D44,E44:M44,$E$1:$M$1) -> #N/A | O44: 4.2 | P44: =VLOOKUP(Table!O44,'Baby Growth Tracker'!$D$14:$F$99,3,FALSE) -> #N/A | Q44: =IF('Baby Growth Tracker'!$C$5="Male",Table!AJ44,Table!BB44) -> 57.180368 | R44: =IF('Baby Growth Tracker'!$C$5="Male",Table!AK44,Table!BC44) -> 57.769069 | S44: =IF('Baby Growth Tracker'!$C$5="Male",Table!AL44,Table!BD44) -> 58.675452 | T44: =IF('Baby Growth Tracker'!$C$5="Male",Table!AM44,Table!BE44) -> 60.189693 | U44: =IF('Baby Growth Tracker'!$C$5="Male",Table!AN44,Table!BF44) -> 61.871788 | V44: =IF('Baby Growth Tracker'!$C$5="Male",Table!AO44,Table!BG44) -> 63.553599 | W44: =IF('Baby Growth Tracker'!$C$5="Male",Table!AP44,Table!BH44) -> 65.067094 | X44: =IF('Baby Growth Tracker'!$C$5="Male",Table!AQ44,Table!BI44) -> 65.972801 | Y44: =IF('Baby Growth Tracker'!$C$5="Male",Table!AR44,Table!BJ44) -> 66.560969 | Z44: =LOOKUP(P44,Q44:Y44,$Q$1:$Y$1) -> #N/A | AA44: 5.4004877 | AB44: 5.5685496 | AC44: 5.8346422 | AD44: 6.2995203 | AE44: 6.8467031 | AF44: 7.4273912 | AG44: 7.979746 | AH44: 8.3241897 | AI44: 8.553574 | AJ44: 59.145422 | AK44: 59.655878 | AL44: 60.462653 | AM44: 61.870147 | AN44: 63.528263 | AO44: 65.295598 | AP44: 66.989359 | AQ44: 68.053919 | AR44: 68.767046 | AS44: 4.8942659 | AT44: 5.05821 | AU44: 5.3144538 | AV44: 5.7527889 | AW44: 6.2544959 | AX44: 6.7713989 | AY44: 7.2494171 | AZ44: 7.5412155 | BA44: 7.7329946 | BB44: 57.180368 | BC44: 57.769069 | BD44: 58.675452 | BE44: 60.189693 | BF44: 61.871788 | BG44: 63.553599 | BH44: 65.067094 | BI44: 65.972801 | BJ44: 66.560969
B45: =C45*30 -> 129 | C45: 4.3 | D45: =VLOOKUP(Table!C45,'Baby Growth Tracker'!$D$14:$E$99,2,FALSE) -> #N/A | E45: =IF('Baby Growth Tracker'!$C$5="Male",Table!AA45,Table!AS45) -> 4.9423003 | F45: =IF('Baby Growth Tracker'!$C$5="Male",Table!AB45,Table!AT45) -> 5.1068187 | G45: =IF('Baby Growth Tracker'!$C$5="Male",Table!AC45,Table!AU45) -> 5.3640766 | H45: =IF('Baby Growth Tracker'!$C$5="Male",Table!AD45,Table!AV45) -> 5.8044714 | I45: =IF('Baby Growth Tracker'!$C$5="Male",Table!AE45,Table!AW45) -> 6.3090284 | J45: =IF('Baby Growth Tracker'!$C$5="Male",Table!AF45,Table!AX45) -> 6.8294026 | K45: =IF('Baby Growth Tracker'!$C$5="Male",Table!AG45,Table!AY45) -> 7.3111009 | L45: =IF('Baby Growth Tracker'!$C$5="Male",Table!AH45,Table!AZ45) -> 7.6053624 | M45: =IF('Baby Growth Tracker'!$C$5="Male",Table!AI45,Table!BA45) -> 7.7988481 | N45: =LOOKUP(D45,E45:M45,$E$1:$M$1) -> #N/A | O45: 4.3 | P45: =VLOOKUP(Table!O45,'Baby Growth Tracker'!$D$14:$F$99,3,FALSE) -> #N/A | Q45: =IF('Baby Growth Tracker'!$C$5="Male",Table!AJ45,Table!BB45) -> 57.361742 | R45: =IF('Baby Growth Tracker'!$C$5="Male",Table!AK45,Table!BC45) -> 57.952474 | S45: =IF('Baby Growth Tracker'!$C$5="Male",Table!AL45,Table!BD45) -> 58.861739 | T45: =IF('Baby Growth Tracker'!$C$5="Male",Table!AM45,Table!BE45) -> 60.38015 | U45: =IF('Baby Growth Tracker'!$C$5="Male",Table!AN45,Table!BF45) -> 62.065956 | V45: =IF('Baby Growth Tracker'!$C$5="Male",Table!AO45,Table!BG45) -> 63.750541 | W45: =IF('Baby Growth Tracker'!$C$5="Male",Table!AP45,Table!BH45) -> 65.265757 | X45: =IF('Baby Growth Tracker'!$C$5="Male",Table!AQ45,Table!BI45) -> 66.172152 | Y45: =IF('Baby Growth Tracker'!$C$5="Male",Table!AR45,Table!BJ45) -> 66.760632 | Z45: =LOOKUP(P45,Q45:Y45,$Q$1:$Y$1) -> #N/A | AA45: 5.4587148 | AB45: 5.6272836 | AC45: 5.8943336 | AD45: 6.3613366 | AE45: 6.9117475 | AF45: 7.4967018 | AG45: 8.053895 | AH45: 8.4017309 | AI45: 8.6335305 | AJ45: 59.33828 | AK45: 59.849381 | AL45: 60.657208 | AM45: 62.066635 | AN45: 63.727197 | AO45: 65.497353 | AP45: 67.194036 | AQ45: 68.260547 | AR45: 68.975033 | AS45: 4.9423003 | AT45: 5.1068187 | AU45: 5.3640766 | AV45: 5.8044714 | AW45: 6.3090284 | AX45: 6.8294026 | AY45: 7.3111009 | AZ45: 7.6053624 | BA45: 7.7988481 | BB45: 57.361742 | BC45: 57.952474 | BD45: 58.861739 | BE45: 60.38015 | BF45: 62.065956 | BG45: 63.750541 | BH45: 65.265757 | BI45: 66.172152 | BJ45: 66.760632
B46: =C46*30 -> 132 | C46: 4.4 | D46: =VLOOKUP(Table!C46,'Baby Growth Tracker'!$D$14:$E$99,2,FALSE) -> #N/A | E46: =IF('Baby Growth Tracker'!$C$5="Male",Table!AA46,Table!AS46) -> 4.9899634 | F46: =IF('Baby Growth Tracker'!$C$5="Male",Table!AB46,Table!AT46) -> 5.1550496 | G46: =IF('Baby Growth Tracker'!$C$5="Male",Table!AC46,Table!AU46) -> 5.4133099 | H46: =IF('Baby Growth Tracker'!$C$5="Male",Table!AD46,Table!AV46) -> 5.8557405 | I46: =IF('Baby Growth Tracker'!$C$5="Male",Table!AE46,Table!AW46) -> 6.3631154 | J46: =IF('Baby Growth Tracker'!$C$5="Male",Table!AF46,Table!AX46) -> 6.886925 | K46: =IF('Baby Growth Tracker'!$C$5="Male",Table!AG46,Table!AY46) -> 7.3722691 | L46: =IF('Baby Growth Tracker'!$C$5="Male",Table!AH46,Table!AZ46) -> 7.668973 | M46: =IF('Baby Growth Tracker'!$C$5="Male",Table!AI46,Table!BA46) -> 7.864152 | N46: =LOOKUP(D46,E46:M46,$E$1:$M$1) -> #N/A | O46: 4.4 | P46: =VLOOKUP(Table!O46,'Baby Growth Tracker'!$D$14:$F$99,3,FALSE) -> #N/A | Q46: =IF('Baby Growth Tracker'!$C$5="Male",Table!AJ46,Table!BB46) -> 57.54141 | R46: =IF('Baby Growth Tracker'!$C$5="Male",Table!AK46,Table!BC46) -> 58.134154 | S46: =IF('Baby Growth Tracker'!$C$5="Male",Table!AL46,Table!BD46) -> 59.04628 | T46: =IF('Baby Growth Tracker'!$C$5="Male",Table!AM46,Table!BE46) -> 60.568843 | U46: =IF('Baby Growth Tracker'!$C$5="Male",Table!AN46,Table!BF46) -> 62.258366 | V46: =IF('Baby Growth Tracker'!$C$5="Male",Table!AO46,Table!BG46) -> 63.945759 | W46: =IF('Baby Growth Tracker'!$C$5="Male",Table!AP46,Table!BH46) -> 65.462752 | X46: =IF('Baby Growth Tracker'!$C$5="Male",Table!AQ46,Table!BI46) -> 66.369879 | Y46: =IF('Baby Growth Tracker'!$C$5="Male",Table!AR46,Table!BJ46) -> 66.958704 | Z46: =LOOKUP(P46,Q46:Y46,$Q$1:$Y$1) -> #N/A | AA46: 5.5169419 | AB46: 5.6860176 | AC46: 5.9540249 | AD46: 6.4231529 | AE46: 6.976792 | AF46: 7.5660124 | AG46: 8.1280441 | AH46: 8.4792721 | AI46: 8.7134871 | AJ46: 59.528992 | AK46: 60.04077 | AL46: 60.849694 | AM46: 62.261121 | AN46: 63.924182 | AO46: 65.697185 | AP46: 67.396784 | AQ46: 68.465226 | AR46: 69.18105 | AS46: 4.9899634 | AT46: 5.1550496 | AU46: 5.4133099 | AV46: 5.8557405 | AW46: 6.3631154 | AX46: 6.886925 | AY46: 7.3722691 | AZ46: 7.668973 | BA46: 7.864152 | BB46: 57.54141 | BC46: 58.134154 | BD46: 59.04628 | BE46: 60.568843 | BF46: 62.258366 | BG46: 63.945759 | BH46: 65.462752 | BI46: 66.369879 | BJ46: 66.958704
A47: Male | B47: =C47*30 -> 135 | C47: 4.5 | D47: =VLOOKUP(Table!C47,'Baby Growth Tracker'!$D$14:$E$99,2,FALSE) -> #N/A | E47: =IF('Baby Growth Tracker'!$C$5="Male",Table!AA47,Table!AS47) -> 5.0545387 | F47: =IF('Baby Growth Tracker'!$C$5="Male",Table!AB47,Table!AT47) -> 5.2204875 | G47: =IF('Baby Growth Tracker'!$C$5="Male",Table!AC47,Table!AU47) -> 5.4802952 | H47: =IF('Baby Growth Tracker'!$C$5="Male",Table!AD47,Table!AV47) -> 5.9258883 | I47: =IF('Baby Growth Tracker'!$C$5="Male",Table!AE47,Table!AW47) -> 6.4375878 | J47: =IF('Baby Growth Tracker'!$C$5="Male",Table!AF47,Table!AX47) -> 6.9665238 | K47: =IF('Baby Growth Tracker'!$C$5="Male",Table!AG47,Table!AY47) -> 7.4571188 | L47: =IF('Baby Growth Tracker'!$C$5="Male",Table!AH47,Table!AZ47) -> 7.7572339 | M47: =IF('Baby Growth Tracker'!$C$5="Male",Table!AI47,Table!BA47) -> 7.9547301 | N47: =LOOKUP(D47,E47:M47,$E$1:$M$1) -> #N/A | O47: 4.5 | P47: =VLOOKUP(Table!O47,'Baby Growth Tracker'!$D$14:$F$99,3,FALSE) -> #N/A | Q47: =IF('Baby Growth Tracker'!$C$5="Male",Table!AJ47,Table!BB47) -> 57.804701 | R47: =IF('Baby Growth Tracker'!$C$5="Male",Table!AK47,Table!BC47) -> 58.400324 | S47: =IF('Baby Growth Tracker'!$C$5="Male",Table!AL47,Table!BD47) -> 59.316328 | T47: =IF('Baby Growth Tracker'!$C$5="Male",Table!AM47,Table!BE47) -> 60.843862 | U47: =IF('Baby Growth Tracker'!$C$5="Male",Table!AN47,Table!BF47) -> 62.536697 | V47: =IF('Baby Growth Tracker'!$C$5="Male",Table!AO47,Table!BG47) -> 64.225071 | W47: =IF('Baby Growth Tracker'!$C$5="Male",Table!AP47,Table!BH47) -> 65.740959 | X47: =IF('Baby Growth Tracker'!$C$5="Male",Table!AQ47,Table!BI47) -> 66.646526 | Y47: =IF('Baby Growth Tracker'!$C$5="Male",Table!AR47,Table!BJ47) -> 67.233977 | Z47: =LOOKUP(P47,Q47:Y47,$Q$1:$Y$1) -> #N/A | AA47: 5.5751691 | AB47: 5.7447516 | AC47: 6.0137162 | AD47: 6.4849692 | AE47: 7.0418364 | AF47: 7.635323 | AG47: 8.2021932 | AH47: 8.5568134 | AI47: 8.7934437 | AJ47: 59.825686 | AK47: 60.336469 | AL47: 61.144096 | AM47: 62.554088 | AN47: 64.216864 | AO47: 65.991307 | AP47: 67.694048 | AQ47: 68.765378 | AR47: 69.48354 | AS47: 5.0545387 | AT47: 5.2204875 | AU47: 5.4802952 | AV47: 5.9258883 | AW47: 6.4375878 | AX47: 6.9665238 | AY47: 7.4571188 | AZ47: 7.7572339 | BA47: 7.9547301 | BB47: 57.804701 | BC47: 58.400324 | BD47: 59.316328 | BE47: 60.843862 | BF47: 62.536697 | BG47: 64.225071 | BH47: 65.740959 | BI47: 66.646526 | BJ47: 67.233977
B48: =C48*30 -> 138 | C48: 4.6 | D48: =VLOOKUP(Table!C48,'Baby Growth Tracker'!$D$14:$E$99,2,FALSE) -> #N/A | E48: =IF('Baby Growth Tracker'!$C$5="Male",Table!AA48,Table!AS48) -> 5.1013349 | F48: =IF('Baby Growth Tracker'!$C$5="Male",Table!AB48,Table!AT48) -> 5.2678362 | G48: =IF('Baby Growth Tracker'!$C$5="Male",Table!AC48,Table!AU48) -> 5.5286167 | H48: =IF('Baby Growth Tracker'!$C$5="Male",Table!AD48,Table!AV48) -> 5.9761823 | I48: =IF('Baby Growth Tracker'!$C$5="Male",Table!AE48,Table!AW48) -> 6.490614 | J48: =IF('Baby Growth Tracker'!$C$5="Male",Table!AF48,Table!AX48) -> 7.0228895 | K48: =IF('Baby Growth Tracker'!$C$5="Male",Table!AG48,Table!AY48) -> 7.51704 | L48: =IF('Baby Growth Tracker'!$C$5="Male",Table!AH48,Table!AZ48) -> 7.8195435 | M48: =IF('Baby Growth Tracker'!$C$5="Male",Table!AI48,Table!BA48) -> 8.0186984 | N48: =LOOKUP(D48,E48:M48,$E$1:$M$1) -> #N/A | O48: 4.6 | P48: =VLOOKUP(Table!O48,'Baby Growth Tracker'!$D$14:$F$99,3,FALSE) -> #N/A | Q48: =IF('Baby Growth Tracker'!$C$5="Male",Table!AJ48,Table!BB48) -> 57.97903 | R48: =IF('Baby Growth Tracker'!$C$5="Male",Table!AK48,Table!BC48) -> 58.576615 | S48: =IF('Baby Growth Tracker'!$C$5="Male",Table!AL48,Table!BD48) -> 59.495421 | T48: =IF('Baby Growth Tracker'!$C$5="Male",Table!AM48,Table!BE48) -> 61.027066 | U48: =IF('Baby Growth Tracker'!$C$5="Male",Table!AN48,Table!BF48) -> 62.72366 | V48: =IF('Baby Growth Tracker'!$C$5="Male",Table!AO48,Table!BG48) -> 64.414982 | W48: =IF('Baby Growth Tracker'!$C$5="Male",Table!AP48,Table!BH48) -> 65.932858 | X48: =IF('Baby Growth Tracker'!$C$5="Male",Table!AQ48,Table!BI48) -> 66.839325 | Y48: =IF('Baby Growth Tracker'!$C$5="Male",Table!AR48,Table!BJ48) -> 67.427247 | Z48: =LOOKUP(P48,Q48:Y48,$Q$1:$Y$1) -> #N/A | AA48: 5.6273297 | AB48: 5.7974939 | AC48: 6.0674825 | AD48: 6.5408349 | AE48: 7.1006953 | AF48: 7.697994 | AG48: 8.2691123 | AH48: 8.6266935 | AI48: 8.86543 | AJ48: 60.009501 | AK48: 60.521083 | AL48: 61.329982 | AM48: 62.742226 | AN48: 64.407709 | AO48: 66.185111 | AP48: 67.890765 | AQ48: 68.963968 | AR48: 69.683404 | AS48: 5.1013349 | AT48: 5.2678362 | AU48: 5.5286167 | AV48: 5.9761823 | AW48: 6.490614 | AX48: 7.0228895 | AY48: 7.51704 | AZ48: 7.8195435 | BA48: 8.0186984 | BB48: 57.97903 | BC48: 58.576615 | BD48: 59.495421 | BE48: 61.027066 | BF48: 62.72366 | BG48: 64.414982 | BH48: 65.932858 | BI48: 66.839325 | BJ48: 67.427247
B49: =C49*30 -> 141 | C49: 4.7 | D49: =VLOOKUP(Table!C49,'Baby Growth Tracker'!$D$14:$E$99,2,FALSE) -> #N/A | E49: =IF('Baby Growth Tracker'!$C$5="Male",Table!AA49,Table!AS49) -> 5.1477691 | F49: =IF('Baby Growth Tracker'!$C$5="Male",Table!AB49,Table!AT49) -> 5.3148167 | G49: =IF('Baby Growth Tracker'!$C$5="Male",Table!AC49,Table!AU49) -> 5.5765587 | H49: =IF('Baby Growth Tracker'!$C$5="Male",Table!AD49,Table!AV49) -> 6.0260739 | I49: =IF('Baby Growth Tracker'!$C$5="Male",Table!AE49,Table!AW49) -> 6.5432077 | J49: =IF('Baby Growth Tracker'!$C$5="Male",Table!AF49,Table!AX49) -> 7.0787885 | K49: =IF('Baby Growth Tracker'!$C$5="Male",Table!AG49,Table!AY49) -> 7.5764622 | L49: =IF('Baby Growth Tracker'!$C$5="Male",Table!AH49,Table!AZ49) -> 7.8813343 | M49: =IF('Baby Growth Tracker'!$C$5="Male",Table!AI49,Table!BA49) -> 8.0821352 | N49: =LOOKUP(D49,E49:M49,$E$1:$M$1) -> #N/A | O49: 4.7 | P49: =VLOOKUP(Table!O49,'Baby Growth Tracker'!$D$14:$F$99,3,FALSE) -> #N/A | Q49: =IF('Baby Growth Tracker'!$C$5="Male",Table!AJ49,Table!BB49) -> 58.151836 | R49: =IF('Baby Growth Tracker'!$C$5="Male",Table!AK49,Table!BC49) -> 58.751365 | S49: =IF('Baby Growth Tracker'!$C$5="Male",Table!AL49,Table!BD49) -> 59.672953 | T49: =IF('Baby Growth Tracker'!$C$5="Male",Table!AM49,Table!BE49) -> 61.20869 | U49: =IF('Baby Growth Tracker'!$C$5="Male",Table!AN49,Table!BF49) -> 62.909047 | V49: =IF('Baby Growth Tracker'!$C$5="Male",Table!AO49,Table!BG49) -> 64.603345 | W49: =IF('Baby Growth Tracker'!$C$5="Male",Table!AP49,Table!BH49) -> 66.123255 | X49: =IF('Baby Growth Tracker'!$C$5="Male",Table!AQ49,Table!BI49) -> 67.030657 | Y49: =IF('Baby Growth Tracker'!$C$5="Male",Table!AR49,Table!BJ49) -> 67.619078 | Z49: =LOOKUP(P49,Q49:Y49,$Q$1:$Y$1) -> #N/A | AA49: 5.6794903 | AB49: 5.8502363 | AC49: 6.1212488 | AD49: 6.5967007 | AE49: 7.1595542 | AF49: 7.760665 | AG49: 8.3360314 | AH49: 8.6965736 | AI49: 8.9374162 | AJ49: 60.191419 | AK49: 60.703826 | AL49: 61.514036 | AM49: 62.928585 | AN49: 64.596818 | AO49: 66.377199 | AP49: 68.08576 | AQ49: 69.160817 | AR49: 69.881509 | AS49: 5.1477691 | AT49: 5.3148167 | AU49: 5.5765587 | AV49: 6.0260739 | AW49: 6.5432077 | AX49: 7.0787885 | AY49: 7.5764622 | AZ49: 7.8813343 | BA49: 8.0821352 | BB49: 58.151836 | BC49: 58.751365 | BD49: 59.672953 | BE49: 61.20869 | BF49: 62.909047 | BG49: 64.603345 | BH49: 66.123255 | BI49: 67.030657 | BJ49: 67.619078
B50: =C50*30 -> 144 | C50: 4.8 | D50: =VLOOKUP(Table!C50,'Baby Growth Tracker'!$D$14:$E$99,2,FALSE) -> #N/A | E50: =IF('Baby Growth Tracker'!$C$5="Male",Table!AA50,Table!AS50) -> 5.1938443 | F50: =IF('Baby Growth Tracker'!$C$5="Male",Table!AB50,Table!AT50) -> 5.3614318 | G50: =IF('Baby Growth Tracker'!$C$5="Male",Table!AC50,Table!AU50) -> 5.6241243 | H50: =IF('Baby Growth Tracker'!$C$5="Male",Table!AD50,Table!AV50) -> 6.0755666 | I50: =IF('Baby Growth Tracker'!$C$5="Male",Table!AE50,Table!AW50) -> 6.5953726 | J50: =IF('Baby Growth Tracker'!$C$5="Male",Table!AF50,Table!AX50) -> 7.1342254 | K50: =IF('Baby Growth Tracker'!$C$5="Male",Table!AG50,Table!AY50) -> 7.6353901 | L50: =IF('Baby Growth Tracker'!$C$5="Male",Table!AH50,Table!AZ50) -> 7.9426114 | M50: =IF('Baby Growth Tracker'!$C$5="Male",Table!AI50,Table!BA50) -> 8.1450456 | N50: =LOOKUP(D50,E50:M50,$E$1:$M$1) -> #N/A | O50: 4.8 | P50: =VLOOKUP(Table!O50,'Baby Growth Tracker'!$D$14:$F$99,3,FALSE) -> #N/A | Q50: =IF('Baby Growth Tracker'!$C$5="Male",Table!AJ50,Table!BB50) -> 58.32315 | R50: =IF('Baby Growth Tracker'!$C$5="Male",Table!AK50,Table!BC50) -> 58.924607 | S50: =IF('Baby Growth Tracker'!$C$5="Male",Table!AL50,Table!BD50) -> 59.848957 | T50: =IF('Baby Growth Tracker'!$C$5="Male",Table!AM50,Table!BE50) -> 61.38877 | U50: =IF('Baby Growth Tracker'!$C$5="Male",Table!AN50,Table!BF50) -> 63.092892 | V50: =IF('Baby Growth Tracker'!$C$5="Male",Table!AO50,Table!BG50) -> 64.790192 | W50: =IF('Baby Growth Tracker'!$C$5="Male",Table!AP50,Table!BH50) -> 66.312179 | X50: =IF('Baby Growth Tracker'!$C$5="Male",Table!AQ50,Table!BI50) -> 67.220553 | Y50: =IF('Baby Growth Tracker'!$C$5="Male",Table!AR50,Table!BJ50) -> 67.809497 | Z50: =LOOKUP(P50,Q50:Y50,$Q$1:$Y$1) -> #N/A | AA50: 5.7316509 | AB50: 5.9029787 | AC50: 6.1750151 | AD50: 6.6525665 | AE50: 7.2184131 | AF50: 7.823336 | AG50: 8.4029505 | AH50: 8.7664537 | AI50: 9.0094025 | AJ50: 60.371482 | AK50: 60.88474 | AL50: 61.696298 | AM50: 63.113204 | AN50: 64.784229 | AO50: 66.567608 | AP50: 68.279068 | AQ50: 69.355963 | AR50: 70.077892 | AS50: 5.1938443 | AT50: 5.3614318 | AU50: 5.6241243 | AV50: 6.0755666 | AW50: 6.5953726 | AX50: 7.1342254 | AY50: 7.6353901 | AZ50: 7.9426114 | BA50: 8.1450456 | BB50: 58.32315 | BC50: 58.924607 | BD50: 59.848957 | BE50: 61.38877 | BF50: 63.092892 | BG50: 64.790192 | BH50: 66.312179 | BI50: 67.220553 | BJ50: 67.809497
B51: =C51*30 -> 147 | C51: 4.9 | D51: =VLOOKUP(Table!C51,'Baby Growth Tracker'!$D$14:$E$99,2,FALSE) -> #N/A | E51: =IF('Baby Growth Tracker'!$C$5="Male",Table!AA51,Table!AS51) -> 5.2395632 | F51: =IF('Baby Growth Tracker'!$C$5="Male",Table!AB51,Table!AT51) -> 5.4076845 | G51: =IF('Baby Growth Tracker'!$C$5="Male",Table!AC51,Table!AU51) -> 5.6713164 | H51: =IF('Baby Growth Tracker'!$C$5="Male",Table!AD51,Table!AV51) -> 6.1246636 | I51: =IF('Baby Growth Tracker'!$C$5="Male",Table!AE51,Table!AW51) -> 6.6471126 | J51: =IF('Baby Growth Tracker'!$C$5="Male",Table!AF51,Table!AX51) -> 7.1892043 | K51: =IF('Baby Growth Tracker'!$C$5="Male",Table!AG51,Table!AY51) -> 7.6938286 | L51: =IF('Baby Growth Tracker'!$C$5="Male",Table!AH51,Table!AZ51) -> 8.0033799 | M51: =IF('Baby Growth Tracker'!$C$5="Male",Table!AI51,Table!BA51) -> 8.2074351 | N51: =LOOKUP(D51,E51:M51,$E$1:$M$1) -> #N/A | O51: 4.9 | P51: =VLOOKUP(Table!O51,'Baby Growth Tracker'!$D$14:$F$99,3,FALSE) -> #N/A | Q51: =IF('Baby Growth Tracker'!$C$5="Male",Table!AJ51,Table!BB51) -> 58.493005 | R51: =IF('Baby Growth Tracker'!$C$5="Male",Table!AK51,Table!BC51) -> 59.096373 | S51: =IF('Baby Growth Tracker'!$C$5="Male",Table!AL51,Table!BD51) -> 60.023466 | T51: =IF('Baby Growth Tracker'!$C$5="Male",Table!AM51,Table!BE51) -> 61.567335 | U51: =IF('Baby Growth Tracker'!$C$5="Male",Table!AN51,Table!BF51) -> 63.275227 | V51: =IF('Baby Growth Tracker'!$C$5="Male",Table!AO51,Table!BG51) -> 64.975553 | W51: =IF('Baby Growth Tracker'!$C$5="Male",Table!AP51,Table!BH51) -> 66.49966 | X51: =IF('Baby Growth Tracker'!$C$5="Male",Table!AQ51,Table!BI51) -> 67.409038 | Y51: =IF('Baby Growth Tracker'!$C$5="Male",Table!AR51,Table!BJ51) -> 67.998533 | Z51: =LOOKUP(P51,Q51:Y51,$Q$1:$Y$1) -> #N/A | AA51: 5.7838115 | AB51: 5.9557211 | AC51: 6.2287814 | AD51: 6.7084323 | AE51: 7.2772719 | AF51: 7.886007 | AG51: 8.4698696 | AH51: 8.8363338 | AI51: 9.0813888 | AJ51: 60.549733 | AK51: 61.063867 | AL51: 61.876807 | AM51: 63.296121 | AN51: 64.969979 | AO51: 66.756373 | AP51: 68.470725 | AQ51: 69.549439 | AR51: 70.272588 | AS51: 5.2395632 | AT51: 5.4076845 | AU51: 5.6713164 | AV51: 6.1246636 | AW51: 6.6471126 | AX51: 7.1892043 | AY51: 7.6938286 | AZ51: 8.0033799 | BA51: 8.2074351 | BB51: 58.493005 | BC51: 59.096373 | BD51: 60.023466 | BE51: 61.567335 | BF51: 63.275227 | BG51: 64.975553 | BH51: 66.49966 | BI51: 67.409038 | BJ51: 67.998533
A52: Male | B52: =C52*30 -> 150 | C52: 5 | D52: =VLOOKUP(Table!C52,'Baby Growth Tracker'!$D$14:$E$99,2,FALSE) -> #N/A | E52: =IF('Baby Growth Tracker'!$C$5="Male",Table!AA52,Table!AS52) -> 5.2849286 | F52: =IF('Baby Growth Tracker'!$C$5="Male",Table!AB52,Table!AT52) -> 5.4535777 | G52: =IF('Baby Growth Tracker'!$C$5="Male",Table!AC52,Table!AU52) -> 5.718138 | H52: =IF('Baby Growth Tracker'!$C$5="Male",Table!AD52,Table!AV52) -> 6.1733684 | I52: =IF('Baby Growth Tracker'!$C$5="Male",Table!AE52,Table!AW52) -> 6.6984314 | J52: =IF('Baby Growth Tracker'!$C$5="Male",Table!AF52,Table!AX52) -> 7.2437297 | K52: =IF('Baby Growth Tracker'!$C$5="Male",Table!AG52,Table!AY52) -> 7.7517824 | L52: =IF('Baby Growth Tracker'!$C$5="Male",Table!AH52,Table!AZ52) -> 8.0636448 | M52: =IF('Baby Growth Tracker'!$C$5="Male",Table!AI52,Table!BA52) -> 8.2693089 | N52: =LOOKUP(D52,E52:M52,$E$1:$M$1) -> #N/A | O52: 5 | P52: =VLOOKUP(Table!O52,'Baby Growth Tracker'!$D$14:$F$99,3,FALSE) -> #N/A | Q52: =IF('Baby Growth Tracker'!$C$5="Male",Table!AJ52,Table!BB52) -> 58.661431 | R52: =IF('Baby Growth Tracker'!$C$5="Male",Table!AK52,Table!BC52) -> 59.266694 | S52: =IF('Baby Growth Tracker'!$C$5="Male",Table!AL52,Table!BD52) -> 60.19651 | T52: =IF('Baby Growth Tracker'!$C$5="Male",Table!AM52,Table!BE52) -> 61.744419 | U52: =IF('Baby Growth Tracker'!$C$5="Male",Table!AN52,Table!BF52) -> 63.456081 | V52: =IF('Baby Growth Tracker'!$C$5="Male",Table!AO52,Table!BG52) -> 65.159459 | W52: =IF('Baby Growth Tracker'!$C$5="Male",Table!AP52,Table!BH52) -> 66.685727 | X52: =IF('Baby Growth Tracker'!$C$5="Male",Table!AQ52,Table!BI52) -> 67.596142 | Y52: =IF('Baby Growth Tracker'!$C$5="Male",Table!AR52,Table!BJ52) -> 68.186211 | Z52: =LOOKUP(P52,Q52:Y52,$Q$1:$Y$1) -> #N/A | AA52: 5.8359722 | AB52: 6.0084634 | AC52: 6.2825477 | AD52: 6.764298 | AE52: 7.3361308 | AF52: 7.948678 | AG52: 8.5367887 | AH52: 8.9062139 | AI52: 9.1533751 | AJ52: 60.726211 | AK52: 61.241245 | AL52: 62.055603 | AM52: 63.477374 | AN52: 65.154101 | AO52: 66.943529 | AP52: 68.660765 | AQ52: 69.741282 | AR52: 70.465635 | AS52: 5.2849286 | AT52: 5.4535777 | AU52: 5.718138 | AV52: 6.1733684 | AW52: 6.6984314 | AX52: 7.2437297 | AY52: 7.7517824 | AZ52: 8.0636448 | BA52: 8.2693089 | BB52: 58.661431 | BC52: 59.266694 | BD52: 60.19651 | BE52: 61.744419 | BF52: 63.456081 | BG52: 65.159459 | BH52: 66.685727 | BI52: 67.596142 | BJ52: 68.186211
B53: =C53*30 -> 153 | C53: 5.1 | D53: =VLOOKUP(Table!C53,'Baby Growth Tracker'!$D$14:$E$99,2,FALSE) -> #N/A | E53: =IF('Baby Growth Tracker'!$C$5="Male",Table!AA53,Table!AS53) -> 5.3299432 | F53: =IF('Baby Growth Tracker'!$C$5="Male",Table!AB53,Table!AT53) -> 5.499114 | G53: =IF('Baby Growth Tracker'!$C$5="Male",Table!AC53,Table!AU53) -> 5.7645922 | H53: =IF('Baby Growth Tracker'!$C$5="Male",Table!AD53,Table!AV53) -> 6.2216841 | I53: =IF('Baby Growth Tracker'!$C$5="Male",Table!AE53,Table!AW53) -> 6.7493329 | J53: =IF('Baby Growth Tracker'!$C$5="Male",Table!AF53,Table!AX53) -> 7.2978057 | K53: =IF('Baby Growth Tracker'!$C$5="Male",Table!AG53,Table!AY53) -> 7.8092563 | L53: =IF('Baby Growth Tracker'!$C$5="Male",Table!AH53,Table!AZ53) -> 8.1234112 | M53: =IF('Baby Growth Tracker'!$C$5="Male",Table!AI53,Table!BA53) -> 8.3306721 | N53: =LOOKUP(D53,E53:M53,$E$1:$M$1) -> #N/A | O53: 5.1 | P53: =VLOOKUP(Table!O53,'Baby Growth Tracker'!$D$14:$F$99,3,FALSE) -> #N/A | Q53: =IF('Baby Growth Tracker'!$C$5="Male",Table!AJ53,Table!BB53) -> 58.828457 | R53: =IF('Baby Growth Tracker'!$C$5="Male",Table!AK53,Table!BC53) -> 59.435599 | S53: =IF('Baby Growth Tracker'!$C$5="Male",Table!AL53,Table!BD53) -> 60.368119 | T53: =IF('Baby Growth Tracker'!$C$5="Male",Table!AM53,Table!BE53) -> 61.92005 | U53: =IF('Baby Growth Tracker'!$C$5="Male",Table!AN53,Table!BF53) -> 63.635485 | V53: =IF('Baby Growth Tracker'!$C$5="Male",Table!AO53,Table!BG53) -> 65.341938 | W53: =IF('Baby Growth Tracker'!$C$5="Male",Table!AP53,Table!BH53) -> 66.870406 | X53: =IF('Baby Growth Tracker'!$C$5="Male",Table!AQ53,Table!BI53) -> 67.781891 | Y53: =IF('Baby Growth Tracker'!$C$5="Male",Table!AR53,Table!BJ53) -> 68.372557 | Z53: =LOOKUP(P53,Q53:Y53,$Q$1:$Y$1) -> #N/A | AA53: 5.8881328 | AB53: 6.0612058 | AC53: 6.336314 | AD53: 6.8201638 | AE53: 7.3949897 | AF53: 8.011349 | AG53: 8.6037077 | AH53: 8.9760941 | AI53: 9.2253614 | AJ53: 60.900956 | AK53: 61.416914 | AL53: 62.232722 | AM53: 63.656997 | AN53: 65.336632 | AO53: 67.12911 | AP53: 68.849222 | AQ53: 69.931525 | AR53: 70.657064 | AS53: 5.3299432 | AT53: 5.499114 | AU53: 5.7645922 | AV53: 6.2216841 | AW53: 6.7493329 | AX53: 7.2978057 | AY53: 7.8092563 | AZ53: 8.1234112 | BA53: 8.3306721 | BB53: 58.828457 | BC53: 59.435599 | BD53: 60.368119 | BE53: 61.92005 | BF53: 63.635485 | BG53: 65.341938 | BH53: 66.870406 | BI53: 67.781891 | BJ53: 68.372557
B54: =C54*30 -> 156 | C54: 5.2 | D54: =VLOOKUP(Table!C54,'Baby Growth Tracker'!$D$14:$E$99,2,FALSE) -> #N/A | E54: =IF('Baby Growth Tracker'!$C$5="Male",Table!AA54,Table!AS54) -> 5.3746099 | F54: =IF('Baby Growth Tracker'!$C$5="Male",Table!AB54,Table!AT54) -> 5.5442964 | G54: =IF('Baby Growth Tracker'!$C$5="Male",Table!AC54,Table!AU54) -> 5.8106818 | H54: =IF('Baby Growth Tracker'!$C$5="Male",Table!AD54,Table!AV54) -> 6.2696141 | I54: =IF('Baby Growth Tracker'!$C$5="Male",Table!AE54,Table!AW54) -> 6.7998207 | J54: =IF('Baby Growth Tracker'!$C$5="Male",Table!AF54,Table!AX54) -> 7.3514366 | K54: =IF('Baby Growth Tracker'!$C$5="Male",Table!AG54,Table!AY54) -> 7.8662551 | L54: =IF('Baby Growth Tracker'!$C$5="Male",Table!AH54,Table!AZ54) -> 8.1826842 | M54: =IF('Baby Growth Tracker'!$C$5="Male",Table!AI54,Table!BA54) -> 8.3915299 | N54: =LOOKUP(D54,E54:M54,$E$1:$M$1) -> #N/A | O54: 5.2 | P54: =VLOOKUP(Table!O54,'Baby Growth Tracker'!$D$14:$F$99,3,FALSE) -> #N/A | Q54: =IF('Baby Growth Tracker'!$C$5="Male",Table!AJ54,Table!BB54) -> 58.994112 | R54: =IF('Baby Growth Tracker'!$C$5="Male",Table!AK54,Table!BC54) -> 59.603117 | S54: =IF('Baby Growth Tracker'!$C$5="Male",Table!AL54,Table!BD54) -> 60.538323 | T54: =IF('Baby Growth Tracker'!$C$5="Male",Table!AM54,Table!BE54) -> 62.094259 | U54: =IF('Baby Growth Tracker'!$C$5="Male",Table!AN54,Table!BF54) -> 63.813468 | V54: =IF('Baby Growth Tracker'!$C$5="Male",Table!AO54,Table!BG54) -> 65.523019 | W54: =IF('Baby Growth Tracker'!$C$5="Male",Table!AP54,Table!BH54) -> 67.053724 | X54: =IF('Baby Growth Tracker'!$C$5="Male",Table!AQ54,Table!BI54) -> 67.966309 | Y54: =IF('Baby Growth Tracker'!$C$5="Male",Table!AR54,Table!BJ54) -> 68.557597 | Z54: =LOOKUP(P54,Q54:Y54,$Q$1:$Y$1) -> #N/A | AA54: 5.9402934 | AB54: 6.1139482 | AC54: 6.3900803 | AD54: 6.8760296 | AE54: 7.4538486 | AF54: 8.07402 | AG54: 8.6706268 | AH54: 9.0459742 | AI54: 9.2973477 | AJ54: 61.074005 | AK54: 61.59091 | AL54: 62.408201 | AM54: 63.835025 | AN54: 65.517604 | AO54: 67.313147 | AP54: 69.036129 | AQ54: 70.1202 | AR54: 70.84691 | AS54: 5.3746099 | AT54: 5.5442964 | AU54: 5.8106818 | AV54: 6.2696141 | AW54: 6.7998207 | AX54: 7.3514366 | AY54: 7.8662551 | AZ54: 8.1826842 | BA54: 8.3915299 | BB54: 58.994112 | BC54: 59.603117 | BD54: 60.538323 | BE54: 62.094259 | BF54: 63.813468 | BG54: 65.523019 | BH54: 67.053724 | BI54: 67.966309 | BJ54: 68.557597
B55: =C55*30 -> 159 | C55: 5.3 | D55: =VLOOKUP(Table!C55,'Baby Growth Tracker'!$D$14:$E$99,2,FALSE) -> #N/A | E55: =IF('Baby Growth Tracker'!$C$5="Male",Table!AA55,Table!AS55) -> 5.4189313 | F55: =IF('Baby Growth Tracker'!$C$5="Male",Table!AB55,Table!AT55) -> 5.5891277 | G55: =IF('Baby Growth Tracker'!$C$5="Male",Table!AC55,Table!AU55) -> 5.8564099 | H55: =IF('Baby Growth Tracker'!$C$5="Male",Table!AD55,Table!AV55) -> 6.3171617 | I55: =IF('Baby Growth Tracker'!$C$5="Male",Table!AE55,Table!AW55) -> 6.8498985 | J55: =IF('Baby Growth Tracker'!$C$5="Male",Table!AF55,Table!AX55) -> 7.4046266 | K55: =IF('Baby Growth Tracker'!$C$5="Male",Table!AG55,Table!AY55) -> 7.9227833 | L55: =IF('Baby Growth Tracker'!$C$5="Male",Table!AH55,Table!AZ55) -> 8.2414685 | M55: =IF('Baby Growth Tracker'!$C$5="Male",Table!AI55,Table!BA55) -> 8.4518874 | N55: =LOOKUP(D55,E55:M55,$E$1:$M$1) -> #N/A | O55: 5.3 | P55: =VLOOKUP(Table!O55,'Baby Growth Tracker'!$D$14:$F$99,3,FALSE) -> #N/A | Q55: =IF('Baby Growth Tracker'!$C$5="Male",Table!AJ55,Table!BB55) -> 59.158423 | R55: =IF('Baby Growth Tracker'!$C$5="Male",Table!AK55,Table!BC55) -> 59.769277 | S55: =IF('Baby Growth Tracker'!$C$5="Male",Table!AL55,Table!BD55) -> 60.707149 | T55: =IF('Baby Growth Tracker'!$C$5="Male",Table!AM55,Table!BE55) -> 62.267075 | U55: =IF('Baby Growth Tracker'!$C$5="Male",Table!AN55,Table!BF55) -> 63.990058 | V55: =IF('Baby Growth Tracker'!$C$5="Male",Table!AO55,Table!BG55) -> 65.702729 | W55: =IF('Baby Growth Tracker'!$C$5="Male",Table!AP55,Table!BH55) -> 67.235709 | X55: =IF('Baby Growth Tracker'!$C$5="Male",Table!AQ55,Table!BI55) -> 68.149423 | Y55: =IF('Baby Growth Tracker'!$C$5="Male",Table!AR55,Table!BJ55) -> 68.741354 | Z55: =LOOKUP(P55,Q55:Y55,$Q$1:$Y$1) -> #N/A | AA55: 5.992454 | AB55: 6.1666906 | AC55: 6.4438466 | AD55: 6.9318954 | AE55: 7.5127074 | AF55: 8.136691 | AG55: 8.7375459 | AH55: 9.1158543 | AI55: 9.369334 | AJ55: 61.245396 | AK55: 61.763269 | AL55: 62.582074 | AM55: 64.011493 | AN55: 65.697049 | AO55: 67.495672 | AP55: 69.221516 | AQ55: 70.30734 | AR55: 71.035204 | AS55: 5.4189313 | AT55: 5.5891277 | AU55: 5.8564099 | AV55: 6.3171617 | AW55: 6.8498985 | AX55: 7.4046266 | AY55: 7.9227833 | AZ55: 8.2414685 | BA55: 8.4518874 | BB55: 59.158423 | BC55: 59.769277 | BD55: 60.707149 | BE55: 62.267075 | BF55: 63.990058 | BG55: 65.702729 | BH55: 67.235709 | BI55: 68.149423 | BJ55: 68.741354
B56: =C56*30 -> 162 | C56: 5.4 | D56: =VLOOKUP(Table!C56,'Baby Growth Tracker'!$D$14:$E$99,2,FALSE) -> #N/A | E56: =IF('Baby Growth Tracker'!$C$5="Male",Table!AA56,Table!AS56) -> 5.4629101 | F56: =IF('Baby Growth Tracker'!$C$5="Male",Table!AB56,Table!AT56) -> 5.6336106 | G56: =IF('Baby Growth Tracker'!$C$5="Male",Table!AC56,Table!AU56) -> 5.9017793 | H56: =IF('Baby Growth Tracker'!$C$5="Male",Table!AD56,Table!AV56) -> 6.3643302 | I56: =IF('Baby Growth Tracker'!$C$5="Male",Table!AE56,Table!AW56) -> 6.8995701 | J56: =IF('Baby Growth Tracker'!$C$5="Male",Table!AF56,Table!AX56) -> 7.4573799 | K56: =IF('Baby Growth Tracker'!$C$5="Male",Table!AG56,Table!AY56) -> 7.9788456 | L56: =IF('Baby Growth Tracker'!$C$5="Male",Table!AH56,Table!AZ56) -> 8.2997691 | M56: =IF('Baby Growth Tracker'!$C$5="Male",Table!AI56,Table!BA56) -> 8.5117497 | N56: =LOOKUP(D56,E56:M56,$E$1:$M$1) -> #N/A | O56: 5.4 | P56: =VLOOKUP(Table!O56,'Baby Growth Tracker'!$D$14:$F$99,3,FALSE) -> #N/A | Q56: =IF('Baby Growth Tracker'!$C$5="Male",Table!AJ56,Table!BB56) -> 59.321419 | R56: =IF('Baby Growth Tracker'!$C$5="Male",Table!AK56,Table!BC56) -> 59.934106 | S56: =IF('Baby Growth Tracker'!$C$5="Male",Table!AL56,Table!BD56) -> 60.874627 | T56: =IF('Baby Growth Tracker'!$C$5="Male",Table!AM56,Table!BE56) -> 62.438523 | U56: =IF('Baby Growth Tracker'!$C$5="Male",Table!AN56,Table!BF56) -> 64.165283 | V56: =IF('Baby Growth Tracker'!$C$5="Male",Table!AO56,Table!BG56) -> 65.881094 | W56: =IF('Baby Growth Tracker'!$C$5="Male",Table!AP56,Table!BH56) -> 67.416384 | X56: =IF('Baby Growth Tracker'!$C$5="Male",Table!AQ56,Table!BI56) -> 68.331256 | Y56: =IF('Baby Growth Tracker'!$C$5="Male",Table!AR56,Table!BJ56) -> 68.923852 | Z56: =LOOKUP(P56,Q56:Y56,$Q$1:$Y$1) -> #N/A | AA56: 6.0446147 | AB56: 6.2194329 | AC56: 6.4976129 | AD56: 6.9877611 | AE56: 7.5715663 | AF56: 8.199362 | AG56: 8.804465 | AH56: 9.1857344 | AI56: 9.4413203 | AJ56: 61.415164 | AK56: 61.934027 | AL56: 62.754376 | AM56: 64.186432 | AN56: 65.874999 | AO56: 67.676716 | AP56: 69.405413 | AQ56: 70.492975 | AR56: 71.221978 | AS56: 5.4629101 | AT56: 5.6336106 | AU56: 5.9017793 | AV56: 6.3643302 | AW56: 6.8995701 | AX56: 7.4573799 | AY56: 7.9788456 | AZ56: 8.2997691 | BA56: 8.5117497 | BB56: 59.321419 | BC56: 59.934106 | BD56: 60.874627 | BE56: 62.438523 | BF56: 64.165283 | BG56: 65.881094 | BH56: 67.416384 | BI56: 68.331256 | BJ56: 68.923852
A57: Male | B57: =C57*30 -> 165 | C57: 5.5 | D57: =VLOOKUP(Table!C57,'Baby Growth Tracker'!$D$14:$E$99,2,FALSE) -> #N/A | E57: =IF('Baby Growth Tracker'!$C$5="Male",Table!AA57,Table!AS57) -> 5.5225002 | F57: =IF('Baby Growth Tracker'!$C$5="Male",Table!AB57,Table!AT57) -> 5.6939742 | G57: =IF('Baby Growth Tracker'!$C$5="Male",Table!AC57,Table!AU57) -> 5.9635104 | H57: =IF('Baby Growth Tracker'!$C$5="Male",Table!AD57,Table!AV57) -> 6.4288282 | I57: =IF('Baby Growth Tracker'!$C$5="Male",Table!AE57,Table!AW57) -> 6.9678505 | J57: =IF('Baby Growth Tracker'!$C$5="Male",Table!AF57,Table!AX57) -> 7.5301804 | K57: =IF('Baby Growth Tracker'!$C$5="Male",Table!AG57,Table!AY57) -> 8.056331 | L57: =IF('Baby Growth Tracker'!$C$5="Male",Table!AH57,Table!AZ57) -> 8.3803298 | M57: =IF('Baby Growth Tracker'!$C$5="Male",Table!AI57,Table!BA57) -> 8.5944135 | N57: =LOOKUP(D57,E57:M57,$E$1:$M$1) -> #N/A | O57: 5.5 | P57: =VLOOKUP(Table!O57,'Baby Growth Tracker'!$D$14:$F$99,3,FALSE) -> #N/A | Q57: =IF('Baby Growth Tracker'!$C$5="Male",Table!AJ57,Table!BB57) -> 59.547993 | R57: =IF('Baby Growth Tracker'!$C$5="Male",Table!AK57,Table!BC57) -> 60.163231 | S57: =IF('Baby Growth Tracker'!$C$5="Male",Table!AL57,Table!BD57) -> 61.107258 | T57: =IF('Baby Growth Tracker'!$C$5="Male",Table!AM57,Table!BE57) -> 62.675897 | U57: =IF('Baby Growth Tracker'!$C$5="Male",Table!AN57,Table!BF57) -> 64.406328 | V57: =IF('Baby Growth Tracker'!$C$5="Male",Table!AO57,Table!BG57) -> 66.124179 | W57: =IF('Baby Growth Tracker'!$C$5="Male",Table!AP57,Table!BH57) -> 67.659952 | X57: =IF('Baby Growth Tracker'!$C$5="Male",Table!AQ57,Table!BI57) -> 68.574516 | Y57: =IF('Baby Growth Tracker'!$C$5="Male",Table!AR57,Table!BJ57) -> 69.166676 | Z57: =LOOKUP(P57,Q57:Y57,$Q$1:$Y$1) -> #N/A | AA57: 6.0967753 | AB57: 6.2721753 | AC57: 6.5513792 | AD57: 7.0436269 | AE57: 7.6304252 | AF57: 8.262033 | AG57: 8.8713841 | AH57: 9.2556145 | AI57: 9.5133066 | AJ57: 61.663837 | AK57: 62.182608 | AL57: 63.00296 | AM57: 64.435463 | AN57: 66.125315 | AO57: 67.929348 | AP57: 69.661223 | AQ57: 70.751283 | AR57: 71.482182 | AS57: 5.5225002 | AT57: 5.6939742 | AU57: 5.9635104 | AV57: 6.4288282 | AW57: 6.9678505 | AX57: 7.5301804 | AY57: 8.056331 | AZ57: 8.3803298 | BA57: 8.5944135 | BB57: 59.547993 | BC57: 60.163231 | BD57: 61.107258 | BE57: 62.675897 | BF57: 64.406328 | BG57: 66.124179 | BH57: 67.659952 | BI57: 68.574516 | BJ57: 69.166676
B58: =C58*30 -> 168 | C58: 5.6 | D58: =VLOOKUP(Table!C58,'Baby Growth Tracker'!$D$14:$E$99,2,FALSE) -> #N/A | E58: =IF('Baby Growth Tracker'!$C$5="Male",Table!AA58,Table!AS58) -> 5.5656775 | F58: =IF('Baby Growth Tracker'!$C$5="Male",Table!AB58,Table!AT58) -> 5.7376409 | G58: =IF('Baby Growth Tracker'!$C$5="Male",Table!AC58,Table!AU58) -> 6.0080369 | H58: =IF('Baby Growth Tracker'!$C$5="Male",Table!AD58,Table!AV58) -> 6.4750987 | I58: =IF('Baby Growth Tracker'!$C$5="Male",Table!AE58,Table!AW58) -> 7.0165508 | J58: =IF('Baby Growth Tracker'!$C$5="Male",Table!AF58,Table!AX58) -> 7.5818802 | K58: =IF('Baby Growth Tracker'!$C$5="Male",Table!AG58,Table!AY58) -> 8.1112615 | L58: =IF('Baby Growth Tracker'!$C$5="Male",Table!AH58,Table!AZ58) -> 8.4374512 | M58: =IF('Baby Growth Tracker'!$C$5="Male",Table!AI58,Table!BA58) -> 8.653066 | N58: =LOOKUP(D58,E58:M58,$E$1:$M$1) -> #N/A | O58: 5.6 | P58: =VLOOKUP(Table!O58,'Baby Growth Tracker'!$D$14:$F$99,3,FALSE) -> #N/A | Q58: =IF('Baby Growth Tracker'!$C$5="Male",Table!AJ58,Table!BB58) -> 59.707087 | R58: =IF('Baby Growth Tracker'!$C$5="Male",Table!AK58,Table!BC58) -> 60.324116 | S58: =IF('Baby Growth Tracker'!$C$5="Male",Table!AL58,Table!BD58) -> 61.270743 | T58: =IF('Baby Growth Tracker'!$C$5="Male",Table!AM58,Table!BE58) -> 62.843313 | U58: =IF('Baby Growth Tracker'!$C$5="Male",Table!AN58,Table!BF58) -> 64.577536 | V58: =IF('Baby Growth Tracker'!$C$5="Male",Table!AO58,Table!BG58) -> 66.298611 | W58: =IF('Baby Growth Tracker'!$C$5="Male",Table!AP58,Table!BH58) -> 67.836825 | X58: =IF('Baby Growth Tracker'!$C$5="Male",Table!AQ58,Table!BI58) -> 68.752651 | Y58: =IF('Baby Growth Tracker'!$C$5="Male",Table!AR58,Table!BJ58) -> 69.345554 | Z58: =LOOKUP(P58,Q58:Y58,$Q$1:$Y$1) -> #N/A | AA58: 6.1435408 | AB58: 6.319557 | AC58: 6.599807 | AD58: 7.0940988 | AE58: 7.6836778 | AF58: 8.3187083 | AG58: 8.9317923 | AH58: 9.3185967 | AI58: 9.5781109 | AJ58: 61.828678 | AK58: 62.348513 | AL58: 63.170517 | AM58: 64.605813 | AN58: 66.298801 | AO58: 68.105992 | AP58: 69.84071 | AQ58: 70.932461 | AR58: 71.664452 | AS58: 5.5656775 | AT58: 5.7376409 | AU58: 6.0080369 | AV58: 6.4750987 | AW58: 7.0165508 | AX58: 7.5818802 | AY58: 8.1112615 | AZ58: 8.4374512 | BA58: 8.653066 | BB58: 59.707087 | BC58: 60.324116 | BD58: 61.270743 | BE58: 62.843313 | BF58: 64.577536 | BG58: 66.298611 | BH58: 67.836825 | BI58: 68.752651 | BJ58: 69.345554
B59: =C59*30 -> 171 | C59: 5.7 | D59: =VLOOKUP(Table!C59,'Baby Growth Tracker'!$D$14:$E$99,2,FALSE) -> #N/A | E59: =IF('Baby Growth Tracker'!$C$5="Male",Table!AA59,Table!AS59) -> 5.6085209 | F59: =IF('Baby Growth Tracker'!$C$5="Male",Table!AB59,Table!AT59) -> 5.7809682 | G59: =IF('Baby Growth Tracker'!$C$5="Male",Table!AC59,Table!AU59) -> 6.0522142 | H59: =IF('Baby Growth Tracker'!$C$5="Male",Table!AD59,Table!AV59) -> 6.5210005 | I59: =IF('Baby Growth Tracker'!$C$5="Male",Table!AE59,Table!AW59) -> 7.064857 | J59: =IF('Baby Growth Tracker'!$C$5="Male",Table!AF59,Table!AX59) -> 7.633157 | K59: =IF('Baby Growth Tracker'!$C$5="Male",Table!AG59,Table!AY59) -> 8.1657413 | L59: =IF('Baby Growth Tracker'!$C$5="Male",Table!AH59,Table!AZ59) -> 8.4941051 | M59: =IF('Baby Growth Tracker'!$C$5="Male",Table!AI59,Table!BA59) -> 8.71124 | N59: =LOOKUP(D59,E59:M59,$E$1:$M$1) -> #N/A | O59: 5.7 | P59: =VLOOKUP(Table!O59,'Baby Growth Tracker'!$D$14:$F$99,3,FALSE) -> #N/A | Q59: =IF('Baby Growth Tracker'!$C$5="Male",Table!AJ59,Table!BB59) -> 59.864981 | R59: =IF('Baby Growth Tracker'!$C$5="Male",Table!AK59,Table!BC59) -> 60.483787 | S59: =IF('Baby Growth Tracker'!$C$5="Male",Table!AL59,Table!BD59) -> 61.432997 | T59: =IF('Baby Growth Tracker'!$C$5="Male",Table!AM59,Table!BE59) -> 63.009481 | U59: =IF('Baby Growth Tracker'!$C$5="Male",Table!AN59,Table!BF59) -> 64.747498 | V59: =IF('Baby Growth Tracker'!$C$5="Male",Table!AO59,Table!BG59) -> 66.471812 | W59: =IF('Baby Growth Tracker'!$C$5="Male",Table!AP59,Table!BH59) -> 68.012498 | X59: =IF('Baby Growth Tracker'!$C$5="Male",Table!AQ59,Table!BI59) -> 68.92961 | Y59: =IF('Baby Growth Tracker'!$C$5="Male",Table!AR59,Table!BJ59) -> 69.523273 | Z59: =LOOKUP(P59,Q59:Y59,$Q$1:$Y$1) -> #N/A | AA59: 6.1903063 | AB59: 6.3669388 | AC59: 6.6482347 | AD59: 7.1445707 | AE59: 7.7369304 | AF59: 8.3753836 | AG59: 8.9922005 | AH59: 9.3815788 | AI59: 9.6429153 | AJ59: 61.992051 | AK59: 62.51297 | AL59: 63.336652 | AM59: 64.774775 | AN59: 66.470928 | AO59: 68.281288 | AP59: 70.01884 | AQ59: 71.112268 | AR59: 71.845337 | AS59: 5.6085209 | AT59: 5.7809682 | AU59: 6.0522142 | AV59: 6.5210005 | AW59: 7.064857 | AX59: 7.633157 | AY59: 8.1657413 | AZ59: 8.4941051 | BA59: 8.71124 | BB59: 59.864981 | BC59: 60.483787 | BD59: 61.432997 | BE59: 63.009481 | BF59: 64.747498 | BG59: 66.471812 | BH59: 68.012498 | BI59: 68.92961 | BJ59: 69.523273
B60: =C60*30 -> 174 | C60: 5.8 | D60: =VLOOKUP(Table!C60,'Baby Growth Tracker'!$D$14:$E$99,2,FALSE) -> #N/A | E60: =IF('Baby Growth Tracker'!$C$5="Male",Table!AA60,Table!AS60) -> 5.6510333 | F60: =IF('Baby Growth Tracker'!$C$5="Male",Table!AB60,Table!AT60) -> 5.823959 | G60: =IF('Baby Growth Tracker'!$C$5="Male",Table!AC60,Table!AU60) -> 6.0960452 | H60: =IF('Baby Growth Tracker'!$C$5="Male",Table!AD60,Table!AV60) -> 6.5665369 | I60: =IF('Baby Growth Tracker'!$C$5="Male",Table!AE60,Table!AW60) -> 7.1127725 | J60: =IF('Baby Growth Tracker'!$C$5="Male",Table!AF60,Table!AX60) -> 7.6840149 | K60: =IF('Baby Growth Tracker'!$C$5="Male",Table!AG60,Table!AY60) -> 8.219775 | L60: =IF('Baby Growth Tracker'!$C$5="Male",Table!AH60,Table!AZ60) -> 8.5502962 | M60: =IF('Baby Growth Tracker'!$C$5="Male",Table!AI60,Table!BA60) -> 8.7689406 | N60: =LOOKUP(D60,E60:M60,$E$1:$M$1) -> #N/A | O60: 5.8 | P60: =VLOOKUP(Table!O60,'Baby Growth Tracker'!$D$14:$F$99,3,FALSE) -> #N/A | Q60: =IF('Baby Growth Tracker'!$C$5="Male",Table!AJ60,Table!BB60) -> 60.021699 | R60: =IF('Baby Growth Tracker'!$C$5="Male",Table!AK60,Table!BC60) -> 60.642268 | S60: =IF('Baby Growth Tracker'!$C$5="Male",Table!AL60,Table!BD60) -> 61.594043 | T60: =IF('Baby Growth Tracker'!$C$5="Male",Table!AM60,Table!BE60) -> 63.174426 | U60: =IF('Baby Growth Tracker'!$C$5="Male",Table!AN60,Table!BF60) -> 64.916234 | V60: =IF('Baby Growth Tracker'!$C$5="Male",Table!AO60,Table!BG60) -> 66.643805 | W60: =IF('Baby Growth Tracker'!$C$5="Male",Table!AP60,Table!BH60) -> 68.18699 | X60: =IF('Baby Growth Tracker'!$C$5="Male",Table!AQ60,Table!BI60) -> 69.105412 | Y60: =IF('Baby Growth Tracker'!$C$5="Male",Table!AR60,Table!BJ60) -> 69.699853 | Z60: =LOOKUP(P60,Q60:Y60,$Q$1:$Y$1) -> #N/A | AA60: 6.2370718 | AB60: 6.4143205 | AC60: 6.6966624 | AD60: 7.1950426 | AE60: 7.7901829 | AF60: 8.4320589 | AG60: 9.0526087 | AH60: 9.4445609 | AI60: 9.7077196 | AJ60: 62.153987 | AK60: 62.676007 | AL60: 63.501392 | AM60: 64.942378 | AN60: 66.641722 | AO60: 68.455261 | AP60: 70.195638 | AQ60: 71.290729 | AR60: 72.024861 | AS60: 5.6510333 | AT60: 5.823959 | AU60: 6.0960452 | AV60: 6.5665369 | AW60: 7.1127725 | AX60: 7.6840149 | AY60: 8.219775 | AZ60: 8.5502962 | BA60: 8.7689406 | BB60: 60.021699 | BC60: 60.642268 | BD60: 61.594043 | BE60: 63.174426 | BF60: 64.916234 | BG60: 66.643805 | BH60: 68.18699 | BI60: 69.105412 | BJ60: 69.699853
B61: =C61*30 -> 177 | C61: 5.9 | D61: =VLOOKUP(Table!C61,'Baby Growth Tracker'!$D$14:$E$99,2,FALSE) -> #N/A | E61: =IF('Baby Growth Tracker'!$C$5="Male",Table!AA61,Table!AS61) -> 5.6932171 | F61: =IF('Baby Growth Tracker'!$C$5="Male",Table!AB61,Table!AT61) -> 5.8666157 | G61: =IF('Baby Growth Tracker'!$C$5="Male",Table!AC61,Table!AU61) -> 6.1395327 | H61: =IF('Baby Growth Tracker'!$C$5="Male",Table!AD61,Table!AV61) -> 6.6117109 | I61: =IF('Baby Growth Tracker'!$C$5="Male",Table!AE61,Table!AW61) -> 7.1603009 | J61: =IF('Baby Growth Tracker'!$C$5="Male",Table!AF61,Table!AX61) -> 7.7344578 | K61: =IF('Baby Growth Tracker'!$C$5="Male",Table!AG61,Table!AY61) -> 8.273367 | L61: =IF('Baby Growth Tracker'!$C$5="Male",Table!AH61,Table!AZ61) -> 8.6060294 | M61: =IF('Baby Growth Tracker'!$C$5="Male",Table!AI61,Table!BA61) -> 8.8261726 | N61: =LOOKUP(D61,E61:M61,$E$1:$M$1) -> #N/A | O61: 5.9 | P61: =VLOOKUP(Table!O61,'Baby Growth Tracker'!$D$14:$F$99,3,FALSE) -> #N/A | Q61: =IF('Baby Growth Tracker'!$C$5="Male",Table!AJ61,Table!BB61) -> 60.177261 | R61: =IF('Baby Growth Tracker'!$C$5="Male",Table!AK61,Table!BC61) -> 60.79958 | S61: =IF('Baby Growth Tracker'!$C$5="Male",Table!AL61,Table!BD61) -> 61.753904 | T61: =IF('Baby Growth Tracker'!$C$5="Male",Table!AM61,Table!BE61) -> 63.33817 | U61: =IF('Baby Growth Tracker'!$C$5="Male",Table!AN61,Table!BF61) -> 65.083768 | V61: =IF('Baby Growth Tracker'!$C$5="Male",Table!AO61,Table!BG61) -> 66.814611 | W61: =IF('Baby Growth Tracker'!$C$5="Male",Table!AP61,Table!BH61) -> 68.360323 | X61: =IF('Baby Growth Tracker'!$C$5="Male",Table!AQ61,Table!BI61) -> 69.280077 | Y61: =IF('Baby Growth Tracker'!$C$5="Male",Table!AR61,Table!BJ61) -> 69.875314 | Z61: =LOOKUP(P61,Q61:Y61,$Q$1:$Y$1) -> #N/A | AA61: 6.2838373 | AB61: 6.4617022 | AC61: 6.7450901 | AD61: 7.2455144 | AE61: 7.8434355 | AF61: 8.4887343 | AG61: 9.1130169 | AH61: 9.507543 | AI61: 9.772524 | AJ61: 62.314514 | AK61: 62.837651 | AL61: 63.664764 | AM61: 65.108646 | AN61: 66.811207 | AO61: 68.627934 | AP61: 70.371129 | AQ61: 71.467868 | AR61: 72.20305 | AS61: 5.6932171 | AT61: 5.8666157 | AU61: 6.1395327 | AV61: 6.6117109 | AW61: 7.1603009 | AX61: 7.7344578 | AY61: 8.273367 | AZ61: 8.6060294 | BA61: 8.8261726 | BB61: 60.177261 | BC61: 60.79958 | BD61: 61.753904 | BE61: 63.33817 | BF61: 65.083768 | BG61: 66.814611 | BH61: 68.360323 | BI61: 69.280077 | BJ61: 69.875314
A62: Male | B62: =C62*30 -> 180 | C62: 6 | D62: =VLOOKUP(Table!C62,'Baby Growth Tracker'!$D$14:$E$99,2,FALSE) -> #N/A | E62: =IF('Baby Growth Tracker'!$C$5="Male",Table!AA62,Table!AS62) -> 5.735075 | F62: =IF('Baby Growth Tracker'!$C$5="Male",Table!AB62,Table!AT62) -> 5.9089413 | G62: =IF('Baby Growth Tracker'!$C$5="Male",Table!AC62,Table!AU62) -> 6.1826795 | H62: =IF('Baby Growth Tracker'!$C$5="Male",Table!AD62,Table!AV62) -> 6.6565257 | I62: =IF('Baby Growth Tracker'!$C$5="Male",Table!AE62,Table!AW62) -> 7.2074458 | J62: =IF('Baby Growth Tracker'!$C$5="Male",Table!AF62,Table!AX62) -> 7.7844898 | K62: =IF('Baby Growth Tracker'!$C$5="Male",Table!AG62,Table!AY62) -> 8.3265218 | L62: =IF('Baby Growth Tracker'!$C$5="Male",Table!AH62,Table!AZ62) -> 8.6613092 | M62: =IF('Baby Growth Tracker'!$C$5="Male",Table!AI62,Table!BA62) -> 8.8829408 | N62: =LOOKUP(D62,E62:M62,$E$1:$M$1) -> #N/A | O62: 6 | P62: =VLOOKUP(Table!O62,'Baby Growth Tracker'!$D$14:$F$99,3,FALSE) -> #N/A | Q62: =IF('Baby Growth Tracker'!$C$5="Male",Table!AJ62,Table!BB62) -> 60.33169 | R62: =IF('Baby Growth Tracker'!$C$5="Male",Table!AK62,Table!BC62) -> 60.955745 | S62: =IF('Baby Growth Tracker'!$C$5="Male",Table!AL62,Table!BD62) -> 61.912601 | T62: =IF('Baby Growth Tracker'!$C$5="Male",Table!AM62,Table!BE62) -> 63.500735 | U62: =IF('Baby Growth Tracker'!$C$5="Male",Table!AN62,Table!BF62) -> 65.250122 | V62: =IF('Baby Growth Tracker'!$C$5="Male",Table!AO62,Table!BG62) -> 66.984252 | W62: =IF('Baby Growth Tracker'!$C$5="Male",Table!AP62,Table!BH62) -> 68.532518 | X62: =IF('Baby Growth Tracker'!$C$5="Male",Table!AQ62,Table!BI62) -> 69.453625 | Y62: =IF('Baby Growth Tracker'!$C$5="Male",Table!AR62,Table!BJ62) -> 70.049674 | Z62: =LOOKUP(P62,Q62:Y62,$Q$1:$Y$1) -> #N/A | AA62: 6.3306028 | AB62: 6.509084 | AC62: 6.7935178 | AD62: 7.2959863 | AE62: 7.8966881 | AF62: 8.5454096 | AG62: 9.1734251 | AH62: 9.5705251 | AI62: 9.8373284 | AJ62: 62.47366 | AK62: 62.997931 | AL62: 63.826795 | AM62: 65.273606 | AN62: 66.979408 | AO62: 68.799333 | AP62: 70.545337 | AQ62: 71.64371 | AR62: 72.37993 | AS62: 5.735075 | AT62: 5.9089413 | AU62: 6.1826795 | AV62: 6.6565257 | AW62: 7.2074458 | AX62: 7.7844898 | AY62: 8.3265218 | AZ62: 8.6613092 | BA62: 8.8829408 | BB62: 60.33169 | BC62: 60.955745 | BD62: 61.912601 | BE62: 63.500735 | BF62: 65.250122 | BG62: 66.984252 | BH62: 68.532518 | BI62: 69.453625 | BJ62: 70.049674
B63: =C63*30 -> 183 | C63: 6.1 | D63: =VLOOKUP(Table!C63,'Baby Growth Tracker'!$D$14:$E$99,2,FALSE) -> #N/A | E63: =IF('Baby Growth Tracker'!$C$5="Male",Table!AA63,Table!AS63) -> 5.7766097 | F63: =IF('Baby Growth Tracker'!$C$5="Male",Table!AB63,Table!AT63) -> 5.9509382 | G63: =IF('Baby Growth Tracker'!$C$5="Male",Table!AC63,Table!AU63) -> 6.2254886 | H63: =IF('Baby Growth Tracker'!$C$5="Male",Table!AD63,Table!AV63) -> 6.7009845 | I63: =IF('Baby Growth Tracker'!$C$5="Male",Table!AE63,Table!AW63) -> 7.2542107 | J63: =IF('Baby Growth Tracker'!$C$5="Male",Table!AF63,Table!AX63) -> 7.8341148 | K63: =IF('Baby Growth Tracker'!$C$5="Male",Table!AG63,Table!AY63) -> 8.3792437 | L63: =IF('Baby Growth Tracker'!$C$5="Male",Table!AH63,Table!AZ63) -> 8.7161403 | M63: =IF('Baby Growth Tracker'!$C$5="Male",Table!AI63,Table!BA63) -> 8.93925 | N63: =LOOKUP(D63,E63:M63,$E$1:$M$1) -> #N/A | O63: 6.1 | P63: =VLOOKUP(Table!O63,'Baby Growth Tracker'!$D$14:$F$99,3,FALSE) -> #N/A | Q63: =IF('Baby Growth Tracker'!$C$5="Male",Table!AJ63,Table!BB63) -> 60.485006 | R63: =IF('Baby Growth Tracker'!$C$5="Male",Table!AK63,Table!BC63) -> 61.110783 | S63: =IF('Baby Growth Tracker'!$C$5="Male",Table!AL63,Table!BD63) -> 62.070156 | T63: =IF('Baby Growth Tracker'!$C$5="Male",Table!AM63,Table!BE63) -> 63.662141 | U63: =IF('Baby Growth Tracker'!$C$5="Male",Table!AN63,Table!BF63) -> 65.415316 | V63: =IF('Baby Growth Tracker'!$C$5="Male",Table!AO63,Table!BG63) -> 67.152747 | W63: =IF('Baby Growth Tracker'!$C$5="Male",Table!AP63,Table!BH63) -> 68.703593 | X63: =IF('Baby Growth Tracker'!$C$5="Male",Table!AQ63,Table!BI63) -> 69.626076 | Y63: =IF('Baby Growth Tracker'!$C$5="Male",Table!AR63,Table!BJ63) -> 70.222952 | Z63: =LOOKUP(P63,Q63:Y63,$Q$1:$Y$1) -> #N/A | AA63: 6.3773683 | AB63: 6.5564657 | AC63: 6.8419455 | AD63: 7.3464582 | AE63: 7.9499407 | AF63: 8.6020849 | AG63: 9.2338333 | AH63: 9.6335073 | AI63: 9.9021327 | AJ63: 62.631451 | AK63: 63.156873 | AL63: 63.987511 | AM63: 65.437283 | AN63: 67.146349 | AO63: 68.969481 | AP63: 70.718285 | AQ63: 71.818279 | AR63: 72.555523 | AS63: 5.7766097 | AT63: 5.9509382 | AU63: 6.2254886 | AV63: 6.7009845 | AW63: 7.2542107 | AX63: 7.8341148 | AY63: 8.3792437 | AZ63: 8.7161403 | BA63: 8.93925 | BB63: 60.485006 | BC63: 61.110783 | BD63: 62.070156 | BE63: 63.662141 | BF63: 65.415316 | BG63: 67.152747 | BH63: 68.703593 | BI63: 69.626076 | BJ63: 70.222952
B64: =C64*30 -> 186 | C64: 6.2 | D64: =VLOOKUP(Table!C64,'Baby Growth Tracker'!$D$14:$E$99,2,FALSE) -> #N/A | E64: =IF('Baby Growth Tracker'!$C$5="Male",Table!AA64,Table!AS64) -> 5.8178236 | F64: =IF('Baby Growth Tracker'!$C$5="Male",Table!AB64,Table!AT64) -> 5.9926092 | G64: =IF('Baby Growth Tracker'!$C$5="Male",Table!AC64,Table!AU64) -> 6.2679626 | H64: =IF('Baby Growth Tracker'!$C$5="Male",Table!AD64,Table!AV64) -> 6.7450902 | I64: =IF('Baby Growth Tracker'!$C$5="Male",Table!AE64,Table!AW64) -> 7.300599 | J64: =IF('Baby Growth Tracker'!$C$5="Male",Table!AF64,Table!AX64) -> 7.8833368 | K64: =IF('Baby Growth Tracker'!$C$5="Male",Table!AG64,Table!AY64) -> 8.4315371 | L64: =IF('Baby Growth Tracker'!$C$5="Male",Table!AH64,Table!AZ64) -> 8.7705274 | M64: =IF('Baby Growth Tracker'!$C$5="Male",Table!AI64,Table!BA64) -> 8.9951052 | N64: =LOOKUP(D64,E64:M64,$E$1:$M$1) -> #N/A | O64: 6.2 | P64: =VLOOKUP(Table!O64,'Baby Growth Tracker'!$D$14:$F$99,3,FALSE) -> #N/A | Q64: =IF('Baby Growth Tracker'!$C$5="Male",Table!AJ64,Table!BB64) -> 60.637229 | R64: =IF('Baby Growth Tracker'!$C$5="Male",Table!AK64,Table!BC64) -> 61.264716 | S64: =IF('Baby Growth Tracker'!$C$5="Male",Table!AL64,Table!BD64) -> 62.22659 | T64: =IF('Baby Growth Tracker'!$C$5="Male",Table!AM64,Table!BE64) -> 63.82241 | U64: =IF('Baby Growth Tracker'!$C$5="Male",Table!AN64,Table!BF64) -> 65.579371 | V64: =IF('Baby Growth Tracker'!$C$5="Male",Table!AO64,Table!BG64) -> 67.320117 | W64: =IF('Baby Growth Tracker'!$C$5="Male",Table!AP64,Table!BH64) -> 68.873568 | X64: =IF('Baby Growth Tracker'!$C$5="Male",Table!AQ64,Table!BI64) -> 69.797447 | Y64: =IF('Baby Growth Tracker'!$C$5="Male",Table!AR64,Table!BJ64) -> 70.395166 | Z64: =LOOKUP(P64,Q64:Y64,$Q$1:$Y$1) -> #N/A | AA64: 6.4241338 | AB64: 6.6038475 | AC64: 6.8903733 | AD64: 7.3969301 | AE64: 8.0031933 | AF64: 8.6587602 | AG64: 9.2942415 | AH64: 9.6964894 | AI64: 9.9669371 | AJ64: 62.787914 | AK64: 63.314503 | AL64: 64.146936 | AM64: 65.5997 | AN64: 67.312054 | AO64: 69.138401 | AP64: 70.889997 | AQ64: 71.991598 | AR64: 72.729853 | AS64: 5.8178236 | AT64: 5.9926092 | AU64: 6.2679626 | AV64: 6.7450902 | AW64: 7.300599 | AX64: 7.8833368 | AY64: 8.4315371 | AZ64: 8.7705274 | BA64: 8.9951052 | BB64: 60.637229 | BC64: 61.264716 | BD64: 62.22659 | BE64: 63.82241 | BF64: 65.579371 | BG64: 67.320117 | BH64: 68.873568 | BI64: 69.797447 | BJ64: 70.395166
B65: =C65*30 -> 189 | C65: 6.3 | D65: =VLOOKUP(Table!C65,'Baby Growth Tracker'!$D$14:$E$99,2,FALSE) -> #N/A | E65: =IF('Baby Growth Tracker'!$C$5="Male",Table!AA65,Table!AS65) -> 5.8587194 | F65: =IF('Baby Growth Tracker'!$C$5="Male",Table!AB65,Table!AT65) -> 6.0339569 | G65: =IF('Baby Growth Tracker'!$C$5="Male",Table!AC65,Table!AU65) -> 6.3101043 | H65: =IF('Baby Growth Tracker'!$C$5="Male",Table!AD65,Table!AV65) -> 6.788846 | I65: =IF('Baby Growth Tracker'!$C$5="Male",Table!AE65,Table!AW65) -> 7.3466142 | J65: =IF('Baby Growth Tracker'!$C$5="Male",Table!AF65,Table!AX65) -> 7.9321596 | K65: =IF('Baby Growth Tracker'!$C$5="Male",Table!AG65,Table!AY65) -> 8.4834062 | L65: =IF('Baby Growth Tracker'!$C$5="Male",Table!AH65,Table!AZ65) -> 8.824475 | M65: =IF('Baby Growth Tracker'!$C$5="Male",Table!AI65,Table!BA65) -> 9.0505109 | N65: =LOOKUP(D65,E65:M65,$E$1:$M$1) -> #N/A | O65: 6.3 | P65: =VLOOKUP(Table!O65,'Baby Growth Tracker'!$D$14:$F$99,3,FALSE) -> #N/A | Q65: =IF('Baby Growth Tracker'!$C$5="Male",Table!AJ65,Table!BB65) -> 60.788378 | R65: =IF('Baby Growth Tracker'!$C$5="Male",Table!AK65,Table!BC65) -> 61.417562 | S65: =IF('Baby Growth Tracker'!$C$5="Male",Table!AL65,Table!BD65) -> 62.381922 | T65: =IF('Baby Growth Tracker'!$C$5="Male",Table!AM65,Table!BE65) -> 63.981563 | U65: =IF('Baby Growth Tracker'!$C$5="Male",Table!AN65,Table!BF65) -> 65.742307 | V65: =IF('Baby Growth Tracker'!$C$5="Male",Table!AO65,Table!BG65) -> 67.486381 | W65: =IF('Baby Growth Tracker'!$C$5="Male",Table!AP65,Table!BH65) -> 69.042462 | X65: =IF('Baby Growth Tracker'!$C$5="Male",Table!AQ65,Table!BI65) -> 69.967756 | Y65: =IF('Baby Growth Tracker'!$C$5="Male",Table!AR65,Table!BJ65) -> 70.566334 | Z65: =LOOKUP(P65,Q65:Y65,$Q$1:$Y$1) -> #N/A | AA65: 6.4708993 | AB65: 6.6512292 | AC65: 6.938801 | AD65: 7.447402 | AE65: 8.0564459 | AF65: 8.7154355 | AG65: 9.3546498 | AH65: 9.7594715 | AI65: 10.031741 | AJ65: 62.943074 | AK65: 63.470845 | AL65: 64.305096 | AM65: 65.760882 | AN65: 67.476546 | AO65: 69.306114 | AP65: 71.060494 | AQ65: 72.163688 | AR65: 72.902943 | AS65: 5.8587194 | AT65: 6.0339569 | AU65: 6.3101043 | AV65: 6.788846 | AW65: 7.3466142 | AX65: 7.9321596 | AY65: 8.4834062 | AZ65: 8.824475 | BA65: 9.0505109 | BB65: 60.788378 | BC65: 61.417562 | BD65: 62.381922 | BE65: 63.981563 | BF65: 65.742307 | BG65: 67.486381 | BH65: 69.042462 | BI65: 69.967756 | BJ65: 70.566334
B66: =C66*30 -> 192 | C66: 6.4 | D66: =VLOOKUP(Table!C66,'Baby Growth Tracker'!$D$14:$E$99,2,FALSE) -> #N/A | E66: =IF('Baby Growth Tracker'!$C$5="Male",Table!AA66,Table!AS66) -> 5.8992995 | F66: =IF('Baby Growth Tracker'!$C$5="Male",Table!AB66,Table!AT66) -> 6.074984 | G66: =IF('Baby Growth Tracker'!$C$5="Male",Table!AC66,Table!AU66) -> 6.3519166 | H66: =IF('Baby Growth Tracker'!$C$5="Male",Table!AD66,Table!AV66) -> 6.8322549 | I66: =IF('Baby Growth Tracker'!$C$5="Male",Table!AE66,Table!AW66) -> 7.3922598 | J66: =IF('Baby Growth Tracker'!$C$5="Male",Table!AF66,Table!AX66) -> 7.9805871 | K66: =IF('Baby Growth Tracker'!$C$5="Male",Table!AG66,Table!AY66) -> 8.5348555 | L66: =IF('Baby Growth Tracker'!$C$5="Male",Table!AH66,Table!AZ66) -> 8.8779876 | M66: =IF('Baby Growth Tracker'!$C$5="Male",Table!AI66,Table!BA66) -> 9.1054719 | N66: =LOOKUP(D66,E66:M66,$E$1:$M$1) -> #N/A | O66: 6.4 | P66: =VLOOKUP(Table!O66,'Baby Growth Tracker'!$D$14:$F$99,3,FALSE) -> #N/A | Q66: =IF('Baby Growth Tracker'!$C$5="Male",Table!AJ66,Table!BB66) -> 60.938474 | R66: =IF('Baby Growth Tracker'!$C$5="Male",Table!AK66,Table!BC66) -> 61.569342 | S66: =IF('Baby Growth Tracker'!$C$5="Male",Table!AL66,Table!BD66) -> 62.536171 | T66: =IF('Baby Growth Tracker'!$C$5="Male",Table!AM66,Table!BE66) -> 64.139618 | U66: =IF('Baby Growth Tracker'!$C$5="Male",Table!AN66,Table!BF66) -> 65.904144 | V66: =IF('Baby Growth Tracker'!$C$5="Male",Table!AO66,Table!BG66) -> 67.651559 | W66: =IF('Baby Growth Tracker'!$C$5="Male",Table!AP66,Table!BH66) -> 69.210292 | X66: =IF('Baby Growth Tracker'!$C$5="Male",Table!AQ66,Table!BI66) -> 70.137022 | Y66: =IF('Baby Growth Tracker'!$C$5="Male",Table!AR66,Table!BJ66) -> 70.736472 | Z66: =LOOKUP(P66,Q66:Y66,$Q$1:$Y$1) -> #N/A | AA66: 6.5176648 | AB66: 6.6986109 | AC66: 6.9872287 | AD66: 7.4978738 | AE66: 8.1096984 | AF66: 8.7721108 | AG66: 9.415058 | AH66: 9.8224536 | AI66: 10.096546 | AJ66: 63.096956 | AK66: 63.625924 | AL66: 64.462014 | AM66: 65.92085 | AN66: 67.639845 | AO66: 69.472643 | AP66: 71.229798 | AQ66: 72.334573 | AR66: 73.074815 | AS66: 5.8992995 | AT66: 6.074984 | AU66: 6.3519166 | AV66: 6.8322549 | AW66: 7.3922598 | AX66: 7.9805871 | AY66: 8.5348555 | AZ66: 8.8779876 | BA66: 9.1054719 | BB66: 60.938474 | BC66: 61.569342 | BD66: 62.536171 | BE66: 64.139618 | BF66: 65.904144 | BG66: 67.651559 | BH66: 69.210292 | BI66: 70.137022 | BJ66: 70.736472
A67: Male | B67: =C67*30 -> 195 | C67: 6.5 | D67: =VLOOKUP(Table!C67,'Baby Growth Tracker'!$D$14:$E$99,2,FALSE) -> #N/A | E67: =IF('Baby Growth Tracker'!$C$5="Male",Table!AA67,Table!AS67) -> 5.9542725 | F67: =IF('Baby Growth Tracker'!$C$5="Male",Table!AB67,Table!AT67) -> 6.1306413 | G67: =IF('Baby Growth Tracker'!$C$5="Male",Table!AC67,Table!AU67) -> 6.4087751 | H67: =IF('Baby Growth Tracker'!$C$5="Male",Table!AD67,Table!AV67) -> 6.8915331 | I67: =IF('Baby Growth Tracker'!$C$5="Male",Table!AE67,Table!AW67) -> 7.4548541 | J67: =IF('Baby Growth Tracker'!$C$5="Male",Table!AF67,Table!AX67) -> 8.0471782 | K67: =IF('Baby Growth Tracker'!$C$5="Male",Table!AG67,Table!AY67) -> 8.6056355 | L67: =IF('Baby Growth Tracker'!$C$5="Male",Table!AH67,Table!AZ67) -> 8.9515437 | M67: =IF('Baby Growth Tracker'!$C$5="Male",Table!AI67,Table!BA67) -> 9.1809384 | N67: =LOOKUP(D67,E67:M67,$E$1:$M$1) -> #N/A | O67: 6.5 | P67: =VLOOKUP(Table!O67,'Baby Growth Tracker'!$D$14:$F$99,3,FALSE) -> #N/A | Q67: =IF('Baby Growth Tracker'!$C$5="Male",Table!AJ67,Table!BB67) -> 61.138931 | R67: =IF('Baby Growth Tracker'!$C$5="Male",Table!AK67,Table!BC67) -> 61.77208 | S67: =IF('Baby Growth Tracker'!$C$5="Male",Table!AL67,Table!BD67) -> 62.742103 | T67: =IF('Baby Growth Tracker'!$C$5="Male",Table!AM67,Table!BE67) -> 64.350053 | U67: =IF('Baby Growth Tracker'!$C$5="Male",Table!AN67,Table!BF67) -> 66.118416 | V67: =IF('Baby Growth Tracker'!$C$5="Male",Table!AO67,Table!BG67) -> 67.868499 | W67: =IF('Baby Growth Tracker'!$C$5="Male",Table!AP67,Table!BH67) -> 69.428684 | X67: =IF('Baby Growth Tracker'!$C$5="Male",Table!AQ67,Table!BI67) -> 70.355869 | Y67: =IF('Baby Growth Tracker'!$C$5="Male",Table!AR67,Table!BJ67) -> 70.955455 | Z67: =LOOKUP(P67,Q67:Y67,$Q$1:$Y$1) -> #N/A | AA67: 6.5644303 | AB67: 6.7459927 | AC67: 7.0356564 | AD67: 7.5483457 | AE67: 8.162951 | AF67: 8.8287862 | AG67: 9.4754662 | AH67: 9.8854357 | AI67: 10.16135 | AJ67: 63.312242 | AK67: 63.841661 | AL67: 64.678537 | AM67: 66.138957 | AN67: 67.86018 | AO67: 69.695795 | AP67: 71.456092 | AQ67: 72.563068 | AR67: 73.304883 | AS67: 5.9542725 | AT67: 6.1306413 | AU67: 6.4087751 | AV67: 6.8915331 | AW67: 7.4548541 | AX67: 8.0471782 | AY67: 8.6056355 | AZ67: 8.9515437 | BA67: 9.1809384 | BB67: 61.138931 | BC67: 61.77208 | BD67: 62.742103 | BE67: 64.350053 | BF67: 66.118416 | BG67: 67.868499 | BH67: 69.428684 | BI67: 70.355869 | BJ67: 70.955455
B68: =C68*30 -> 198 | C68: 6.6 | D68: =VLOOKUP(Table!C68,'Baby Growth Tracker'!$D$14:$E$99,2,FALSE) -> #N/A | E68: =IF('Baby Growth Tracker'!$C$5="Male",Table!AA68,Table!AS68) -> 5.9941121 | F68: =IF('Baby Growth Tracker'!$C$5="Male",Table!AB68,Table!AT68) -> 6.1709145 | G68: =IF('Baby Growth Tracker'!$C$5="Male",Table!AC68,Table!AU68) -> 6.4498098 | H68: =IF('Baby Growth Tracker'!$C$5="Male",Table!AD68,Table!AV68) -> 6.9341171 | I68: =IF('Baby Growth Tracker'!$C$5="Male",Table!AE68,Table!AW68) -> 7.4996123 | J68: =IF('Baby Growth Tracker'!$C$5="Male",Table!AF68,Table!AX68) -> 8.0946481 | K68: =IF('Baby Growth Tracker'!$C$5="Male",Table!AG68,Table!AY68) -> 8.6560598 | L68: =IF('Baby Growth Tracker'!$C$5="Male",Table!AH68,Table!AZ68) -> 9.0039902 | M68: =IF('Baby Growth Tracker'!$C$5="Male",Table!AI68,Table!BA68) -> 9.2348066 | N68: =LOOKUP(D68,E68:M68,$E$1:$M$1) -> #N/A | O68: 6.6 | P68: =VLOOKUP(Table!O68,'Baby Growth Tracker'!$D$14:$F$99,3,FALSE) -> #N/A | Q68: =IF('Baby Growth Tracker'!$C$5="Male",Table!AJ68,Table!BB68) -> 61.286031 | R68: =IF('Baby Growth Tracker'!$C$5="Male",Table!AK68,Table!BC68) -> 61.92083 | S68: =IF('Baby Growth Tracker'!$C$5="Male",Table!AL68,Table!BD68) -> 62.893281 | T68: =IF('Baby Growth Tracker'!$C$5="Male",Table!AM68,Table!BE68) -> 64.505 | U68: =IF('Baby Growth Tracker'!$C$5="Male",Table!AN68,Table!BF68) -> 66.277148 | V68: =IF('Baby Growth Tracker'!$C$5="Male",Table!AO68,Table!BG68) -> 68.030624 | W68: =IF('Baby Growth Tracker'!$C$5="Male",Table!AP68,Table!BH68) -> 69.593547 | X68: =IF('Baby Growth Tracker'!$C$5="Male",Table!AQ68,Table!BI68) -> 70.522235 | Y68: =IF('Baby Growth Tracker'!$C$5="Male",Table!AR68,Table!BJ68) -> 71.122744 | Z68: =LOOKUP(P68,Q68:Y68,$Q$1:$Y$1) -> #N/A | AA68: 6.6063996 | AB68: 6.7885886 | AC68: 7.0792929 | AD68: 7.593951 | AE68: 8.2111392 | AF68: 8.8800566 | AG68: 9.5300209 | AH68: 9.9422236 | AI68: 10.219708 | AJ68: 63.462414 | AK68: 63.993079 | AL68: 64.831864 | AM68: 66.295437 | AN68: 68.02007 | AO68: 69.858951 | AP68: 71.622007 | AQ68: 72.730528 | AR68: 73.473294 | AS68: 5.9941121 | AT68: 6.1709145 | AU68: 6.4498098 | AV68: 6.9341171 | AW68: 7.4996123 | AX68: 8.0946481 | AY68: 8.6560598 | AZ68: 9.0039902 | BA68: 9.2348066 | BB68: 61.286031 | BC68: 61.92083 | BD68: 62.893281 | BE68: 64.505 | BF68: 66.277148 | BG68: 68.030624 | BH68: 69.593547 | BI68: 70.522235 | BJ68: 71.122744
B69: =C69*30 -> 201 | C69: 6.7 | D69: =VLOOKUP(Table!C69,'Baby Growth Tracker'!$D$14:$E$99,2,FALSE) -> #N/A | E69: =IF('Baby Growth Tracker'!$C$5="Male",Table!AA69,Table!AS69) -> 6.0336443 | F69: =IF('Baby Growth Tracker'!$C$5="Male",Table!AB69,Table!AT69) -> 6.2108754 | G69: =IF('Baby Growth Tracker'!$C$5="Male",Table!AC69,Table!AU69) -> 6.490524 | H69: =IF('Baby Growth Tracker'!$C$5="Male",Table!AD69,Table!AV69) -> 6.9763641 | I69: =IF('Baby Growth Tracker'!$C$5="Male",Table!AE69,Table!AW69) -> 7.5440121 | J69: =IF('Baby Growth Tracker'!$C$5="Male",Table!AF69,Table!AX69) -> 8.1417355 | K69: =IF('Baby Growth Tracker'!$C$5="Male",Table!AG69,Table!AY69) -> 8.7060783 | L69: =IF('Baby Growth Tracker'!$C$5="Male",Table!AH69,Table!AZ69) -> 9.0560168 | M69: =IF('Baby Growth Tracker'!$C$5="Male",Table!AI69,Table!BA69) -> 9.2882457 | N69: =LOOKUP(D69,E69:M69,$E$1:$M$1) -> #N/A | O69: 6.7 | P69: =VLOOKUP(Table!O69,'Baby Growth Tracker'!$D$14:$F$99,3,FALSE) -> #N/A | Q69: =IF('Baby Growth Tracker'!$C$5="Male",Table!AJ69,Table!BB69) -> 61.432157 | R69: =IF('Baby Growth Tracker'!$C$5="Male",Table!AK69,Table!BC69) -> 62.068594 | S69: =IF('Baby Growth Tracker'!$C$5="Male",Table!AL69,Table!BD69) -> 63.043459 | T69: =IF('Baby Growth Tracker'!$C$5="Male",Table!AM69,Table!BE69) -> 64.658932 | U69: =IF('Baby Growth Tracker'!$C$5="Male",Table!AN69,Table!BF69) -> 66.434863 | V69: =IF('Baby Growth Tracker'!$C$5="Male",Table!AO69,Table!BG69) -> 68.191741 | W69: =IF('Baby Growth Tracker'!$C$5="Male",Table!AP69,Table!BH69) -> 69.757421 | X69: =IF('Baby Growth Tracker'!$C$5="Male",Table!AQ69,Table!BI69) -> 70.687628 | Y69: =IF('Baby Growth Tracker'!$C$5="Male",Table!AR69,Table!BJ69) -> 71.289074 | Z69: =LOOKUP(P69,Q69:Y69,$Q$1:$Y$1) -> #N/A | AA69: 6.6483689 | AB69: 6.8311846 | AC69: 7.1229294 | AD69: 7.6395563 | AE69: 8.2593273 | AF69: 8.931327 | AG69: 9.5845757 | AH69: 9.9990115 | AI69: 10.278065 | AJ69: 63.611411 | AK69: 64.143336 | AL69: 64.98405 | AM69: 66.450799 | AN69: 68.178861 | AO69: 70.021012 | AP69: 71.78682 | AQ69: 72.896873 | AR69: 73.640579 | AS69: 6.0336443 | AT69: 6.2108754 | AU69: 6.490524 | AV69: 6.9763641 | AW69: 7.5440121 | AX69: 8.1417355 | AY69: 8.7060783 | AZ69: 9.0560168 | BA69: 9.2882457 | BB69: 61.432157 | BC69: 62.068594 | BD69: 63.043459 | BE69: 64.658932 | BF69: 66.434863 | BG69: 68.191741 | BH69: 69.757421 | BI69: 70.687628 | BJ69: 71.289074
B70: =C70*30 -> 204 | C70: 6.8 | D70: =VLOOKUP(Table!C70,'Baby Growth Tracker'!$D$14:$E$99,2,FALSE) -> #N/A | E70: =IF('Baby Growth Tracker'!$C$5="Male",Table!AA70,Table!AS70) -> 6.0728716 | F70: =IF('Baby Growth Tracker'!$C$5="Male",Table!AB70,Table!AT70) -> 6.2505268 | G70: =IF('Baby Growth Tracker'!$C$5="Male",Table!AC70,Table!AU70) -> 6.5309203 | H70: =IF('Baby Growth Tracker'!$C$5="Male",Table!AD70,Table!AV70) -> 7.0182772 | I70: =IF('Baby Growth Tracker'!$C$5="Male",Table!AE70,Table!AW70) -> 7.5880569 | J70: =IF('Baby Growth Tracker'!$C$5="Male",Table!AF70,Table!AX70) -> 8.1884441 | K70: =IF('Baby Growth Tracker'!$C$5="Male",Table!AG70,Table!AY70) -> 8.7556952 | L70: =IF('Baby Growth Tracker'!$C$5="Male",Table!AH70,Table!AZ70) -> 9.1076278 | M70: =IF('Baby Growth Tracker'!$C$5="Male",Table!AI70,Table!BA70) -> 9.3412602 | N70: =LOOKUP(D70,E70:M70,$E$1:$M$1) -> #N/A | O70: 6.8 | P70: =VLOOKUP(Table!O70,'Baby Growth Tracker'!$D$14:$F$99,3,FALSE) -> #N/A | Q70: =IF('Baby Growth Tracker'!$C$5="Male",Table!AJ70,Table!BB70) -> 61.577324 | R70: =IF('Baby Growth Tracker'!$C$5="Male",Table!AK70,Table!BC70) -> 62.215388 | S70: =IF('Baby Growth Tracker'!$C$5="Male",Table!AL70,Table!BD70) -> 63.192653 | T70: =IF('Baby Growth Tracker'!$C$5="Male",Table!AM70,Table!BE70) -> 64.811864 | U70: =IF('Baby Growth Tracker'!$C$5="Male",Table!AN70,Table!BF70) -> 66.591576 | V70: =IF('Baby Growth Tracker'!$C$5="Male",Table!AO70,Table!BG70) -> 68.351866 | W70: =IF('Baby Growth Tracker'!$C$5="Male",Table!AP70,Table!BH70) -> 69.920323 | X70: =IF('Baby Growth Tracker'!$C$5="Male",Table!AQ70,Table!BI70) -> 70.852066 | Y70: =IF('Baby Growth Tracker'!$C$5="Male",Table!AR70,Table!BJ70) -> 71.45446 | Z70: =LOOKUP(P70,Q70:Y70,$Q$1:$Y$1) -> #N/A | AA70: 6.6903382 | AB70: 6.8737806 | AC70: 7.1665659 | AD70: 7.6851616 | AE70: 8.3075155 | AF70: 8.9825974 | AG70: 9.6391304 | AH70: 10.055799 | AI70: 10.336422 | AJ70: 63.759257 | AK70: 64.292454 | AL70: 65.135113 | AM70: 66.605063 | AN70: 68.336572 | AO70: 70.181998 | AP70: 71.950548 | AQ70: 73.062121 | AR70: 73.806756 | AS70: 6.0728716 | AT70: 6.2505268 | AU70: 6.5309203 | AV70: 7.0182772 | AW70: 7.5880569 | AX70: 8.1884441 | AY70: 8.7556952 | AZ70: 9.1076278 | BA70: 9.3412602 | BB70: 61.577324 | BC70: 62.215388 | BD70: 63.192653 | BE70: 64.811864 | BF70: 66.591576 | BG70: 68.351866 | BH70: 69.920323 | BI70: 70.852066 | BJ70: 71.45446
B71: =C71*30 -> 207 | C71: 6.9 | D71: =VLOOKUP(Table!C71,'Baby Growth Tracker'!$D$14:$E$99,2,FALSE) -> #N/A | E71: =IF('Baby Growth Tracker'!$C$5="Male",Table!AA71,Table!AS71) -> 6.1117965 | F71: =IF('Baby Growth Tracker'!$C$5="Male",Table!AB71,Table!AT71) -> 6.289871 | G71: =IF('Baby Growth Tracker'!$C$5="Male",Table!AC71,Table!AU71) -> 6.5710014 | H71: =IF('Baby Growth Tracker'!$C$5="Male",Table!AD71,Table!AV71) -> 7.0598591 | I71: =IF('Baby Growth Tracker'!$C$5="Male",Table!AE71,Table!AW71) -> 7.6317499 | J71: =IF('Baby Growth Tracker'!$C$5="Male",Table!AF71,Table!AX71) -> 8.2347777 | K71: =IF('Baby Growth Tracker'!$C$5="Male",Table!AG71,Table!AY71) -> 8.8049147 | L71: =IF('Baby Growth Tracker'!$C$5="Male",Table!AH71,Table!AZ71) -> 9.1588276 | M71: =IF('Baby Growth Tracker'!$C$5="Male",Table!AI71,Table!BA71) -> 9.3938546 | N71: =LOOKUP(D71,E71:M71,$E$1:$M$1) -> #N/A | O71: 6.9 | P71: =VLOOKUP(Table!O71,'Baby Growth Tracker'!$D$14:$F$99,3,FALSE) -> #N/A | Q71: =IF('Baby Growth Tracker'!$C$5="Male",Table!AJ71,Table!BB71) -> 61.721549 | R71: =IF('Baby Growth Tracker'!$C$5="Male",Table!AK71,Table!BC71) -> 62.361228 | S71: =IF('Baby Growth Tracker'!$C$5="Male",Table!AL71,Table!BD71) -> 63.340879 | T71: =IF('Baby Growth Tracker'!$C$5="Male",Table!AM71,Table!BE71) -> 64.963815 | U71: =IF('Baby Growth Tracker'!$C$5="Male",Table!AN71,Table!BF71) -> 66.747303 | V71: =IF('Baby Growth Tracker'!$C$5="Male",Table!AO71,Table!BG71) -> 68.511016 | W71: =IF('Baby Growth Tracker'!$C$5="Male",Table!AP71,Table!BH71) -> 70.082268 | X71: =IF('Baby Growth Tracker'!$C$5="Male",Table!AQ71,Table!BI71) -> 71.015561 | Y71: =IF('Baby Growth Tracker'!$C$5="Male",Table!AR71,Table!BJ71) -> 71.618915 | Z71: =LOOKUP(P71,Q71:Y71,$Q$1:$Y$1) -> #N/A | AA71: 6.7323075 | AB71: 6.9163766 | AC71: 7.2102024 | AD71: 7.7307669 | AE71: 8.3557036 | AF71: 9.0338678 | AG71: 9.6936852 | AH71: 10.112587 | AI71: 10.39478 | AJ71: 63.90597 | AK71: 64.440452 | AL71: 65.285074 | AM71: 66.758248 | AN71: 68.49322 | AO71: 70.341925 | AP71: 72.113209 | AQ71: 73.226291 | AR71: 73.971844 | AS71: 6.1117965 | AT71: 6.289871 | AU71: 6.5710014 | AV71: 7.0598591 | AW71: 7.6317499 | AX71: 8.2347777 | AY71: 8.8049147 | AZ71: 9.1588276 | BA71: 9.3938546 | BB71: 61.721549 | BC71: 62.361228 | BD71: 63.340879 | BE71: 64.963815 | BF71: 66.747303 | BG71: 68.511016 | BH71: 70.082268 | BI71: 71.015561 | BJ71: 71.618915
A72: Male | B72: =C72*30 -> 210 | C72: 7 | D72: =VLOOKUP(Table!C72,'Baby Growth Tracker'!$D$14:$E$99,2,FALSE) -> #N/A | E72: =IF('Baby Growth Tracker'!$C$5="Male",Table!AA72,Table!AS72) -> 6.1504215 | F72: =IF('Baby Growth Tracker'!$C$5="Male",Table!AB72,Table!AT72) -> 6.3289107 | G72: =IF('Baby Growth Tracker'!$C$5="Male",Table!AC72,Table!AU72) -> 6.6107699 | H72: =IF('Baby Growth Tracker'!$C$5="Male",Table!AD72,Table!AV72) -> 7.101113 | I72: =IF('Baby Growth Tracker'!$C$5="Male",Table!AE72,Table!AW72) -> 7.6750944 | J72: =IF('Baby Growth Tracker'!$C$5="Male",Table!AF72,Table!AX72) -> 8.2807399 | K72: =IF('Baby Growth Tracker'!$C$5="Male",Table!AG72,Table!AY72) -> 8.8537407 | L72: =IF('Baby Growth Tracker'!$C$5="Male",Table!AH72,Table!AZ72) -> 9.2096206 | M72: =IF('Baby Growth Tracker'!$C$5="Male",Table!AI72,Table!BA72) -> 9.4460335 | N72: =LOOKUP(D72,E72:M72,$E$1:$M$1) -> #N/A | O72: 7 | P72: =VLOOKUP(Table!O72,'Baby Growth Tracker'!$D$14:$F$99,3,FALSE) -> #N/A | Q72: =IF('Baby Growth Tracker'!$C$5="Male",Table!AJ72,Table!BB72) -> 61.864848 | R72: =IF('Baby Growth Tracker'!$C$5="Male",Table!AK72,Table!BC72) -> 62.50613 | S72: =IF('Baby Growth Tracker'!$C$5="Male",Table!AL72,Table!BD72) -> 63.488153 | T72: =IF('Baby Growth Tracker'!$C$5="Male",Table!AM72,Table!BE72) -> 65.1148 | U72: =IF('Baby Growth Tracker'!$C$5="Male",Table!AN72,Table!BF72) -> 66.902062 | V72: =IF('Baby Growth Tracker'!$C$5="Male",Table!AO72,Table!BG72) -> 68.669205 | W72: =IF('Baby Growth Tracker'!$C$5="Male",Table!AP72,Table!BH72) -> 70.24327 | X72: =IF('Baby Growth Tracker'!$C$5="Male",Table!AQ72,Table!BI72) -> 71.17813 | Y72: =IF('Baby Growth Tracker'!$C$5="Male",Table!AR72,Table!BJ72) -> 71.782455 | Z72: =LOOKUP(P72,Q72:Y72,$Q$1:$Y$1) -> #N/A | AA72: 6.7742768 | AB72: 6.9589725 | AC72: 7.2538389 | AD72: 7.7763722 | AE72: 8.4038918 | AF72: 9.0851383 | AG72: 9.74824 | AH72: 10.169375 | AI72: 10.453137 | AJ72: 64.051571 | AK72: 64.58735 | AL72: 65.433953 | AM72: 66.910373 | AN72: 68.648823 | AO72: 70.500812 | AP72: 72.274821 | AQ72: 73.3894 | AR72: 74.135861 | AS72: 6.1504215 | AT72: 6.3289107 | AU72: 6.6107699 | AV72: 7.101113 | AW72: 7.6750944 | AX72: 8.2807399 | AY72: 8.8537407 | AZ72: 9.2096206 | BA72: 9.4460335 | BB72: 61.864848 | BC72: 62.50613 | BD72: 63.488153 | BE72: 65.1148 | BF72: 66.902062 | BG72: 68.669205 | BH72: 70.24327 | BI72: 71.17813 | BJ72: 71.782455
B73: =C73*30 -> 213 | C73: 7.1 | D73: =VLOOKUP(Table!C73,'Baby Growth Tracker'!$D$14:$E$99,2,FALSE) -> #N/A | E73: =IF('Baby Growth Tracker'!$C$5="Male",Table!AA73,Table!AS73) -> 6.1887489 | F73: =IF('Baby Growth Tracker'!$C$5="Male",Table!AB73,Table!AT73) -> 6.3676483 | G73: =IF('Baby Growth Tracker'!$C$5="Male",Table!AC73,Table!AU73) -> 6.6502286 | H73: =IF('Baby Growth Tracker'!$C$5="Male",Table!AD73,Table!AV73) -> 7.1420417 | I73: =IF('Baby Growth Tracker'!$C$5="Male",Table!AE73,Table!AW73) -> 7.7180938 | J73: =IF('Baby Growth Tracker'!$C$5="Male",Table!AF73,Table!AX73) -> 8.3263345 | K73: =IF('Baby Growth Tracker'!$C$5="Male",Table!AG73,Table!AY73) -> 8.9021775 | L73: =IF('Baby Growth Tracker'!$C$5="Male",Table!AH73,Table!AZ73) -> 9.2600111 | M73: =IF('Baby Growth Tracker'!$C$5="Male",Table!AI73,Table!BA73) -> 9.4978012 | N73: =LOOKUP(D73,E73:M73,$E$1:$M$1) -> #N/A | O73: 7.1 | P73: =VLOOKUP(Table!O73,'Baby Growth Tracker'!$D$14:$F$99,3,FALSE) -> #N/A | Q73: =IF('Baby Growth Tracker'!$C$5="Male",Table!AJ73,Table!BB73) -> 62.007234 | R73: =IF('Baby Growth Tracker'!$C$5="Male",Table!AK73,Table!BC73) -> 62.650109 | S73: =IF('Baby Growth Tracker'!$C$5="Male",Table!AL73,Table!BD73) -> 63.63449 | T73: =IF('Baby Growth Tracker'!$C$5="Male",Table!AM73,Table!BE73) -> 65.264834 | U73: =IF('Baby Growth Tracker'!$C$5="Male",Table!AN73,Table!BF73) -> 67.055866 | V73: =IF('Baby Growth Tracker'!$C$5="Male",Table!AO73,Table!BG73) -> 68.826448 | W73: =IF('Baby Growth Tracker'!$C$5="Male",Table!AP73,Table!BH73) -> 70.403345 | X73: =IF('Baby Growth Tracker'!$C$5="Male",Table!AQ73,Table!BI73) -> 71.339785 | Y73: =IF('Baby Growth Tracker'!$C$5="Male",Table!AR73,Table!BJ73) -> 71.945093 | Z73: =LOOKUP(P73,Q73:Y73,$Q$1:$Y$1) -> #N/A | AA73: 6.8162461 | AB73: 7.0015685 | AC73: 7.2974754 | AD73: 7.8219776 | AE73: 8.4520799 | AF73: 9.1364087 | AG73: 9.8027947 | AH73: 10.226163 | AI73: 10.511494 | AJ73: 64.19608 | AK73: 64.733168 | AL73: 65.581766 | AM73: 67.061456 | AN73: 68.8034 | AO73: 70.658676 | AP73: 72.435402 | AQ73: 73.551466 | AR73: 74.298825 | AS73: 6.1887489 | AT73: 6.3676483 | AU73: 6.6502286 | AV73: 7.1420417 | AW73: 7.7180938 | AX73: 8.3263345 | AY73: 8.9021775 | AZ73: 9.2600111 | BA73: 9.4978012 | BB73: 62.007234 | BC73: 62.650109 | BD73: 63.63449 | BE73: 65.264834 | BF73: 67.055866 | BG73: 68.826448 | BH73: 70.403345 | BI73: 71.339785 | BJ73: 71.945093
B74: =C74*30 -> 216 | C74: 7.2 | D74: =VLOOKUP(Table!C74,'Baby Growth Tracker'!$D$14:$E$99,2,FALSE) -> #N/A | E74: =IF('Baby Growth Tracker'!$C$5="Male",Table!AA74,Table!AS74) -> 6.2267812 | F74: =IF('Baby Growth Tracker'!$C$5="Male",Table!AB74,Table!AT74) -> 6.4060864 | G74: =IF('Baby Growth Tracker'!$C$5="Male",Table!AC74,Table!AU74) -> 6.6893801 | H74: =IF('Baby Growth Tracker'!$C$5="Male",Table!AD74,Table!AV74) -> 7.182648 | I74: =IF('Baby Growth Tracker'!$C$5="Male",Table!AE74,Table!AW74) -> 7.7607512 | J74: =IF('Baby Growth Tracker'!$C$5="Male",Table!AF74,Table!AX74) -> 8.371565 | K74: =IF('Baby Growth Tracker'!$C$5="Male",Table!AG74,Table!AY74) -> 8.9502289 | L74: =IF('Baby Growth Tracker'!$C$5="Male",Table!AH74,Table!AZ74) -> 9.3100032 | M74: =IF('Baby Growth Tracker'!$C$5="Male",Table!AI74,Table!BA74) -> 9.5491623 | N74: =LOOKUP(D74,E74:M74,$E$1:$M$1) -> #N/A | O74: 7.2 | P74: =VLOOKUP(Table!O74,'Baby Growth Tracker'!$D$14:$F$99,3,FALSE) -> #N/A | Q74: =IF('Baby Growth Tracker'!$C$5="Male",Table!AJ74,Table!BB74) -> 62.148724 | R74: =IF('Baby Growth Tracker'!$C$5="Male",Table!AK74,Table!BC74) -> 62.793181 | S74: =IF('Baby Growth Tracker'!$C$5="Male",Table!AL74,Table!BD74) -> 63.779907 | T74: =IF('Baby Growth Tracker'!$C$5="Male",Table!AM74,Table!BE74) -> 65.413933 | U74: =IF('Baby Growth Tracker'!$C$5="Male",Table!AN74,Table!BF74) -> 67.208732 | V74: =IF('Baby Growth Tracker'!$C$5="Male",Table!AO74,Table!BG74) -> 68.982762 | W74: =IF('Baby Growth Tracker'!$C$5="Male",Table!AP74,Table!BH74) -> 70.562506 | X74: =IF('Baby Growth Tracker'!$C$5="Male",Table!AQ74,Table!BI74) -> 71.500541 | Y74: =IF('Baby Growth Tracker'!$C$5="Male",Table!AR74,Table!BJ74) -> 72.106843 | Z74: =LOOKUP(P74,Q74:Y74,$Q$1:$Y$1) -> #N/A | AA74: 6.8582154 | AB74: 7.0441645 | AC74: 7.3411119 | AD74: 7.8675829 | AE74: 8.500268 | AF74: 9.1876791 | AG74: 9.8573495 | AH74: 10.282951 | AI74: 10.569852 | AJ74: 64.339515 | AK74: 64.877923 | AL74: 65.728534 | AM74: 67.211514 | AN74: 68.956966 | AO74: 70.815533 | AP74: 72.594967 | AQ74: 73.712505 | AR74: 74.460752 | AS74: 6.2267812 | AT74: 6.4060864 | AU74: 6.6893801 | AV74: 7.182648 | AW74: 7.7607512 | AX74: 8.371565 | AY74: 8.9502289 | AZ74: 9.3100032 | BA74: 9.5491623 | BB74: 62.148724 | BC74: 62.793181 | BD74: 63.779907 | BE74: 65.413933 | BF74: 67.208732 | BG74: 68.982762 | BH74: 70.562506 | BI74: 71.500541 | BJ74: 72.106843
B75: =C75*30 -> 219 | C75: 7.3 | D75: =VLOOKUP(Table!C75,'Baby Growth Tracker'!$D$14:$E$99,2,FALSE) -> #N/A | E75: =IF('Baby Growth Tracker'!$C$5="Male",Table!AA75,Table!AS75) -> 6.2645208 | F75: =IF('Baby Growth Tracker'!$C$5="Male",Table!AB75,Table!AT75) -> 6.4442274 | G75: =IF('Baby Growth Tracker'!$C$5="Male",Table!AC75,Table!AU75) -> 6.7282268 | H75: =IF('Baby Growth Tracker'!$C$5="Male",Table!AD75,Table!AV75) -> 7.2229349 | I75: =IF('Baby Growth Tracker'!$C$5="Male",Table!AE75,Table!AW75) -> 7.8030699 | J75: =IF('Baby Growth Tracker'!$C$5="Male",Table!AF75,Table!AX75) -> 8.416435 | K75: =IF('Baby Growth Tracker'!$C$5="Male",Table!AG75,Table!AY75) -> 8.9978991 | L75: =IF('Baby Growth Tracker'!$C$5="Male",Table!AH75,Table!AZ75) -> 9.3596013 | M75: =IF('Baby Growth Tracker'!$C$5="Male",Table!AI75,Table!BA75) -> 9.600121 | N75: =LOOKUP(D75,E75:M75,$E$1:$M$1) -> #N/A | O75: 7.3 | P75: =VLOOKUP(Table!O75,'Baby Growth Tracker'!$D$14:$F$99,3,FALSE) -> #N/A | Q75: =IF('Baby Growth Tracker'!$C$5="Male",Table!AJ75,Table!BB75) -> 62.289332 | R75: =IF('Baby Growth Tracker'!$C$5="Male",Table!AK75,Table!BC75) -> 62.93536 | S75: =IF('Baby Growth Tracker'!$C$5="Male",Table!AL75,Table!BD75) -> 63.924417 | T75: =IF('Baby Growth Tracker'!$C$5="Male",Table!AM75,Table!BE75) -> 65.562112 | U75: =IF('Baby Growth Tracker'!$C$5="Male",Table!AN75,Table!BF75) -> 67.360674 | V75: =IF('Baby Growth Tracker'!$C$5="Male",Table!AO75,Table!BG75) -> 69.138159 | W75: =IF('Baby Growth Tracker'!$C$5="Male",Table!AP75,Table!BH75) -> 70.720768 | X75: =IF('Baby Growth Tracker'!$C$5="Male",Table!AQ75,Table!BI75) -> 71.660411 | Y75: =IF('Baby Growth Tracker'!$C$5="Male",Table!AR75,Table!BJ75) -> 72.267717 | Z75: =LOOKUP(P75,Q75:Y75,$Q$1:$Y$1) -> #N/A | AA75: 6.9001847 | AB75: 7.0867604 | AC75: 7.3847484 | AD75: 7.9131882 | AE75: 8.5484562 | AF75: 9.2389495 | AG75: 9.9119042 | AH75: 10.339739 | AI75: 10.628209 | AJ75: 64.481895 | AK75: 65.021634 | AL75: 65.874273 | AM75: 67.360564 | AN75: 69.109539 | AO75: 70.9714 | AP75: 72.753533 | AQ75: 73.872534 | AR75: 74.621659 | AS75: 6.2645208 | AT75: 6.4442274 | AU75: 6.7282268 | AV75: 7.2229349 | AW75: 7.8030699 | AX75: 8.416435 | AY75: 8.9978991 | AZ75: 9.3596013 | BA75: 9.600121 | BB75: 62.289332 | BC75: 62.93536 | BD75: 63.924417 | BE75: 65.562112 | BF75: 67.360674 | BG75: 69.138159 | BH75: 70.720768 | BI75: 71.660411 | BJ75: 72.267717
B76: =C76*30 -> 222 | C76: 7.4 | D76: =VLOOKUP(Table!C76,'Baby Growth Tracker'!$D$14:$E$99,2,FALSE) -> #N/A | E76: =IF('Baby Growth Tracker'!$C$5="Male",Table!AA76,Table!AS76) -> 6.3019701 | F76: =IF('Baby Growth Tracker'!$C$5="Male",Table!AB76,Table!AT76) -> 6.4820738 | G76: =IF('Baby Growth Tracker'!$C$5="Male",Table!AC76,Table!AU76) -> 6.7667716 | H76: =IF('Baby Growth Tracker'!$C$5="Male",Table!AD76,Table!AV76) -> 7.2629053 | I76: =IF('Baby Growth Tracker'!$C$5="Male",Table!AE76,Table!AW76) -> 7.8450531 | J76: =IF('Baby Growth Tracker'!$C$5="Male",Table!AF76,Table!AX76) -> 8.4609483 | K76: =IF('Baby Growth Tracker'!$C$5="Male",Table!AG76,Table!AY76) -> 9.0451919 | L76: =IF('Baby Growth Tracker'!$C$5="Male",Table!AH76,Table!AZ76) -> 9.4088096 | M76: =IF('Baby Growth Tracker'!$C$5="Male",Table!AI76,Table!BA76) -> 9.6506818 | N76: =LOOKUP(D76,E76:M76,$E$1:$M$1) -> #N/A | O76: 7.4 | P76: =VLOOKUP(Table!O76,'Baby Growth Tracker'!$D$14:$F$99,3,FALSE) -> #N/A | Q76: =IF('Baby Growth Tracker'!$C$5="Male",Table!AJ76,Table!BB76) -> 62.429071 | R76: =IF('Baby Growth Tracker'!$C$5="Male",Table!AK76,Table!BC76) -> 63.07666 | S76: =IF('Baby Growth Tracker'!$C$5="Male",Table!AL76,Table!BD76) -> 64.068035 | T76: =IF('Baby Growth Tracker'!$C$5="Male",Table!AM76,Table!BE76) -> 65.709386 | U76: =IF('Baby Growth Tracker'!$C$5="Male",Table!AN76,Table!BF76) -> 67.511707 | V76: =IF('Baby Growth Tracker'!$C$5="Male",Table!AO76,Table!BG76) -> 69.292655 | W76: =IF('Baby Growth Tracker'!$C$5="Male",Table!AP76,Table!BH76) -> 70.878143 | X76: =IF('Baby Growth Tracker'!$C$5="Male",Table!AQ76,Table!BI76) -> 71.819409 | Y76: =IF('Baby Growth Tracker'!$C$5="Male",Table!AR76,Table!BJ76) -> 72.427728 | Z76: =LOOKUP(P76,Q76:Y76,$Q$1:$Y$1) -> #N/A | AA76: 6.942154 | AB76: 7.1293564 | AC76: 7.4283849 | AD76: 7.9587935 | AE76: 8.5966443 | AF76: 9.29022 | AG76: 9.966459 | AH76: 10.396526 | AI76: 10.686566 | AJ76: 64.623238 | AK76: 65.164319 | AL76: 66.019001 | AM76: 67.508623 | AN76: 69.261135 | AO76: 71.126293 | AP76: 72.911117 | AQ76: 74.03157 | AR76: 74.781563 | AS76: 6.3019701 | AT76: 6.4820738 | AU76: 6.7667716 | AV76: 7.2629053 | AW76: 7.8450531 | AX76: 8.4609483 | AY76: 9.0451919 | AZ76: 9.4088096 | BA76: 9.6506818 | BB76: 62.429071 | BC76: 63.07666 | BD76: 64.068035 | BE76: 65.709386 | BF76: 67.511707 | BG76: 69.292655 | BH76: 70.878143 | BI76: 71.819409 | BJ76: 72.427728
A77: Male | B77: =C77*30 -> 225 | C77: 7.5 | D77: =VLOOKUP(Table!C77,'Baby Growth Tracker'!$D$14:$E$99,2,FALSE) -> #N/A | E77: =IF('Baby Growth Tracker'!$C$5="Male",Table!AA77,Table!AS77) -> 6.3526683 | F77: =IF('Baby Growth Tracker'!$C$5="Male",Table!AB77,Table!AT77) -> 6.5333729 | G77: =IF('Baby Growth Tracker'!$C$5="Male",Table!AC77,Table!AU77) -> 6.8191223 | H77: =IF('Baby Growth Tracker'!$C$5="Male",Table!AD77,Table!AV77) -> 7.3173731 | I77: =IF('Baby Growth Tracker'!$C$5="Male",Table!AE77,Table!AW77) -> 7.9024362 | J77: =IF('Baby Growth Tracker'!$C$5="Male",Table!AF77,Table!AX77) -> 8.5218773 | K77: =IF('Baby Growth Tracker'!$C$5="Male",Table!AG77,Table!AY77) -> 9.1098781 | L77: =IF('Baby Growth Tracker'!$C$5="Male",Table!AH77,Table!AZ77) -> 9.4760087 | M77: =IF('Baby Growth Tracker'!$C$5="Male",Table!AI77,Table!BA77) -> 9.7196207 | N77: =LOOKUP(D77,E77:M77,$E$1:$M$1) -> #N/A | O77: 7.5 | P77: =VLOOKUP(Table!O77,'Baby Growth Tracker'!$D$14:$F$99,3,FALSE) -> #N/A | Q77: =IF('Baby Growth Tracker'!$C$5="Male",Table!AJ77,Table!BB77) -> 62.609932 | R77: =IF('Baby Growth Tracker'!$C$5="Male",Table!AK77,Table!BC77) -> 63.25958 | S77: =IF('Baby Growth Tracker'!$C$5="Male",Table!AL77,Table!BD77) -> 64.253888 | T77: =IF('Baby Growth Tracker'!$C$5="Male",Table!AM77,Table!BE77) -> 65.899521 | U77: =IF('Baby Growth Tracker'!$C$5="Male",Table!AN77,Table!BF77) -> 67.705744 | V77: =IF('Baby Growth Tracker'!$C$5="Male",Table!AO77,Table!BG77) -> 69.48975 | W77: =IF('Baby Growth Tracker'!$C$5="Male",Table!AP77,Table!BH77) -> 71.077311 | X77: =IF('Baby Growth Tracker'!$C$5="Male",Table!AQ77,Table!BI77) -> 72.019525 | Y77: =IF('Baby Growth Tracker'!$C$5="Male",Table!AR77,Table!BJ77) -> 72.628347 | Z77: =LOOKUP(P77,Q77:Y77,$Q$1:$Y$1) -> #N/A | AA77: 6.9841233 | AB77: 7.1719524 | AC77: 7.4720214 | AD77: 8.0043988 | AE77: 8.6448325 | AF77: 9.3414904 | AG77: 10.021014 | AH77: 10.453314 | AI77: 10.744924 | AJ77: 64.813954 | AK77: 65.355838 | AL77: 66.211812 | AM77: 67.70375 | AN77: 69.459085 | AO77: 71.327354 | AP77: 73.115247 | AQ77: 74.237667 | AR77: 74.988993 | AS77: 6.3526683 | AT77: 6.5333729 | AU77: 6.8191223 | AV77: 7.3173731 | AW77: 7.9024362 | AX77: 8.5218773 | AY77: 9.1098781 | AZ77: 9.4760087 | BA77: 9.7196207 | BB77: 62.609932 | BC77: 63.25958 | BD77: 64.253888 | BE77: 65.899521 | BF77: 67.705744 | BG77: 69.48975 | BH77: 71.077311 | BI77: 72.019525 | BJ77: 72.628347
B78: =C78*30 -> 228 | C78: 7.6 | D78: =VLOOKUP(Table!C78,'Baby Growth Tracker'!$D$14:$E$99,2,FALSE) -> #N/A | E78: =IF('Baby Growth Tracker'!$C$5="Male",Table!AA78,Table!AS78) -> 6.3894342 | F78: =IF('Baby Growth Tracker'!$C$5="Male",Table!AB78,Table!AT78) -> 6.5705242 | G78: =IF('Baby Growth Tracker'!$C$5="Male",Table!AC78,Table!AU78) -> 6.8569514 | H78: =IF('Baby Growth Tracker'!$C$5="Male",Table!AD78,Table!AV78) -> 7.3565874 | I78: =IF('Baby Growth Tracker'!$C$5="Male",Table!AE78,Table!AW78) -> 7.9436104 | J78: =IF('Baby Growth Tracker'!$C$5="Male",Table!AF78,Table!AX78) -> 8.5655219 | K78: =IF('Baby Growth Tracker'!$C$5="Male",Table!AG78,Table!AY78) -> 9.1562449 | L78: =IF('Baby Growth Tracker'!$C$5="Male",Table!AH78,Table!AZ78) -> 9.5242558 | M78: =IF('Baby Growth Tracker'!$C$5="Male",Table!AI78,Table!BA78) -> 9.7691975 | N78: =LOOKUP(D78,E78:M78,$E$1:$M$1) -> #N/A | O78: 7.6 | P78: =VLOOKUP(Table!O78,'Baby Growth Tracker'!$D$14:$F$99,3,FALSE) -> #N/A | Q78: =IF('Baby Growth Tracker'!$C$5="Male",Table!AJ78,Table!BB78) -> 62.747287 | R78: =IF('Baby Growth Tracker'!$C$5="Male",Table!AK78,Table!BC78) -> 63.398466 | S78: =IF('Baby Growth Tracker'!$C$5="Male",Table!AL78,Table!BD78) -> 64.395058 | T78: =IF('Baby Growth Tracker'!$C$5="Male",Table!AM78,Table!BE78) -> 66.044313 | U78: =IF('Baby Growth Tracker'!$C$5="Male",Table!AN78,Table!BF78) -> 67.854293 | V78: =IF('Baby Growth Tracker'!$C$5="Male",Table!AO78,Table!BG78) -> 69.641793 | W78: =IF('Baby Growth Tracker'!$C$5="Male",Table!AP78,Table!BH78) -> 71.232291 | X78: =IF('Baby Growth Tracker'!$C$5="Male",Table!AQ78,Table!BI78) -> 72.176173 | Y78: =IF('Baby Growth Tracker'!$C$5="Male",Table!AR78,Table!BJ78) -> 72.786045 | Z78: =LOOKUP(P78,Q78:Y78,$Q$1:$Y$1) -> #N/A | AA78: 7.0218346 | AB78: 7.2102858 | AC78: 7.5113726 | AD78: 8.0456308 | AE78: 8.6884612 | AF78: 9.3879007 | AG78: 10.070319 | AH78: 10.504557 | AI78: 10.797515 | AJ78: 64.952391 | AK78: 65.495653 | AL78: 66.353719 | AM78: 67.849057 | AN78: 69.60798 | AO78: 71.479565 | AP78: 73.270132 | AQ78: 74.393975 | AR78: 75.146141 | AS78: 6.3894342 | AT78: 6.5705242 | AU78: 6.8569514 | AV78: 7.3565874 | AW78: 7.9436104 | AX78: 8.5655219 | AY78: 9.1562449 | AZ78: 9.5242558 | BA78: 9.7691975 | BB78: 62.747287 | BC78: 63.398466 | BD78: 64.395058 | BE78: 66.044313 | BF78: 67.854293 | BG78: 69.641793 | BH78: 71.232291 | BI78: 72.176173 | BJ78: 72.786045
B79: =C79*30 -> 231 | C79: 7.7 | D79: =VLOOKUP(Table!C79,'Baby Growth Tracker'!$D$14:$E$99,2,FALSE) -> #N/A | E79: =IF('Baby Growth Tracker'!$C$5="Male",Table!AA79,Table!AS79) -> 6.4259176 | F79: =IF('Baby Growth Tracker'!$C$5="Male",Table!AB79,Table!AT79) -> 6.6073888 | G79: =IF('Baby Growth Tracker'!$C$5="Male",Table!AC79,Table!AU79) -> 6.8944869 | H79: =IF('Baby Growth Tracker'!$C$5="Male",Table!AD79,Table!AV79) -> 7.3954944 | I79: =IF('Baby Growth Tracker'!$C$5="Male",Table!AE79,Table!AW79) -> 7.9844596 | J79: =IF('Baby Growth Tracker'!$C$5="Male",Table!AF79,Table!AX79) -> 8.6088216 | K79: =IF('Baby Growth Tracker'!$C$5="Male",Table!AG79,Table!AY79) -> 9.2022475 | L79: =IF('Baby Growth Tracker'!$C$5="Male",Table!AH79,Table!AZ79) -> 9.572127 | M79: =IF('Baby Growth Tracker'!$C$5="Male",Table!AI79,Table!BA79) -> 9.8183907 | N79: =LOOKUP(D79,E79:M79,$E$1:$M$1) -> #N/A | O79: 7.7 | P79: =VLOOKUP(Table!O79,'Baby Growth Tracker'!$D$14:$F$99,3,FALSE) -> #N/A | Q79: =IF('Baby Growth Tracker'!$C$5="Male",Table!AJ79,Table!BB79) -> 62.88383 | R79: =IF('Baby Growth Tracker'!$C$5="Male",Table!AK79,Table!BC79) -> 63.536532 | S79: =IF('Baby Growth Tracker'!$C$5="Male",Table!AL79,Table!BD79) -> 64.535395 | T79: =IF('Baby Growth Tracker'!$C$5="Male",Table!AM79,Table!BE79) -> 66.188259 | U79: =IF('Baby Growth Tracker'!$C$5="Male",Table!AN79,Table!BF79) -> 68.001992 | V79: =IF('Baby Growth Tracker'!$C$5="Male",Table!AO79,Table!BG79) -> 69.792992 | W79: =IF('Baby Growth Tracker'!$C$5="Male",Table!AP79,Table!BH79) -> 71.38644 | X79: =IF('Baby Growth Tracker'!$C$5="Male",Table!AQ79,Table!BI79) -> 72.332001 | Y79: =IF('Baby Growth Tracker'!$C$5="Male",Table!AR79,Table!BJ79) -> 72.942931 | Z79: =LOOKUP(P79,Q79:Y79,$Q$1:$Y$1) -> #N/A | AA79: 7.0595459 | AB79: 7.2486193 | AC79: 7.5507237 | AD79: 8.0868628 | AE79: 8.7320899 | AF79: 9.434311 | AG79: 10.119624 | AH79: 10.555799 | AI79: 10.850107 | AJ79: 65.089865 | AK79: 65.634513 | AL79: 66.494685 | AM79: 67.993441 | AN79: 69.755964 | AO79: 71.630867 | AP79: 73.424099 | AQ79: 74.549354 | AR79: 75.302351 | AS79: 6.4259176 | AT79: 6.6073888 | AU79: 6.8944869 | AV79: 7.3954944 | AW79: 7.9844596 | AX79: 8.6088216 | AY79: 9.2022475 | AZ79: 9.572127 | BA79: 9.8183907 | BB79: 62.88383 | BC79: 63.536532 | BD79: 64.535395 | BE79: 66.188259 | BF79: 68.001992 | BG79: 69.792992 | BH79: 71.38644 | BI79: 72.332001 | BJ79: 72.942931
B80: =C80*30 -> 234 | C80: 7.8 | D80: =VLOOKUP(Table!C80,'Baby Growth Tracker'!$D$14:$E$99,2,FALSE) -> #N/A | E80: =IF('Baby Growth Tracker'!$C$5="Male",Table!AA80,Table!AS80) -> 6.4621208 | F80: =IF('Baby Growth Tracker'!$C$5="Male",Table!AB80,Table!AT80) -> 6.6439692 | G80: =IF('Baby Growth Tracker'!$C$5="Male",Table!AC80,Table!AU80) -> 6.9317313 | H80: =IF('Baby Growth Tracker'!$C$5="Male",Table!AD80,Table!AV80) -> 7.434097 | I80: =IF('Baby Growth Tracker'!$C$5="Male",Table!AE80,Table!AW80) -> 8.0249869 | J80: =IF('Baby Growth Tracker'!$C$5="Male",Table!AF80,Table!AX80) -> 8.6517798 | K80: =IF('Baby Growth Tracker'!$C$5="Male",Table!AG80,Table!AY80) -> 9.2478897 | L80: =IF('Baby Growth Tracker'!$C$5="Male",Table!AH80,Table!AZ80) -> 9.6196262 | M80: =IF('Baby Growth Tracker'!$C$5="Male",Table!AI80,Table!BA80) -> 9.8672045 | N80: =LOOKUP(D80,E80:M80,$E$1:$M$1) -> #N/A | O80: 7.8 | P80: =VLOOKUP(Table!O80,'Baby Growth Tracker'!$D$14:$F$99,3,FALSE) -> #N/A | Q80: =IF('Baby Growth Tracker'!$C$5="Male",Table!AJ80,Table!BB80) -> 63.019575 | R80: =IF('Baby Growth Tracker'!$C$5="Male",Table!AK80,Table!BC80) -> 63.673789 | S80: =IF('Baby Growth Tracker'!$C$5="Male",Table!AL80,Table!BD80) -> 64.674912 | T80: =IF('Baby Growth Tracker'!$C$5="Male",Table!AM80,Table!BE80) -> 66.331371 | U80: =IF('Baby Growth Tracker'!$C$5="Male",Table!AN80,Table!BF80) -> 68.148852 | V80: =IF('Baby Growth Tracker'!$C$5="Male",Table!AO80,Table!BG80) -> 69.943359 | W80: =IF('Baby Growth Tracker'!$C$5="Male",Table!AP80,Table!BH80) -> 71.53977 | X80: =IF('Baby Growth Tracker'!$C$5="Male",Table!AQ80,Table!BI80) -> 72.487021 | Y80: =IF('Baby Growth Tracker'!$C$5="Male",Table!AR80,Table!BJ80) -> 73.099017 | Z80: =LOOKUP(P80,Q80:Y80,$Q$1:$Y$1) -> #N/A | AA80: 7.0972572 | AB80: 7.2869527 | AC80: 7.5900749 | AD80: 8.1280948 | AE80: 8.7757187 | AF80: 9.4807213 | AG80: 10.168929 | AH80: 10.607041 | AI80: 10.902698 | AJ80: 65.226391 | AK80: 65.772435 | AL80: 66.634726 | AM80: 68.136916 | AN80: 69.903051 | AO80: 71.781273 | AP80: 73.577161 | AQ80: 74.703818 | AR80: 75.457638 | AS80: 6.4621208 | AT80: 6.6439692 | AU80: 6.9317313 | AV80: 7.434097 | AW80: 8.0249869 | AX80: 8.6517798 | AY80: 9.2478897 | AZ80: 9.6196262 | BA80: 9.8672045 | BB80: 63.019575 | BC80: 63.673789 | BD80: 64.674912 | BE80: 66.331371 | BF80: 68.148852 | BG80: 69.943359 | BH80: 71.53977 | BI80: 72.487021 | BJ80: 73.099017
B81: =C81*30 -> 237 | C81: 7.9 | D81: =VLOOKUP(Table!C81,'Baby Growth Tracker'!$D$14:$E$99,2,FALSE) -> #N/A | E81: =IF('Baby Growth Tracker'!$C$5="Male",Table!AA81,Table!AS81) -> 6.498046 | F81: =IF('Baby Growth Tracker'!$C$5="Male",Table!AB81,Table!AT81) -> 6.6802678 | G81: =IF('Baby Growth Tracker'!$C$5="Male",Table!AC81,Table!AU81) -> 6.9686871 | H81: =IF('Baby Growth Tracker'!$C$5="Male",Table!AD81,Table!AV81) -> 7.4723978 | I81: =IF('Baby Growth Tracker'!$C$5="Male",Table!AE81,Table!AW81) -> 8.0651953 | J81: =IF('Baby Growth Tracker'!$C$5="Male",Table!AF81,Table!AX81) -> 8.6943999 | K81: =IF('Baby Growth Tracker'!$C$5="Male",Table!AG81,Table!AY81) -> 9.2931753 | L81: =IF('Baby Growth Tracker'!$C$5="Male",Table!AH81,Table!AZ81) -> 9.6667576 | M81: =IF('Baby Growth Tracker'!$C$5="Male",Table!AI81,Table!BA81) -> 9.9156432 | N81: =LOOKUP(D81,E81:M81,$E$1:$M$1) -> #N/A | O81: 7.9 | P81: =VLOOKUP(Table!O81,'Baby Growth Tracker'!$D$14:$F$99,3,FALSE) -> #N/A | Q81: =IF('Baby Growth Tracker'!$C$5="Male",Table!AJ81,Table!BB81) -> 63.154533 | R81: =IF('Baby Growth Tracker'!$C$5="Male",Table!AK81,Table!BC81) -> 63.810249 | S81: =IF('Baby Growth Tracker'!$C$5="Male",Table!AL81,Table!BD81) -> 64.813619 | T81: =IF('Baby Growth Tracker'!$C$5="Male",Table!AM81,Table!BE81) -> 66.473661 | U81: =IF('Baby Growth Tracker'!$C$5="Male",Table!AN81,Table!BF81) -> 68.294886 | V81: =IF('Baby Growth Tracker'!$C$5="Male",Table!AO81,Table!BG81) -> 70.092905 | W81: =IF('Baby Growth Tracker'!$C$5="Male",Table!AP81,Table!BH81) -> 71.692291 | X81: =IF('Baby Growth Tracker'!$C$5="Male",Table!AQ81,Table!BI81) -> 72.641245 | Y81: =IF('Baby Growth Tracker'!$C$5="Male",Table!AR81,Table!BJ81) -> 73.254315 | Z81: =LOOKUP(P81,Q81:Y81,$Q$1:$Y$1) -> #N/A | AA81: 7.1349684 | AB81: 7.3252861 | AC81: 7.629426 | AD81: 8.1693268 | AE81: 8.8193474 | AF81: 9.5271316 | AG81: 10.218234 | AH81: 10.658283 | AI81: 10.95529 | AJ81: 65.361984 | AK81: 65.909434 | AL81: 66.773856 | AM81: 68.279498 | AN81: 70.049255 | AO81: 71.930796 | AP81: 73.729332 | AQ81: 74.857382 | AR81: 75.612015 | AS81: 6.498046 | AT81: 6.6802678 | AU81: 6.9686871 | AV81: 7.4723978 | AW81: 8.0651953 | AX81: 8.6943999 | AY81: 9.2931753 | AZ81: 9.6667576 | BA81: 9.9156432 | BB81: 63.154533 | BC81: 63.810249 | BD81: 64.813619 | BE81: 66.473661 | BF81: 68.294886 | BG81: 70.092905 | BH81: 71.692291 | BI81: 72.641245 | BJ81: 73.254315
