Workbook
Name A1A2: 'Dummy Top Scorer'!$B$3:$B$54
Name A1A3: 'Dummy Top Scorer'!$B$57:$B$108
Name A1A4: 'Dummy Top Scorer'!$B$111:$B$162
Name A2A1: 'Dummy Top Scorer'!$C$3:$C$54
Name A2A3: 'Dummy Top Scorer'!$C$57:$C$108
Name A2A4: 'Dummy Top Scorer'!$C$111:$C$162
Name A3A1: 'Dummy Top Scorer'!$D$3:$D$54
Name A3A2: 'Dummy Top Scorer'!$D$57:$D$108
Name A3A4: 'Dummy Top Scorer'!$D$111:$D$162
Name A4A1: 'Dummy Top Scorer'!$E$3:$E$54
Name A4A2: 'Dummy Top Scorer'!$E$57:$E$108
Name A4A3: 'Dummy Top Scorer'!$E$111:$E$162
Name AC1C2: 'Dummy Top Scorer'!$J$3:$J$54
Name AC1C3: 'Dummy Top Scorer'!$J$57:$J$108
Name AC1C4: 'Dummy Top Scorer'!$J$111:$J$162
Name AC2C1: 'Dummy Top Scorer'!$K$3:$K$54
Name AC2C3: 'Dummy Top Scorer'!$K$57:$K$108
Name AC2C4: 'Dummy Top Scorer'!$K$111:$K$162
Name AC3C1: 'Dummy Top Scorer'!$L$3:$L$54
Name AC3C2: 'Dummy Top Scorer'!$L$57:$L$108
Name AC3C4: 'Dummy Top Scorer'!$L$111:$L$162
Name AC4C1: 'Dummy Top Scorer'!$M$3:$M$54
Name AC4C2: 'Dummy Top Scorer'!$M$57:$M$108
Name AC4C3: 'Dummy Top Scorer'!$M$111:$M$162
Name B1B2: 'Dummy Top Scorer'!$F$3:$F$54
Name B1B3: 'Dummy Top Scorer'!$F$57:$F$108
Name B1B4: 'Dummy Top Scorer'!$F$111:$F$162
Name B2B1: 'Dummy Top Scorer'!$G$3:$G$54
Name B2B3: 'Dummy Top Scorer'!$G$57:$G$108
Name B2B4: 'Dummy Top Scorer'!$G$111:$G$162
Name B3B1: 'Dummy Top Scorer'!$H$3:$H$54
Name B3B2: 'Dummy Top Scorer'!$H$57:$H$108
Name B3B4: 'Dummy Top Scorer'!$H$111:$H$162
Name B4B1: 'Dummy Top Scorer'!$I$3:$I$54
Name B4B2: 'Dummy Top Scorer'!$I$57:$I$108
Name B4B3: 'Dummy Top Scorer'!$I$111:$I$162
Name Babak1: 'Dummy Top Scorer'!$AY$3:$AY$54
Name Babak10: 'Dummy Top Scorer'!$BH$3:$BH$54
Name Babak11: 'Dummy Top Scorer'!$BI$3:$BI$54
Name Babak12: 'Dummy Top Scorer'!$BJ$3:$BJ$54
Name Babak13: 'Dummy Top Scorer'!$BK$3:$BK$54
Name Babak14: 'Dummy Top Scorer'!$BL$3:$BL$54
Name Babak15: 'Dummy Top Scorer'!$BM$3:$BM$54
Name Babak16: 'Dummy Top Scorer'!$BN$3:$BN$54
Name Babak17: 'Dummy Top Scorer'!$BO$3:$BO$54
Name Babak18: 'Dummy Top Scorer'!$BP$3:$BP$54
Name Babak19: 'Dummy Top Scorer'!$BQ$3:$BQ$54
Name Babak2: 'Dummy Top Scorer'!$AZ$3:$AZ$54
Name Babak20: 'Dummy Top Scorer'!$BR$3:$BR$54
Name Babak21: 'Dummy Top Scorer'!$BS$3:$BS$54
Name Babak22: 'Dummy Top Scorer'!$BT$3:$BT$54
Name Babak23: 'Dummy Top Scorer'!$BU$3:$BU$54
Name Babak24: 'Dummy Top Scorer'!$BV$3:$BV$54
Name Babak25: 'Dummy Top Scorer'!$BW$3:$BW$54
Name Babak26: 'Dummy Top Scorer'!$BX$3:$BX$54
Name Babak27: 'Dummy Top Scorer'!$BY$3:$BY$54
Name Babak28: 'Dummy Top Scorer'!$BZ$3:$BZ$54
Name Babak29: 'Dummy Top Scorer'!$CA$3:$CA$54
Name Babak3: 'Dummy Top Scorer'!$BA$3:$BA$54
Name Babak30: 'Dummy Top Scorer'!$CB$3:$CB$54

Sheet Setup
B2: SETUP | C2: Click here to purchase the Unprotected version
B4: Time Difference with New York Time (ET) ► | C4: 0 | D4: Your City Name | K4: ◄ | L4: Select your time preference by adding or subtracting your local time with New York time
B5: Language ► | C5: English | F5: FIFA Rank | G5: Fair Play Points | K5: ◄ | L5: Select your language. There are only 6 translated language. You can translate default English language to your own by typing its translation in column C. YOU NEED TO TRANSLATE ALL TEXTS FROM COLUMN B if you want to use your own translation.
B6: Custom Language Translation Title ► | C6: MY LANGUAGE | L6: Do not forget to select your Custom Language translation title in cell C5 to translate matches worksheet to your language after you filling all translation rows in column C
B7: Original Language (English) | C7: Your Language Translation | D7: Group | K7: ◄ | L7: You may type your city name in cell D6. It will be shown if you change time zone to your timezone in cell Q2 in Matches Tab
A8: 1 | B8: Mexico | D8: A | E8:  | F8: 16 | L8: Do not change or sort country order. It will break country reference formula
A9: 2 | B9: South Africa | D9: A | E9:  | F9: 60 | K9: ◄ | L9: You may need to type FAIR PLAY points if two or more teams in group standings have to go through tie-breaker 8 where their standings is decided by fair play point
A10: 3 | B10: Korea Republic | D10: A | E10:  | F10: 22 | K10: TIE BREAKER REGULATION
A11: 4 | B11: Czechia | D11: A | E11:  | F11: 43 | K11: The ranking of teams in the group stage is determined as follows:
A12: 5 | B12: Canada | D12: B | E12:  | F12: 29 | K12: 1 | L12: Points obtained in all group matches;
A13: 6 | B13: Bosnia and Herzegovina | D13: B | E13:  | F13: 71 | K13: 2 | L13: Points obtained in the matches played between the teams in question;
A14: 7 | B14: Qatar | D14: B | E14:  | F14: 56 | K14: 3 | L14: Goal difference in the matches played between the teams in question;
A15: 8 | B15: Switzerland | D15: B | E15:  | F15: 18 | K15: 4 | L15: Number of goals scored in the matches played between the teams in question;
A16: 9 | B16: Brazil | D16: C | E16:  | F16: 5 | K16: 5 | L16: If, after having applied criteria 1 to 3, teams still have an equal ranking, criteria 2 to 4 are reapplied exclusively to the matches between the teams who are still level to determine their final rankings.[a] If this procedure does not lead to a decision, criteria 6 to 9 will apply;
A17: 10 | B17: Morocco | D17: C | E17:  | F17: 8 | K17: 6 | L17: Goal difference in all group matches;
A18: 11 | B18: Haiti | D18: C | E18:  | F18: 83 | K18: 7 | L18: Number of goals scored in all group matches;
A19: 12 | B19: Scotland | D19: C | E19:  | F19: 38 | K19: 8 | L19: Fair play points in all group matches (only one deduction can be applied to a player or coach in a single match):
A20: 13 | B20: USA | D20: D | E20:  | F20: 15 | L20: > Yellow card: −1 point;
A21: 14 | B21: Paraguay | D21: D | E21:  | F21: 40 | L21: > Indirect red card (second yellow card): −3 points;
A22: 15 | B22: Australia | D22: D | E22:  | F22: 27 | L22: > Direct red card: −4 points;
A23: 16 | B23: Türkiye | D23: D | E23:  | F23: 25 | L23: > Yellow card and direct red card: −5 points;
A24: 17 | B24: Germany | D24: E | E24:  | F24: 10 | K24: 9 | L24: Latest FIFA Ranks
A25: 18 | B25: Curacao | D25: E | E25:  | F25: 81
A26: 19 | B26: Cote D'Voire | D26: E | E26:  | F26: 37
A27: 20 | B27: Ecuador | D27: E | E27:  | F27: 23
A28: 21 | B28: Netherlands | D28: F | E28:  | F28: 7
A29: 22 | B29: Japan | D29: F | E29:  | F29: 19
A30: 23 | B30: Sweden | D30: F | E30:  | F30: 42
A31: 24 | B31: Tunisia | D31: F | E31:  | F31: 47
A32: 25 | B32: Belgium | D32: G | E32:  | F32: 9
A33: 26 | B33: Egypt | D33: G | E33:  | F33: 31
A34: 27 | B34: Iran | D34: G | E34:  | F34: 20
A35: 28 | B35: New Zealand | D35: G | E35:  | F35: 85
A36: 29 | B36: Spain | D36: H | E36:  | F36: 1
... A55: 48 | B55: Panama | D55: L | E55:  | F55: 33
B56: Language
B57: Timezone
B58: Group Stages
B59: Matches
B60: Standings
...

Sheet Matches
B2: =UPPER(INDEX(WCTranslation,MATCH("World Cup 2026 Fixtures",WCTransRef,0),MATCH(Setup!C5,WCLanguageRef,0))) -> WORLD CUP 2026 FIXTURES | Q2: =IF(WCTImeZoneData<>0,IF(Setup!D6<>"",Setup!D6&" TIME",""),"NEW YORK TIME ") -> NEW YORK TIME
B3: =INDEX(WCTranslation,MATCH("Match #",WCTransRef,0),MATCH(Setup!C5,WCLanguageRef,0)) -> Match # | D3: =INDEX(WCTranslation,MATCH("Time",WCTransRef,0),MATCH(Setup!C5,WCLanguageRef,0)) -> Time | H3: =INDEX(WCTranslation,MATCH("Country",WCTransRef,0),MATCH(Setup!C5,WCLanguageRef,0)) -> Country | J3: =INDEX(WCTranslation,MATCH("Score",WCTransRef,0),MATCH(Setup!C5,WCLanguageRef,0)) -> Score | M3: =INDEX(WCTranslation,MATCH("Country",WCTransRef,0),MATCH(Setup!C5,WCLanguageRef,0)) -> Country | Q3: =INDEX(WCTranslation,MATCH("Venue",WCTransRef,0),MATCH(Setup!C5,WCLanguageRef,0)) -> Venue | S3: =INDEX(Language!A1:H172,MATCH("Standings",Language!B1:B182,0),MATCH(Setup!C5,Language!A1:G1,0)) -> Standings | AF3: Notes :
A4: 1 | B4: 1 | C4: A | D4: =Calculator!EB7 -> 46184.625 | H4: =INDEX(Language!A1:K177,MATCH(Setup!B8,Language!B1:B177,0),MATCH(Setup!C5,Language!A1:J1,0)) -> Mexico | J4: =IF(OFFSET('Group Stages'!H7,A4-1,0)<>"",OFFSET('Group Stages'!H7,A4-1,0),"") | K4: =IF(OFFSET('Group Stages'!H8,A4-1,0)<>"",OFFSET('Group Stages'!H8,A4-1,0),"") | M4: =INDEX(Language!A1:K177,MATCH(Setup!B9,Language!B1:B177,0),MATCH(Setup!C5,Language!A1:J1,0)) -> South Africa | Q4: Estadio Azteca, Mexico City 🇲🇽 | S4: =INDEX(Language!A1:K177,MATCH("Group A",Language!B1:B177,0),MATCH(Setup!C5,Language!A1:J1,0)) -> Group A | V4: P | W4: W | X4: D | Y4: L | Z4: F | AA4: A | AB4: Pt | AF4: GROUP MATCHES ARE SORTED BY MATCH NUMBER
A5: =A4+2 -> 3 | B5: 2 | C5: A | D5: =Calculator!EB8 -> 46184.917 | H5: =INDEX(Language!A1:K177,MATCH(Setup!B10,Language!B1:B177,0),MATCH(Setup!C5,Language!A1:J1,0)) -> Korea Republic | J5: =IF(OFFSET('Group Stages'!H7,A5-1,0)<>"",OFFSET('Group Stages'!H7,A5-1,0),"") | K5: =IF(OFFSET('Group Stages'!H8,A5-1,0)<>"",OFFSET('Group Stages'!H8,A5-1,0),"") | M5: =INDEX(Language!A1:K177,MATCH(Setup!B11,Language!B1:B177,0),MATCH(Setup!C5,Language!A1:J1,0)) -> Czechia | Q5: Estadio Akron, Guadalajara 🇲🇽 | S5: 1 | T5: =INDEX(Calculator!C4:C7,MATCH(S5,Calculator!B4:B7,0),0) -> Mexico | V5: =SUM(W5:Y5) -> 0 | W5: =INDEX(Calculator!D4:D7,MATCH(S5,Calculator!B4:B7,0),0) -> 0 | X5: =INDEX(Calculator!E4:E7,MATCH(S5,Calculator!B4:B7,0),0) -> 0 | Y5: =INDEX(Calculator!F4:F7,MATCH(S5,Calculator!B4:B7,0),0) -> 0 | Z5: =INDEX(Calculator!G4:G7,MATCH(S5,Calculator!B4:B7,0),0) -> 0 | AA5: =INDEX(Calculator!H4:H7,MATCH(S5,Calculator!B4:B7,0),0) -> 0 | AB5: =INDEX(Calculator!J4:J7,MATCH(S5,Calculator!B4:B7,0),0) -> 0
A6: =A5+2 -> 5 | B6: 3 | C6: B | D6: =Calculator!EB9 -> 46185.625 | H6: =INDEX(Language!A1:K177,MATCH(Setup!B12,Language!B1:B177,0),MATCH(Setup!C5,Language!A1:J1,0)) -> Canada | J6: =IF(OFFSET('Group Stages'!H7,A6-1,0)<>"",OFFSET('Group Stages'!H7,A6-1,0),"") | K6: =IF(OFFSET('Group Stages'!H8,A6-1,0)<>"",OFFSET('Group Stages'!H8,A6-1,0),"") | M6: =INDEX(Language!A1:K177,MATCH(Setup!B13,Language!B1:B177,0),MATCH(Setup!C5,Language!A1:J1,0)) -> Bosnia and Herzegovina | Q6: BMO Field, Toronto 🇨🇦 | S6: 2 | T6: =INDEX(Calculator!C4:C7,MATCH(S6,Calculator!B4:B7,0),0) -> Korea Republic | V6: =SUM(W6:Y6) -> 0 | W6: =INDEX(Calculator!D4:D7,MATCH(S6,Calculator!B4:B7,0),0) -> 0 | X6: =INDEX(Calculator!E4:E7,MATCH(S6,Calculator!B4:B7,0),0) -> 0 | Y6: =INDEX(Calculator!F4:F7,MATCH(S6,Calculator!B4:B7,0),0) -> 0 | Z6: =INDEX(Calculator!G4:G7,MATCH(S6,Calculator!B4:B7,0),0) -> 0 | AA6: =INDEX(Calculator!H4:H7,MATCH(S6,Calculator!B4:B7,0),0) -> 0 | AB6: =INDEX(Calculator!J4:J7,MATCH(S6,Calculator!B4:B7,0),0) -> 0
A7: =A6+2 -> 7 | B7: 4 | C7: D | D7: =Calculator!EB10 -> 46185.875 | H7: =INDEX(Language!A1:K177,MATCH(Setup!B20,Language!B1:B177,0),MATCH(Setup!C5,Language!A1:J1,0)) -> USA | J7: =IF(OFFSET('Group Stages'!H7,A7-1,0)<>"",OFFSET('Group Stages'!H7,A7-1,0),"") | K7: =IF(OFFSET('Group Stages'!H8,A7-1,0)<>"",OFFSET('Group Stages'!H8,A7-1,0),"") | M7: =INDEX(Language!A1:K177,MATCH(Setup!B21,Language!B1:B177,0),MATCH(Setup!C5,Language!A1:J1,0)) -> Paraguay | Q7: SoFi Stadium, Los Angeles 🇺🇸 | S7: 3 | T7: =INDEX(Calculator!C4:C7,MATCH(S7,Calculator!B4:B7,0),0) -> Czechia | V7: =SUM(W7:Y7) -> 0 | W7: =INDEX(Calculator!D4:D7,MATCH(S7,Calculator!B4:B7,0),0) -> 0 | X7: =INDEX(Calculator!E4:E7,MATCH(S7,Calculator!B4:B7,0),0) -> 0 | Y7: =INDEX(Calculator!F4:F7,MATCH(S7,Calculator!B4:B7,0),0) -> 0 | Z7: =INDEX(Calculator!G4:G7,MATCH(S7,Calculator!B4:B7,0),0) -> 0 | AA7: =INDEX(Calculator!H4:H7,MATCH(S7,Calculator!B4:B7,0),0) -> 0 | AB7: =INDEX(Calculator!J4:J7,MATCH(S7,Calculator!B4:B7,0),0) -> 0 | AF7: ● | AG7: Fill full time scores in column J and K
A8: =A7+2 -> 9 | B8: 5 | C8: C | D8: =Calculator!EB11 -> 46186.875 | H8: =INDEX(Language!A1:K177,MATCH(Setup!B18,Language!B1:B177,0),MATCH(Setup!C5,Language!A1:J1,0)) -> Haiti | J8: =IF(OFFSET('Group Stages'!H7,A8-1,0)<>"",OFFSET('Group Stages'!H7,A8-1,0),"") | K8: =IF(OFFSET('Group Stages'!H8,A8-1,0)<>"",OFFSET('Group Stages'!H8,A8-1,0),"") | M8: =INDEX(Language!A1:K177,MATCH(Setup!B19,Language!B1:B177,0),MATCH(Setup!C5,Language!A1:J1,0)) -> Scotland | Q8: Gillette Stadium, Boston 🇺🇸 | S8: 4 | T8: =INDEX(Calculator!C4:C7,MATCH(S8,Calculator!B4:B7,0),0) -> South Africa | V8: =SUM(W8:Y8) -> 0 | W8: =INDEX(Calculator!D4:D7,MATCH(S8,Calculator!B4:B7,0),0) -> 0 | X8: =INDEX(Calculator!E4:E7,MATCH(S8,Calculator!B4:B7,0),0) -> 0 | Y8: =INDEX(Calculator!F4:F7,MATCH(S8,Calculator!B4:B7,0),0) -> 0 | Z8: =INDEX(Calculator!G4:G7,MATCH(S8,Calculator!B4:B7,0),0) -> 0 | AA8: =INDEX(Calculator!H4:H7,MATCH(S8,Calculator!B4:B7,0),0) -> 0 | AB8: =INDEX(Calculator!J4:J7,MATCH(S8,Calculator!B4:B7,0),0) -> 0 | AF8: ● | AG8: Fill penalty shoot out scores in KO rounds in columns at the right of Full Time scores columns
A9: =A8+2 -> 11 | B9: 6 | C9: D | D9: =Calculator!EB12 -> 46187 | H9: =INDEX(Language!A1:K177,MATCH(Setup!B22,Language!B1:B177,0),MATCH(Setup!C5,Language!A1:J1,0)) -> Australia | J9: =IF(OFFSET('Group Stages'!H7,A9-1,0)<>"",OFFSET('Group Stages'!H7,A9-1,0),"") | K9: =IF(OFFSET('Group Stages'!H8,A9-1,0)<>"",OFFSET('Group Stages'!H8,A9-1,0),"") | M9: =INDEX(Language!A1:K177,MATCH(Setup!B23,Language!B1:B177,0),MATCH(Setup!C5,Language!A1:J1,0)) -> Türkiye | Q9: BC Place, Vancouver 🇨🇦 | AF9: ● | AG9: Group standings will be calculated automatically based on official FIFA Club World Cup Tie Breaker regulation
A10: =A9+2 -> 13 | B10: 7 | C10: C | D10: =Calculator!EB13 -> 46186.75 | H10: =INDEX(Language!A1:K177,MATCH(Setup!B16,Language!B1:B177,0),MATCH(Setup!C5,Language!A1:J1,0)) -> Brazil | J10: =IF(OFFSET('Group Stages'!H7,A10-1,0)<>"",OFFSET('Group Stages'!H7,A10-1,0),"") | K10: =IF(OFFSET('Group Stages'!H8,A10-1,0)<>"",OFFSET('Group Stages'!H8,A10-1,0),"") | M10: =INDEX(Language!A1:K177,MATCH(Setup!B17,Language!B1:B177,0),MATCH(Setup!C5,Language!A1:J1,0)) -> Morocco | Q10: MetLife Stadium, NY/NJ 🇺🇸 | S10: =INDEX(Language!A1:K177,MATCH("Group B",Language!B1:B177,0),MATCH(Setup!C5,Language!A1:J1,0)) -> Group B | V10: P | W10: W | X10: D | Y10: L | Z10: F | AA10: A | AB10: Pt | AF10: ● | AG10: Pairing teams in Knock Out rounds will be placed automatically
A11: =A10+2 -> 15 | B11: 8 | C11: B | D11: =Calculator!EB14 -> 46186.625 | H11: =INDEX(Language!A1:K177,MATCH(Setup!B14,Language!B1:B177,0),MATCH(Setup!C5,Language!A1:J1,0)) -> Qatar | J11: =IF(OFFSET('Group Stages'!H7,A11-1,0)<>"",OFFSET('Group Stages'!H7,A11-1,0),"") | K11: =IF(OFFSET('Group Stages'!H8,A11-1,0)<>"",OFFSET('Group Stages'!H8,A11-1,0),"") | M11: =INDEX(Language!A1:K177,MATCH(Setup!B15,Language!B1:B177,0),MATCH(Setup!C5,Language!A1:J1,0)) -> Switzerland | Q11: Levi’s Stadium, San Francisco 🇺🇸 | S11: 1 | T11: =INDEX(Calculator!C11:C14,MATCH(S11,Calculator!B11:B14,0),0) -> Switzerland | V11: =SUM(W11:Y11) -> 0 | W11: =INDEX(Calculator!D11:D14,MATCH(S11,Calculator!B11:B14,0),0) -> 0 | X11: =INDEX(Calculator!E11:E14,MATCH(S11,Calculator!B11:B14,0),0) -> 0 | Y11: =INDEX(Calculator!F11:F14,MATCH(S11,Calculator!B11:B14,0),0) -> 0 | Z11: =INDEX(Calculator!G11:G14,MATCH(S11,Calculator!B11:B14,0),0) -> 0 | AA11: =INDEX(Calculator!H11:H14,MATCH(S11,Calculator!B11:B14,0),0) -> 0 | AB11: =INDEX(Calculator!J11:J14,MATCH(S11,Calculator!B11:B14,0),0) -> 0 | AF11: Color meaning :
A12: =A11+2 -> 17 | B12: 9 | C12: E | D12: =Calculator!EB15 -> 46187.792 | H12: =INDEX(Language!A1:K177,MATCH(Setup!B26,Language!B1:B177,0),MATCH(Setup!C5,Language!A1:J1,0)) -> Cote D'Voire | J12: =IF(OFFSET('Group Stages'!H7,A12-1,0)<>"",OFFSET('Group Stages'!H7,A12-1,0),"") | K12: =IF(OFFSET('Group Stages'!H8,A12-1,0)<>"",OFFSET('Group Stages'!H8,A12-1,0),"") | M12: =INDEX(Language!A1:K177,MATCH(Setup!B27,Language!B1:B177,0),MATCH(Setup!C5,Language!A1:J1,0)) -> Ecuador | Q12: Lincoln Financial Field, Philadelphia 🇺🇸 | S12: 2 | T12: =INDEX(Calculator!C11:C14,MATCH(S12,Calculator!B11:B14,0),0) -> Canada | V12: =SUM(W12:Y12) -> 0 | W12: =INDEX(Calculator!D11:D14,MATCH(S12,Calculator!B11:B14,0),0) -> 0 | X12: =INDEX(Calculator!E11:E14,MATCH(S12,Calculator!B11:B14,0),0) -> 0 | Y12: =INDEX(Calculator!F11:F14,MATCH(S12,Calculator!B11:B14,0),0) -> 0 | Z12: =INDEX(Calculator!G11:G14,MATCH(S12,Calculator!B11:B14,0),0) -> 0 | AA12: =INDEX(Calculator!H11:H14,MATCH(S12,Calculator!B11:B14,0),0) -> 0 | AB12: =INDEX(Calculator!J11:J14,MATCH(S12,Calculator!B11:B14,0),0) -> 0 | AG12: Team Name | AI12: Won in Group Stages
A13: =A12+2 -> 19 | B13: 10 | C13: E | D13: =Calculator!EB16 -> 46187.542 | H13: =INDEX(Language!A1:K177,MATCH(Setup!B24,Language!B1:B177,0),MATCH(Setup!C5,Language!A1:J1,0)) -> Germany | J13: =IF(OFFSET('Group Stages'!H7,A13-1,0)<>"",OFFSET('Group Stages'!H7,A13-1,0),"") | K13: =IF(OFFSET('Group Stages'!H8,A13-1,0)<>"",OFFSET('Group Stages'!H8,A13-1,0),"") | M13: =INDEX(Language!A1:K177,MATCH(Setup!B25,Language!B1:B177,0),MATCH(Setup!C5,Language!A1:J1,0)) -> Curacao | Q13: NRG Stadium, Houston 🇺🇸 | S13: 3 | T13: =INDEX(Calculator!C11:C14,MATCH(S13,Calculator!B11:B14,0),0) -> Qatar | V13: =SUM(W13:Y13) -> 0 | W13: =INDEX(Calculator!D11:D14,MATCH(S13,Calculator!B11:B14,0),0) -> 0 | X13: =INDEX(Calculator!E11:E14,MATCH(S13,Calculator!B11:B14,0),0) -> 0 | Y13: =INDEX(Calculator!F11:F14,MATCH(S13,Calculator!B11:B14,0),0) -> 0 | Z13: =INDEX(Calculator!G11:G14,MATCH(S13,Calculator!B11:B14,0),0) -> 0 | AA13: =INDEX(Calculator!H11:H14,MATCH(S13,Calculator!B11:B14,0),0) -> 0 | AB13: =INDEX(Calculator!J11:J14,MATCH(S13,Calculator!B11:B14,0),0) -> 0 | AG13: Team Name | AI13: Won by KO Rounds
A14: =A13+2 -> 21 | B14: 11 | C14: F | D14: =Calculator!EB17 -> 46187.667 | H14: =INDEX(Language!A1:K177,MATCH(Setup!B28,Language!B1:B177,0),MATCH(Setup!C5,Language!A1:J1,0)) -> Netherlands | J14: =IF(OFFSET('Group Stages'!H7,A14-1,0)<>"",OFFSET('Group Stages'!H7,A14-1,0),"") | K14: =IF(OFFSET('Group Stages'!H8,A14-1,0)<>"",OFFSET('Group Stages'!H8,A14-1,0),"") | M14: =INDEX(Language!A1:K177,MATCH(Setup!B29,Language!B1:B177,0),MATCH(Setup!C5,Language!A1:J1,0)) -> Japan | Q14: AT&T Stadium, Dallas 🇺🇸 | S14: 4 | T14: =INDEX(Calculator!C11:C14,MATCH(S14,Calculator!B11:B14,0),0) -> Bosnia and Herzegovina | V14: =SUM(W14:Y14) -> 0 | W14: =INDEX(Calculator!D11:D14,MATCH(S14,Calculator!B11:B14,0),0) -> 0 | X14: =INDEX(Calculator!E11:E14,MATCH(S14,Calculator!B11:B14,0),0) -> 0 | Y14: =INDEX(Calculator!F11:F14,MATCH(S14,Calculator!B11:B14,0),0) -> 0 | Z14: =INDEX(Calculator!G11:G14,MATCH(S14,Calculator!B11:B14,0),0) -> 0 | AA14: =INDEX(Calculator!H11:H14,MATCH(S14,Calculator!B11:B14,0),0) -> 0 | AB14: =INDEX(Calculator!J11:J14,MATCH(S14,Calculator!B11:B14,0),0) -> 0 | AG14: Team Name | AI14: Lose in Group and KO Stages
A15: =A14+2 -> 23 | B15: 12 | C15: F | D15: =Calculator!EB18 -> 46187.917 | H15: =INDEX(Language!A1:K177,MATCH(Setup!B30,Language!B1:B177,0),MATCH(Setup!C5,Language!A1:J1,0)) -> Sweden | J15: =IF(OFFSET('Group Stages'!H7,A15-1,0)<>"",OFFSET('Group Stages'!H7,A15-1,0),"") | K15: =IF(OFFSET('Group Stages'!H8,A15-1,0)<>"",OFFSET('Group Stages'!H8,A15-1,0),"") | M15: =INDEX(Language!A1:K177,MATCH(Setup!B31,Language!B1:B177,0),MATCH(Setup!C5,Language!A1:J1,0)) -> Tunisia | Q15: Estadio BBVA, Monterrey 🇲🇽
A16: =A15+2 -> 25 | B16: 13 | C16: H | D16: =Calculator!EB19 -> 46188.75 | H16: =INDEX(Language!A1:K177,MATCH(Setup!B38,Language!B1:B177,0),MATCH(Setup!C5,Language!A1:J1,0)) -> Saudi Arabia | J16: =IF(OFFSET('Group Stages'!H7,A16-1,0)<>"",OFFSET('Group Stages'!H7,A16-1,0),"") | K16: =IF(OFFSET('Group Stages'!H8,A16-1,0)<>"",OFFSET('Group Stages'!H8,A16-1,0),"") | M16: =INDEX(Language!A1:K177,MATCH(Setup!B39,Language!B1:B177,0),MATCH(Setup!C5,Language!A1:J1,0)) -> Uruguay | Q16: Hard Rock Stadium, Miami 🇺🇸 | S16: =INDEX(Language!A1:K177,MATCH("Group C",Language!B1:B177,0),MATCH(Setup!C5,Language!A1:J1,0)) -> Group C | V16: P | W16: W | X16: D | Y16: L | Z16: F | AA16: A | AB16: Pt
A17: =A16+2 -> 27 | B17: 14 | C17: H | D17: =Calculator!EB20 -> 46188.5 | H17: =INDEX(Language!A1:K177,MATCH(Setup!B36,Language!B1:B177,0),MATCH(Setup!C5,Language!A1:J1,0)) -> Spain | J17: =IF(OFFSET('Group Stages'!H7,A17-1,0)<>"",OFFSET('Group Stages'!H7,A17-1,0),"") | K17: =IF(OFFSET('Group Stages'!H8,A17-1,0)<>"",OFFSET('Group Stages'!H8,A17-1,0),"") | M17: =INDEX(Language!A1:K177,MATCH(Setup!B37,Language!B1:B177,0),MATCH(Setup!C5,Language!A1:J1,0)) -> Cabo Verde | Q17: Mercedes-Benz Stadium, Atlanta 🇺🇸 | S17: 1 | T17: =INDEX(Calculator!C18:C21,MATCH(S17,Calculator!B18:B21,0),0) -> Brazil | V17: =SUM(W17:Y17) -> 0 | W17: =INDEX(Calculator!D18:D21,MATCH(S17,Calculator!B18:B21,0),0) -> 0 | X17: =INDEX(Calculator!E18:E21,MATCH(S17,Calculator!B18:B21,0),0) -> 0 | Y17: =INDEX(Calculator!F18:F21,MATCH(S17,Calculator!B18:B21,0),0) -> 0 | Z17: =INDEX(Calculator!G18:G21,MATCH(S17,Calculator!B18:B21,0),0) -> 0 | AA17: =INDEX(Calculator!H18:H21,MATCH(S17,Calculator!B18:B21,0),0) -> 0 | AB17: =INDEX(Calculator!J18:J21,MATCH(S17,Calculator!B18:B21,0),0) -> 0
A18: =A17+2 -> 29 | B18: 15 | C18: G | D18: =Calculator!EB21 -> 46188.875 | H18: =INDEX(Language!A1:K177,MATCH(Setup!B34,Language!B1:B177,0),MATCH(Setup!C5,Language!A1:J1,0)) -> Iran | J18: =IF(OFFSET('Group Stages'!H7,A18-1,0)<>"",OFFSET('Group Stages'!H7,A18-1,0),"") | K18: =IF(OFFSET('Group Stages'!H8,A18-1,0)<>"",OFFSET('Group Stages'!H8,A18-1,0),"") | M18: =INDEX(Language!A1:K177,MATCH(Setup!B35,Language!B1:B177,0),MATCH(Setup!C5,Language!A1:J1,0)) -> New Zealand | Q18: SoFi Stadium, Los Angeles 🇺🇸 | S18: 2 | T18: =INDEX(Calculator!C18:C21,MATCH(S18,Calculator!B18:B21,0),0) -> Morocco | V18: =SUM(W18:Y18) -> 0 | W18: =INDEX(Calculator!D18:D21,MATCH(S18,Calculator!B18:B21,0),0) -> 0 | X18: =INDEX(Calculator!E18:E21,MATCH(S18,Calculator!B18:B21,0),0) -> 0 | Y18: =INDEX(Calculator!F18:F21,MATCH(S18,Calculator!B18:B21,0),0) -> 0 | Z18: =INDEX(Calculator!G18:G21,MATCH(S18,Calculator!B18:B21,0),0) -> 0 | AA18: =INDEX(Calculator!H18:H21,MATCH(S18,Calculator!B18:B21,0),0) -> 0 | AB18: =INDEX(Calculator!J18:J21,MATCH(S18,Calculator!B18:B21,0),0) -> 0
A19: =A18+2 -> 31 | B19: 16 | C19: G | D19: =Calculator!EB22 -> 46188.625 | H19: =INDEX(Language!A1:K177,MATCH(Setup!B32,Language!B1:B177,0),MATCH(Setup!C5,Language!A1:J1,0)) -> Belgium | J19: =IF(OFFSET('Group Stages'!H7,A19-1,0)<>"",OFFSET('Group Stages'!H7,A19-1,0),"") | K19: =IF(OFFSET('Group Stages'!H8,A19-1,0)<>"",OFFSET('Group Stages'!H8,A19-1,0),"") | M19: =INDEX(Language!A1:K177,MATCH(Setup!B33,Language!B1:B177,0),MATCH(Setup!C5,Language!A1:J1,0)) -> Egypt | Q19: Lumen Field, Seattle 🇺🇸 | S19: 3 | T19: =INDEX(Calculator!C18:C21,MATCH(S19,Calculator!B18:B21,0),0) -> Scotland | V19: =SUM(W19:Y19) -> 0 | W19: =INDEX(Calculator!D18:D21,MATCH(S19,Calculator!B18:B21,0),0) -> 0 | X19: =INDEX(Calculator!E18:E21,MATCH(S19,Calculator!B18:B21,0),0) -> 0 | Y19: =INDEX(Calculator!F18:F21,MATCH(S19,Calculator!B18:B21,0),0) -> 0 | Z19: =INDEX(Calculator!G18:G21,MATCH(S19,Calculator!B18:B21,0),0) -> 0 | AA19: =INDEX(Calculator!H18:H21,MATCH(S19,Calculator!B18:B21,0),0) -> 0 | AB19: =INDEX(Calculator!J18:J21,MATCH(S19,Calculator!B18:B21,0),0) -> 0
A20: =A19+2 -> 33 | B20: 17 | C20: I | D20: =Calculator!EB23 -> 46189.625 | H20: =INDEX(Language!A1:K177,MATCH(Setup!B40,Language!B1:B177,0),MATCH(Setup!C5,Language!A1:J1,0)) -> France | J20: =IF(OFFSET('Group Stages'!H7,A20-1,0)<>"",OFFSET('Group Stages'!H7,A20-1,0),"") | K20: =IF(OFFSET('Group Stages'!H8,A20-1,0)<>"",OFFSET('Group Stages'!H8,A20-1,0),"") | M20: =INDEX(Language!A1:K177,MATCH(Setup!B41,Language!B1:B177,0),MATCH(Setup!C5,Language!A1:J1,0)) -> Senegal | Q20: MetLife Stadium, NY/NJ 🇺🇸 | S20: 4 | T20: =INDEX(Calculator!C18:C21,MATCH(S20,Calculator!B18:B21,0),0) -> Haiti | V20: =SUM(W20:Y20) -> 0 | W20: =INDEX(Calculator!D18:D21,MATCH(S20,Calculator!B18:B21,0),0) -> 0 | X20: =INDEX(Calculator!E18:E21,MATCH(S20,Calculator!B18:B21,0),0) -> 0 | Y20: =INDEX(Calculator!F18:F21,MATCH(S20,Calculator!B18:B21,0),0) -> 0 | Z20: =INDEX(Calculator!G18:G21,MATCH(S20,Calculator!B18:B21,0),0) -> 0 | AA20: =INDEX(Calculator!H18:H21,MATCH(S20,Calculator!B18:B21,0),0) -> 0 | AB20: =INDEX(Calculator!J18:J21,MATCH(S20,Calculator!B18:B21,0),0) -> 0
A21: =A20+2 -> 35 | B21: 18 | C21: I | D21: =Calculator!EB24 -> 46189.75 | H21: =INDEX(Language!A1:K177,MATCH(Setup!B42,Language!B1:B177,0),MATCH(Setup!C5,Language!A1:J1,0)) -> Iraq | J21: =IF(OFFSET('Group Stages'!H7,A21-1,0)<>"",OFFSET('Group Stages'!H7,A21-1,0),"") | K21: =IF(OFFSET('Group Stages'!H8,A21-1,0)<>"",OFFSET('Group Stages'!H8,A21-1,0),"") | M21: =INDEX(Language!A1:K177,MATCH(Setup!B43,Language!B1:B177,0),MATCH(Setup!C5,Language!A1:J1,0)) -> Norway | Q21: Gillette Stadium, Boston 🇺🇸
A22: =A21+2 -> 37 | B22: 19 | C22: J | D22: =Calculator!EB25 -> 46189.875 | H22: =INDEX(Language!A1:K177,MATCH(Setup!B44,Language!B1:B177,0),MATCH(Setup!C5,Language!A1:J1,0)) -> Argentina | J22: =IF(OFFSET('Group Stages'!H7,A22-1,0)<>"",OFFSET('Group Stages'!H7,A22-1,0),"") | K22: =IF(OFFSET('Group Stages'!H8,A22-1,0)<>"",OFFSET('Group Stages'!H8,A22-1,0),"") | M22: =INDEX(Language!A1:K177,MATCH(Setup!B45,Language!B1:B177,0),MATCH(Setup!C5,Language!A1:J1,0)) -> Algeria | Q22: Arrowhead Stadium, Kansas City 🇺🇸 | S22: =INDEX(Language!A1:K177,MATCH("Group D",Language!B1:B177,0),MATCH(Setup!C5,Language!A1:J1,0)) -> Group D | V22: P | W22: W | X22: D | Y22: L | Z22: F | AA22: A | AB22: Pt
A23: =A22+2 -> 39 | B23: 20 | C23: J | D23: =Calculator!EB26 -> 46189 | H23: =INDEX(Language!A1:K177,MATCH(Setup!B46,Language!B1:B177,0),MATCH(Setup!C5,Language!A1:J1,0)) -> Austria | J23: =IF(OFFSET('Group Stages'!H7,A23-1,0)<>"",OFFSET('Group Stages'!H7,A23-1,0),"") | K23: =IF(OFFSET('Group Stages'!H8,A23-1,0)<>"",OFFSET('Group Stages'!H8,A23-1,0),"") | M23: =INDEX(Language!A1:K177,MATCH(Setup!B47,Language!B1:B177,0),MATCH(Setup!C5,Language!A1:J1,0)) -> Jordan | Q23: Levi’s Stadium, San Francisco 🇺🇸 | S23: 1 | T23: =INDEX(Calculator!C25:C28,MATCH(S23,Calculator!B25:B28,0),0) -> USA | V23: =SUM(W23:Y23) -> 0 | W23: =INDEX(Calculator!D25:D28,MATCH(S23,Calculator!B25:B28,0),0) -> 0 | X23: =INDEX(Calculator!E25:E28,MATCH(S23,Calculator!B25:B28,0),0) -> 0 | Y23: =INDEX(Calculator!F25:F28,MATCH(S23,Calculator!B25:B28,0),0) -> 0 | Z23: =INDEX(Calculator!G25:G28,MATCH(S23,Calculator!B25:B28,0),0) -> 0 | AA23: =INDEX(Calculator!H25:H28,MATCH(S23,Calculator!B25:B28,0),0) -> 0 | AB23: =INDEX(Calculator!J25:J28,MATCH(S23,Calculator!B25:B28,0),0) -> 0
A24: =A23+2 -> 41 | B24: 21 | C24: L | D24: =Calculator!EB27 -> 46190.792 | H24: =INDEX(Language!A1:K177,MATCH(Setup!B54,Language!B1:B177,0),MATCH(Setup!C5,Language!A1:J1,0)) -> Ghana | J24: =IF(OFFSET('Group Stages'!H7,A24-1,0)<>"",OFFSET('Group Stages'!H7,A24-1,0),"") | K24: =IF(OFFSET('Group Stages'!H8,A24-1,0)<>"",OFFSET('Group Stages'!H8,A24-1,0),"") | M24: =INDEX(Language!A1:K177,MATCH(Setup!B55,Language!B1:B177,0),MATCH(Setup!C5,Language!A1:J1,0)) -> Panama | Q24: BMO Field, Toronto 🇨🇦 | S24: 2 | T24: =INDEX(Calculator!C25:C28,MATCH(S24,Calculator!B25:B28,0),0) -> Türkiye | V24: =SUM(W24:Y24) -> 0 | W24: =INDEX(Calculator!D25:D28,MATCH(S24,Calculator!B25:B28,0),0) -> 0 | X24: =INDEX(Calculator!E25:E28,MATCH(S24,Calculator!B25:B28,0),0) -> 0 | Y24: =INDEX(Calculator!F25:F28,MATCH(S24,Calculator!B25:B28,0),0) -> 0 | Z24: =INDEX(Calculator!G25:G28,MATCH(S24,Calculator!B25:B28,0),0) -> 0 | AA24: =INDEX(Calculator!H25:H28,MATCH(S24,Calculator!B25:B28,0),0) -> 0 | AB24: =INDEX(Calculator!J25:J28,MATCH(S24,Calculator!B25:B28,0),0) -> 0
A25: =A24+2 -> 43 | B25: 22 | C25: L | D25: =Calculator!EB28 -> 46190.667 | H25: =INDEX(Language!A1:K177,MATCH(Setup!B52,Language!B1:B177,0),MATCH(Setup!C5,Language!A1:J1,0)) -> England | J25: =IF(OFFSET('Group Stages'!H7,A25-1,0)<>"",OFFSET('Group Stages'!H7,A25-1,0),"") | K25: =IF(OFFSET('Group Stages'!H8,A25-1,0)<>"",OFFSET('Group Stages'!H8,A25-1,0),"") | M25: =INDEX(Language!A1:K177,MATCH(Setup!B53,Language!B1:B177,0),MATCH(Setup!C5,Language!A1:J1,0)) -> Croatia | Q25: AT&T Stadium, Dallas 🇺🇸 | S25: 3 | T25: =INDEX(Calculator!C25:C28,MATCH(S25,Calculator!B25:B28,0),0) -> Australia | V25: =SUM(W25:Y25) -> 0 | W25: =INDEX(Calculator!D25:D28,MATCH(S25,Calculator!B25:B28,0),0) -> 0 | X25: =INDEX(Calculator!E25:E28,MATCH(S25,Calculator!B25:B28,0),0) -> 0 | Y25: =INDEX(Calculator!F25:F28,MATCH(S25,Calculator!B25:B28,0),0) -> 0 | Z25: =INDEX(Calculator!G25:G28,MATCH(S25,Calculator!B25:B28,0),0) -> 0 | AA25: =INDEX(Calculator!H25:H28,MATCH(S25,Calculator!B25:B28,0),0) -> 0 | AB25: =INDEX(Calculator!J25:J28,MATCH(S25,Calculator!B25:B28,0),0) -> 0
A26: =A25+2 -> 45 | B26: 23 | C26: K | D26: =Calculator!EB29 -> 46190.542 | H26: =INDEX(Language!A1:K177,MATCH(Setup!B48,Language!B1:B177,0),MATCH(Setup!C5,Language!A1:J1,0)) -> Portugal | J26: =IF(OFFSET('Group Stages'!H7,A26-1,0)<>"",OFFSET('Group Stages'!H7,A26-1,0),"") | K26: =IF(OFFSET('Group Stages'!H8,A26-1,0)<>"",OFFSET('Group Stages'!H8,A26-1,0),"") | M26: =INDEX(Language!A1:K177,MATCH(Setup!B49,Language!B1:B177,0),MATCH(Setup!C5,Language!A1:J1,0)) -> DR Congo | Q26: NRG Stadium, Houston 🇺🇸 | S26: 4 | T26: =INDEX(Calculator!C25:C28,MATCH(S26,Calculator!B25:B28,0),0) -> Paraguay | V26: =SUM(W26:Y26) -> 0 | W26: =INDEX(Calculator!D25:D28,MATCH(S26,Calculator!B25:B28,0),0) -> 0 | X26: =INDEX(Calculator!E25:E28,MATCH(S26,Calculator!B25:B28,0),0) -> 0 | Y26: =INDEX(Calculator!F25:F28,MATCH(S26,Calculator!B25:B28,0),0) -> 0 | Z26: =INDEX(Calculator!G25:G28,MATCH(S26,Calculator!B25:B28,0),0) -> 0 | AA26: =INDEX(Calculator!H25:H28,MATCH(S26,Calculator!B25:B28,0),0) -> 0 | AB26: =INDEX(Calculator!J25:J28,MATCH(S26,Calculator!B25:B28,0),0) -> 0
A27: =A26+2 -> 47 | B27: 24 | C27: K | D27: =Calculator!EB30 -> 46190.917 | H27: =INDEX(Language!A1:K177,MATCH(Setup!B50,Language!B1:B177,0),MATCH(Setup!C5,Language!A1:J1,0)) -> Uzbekistan | J27: =IF(OFFSET('Group Stages'!H7,A27-1,0)<>"",OFFSET('Group Stages'!H7,A27-1,0),"") | K27: =IF(OFFSET('Group Stages'!H8,A27-1,0)<>"",OFFSET('Group Stages'!H8,A27-1,0),"") | M27: =INDEX(Language!A1:K177,MATCH(Setup!B51,Language!B1:B177,0),MATCH(Setup!C5,Language!A1:J1,0)) -> Colombia | Q27: Estadio Azteca, Mexico City 🇲🇽
A28: =A27+2 -> 49 | B28: 25 | C28: A | D28: =Calculator!EB31 -> 46191.5 | H28: =M5 -> Czechia | J28: =IF(OFFSET('Group Stages'!H7,A28-1,0)<>"",OFFSET('Group Stages'!H7,A28-1,0),"") | K28: =IF(OFFSET('Group Stages'!H8,A28-1,0)<>"",OFFSET('Group Stages'!H8,A28-1,0),"") | M28: =M4 -> South Africa | Q28: Mercedes-Benz Stadium, Atlanta 🇺🇸 | S28: =INDEX(Language!A1:K177,MATCH("Group E",Language!B1:B177,0),MATCH(Setup!C5,Language!A1:J1,0)) -> Group E | V28: P | W28: W | X28: D | Y28: L | Z28: F | AA28: A | AB28: Pt
A29: =A28+2 -> 51 | B29: 26 | C29: B | D29: =Calculator!EB32 -> 46191.625 | H29: =M11 -> Switzerland | J29: =IF(OFFSET('Group Stages'!H7,A29-1,0)<>"",OFFSET('Group Stages'!H7,A29-1,0),"") | K29: =IF(OFFSET('Group Stages'!H8,A29-1,0)<>"",OFFSET('Group Stages'!H8,A29-1,0),"") | M29: =M6 -> Bosnia and Herzegovina | Q29: SoFi Stadium, Los Angeles 🇺🇸 | S29: 1 | T29: =INDEX(Calculator!C31:C34,MATCH(S29,Calculator!B31:B34,0),0) -> Germany | V29: =SUM(W29:Y29) -> 0 | W29: =INDEX(Calculator!D31:D34,MATCH(S29,Calculator!B31:B34,0),0) -> 0 | X29: =INDEX(Calculator!E31:E34,MATCH(S29,Calculator!B31:B34,0),0) -> 0 | Y29: =INDEX(Calculator!F31:F34,MATCH(S29,Calculator!B31:B34,0),0) -> 0 | Z29: =INDEX(Calculator!G31:G34,MATCH(S29,Calculator!B31:B34,0),0) -> 0 | AA29: =INDEX(Calculator!H31:H34,MATCH(S29,Calculator!B31:B34,0),0) -> 0 | AB29: =INDEX(Calculator!J31:J34,MATCH(S29,Calculator!B31:B34,0),0) -> 0
A30: =A29+2 -> 53 | B30: 27 | C30: B | D30: =Calculator!EB33 -> 46191.75 | H30: =H6 -> Canada | J30: =IF(OFFSET('Group Stages'!H7,A30-1,0)<>"",OFFSET('Group Stages'!H7,A30-1,0),"") | K30: =IF(OFFSET('Group Stages'!H8,A30-1,0)<>"",OFFSET('Group Stages'!H8,A30-1,0),"") | M30: =H11 -> Qatar | Q30: BC Place, Vancouver 🇨🇦 | S30: 2 | T30: =INDEX(Calculator!C31:C34,MATCH(S30,Calculator!B31:B34,0),0) -> Ecuador | V30: =SUM(W30:Y30) -> 0 | W30: =INDEX(Calculator!D31:D34,MATCH(S30,Calculator!B31:B34,0),0) -> 0 | X30: =INDEX(Calculator!E31:E34,MATCH(S30,Calculator!B31:B34,0),0) -> 0 | Y30: =INDEX(Calculator!F31:F34,MATCH(S30,Calculator!B31:B34,0),0) -> 0 | Z30: =INDEX(Calculator!G31:G34,MATCH(S30,Calculator!B31:B34,0),0) -> 0 | AA30: =INDEX(Calculator!H31:H34,MATCH(S30,Calculator!B31:B34,0),0) -> 0 | AB30: =INDEX(Calculator!J31:J34,MATCH(S30,Calculator!B31:B34,0),0) -> 0
A31: =A30+2 -> 55 | B31: 28 | C31: A | D31: =Calculator!EB34 -> 46191.875 | H31: =H4 -> Mexico | J31: =IF(OFFSET('Group Stages'!H7,A31-1,0)<>"",OFFSET('Group Stages'!H7,A31-1,0),"") | K31: =IF(OFFSET('Group Stages'!H8,A31-1,0)<>"",OFFSET('Group Stages'!H8,A31-1,0),"") | M31: =H5 -> Korea Republic | Q31: Estadio Akron, Guadalajara 🇲🇽 | S31: 3 | T31: =INDEX(Calculator!C31:C34,MATCH(S31,Calculator!B31:B34,0),0) -> Cote D'Voire | V31: =SUM(W31:Y31) -> 0 | W31: =INDEX(Calculator!D31:D34,MATCH(S31,Calculator!B31:B34,0),0) -> 0 | X31: =INDEX(Calculator!E31:E34,MATCH(S31,Calculator!B31:B34,0),0) -> 0 | Y31: =INDEX(Calculator!F31:F34,MATCH(S31,Calculator!B31:B34,0),0) -> 0 | Z31: =INDEX(Calculator!G31:G34,MATCH(S31,Calculator!B31:B34,0),0) -> 0 | AA31: =INDEX(Calculator!H31:H34,MATCH(S31,Calculator!B31:B34,0),0) -> 0 | AB31: =INDEX(Calculator!J31:J34,MATCH(S31,Calculator!B31:B34,0),0) -> 0
A32: =A31+2 -> 57 | B32: 29 | C32: C | D32: =Calculator!EB35 -> 46192.854 | H32: =H10 -> Brazil | J32: =IF(OFFSET('Group Stages'!H7,A32-1,0)<>"",OFFSET('Group Stages'!H7,A32-1,0),"") | K32: =IF(OFFSET('Group Stages'!H8,A32-1,0)<>"",OFFSET('Group Stages'!H8,A32-1,0),"") | M32: =H8 -> Haiti | Q32: Lincoln Financial Field, Philadelphia 🇺🇸 | S32: 4 | T32: =INDEX(Calculator!C31:C34,MATCH(S32,Calculator!B31:B34,0),0) -> Curacao | V32: =SUM(W32:Y32) -> 0 | W32: =INDEX(Calculator!D31:D34,MATCH(S32,Calculator!B31:B34,0),0) -> 0 | X32: =INDEX(Calculator!E31:E34,MATCH(S32,Calculator!B31:B34,0),0) -> 0 | Y32: =INDEX(Calculator!F31:F34,MATCH(S32,Calculator!B31:B34,0),0) -> 0 | Z32: =INDEX(Calculator!G31:G34,MATCH(S32,Calculator!B31:B34,0),0) -> 0 | AA32: =INDEX(Calculator!H31:H34,MATCH(S32,Calculator!B31:B34,0),0) -> 0 | AB32: =INDEX(Calculator!J31:J34,MATCH(S32,Calculator!B31:B34,0),0) -> 0
A33: =A32+2 -> 59 | B33: 30 | C33: C | D33: =Calculator!EB36 -> 46192.75 | H33: =M8 -> Scotland | J33: =IF(OFFSET('Group Stages'!H7,A33-1,0)<>"",OFFSET('Group Stages'!H7,A33-1,0),"") | K33: =IF(OFFSET('Group Stages'!H8,A33-1,0)<>"",OFFSET('Group Stages'!H8,A33-1,0),"") | M33: =M10 -> Morocco | Q33: Gillette Stadium, Boston 🇺🇸
A34: =A33+2 -> 61 | B34: 31 | C34: D | D34: =Calculator!EB37 -> 46192.958 | H34: =M9 -> Türkiye | J34: =IF(OFFSET('Group Stages'!H7,A34-1,0)<>"",OFFSET('Group Stages'!H7,A34-1,0),"") | K34: =IF(OFFSET('Group Stages'!H8,A34-1,0)<>"",OFFSET('Group Stages'!H8,A34-1,0),"") | M34: =M7 -> Paraguay | Q34: Levi’s Stadium, San Francisco 🇺🇸 | S34: =INDEX(Language!A1:K177,MATCH("Group F",Language!B1:B177,0),MATCH(Setup!C5,Language!A1:J1,0)) -> Group F | V34: P | W34: W | X34: D | Y34: L | Z34: F | AA34: A | AB34: Pt
A35: =A34+2 -> 63 | B35: 32 | C35: D | D35: =Calculator!EB38 -> 46192.625 | H35: =H7 -> USA | J35: =IF(OFFSET('Group Stages'!H7,A35-1,0)<>"",OFFSET('Group Stages'!H7,A35-1,0),"") | K35: =IF(OFFSET('Group Stages'!H8,A35-1,0)<>"",OFFSET('Group Stages'!H8,A35-1,0),"") | M35: =H9 -> Australia | Q35: Lumen Field, Seattle 🇺🇸 | S35: 1 | T35: =INDEX(Calculator!C37:C397,MATCH(S35,Calculator!B37:B397,0),0) -> Netherlands | V35: =SUM(W35:Y35) -> 0 | W35: =INDEX(Calculator!D37:D397,MATCH(S35,Calculator!B37:B397,0),0) -> 0 | X35: =INDEX(Calculator!E37:E397,MATCH(S35,Calculator!B37:B397,0),0) -> 0 | Y35: =INDEX(Calculator!F37:F397,MATCH(S35,Calculator!B37:B397,0),0) -> 0 | Z35: =INDEX(Calculator!G37:G397,MATCH(S35,Calculator!B37:B397,0),0) -> 0 | AA35: =INDEX(Calculator!H37:H397,MATCH(S35,Calculator!B37:B397,0),0) -> 0 | AB35: =INDEX(Calculator!J37:J397,MATCH(S35,Calculator!B37:B397,0),0) -> 0
A36: =A35+2 -> 65 | B36: 33 | C36: E | D36: =Calculator!EB39 -> 46193.667 | H36: =H13 -> Germany | J36: =IF(OFFSET('Group Stages'!H7,A36-1,0)<>"",OFFSET('Group Stages'!H7,A36-1,0),"") | K36: =IF(OFFSET('Group Stages'!H8,A36-1,0)<>"",OFFSET('Group Stages'!H8,A36-1,0),"") | M36: =H12 -> Cote D'Voire | Q36: BMO Field, Toronto 🇨🇦 | S36: 2 | T36: =INDEX(Calculator!C37:C397,MATCH(S36,Calculator!B37:B397,0),0) -> Japan | V36: =SUM(W36:Y36) -> 0 | W36: =INDEX(Calculator!D37:D397,MATCH(S36,Calculator!B37:B397,0),0) -> 0 | X36: =INDEX(Calculator!E37:E397,MATCH(S36,Calculator!B37:B397,0),0) -> 0 | Y36: =INDEX(Calculator!F37:F397,MATCH(S36,Calculator!B37:B397,0),0) -> 0 | Z36: =INDEX(Calculator!G37:G397,MATCH(S36,Calculator!B37:B397,0),0) -> 0 | AA36: =INDEX(Calculator!H37:H397,MATCH(S36,Calculator!B37:B397,0),0) -> 0 | AB36: =INDEX(Calculator!J37:J397,MATCH(S36,Calculator!B37:B397,0),0) -> 0
A37: =A36+2 -> 67 | B37: 34 | C37: E | D37: =Calculator!EB40 -> 46193.833 | H37: =M12 -> Ecuador | J37: =IF(OFFSET('Group Stages'!H7,A37-1,0)<>"",OFFSET('Group Stages'!H7,A37-1,0),"") | K37: =IF(OFFSET('Group Stages'!H8,A37-1,0)<>"",OFFSET('Group Stages'!H8,A37-1,0),"") | M37: =M13 -> Curacao | Q37: Arrowhead Stadium, Kansas City 🇺🇸 | S37: 3 | T37: =INDEX(Calculator!C37:C397,MATCH(S37,Calculator!B37:B397,0),0) -> Sweden | V37: =SUM(W37:Y37) -> 0 | W37: =INDEX(Calculator!D37:D397,MATCH(S37,Calculator!B37:B397,0),0) -> 0 | X37: =INDEX(Calculator!E37:E397,MATCH(S37,Calculator!B37:B397,0),0) -> 0 | Y37: =INDEX(Calculator!F37:F397,MATCH(S37,Calculator!B37:B397,0),0) -> 0 | Z37: =INDEX(Calculator!G37:G397,MATCH(S37,Calculator!B37:B397,0),0) -> 0 | AA37: =INDEX(Calculator!H37:H397,MATCH(S37,Calculator!B37:B397,0),0) -> 0 | AB37: =INDEX(Calculator!J37:J397,MATCH(S37,Calculator!B37:B397,0),0) -> 0
A38: =A37+2 -> 69 | B38: 35 | C38: F | D38: =Calculator!EB41 -> 46193.542 | H38: =H14 -> Netherlands | J38: =IF(OFFSET('Group Stages'!H7,A38-1,0)<>"",OFFSET('Group Stages'!H7,A38-1,0),"") | K38: =IF(OFFSET('Group Stages'!H8,A38-1,0)<>"",OFFSET('Group Stages'!H8,A38-1,0),"") | M38: =H15 -> Sweden | Q38: NRG Stadium, Houston 🇺🇸 | S38: 4 | T38: =INDEX(Calculator!C37:C397,MATCH(S38,Calculator!B37:B397,0),0) -> Tunisia | V38: =SUM(W38:Y38) -> 0 | W38: =INDEX(Calculator!D37:D397,MATCH(S38,Calculator!B37:B397,0),0) -> 0 | X38: =INDEX(Calculator!E37:E397,MATCH(S38,Calculator!B37:B397,0),0) -> 0 | Y38: =INDEX(Calculator!F37:F397,MATCH(S38,Calculator!B37:B397,0),0) -> 0 | Z38: =INDEX(Calculator!G37:G397,MATCH(S38,Calculator!B37:B397,0),0) -> 0 | AA38: =INDEX(Calculator!H37:H397,MATCH(S38,Calculator!B37:B397,0),0) -> 0 | AB38: =INDEX(Calculator!J37:J397,MATCH(S38,Calculator!B37:B397,0),0) -> 0
A39: =A38+2 -> 71 | B39: 36 | C39: F | D39: =Calculator!EB42 -> 46193 | H39: =M15 -> Tunisia | J39: =IF(OFFSET('Group Stages'!H7,A39-1,0)<>"",OFFSET('Group Stages'!H7,A39-1,0),"") | K39: =IF(OFFSET('Group Stages'!H8,A39-1,0)<>"",OFFSET('Group Stages'!H8,A39-1,0),"") | M39: =M14 -> Japan | Q39: Estadio BBVA, Monterrey 🇲🇽
A40: =A39+2 -> 73 | B40: 37 | C40: H | D40: =Calculator!EB43 -> 46194.75 | H40: =M16 -> Uruguay | J40: =IF(OFFSET('Group Stages'!H7,A40-1,0)<>"",OFFSET('Group Stages'!H7,A40-1,0),"") | K40: =IF(OFFSET('Group Stages'!H8,A40-1,0)<>"",OFFSET('Group Stages'!H8,A40-1,0),"") | M40: =M17 -> Cabo Verde | Q40: Hard Rock Stadium, Miami 🇺🇸 | S40: =INDEX(Language!A1:K177,MATCH("Group G",Language!B1:B177,0),MATCH(Setup!C5,Language!A1:J1,0)) -> Group G | V40: P | W40: W | X40: D | Y40: L | Z40: F | AA40: A | AB40: Pt
A41: =A40+2 -> 75 | B41: 38 | C41: H | D41: =Calculator!EB44 -> 46194.5 | H41: =H17 -> Spain | J41: =IF(OFFSET('Group Stages'!H7,A41-1,0)<>"",OFFSET('Group Stages'!H7,A41-1,0),"") | K41: =IF(OFFSET('Group Stages'!H8,A41-1,0)<>"",OFFSET('Group Stages'!H8,A41-1,0),"") | M41: =H16 -> Saudi Arabia | Q41: Mercedes-Benz Stadium, Atlanta 🇺🇸 | S41: 1 | T41: =INDEX(Calculator!C43:C46,MATCH(S41,Calculator!B43:B46,0),0) -> Belgium | V41: =SUM(W41:Y41) -> 0 | W41: =INDEX(Calculator!D43:D46,MATCH(S41,Calculator!B43:B46,0),0) -> 0 | X41: =INDEX(Calculator!E43:E46,MATCH(S41,Calculator!B43:B46,0),0) -> 0 | Y41: =INDEX(Calculator!F43:F46,MATCH(S41,Calculator!B43:B46,0),0) -> 0 | Z41: =INDEX(Calculator!G43:G46,MATCH(S41,Calculator!B43:B46,0),0) -> 0 | AA41: =INDEX(Calculator!H43:H46,MATCH(S41,Calculator!B43:B46,0),0) -> 0 | AB41: =INDEX(Calculator!J43:J46,MATCH(S41,Calculator!B43:B46,0),0) -> 0
...

Sheet Knock Out Stages
K1: 1 | L1: 2 | M1: 3 | N1: 4 | O1: 5 | P1: 6 | Q1: 7 | R1: 8 | T1: 1 | U1: 2 | V1: 3 | W1: 4 | X1: 5 | Y1: 6 | Z1: 7 | AA1: 8 | AC1: 1 | AD1: 2 | AE1: 3 | AF1: 4 | AG1: 5 | AH1: 6 | AI1: 7 | AJ1: 8
B3: KNOCK OUT ROUNDS | K3: Goal Scorer | T3: Assist | U3: AVAILABLE IN PAID VERSION | AC3: Goal Minute | AF3: AVAILABLE IN PAID VERSION
H4: FT | I4: PSO | K4: 1st | L4: 2nd | M4: 3rd | N4: 4th | O4: 5th | P4: 6th | Q4: 7th | R4: 8th | T4: 1st | U4: 2nd | V4: 3rd | W4: 4th | X4: 5th | Y4: 6th | Z4: 7th | AA4: 8th | AC4: 1st | AD4: 2nd | AE4: 3rd | AF4: 4th | AG4: 5th | AH4: 6th | AI4: 7th | AJ4: 8th
A7: 1 | B7: R32 | C7: 73 | D7: =E7 -> 46201.625 | E7: =OFFSET(Matches!$D$77,A7-1,0) -> 46201.625 | F7: =OFFSET(Matches!$H$77,A7-1,0) -> ❷ A
A8: 1 | D8: =OFFSET(Matches!$Q$77,A7-1,0) -> SoFi Stadium, Los Angeles 🇺🇸 | F8: =OFFSET(Matches!$M$77,A8-1,0) -> ❷ B
A9: =A7+1 -> 2 | C9: 74 | D9: =E9 -> 46202.688 | E9: =OFFSET(Matches!$D$77,A9-1,0) -> 46202.688 | F9: =OFFSET(Matches!$H$77,A9-1,0) -> ❶ E
A10: =A8+1 -> 2 | D10: =OFFSET(Matches!$Q$77,A9-1,0) -> Gillette Stadium, Boston 🇺🇸 | F10: =OFFSET(Matches!$M$77,A10-1,0) -> ❸ A/B/C/D/F
A11: =A9+1 -> 3 | C11: 75 | D11: =E11 -> 46202.875 | E11: =OFFSET(Matches!$D$77,A11-1,0) -> 46202.875 | F11: =OFFSET(Matches!$H$77,A11-1,0) -> ❶ F
A12: =A10+1 -> 3 | D12: =OFFSET(Matches!$Q$77,A11-1,0) -> Estadio BBVA, Monterrey 🇲🇽 | F12: =OFFSET(Matches!$M$77,A12-1,0) -> ❷ C
A13: =A11+1 -> 4 | C13: 76 | D13: =E13 -> 46202.542 | E13: =OFFSET(Matches!$D$77,A13-1,0) -> 46202.542 | F13: =OFFSET(Matches!$H$77,A13-1,0) -> ❶ C
A14: =A12+1 -> 4 | D14: =OFFSET(Matches!$Q$77,A13-1,0) -> NRG Stadium, Houston 🇺🇸 | F14: =OFFSET(Matches!$M$77,A14-1,0) -> ❷ F
A15: =A13+1 -> 5 | C15: 77 | D15: =E15 -> 46203.708 | E15: =OFFSET(Matches!$D$77,A15-1,0) -> 46203.708 | F15: =OFFSET(Matches!$H$77,A15-1,0) -> ❶ I
A16: =A14+1 -> 5 | D16: =OFFSET(Matches!$Q$77,A15-1,0) -> MetLife Stadium, NY/NJ 🇺🇸 | F16: =OFFSET(Matches!$M$77,A16-1,0) -> ❸ C/D/F/G/H
A17: =A15+1 -> 6 | C17: 78 | D17: =E17 -> 46203.542 | E17: =OFFSET(Matches!$D$77,A17-1,0) -> 46203.542 | F17: =OFFSET(Matches!$H$77,A17-1,0) -> ❷ E
A18: =A16+1 -> 6 | D18: =OFFSET(Matches!$Q$77,A17-1,0) -> AT&T Stadium, Dallas 🇺🇸 | F18: =OFFSET(Matches!$M$77,A18-1,0) -> ❷ I
A19: =A17+1 -> 7 | C19: 79 | D19: =E19 -> 46203.875 | E19: =OFFSET(Matches!$D$77,A19-1,0) -> 46203.875 | F19: =OFFSET(Matches!$H$77,A19-1,0) -> ❶ A
A20: =A18+1 -> 7 | D20: =OFFSET(Matches!$Q$77,A19-1,0) -> Estadio Azteca, Mexico City 🇲🇽 | F20: =OFFSET(Matches!$M$77,A20-1,0) -> ❸ C/E/F/H/I
A21: =A19+1 -> 8 | C21: 80 | D21: =E21 -> 46204.5 | E21: =OFFSET(Matches!$D$77,A21-1,0) -> 46204.5 | F21: =OFFSET(Matches!$H$77,A21-1,0) -> ❶ L
A22: =A20+1 -> 8 | D22: =OFFSET(Matches!$Q$77,A21-1,0) -> Mercedes-Benz Stadium, Atlanta 🇺🇸 | F22: =OFFSET(Matches!$M$77,A22-1,0) -> ❸ E/H/I/J/K
A23: =A21+1 -> 9 | C23: 81 | D23: =E23 -> 46204.833 | E23: =OFFSET(Matches!$D$77,A23-1,0) -> 46204.833 | F23: =OFFSET(Matches!$H$77,A23-1,0) -> ❶ D
A24: =A22+1 -> 9 | D24: =OFFSET(Matches!$Q$77,A23-1,0) -> Levi’s Stadium, San Francisco 🇺🇸 | F24: =OFFSET(Matches!$M$77,A24-1,0) -> ❸ B/E/F/I/J
A25: =A23+1 -> 10 | C25: 82 | D25: =E25 -> 46204.667 | E25: =OFFSET(Matches!$D$77,A25-1,0) -> 46204.667 | F25: =OFFSET(Matches!$H$77,A25-1,0) -> ❶ G
A26: =A24+1 -> 10 | D26: =OFFSET(Matches!$Q$77,A25-1,0) -> Lumen Field, Seattle 🇺🇸 | F26: =OFFSET(Matches!$M$77,A26-1,0) -> ❸ A/E/H/I/J
A27: =A25+1 -> 11 | C27: 83 | D27: =E27 -> 46205.792 | E27: =OFFSET(Matches!$D$77,A27-1,0) -> 46205.792 | F27: =OFFSET(Matches!$H$77,A27-1,0) -> ❷ K
A28: =A26+1 -> 11 | D28: =OFFSET(Matches!$Q$77,A27-1,0) -> BMO Field, Toronto 🇨🇦 | F28: =OFFSET(Matches!$M$77,A28-1,0) -> ❷ L
A29: =A27+1 -> 12 | C29: 84 | D29: =E29 -> 46205.625 | E29: =OFFSET(Matches!$D$77,A29-1,0) -> 46205.625 | F29: =OFFSET(Matches!$H$77,A29-1,0) -> ❶ H
A30: =A28+1 -> 12 | D30: =OFFSET(Matches!$Q$77,A29-1,0) -> SoFi Stadium, Los Angeles 🇺🇸 | F30: =OFFSET(Matches!$M$77,A30-1,0) -> ❷ J
A31: =A29+1 -> 13 | C31: 85 | D31: =E31 -> 46205.958 | E31: =OFFSET(Matches!$D$77,A31-1,0) -> 46205.958 | F31: =OFFSET(Matches!$H$77,A31-1,0) -> ❶ B
A32: =A30+1 -> 13 | D32: =OFFSET(Matches!$Q$77,A31-1,0) -> BC Place, Vancouver 🇨🇦 | F32: =OFFSET(Matches!$M$77,A32-1,0) -> ❸ E/F/G/I/J
A33: =A31+1 -> 14 | C33: 86 | D33: =E33 -> 46206.75 | E33: =OFFSET(Matches!$D$77,A33-1,0) -> 46206.75 | F33: =OFFSET(Matches!$H$77,A33-1,0) -> ❶ J
A34: =A32+1 -> 14 | D34: =OFFSET(Matches!$Q$77,A33-1,0) -> Hard Rock Stadium, Miami 🇺🇸 | F34: =OFFSET(Matches!$M$77,A34-1,0) -> ❷ H
A35: =A33+1 -> 15 | C35: 87 | D35: =E35 -> 46206.896 | E35: =OFFSET(Matches!$D$77,A35-1,0) -> 46206.896 | F35: =OFFSET(Matches!$H$77,A35-1,0) -> ❶ K
A36: =A34+1 -> 15 | D36: =OFFSET(Matches!$Q$77,A35-1,0) -> Arrowhead Stadium, Kansas City 🇺🇸 | F36: =OFFSET(Matches!$M$77,A36-1,0) -> ❸ D/E/I/J/L
A37: =A35+1 -> 16 | C37: 88 | D37: =E37 -> 46206.583 | E37: =OFFSET(Matches!$D$77,A37-1,0) -> 46206.583 | F37: =OFFSET(Matches!$H$77,A37-1,0) -> ❷ D
A38: =A36+1 -> 16 | D38: =OFFSET(Matches!$Q$77,A37-1,0) -> AT&T Stadium, Dallas 🇺🇸 | F38: =OFFSET(Matches!$M$77,A38-1,0) -> ❷ G
A42: 1 | B42: R16 | C42: 89 | D42: =E42 -> 46207.708 | E42: =OFFSET(Matches!$D$93,A42-1,0) -> 46207.708 | F42: =OFFSET(Matches!$H$93,A42-1,0) -> Winner #74
A43: 1 | D43: =OFFSET(Matches!$Q$93,A42-1,0) -> Lincoln Financial Field, Philadelphia 🇺🇸 | F43: =OFFSET(Matches!$M$93,A43-1,0) -> Winner #77
A44: =A42+1 -> 2 | C44: 90 | D44: =E44 -> 46207.542 | E44: =OFFSET(Matches!$D$93,A44-1,0) -> 46207.542 | F44: =OFFSET(Matches!$H$93,A44-1,0) -> Winner #73
A45: =A43+1 -> 2 | D45: =OFFSET(Matches!$Q$93,A44-1,0) -> NRG Stadium, Houston 🇺🇸 | F45: =OFFSET(Matches!$M$93,A45-1,0) -> Winner #75
A46: =A44+1 -> 3 | C46: 91 | D46: =E46 -> 46208.667 | E46: =OFFSET(Matches!$D$93,A46-1,0) -> 46208.667 | F46: =OFFSET(Matches!$H$93,A46-1,0) -> Winner #76
...

Sheet Group Stages
J1: 1 | K1: 2 | L1: 3 | M1: 4 | N1: 5 | O1: 6 | P1: 7 | Q1: 8 | S1: 1 | T1: 2 | U1: 3 | V1: 4 | W1: 5 | X1: 6 | Y1: 7 | Z1: 8 | AB1: 1 | AC1: 2 | AD1: 3 | AE1: 4 | AF1: 5 | AG1: 6 | AH1: 7 | AI1: 8
B3: GROUP STAGES | J3: Goal Scorer | O3: Click here to purchase the Unprotected version | S3: Assist | T3: AVAILABLE IN PAID VERSION | AB3: Goal Minute | AF3: AVAILABLE IN PAID VERSION
B4: Group | C4: Match # | D4: Date | E4: Time | F4: Team | H4: Score | J4: 1st | K4: 2nd | L4: 3rd | M4: 4th | N4: 5th | O4: 6th | P4: 7th | Q4: 8th | S4: 1st | T4: 2nd | U4: 3rd | V4: 4th | W4: 5th | X4: 6th | Y4: 7th | Z4: 8th | AB4: 1st | AC4: 2nd | AD4: 3rd | AE4: 4th | AF4: 5th | AG4: 6th | AH4: 7th | AI4: 8th
A7: 1 | B7: =OFFSET(Matches!$C$4,A7-1,0) -> A | C7: 1 | D7: =E7 -> 46184.625 | E7: =OFFSET(Matches!$D$4,A7-1,0) -> 46184.625 | F7: =OFFSET(Matches!$H$4,A7-1,0) -> Mexico
A8: 1 | D8: =OFFSET(Matches!$Q$4,A7-1,0) -> Estadio Azteca, Mexico City 🇲🇽 | F8: =OFFSET(Matches!$M$4,A8-1,0) -> South Africa
A9: =A7+1 -> 2 | B9: =OFFSET(Matches!$C$4,A9-1,0) -> A | C9: 2 | D9: =E9 -> 46184.917 | E9: =OFFSET(Matches!$D$4,A9-1,0) -> 46184.917 | F9: =OFFSET(Matches!$H$4,A9-1,0) -> Korea Republic
A10: =A8+1 -> 2 | D10: =OFFSET(Matches!$Q$4,A9-1,0) -> Estadio Akron, Guadalajara 🇲🇽 | F10: =OFFSET(Matches!$M$4,A10-1,0) -> Czechia
A11: =A9+1 -> 3 | B11: =OFFSET(Matches!$C$4,A11-1,0) -> B | C11: 3 | D11: =E11 -> 46185.625 | E11: =OFFSET(Matches!$D$4,A11-1,0) -> 46185.625 | F11: =OFFSET(Matches!$H$4,A11-1,0) -> Canada
A12: =A10+1 -> 3 | D12: =OFFSET(Matches!$Q$4,A11-1,0) -> BMO Field, Toronto 🇨🇦 | F12: =OFFSET(Matches!$M$4,A12-1,0) -> Bosnia and Herzegovina
A13: =A11+1 -> 4 | B13: =OFFSET(Matches!$C$4,A13-1,0) -> D | C13: 4 | D13: =E13 -> 46185.875 | E13: =OFFSET(Matches!$D$4,A13-1,0) -> 46185.875 | F13: =OFFSET(Matches!$H$4,A13-1,0) -> USA
A14: =A12+1 -> 4 | D14: =OFFSET(Matches!$Q$4,A13-1,0) -> SoFi Stadium, Los Angeles 🇺🇸 | F14: =OFFSET(Matches!$M$4,A14-1,0) -> Paraguay
A15: =A13+1 -> 5 | B15: =OFFSET(Matches!$C$4,A15-1,0) -> C | C15: 5 | D15: =E15 -> 46186.875 | E15: =OFFSET(Matches!$D$4,A15-1,0) -> 46186.875 | F15: =OFFSET(Matches!$H$4,A15-1,0) -> Haiti
A16: =A14+1 -> 5 | D16: =OFFSET(Matches!$Q$4,A15-1,0) -> Gillette Stadium, Boston 🇺🇸 | F16: =OFFSET(Matches!$M$4,A16-1,0) -> Scotland
A17: =A15+1 -> 6 | B17: =OFFSET(Matches!$C$4,A17-1,0) -> D | C17: 6 | D17: =E17 -> 46187 | E17: =OFFSET(Matches!$D$4,A17-1,0) -> 46187 | F17: =OFFSET(Matches!$H$4,A17-1,0) -> Australia
A18: =A16+1 -> 6 | D18: =OFFSET(Matches!$Q$4,A17-1,0) -> BC Place, Vancouver 🇨🇦 | F18: =OFFSET(Matches!$M$4,A18-1,0) -> Türkiye
A19: =A17+1 -> 7 | B19: =OFFSET(Matches!$C$4,A19-1,0) -> C | C19: 7 | D19: =E19 -> 46186.75 | E19: =OFFSET(Matches!$D$4,A19-1,0) -> 46186.75 | F19: =OFFSET(Matches!$H$4,A19-1,0) -> Brazil
A20: =A18+1 -> 7 | D20: =OFFSET(Matches!$Q$4,A19-1,0) -> MetLife Stadium, NY/NJ 🇺🇸 | F20: =OFFSET(Matches!$M$4,A20-1,0) -> Morocco
A21: =A19+1 -> 8 | B21: =OFFSET(Matches!$C$4,A21-1,0) -> B | C21: 8 | D21: =E21 -> 46186.625 | E21: =OFFSET(Matches!$D$4,A21-1,0) -> 46186.625 | F21: =OFFSET(Matches!$H$4,A21-1,0) -> Qatar
A22: =A20+1 -> 8 | D22: =OFFSET(Matches!$Q$4,A21-1,0) -> Levi’s Stadium, San Francisco 🇺🇸 | F22: =OFFSET(Matches!$M$4,A22-1,0) -> Switzerland
A23: =A21+1 -> 9 | B23: =OFFSET(Matches!$C$4,A23-1,0) -> E | C23: 9 | D23: =E23 -> 46187.792 | E23: =OFFSET(Matches!$D$4,A23-1,0) -> 46187.792 | F23: =OFFSET(Matches!$H$4,A23-1,0) -> Cote D'Voire
A24: =A22+1 -> 9 | D24: =OFFSET(Matches!$Q$4,A23-1,0) -> Lincoln Financial Field, Philadelphia 🇺🇸 | F24: =OFFSET(Matches!$M$4,A24-1,0) -> Ecuador
A25: =A23+1 -> 10 | B25: =OFFSET(Matches!$C$4,A25-1,0) -> E | C25: 10 | D25: =E25 -> 46187.542 | E25: =OFFSET(Matches!$D$4,A25-1,0) -> 46187.542 | F25: =OFFSET(Matches!$H$4,A25-1,0) -> Germany
A26: =A24+1 -> 10 | D26: =OFFSET(Matches!$Q$4,A25-1,0) -> NRG Stadium, Houston 🇺🇸 | F26: =OFFSET(Matches!$M$4,A26-1,0) -> Curacao
A27: =A25+1 -> 11 | B27: =OFFSET(Matches!$C$4,A27-1,0) -> F | C27: 11 | D27: =E27 -> 46187.667 | E27: =OFFSET(Matches!$D$4,A27-1,0) -> 46187.667 | F27: =OFFSET(Matches!$H$4,A27-1,0) -> Netherlands
A28: =A26+1 -> 11 | D28: =OFFSET(Matches!$Q$4,A27-1,0) -> AT&T Stadium, Dallas 🇺🇸 | F28: =OFFSET(Matches!$M$4,A28-1,0) -> Japan
A29: =A27+1 -> 12 | B29: =OFFSET(Matches!$C$4,A29-1,0) -> F | C29: 12 | D29: =E29 -> 46187.917 | E29: =OFFSET(Matches!$D$4,A29-1,0) -> 46187.917 | F29: =OFFSET(Matches!$H$4,A29-1,0) -> Sweden
A30: =A28+1 -> 12 | D30: =OFFSET(Matches!$Q$4,A29-1,0) -> Estadio BBVA, Monterrey 🇲🇽 | F30: =OFFSET(Matches!$M$4,A30-1,0) -> Tunisia
A31: =A29+1 -> 13 | B31: =OFFSET(Matches!$C$4,A31-1,0) -> H | C31: 13 | D31: =E31 -> 46188.75 | E31: =OFFSET(Matches!$D$4,A31-1,0) -> 46188.75 | F31: =OFFSET(Matches!$H$4,A31-1,0) -> Saudi Arabia
A32: =A30+1 -> 13 | D32: =OFFSET(Matches!$Q$4,A31-1,0) -> Hard Rock Stadium, Miami 🇺🇸 | F32: =OFFSET(Matches!$M$4,A32-1,0) -> Uruguay
A33: =A31+1 -> 14 | B33: =OFFSET(Matches!$C$4,A33-1,0) -> H | C33: 14 | D33: =E33 -> 46188.5 | E33: =OFFSET(Matches!$D$4,A33-1,0) -> 46188.5 | F33: =OFFSET(Matches!$H$4,A33-1,0) -> Spain
A34: =A32+1 -> 14 | D34: =OFFSET(Matches!$Q$4,A33-1,0) -> Mercedes-Benz Stadium, Atlanta 🇺🇸 | F34: =OFFSET(Matches!$M$4,A34-1,0) -> Cabo Verde
A35: =A33+1 -> 15 | B35: =OFFSET(Matches!$C$4,A35-1,0) -> G | C35: 15 | D35: =E35 -> 46188.875 | E35: =OFFSET(Matches!$D$4,A35-1,0) -> 46188.875 | F35: =OFFSET(Matches!$H$4,A35-1,0) -> Iran
A36: =A34+1 -> 15 | D36: =OFFSET(Matches!$Q$4,A35-1,0) -> SoFi Stadium, Los Angeles 🇺🇸 | F36: =OFFSET(Matches!$M$4,A36-1,0) -> New Zealand
A37: =A35+1 -> 16 | B37: =OFFSET(Matches!$C$4,A37-1,0) -> G | C37: 16 | D37: =E37 -> 46188.625 | E37: =OFFSET(Matches!$D$4,A37-1,0) -> 46188.625 | F37: =OFFSET(Matches!$H$4,A37-1,0) -> Belgium
A38: =A36+1 -> 16 | D38: =OFFSET(Matches!$Q$4,A37-1,0) -> Lumen Field, Seattle 🇺🇸 | F38: =OFFSET(Matches!$M$4,A38-1,0) -> Egypt
A39: =A37+1 -> 17 | B39: =OFFSET(Matches!$C$4,A39-1,0) -> I | C39: 17 | D39: =E39 -> 46189.625 | E39: =OFFSET(Matches!$D$4,A39-1,0) -> 46189.625 | F39: =OFFSET(Matches!$H$4,A39-1,0) -> France
A40: =A38+1 -> 17 | D40: =OFFSET(Matches!$Q$4,A39-1,0) -> MetLife Stadium, NY/NJ 🇺🇸 | F40: =OFFSET(Matches!$M$4,A40-1,0) -> Senegal
A41: =A39+1 -> 18 | B41: =OFFSET(Matches!$C$4,A41-1,0) -> I | C41: 18 | D41: =E41 -> 46189.75 | E41: =OFFSET(Matches!$D$4,A41-1,0) -> 46189.75 | F41: =OFFSET(Matches!$H$4,A41-1,0) -> Iraq
A42: =A40+1 -> 18 | D42: =OFFSET(Matches!$Q$4,A41-1,0) -> Gillette Stadium, Boston 🇺🇸 | F42: =OFFSET(Matches!$M$4,A42-1,0) -> Norway
A43: =A41+1 -> 19 | B43: =OFFSET(Matches!$C$4,A43-1,0) -> J | C43: 19 | D43: =E43 -> 46189.875 | E43: =OFFSET(Matches!$D$4,A43-1,0) -> 46189.875 | F43: =OFFSET(Matches!$H$4,A43-1,0) -> Argentina
...

Sheet Calculator
AH1: Rule
V2: table rank 1 | AH2: 1 | AI2: 2 | AJ2: 3 | AK2: 5 | AL2: 6 | AM2: 9 | AP2: table rank 2 | BJ2: table rank 3 | CD2: table rank 4 | DA2: =INDEX(Matches!D4:D109,MATCH(105,Matches!B4:B109,0),0) -> 0 | DB2: GS | DC2: GA
D3: W | E3: D | F3: L | G3: GS | H3: GA | I3: Diff | J3: Points | K3: Rank | L3: rankall points | N3: rerank | Q3: rank 1 | R3: rank 2 | S3: rank 3 | T3: rank 4 | V3: Team | W3: W | X3: D | Y3: L | Z3: GS | AA3: GA | AB3: Diff | AC3: P | AD3: Sdif | AE3: SGS | AF3: Koef | AG3: Pts | AH3: R | AI3: GD | AJ3: GS | AK3: Sdiff | AL3: SGS | AM3: Koef | AN3: FR | AP3: Team | AQ3: W | AR3: D | AS3: L | AT3: GS | AU3: GA | AV3: Diff | AW3: P | AX3: Sdif | AY3: SGS | AZ3: Koef | BA3: Pts | BB3: R | BC3: GD | BD3: GS | BE3: Sdiff | BF3: SGS | BG3: Koef | BH3: FR | BJ3: Team | BK3: W | BL3: D | BM3: L | BN3: GS | BO3: GA | BP3: Diff | BQ3: P | BR3: Sdif | BS3: SGS | BT3: Koef | BU3: Pts | BV3: R | BW3: GD | BX3: GS | BY3: Sdif | BZ3: SGS | CA3: Koef | CB3: FR | CD3: Team | CE3: W | CF3: D | CG3: L | CH3: GS | CI3: GA | CJ3: Diff | CK3: P | CL3: Sdif | CM3: SGS | CN3: Koef | CO3: Pts | CP3: R | CQ3: GD | CR3: GS | CS3: Sdif | CT3: SGS | CU3: Koef | CV3: FR | CZ3: 1 | DA3: =Matches!H4 -> Mexico | DB3: =IF(DA2<>"",IF(AND(Matches!J4<>"",Matches!K4<>""),Matches!J4,0),"") -> 0 | DC3: =IF(DA2<>"",IF(AND(Matches!J4<>"",Matches!K4<>""),Matches!K4,0),"") -> 0 | DD3: =Matches!M4 -> South Africa | DE3: =IF(AND(Matches!J4<>"",Matches!K4<>""),IF(DB3>DC3,"W",IF(DB3=DC3,"D","L")),"") | DF3: =IF(DE3<>"",IF(DE3="W","L",IF(DE3="L","W","D")),"")
A4: =Setup!F8+100 -> 116 | B4: =VLOOKUP(C4,CX4:CY8,2,FALSE) -> 1 | C4: =EE7 -> Mexico | D4: =SUMPRODUCT((DA3:DA105=C4)*(DE3:DE105="W"))+SUMPRODUCT((DD3:DD105=C4)*(DF3:DF105="W")) -> 0 | E4: =SUMPRODUCT((DA3:DA105=C4)*(DE3:DE105="D"))+SUMPRODUCT((DD3:DD105=C4)*(DF3:DF105="D")) -> 0 | F4: =SUMPRODUCT((DA3:DA105=C4)*(DE3:DE105="L"))+SUMPRODUCT((DD3:DD105=C4)*(DF3:DF105="L")) -> 0 | G4: =SUMIF(DA3:DA123,C4,DB3:DB123)+SUMIF(DD3:DD123,C4,DC3:DC123) -> 0 | H4: =SUMIF(DD3:DD123,C4,DB3:DB123)+SUMIF(DA3:DA123,C4,DC3:DC123) -> 0 | I4: =G4-H4+1000 -> 1000 | J4: =D4*3+E4*1 -> 0 | K4: =IF(Setup!G8<>"",Setup!G8,-A4) -> -116 | L4: =IF(COUNTIF(J4:J8,4)<>4,RANK(J4,J4:J8),J83) -> 1 | N4: =SUMPRODUCT((L4:L7=L4)*(K4:K7<K4))+L4 -> 4 | O4: =INDEX(C4:C8,MATCH(1,N4:N8,0),0) -> South Africa | P4: =INDEX(L4:L8,MATCH(O4,C4:C8,0),0) -> 1 | Q4: =IF(P5=1,O4,"") -> South Africa | R4: =IF(P6=2,O5,"") | S4: =IF(P7=3,O6,"") | T4: =IF(P8=4,O7,"") | V4: =IF(Q4<>"",Q4,"") -> South Africa | W4: =SUMPRODUCT((DA3:DA105=V4)*(DD3:DD105=V5)*(DE3:DE105="W"))+SUMPRODUCT((DA3:DA105=V4)*(DD3:DD105=V6)*(DE3:DE105="W"))+SUMPRODUCT((DA3:DA105=V4)*(DD3:DD105=V7)*(DE3:DE105="W"))+SUMPRODUCT((DA3:DA105=V4)*(DD3:DD105=V8)*(DE3:DE105="W"))+SUMPRODUCT((DA3:DA105=V5)*(DD3:DD105=V4)*(DF3:DF105="W"))+SUMPRODUCT((DA3:DA105=V6)*(DD3:DD105=V4)*(DF3:DF105="W"))+SUMPRODUCT((DA3:DA105=V7)*(DD3:DD105=V4)*(DF3:DF105="W"))+SUMPRODUCT((DA3:DA105=V8)*(DD3:DD105=V4)*(DF3:DF105="W")) -> 0 | X4: =SUMPRODUCT((DA3:DA105=V4)*(DD3:DD105=V5)*(DE3:DE105="D"))+SUMPRODUCT((DA3:DA105=V4)*(DD3:DD105=V6)*(DE3:DE105="D"))+SUMPRODUCT((DA3:DA105=V4)*(DD3:DD105=V7)*(DE3:DE105="D"))+SUMPRODUCT((DA3:DA105=V4)*(DD3:DD105=V8)*(DE3:DE105="D"))+SUMPRODUCT((DA3:DA105=V5)*(DD3:DD105=V4)*(DE3:DE105="D"))+SUMPRODUCT((DA3:DA105=V6)*(DD3:DD105=V4)*(DE3:DE105="D"))+SUMPRODUCT((DA3:DA105=V7)*(DD3:DD105=V4)*(DE3:DE105="D"))+SUMPRODUCT((DA3:DA105=V8)*(DD3:DD105=V4)*(DE3:DE105="D")) -> 0 | Y4: =SUMPRODUCT((DA3:DA105=V4)*(DD3:DD105=V5)*(DE3:DE105="L"))+SUMPRODUCT((DA3:DA105=V4)*(DD3:DD105=V6)*(DE3:DE105="L"))+SUMPRODUCT((DA3:DA105=V4)*(DD3:DD105=V7)*(DE3:DE105="L"))+SUMPRODUCT((DA3:DA105=V4)*(DD3:DD105=V8)*(DE3:DE105="L"))+SUMPRODUCT((DA3:DA105=V5)*(DD3:DD105=V4)*(DF3:DF105="L"))+SUMPRODUCT((DA3:DA105=V6)*(DD3:DD105=V4)*(DF3:DF105="L"))+SUMPRODUCT((DA3:DA105=V7)*(DD3:DD105=V4)*(DF3:DF105="L"))+SUMPRODUCT((DA3:DA105=V8)*(DD3:DD105=V4)*(DF3:DF105="L")) -> 0 | Z4: =SUMPRODUCT((DA3:DA105=V4)*(DD3:DD105=V5)*DB3:DB105)+SUMPRODUCT((DA3:DA105=V4)*(DD3:DD105=V6)*DB3:DB105)+SUMPRODUCT((DA3:DA105=V4)*(DD3:DD105=V7)*DB3:DB105)+SUMPRODUCT((DA3:DA105=V4)*(DD3:DD105=V8)*DB3:DB105)+SUMPRODUCT((DA3:DA105=V5)*(DD3:DD105=V4)*DC3:DC105)+SUMPRODUCT((DA3:DA105=V6)*(DD3:DD105=V4)*DC3:DC105)+SUMPRODUCT((DA3:DA105=V7)*(DD3:DD105=V4)*DC3:DC105)+SUMPRODUCT((DA3:DA105=V8)*(DD3:DD105=V4)*DC3:DC105) -> 0 | AA4: =SUMPRODUCT((DA3:DA105=V4)*(DD3:DD105=V5)*DC3:DC105)+SUMPRODUCT((DA3:DA105=V4)*(DD3:DD105=V6)*DC3:DC105)+SUMPRODUCT((DA3:DA105=V4)*(DD3:DD105=V7)*DC3:DC105)+SUMPRODUCT((DA3:DA105=V4)*(DD3:DD105=V8)*DC3:DC105)+SUMPRODUCT((DA3:DA105=V5)*(DD3:DD105=V4)*DB3:DB105)+SUMPRODUCT((DA3:DA105=V6)*(DD3:DD105=V4)*DB3:DB105)+SUMPRODUCT((DA3:DA105=V7)*(DD3:DD105=V4)*DB3:DB105)+SUMPRODUCT((DA3:DA105=V8)*(DD3:DD105=V4)*DB3:DB105) -> 0 | AB4: =Z4-AA4+1000 -> 1000 | AC4: =IF(V4<>"",W4*3+X4*1,"") -> 0 | AD4: =IF(V4<>"",VLOOKUP(V4,C4:I52,7,FALSE),"") -> 1000 | AE4: =IF(V4<>"",VLOOKUP(V4,C4:I52,5,FALSE),"") -> 0 | AF4: =IF(V4<>"",VLOOKUP(V4,C4:K52,9,FALSE),"") -> -160 | AG4: =AC4 -> 0 | AH4: =IF(V4<>"",RANK(AG4,AG4:AG8),"") -> 1 | AI4: =IF(V4<>"",SUMPRODUCT((AG4:AG8=AG4)*(AB4:AB8>AB4)),"") -> 0 | AJ4: =IF(V4<>"",SUMPRODUCT((AG4:AG8=AG4)*(AB4:AB8=AB4)*(Z4:Z8>Z4)),"") -> 0 | AK4: =IF(V4<>"",SUMPRODUCT((AG4:AG8=AG4)*(AB4:AB8=AB4)*(Z4:Z8=Z4)*(AD4:AD8>AD4)),"") -> 0 | AL4: =IF(V4<>"",SUMPRODUCT((AG4:AG8=AG4)*(AB4:AB8=AB4)*(Z4:Z8=Z4)*(AD4:AD8=AD4)*(AE4:AE8>AE4)),"") -> 0 | AM4: =IF(V4<>"",SUMPRODUCT((AG4:AG8=AG4)*(AB4:AB8=AB4)*(Z4:Z8=Z4)*(AD4:AD8=AD4)*(AE4:AE8=AE4)*(AF4:AF8>AF4)),"") -> 3 | AN4: =IF(V4<>"",IF(AN83<>"",IF(U82=3,AN83,AN83+U82),SUM(AH4:AM4)),"") -> 4 | AO4: =IF(V4<>"",INDEX(V4:V8,MATCH(1,AN4:AN8,0),0),"") -> Mexico | CX4: =IF(AO4<>"",AO4,O4) -> Mexico | CY4: 1 | CZ4: 2 | DA4: =Matches!H5 -> Korea Republic | DB4: =IF(DA2<>"",IF(AND(Matches!J5<>"",Matches!K5<>""),Matches!J5,0),"") -> 0 | DC4: =IF(DA2<>"",IF(AND(Matches!J5<>"",Matches!K5<>""),Matches!K5,0),"") -> 0 | DD4: =Matches!M5 -> Czechia | DE4: =IF(AND(Matches!J5<>"",Matches!K5<>""),IF(DB4>DC4,"W",IF(DB4=DC4,"D","L")),"") | DF4: =IF(DE4<>"",IF(DE4="W","L",IF(DE4="L","W","D")),"")
