Workbook
Name A1A2: 'Dummy Top Scorer'!$B$3:$B$54
Name A1A3: 'Dummy Top Scorer'!$B$57:$B$108
Name A1A4: 'Dummy Top Scorer'!$B$111:$B$162
Name A2A1: 'Dummy Top Scorer'!$C$3:$C$54
Name A2A3: 'Dummy Top Scorer'!$C$57:$C$108
Name A2A4: 'Dummy Top Scorer'!$C$111:$C$162
Name A3A1: 'Dummy Top Scorer'!$D$3:$D$54
Name A3A2: 'Dummy Top Scorer'!$D$57:$D$108
Name A3A4: 'Dummy Top Scorer'!$D$111:$D$162
Name A4A1: 'Dummy Top Scorer'!$E$3:$E$54
Name A4A2: 'Dummy Top Scorer'!$E$57:$E$108
Name A4A3: 'Dummy Top Scorer'!$E$111:$E$162
Name AC1C2: 'Dummy Top Scorer'!$J$3:$J$54
Name AC1C3: 'Dummy Top Scorer'!$J$57:$J$108
Name AC1C4: 'Dummy Top Scorer'!$J$111:$J$162
Name AC2C1: 'Dummy Top Scorer'!$K$3:$K$54
Name AC2C3: 'Dummy Top Scorer'!$K$57:$K$108
Name AC2C4: 'Dummy Top Scorer'!$K$111:$K$162
Name AC3C1: 'Dummy Top Scorer'!$L$3:$L$54
Name AC3C2: 'Dummy Top Scorer'!$L$57:$L$108
Name AC3C4: 'Dummy Top Scorer'!$L$111:$L$162
Name AC4C1: 'Dummy Top Scorer'!$M$3:$M$54
Name AC4C2: 'Dummy Top Scorer'!$M$57:$M$108
Name AC4C3: 'Dummy Top Scorer'!$M$111:$M$162
Name B1B2: 'Dummy Top Scorer'!$F$3:$F$54
Name B1B3: 'Dummy Top Scorer'!$F$57:$F$108
Name B1B4: 'Dummy Top Scorer'!$F$111:$F$162
Name B2B1: 'Dummy Top Scorer'!$G$3:$G$54
Name B2B3: 'Dummy Top Scorer'!$G$57:$G$108
Name B2B4: 'Dummy Top Scorer'!$G$111:$G$162
Name B3B1: 'Dummy Top Scorer'!$H$3:$H$54
Name B3B2: 'Dummy Top Scorer'!$H$57:$H$108
Name B3B4: 'Dummy Top Scorer'!$H$111:$H$162
Name B4B1: 'Dummy Top Scorer'!$I$3:$I$54
Name B4B2: 'Dummy Top Scorer'!$I$57:$I$108
Name B4B3: 'Dummy Top Scorer'!$I$111:$I$162
Name Babak1: 'Dummy Top Scorer'!$AY$3:$AY$54
Name Babak10: 'Dummy Top Scorer'!$BH$3:$BH$54
Name Babak11: 'Dummy Top Scorer'!$BI$3:$BI$54
Name Babak12: 'Dummy Top Scorer'!$BJ$3:$BJ$54
Name Babak13: 'Dummy Top Scorer'!$BK$3:$BK$54
Name Babak14: 'Dummy Top Scorer'!$BL$3:$BL$54
Name Babak15: 'Dummy Top Scorer'!$BM$3:$BM$54
Name Babak16: 'Dummy Top Scorer'!$BN$3:$BN$54
Name Babak17: 'Dummy Top Scorer'!$BO$3:$BO$54
Name Babak18: 'Dummy Top Scorer'!$BP$3:$BP$54
Name Babak19: 'Dummy Top Scorer'!$BQ$3:$BQ$54
Name Babak2: 'Dummy Top Scorer'!$AZ$3:$AZ$54
Name Babak20: 'Dummy Top Scorer'!$BR$3:$BR$54
Name Babak21: 'Dummy Top Scorer'!$BS$3:$BS$54
Name Babak22: 'Dummy Top Scorer'!$BT$3:$BT$54
Name Babak23: 'Dummy Top Scorer'!$BU$3:$BU$54
Name Babak24: 'Dummy Top Scorer'!$BV$3:$BV$54
Name Babak25: 'Dummy Top Scorer'!$BW$3:$BW$54
Name Babak26: 'Dummy Top Scorer'!$BX$3:$BX$54
Name Babak27: 'Dummy Top Scorer'!$BY$3:$BY$54
Name Babak28: 'Dummy Top Scorer'!$BZ$3:$BZ$54
Name Babak29: 'Dummy Top Scorer'!$CA$3:$CA$54
Name Babak3: 'Dummy Top Scorer'!$BA$3:$BA$54
Name Babak30: 'Dummy Top Scorer'!$CB$3:$CB$54

Sheet Setup
B2: SETUP | C2: Click here to purchase the Unprotected version
B4: Time Difference with New York Time (ET) ► | C4: 0 | D4: Your City Name | K4: ◄ | L4: Select your time preference by adding or subtracting your local time with New York time
B5: Language ► | C5: English | F5: FIFA Rank | G5: Fair Play Points | K5: ◄ | L5: Select your language. There are only 6 translated language. You can translate default English language to your own by typing its translation in column C. YOU NEED TO TRANSLATE ALL TEXTS FROM COLUMN B if you want to use your own translation.
B6: Custom Language Translation Title ► | C6: MY LANGUAGE | L6: Do not forget to select your Custom Language translation title in cell C5 to translate matches worksheet to your language after you filling all translation rows in column C
B7: Original Language (English) | C7: Your Language Translation | D7: Group | K7: ◄ | L7: You may type your city name in cell D6. It will be shown if you change time zone to your timezone in cell Q2 in Matches Tab
A8: 1 | B8: Mexico | D8: A | E8:  | F8: 16 | L8: Do not change or sort country order. It will break country reference formula
A9: 2 | B9: South Africa | D9: A | E9:  | F9: 60 | K9: ◄ | L9: You may need to type FAIR PLAY points if two or more teams in group standings have to go through tie-breaker 8 where their standings is decided by fair play point
A10: 3 | B10: Korea Republic | D10: A | E10:  | F10: 22 | K10: TIE BREAKER REGULATION
A11: 4 | B11: Czechia | D11: A | E11:  | F11: 43 | K11: The ranking of teams in the group stage is determined as follows:
A12: 5 | B12: Canada | D12: B | E12:  | F12: 29 | K12: 1 | L12: Points obtained in all group matches;
A13: 6 | B13: Bosnia and Herzegovina | D13: B | E13:  | F13: 71 | K13: 2 | L13: Points obtained in the matches played between the teams in question;
A14: 7 | B14: Qatar | D14: B | E14:  | F14: 56 | K14: 3 | L14: Goal difference in the matches played between the teams in question;
A15: 8 | B15: Switzerland | D15: B | E15:  | F15: 18 | K15: 4 | L15: Number of goals scored in the matches played between the teams in question;
A16: 9 | B16: Brazil | D16: C | E16:  | F16: 5 | K16: 5 | L16: If, after having applied criteria 1 to 3, teams still have an equal ranking, criteria 2 to 4 are reapplied exclusively to the matches between the teams who are still level to determine their final rankings.[a] If this procedure does not lead to a decision, criteria 6 to 9 will apply;
A17: 10 | B17: Morocco | D17: C | E17:  | F17: 8 | K17: 6 | L17: Goal difference in all group matches;
A18: 11 | B18: Haiti | D18: C | E18:  | F18: 83 | K18: 7 | L18: Number of goals scored in all group matches;
A19: 12 | B19: Scotland | D19: C | E19:  | F19: 38 | K19: 8 | L19: Fair play points in all group matches (only one deduction can be applied to a player or coach in a single match):
A20: 13 | B20: USA | D20: D | E20:  | F20: 15 | L20: > Yellow card: −1 point;
A21: 14 | B21: Paraguay | D21: D | E21:  | F21: 40 | L21: > Indirect red card (second yellow card): −3 points;
A22: 15 | B22: Australia | D22: D | E22:  | F22: 27 | L22: > Direct red card: −4 points;
A23: 16 | B23: Türkiye | D23: D | E23:  | F23: 25 | L23: > Yellow card and direct red card: −5 points;
A24: 17 | B24: Germany | D24: E | E24:  | F24: 10 | K24: 9 | L24: Latest FIFA Ranks
A25: 18 | B25: Curacao | D25: E | E25:  | F25: 81
A26: 19 | B26: Cote D'Voire | D26: E | E26:  | F26: 37
A27: 20 | B27: Ecuador | D27: E | E27:  | F27: 23
A28: 21 | B28: Netherlands | D28: F | E28:  | F28: 7
A29: 22 | B29: Japan | D29: F | E29:  | F29: 19
A30: 23 | B30: Sweden | D30: F | E30:  | F30: 42
A31: 24 | B31: Tunisia | D31: F | E31:  | F31: 47
A32: 25 | B32: Belgium | D32: G | E32:  | F32: 9
A33: 26 | B33: Egypt | D33: G | E33:  | F33: 31
A34: 27 | B34: Iran | D34: G | E34:  | F34: 20
A35: 28 | B35: New Zealand | D35: G | E35:  | F35: 85
A36: 29 | B36: Spain | D36: H | E36:  | F36: 1
... A55: 48 | B55: Panama | D55: L | E55:  | F55: 33
B56: Language
B57: Timezone
B58: Group Stages
B59: Matches
B60: Standings
B61: Group
B62: Date
B63: Country
B64: Score
B65: Time
B66: Round of 32
B67: Round of 16
... B176: World Cup 2026 Third Place

Sheet Matches
B2: =UPPER(INDEX(WCTranslation,MATCH("World Cup 2026 Fixtures",WCTransRef,0),MATCH(Setup!C5,WCLanguageRef,0))) -> WORLD CUP 2026 FIXTURES | Q2: =IF(WCTImeZoneData<>0,IF(Setup!D6<>"",Setup!D6&" TIME",""),"NEW YORK TIME ") -> NEW YORK TIME
B3: =INDEX(WCTranslation,MATCH("Match #",WCTransRef,0),MATCH(Setup!C5,WCLanguageRef,0)) -> Match # | D3: =INDEX(WCTranslation,MATCH("Time",WCTransRef,0),MATCH(Setup!C5,WCLanguageRef,0)) -> Time | H3: =INDEX(WCTranslation,MATCH("Country",WCTransRef,0),MATCH(Setup!C5,WCLanguageRef,0)) -> Country | J3: =INDEX(WCTranslation,MATCH("Score",WCTransRef,0),MATCH(Setup!C5,WCLanguageRef,0)) -> Score | M3: =INDEX(WCTranslation,MATCH("Country",WCTransRef,0),MATCH(Setup!C5,WCLanguageRef,0)) -> Country | Q3: =INDEX(WCTranslation,MATCH("Venue",WCTransRef,0),MATCH(Setup!C5,WCLanguageRef,0)) -> Venue | S3: =INDEX(Language!A1:H172,MATCH("Standings",Language!B1:B182,0),MATCH(Setup!C5,Language!A1:G1,0)) -> Standings | AF3: Notes :
A4: 1 | B4: 1 | C4: A | D4: =Calculator!EB7 -> 46184.625 | H4: =INDEX(Language!A1:K177,MATCH(Setup!B8,Language!B1:B177,0),MATCH(Setup!C5,Language!A1:J1,0)) -> Mexico | J4: =IF(OFFSET('Group Stages'!H7,A4-1,0)<>"",OFFSET('Group Stages'!H7,A4-1,0),"") | K4: =IF(OFFSET('Group Stages'!H8,A4-1,0)<>"",OFFSET('Group Stages'!H8,A4-1,0),"") | M4: =INDEX(Language!A1:K177,MATCH(Setup!B9,Language!B1:B177,0),MATCH(Setup!C5,Language!A1:J1,0)) -> South Africa | Q4: Estadio Azteca, Mexico City 🇲🇽 | S4: =INDEX(Language!A1:K177,MATCH("Group A",Language!B1:B177,0),MATCH(Setup!C5,Language!A1:J1,0)) -> Group A | V4: P | W4: W | X4: D | Y4: L | Z4: F | AA4: A | AB4: Pt | AF4: GROUP MATCHES ARE SORTED BY MATCH NUMBER
A5: =A4+2 -> 3 | B5: 2 | C5: A | D5: =Calculator!EB8 -> 46184.917 | H5: =INDEX(Language!A1:K177,MATCH(Setup!B10,Language!B1:B177,0),MATCH(Setup!C5,Language!A1:J1,0)) -> Korea Republic | J5: =IF(OFFSET('Group Stages'!H7,A5-1,0)<>"",OFFSET('Group Stages'!H7,A5-1,0),"") | K5: =IF(OFFSET('Group Stages'!H8,A5-1,0)<>"",OFFSET('Group Stages'!H8,A5-1,0),"") | M5: =INDEX(Language!A1:K177,MATCH(Setup!B11,Language!B1:B177,0),MATCH(Setup!C5,Language!A1:J1,0)) -> Czechia | Q5: Estadio Akron, Guadalajara 🇲🇽 | S5: 1 | T5: =INDEX(Calculator!C4:C7,MATCH(S5,Calculator!B4:B7,0),0) -> Mexico | V5: =SUM(W5:Y5) -> 0 | W5: =INDEX(Calculator!D4:D7,MATCH(S5,Calculator!B4:B7,0),0) -> 0 | X5: =INDEX(Calculator!E4:E7,MATCH(S5,Calculator!B4:B7,0),0) -> 0 | Y5: =INDEX(Calculator!F4:F7,MATCH(S5,Calculator!B4:B7,0),0) -> 0 | Z5: =INDEX(Calculator!G4:G7,MATCH(S5,Calculator!B4:B7,0),0) -> 0 | AA5: =INDEX(Calculator!H4:H7,MATCH(S5,Calculator!B4:B7,0),0) -> 0 | AB5: =INDEX(Calculator!J4:J7,MATCH(S5,Calculator!B4:B7,0),0) -> 0
A6: =A5+2 -> 5 | B6: 3 | C6: B | D6: =Calculator!EB9 -> 46185.625 | H6: =INDEX(Language!A1:K177,MATCH(Setup!B12,Language!B1:B177,0),MATCH(Setup!C5,Language!A1:J1,0)) -> Canada | J6: =IF(OFFSET('Group Stages'!H7,A6-1,0)<>"",OFFSET('Group Stages'!H7,A6-1,0),"") | K6: =IF(OFFSET('Group Stages'!H8,A6-1,0)<>"",OFFSET('Group Stages'!H8,A6-1,0),"") | M6: =INDEX(Language!A1:K177,MATCH(Setup!B13,Language!B1:B177,0),MATCH(Setup!C5,Language!A1:J1,0)) -> Bosnia and Herzegovina | Q6: BMO Field, Toronto 🇨🇦 | S6: 2 | T6: =INDEX(Calculator!C4:C7,MATCH(S6,Calculator!B4:B7,0),0) -> Korea Republic | V6: =SUM(W6:Y6) -> 0 | W6: =INDEX(Calculator!D4:D7,MATCH(S6,Calculator!B4:B7,0),0) -> 0 | X6: =INDEX(Calculator!E4:E7,MATCH(S6,Calculator!B4:B7,0),0) -> 0 | Y6: =INDEX(Calculator!F4:F7,MATCH(S6,Calculator!B4:B7,0),0) -> 0 | Z6: =INDEX(Calculator!G4:G7,MATCH(S6,Calculator!B4:B7,0),0) -> 0 | AA6: =INDEX(Calculator!H4:H7,MATCH(S6,Calculator!B4:B7,0),0) -> 0 | AB6: =INDEX(Calculator!J4:J7,MATCH(S6,Calculator!B4:B7,0),0) -> 0
A7: =A6+2 -> 7 | B7: 4 | C7: D | D7: =Calculator!EB10 -> 46185.875 | H7: =INDEX(Language!A1:K177,MATCH(Setup!B20,Language!B1:B177,0),MATCH(Setup!C5,Language!A1:J1,0)) -> USA | J7: =IF(OFFSET('Group Stages'!H7,A7-1,0)<>"",OFFSET('Group Stages'!H7,A7-1,0),"") | K7: =IF(OFFSET('Group Stages'!H8,A7-1,0)<>"",OFFSET('Group Stages'!H8,A7-1,0),"") | M7: =INDEX(Language!A1:K177,MATCH(Setup!B21,Language!B1:B177,0),MATCH(Setup!C5,Language!A1:J1,0)) -> Paraguay | Q7: SoFi Stadium, Los Angeles 🇺🇸 | S7: 3 | T7: =INDEX(Calculator!C4:C7,MATCH(S7,Calculator!B4:B7,0),0) -> Czechia | V7: =SUM(W7:Y7) -> 0 | W7: =INDEX(Calculator!D4:D7,MATCH(S7,Calculator!B4:B7,0),0) -> 0 | X7: =INDEX(Calculator!E4:E7,MATCH(S7,Calculator!B4:B7,0),0) -> 0 | Y7: =INDEX(Calculator!F4:F7,MATCH(S7,Calculator!B4:B7,0),0) -> 0 | Z7: =INDEX(Calculator!G4:G7,MATCH(S7,Calculator!B4:B7,0),0) -> 0 | AA7: =INDEX(Calculator!H4:H7,MATCH(S7,Calculator!B4:B7,0),0) -> 0 | AB7: =INDEX(Calculator!J4:J7,MATCH(S7,Calculator!B4:B7,0),0) -> 0 | AF7: ● | AG7: Fill full time scores in column J and K
A8: =A7+2 -> 9 | B8: 5 | C8: C | D8: =Calculator!EB11 -> 46186.875 | H8: =INDEX(Language!A1:K177,MATCH(Setup!B18,Language!B1:B177,0),MATCH(Setup!C5,Language!A1:J1,0)) -> Haiti | J8: =IF(OFFSET('Group Stages'!H7,A8-1,0)<>"",OFFSET('Group Stages'!H7,A8-1,0),"") | K8: =IF(OFFSET('Group Stages'!H8,A8-1,0)<>"",OFFSET('Group Stages'!H8,A8-1,0),"") | M8: =INDEX(Language!A1:K177,MATCH(Setup!B19,Language!B1:B177,0),MATCH(Setup!C5,Language!A1:J1,0)) -> Scotland | Q8: Gillette Stadium, Boston 🇺🇸 | S8: 4 | T8: =INDEX(Calculator!C4:C7,MATCH(S8,Calculator!B4:B7,0),0) -> South Africa | V8: =SUM(W8:Y8) -> 0 | W8: =INDEX(Calculator!D4:D7,MATCH(S8,Calculator!B4:B7,0),0) -> 0 | X8: =INDEX(Calculator!E4:E7,MATCH(S8,Calculator!B4:B7,0),0) -> 0 | Y8: =INDEX(Calculator!F4:F7,MATCH(S8,Calculator!B4:B7,0),0) -> 0 | Z8: =INDEX(Calculator!G4:G7,MATCH(S8,Calculator!B4:B7,0),0) -> 0 | AA8: =INDEX(Calculator!H4:H7,MATCH(S8,Calculator!B4:B7,0),0) -> 0 | AB8: =INDEX(Calculator!J4:J7,MATCH(S8,Calculator!B4:B7,0),0) -> 0 | AF8: ● | AG8: Fill penalty shoot out scores in KO rounds in columns at the right of Full Time scores columns
A9: =A8+2 -> 11 | B9: 6 | C9: D | D9: =Calculator!EB12 -> 46187 | H9: =INDEX(Language!A1:K177,MATCH(Setup!B22,Language!B1:B177,0),MATCH(Setup!C5,Language!A1:J1,0)) -> Australia | J9: =IF(OFFSET('Group Stages'!H7,A9-1,0)<>"",OFFSET('Group Stages'!H7,A9-1,0),"") | K9: =IF(OFFSET('Group Stages'!H8,A9-1,0)<>"",OFFSET('Group Stages'!H8,A9-1,0),"") | M9: =INDEX(Language!A1:K177,MATCH(Setup!B23,Language!B1:B177,0),MATCH(Setup!C5,Language!A1:J1,0)) -> Türkiye | Q9: BC Place, Vancouver 🇨🇦 | AF9: ● | AG9: Group standings will be calculated automatically based on official FIFA Club World Cup Tie Breaker regulation
A10: =A9+2 -> 13 | B10: 7 | C10: C | D10: =Calculator!EB13 -> 46186.75 | H10: =INDEX(Language!A1:K177,MATCH(Setup!B16,Language!B1:B177,0),MATCH(Setup!C5,Language!A1:J1,0)) -> Brazil | J10: =IF(OFFSET('Group Stages'!H7,A10-1,0)<>"",OFFSET('Group Stages'!H7,A10-1,0),"") | K10: =IF(OFFSET('Group Stages'!H8,A10-1,0)<>"",OFFSET('Group Stages'!H8,A10-1,0),"") | M10: =INDEX(Language!A1:K177,MATCH(Setup!B17,Language!B1:B177,0),MATCH(Setup!C5,Language!A1:J1,0)) -> Morocco | Q10: MetLife Stadium, NY/NJ 🇺🇸 | S10: =INDEX(Language!A1:K177,MATCH("Group B",Language!B1:B177,0),MATCH(Setup!C5,Language!A1:J1,0)) -> Group B | V10: P | W10: W | X10: D | Y10: L | Z10: F | AA10: A | AB10: Pt | AF10: ● | AG10: Pairing teams in Knock Out rounds will be placed automatically
A11: =A10+2 -> 15 | B11: 8 | C11: B | D11: =Calculator!EB14 -> 46186.625 | H11: =INDEX(Language!A1:K177,MATCH(Setup!B14,Language!B1:B177,0),MATCH(Setup!C5,Language!A1:J1,0)) -> Qatar | J11: =IF(OFFSET('Group Stages'!H7,A11-1,0)<>"",OFFSET('Group Stages'!H7,A11-1,0),"") | K11: =IF(OFFSET('Group Stages'!H8,A11-1,0)<>"",OFFSET('Group Stages'!H8,A11-1,0),"") | M11: =INDEX(Language!A1:K177,MATCH(Setup!B15,Language!B1:B177,0),MATCH(Setup!C5,Language!A1:J1,0)) -> Switzerland | Q11: Levi’s Stadium, San Francisco 🇺🇸 | S11: 1 | T11: =INDEX(Calculator!C11:C14,MATCH(S11,Calculator!B11:B14,0),0) -> Switzerland | V11: =SUM(W11:Y11) -> 0 | W11: =INDEX(Calculator!D11:D14,MATCH(S11,Calculator!B11:B14,0),0) -> 0 | X11: =INDEX(Calculator!E11:E14,MATCH(S11,Calculator!B11:B14,0),0) -> 0 | Y11: =INDEX(Calculator!F11:F14,MATCH(S11,Calculator!B11:B14,0),0) -> 0 | Z11: =INDEX(Calculator!G11:G14,MATCH(S11,Calculator!B11:B14,0),0) -> 0 | AA11: =INDEX(Calculator!H11:H14,MATCH(S11,Calculator!B11:B14,0),0) -> 0 | AB11: =INDEX(Calculator!J11:J14,MATCH(S11,Calculator!B11:B14,0),0) -> 0 | AF11: Color meaning :
A12: =A11+2 -> 17 | B12: 9 | C12: E | D12: =Calculator!EB15 -> 46187.792 | H12: =INDEX(Language!A1:K177,MATCH(Setup!B26,Language!B1:B177,0),MATCH(Setup!C5,Language!A1:J1,0)) -> Cote D'Voire | J12: =IF(OFFSET('Group Stages'!H7,A12-1,0)<>"",OFFSET('Group Stages'!H7,A12-1,0),"") | K12: =IF(OFFSET('Group Stages'!H8,A12-1,0)<>"",OFFSET('Group Stages'!H8,A12-1,0),"") | M12: =INDEX(Language!A1:K177,MATCH(Setup!B27,Language!B1:B177,0),MATCH(Setup!C5,Language!A1:J1,0)) -> Ecuador | Q12: Lincoln Financial Field, Philadelphia 🇺🇸 | S12: 2 | T12: =INDEX(Calculator!C11:C14,MATCH(S12,Calculator!B11:B14,0),0) -> Canada | V12: =SUM(W12:Y12) -> 0 | W12: =INDEX(Calculator!D11:D14,MATCH(S12,Calculator!B11:B14,0),0) -> 0 | X12: =INDEX(Calculator!E11:E14,MATCH(S12,Calculator!B11:B14,0),0) -> 0 | Y12: =INDEX(Calculator!F11:F14,MATCH(S12,Calculator!B11:B14,0),0) -> 0 | Z12: =INDEX(Calculator!G11:G14,MATCH(S12,Calculator!B11:B14,0),0) -> 0 | AA12: =INDEX(Calculator!H11:H14,MATCH(S12,Calculator!B11:B14,0),0) -> 0 | AB12: =INDEX(Calculator!J11:J14,MATCH(S12,Calculator!B11:B14,0),0) -> 0 | AG12: Team Name | AI12: Won in Group Stages
A13: =A12+2 -> 19 | B13: 10 | C13: E | D13: =Calculator!EB16 -> 46187.542 | H13: =INDEX(Language!A1:K177,MATCH(Setup!B24,Language!B1:B177,0),MATCH(Setup!C5,Language!A1:J1,0)) -> Germany | J13: =IF(OFFSET('Group Stages'!H7,A13-1,0)<>"",OFFSET('Group Stages'!H7,A13-1,0),"") | K13: =IF(OFFSET('Group Stages'!H8,A13-1,0)<>"",OFFSET('Group Stages'!H8,A13-1,0),"") | M13: =INDEX(Language!A1:K177,MATCH(Setup!B25,Language!B1:B177,0),MATCH(Setup!C5,Language!A1:J1,0)) -> Curacao | Q13: NRG Stadium, Houston 🇺🇸 | S13: 3 | T13: =INDEX(Calculator!C11:C14,MATCH(S13,Calculator!B11:B14,0),0) -> Qatar | V13: =SUM(W13:Y13) -> 0 | W13: =INDEX(Calculator!D11:D14,MATCH(S13,Calculator!B11:B14,0),0) -> 0 | X13: =INDEX(Calculator!E11:E14,MATCH(S13,Calculator!B11:B14,0),0) -> 0 | Y13: =INDEX(Calculator!F11:F14,MATCH(S13,Calculator!B11:B14,0),0) -> 0 | Z13: =INDEX(Calculator!G11:G14,MATCH(S13,Calculator!B11:B14,0),0) -> 0 | AA13: =INDEX(Calculator!H11:H14,MATCH(S13,Calculator!B11:B14,0),0) -> 0 | AB13: =INDEX(Calculator!J11:J14,MATCH(S13,Calculator!B11:B14,0),0) -> 0 | AG13: Team Name | AI13: Won by KO Rounds
A14: =A13+2 -> 21 | B14: 11 | C14: F | D14: =Calculator!EB17 -> 46187.667 | H14: =INDEX(Language!A1:K177,MATCH(Setup!B28,Language!B1:B177,0),MATCH(Setup!C5,Language!A1:J1,0)) -> Netherlands | J14: =IF(OFFSET('Group Stages'!H7,A14-1,0)<>"",OFFSET('Group Stages'!H7,A14-1,0),"") | K14: =IF(OFFSET('Group Stages'!H8,A14-1,0)<>"",OFFSET('Group Stages'!H8,A14-1,0),"") | M14: =INDEX(Language!A1:K177,MATCH(Setup!B29,Language!B1:B177,0),MATCH(Setup!C5,Language!A1:J1,0)) -> Japan | Q14: AT&T Stadium, Dallas 🇺🇸 | S14: 4 | T14: =INDEX(Calculator!C11:C14,MATCH(S14,Calculator!B11:B14,0),0) -> Bosnia and Herzegovina | V14: =SUM(W14:Y14) -> 0 | W14: =INDEX(Calculator!D11:D14,MATCH(S14,Calculator!B11:B14,0),0) -> 0 | X14: =INDEX(Calculator!E11:E14,MATCH(S14,Calculator!B11:B14,0),0) -> 0 | Y14: =INDEX(Calculator!F11:F14,MATCH(S14,Calculator!B11:B14,0),0) -> 0 | Z14: =INDEX(Calculator!G11:G14,MATCH(S14,Calculator!B11:B14,0),0) -> 0 | AA14: =INDEX(Calculator!H11:H14,MATCH(S14,Calculator!B11:B14,0),0) -> 0 | AB14: =INDEX(Calculator!J11:J14,MATCH(S14,Calculator!B11:B14,0),0) -> 0 | AG14: Team Name | AI14: Lose in Group and KO Stages
A15: =A14+2 -> 23 | B15: 12 | C15: F | D15: =Calculator!EB18 -> 46187.917 | H15: =INDEX(Language!A1:K177,MATCH(Setup!B30,Language!B1:B177,0),MATCH(Setup!C5,Language!A1:J1,0)) -> Sweden | J15: =IF(OFFSET('Group Stages'!H7,A15-1,0)<>"",OFFSET('Group Stages'!H7,A15-1,0),"") | K15: =IF(OFFSET('Group Stages'!H8,A15-1,0)<>"",OFFSET('Group Stages'!H8,A15-1,0),"") | M15: =INDEX(Language!A1:K177,MATCH(Setup!B31,Language!B1:B177,0),MATCH(Setup!C5,Language!A1:J1,0)) -> Tunisia | Q15: Estadio BBVA, Monterrey 🇲🇽
A16: =A15+2 -> 25 | B16: 13 | C16: H | D16: =Calculator!EB19 -> 46188.75 | H16: =INDEX(Language!A1:K177,MATCH(Setup!B38,Language!B1:B177,0),MATCH(Setup!C5,Language!A1:J1,0)) -> Saudi Arabia | J16: =IF(OFFSET('Group Stages'!H7,A16-1,0)<>"",OFFSET('Group Stages'!H7,A16-1,0),"") | K16: =IF(OFFSET('Group Stages'!H8,A16-1,0)<>"",OFFSET('Group Stages'!H8,A16-1,0),"") | M16: =INDEX(Language!A1:K177,MATCH(Setup!B39,Language!B1:B177,0),MATCH(Setup!C5,Language!A1:J1,0)) -> Uruguay | Q16: Hard Rock Stadium, Miami 🇺🇸 | S16: =INDEX(Language!A1:K177,MATCH("Group C",Language!B1:B177,0),MATCH(Setup!C5,Language!A1:J1,0)) -> Group C | V16: P | W16: W | X16: D | Y16: L | Z16: F | AA16: A | AB16: Pt
A17: =A16+2 -> 27 | B17: 14 | C17: H | D17: =Calculator!EB20 -> 46188.5 | H17: =INDEX(Language!A1:K177,MATCH(Setup!B36,Language!B1:B177,0),MATCH(Setup!C5,Language!A1:J1,0)) -> Spain | J17: =IF(OFFSET('Group Stages'!H7,A17-1,0)<>"",OFFSET('Group Stages'!H7,A17-1,0),"") | K17: =IF(OFFSET('Group Stages'!H8,A17-1,0)<>"",OFFSET('Group Stages'!H8,A17-1,0),"") | M17: =INDEX(Language!A1:K177,MATCH(Setup!B37,Language!B1:B177,0),MATCH(Setup!C5,Language!A1:J1,0)) -> Cabo Verde | Q17: Mercedes-Benz Stadium, Atlanta 🇺🇸 | S17: 1 | T17: =INDEX(Calculator!C18:C21,MATCH(S17,Calculator!B18:B21,0),0) -> Brazil | V17: =SUM(W17:Y17) -> 0 | W17: =INDEX(Calculator!D18:D21,MATCH(S17,Calculator!B18:B21,0),0) -> 0 | X17: =INDEX(Calculator!E18:E21,MATCH(S17,Calculator!B18:B21,0),0) -> 0 | Y17: =INDEX(Calculator!F18:F21,MATCH(S17,Calculator!B18:B21,0),0) -> 0 | Z17: =INDEX(Calculator!G18:G21,MATCH(S17,Calculator!B18:B21,0),0) -> 0 | AA17: =INDEX(Calculator!H18:H21,MATCH(S17,Calculator!B18:B21,0),0) -> 0 | AB17: =INDEX(Calculator!J18:J21,MATCH(S17,Calculator!B18:B21,0),0) -> 0
A18: =A17+2 -> 29 | B18: 15 | C18: G | D18: =Calculator!EB21 -> 46188.875 | H18: =INDEX(Language!A1:K177,MATCH(Setup!B34,Language!B1:B177,0),MATCH(Setup!C5,Language!A1:J1,0)) -> Iran | J18: =IF(OFFSET('Group Stages'!H7,A18-1,0)<>"",OFFSET('Group Stages'!H7,A18-1,0),"") | K18: =IF(OFFSET('Group Stages'!H8,A18-1,0)<>"",OFFSET('Group Stages'!H8,A18-1,0),"") | M18: =INDEX(Language!A1:K177,MATCH(Setup!B35,Language!B1:B177,0),MATCH(Setup!C5,Language!A1:J1,0)) -> New Zealand | Q18: SoFi Stadium, Los Angeles 🇺🇸 | S18: 2 | T18: =INDEX(Calculator!C18:C21,MATCH(S18,Calculator!B18:B21,0),0) -> Morocco | V18: =SUM(W18:Y18) -> 0 | W18: =INDEX(Calculator!D18:D21,MATCH(S18,Calculator!B18:B21,0),0) -> 0 | X18: =INDEX(Calculator!E18:E21,MATCH(S18,Calculator!B18:B21,0),0) -> 0 | Y18: =INDEX(Calculator!F18:F21,MATCH(S18,Calculator!B18:B21,0),0) -> 0 | Z18: =INDEX(Calculator!G18:G21,MATCH(S18,Calculator!B18:B21,0),0) -> 0 | AA18: =INDEX(Calculator!H18:H21,MATCH(S18,Calculator!B18:B21,0),0) -> 0 | AB18: =INDEX(Calculator!J18:J21,MATCH(S18,Calculator!B18:B21,0),0) -> 0
A19: =A18+2 -> 31 | B19: 16 | C19: G | D19: =Calculator!EB22 -> 46188.625 | H19: =INDEX(Language!A1:K177,MATCH(Setup!B32,Language!B1:B177,0),MATCH(Setup!C5,Language!A1:J1,0)) -> Belgium | J19: =IF(OFFSET('Group Stages'!H7,A19-1,0)<>"",OFFSET('Group Stages'!H7,A19-1,0),"") | K19: =IF(OFFSET('Group Stages'!H8,A19-1,0)<>"",OFFSET('Group Stages'!H8,A19-1,0),"") | M19: =INDEX(Language!A1:K177,MATCH(Setup!B33,Language!B1:B177,0),MATCH(Setup!C5,Language!A1:J1,0)) -> Egypt | Q19: Lumen Field, Seattle 🇺🇸 | S19: 3 | T19: =INDEX(Calculator!C18:C21,MATCH(S19,Calculator!B18:B21,0),0) -> Scotland | V19: =SUM(W19:Y19) -> 0 | W19: =INDEX(Calculator!D18:D21,MATCH(S19,Calculator!B18:B21,0),0) -> 0 | X19: =INDEX(Calculator!E18:E21,MATCH(S19,Calculator!B18:B21,0),0) -> 0 | Y19: =INDEX(Calculator!F18:F21,MATCH(S19,Calculator!B18:B21,0),0) -> 0 | Z19: =INDEX(Calculator!G18:G21,MATCH(S19,Calculator!B18:B21,0),0) -> 0 | AA19: =INDEX(Calculator!H18:H21,MATCH(S19,Calculator!B18:B21,0),0) -> 0 | AB19: =INDEX(Calculator!J18:J21,MATCH(S19,Calculator!B18:B21,0),0) -> 0
A20: =A19+2 -> 33 | B20: 17 | C20: I | D20: =Calculator!EB23 -> 46189.625 | H20: =INDEX(Language!A1:K177,MATCH(Setup!B40,Language!B1:B177,0),MATCH(Setup!C5,Language!A1:J1,0)) -> France | J20: =IF(OFFSET('Group Stages'!H7,A20-1,0)<>"",OFFSET('Group Stages'!H7,A20-1,0),"") | K20: =IF(OFFSET('Group Stages'!H8,A20-1,0)<>"",OFFSET('Group Stages'!H8,A20-1,0),"") | M20: =INDEX(Language!A1:K177,MATCH(Setup!B41,Language!B1:B177,0),MATCH(Setup!C5,Language!A1:J1,0)) -> Senegal | Q20: MetLife Stadium, NY/NJ 🇺🇸 | S20: 4 | T20: =INDEX(Calculator!C18:C21,MATCH(S20,Calculator!B18:B21,0),0) -> Haiti | V20: =SUM(W20:Y20) -> 0 | W20: =INDEX(Calculator!D18:D21,MATCH(S20,Calculator!B18:B21,0),0) -> 0 | X20: =INDEX(Calculator!E18:E21,MATCH(S20,Calculator!B18:B21,0),0) -> 0 | Y20: =INDEX(Calculator!F18:F21,MATCH(S20,Calculator!B18:B21,0),0) -> 0 | Z20: =INDEX(Calculator!G18:G21,MATCH(S20,Calculator!B18:B21,0),0) -> 0 | AA20: =INDEX(Calculator!H18:H21,MATCH(S20,Calculator!B18:B21,0),0) -> 0 | AB20: =INDEX(Calculator!J18:J21,MATCH(S20,Calculator!B18:B21,0),0) -> 0
A21: =A20+2 -> 35 | B21: 18 | C21: I | D21: =Calculator!EB24 -> 46189.75 | H21: =INDEX(Language!A1:K177,MATCH(Setup!B42,Language!B1:B177,0),MATCH(Setup!C5,Language!A1:J1,0)) -> Iraq | J21: =IF(OFFSET('Group Stages'!H7,A21-1,0)<>"",OFFSET('Group Stages'!H7,A21-1,0),"") | K21: =IF(OFFSET('Group Stages'!H8,A21-1,0)<>"",OFFSET('Group Stages'!H8,A21-1,0),"") | M21: =INDEX(Language!A1:K177,MATCH(Setup!B43,Language!B1:B177,0),MATCH(Setup!C5,Language!A1:J1,0)) -> Norway | Q21: Gillette Stadium, Boston 🇺🇸
A22: =A21+2 -> 37 | B22: 19 | C22: J | D22: =Calculator!EB25 -> 46189.875 | H22: =INDEX(Language!A1:K177,MATCH(Setup!B44,Language!B1:B177,0),MATCH(Setup!C5,Language!A1:J1,0)) -> Argentina | J22: =IF(OFFSET('Group Stages'!H7,A22-1,0)<>"",OFFSET('Group Stages'!H7,A22-1,0),"") | K22: =IF(OFFSET('Group Stages'!H8,A22-1,0)<>"",OFFSET('Group Stages'!H8,A22-1,0),"") | M22: =INDEX(Language!A1:K177,MATCH(Setup!B45,Language!B1:B177,0),MATCH(Setup!C5,Language!A1:J1,0)) -> Algeria | Q22: Arrowhead Stadium, Kansas City 🇺🇸 | S22: =INDEX(Language!A1:K177,MATCH("Group D",Language!B1:B177,0),MATCH(Setup!C5,Language!A1:J1,0)) -> Group D | V22: P | W22: W | X22: D | Y22: L | Z22: F | AA22: A | AB22: Pt
A23: =A22+2 -> 39 | B23: 20 | C23: J | D23: =Calculator!EB26 -> 46189 | H23: =INDEX(Language!A1:K177,MATCH(Setup!B46,Language!B1:B177,0),MATCH(Setup!C5,Language!A1:J1,0)) -> Austria | J23: =IF(OFFSET('Group Stages'!H7,A23-1,0)<>"",OFFSET('Group Stages'!H7,A23-1,0),"") | K23: =IF(OFFSET('Group Stages'!H8,A23-1,0)<>"",OFFSET('Group Stages'!H8,A23-1,0),"") | M23: =INDEX(Language!A1:K177,MATCH(Setup!B47,Language!B1:B177,0),MATCH(Setup!C5,Language!A1:J1,0)) -> Jordan | Q23: Levi’s Stadium, San Francisco 🇺🇸 | S23: 1 | T23: =INDEX(Calculator!C25:C28,MATCH(S23,Calculator!B25:B28,0),0) -> USA | V23: =SUM(W23:Y23) -> 0 | W23: =INDEX(Calculator!D25:D28,MATCH(S23,Calculator!B25:B28,0),0) -> 0 | X23: =INDEX(Calculator!E25:E28,MATCH(S23,Calculator!B25:B28,0),0) -> 0 | Y23: =INDEX(Calculator!F25:F28,MATCH(S23,Calculator!B25:B28,0),0) -> 0 | Z23: =INDEX(Calculator!G25:G28,MATCH(S23,Calculator!B25:B28,0),0) -> 0 | AA23: =INDEX(Calculator!H25:H28,MATCH(S23,Calculator!B25:B28,0),0) -> 0 | AB23: =INDEX(Calculator!J25:J28,MATCH(S23,Calculator!B25:B28,0),0) -> 0
A24: =A23+2 -> 41 | B24: 21 | C24: L | D24: =Calculator!EB27 -> 46190.792 | H24: =INDEX(Language!A1:K177,MATCH(Setup!B54,Language!B1:B177,0),MATCH(Setup!C5,Language!A1:J1,0)) -> Ghana | J24: =IF(OFFSET('Group Stages'!H7,A24-1,0)<>"",OFFSET('Group Stages'!H7,A24-1,0),"") | K24: =IF(OFFSET('Group Stages'!H8,A24-1,0)<>"",OFFSET('Group Stages'!H8,A24-1,0),"") | M24: =INDEX(Language!A1:K177,MATCH(Setup!B55,Language!B1:B177,0),MATCH(Setup!C5,Language!A1:J1,0)) -> Panama | Q24: BMO Field, Toronto 🇨🇦 | S24: 2 | T24: =INDEX(Calculator!C25:C28,MATCH(S24,Calculator!B25:B28,0),0) -> Türkiye | V24: =SUM(W24:Y24) -> 0 | W24: =INDEX(Calculator!D25:D28,MATCH(S24,Calculator!B25:B28,0),0) -> 0 | X24: =INDEX(Calculator!E25:E28,MATCH(S24,Calculator!B25:B28,0),0) -> 0 | Y24: =INDEX(Calculator!F25:F28,MATCH(S24,Calculator!B25:B28,0),0) -> 0 | Z24: =INDEX(Calculator!G25:G28,MATCH(S24,Calculator!B25:B28,0),0) -> 0 | AA24: =INDEX(Calculator!H25:H28,MATCH(S24,Calculator!B25:B28,0),0) -> 0 | AB24: =INDEX(Calculator!J25:J28,MATCH(S24,Calculator!B25:B28,0),0) -> 0
A25: =A24+2 -> 43 | B25: 22 | C25: L | D25: =Calculator!EB28 -> 46190.667 | H25: =INDEX(Language!A1:K177,MATCH(Setup!B52,Language!B1:B177,0),MATCH(Setup!C5,Language!A1:J1,0)) -> England | J25: =IF(OFFSET('Group Stages'!H7,A25-1,0)<>"",OFFSET('Group Stages'!H7,A25-1,0),"") | K25: =IF(OFFSET('Group Stages'!H8,A25-1,0)<>"",OFFSET('Group Stages'!H8,A25-1,0),"") | M25: =INDEX(Language!A1:K177,MATCH(Setup!B53,Language!B1:B177,0),MATCH(Setup!C5,Language!A1:J1,0)) -> Croatia | Q25: AT&T Stadium, Dallas 🇺🇸 | S25: 3 | T25: =INDEX(Calculator!C25:C28,MATCH(S25,Calculator!B25:B28,0),0) -> Australia | V25: =SUM(W25:Y25) -> 0 | W25: =INDEX(Calculator!D25:D28,MATCH(S25,Calculator!B25:B28,0),0) -> 0 | X25: =INDEX(Calculator!E25:E28,MATCH(S25,Calculator!B25:B28,0),0) -> 0 | Y25: =INDEX(Calculator!F25:F28,MATCH(S25,Calculator!B25:B28,0),0) -> 0 | Z25: =INDEX(Calculator!G25:G28,MATCH(S25,Calculator!B25:B28,0),0) -> 0 | AA25: =INDEX(Calculator!H25:H28,MATCH(S25,Calculator!B25:B28,0),0) -> 0 | AB25: =INDEX(Calculator!J25:J28,MATCH(S25,Calculator!B25:B28,0),0) -> 0
A26: =A25+2 -> 45 | B26: 23 | C26: K | D26: =Calculator!EB29 -> 46190.542 | H26: =INDEX(Language!A1:K177,MATCH(Setup!B48,Language!B1:B177,0),MATCH(Setup!C5,Language!A1:J1,0)) -> Portugal | J26: =IF(OFFSET('Group Stages'!H7,A26-1,0)<>"",OFFSET('Group Stages'!H7,A26-1,0),"") | K26: =IF(OFFSET('Group Stages'!H8,A26-1,0)<>"",OFFSET('Group Stages'!H8,A26-1,0),"") | M26: =INDEX(Language!A1:K177,MATCH(Setup!B49,Language!B1:B177,0),MATCH(Setup!C5,Language!A1:J1,0)) -> DR Congo | Q26: NRG Stadium, Houston 🇺🇸 | S26: 4 | T26: =INDEX(Calculator!C25:C28,MATCH(S26,Calculator!B25:B28,0),0) -> Paraguay | V26: =SUM(W26:Y26) -> 0 | W26: =INDEX(Calculator!D25:D28,MATCH(S26,Calculator!B25:B28,0),0) -> 0 | X26: =INDEX(Calculator!E25:E28,MATCH(S26,Calculator!B25:B28,0),0) -> 0 | Y26: =INDEX(Calculator!F25:F28,MATCH(S26,Calculator!B25:B28,0),0) -> 0 | Z26: =INDEX(Calculator!G25:G28,MATCH(S26,Calculator!B25:B28,0),0) -> 0 | AA26: =INDEX(Calculator!H25:H28,MATCH(S26,Calculator!B25:B28,0),0) -> 0 | AB26: =INDEX(Calculator!J25:J28,MATCH(S26,Calculator!B25:B28,0),0) -> 0
A27: =A26+2 -> 47 | B27: 24 | C27: K | D27: =Calculator!EB30 -> 46190.917 | H27: =INDEX(Language!A1:K177,MATCH(Setup!B50,Language!B1:B177,0),MATCH(Setup!C5,Language!A1:J1,0)) -> Uzbekistan | J27: =IF(OFFSET('Group Stages'!H7,A27-1,0)<>"",OFFSET('Group Stages'!H7,A27-1,0),"") | K27: =IF(OFFSET('Group Stages'!H8,A27-1,0)<>"",OFFSET('Group Stages'!H8,A27-1,0),"") | M27: =INDEX(Language!A1:K177,MATCH(Setup!B51,Language!B1:B177,0),MATCH(Setup!C5,Language!A1:J1,0)) -> Colombia | Q27: Estadio Azteca, Mexico City 🇲🇽
A28: =A27+2 -> 49 | B28: 25 | C28: A | D28: =Calculator!EB31 -> 46191.5 | H28: =M5 -> Czechia | J28: =IF(OFFSET('Group Stages'!H7,A28-1,0)<>"",OFFSET('Group Stages'!H7,A28-1,0),"") | K28: =IF(OFFSET('Group Stages'!H8,A28-1,0)<>"",OFFSET('Group Stages'!H8,A28-1,0),"") | M28: =M4 -> South Africa | Q28: Mercedes-Benz Stadium, Atlanta 🇺🇸 | S28: =INDEX(Language!A1:K177,MATCH("Group E",Language!B1:B177,0),MATCH(Setup!C5,Language!A1:J1,0)) -> Group E | V28: P | W28: W | X28: D | Y28: L | Z28: F | AA28: A | AB28: Pt
A29: =A28+2 -> 51 | B29: 26 | C29: B | D29: =Calculator!EB32 -> 46191.625 | H29: =M11 -> Switzerland | J29: =IF(OFFSET('Group Stages'!H7,A29-1,0)<>"",OFFSET('Group Stages'!H7,A29-1,0),"") | K29: =IF(OFFSET('Group Stages'!H8,A29-1,0)<>"",OFFSET('Group Stages'!H8,A29-1,0),"") | M29: =M6 -> Bosnia and Herzegovina | Q29: SoFi Stadium, Los Angeles 🇺🇸 | S29: 1 | T29: =INDEX(Calculator!C31:C34,MATCH(S29,Calculator!B31:B34,0),0) -> Germany | V29: =SUM(W29:Y29) -> 0 | W29: =INDEX(Calculator!D31:D34,MATCH(S29,Calculator!B31:B34,0),0) -> 0 | X29: =INDEX(Calculator!E31:E34,MATCH(S29,Calculator!B31:B34,0),0) -> 0 | Y29: =INDEX(Calculator!F31:F34,MATCH(S29,Calculator!B31:B34,0),0) -> 0 | Z29: =INDEX(Calculator!G31:G34,MATCH(S29,Calculator!B31:B34,0),0) -> 0 | AA29: =INDEX(Calculator!H31:H34,MATCH(S29,Calculator!B31:B34,0),0) -> 0 | AB29: =INDEX(Calculator!J31:J34,MATCH(S29,Calculator!B31:B34,0),0) -> 0
A30: =A29+2 -> 53 | B30: 27 | C30: B | D30: =Calculator!EB33 -> 46191.75 | H30: =H6 -> Canada | J30: =IF(OFFSET('Group Stages'!H7,A30-1,0)<>"",OFFSET('Group Stages'!H7,A30-1,0),"") | K30: =IF(OFFSET('Group Stages'!H8,A30-1,0)<>"",OFFSET('Group Stages'!H8,A30-1,0),"") | M30: =H11 -> Qatar | Q30: BC Place, Vancouver 🇨🇦 | S30: 2 | T30: =INDEX(Calculator!C31:C34,MATCH(S30,Calculator!B31:B34,0),0) -> Ecuador | V30: =SUM(W30:Y30) -> 0 | W30: =INDEX(Calculator!D31:D34,MATCH(S30,Calculator!B31:B34,0),0) -> 0 | X30: =INDEX(Calculator!E31:E34,MATCH(S30,Calculator!B31:B34,0),0) -> 0 | Y30: =INDEX(Calculator!F31:F34,MATCH(S30,Calculator!B31:B34,0),0) -> 0 | Z30: =INDEX(Calculator!G31:G34,MATCH(S30,Calculator!B31:B34,0),0) -> 0 | AA30: =INDEX(Calculator!H31:H34,MATCH(S30,Calculator!B31:B34,0),0) -> 0 | AB30: =INDEX(Calculator!J31:J34,MATCH(S30,Calculator!B31:B34,0),0) -> 0
A31: =A30+2 -> 55 | B31: 28 | C31: A | D31: =Calculator!EB34 -> 46191.875 | H31: =H4 -> Mexico | J31: =IF(OFFSET('Group Stages'!H7,A31-1,0)<>"",OFFSET('Group Stages'!H7,A31-1,0),"") | K31: =IF(OFFSET('Group Stages'!H8,A31-1,0)<>"",OFFSET('Group Stages'!H8,A31-1,0),"") | M31: =H5 -> Korea Republic | Q31: Estadio Akron, Guadalajara 🇲🇽 | S31: 3 | T31: =INDEX(Calculator!C31:C34,MATCH(S31,Calculator!B31:B34,0),0) -> Cote D'Voire | V31: =SUM(W31:Y31) -> 0 | W31: =INDEX(Calculator!D31:D34,MATCH(S31,Calculator!B31:B34,0),0) -> 0 | X31: =INDEX(Calculator!E31:E34,MATCH(S31,Calculator!B31:B34,0),0) -> 0 | Y31: =INDEX(Calculator!F31:F34,MATCH(S31,Calculator!B31:B34,0),0) -> 0 | Z31: =INDEX(Calculator!G31:G34,MATCH(S31,Calculator!B31:B34,0),0) -> 0 | AA31: =INDEX(Calculator!H31:H34,MATCH(S31,Calculator!B31:B34,0),0) -> 0 | AB31: =INDEX(Calculator!J31:J34,MATCH(S31,Calculator!B31:B34,0),0) -> 0
A32: =A31+2 -> 57 | B32: 29 | C32: C | D32: =Calculator!EB35 -> 46192.854 | H32: =H10 -> Brazil | J32: =IF(OFFSET('Group Stages'!H7,A32-1,0)<>"",OFFSET('Group Stages'!H7,A32-1,0),"") | K32: =IF(OFFSET('Group Stages'!H8,A32-1,0)<>"",OFFSET('Group Stages'!H8,A32-1,0),"") | M32: =H8 -> Haiti | Q32: Lincoln Financial Field, Philadelphia 🇺🇸 | S32: 4 | T32: =INDEX(Calculator!C31:C34,MATCH(S32,Calculator!B31:B34,0),0) -> Curacao | V32: =SUM(W32:Y32) -> 0 | W32: =INDEX(Calculator!D31:D34,MATCH(S32,Calculator!B31:B34,0),0) -> 0 | X32: =INDEX(Calculator!E31:E34,MATCH(S32,Calculator!B31:B34,0),0) -> 0 | Y32: =INDEX(Calculator!F31:F34,MATCH(S32,Calculator!B31:B34,0),0) -> 0 | Z32: =INDEX(Calculator!G31:G34,MATCH(S32,Calculator!B31:B34,0),0) -> 0 | AA32: =INDEX(Calculator!H31:H34,MATCH(S32,Calculator!B31:B34,0),0) -> 0 | AB32: =INDEX(Calculator!J31:J34,MATCH(S32,Calculator!B31:B34,0),0) -> 0
A33: =A32+2 -> 59 | B33: 30 | C33: C | D33: =Calculator!EB36 -> 46192.75 | H33: =M8 -> Scotland | J33: =IF(OFFSET('Group Stages'!H7,A33-1,0)<>"",OFFSET('Group Stages'!H7,A33-1,0),"") | K33: =IF(OFFSET('Group Stages'!H8,A33-1,0)<>"",OFFSET('Group Stages'!H8,A33-1,0),"") | M33: =M10 -> Morocco | Q33: Gillette Stadium, Boston 🇺🇸
A34: =A33+2 -> 61 | B34: 31 | C34: D | D34: =Calculator!EB37 -> 46192.958 | H34: =M9 -> Türkiye | J34: =IF(OFFSET('Group Stages'!H7,A34-1,0)<>"",OFFSET('Group Stages'!H7,A34-1,0),"") | K34: =IF(OFFSET('Group Stages'!H8,A34-1,0)<>"",OFFSET('Group Stages'!H8,A34-1,0),"") | M34: =M7 -> Paraguay | Q34: Levi’s Stadium, San Francisco 🇺🇸 | S34: =INDEX(Language!A1:K177,MATCH("Group F",Language!B1:B177,0),MATCH(Setup!C5,Language!A1:J1,0)) -> Group F | V34: P | W34: W | X34: D | Y34: L | Z34: F | AA34: A | AB34: Pt
A35: =A34+2 -> 63 | B35: 32 | C35: D | D35: =Calculator!EB38 -> 46192.625 | H35: =H7 -> USA | J35: =IF(OFFSET('Group Stages'!H7,A35-1,0)<>"",OFFSET('Group Stages'!H7,A35-1,0),"") | K35: =IF(OFFSET('Group Stages'!H8,A35-1,0)<>"",OFFSET('Group Stages'!H8,A35-1,0),"") | M35: =H9 -> Australia | Q35: Lumen Field, Seattle 🇺🇸 | S35: 1 | T35: =INDEX(Calculator!C37:C397,MATCH(S35,Calculator!B37:B397,0),0) -> Netherlands | V35: =SUM(W35:Y35) -> 0 | W35: =INDEX(Calculator!D37:D397,MATCH(S35,Calculator!B37:B397,0),0) -> 0 | X35: =INDEX(Calculator!E37:E397,MATCH(S35,Calculator!B37:B397,0),0) -> 0 | Y35: =INDEX(Calculator!F37:F397,MATCH(S35,Calculator!B37:B397,0),0) -> 0 | Z35: =INDEX(Calculator!G37:G397,MATCH(S35,Calculator!B37:B397,0),0) -> 0 | AA35: =INDEX(Calculator!H37:H397,MATCH(S35,Calculator!B37:B397,0),0) -> 0 | AB35: =INDEX(Calculator!J37:J397,MATCH(S35,Calculator!B37:B397,0),0) -> 0
A36: =A35+2 -> 65 | B36: 33 | C36: E | D36: =Calculator!EB39 -> 46193.667 | H36: =H13 -> Germany | J36: =IF(OFFSET('Group Stages'!H7,A36-1,0)<>"",OFFSET('Group Stages'!H7,A36-1,0),"") | K36: =IF(OFFSET('Group Stages'!H8,A36-1,0)<>"",OFFSET('Group Stages'!H8,A36-1,0),"") | M36: =H12 -> Cote D'Voire | Q36: BMO Field, Toronto 🇨🇦 | S36: 2 | T36: =INDEX(Calculator!C37:C397,MATCH(S36,Calculator!B37:B397,0),0) -> Japan | V36: =SUM(W36:Y36) -> 0 | W36: =INDEX(Calculator!D37:D397,MATCH(S36,Calculator!B37:B397,0),0) -> 0 | X36: =INDEX(Calculator!E37:E397,MATCH(S36,Calculator!B37:B397,0),0) -> 0 | Y36: =INDEX(Calculator!F37:F397,MATCH(S36,Calculator!B37:B397,0),0) -> 0 | Z36: =INDEX(Calculator!G37:G397,MATCH(S36,Calculator!B37:B397,0),0) -> 0 | AA36: =INDEX(Calculator!H37:H397,MATCH(S36,Calculator!B37:B397,0),0) -> 0 | AB36: =INDEX(Calculator!J37:J397,MATCH(S36,Calculator!B37:B397,0),0) -> 0
A37: =A36+2 -> 67 | B37: 34 | C37: E | D37: =Calculator!EB40 -> 46193.833 | H37: =M12 -> Ecuador | J37: =IF(OFFSET('Group Stages'!H7,A37-1,0)<>"",OFFSET('Group Stages'!H7,A37-1,0),"") | K37: =IF(OFFSET('Group Stages'!H8,A37-1,0)<>"",OFFSET('Group Stages'!H8,A37-1,0),"") | M37: =M13 -> Curacao | Q37: Arrowhead Stadium, Kansas City 🇺🇸 | S37: 3 | T37: =INDEX(Calculator!C37:C397,MATCH(S37,Calculator!B37:B397,0),0) -> Sweden | V37: =SUM(W37:Y37) -> 0 | W37: =INDEX(Calculator!D37:D397,MATCH(S37,Calculator!B37:B397,0),0) -> 0 | X37: =INDEX(Calculator!E37:E397,MATCH(S37,Calculator!B37:B397,0),0) -> 0 | Y37: =INDEX(Calculator!F37:F397,MATCH(S37,Calculator!B37:B397,0),0) -> 0 | Z37: =INDEX(Calculator!G37:G397,MATCH(S37,Calculator!B37:B397,0),0) -> 0 | AA37: =INDEX(Calculator!H37:H397,MATCH(S37,Calculator!B37:B397,0),0) -> 0 | AB37: =INDEX(Calculator!J37:J397,MATCH(S37,Calculator!B37:B397,0),0) -> 0
A38: =A37+2 -> 69 | B38: 35 | C38: F | D38: =Calculator!EB41 -> 46193.542 | H38: =H14 -> Netherlands | J38: =IF(OFFSET('Group Stages'!H7,A38-1,0)<>"",OFFSET('Group Stages'!H7,A38-1,0),"") | K38: =IF(OFFSET('Group Stages'!H8,A38-1,0)<>"",OFFSET('Group Stages'!H8,A38-1,0),"") | M38: =H15 -> Sweden | Q38: NRG Stadium, Houston 🇺🇸 | S38: 4 | T38: =INDEX(Calculator!C37:C397,MATCH(S38,Calculator!B37:B397,0),0) -> Tunisia | V38: =SUM(W38:Y38) -> 0 | W38: =INDEX(Calculator!D37:D397,MATCH(S38,Calculator!B37:B397,0),0) -> 0 | X38: =INDEX(Calculator!E37:E397,MATCH(S38,Calculator!B37:B397,0),0) -> 0 | Y38: =INDEX(Calculator!F37:F397,MATCH(S38,Calculator!B37:B397,0),0) -> 0 | Z38: =INDEX(Calculator!G37:G397,MATCH(S38,Calculator!B37:B397,0),0) -> 0 | AA38: =INDEX(Calculator!H37:H397,MATCH(S38,Calculator!B37:B397,0),0) -> 0 | AB38: =INDEX(Calculator!J37:J397,MATCH(S38,Calculator!B37:B397,0),0) -> 0
A39: =A38+2 -> 71 | B39: 36 | C39: F | D39: =Calculator!EB42 -> 46193 | H39: =M15 -> Tunisia | J39: =IF(OFFSET('Group Stages'!H7,A39-1,0)<>"",OFFSET('Group Stages'!H7,A39-1,0),"") | K39: =IF(OFFSET('Group Stages'!H8,A39-1,0)<>"",OFFSET('Group Stages'!H8,A39-1,0),"") | M39: =M14 -> Japan | Q39: Estadio BBVA, Monterrey 🇲🇽
A40: =A39+2 -> 73 | B40: 37 | C40: H | D40: =Calculator!EB43 -> 46194.75 | H40: =M16 -> Uruguay | J40: =IF(OFFSET('Group Stages'!H7,A40-1,0)<>"",OFFSET('Group Stages'!H7,A40-1,0),"") | K40: =IF(OFFSET('Group Stages'!H8,A40-1,0)<>"",OFFSET('Group Stages'!H8,A40-1,0),"") | M40: =M17 -> Cabo Verde | Q40: Hard Rock Stadium, Miami 🇺🇸 | S40: =INDEX(Language!A1:K177,MATCH("Group G",Language!B1:B177,0),MATCH(Setup!C5,Language!A1:J1,0)) -> Group G | V40: P | W40: W | X40: D | Y40: L | Z40: F | AA40: A | AB40: Pt
A41: =A40+2 -> 75 | B41: 38 | C41: H | D41: =Calculator!EB44 -> 46194.5 | H41: =H17 -> Spain | J41: =IF(OFFSET('Group Stages'!H7,A41-1,0)<>"",OFFSET('Group Stages'!H7,A41-1,0),"") | K41: =IF(OFFSET('Group Stages'!H8,A41-1,0)<>"",OFFSET('Group Stages'!H8,A41-1,0),"") | M41: =H16 -> Saudi Arabia | Q41: Mercedes-Benz Stadium, Atlanta 🇺🇸 | S41: 1 | T41: =INDEX(Calculator!C43:C46,MATCH(S41,Calculator!B43:B46,0),0) -> Belgium | V41: =SUM(W41:Y41) -> 0 | W41: =INDEX(Calculator!D43:D46,MATCH(S41,Calculator!B43:B46,0),0) -> 0 | X41: =INDEX(Calculator!E43:E46,MATCH(S41,Calculator!B43:B46,0),0) -> 0 | Y41: =INDEX(Calculator!F43:F46,MATCH(S41,Calculator!B43:B46,0),0) -> 0 | Z41: =INDEX(Calculator!G43:G46,MATCH(S41,Calculator!B43:B46,0),0) -> 0 | AA41: =INDEX(Calculator!H43:H46,MATCH(S41,Calculator!B43:B46,0),0) -> 0 | AB41: =INDEX(Calculator!J43:J46,MATCH(S41,Calculator!B43:B46,0),0) -> 0
A42: =A41+2 -> 77 | B42: 39 | C42: G | D42: =Calculator!EB45 -> 46194.625 | H42: =H19 -> Belgium | J42: =IF(OFFSET('Group Stages'!H7,A42-1,0)<>"",OFFSET('Group Stages'!H7,A42-1,0),"") | K42: =IF(OFFSET('Group Stages'!H8,A42-1,0)<>"",OFFSET('Group Stages'!H8,A42-1,0),"") | M42: =H18 -> Iran | Q42: SoFi Stadium, Los Angeles 🇺🇸 | S42: 2 | T42: =INDEX(Calculator!C43:C46,MATCH(S42,Calculator!B43:B46,0),0) -> Iran | V42: =SUM(W42:Y42) -> 0 | W42: =INDEX(Calculator!D43:D46,MATCH(S42,Calculator!B43:B46,0),0) -> 0 | X42: =INDEX(Calculator!E43:E46,MATCH(S42,Calculator!B43:B46,0),0) -> 0 | Y42: =INDEX(Calculator!F43:F46,MATCH(S42,Calculator!B43:B46,0),0) -> 0 | Z42: =INDEX(Calculator!G43:G46,MATCH(S42,Calculator!B43:B46,0),0) -> 0 | AA42: =INDEX(Calculator!H43:H46,MATCH(S42,Calculator!B43:B46,0),0) -> 0 | AB42: =INDEX(Calculator!J43:J46,MATCH(S42,Calculator!B43:B46,0),0) -> 0
A43: =A42+2 -> 79 | B43: 40 | C43: G | D43: =Calculator!EB46 -> 46194.875 | H43: =M18 -> New Zealand | J43: =IF(OFFSET('Group Stages'!H7,A43-1,0)<>"",OFFSET('Group Stages'!H7,A43-1,0),"") | K43: =IF(OFFSET('Group Stages'!H8,A43-1,0)<>"",OFFSET('Group Stages'!H8,A43-1,0),"") | M43: =M19 -> Egypt | Q43: BC Place, Vancouver 🇨🇦 | S43: 3 | T43: =INDEX(Calculator!C43:C46,MATCH(S43,Calculator!B43:B46,0),0) -> Egypt | V43: =SUM(W43:Y43) -> 0 | W43: =INDEX(Calculator!D43:D46,MATCH(S43,Calculator!B43:B46,0),0) -> 0 | X43: =INDEX(Calculator!E43:E46,MATCH(S43,Calculator!B43:B46,0),0) -> 0 | Y43: =INDEX(Calculator!F43:F46,MATCH(S43,Calculator!B43:B46,0),0) -> 0 | Z43: =INDEX(Calculator!G43:G46,MATCH(S43,Calculator!B43:B46,0),0) -> 0 | AA43: =INDEX(Calculator!H43:H46,MATCH(S43,Calculator!B43:B46,0),0) -> 0 | AB43: =INDEX(Calculator!J43:J46,MATCH(S43,Calculator!B43:B46,0),0) -> 0
A44: =A43+2 -> 81 | B44: 41 | C44: I | D44: =Calculator!EB47 -> 46195.833 | H44: =M21 -> Norway | J44: =IF(OFFSET('Group Stages'!H7,A44-1,0)<>"",OFFSET('Group Stages'!H7,A44-1,0),"") | K44: =IF(OFFSET('Group Stages'!H8,A44-1,0)<>"",OFFSET('Group Stages'!H8,A44-1,0),"") | M44: =M20 -> Senegal | Q44: MetLife Stadium, New York/New Jersey 🇺🇸 | S44: 4 | T44: =INDEX(Calculator!C43:C46,MATCH(S44,Calculator!B43:B46,0),0) -> New Zealand | V44: =SUM(W44:Y44) -> 0 | W44: =INDEX(Calculator!D43:D46,MATCH(S44,Calculator!B43:B46,0),0) -> 0 | X44: =INDEX(Calculator!E43:E46,MATCH(S44,Calculator!B43:B46,0),0) -> 0 | Y44: =INDEX(Calculator!F43:F46,MATCH(S44,Calculator!B43:B46,0),0) -> 0 | Z44: =INDEX(Calculator!G43:G46,MATCH(S44,Calculator!B43:B46,0),0) -> 0 | AA44: =INDEX(Calculator!H43:H46,MATCH(S44,Calculator!B43:B46,0),0) -> 0 | AB44: =INDEX(Calculator!J43:J46,MATCH(S44,Calculator!B43:B46,0),0) -> 0
A45: =A44+2 -> 83 | B45: 42 | C45: I | D45: =Calculator!EB48 -> 46195.708 | H45: =H20 -> France | J45: =IF(OFFSET('Group Stages'!H7,A45-1,0)<>"",OFFSET('Group Stages'!H7,A45-1,0),"") | K45: =IF(OFFSET('Group Stages'!H8,A45-1,0)<>"",OFFSET('Group Stages'!H8,A45-1,0),"") | M45: =H21 -> Iraq | Q45: Lincoln Financial Field, Philadelphia 🇺🇸
A46: =A45+2 -> 85 | B46: 43 | C46: J | D46: =Calculator!EB49 -> 46195.542 | H46: =H22 -> Argentina | J46: =IF(OFFSET('Group Stages'!H7,A46-1,0)<>"",OFFSET('Group Stages'!H7,A46-1,0),"") | K46: =IF(OFFSET('Group Stages'!H8,A46-1,0)<>"",OFFSET('Group Stages'!H8,A46-1,0),"") | M46: =H23 -> Austria | Q46: AT&T Stadium, Dallas 🇺🇸 | S46: =INDEX(Language!A1:K177,MATCH("Group H",Language!B1:B177,0),MATCH(Setup!C5,Language!A1:J1,0)) -> Group H | V46: P | W46: W | X46: D | Y46: L | Z46: F | AA46: A | AB46: Pt
A47: =A46+2 -> 87 | B47: 44 | C47: J | D47: =Calculator!EB50 -> 46195.958 | H47: =M23 -> Jordan | J47: =IF(OFFSET('Group Stages'!H7,A47-1,0)<>"",OFFSET('Group Stages'!H7,A47-1,0),"") | K47: =IF(OFFSET('Group Stages'!H8,A47-1,0)<>"",OFFSET('Group Stages'!H8,A47-1,0),"") | M47: =M22 -> Algeria | Q47: Levi’s Stadium, San Francisco 🇺🇸 | S47: 1 | T47: =INDEX(Calculator!C49:C52,MATCH(S47,Calculator!B49:B52,0),0) -> Spain | V47: =SUM(W47:Y47) -> 0 | W47: =INDEX(Calculator!D49:D52,MATCH(S47,Calculator!B49:B52,0),0) -> 0 | X47: =INDEX(Calculator!E49:E52,MATCH(S47,Calculator!B49:B52,0),0) -> 0 | Y47: =INDEX(Calculator!F49:F52,MATCH(S47,Calculator!B49:B52,0),0) -> 0 | Z47: =INDEX(Calculator!G49:G52,MATCH(S47,Calculator!B49:B52,0),0) -> 0 | AA47: =INDEX(Calculator!H49:H52,MATCH(S47,Calculator!B49:B52,0),0) -> 0 | AB47: =INDEX(Calculator!J49:J52,MATCH(S47,Calculator!B49:B52,0),0) -> 0
A48: =A47+2 -> 89 | B48: 45 | C48: L | D48: =Calculator!EB51 -> 46196.667 | H48: =H25 -> England | J48: =IF(OFFSET('Group Stages'!H7,A48-1,0)<>"",OFFSET('Group Stages'!H7,A48-1,0),"") | K48: =IF(OFFSET('Group Stages'!H8,A48-1,0)<>"",OFFSET('Group Stages'!H8,A48-1,0),"") | M48: =H24 -> Ghana | Q48: Gillette Stadium, Boston 🇺🇸 | S48: 2 | T48: =INDEX(Calculator!C49:C52,MATCH(S48,Calculator!B49:B52,0),0) -> Uruguay | V48: =SUM(W48:Y48) -> 0 | W48: =INDEX(Calculator!D49:D52,MATCH(S48,Calculator!B49:B52,0),0) -> 0 | X48: =INDEX(Calculator!E49:E52,MATCH(S48,Calculator!B49:B52,0),0) -> 0 | Y48: =INDEX(Calculator!F49:F52,MATCH(S48,Calculator!B49:B52,0),0) -> 0 | Z48: =INDEX(Calculator!G49:G52,MATCH(S48,Calculator!B49:B52,0),0) -> 0 | AA48: =INDEX(Calculator!H49:H52,MATCH(S48,Calculator!B49:B52,0),0) -> 0 | AB48: =INDEX(Calculator!J49:J52,MATCH(S48,Calculator!B49:B52,0),0) -> 0
A49: =A48+2 -> 91 | B49: 46 | C49: L | D49: =Calculator!EB52 -> 46196.792 | H49: =M24 -> Panama | J49: =IF(OFFSET('Group Stages'!H7,A49-1,0)<>"",OFFSET('Group Stages'!H7,A49-1,0),"") | K49: =IF(OFFSET('Group Stages'!H8,A49-1,0)<>"",OFFSET('Group Stages'!H8,A49-1,0),"") | M49: =M25 -> Croatia | Q49: BMO Field, Toronto 🇨🇦 | S49: 3 | T49: =INDEX(Calculator!C49:C52,MATCH(S49,Calculator!B49:B52,0),0) -> Saudi Arabia | V49: =SUM(W49:Y49) -> 0 | W49: =INDEX(Calculator!D49:D52,MATCH(S49,Calculator!B49:B52,0),0) -> 0 | X49: =INDEX(Calculator!E49:E52,MATCH(S49,Calculator!B49:B52,0),0) -> 0 | Y49: =INDEX(Calculator!F49:F52,MATCH(S49,Calculator!B49:B52,0),0) -> 0 | Z49: =INDEX(Calculator!G49:G52,MATCH(S49,Calculator!B49:B52,0),0) -> 0 | AA49: =INDEX(Calculator!H49:H52,MATCH(S49,Calculator!B49:B52,0),0) -> 0 | AB49: =INDEX(Calculator!J49:J52,MATCH(S49,Calculator!B49:B52,0),0) -> 0
A50: =A49+2 -> 93 | B50: 47 | C50: K | D50: =Calculator!EB53 -> 46196.542 | H50: =H26 -> Portugal | J50: =IF(OFFSET('Group Stages'!H7,A50-1,0)<>"",OFFSET('Group Stages'!H7,A50-1,0),"") | K50: =IF(OFFSET('Group Stages'!H8,A50-1,0)<>"",OFFSET('Group Stages'!H8,A50-1,0),"") | M50: =H27 -> Uzbekistan | Q50: NRG Stadium, Houston 🇺🇸 | S50: 4 | T50: =INDEX(Calculator!C49:C52,MATCH(S50,Calculator!B49:B52,0),0) -> Cabo Verde | V50: =SUM(W50:Y50) -> 0 | W50: =INDEX(Calculator!D49:D52,MATCH(S50,Calculator!B49:B52,0),0) -> 0 | X50: =INDEX(Calculator!E49:E52,MATCH(S50,Calculator!B49:B52,0),0) -> 0 | Y50: =INDEX(Calculator!F49:F52,MATCH(S50,Calculator!B49:B52,0),0) -> 0 | Z50: =INDEX(Calculator!G49:G52,MATCH(S50,Calculator!B49:B52,0),0) -> 0 | AA50: =INDEX(Calculator!H49:H52,MATCH(S50,Calculator!B49:B52,0),0) -> 0 | AB50: =INDEX(Calculator!J49:J52,MATCH(S50,Calculator!B49:B52,0),0) -> 0
A51: =A50+2 -> 95 | B51: 48 | C51: K | D51: =Calculator!EB54 -> 46196.917 | H51: =M27 -> Colombia | J51: =IF(OFFSET('Group Stages'!H7,A51-1,0)<>"",OFFSET('Group Stages'!H7,A51-1,0),"") | K51: =IF(OFFSET('Group Stages'!H8,A51-1,0)<>"",OFFSET('Group Stages'!H8,A51-1,0),"") | M51: =M26 -> DR Congo | Q51: Estadio Akron, Guadalajara 🇲🇽
A52: =A51+2 -> 97 | B52: 49 | C52: C | D52: =Calculator!EB55 -> 46197.75 | H52: =M8 -> Scotland | J52: =IF(OFFSET('Group Stages'!H7,A52-1,0)<>"",OFFSET('Group Stages'!H7,A52-1,0),"") | K52: =IF(OFFSET('Group Stages'!H8,A52-1,0)<>"",OFFSET('Group Stages'!H8,A52-1,0),"") | M52: =H10 -> Brazil | Q52: Hard Rock Stadium, Miami 🇺🇸 | S52: =INDEX(Language!A1:K177,MATCH("Group I",Language!B1:B177,0),MATCH(Setup!C5,Language!A1:J1,0)) -> Group I | V52: P | W52: W | X52: D | Y52: L | Z52: F | AA52: A | AB52: Pt
A53: =A52+2 -> 99 | B53: 50 | C53: C | D53: =Calculator!EB56 -> 46197.75 | H53: =M10 -> Morocco | J53: =IF(OFFSET('Group Stages'!H7,A53-1,0)<>"",OFFSET('Group Stages'!H7,A53-1,0),"") | K53: =IF(OFFSET('Group Stages'!H8,A53-1,0)<>"",OFFSET('Group Stages'!H8,A53-1,0),"") | M53: =H8 -> Haiti | Q53: Mercedes-Benz Stadium, Atlanta 🇺🇸 | S53: 1 | T53: =INDEX(Calculator!C55:C58,MATCH(S53,Calculator!B55:B58,0),0) -> France | V53: =SUM(W53:Y53) -> 0 | W53: =INDEX(Calculator!D55:D58,MATCH(S53,Calculator!B55:B58,0),0) -> 0 | X53: =INDEX(Calculator!E55:E58,MATCH(S53,Calculator!B55:B58,0),0) -> 0 | Y53: =INDEX(Calculator!F55:F58,MATCH(S53,Calculator!B55:B58,0),0) -> 0 | Z53: =INDEX(Calculator!G55:G58,MATCH(S53,Calculator!B55:B58,0),0) -> 0 | AA53: =INDEX(Calculator!H55:H58,MATCH(S53,Calculator!B55:B58,0),0) -> 0 | AB53: =INDEX(Calculator!J55:J58,MATCH(S53,Calculator!B55:B58,0),0) -> 0
A54: =A53+2 -> 101 | B54: 51 | C54: B | D54: =Calculator!EB57 -> 46197.625 | H54: =M11 -> Switzerland | J54: =IF(OFFSET('Group Stages'!H7,A54-1,0)<>"",OFFSET('Group Stages'!H7,A54-1,0),"") | K54: =IF(OFFSET('Group Stages'!H8,A54-1,0)<>"",OFFSET('Group Stages'!H8,A54-1,0),"") | M54: =H6 -> Canada | Q54: BC Place, Vancouver 🇨🇦 | S54: 2 | T54: =INDEX(Calculator!C55:C58,MATCH(S54,Calculator!B55:B58,0),0) -> Senegal | V54: =SUM(W54:Y54) -> 0 | W54: =INDEX(Calculator!D55:D58,MATCH(S54,Calculator!B55:B58,0),0) -> 0 | X54: =INDEX(Calculator!E55:E58,MATCH(S54,Calculator!B55:B58,0),0) -> 0 | Y54: =INDEX(Calculator!F55:F58,MATCH(S54,Calculator!B55:B58,0),0) -> 0 | Z54: =INDEX(Calculator!G55:G58,MATCH(S54,Calculator!B55:B58,0),0) -> 0 | AA54: =INDEX(Calculator!H55:H58,MATCH(S54,Calculator!B55:B58,0),0) -> 0 | AB54: =INDEX(Calculator!J55:J58,MATCH(S54,Calculator!B55:B58,0),0) -> 0
A55: =A54+2 -> 103 | B55: 52 | C55: B | D55: =Calculator!EB58 -> 46197.625 | H55: =M6 -> Bosnia and Herzegovina | J55: =IF(OFFSET('Group Stages'!H7,A55-1,0)<>"",OFFSET('Group Stages'!H7,A55-1,0),"") | K55: =IF(OFFSET('Group Stages'!H8,A55-1,0)<>"",OFFSET('Group Stages'!H8,A55-1,0),"") | M55: =H11 -> Qatar | Q55: Lumen Field, Seattle 🇺🇸 | S55: 3 | T55: =INDEX(Calculator!C55:C58,MATCH(S55,Calculator!B55:B58,0),0) -> Norway | V55: =SUM(W55:Y55) -> 0 | W55: =INDEX(Calculator!D55:D58,MATCH(S55,Calculator!B55:B58,0),0) -> 0 | X55: =INDEX(Calculator!E55:E58,MATCH(S55,Calculator!B55:B58,0),0) -> 0 | Y55: =INDEX(Calculator!F55:F58,MATCH(S55,Calculator!B55:B58,0),0) -> 0 | Z55: =INDEX(Calculator!G55:G58,MATCH(S55,Calculator!B55:B58,0),0) -> 0 | AA55: =INDEX(Calculator!H55:H58,MATCH(S55,Calculator!B55:B58,0),0) -> 0 | AB55: =INDEX(Calculator!J55:J58,MATCH(S55,Calculator!B55:B58,0),0) -> 0
A56: =A55+2 -> 105 | B56: 53 | C56: A | D56: =Calculator!EB59 -> 46197.875 | H56: =M5 -> Czechia | J56: =IF(OFFSET('Group Stages'!H7,A56-1,0)<>"",OFFSET('Group Stages'!H7,A56-1,0),"") | K56: =IF(OFFSET('Group Stages'!H8,A56-1,0)<>"",OFFSET('Group Stages'!H8,A56-1,0),"") | M56: =H4 -> Mexico | Q56: Estadio Azteca, Mexico City 🇲🇽 | S56: 4 | T56: =INDEX(Calculator!C55:C58,MATCH(S56,Calculator!B55:B58,0),0) -> Iraq | V56: =SUM(W56:Y56) -> 0 | W56: =INDEX(Calculator!D55:D58,MATCH(S56,Calculator!B55:B58,0),0) -> 0 | X56: =INDEX(Calculator!E55:E58,MATCH(S56,Calculator!B55:B58,0),0) -> 0 | Y56: =INDEX(Calculator!F55:F58,MATCH(S56,Calculator!B55:B58,0),0) -> 0 | Z56: =INDEX(Calculator!G55:G58,MATCH(S56,Calculator!B55:B58,0),0) -> 0 | AA56: =INDEX(Calculator!H55:H58,MATCH(S56,Calculator!B55:B58,0),0) -> 0 | AB56: =INDEX(Calculator!J55:J58,MATCH(S56,Calculator!B55:B58,0),0) -> 0
A57: =A56+2 -> 107 | B57: 54 | C57: A | D57: =Calculator!EB60 -> 46197.875 | H57: =M4 -> South Africa | J57: =IF(OFFSET('Group Stages'!H7,A57-1,0)<>"",OFFSET('Group Stages'!H7,A57-1,0),"") | K57: =IF(OFFSET('Group Stages'!H8,A57-1,0)<>"",OFFSET('Group Stages'!H8,A57-1,0),"") | M57: =H5 -> Korea Republic | Q57: Estadio BBVA, Monterrey 🇲🇽
A58: =A57+2 -> 109 | B58: 55 | C58: E | D58: =Calculator!EB61 -> 46198.667 | H58: =M13 -> Curacao | J58: =IF(OFFSET('Group Stages'!H7,A58-1,0)<>"",OFFSET('Group Stages'!H7,A58-1,0),"") | K58: =IF(OFFSET('Group Stages'!H8,A58-1,0)<>"",OFFSET('Group Stages'!H8,A58-1,0),"") | M58: =H12 -> Cote D'Voire | Q58: Lincoln Financial Field, Philadelphia 🇺🇸 | S58: =INDEX(Language!A1:K177,MATCH("Group J",Language!B1:B177,0),MATCH(Setup!C5,Language!A1:J1,0)) -> Group J | V58: P | W58: W | X58: D | Y58: L | Z58: F | AA58: A | AB58: Pt
A59: =A58+2 -> 111 | B59: 56 | C59: E | D59: =Calculator!EB62 -> 46198.667 | H59: =M12 -> Ecuador | J59: =IF(OFFSET('Group Stages'!H7,A59-1,0)<>"",OFFSET('Group Stages'!H7,A59-1,0),"") | K59: =IF(OFFSET('Group Stages'!H8,A59-1,0)<>"",OFFSET('Group Stages'!H8,A59-1,0),"") | M59: =H13 -> Germany | Q59: MetLife Stadium, NY/NJ 🇺🇸 | S59: 1 | T59: =INDEX(Calculator!C61:C64,MATCH(S59,Calculator!B61:B64,0),0) -> Argentina | V59: =SUM(W59:Y59) -> 0 | W59: =INDEX(Calculator!D61:D64,MATCH(S59,Calculator!B61:B64,0),0) -> 0 | X59: =INDEX(Calculator!E61:E64,MATCH(S59,Calculator!B61:B64,0),0) -> 0 | Y59: =INDEX(Calculator!F61:F64,MATCH(S59,Calculator!B61:B64,0),0) -> 0 | Z59: =INDEX(Calculator!G61:G64,MATCH(S59,Calculator!B61:B64,0),0) -> 0 | AA59: =INDEX(Calculator!H61:H64,MATCH(S59,Calculator!B61:B64,0),0) -> 0 | AB59: =INDEX(Calculator!J61:J64,MATCH(S59,Calculator!B61:B64,0),0) -> 0
A60: =A59+2 -> 113 | B60: 57 | C60: F | D60: =Calculator!EB63 -> 46198.792 | H60: =M14 -> Japan | J60: =IF(OFFSET('Group Stages'!H7,A60-1,0)<>"",OFFSET('Group Stages'!H7,A60-1,0),"") | K60: =IF(OFFSET('Group Stages'!H8,A60-1,0)<>"",OFFSET('Group Stages'!H8,A60-1,0),"") | M60: =H15 -> Sweden | Q60: AT&T Stadium, Dallas 🇺🇸 | S60: 2 | T60: =INDEX(Calculator!C61:C64,MATCH(S60,Calculator!B61:B64,0),0) -> Austria | V60: =SUM(W60:Y60) -> 0 | W60: =INDEX(Calculator!D61:D64,MATCH(S60,Calculator!B61:B64,0),0) -> 0 | X60: =INDEX(Calculator!E61:E64,MATCH(S60,Calculator!B61:B64,0),0) -> 0 | Y60: =INDEX(Calculator!F61:F64,MATCH(S60,Calculator!B61:B64,0),0) -> 0 | Z60: =INDEX(Calculator!G61:G64,MATCH(S60,Calculator!B61:B64,0),0) -> 0 | AA60: =INDEX(Calculator!H61:H64,MATCH(S60,Calculator!B61:B64,0),0) -> 0 | AB60: =INDEX(Calculator!J61:J64,MATCH(S60,Calculator!B61:B64,0),0) -> 0
A61: =A60+2 -> 115 | B61: 58 | C61: F | D61: =Calculator!EB64 -> 46198.792 | H61: =M15 -> Tunisia | J61: =IF(OFFSET('Group Stages'!H7,A61-1,0)<>"",OFFSET('Group Stages'!H7,A61-1,0),"") | K61: =IF(OFFSET('Group Stages'!H8,A61-1,0)<>"",OFFSET('Group Stages'!H8,A61-1,0),"") | M61: =H14 -> Netherlands | Q61: Arrowhead Stadium, Kansas City 🇺🇸 | S61: 3 | T61: =INDEX(Calculator!C61:C64,MATCH(S61,Calculator!B61:B64,0),0) -> Algeria | V61: =SUM(W61:Y61) -> 0 | W61: =INDEX(Calculator!D61:D64,MATCH(S61,Calculator!B61:B64,0),0) -> 0 | X61: =INDEX(Calculator!E61:E64,MATCH(S61,Calculator!B61:B64,0),0) -> 0 | Y61: =INDEX(Calculator!F61:F64,MATCH(S61,Calculator!B61:B64,0),0) -> 0 | Z61: =INDEX(Calculator!G61:G64,MATCH(S61,Calculator!B61:B64,0),0) -> 0 | AA61: =INDEX(Calculator!H61:H64,MATCH(S61,Calculator!B61:B64,0),0) -> 0 | AB61: =INDEX(Calculator!J61:J64,MATCH(S61,Calculator!B61:B64,0),0) -> 0
A62: =A61+2 -> 117 | B62: 59 | C62: D | D62: =Calculator!EB65 -> 46198.917 | H62: =M9 -> Türkiye | J62: =IF(OFFSET('Group Stages'!H7,A62-1,0)<>"",OFFSET('Group Stages'!H7,A62-1,0),"") | K62: =IF(OFFSET('Group Stages'!H8,A62-1,0)<>"",OFFSET('Group Stages'!H8,A62-1,0),"") | M62: =H7 -> USA | Q62: SoFi Stadium, Los Angeles 🇺🇸 | S62: 4 | T62: =INDEX(Calculator!C61:C64,MATCH(S62,Calculator!B61:B64,0),0) -> Jordan | V62: =SUM(W62:Y62) -> 0 | W62: =INDEX(Calculator!D61:D64,MATCH(S62,Calculator!B61:B64,0),0) -> 0 | X62: =INDEX(Calculator!E61:E64,MATCH(S62,Calculator!B61:B64,0),0) -> 0 | Y62: =INDEX(Calculator!F61:F64,MATCH(S62,Calculator!B61:B64,0),0) -> 0 | Z62: =INDEX(Calculator!G61:G64,MATCH(S62,Calculator!B61:B64,0),0) -> 0 | AA62: =INDEX(Calculator!H61:H64,MATCH(S62,Calculator!B61:B64,0),0) -> 0 | AB62: =INDEX(Calculator!J61:J64,MATCH(S62,Calculator!B61:B64,0),0) -> 0
A63: =A62+2 -> 119 | B63: 60 | C63: D | D63: =Calculator!EB66 -> 46198.917 | H63: =M7 -> Paraguay | J63: =IF(OFFSET('Group Stages'!H7,A63-1,0)<>"",OFFSET('Group Stages'!H7,A63-1,0),"") | K63: =IF(OFFSET('Group Stages'!H8,A63-1,0)<>"",OFFSET('Group Stages'!H8,A63-1,0),"") | M63: =H9 -> Australia | Q63: Levi’s Stadium, San Francisco 🇺🇸
A64: =A63+2 -> 121 | B64: 61 | C64: I | D64: =Calculator!EB67 -> 46199.625 | H64: =M21 -> Norway | J64: =IF(OFFSET('Group Stages'!H7,A64-1,0)<>"",OFFSET('Group Stages'!H7,A64-1,0),"") | K64: =IF(OFFSET('Group Stages'!H8,A64-1,0)<>"",OFFSET('Group Stages'!H8,A64-1,0),"") | M64: =H20 -> France | Q64: Gillette Stadium, Boston 🇺🇸 | S64: =INDEX(Language!A1:K177,MATCH("Group K",Language!B1:B177,0),MATCH(Setup!C5,Language!A1:J1,0)) -> Group K | V64: P | W64: W | X64: D | Y64: L | Z64: F | AA64: A | AB64: Pt
A65: =A64+2 -> 123 | B65: 62 | C65: I | D65: =Calculator!EB68 -> 46199.625 | H65: =M20 -> Senegal | J65: =IF(OFFSET('Group Stages'!H7,A65-1,0)<>"",OFFSET('Group Stages'!H7,A65-1,0),"") | K65: =IF(OFFSET('Group Stages'!H8,A65-1,0)<>"",OFFSET('Group Stages'!H8,A65-1,0),"") | M65: =H21 -> Iraq | Q65: BMO Field, Toronto 🇨🇦 | S65: 1 | T65: =INDEX(Calculator!C67:C70,MATCH(S65,Calculator!B67:B70,0),0) -> Portugal | V65: =SUM(W65:Y65) -> 0 | W65: =INDEX(Calculator!D67:D70,MATCH(S65,Calculator!B67:B70,0),0) -> 0 | X65: =INDEX(Calculator!E67:E70,MATCH(S65,Calculator!B67:B70,0),0) -> 0 | Y65: =INDEX(Calculator!F67:F70,MATCH(S65,Calculator!B67:B70,0),0) -> 0 | Z65: =INDEX(Calculator!G67:G70,MATCH(S65,Calculator!B67:B70,0),0) -> 0 | AA65: =INDEX(Calculator!H67:H70,MATCH(S65,Calculator!B67:B70,0),0) -> 0 | AB65: =INDEX(Calculator!J67:J70,MATCH(S65,Calculator!B67:B70,0),0) -> 0
A66: =A65+2 -> 125 | B66: 63 | C66: G | D66: =Calculator!EB69 -> 46199.958 | H66: =M19 -> Egypt | J66: =IF(OFFSET('Group Stages'!H7,A66-1,0)<>"",OFFSET('Group Stages'!H7,A66-1,0),"") | K66: =IF(OFFSET('Group Stages'!H8,A66-1,0)<>"",OFFSET('Group Stages'!H8,A66-1,0),"") | M66: =H18 -> Iran | Q66: Lumen Field, Seattle 🇺🇸 | S66: 2 | T66: =INDEX(Calculator!C67:C70,MATCH(S66,Calculator!B67:B70,0),0) -> Colombia | V66: =SUM(W66:Y66) -> 0 | W66: =INDEX(Calculator!D67:D70,MATCH(S66,Calculator!B67:B70,0),0) -> 0 | X66: =INDEX(Calculator!E67:E70,MATCH(S66,Calculator!B67:B70,0),0) -> 0 | Y66: =INDEX(Calculator!F67:F70,MATCH(S66,Calculator!B67:B70,0),0) -> 0 | Z66: =INDEX(Calculator!G67:G70,MATCH(S66,Calculator!B67:B70,0),0) -> 0 | AA66: =INDEX(Calculator!H67:H70,MATCH(S66,Calculator!B67:B70,0),0) -> 0 | AB66: =INDEX(Calculator!J67:J70,MATCH(S66,Calculator!B67:B70,0),0) -> 0
A67: =A66+2 -> 127 | B67: 64 | C67: G | D67: =Calculator!EB70 -> 46199.958 | H67: =M18 -> New Zealand | J67: =IF(OFFSET('Group Stages'!H7,A67-1,0)<>"",OFFSET('Group Stages'!H7,A67-1,0),"") | K67: =IF(OFFSET('Group Stages'!H8,A67-1,0)<>"",OFFSET('Group Stages'!H8,A67-1,0),"") | M67: =H19 -> Belgium | Q67: BC Place, Vancouver 🇨🇦 | S67: 3 | T67: =INDEX(Calculator!C67:C70,MATCH(S67,Calculator!B67:B70,0),0) -> DR Congo | V67: =SUM(W67:Y67) -> 0 | W67: =INDEX(Calculator!D67:D70,MATCH(S67,Calculator!B67:B70,0),0) -> 0 | X67: =INDEX(Calculator!E67:E70,MATCH(S67,Calculator!B67:B70,0),0) -> 0 | Y67: =INDEX(Calculator!F67:F70,MATCH(S67,Calculator!B67:B70,0),0) -> 0 | Z67: =INDEX(Calculator!G67:G70,MATCH(S67,Calculator!B67:B70,0),0) -> 0 | AA67: =INDEX(Calculator!H67:H70,MATCH(S67,Calculator!B67:B70,0),0) -> 0 | AB67: =INDEX(Calculator!J67:J70,MATCH(S67,Calculator!B67:B70,0),0) -> 0
A68: =A67+2 -> 129 | B68: 65 | C68: H | D68: =Calculator!EB71 -> 46199.833 | H68: =M17 -> Cabo Verde | J68: =IF(OFFSET('Group Stages'!H7,A68-1,0)<>"",OFFSET('Group Stages'!H7,A68-1,0),"") | K68: =IF(OFFSET('Group Stages'!H8,A68-1,0)<>"",OFFSET('Group Stages'!H8,A68-1,0),"") | M68: =H16 -> Saudi Arabia | Q68: NRG Stadium, Houston 🇺🇸 | S68: 4 | T68: =INDEX(Calculator!C67:C70,MATCH(S68,Calculator!B67:B70,0),0) -> Uzbekistan | V68: =SUM(W68:Y68) -> 0 | W68: =INDEX(Calculator!D67:D70,MATCH(S68,Calculator!B67:B70,0),0) -> 0 | X68: =INDEX(Calculator!E67:E70,MATCH(S68,Calculator!B67:B70,0),0) -> 0 | Y68: =INDEX(Calculator!F67:F70,MATCH(S68,Calculator!B67:B70,0),0) -> 0 | Z68: =INDEX(Calculator!G67:G70,MATCH(S68,Calculator!B67:B70,0),0) -> 0 | AA68: =INDEX(Calculator!H67:H70,MATCH(S68,Calculator!B67:B70,0),0) -> 0 | AB68: =INDEX(Calculator!J67:J70,MATCH(S68,Calculator!B67:B70,0),0) -> 0
A69: =A68+2 -> 131 | B69: 66 | C69: H | D69: =Calculator!EB73 -> 46199.833 | H69: =M16 -> Uruguay | J69: =IF(OFFSET('Group Stages'!H7,A69-1,0)<>"",OFFSET('Group Stages'!H7,A69-1,0),"") | K69: =IF(OFFSET('Group Stages'!H8,A69-1,0)<>"",OFFSET('Group Stages'!H8,A69-1,0),"") | M69: =H17 -> Spain | Q69: Estadio Akron, Guadalajara 🇲🇽
A70: =A69+2 -> 133 | B70: 67 | C70: L | D70: =Calculator!EB74 -> 46200.708 | H70: =M24 -> Panama | J70: =IF(OFFSET('Group Stages'!H7,A70-1,0)<>"",OFFSET('Group Stages'!H7,A70-1,0),"") | K70: =IF(OFFSET('Group Stages'!H8,A70-1,0)<>"",OFFSET('Group Stages'!H8,A70-1,0),"") | M70: =H25 -> England | Q70: MetLife Stadium, NY/NJ 🇺🇸 | S70: =INDEX(Language!A1:K177,MATCH("Group L",Language!B1:B177,0),MATCH(Setup!C5,Language!A1:J1,0)) -> Group L | V70: P | W70: W | X70: D | Y70: L | Z70: F | AA70: A | AB70: Pt
A71: =A70+2 -> 135 | B71: 68 | C71: L | D71: =Calculator!EB75 -> 46200.708 | H71: =M25 -> Croatia | J71: =IF(OFFSET('Group Stages'!H7,A71-1,0)<>"",OFFSET('Group Stages'!H7,A71-1,0),"") | K71: =IF(OFFSET('Group Stages'!H8,A71-1,0)<>"",OFFSET('Group Stages'!H8,A71-1,0),"") | M71: =H24 -> Ghana | Q71: Lincoln Financial Field, Philadelphia 🇺🇸 | S71: 1 | T71: =INDEX(Calculator!C73:C76,MATCH(S71,Calculator!B73:B76,0),0) -> England | V71: =SUM(W71:Y71) -> 0 | W71: =INDEX(Calculator!D73:D76,MATCH(S71,Calculator!B73:B76,0),0) -> 0 | X71: =INDEX(Calculator!E73:E76,MATCH(S71,Calculator!B73:B76,0),0) -> 0 | Y71: =INDEX(Calculator!F73:F76,MATCH(S71,Calculator!B73:B76,0),0) -> 0 | Z71: =INDEX(Calculator!G73:G76,MATCH(S71,Calculator!B73:B76,0),0) -> 0 | AA71: =INDEX(Calculator!H73:H76,MATCH(S71,Calculator!B73:B76,0),0) -> 0 | AB71: =INDEX(Calculator!J73:J76,MATCH(S71,Calculator!B73:B76,0),0) -> 0
A72: =A71+2 -> 137 | B72: 69 | C72: J | D72: =Calculator!EB76 -> 46200.917 | H72: =M22 -> Algeria | J72: =IF(OFFSET('Group Stages'!H7,A72-1,0)<>"",OFFSET('Group Stages'!H7,A72-1,0),"") | K72: =IF(OFFSET('Group Stages'!H8,A72-1,0)<>"",OFFSET('Group Stages'!H8,A72-1,0),"") | M72: =H23 -> Austria | Q72: Arrowhead Stadium, Kansas City 🇺🇸 | S72: 2 | T72: =INDEX(Calculator!C73:C76,MATCH(S72,Calculator!B73:B76,0),0) -> Croatia | V72: =SUM(W72:Y72) -> 0 | W72: =INDEX(Calculator!D73:D76,MATCH(S72,Calculator!B73:B76,0),0) -> 0 | X72: =INDEX(Calculator!E73:E76,MATCH(S72,Calculator!B73:B76,0),0) -> 0 | Y72: =INDEX(Calculator!F73:F76,MATCH(S72,Calculator!B73:B76,0),0) -> 0 | Z72: =INDEX(Calculator!G73:G76,MATCH(S72,Calculator!B73:B76,0),0) -> 0 | AA72: =INDEX(Calculator!H73:H76,MATCH(S72,Calculator!B73:B76,0),0) -> 0 | AB72: =INDEX(Calculator!J73:J76,MATCH(S72,Calculator!B73:B76,0),0) -> 0
A73: =A72+2 -> 139 | B73: 70 | C73: J | D73: =Calculator!EB77 -> 46200.917 | H73: =M23 -> Jordan | J73: =IF(OFFSET('Group Stages'!H7,A73-1,0)<>"",OFFSET('Group Stages'!H7,A73-1,0),"") | K73: =IF(OFFSET('Group Stages'!H8,A73-1,0)<>"",OFFSET('Group Stages'!H8,A73-1,0),"") | M73: =H22 -> Argentina | Q73: AT&T Stadium, Dallas 🇺🇸 | S73: 3 | T73: =INDEX(Calculator!C73:C76,MATCH(S73,Calculator!B73:B76,0),0) -> Panama | V73: =SUM(W73:Y73) -> 0 | W73: =INDEX(Calculator!D73:D76,MATCH(S73,Calculator!B73:B76,0),0) -> 0 | X73: =INDEX(Calculator!E73:E76,MATCH(S73,Calculator!B73:B76,0),0) -> 0 | Y73: =INDEX(Calculator!F73:F76,MATCH(S73,Calculator!B73:B76,0),0) -> 0 | Z73: =INDEX(Calculator!G73:G76,MATCH(S73,Calculator!B73:B76,0),0) -> 0 | AA73: =INDEX(Calculator!H73:H76,MATCH(S73,Calculator!B73:B76,0),0) -> 0 | AB73: =INDEX(Calculator!J73:J76,MATCH(S73,Calculator!B73:B76,0),0) -> 0
A74: =A73+2 -> 141 | B74: 71 | C74: K | D74: =Calculator!EB78 -> 46200.812 | H74: =M27 -> Colombia | J74: =IF(OFFSET('Group Stages'!H7,A74-1,0)<>"",OFFSET('Group Stages'!H7,A74-1,0),"") | K74: =IF(OFFSET('Group Stages'!H8,A74-1,0)<>"",OFFSET('Group Stages'!H8,A74-1,0),"") | M74: =H26 -> Portugal | Q74: Hard Rock Stadium, Miami 🇺🇸 | S74: 4 | T74: =INDEX(Calculator!C73:C76,MATCH(S74,Calculator!B73:B76,0),0) -> Ghana | V74: =SUM(W74:Y74) -> 0 | W74: =INDEX(Calculator!D73:D76,MATCH(S74,Calculator!B73:B76,0),0) -> 0 | X74: =INDEX(Calculator!E73:E76,MATCH(S74,Calculator!B73:B76,0),0) -> 0 | Y74: =INDEX(Calculator!F73:F76,MATCH(S74,Calculator!B73:B76,0),0) -> 0 | Z74: =INDEX(Calculator!G73:G76,MATCH(S74,Calculator!B73:B76,0),0) -> 0 | AA74: =INDEX(Calculator!H73:H76,MATCH(S74,Calculator!B73:B76,0),0) -> 0 | AB74: =INDEX(Calculator!J73:J76,MATCH(S74,Calculator!B73:B76,0),0) -> 0
A75: =A74+2 -> 143 | B75: 72 | C75: K | D75: =Calculator!EB79 -> 46200.812 | H75: =M26 -> DR Congo | J75: =IF(OFFSET('Group Stages'!H7,A75-1,0)<>"",OFFSET('Group Stages'!H7,A75-1,0),"") | K75: =IF(OFFSET('Group Stages'!H8,A75-1,0)<>"",OFFSET('Group Stages'!H8,A75-1,0),"") | M75: =H27 -> Uzbekistan | Q75: Mercedes-Benz Stadium, Atlanta 🇺🇸
B76: Knock Out Rounds | O76: PSO | S76: Group A-L 3rd Place Standings
A77: 1 | B77: 73 | C77: R32 | D77: =Calculator!EB80 -> 46201.625 | H77: =IF(SUM(V5:V8)=12,T6,INDEX(Language!A1:J177,MATCH("Group A Runner Up",Language!B1:B177,0),MATCH(Setup!C5,Language!A1:J1,0))) -> ❷ A | J77: =IF(OFFSET('Knock Out Stages'!H7,A77-1,0)<>"",OFFSET('Knock Out Stages'!H7,A77-1,0),"") | K77: =IF(OFFSET('Knock Out Stages'!H8,A77-1,0)<>"",OFFSET('Knock Out Stages'!H8,A77-1,0),"") | M77: =IF(SUM(V11:V14)=12,T12,INDEX(Language!A1:J177,MATCH("Group B Runner Up",Language!B1:B177,0),MATCH(Setup!C5,Language!A1:J1,0))) -> ❷ B | O77: =OFFSET('Knock Out Stages'!I7,A77-1,0) -> 0 | P77: =OFFSET('Knock Out Stages'!I8,A77-1,0) -> 0 | Q77: SoFi Stadium, Los Angeles 🇺🇸 | T77: Country | U77: Gr | V77: P | W77: W | X77: D | Y77: L | Z77: F | AA77: A | AB77: Pt
A78: =A77+2 -> 3 | B78: 74 | D78: =Calculator!EB81 -> 46202.688 | H78: =IF(SUM(V29:V32)=12,T29,INDEX(Language!A1:J177,MATCH("Group E Winner",Language!B1:B177,0),MATCH(Setup!C5,Language!A1:J1,0))) -> ❶ E | J78: =IF(OFFSET('Knock Out Stages'!H7,A78-1,0)<>"",OFFSET('Knock Out Stages'!H7,A78-1,0),"") | K78: =IF(OFFSET('Knock Out Stages'!H8,A78-1,0)<>"",OFFSET('Knock Out Stages'!H8,A78-1,0),"") | M78: =IF(SUM(V78:V89)=36,Calculator!E677,INDEX(Language!A1:J177,MATCH("3rd Group A/B/C/D/F",Language!B1:B177,0),MATCH(Setup!C5,Language!A1:J1,0))) -> ❸ A/B/C/D/F | O78: =OFFSET('Knock Out Stages'!I7,A78-1,0) -> 0 | P78: =OFFSET('Knock Out Stages'!I8,A78-1,0) -> 0 | Q78: Gillette Stadium, Boston 🇺🇸 | S78: 1 | T78: =Calculator!U658 -> Australia | U78: =Calculator!T658 -> D | V78: =SUM(W78:Y78) -> 0 | W78: =INDEX(W5:W74,MATCH(T78,T5:T74,0),0) -> 0 | X78: =INDEX(X5:X74,MATCH(T78,T5:T74,0),0) -> 0 | Y78: =INDEX(Y5:Y74,MATCH(T78,T5:T74,0),0) -> 0 | Z78: =INDEX(Z5:Z74,MATCH(T78,T5:T74,0),0) -> 0 | AA78: =INDEX(AA5:AA74,MATCH(T78,T5:T74,0),0) -> 0 | AB78: =INDEX(AB5:AB74,MATCH(T78,T5:T74,0),0) -> 0
A79: =A78+2 -> 5 | B79: 75 | D79: =Calculator!EB82 -> 46202.875 | H79: =IF(SUM(V35:V38)=12,T35,INDEX(Language!A1:J177,MATCH("Group F Winner",Language!B1:B177,0),MATCH(Setup!C5,Language!A1:J1,0))) -> ❶ F | J79: =IF(OFFSET('Knock Out Stages'!H7,A79-1,0)<>"",OFFSET('Knock Out Stages'!H7,A79-1,0),"") | K79: =IF(OFFSET('Knock Out Stages'!H8,A79-1,0)<>"",OFFSET('Knock Out Stages'!H8,A79-1,0),"") | M79: =IF(SUM(V17:V20)=12,T18,INDEX(Language!A1:J177,MATCH("Group C Runner Up",Language!B1:B177,0),MATCH(Setup!C5,Language!A1:J1,0))) -> ❷ C | O79: =OFFSET('Knock Out Stages'!I7,A79-1,0) -> 0 | P79: =OFFSET('Knock Out Stages'!I8,A79-1,0) -> 0 | Q79: Estadio BBVA, Monterrey 🇲🇽 | S79: 2 | T79: =Calculator!U659 -> Algeria | U79: =Calculator!T659 -> J | V79: =SUM(W79:Y79) -> 0 | W79: =INDEX(W5:W74,MATCH(T79,T5:T74,0),0) -> 0 | X79: =INDEX(X5:X74,MATCH(T79,T5:T74,0),0) -> 0 | Y79: =INDEX(Y5:Y74,MATCH(T79,T5:T74,0),0) -> 0 | Z79: =INDEX(Z5:Z74,MATCH(T79,T5:T74,0),0) -> 0 | AA79: =INDEX(AA5:AA74,MATCH(T79,T5:T74,0),0) -> 0 | AB79: =INDEX(AB5:AB74,MATCH(T79,T5:T74,0),0) -> 0
A80: =A79+2 -> 7 | B80: 76 | D80: =Calculator!EB83 -> 46202.542 | H80: =IF(SUM(V17:V20)=12,T17,INDEX(Language!A1:J177,MATCH("Group C Winner",Language!B1:B177,0),MATCH(Setup!C5,Language!A1:J1,0))) -> ❶ C | J80: =IF(OFFSET('Knock Out Stages'!H7,A80-1,0)<>"",OFFSET('Knock Out Stages'!H7,A80-1,0),"") | K80: =IF(OFFSET('Knock Out Stages'!H8,A80-1,0)<>"",OFFSET('Knock Out Stages'!H8,A80-1,0),"") | M80: =IF(SUM(V35:V38)=12,T36,INDEX(Language!A1:J177,MATCH("Group F Runner Up",Language!B1:B177,0),MATCH(Setup!C5,Language!A1:J1,0))) -> ❷ F | O80: =OFFSET('Knock Out Stages'!I7,A80-1,0) -> 0 | P80: =OFFSET('Knock Out Stages'!I8,A80-1,0) -> 0 | Q80: NRG Stadium, Houston 🇺🇸 | S80: 3 | T80: =Calculator!U660 -> Egypt | U80: =Calculator!T660 -> G | V80: =SUM(W80:Y80) -> 0 | W80: =INDEX(W5:W74,MATCH(T80,T5:T74,0),0) -> 0 | X80: =INDEX(X5:X74,MATCH(T80,T5:T74,0),0) -> 0 | Y80: =INDEX(Y5:Y74,MATCH(T80,T5:T74,0),0) -> 0 | Z80: =INDEX(Z5:Z74,MATCH(T80,T5:T74,0),0) -> 0 | AA80: =INDEX(AA5:AA74,MATCH(T80,T5:T74,0),0) -> 0 | AB80: =INDEX(AB5:AB74,MATCH(T80,T5:T74,0),0) -> 0
A81: =A80+2 -> 9 | B81: 77 | D81: =Calculator!EB84 -> 46203.708 | H81: =IF(SUM(V53:V56)=12,T53,INDEX(Language!A1:J177,MATCH("Group I Winner",Language!B1:B177,0),MATCH(Setup!C5,Language!A1:J1,0))) -> ❶ I | J81: =IF(OFFSET('Knock Out Stages'!H7,A81-1,0)<>"",OFFSET('Knock Out Stages'!H7,A81-1,0),"") | K81: =IF(OFFSET('Knock Out Stages'!H8,A81-1,0)<>"",OFFSET('Knock Out Stages'!H8,A81-1,0),"") | M81: =IF(SUM(V78:V89)=36,Calculator!E681,INDEX(Language!A1:J177,MATCH("3rd Group C/D/F/G/H",Language!B1:B177,0),MATCH(Setup!C5,Language!A1:J1,0))) -> ❸ C/D/F/G/H | O81: =OFFSET('Knock Out Stages'!I7,A81-1,0) -> 0 | P81: =OFFSET('Knock Out Stages'!I8,A81-1,0) -> 0 | Q81: MetLife Stadium, NY/NJ 🇺🇸 | S81: 4 | T81: =Calculator!U661 -> Norway | U81: =Calculator!T661 -> I | V81: =SUM(W81:Y81) -> 0 | W81: =INDEX(W5:W74,MATCH(T81,T5:T74,0),0) -> 0 | X81: =INDEX(X5:X74,MATCH(T81,T5:T74,0),0) -> 0 | Y81: =INDEX(Y5:Y74,MATCH(T81,T5:T74,0),0) -> 0 | Z81: =INDEX(Z5:Z74,MATCH(T81,T5:T74,0),0) -> 0 | AA81: =INDEX(AA5:AA74,MATCH(T81,T5:T74,0),0) -> 0 | AB81: =INDEX(AB5:AB74,MATCH(T81,T5:T74,0),0) -> 0
A82: =A81+2 -> 11 | B82: 78 | D82: =Calculator!EB85 -> 46203.542 | H82: =IF(SUM(V29:V32)=12,T30,INDEX(Language!A1:J177,MATCH("Group E Runner Up",Language!B1:B177,0),MATCH(Setup!C5,Language!A1:J1,0))) -> ❷ E | J82: =IF(OFFSET('Knock Out Stages'!H7,A82-1,0)<>"",OFFSET('Knock Out Stages'!H7,A82-1,0),"") | K82: =IF(OFFSET('Knock Out Stages'!H8,A82-1,0)<>"",OFFSET('Knock Out Stages'!H8,A82-1,0),"") | M82: =IF(SUM(V53:V56)=12,T54,INDEX(Language!A1:J177,MATCH("Group I Runner Up",Language!B1:B177,0),MATCH(Setup!C5,Language!A1:J1,0))) -> ❷ I | O82: =OFFSET('Knock Out Stages'!I7,A82-1,0) -> 0 | P82: =OFFSET('Knock Out Stages'!I8,A82-1,0) -> 0 | Q82: AT&T Stadium, Dallas 🇺🇸 | S82: 5 | T82: =Calculator!U662 -> Panama | U82: =Calculator!T662 -> L | V82: =SUM(W82:Y82) -> 0 | W82: =INDEX(W5:W74,MATCH(T82,T5:T74,0),0) -> 0 | X82: =INDEX(X5:X74,MATCH(T82,T5:T74,0),0) -> 0 | Y82: =INDEX(Y5:Y74,MATCH(T82,T5:T74,0),0) -> 0 | Z82: =INDEX(Z5:Z74,MATCH(T82,T5:T74,0),0) -> 0 | AA82: =INDEX(AA5:AA74,MATCH(T82,T5:T74,0),0) -> 0 | AB82: =INDEX(AB5:AB74,MATCH(T82,T5:T74,0),0) -> 0
A83: =A82+2 -> 13 | B83: 79 | D83: =Calculator!EB86 -> 46203.875 | H83: =IF(SUM(V5:V8)=12,T5,INDEX(Language!A1:J177,MATCH("Group A Winner",Language!B1:B177,0),MATCH(Setup!C5,Language!A1:J1,0))) -> ❶ A | J83: =IF(OFFSET('Knock Out Stages'!H7,A83-1,0)<>"",OFFSET('Knock Out Stages'!H7,A83-1,0),"") | K83: =IF(OFFSET('Knock Out Stages'!H8,A83-1,0)<>"",OFFSET('Knock Out Stages'!H8,A83-1,0),"") | M83: =IF(SUM(V78:V89)=36,Calculator!E673,INDEX(Language!A1:J177,MATCH("3rd Group C/E/F/H/I",Language!B1:B177,0),MATCH(Setup!C5,Language!A1:J1,0))) -> ❸ C/E/F/H/I | O83: =OFFSET('Knock Out Stages'!I7,A83-1,0) -> 0 | P83: =OFFSET('Knock Out Stages'!I8,A83-1,0) -> 0 | Q83: Estadio Azteca, Mexico City 🇲🇽 | S83: 6 | T83: =Calculator!U663 -> Cote D'Voire | U83: =Calculator!T663 -> E | V83: =SUM(W83:Y83) -> 0 | W83: =INDEX(W5:W74,MATCH(T83,T5:T74,0),0) -> 0 | X83: =INDEX(X5:X74,MATCH(T83,T5:T74,0),0) -> 0 | Y83: =INDEX(Y5:Y74,MATCH(T83,T5:T74,0),0) -> 0 | Z83: =INDEX(Z5:Z74,MATCH(T83,T5:T74,0),0) -> 0 | AA83: =INDEX(AA5:AA74,MATCH(T83,T5:T74,0),0) -> 0 | AB83: =INDEX(AB5:AB74,MATCH(T83,T5:T74,0),0) -> 0
A84: =A83+2 -> 15 | B84: 80 | D84: =Calculator!EB87 -> 46204.5 | H84: =IF(SUM(V71:V74)=12,T71,INDEX(Language!A1:J177,MATCH("Group L Winner",Language!B1:B177,0),MATCH(Setup!C5,Language!A1:J1,0))) -> ❶ L | J84: =IF(OFFSET('Knock Out Stages'!H7,A84-1,0)<>"",OFFSET('Knock Out Stages'!H7,A84-1,0),"") | K84: =IF(OFFSET('Knock Out Stages'!H8,A84-1,0)<>"",OFFSET('Knock Out Stages'!H8,A84-1,0),"") | M84: =IF(SUM(V78:V89)=36,Calculator!E684,INDEX(Language!A1:J177,MATCH("3rd Group E/H/I/J/K",Language!B1:B177,0),MATCH(Setup!C5,Language!A1:J1,0))) -> ❸ E/H/I/J/K | O84: =OFFSET('Knock Out Stages'!I7,A84-1,0) -> 0 | P84: =OFFSET('Knock Out Stages'!I8,A84-1,0) -> 0 | Q84: Mercedes-Benz Stadium, Atlanta 🇺🇸 | S84: 7 | T84: =Calculator!U664 -> Scotland | U84: =Calculator!T664 -> C | V84: =SUM(W84:Y84) -> 0 | W84: =INDEX(W5:W74,MATCH(T84,T5:T74,0),0) -> 0 | X84: =INDEX(X5:X74,MATCH(T84,T5:T74,0),0) -> 0 | Y84: =INDEX(Y5:Y74,MATCH(T84,T5:T74,0),0) -> 0 | Z84: =INDEX(Z5:Z74,MATCH(T84,T5:T74,0),0) -> 0 | AA84: =INDEX(AA5:AA74,MATCH(T84,T5:T74,0),0) -> 0 | AB84: =INDEX(AB5:AB74,MATCH(T84,T5:T74,0),0) -> 0
A85: =A84+2 -> 17 | B85: 81 | D85: =Calculator!EB88 -> 46204.833 | H85: =IF(SUM(V23:V26)=12,T23,INDEX(Language!A1:J177,MATCH("Group D Winner",Language!B1:B177,0),MATCH(Setup!C5,Language!A1:J1,0))) -> ❶ D | J85: =IF(OFFSET('Knock Out Stages'!H7,A85-1,0)<>"",OFFSET('Knock Out Stages'!H7,A85-1,0),"") | K85: =IF(OFFSET('Knock Out Stages'!H8,A85-1,0)<>"",OFFSET('Knock Out Stages'!H8,A85-1,0),"") | M85: =IF(SUM(V78:V89)=36,Calculator!E676,INDEX(Language!A1:J177,MATCH("3rd Group B/E/F/I/J",Language!B1:B177,0),MATCH(Setup!C5,Language!A1:J1,0))) -> ❸ B/E/F/I/J | O85: =OFFSET('Knock Out Stages'!I7,A85-1,0) -> 0 | P85: =OFFSET('Knock Out Stages'!I8,A85-1,0) -> 0 | Q85: Levi’s Stadium, San Francisco 🇺🇸 | S85: 8 | T85: =Calculator!U665 -> Sweden | U85: =Calculator!T665 -> F | V85: =SUM(W85:Y85) -> 0 | W85: =INDEX(W5:W74,MATCH(T85,T5:T74,0),0) -> 0 | X85: =INDEX(X5:X74,MATCH(T85,T5:T74,0),0) -> 0 | Y85: =INDEX(Y5:Y74,MATCH(T85,T5:T74,0),0) -> 0 | Z85: =INDEX(Z5:Z74,MATCH(T85,T5:T74,0),0) -> 0 | AA85: =INDEX(AA5:AA74,MATCH(T85,T5:T74,0),0) -> 0 | AB85: =INDEX(AB5:AB74,MATCH(T85,T5:T74,0),0) -> 0
A86: =A85+2 -> 19 | B86: 82 | D86: =Calculator!EB89 -> 46204.667 | H86: =IF(SUM(V41:V44)=12,T41,INDEX(Language!A1:J177,MATCH("Group G Winner",Language!B1:B177,0),MATCH(Setup!C5,Language!A1:J1,0))) -> ❶ G | J86: =IF(OFFSET('Knock Out Stages'!H7,A86-1,0)<>"",OFFSET('Knock Out Stages'!H7,A86-1,0),"") | K86: =IF(OFFSET('Knock Out Stages'!H8,A86-1,0)<>"",OFFSET('Knock Out Stages'!H8,A86-1,0),"") | M86: =IF(SUM(V78:V89)=36,Calculator!E679,INDEX(Language!A1:J177,MATCH("3rd Group A/E/H/I/J",Language!B1:B177,0),MATCH(Setup!C5,Language!A1:J1,0))) -> ❸ A/E/H/I/J | O86: =OFFSET('Knock Out Stages'!I7,A86-1,0) -> 0 | P86: =OFFSET('Knock Out Stages'!I8,A86-1,0) -> 0 | Q86: Lumen Field, Seattle 🇺🇸 | S86: 9 | T86: =Calculator!U666 -> Czechia | U86: =Calculator!T666 -> A | V86: =SUM(W86:Y86) -> 0 | W86: =INDEX(W5:W74,MATCH(T86,T5:T74,0),0) -> 0 | X86: =INDEX(X5:X74,MATCH(T86,T5:T74,0),0) -> 0 | Y86: =INDEX(Y5:Y74,MATCH(T86,T5:T74,0),0) -> 0 | Z86: =INDEX(Z5:Z74,MATCH(T86,T5:T74,0),0) -> 0 | AA86: =INDEX(AA5:AA74,MATCH(T86,T5:T74,0),0) -> 0 | AB86: =INDEX(AB5:AB74,MATCH(T86,T5:T74,0),0) -> 0
A87: =A86+2 -> 21 | B87: 83 | D87: =Calculator!EB90 -> 46205.792 | H87: =IF(SUM(V65:V68)=12,T66,INDEX(Language!A1:J177,MATCH("Group K Runner Up",Language!B1:B177,0),MATCH(Setup!C5,Language!A1:J1,0))) -> ❷ K | J87: =IF(OFFSET('Knock Out Stages'!H7,A87-1,0)<>"",OFFSET('Knock Out Stages'!H7,A87-1,0),"") | K87: =IF(OFFSET('Knock Out Stages'!H8,A87-1,0)<>"",OFFSET('Knock Out Stages'!H8,A87-1,0),"") | M87: =IF(SUM(V71:V74)=12,T72,INDEX(Language!A1:J177,MATCH("Group L Runner Up",Language!B1:B177,0),MATCH(Setup!C5,Language!A1:J1,0))) -> ❷ L | O87: =OFFSET('Knock Out Stages'!I7,A87-1,0) -> 0 | P87: =OFFSET('Knock Out Stages'!I8,A87-1,0) -> 0 | Q87: BMO Field, Toronto 🇨🇦 | S87: 10 | T87: =Calculator!U667 -> DR Congo | U87: =Calculator!T667 -> K | V87: =SUM(W87:Y87) -> 0 | W87: =INDEX(W5:W74,MATCH(T87,T5:T74,0),0) -> 0 | X87: =INDEX(X5:X74,MATCH(T87,T5:T74,0),0) -> 0 | Y87: =INDEX(Y5:Y74,MATCH(T87,T5:T74,0),0) -> 0 | Z87: =INDEX(Z5:Z74,MATCH(T87,T5:T74,0),0) -> 0 | AA87: =INDEX(AA5:AA74,MATCH(T87,T5:T74,0),0) -> 0 | AB87: =INDEX(AB5:AB74,MATCH(T87,T5:T74,0),0) -> 0
A88: =A87+2 -> 23 | B88: 84 | D88: =Calculator!EB91 -> 46205.625 | H88: =IF(SUM(V47:V50)=12,T47,INDEX(Language!A1:J177,MATCH("Group H Winner",Language!B1:B177,0),MATCH(Setup!C5,Language!A1:J1,0))) -> ❶ H | J88: =IF(OFFSET('Knock Out Stages'!H7,A88-1,0)<>"",OFFSET('Knock Out Stages'!H7,A88-1,0),"") | K88: =IF(OFFSET('Knock Out Stages'!H8,A88-1,0)<>"",OFFSET('Knock Out Stages'!H8,A88-1,0),"") | M88: =IF(SUM(V59:V62)=12,T60,INDEX(Language!A1:J177,MATCH("Group J Runner Up",Language!B1:B177,0),MATCH(Setup!C5,Language!A1:J1,0))) -> ❷ J | O88: =OFFSET('Knock Out Stages'!I7,A88-1,0) -> 0 | P88: =OFFSET('Knock Out Stages'!I8,A88-1,0) -> 0 | Q88: SoFi Stadium, Los Angeles 🇺🇸 | S88: 11 | T88: =Calculator!U668 -> Qatar | U88: =Calculator!T668 -> B | V88: =SUM(W88:Y88) -> 0 | W88: =INDEX(W5:W74,MATCH(T88,T5:T74,0),0) -> 0 | X88: =INDEX(X5:X74,MATCH(T88,T5:T74,0),0) -> 0 | Y88: =INDEX(Y5:Y74,MATCH(T88,T5:T74,0),0) -> 0 | Z88: =INDEX(Z5:Z74,MATCH(T88,T5:T74,0),0) -> 0 | AA88: =INDEX(AA5:AA74,MATCH(T88,T5:T74,0),0) -> 0 | AB88: =INDEX(AB5:AB74,MATCH(T88,T5:T74,0),0) -> 0
A89: =A88+2 -> 25 | B89: 85 | D89: =Calculator!EB92 -> 46205.958 | H89: =IF(SUM(V11:V14)=12,T11,INDEX(Language!A1:J177,MATCH("Group B Winner",Language!B1:B177,0),MATCH(Setup!C5,Language!A1:J1,0))) -> ❶ B | J89: =IF(OFFSET('Knock Out Stages'!H7,A89-1,0)<>"",OFFSET('Knock Out Stages'!H7,A89-1,0),"") | K89: =IF(OFFSET('Knock Out Stages'!H8,A89-1,0)<>"",OFFSET('Knock Out Stages'!H8,A89-1,0),"") | M89: =IF(SUM(V78:V89)=36,Calculator!E674,INDEX(Language!A1:J177,MATCH("3rd Group E/F/G/I/J",Language!B1:B177,0),MATCH(Setup!C5,Language!A1:J1,0))) -> ❸ E/F/G/I/J | O89: =OFFSET('Knock Out Stages'!I7,A89-1,0) -> 0 | P89: =OFFSET('Knock Out Stages'!I8,A89-1,0) -> 0 | Q89: BC Place, Vancouver 🇨🇦 | S89: 12 | T89: =Calculator!U669 -> Saudi Arabia | U89: =Calculator!T669 -> H | V89: =SUM(W89:Y89) -> 0 | W89: =INDEX(W5:W74,MATCH(T89,T5:T74,0),0) -> 0 | X89: =INDEX(X5:X74,MATCH(T89,T5:T74,0),0) -> 0 | Y89: =INDEX(Y5:Y74,MATCH(T89,T5:T74,0),0) -> 0 | Z89: =INDEX(Z5:Z74,MATCH(T89,T5:T74,0),0) -> 0 | AA89: =INDEX(AA5:AA74,MATCH(T89,T5:T74,0),0) -> 0 | AB89: =INDEX(AB5:AB74,MATCH(T89,T5:T74,0),0) -> 0
A90: =A89+2 -> 27 | B90: 86 | D90: =Calculator!EB93 -> 46206.75 | H90: =IF(SUM(V59:V62)=12,T59,INDEX(Language!A1:J177,MATCH("Group J Winner",Language!B1:B177,0),MATCH(Setup!C5,Language!A1:J1,0))) -> ❶ J | J90: =IF(OFFSET('Knock Out Stages'!H7,A90-1,0)<>"",OFFSET('Knock Out Stages'!H7,A90-1,0),"") | K90: =IF(OFFSET('Knock Out Stages'!H8,A90-1,0)<>"",OFFSET('Knock Out Stages'!H8,A90-1,0),"") | M90: =IF(SUM(V47:V50)=12,T48,INDEX(Language!A1:J177,MATCH("Group H Runner Up",Language!B1:B177,0),MATCH(Setup!C5,Language!A1:J1,0))) -> ❷ H | O90: =OFFSET('Knock Out Stages'!I7,A90-1,0) -> 0 | P90: =OFFSET('Knock Out Stages'!I8,A90-1,0) -> 0 | Q90: Hard Rock Stadium, Miami 🇺🇸
A91: =A90+2 -> 29 | B91: 87 | D91: =Calculator!EB94 -> 46206.896 | H91: =IF(SUM(V65:V68)=12,T65,INDEX(Language!A1:J177,MATCH("Group K Winner",Language!B1:B177,0),MATCH(Setup!C5,Language!A1:J1,0))) -> ❶ K | J91: =IF(OFFSET('Knock Out Stages'!H7,A91-1,0)<>"",OFFSET('Knock Out Stages'!H7,A91-1,0),"") | K91: =IF(OFFSET('Knock Out Stages'!H8,A91-1,0)<>"",OFFSET('Knock Out Stages'!H8,A91-1,0),"") | M91: =IF(SUM(V78:V89)=36,Calculator!E683,INDEX(Language!A1:J177,MATCH("3rd Group D/E/I/J/L",Language!B1:B177,0),MATCH(Setup!C5,Language!A1:J1,0))) -> ❸ D/E/I/J/L | O91: =OFFSET('Knock Out Stages'!I7,A91-1,0) -> 0 | P91: =OFFSET('Knock Out Stages'!I8,A91-1,0) -> 0 | Q91: Arrowhead Stadium, Kansas City 🇺🇸 | S91: =UPPER(INDEX(WCTranslation,MATCH("World Cup 2026 Champion",WCTransRef,0),MATCH(Setup!C5,WCLanguageRef,0))) -> WORLD CUP 2026 CHAMPION
A92: =A91+2 -> 31 | B92: 88 | D92: =Calculator!EB95 -> 46206.583 | H92: =IF(SUM(V23:V26)=12,T24,INDEX(Language!A1:J177,MATCH("Group D Runner Up",Language!B1:B177,0),MATCH(Setup!C5,Language!A1:J1,0))) -> ❷ D | J92: =IF(OFFSET('Knock Out Stages'!H7,A92-1,0)<>"",OFFSET('Knock Out Stages'!H7,A92-1,0),"") | K92: =IF(OFFSET('Knock Out Stages'!H8,A92-1,0)<>"",OFFSET('Knock Out Stages'!H8,A92-1,0),"") | M92: =IF(SUM(V41:V44)=12,T42,INDEX(Language!A1:J177,MATCH("Group G Runner Up",Language!B1:B177,0),MATCH(Setup!C5,Language!A1:J1,0))) -> ❷ G | O92: =OFFSET('Knock Out Stages'!I7,A92-1,0) -> 0 | P92: =OFFSET('Knock Out Stages'!I8,A92-1,0) -> 0 | Q92: AT&T Stadium, Dallas 🇺🇸
A93: 1 | B93: 89 | C93: R16 | D93: =Calculator!EB96 -> 46207.708 | H93: =IF(AND(J78<>"",K78<>""),IF((J78+O78)>(K78+P78),H78,IF((J78+O78)<(K78+P78),M78,INDEX(Language!A1:J177,MATCH("Match 74 Winner",Language!B1:B177,0),MATCH(Setup!C5,Language!A1:J1,0)))),INDEX(Language!A1:J177,MATCH("Match 74 Winner",Language!B1:B177,0),MATCH(Setup!C5,Language!A1:J1,0))) -> Winner #74 | J93: =IF(OFFSET('Knock Out Stages'!H42,A93-1,0)<>"",OFFSET('Knock Out Stages'!H42,A93-1,0),"") | K93: =IF(OFFSET('Knock Out Stages'!H43,A93-1,0)<>"",OFFSET('Knock Out Stages'!H43,A93-1,0),"") | M93: =IF(AND(J81<>"",K81<>""),IF((J81+O81)>(K81+P81),H81,IF((J81+O81)<(K81+P81),M81,INDEX(Language!A1:J177,MATCH("Match 77 Winner",Language!B1:B177,0),MATCH(Setup!C5,Language!A1:J1,0)))),INDEX(Language!A1:J177,MATCH("Match 77 Winner",Language!B1:B177,0),MATCH(Setup!C5,Language!A1:J1,0))) -> Winner #77 | O93: =OFFSET('Knock Out Stages'!I42,A93-1,0) -> 0 | P93: =OFFSET('Knock Out Stages'!I43,A93-1,0) -> 0 | Q93: Lincoln Financial Field, Philadelphia 🇺🇸
A94: =A93+2 -> 3 | B94: 90 | D94: =Calculator!EB97 -> 46207.542 | H94: =IF(AND(J77<>"",K77<>""),IF((J77+O77)>(K77+P77),H77,IF((J77+O77)<(K77+P77),M77,INDEX(Language!A1:J177,MATCH("Match 73 Winner",Language!B1:B177,0),MATCH(Setup!C5,Language!A1:J1,0)))),INDEX(Language!A1:J177,MATCH("Match 73 Winner",Language!B1:B177,0),MATCH(Setup!C5,Language!A1:J1,0))) -> Winner #73 | J94: =IF(OFFSET('Knock Out Stages'!H42,A94-1,0)<>"",OFFSET('Knock Out Stages'!H42,A94-1,0),"") | K94: =IF(OFFSET('Knock Out Stages'!H43,A94-1,0)<>"",OFFSET('Knock Out Stages'!H43,A94-1,0),"") | M94: =IF(AND(J79<>"",K79<>""),IF((J79+O79)>(K79+P79),H79,IF((J79+O79)<(K79+P79),M79,INDEX(Language!A1:J177,MATCH("Match 75 Winner",Language!B1:B177,0),MATCH(Setup!C5,Language!A1:J1,0)))),INDEX(Language!A1:J177,MATCH("Match 75 Winner",Language!B1:B177,0),MATCH(Setup!C5,Language!A1:J1,0))) -> Winner #75 | O94: =OFFSET('Knock Out Stages'!I42,A94-1,0) -> 0 | P94: =OFFSET('Knock Out Stages'!I43,A94-1,0) -> 0 | Q94: NRG Stadium, Houston 🇺🇸
A95: =A94+2 -> 5 | B95: 91 | D95: =Calculator!EB98 -> 46208.667 | H95: =IF(AND(J80<>"",K80<>""),IF((J80+O80)>(K80+P80),H80,IF((J80+O80)<(K80+P80),M80,INDEX(Language!A1:J177,MATCH("Match 76 Winner",Language!B1:B177,0),MATCH(Setup!C5,Language!A1:J1,0)))),INDEX(Language!A1:J177,MATCH("Match 76 Winner",Language!B1:B177,0),MATCH(Setup!C5,Language!A1:J1,0))) -> Winner #76 | J95: =IF(OFFSET('Knock Out Stages'!H42,A95-1,0)<>"",OFFSET('Knock Out Stages'!H42,A95-1,0),"") | K95: =IF(OFFSET('Knock Out Stages'!H43,A95-1,0)<>"",OFFSET('Knock Out Stages'!H43,A95-1,0),"") | M95: =IF(AND(J82<>"",K82<>""),IF((J82+O82)>(K82+P82),H82,IF((J82+O82)<(K82+P82),M82,INDEX(Language!A1:J177,MATCH("Match 78 Winner",Language!B1:B177,0),MATCH(Setup!C5,Language!A1:J1,0)))),INDEX(Language!A1:J177,MATCH("Match 78 Winner",Language!B1:B177,0),MATCH(Setup!C5,Language!A1:J1,0))) -> Winner #78 | O95: =OFFSET('Knock Out Stages'!I42,A95-1,0) -> 0 | P95: =OFFSET('Knock Out Stages'!I43,A95-1,0) -> 0 | Q95: MetLife Stadium, NY/NJ 🇺🇸 | S95: =IF(AND(J108<>"",K108<>""),IF((J108+O108)>(K108+P108),H108,IF((J108+O108)<(K108+P108),M108,INDEX(Language!A1:J177,MATCH("Match 104 Winner",Language!B1:B177,0),MATCH(Setup!C5,Language!A1:J1,0)))),INDEX(Language!A1:J177,MATCH("Match 104 Winner",Language!B1:B177,0),MATCH(Setup!C5,Language!A1:J1,0))) -> Winner #104
A96: =A95+2 -> 7 | B96: 92 | D96: =Calculator!EB99 -> 46208.833 | H96: =IF(AND(J83<>"",K83<>""),IF((J83+O83)>(K83+P83),H83,IF((J83+O83)<(K83+P83),M83,INDEX(Language!A1:J177,MATCH("Match 79 Winner",Language!B1:B177,0),MATCH(Setup!C5,Language!A1:J1,0)))),INDEX(Language!A1:J177,MATCH("Match 79 Winner",Language!B1:B177,0),MATCH(Setup!C5,Language!A1:J1,0))) -> Winner #79 | J96: =IF(OFFSET('Knock Out Stages'!H42,A96-1,0)<>"",OFFSET('Knock Out Stages'!H42,A96-1,0),"") | K96: =IF(OFFSET('Knock Out Stages'!H43,A96-1,0)<>"",OFFSET('Knock Out Stages'!H43,A96-1,0),"") | M96: =IF(AND(J84<>"",K84<>""),IF((J84+O84)>(K84+P84),H84,IF((J84+O84)<(K84+P84),M84,INDEX(Language!A1:J177,MATCH("Match 80 Winner",Language!B1:B177,0),MATCH(Setup!C5,Language!A1:J1,0)))),INDEX(Language!A1:J177,MATCH("Match 80 Winner",Language!B1:B177,0),MATCH(Setup!C5,Language!A1:J1,0))) -> Winner #80 | O96: =OFFSET('Knock Out Stages'!I42,A96-1,0) -> 0 | P96: =OFFSET('Knock Out Stages'!I43,A96-1,0) -> 0 | Q96: Estadio Azteca, Mexico City 🇲🇽
A97: =A96+2 -> 9 | B97: 93 | D97: =Calculator!EB100 -> 46209.625 | H97: =IF(AND(J87<>"",K87<>""),IF((J87+O87)>(K87+P87),H87,IF((J87+O87)<(K87+P87),M87,INDEX(Language!A1:J177,MATCH("Match 83 Winner",Language!B1:B177,0),MATCH(Setup!C5,Language!A1:J1,0)))),INDEX(Language!A1:J177,MATCH("Match 83 Winner",Language!B1:B177,0),MATCH(Setup!C5,Language!A1:J1,0))) -> Winner #83 | J97: =IF(OFFSET('Knock Out Stages'!H42,A97-1,0)<>"",OFFSET('Knock Out Stages'!H42,A97-1,0),"") | K97: =IF(OFFSET('Knock Out Stages'!H43,A97-1,0)<>"",OFFSET('Knock Out Stages'!H43,A97-1,0),"") | M97: =IF(AND(J88<>"",K88<>""),IF((J88+O88)>(K88+P88),H88,IF((J88+O88)<(K88+P88),M88,INDEX(Language!A1:J177,MATCH("Match 84 Winner",Language!B1:B177,0),MATCH(Setup!C5,Language!A1:J1,0)))),INDEX(Language!A1:J177,MATCH("Match 84 Winner",Language!B1:B177,0),MATCH(Setup!C5,Language!A1:J1,0))) -> Winner #84 | O97: =OFFSET('Knock Out Stages'!I42,A97-1,0) -> 0 | P97: =OFFSET('Knock Out Stages'!I43,A97-1,0) -> 0 | Q97: AT&T Stadium, Dallas 🇺🇸
A98: =A97+2 -> 11 | B98: 94 | D98: =Calculator!EB101 -> 46209.833 | H98: =IF(AND(J85<>"",K85<>""),IF((J85+O85)>(K85+P85),H85,IF((J85+O85)<(K85+P85),M85,INDEX(Language!A1:J177,MATCH("Match 81 Winner",Language!B1:B177,0),MATCH(Setup!C5,Language!A1:J1,0)))),INDEX(Language!A1:J177,MATCH("Match 81 Winner",Language!B1:B177,0),MATCH(Setup!C5,Language!A1:J1,0))) -> Winner #81 | J98: =IF(OFFSET('Knock Out Stages'!H42,A98-1,0)<>"",OFFSET('Knock Out Stages'!H42,A98-1,0),"") | K98: =IF(OFFSET('Knock Out Stages'!H43,A98-1,0)<>"",OFFSET('Knock Out Stages'!H43,A98-1,0),"") | M98: =IF(AND(J86<>"",K86<>""),IF((J86+O86)>(K86+P86),H86,IF((J86+O86)<(K86+P86),M86,INDEX(Language!A1:J177,MATCH("Match 82 Winner",Language!B1:B177,0),MATCH(Setup!C5,Language!A1:J1,0)))),INDEX(Language!A1:J177,MATCH("Match 82 Winner",Language!B1:B177,0),MATCH(Setup!C5,Language!A1:J1,0))) -> Winner #82 | O98: =OFFSET('Knock Out Stages'!I42,A98-1,0) -> 0 | P98: =OFFSET('Knock Out Stages'!I43,A98-1,0) -> 0 | Q98: Lumen Field, Seattle 🇺🇸
A99: =A98+2 -> 13 | B99: 95 | D99: =Calculator!EB102 -> 46210.5 | H99: =IF(AND(J90<>"",K90<>""),IF((J90+O90)>(K90+P90),H90,IF((J90+O90)<(K90+P90),M90,INDEX(Language!A1:J177,MATCH("Match 86 Winner",Language!B1:B177,0),MATCH(Setup!C5,Language!A1:J1,0)))),INDEX(Language!A1:J177,MATCH("Match 86 Winner",Language!B1:B177,0),MATCH(Setup!C5,Language!A1:J1,0))) -> Winner #86 | J99: =IF(OFFSET('Knock Out Stages'!H42,A99-1,0)<>"",OFFSET('Knock Out Stages'!H42,A99-1,0),"") | K99: =IF(OFFSET('Knock Out Stages'!H43,A99-1,0)<>"",OFFSET('Knock Out Stages'!H43,A99-1,0),"") | M99: =IF(AND(J92<>"",K92<>""),IF((J92+O92)>(K92+P92),H92,IF((J92+O92)<(K92+P92),M92,INDEX(Language!A1:J177,MATCH("Match 88 Winner",Language!B1:B177,0),MATCH(Setup!C5,Language!A1:J1,0)))),INDEX(Language!A1:J177,MATCH("Match 88 Winner",Language!B1:B177,0),MATCH(Setup!C5,Language!A1:J1,0))) -> Winner #88 | O99: =OFFSET('Knock Out Stages'!I42,A99-1,0) -> 0 | P99: =OFFSET('Knock Out Stages'!I43,A99-1,0) -> 0 | Q99: Mercedes-Benz Stadium, Atlanta 🇺🇸
A100: =A99+2 -> 15 | B100: 96 | D100: =Calculator!EB103 -> 46210.667 | H100: =IF(AND(J89<>"",K89<>""),IF((J89+O89)>(K89+P89),H89,IF((J89+O89)<(K89+P89),M89,INDEX(Language!A1:J177,MATCH("Match 85 Winner",Language!B1:B177,0),MATCH(Setup!C5,Language!A1:J1,0)))),INDEX(Language!A1:J177,MATCH("Match 85 Winner",Language!B1:B177,0),MATCH(Setup!C5,Language!A1:J1,0))) -> Winner #85 | J100: =IF(OFFSET('Knock Out Stages'!H42,A100-1,0)<>"",OFFSET('Knock Out Stages'!H42,A100-1,0),"") | K100: =IF(OFFSET('Knock Out Stages'!H43,A100-1,0)<>"",OFFSET('Knock Out Stages'!H43,A100-1,0),"") | M100: =IF(AND(J91<>"",K91<>""),IF((J91+O91)>(K91+P91),H91,IF((J91+O91)<(K91+P91),M91,INDEX(Language!A1:J177,MATCH("Match 87 Winner",Language!B1:B177,0),MATCH(Setup!C5,Language!A1:J1,0)))),INDEX(Language!A1:J177,MATCH("Match 87 Winner",Language!B1:B177,0),MATCH(Setup!C5,Language!A1:J1,0))) -> Winner #87 | O100: =OFFSET('Knock Out Stages'!I42,A100-1,0) -> 0 | P100: =OFFSET('Knock Out Stages'!I43,A100-1,0) -> 0 | Q100: BC Place, Vancouver 🇨🇦 | S100: =INDEX(WCTranslation,MATCH("Second Place",WCTransRef,0),MATCH(Setup!C5,WCLanguageRef,0)) -> Second place
A101: 1 | B101: 97 | C101: QF | D101: =Calculator!EB104 -> 46212.667 | H101: =IF(AND(J93<>"",K93<>""),IF((J93+O93)>(K93+P93),H93,IF((J93+O93)<(K93+P93),M93,INDEX(Language!A1:J177,MATCH("Match 89 Winner",Language!B1:B177,0),MATCH(Setup!C5,Language!A1:J1,0)))),INDEX(Language!A1:J177,MATCH("Match 89 Winner",Language!B1:B177,0),MATCH(Setup!C5,Language!A1:J1,0))) -> Winner #89 | J101: =IF(OFFSET('Knock Out Stages'!H61,A101-1,0)<>"",OFFSET('Knock Out Stages'!H61,A101-1,0),"") | K101: =IF(OFFSET('Knock Out Stages'!H62,A101-1,0)<>"",OFFSET('Knock Out Stages'!H62,A101-1,0),"") | M101: =IF(AND(J94<>"",K94<>""),IF((J94+O94)>(K94+P94),H94,IF((J94+O94)<(K94+P94),M94,INDEX(Language!A1:J177,MATCH("Match 90 Winner",Language!B1:B177,0),MATCH(Setup!C5,Language!A1:J1,0)))),INDEX(Language!A1:J177,MATCH("Match 90 Winner",Language!B1:B177,0),MATCH(Setup!C5,Language!A1:J1,0))) -> Winner #90 | O101: =OFFSET('Knock Out Stages'!I61,A101-1,0) -> 0 | P101: =OFFSET('Knock Out Stages'!I62,A101-1,0) -> 0 | Q101: Gillette Stadium, Boston 🇺🇸
...

Sheet Knock Out Stages
K1: 1 | L1: 2 | M1: 3 | N1: 4 | O1: 5 | P1: 6 | Q1: 7 | R1: 8 | T1: 1 | U1: 2 | V1: 3 | W1: 4 | X1: 5 | Y1: 6 | Z1: 7 | AA1: 8 | AC1: 1 | AD1: 2 | AE1: 3 | AF1: 4 | AG1: 5 | AH1: 6 | AI1: 7 | AJ1: 8
B3: KNOCK OUT ROUNDS | K3: Goal Scorer | T3: Assist | U3: AVAILABLE IN PAID VERSION | AC3: Goal Minute | AF3: AVAILABLE IN PAID VERSION
H4: FT | I4: PSO | K4: 1st | L4: 2nd | M4: 3rd | N4: 4th | O4: 5th | P4: 6th | Q4: 7th | R4: 8th | T4: 1st | U4: 2nd | V4: 3rd | W4: 4th | X4: 5th | Y4: 6th | Z4: 7th | AA4: 8th | AC4: 1st | AD4: 2nd | AE4: 3rd | AF4: 4th | AG4: 5th | AH4: 6th | AI4: 7th | AJ4: 8th
A7: 1 | B7: R32 | C7: 73 | D7: =E7 -> 46201.625 | E7: =OFFSET(Matches!$D$77,A7-1,0) -> 46201.625 | F7: =OFFSET(Matches!$H$77,A7-1,0) -> ❷ A
A8: 1 | D8: =OFFSET(Matches!$Q$77,A7-1,0) -> SoFi Stadium, Los Angeles 🇺🇸 | F8: =OFFSET(Matches!$M$77,A8-1,0) -> ❷ B
A9: =A7+1 -> 2 | C9: 74 | D9: =E9 -> 46202.688 | E9: =OFFSET(Matches!$D$77,A9-1,0) -> 46202.688 | F9: =OFFSET(Matches!$H$77,A9-1,0) -> ❶ E
A10: =A8+1 -> 2 | D10: =OFFSET(Matches!$Q$77,A9-1,0) -> Gillette Stadium, Boston 🇺🇸 | F10: =OFFSET(Matches!$M$77,A10-1,0) -> ❸ A/B/C/D/F
A11: =A9+1 -> 3 | C11: 75 | D11: =E11 -> 46202.875 | E11: =OFFSET(Matches!$D$77,A11-1,0) -> 46202.875 | F11: =OFFSET(Matches!$H$77,A11-1,0) -> ❶ F
A12: =A10+1 -> 3 | D12: =OFFSET(Matches!$Q$77,A11-1,0) -> Estadio BBVA, Monterrey 🇲🇽 | F12: =OFFSET(Matches!$M$77,A12-1,0) -> ❷ C
A13: =A11+1 -> 4 | C13: 76 | D13: =E13 -> 46202.542 | E13: =OFFSET(Matches!$D$77,A13-1,0) -> 46202.542 | F13: =OFFSET(Matches!$H$77,A13-1,0) -> ❶ C
A14: =A12+1 -> 4 | D14: =OFFSET(Matches!$Q$77,A13-1,0) -> NRG Stadium, Houston 🇺🇸 | F14: =OFFSET(Matches!$M$77,A14-1,0) -> ❷ F
A15: =A13+1 -> 5 | C15: 77 | D15: =E15 -> 46203.708 | E15: =OFFSET(Matches!$D$77,A15-1,0) -> 46203.708 | F15: =OFFSET(Matches!$H$77,A15-1,0) -> ❶ I
A16: =A14+1 -> 5 | D16: =OFFSET(Matches!$Q$77,A15-1,0) -> MetLife Stadium, NY/NJ 🇺🇸 | F16: =OFFSET(Matches!$M$77,A16-1,0) -> ❸ C/D/F/G/H
A17: =A15+1 -> 6 | C17: 78 | D17: =E17 -> 46203.542 | E17: =OFFSET(Matches!$D$77,A17-1,0) -> 46203.542 | F17: =OFFSET(Matches!$H$77,A17-1,0) -> ❷ E
A18: =A16+1 -> 6 | D18: =OFFSET(Matches!$Q$77,A17-1,0) -> AT&T Stadium, Dallas 🇺🇸 | F18: =OFFSET(Matches!$M$77,A18-1,0) -> ❷ I
A19: =A17+1 -> 7 | C19: 79 | D19: =E19 -> 46203.875 | E19: =OFFSET(Matches!$D$77,A19-1,0) -> 46203.875 | F19: =OFFSET(Matches!$H$77,A19-1,0) -> ❶ A
A20: =A18+1 -> 7 | D20: =OFFSET(Matches!$Q$77,A19-1,0) -> Estadio Azteca, Mexico City 🇲🇽 | F20: =OFFSET(Matches!$M$77,A20-1,0) -> ❸ C/E/F/H/I
A21: =A19+1 -> 8 | C21: 80 | D21: =E21 -> 46204.5 | E21: =OFFSET(Matches!$D$77,A21-1,0) -> 46204.5 | F21: =OFFSET(Matches!$H$77,A21-1,0) -> ❶ L
A22: =A20+1 -> 8 | D22: =OFFSET(Matches!$Q$77,A21-1,0) -> Mercedes-Benz Stadium, Atlanta 🇺🇸 | F22: =OFFSET(Matches!$M$77,A22-1,0) -> ❸ E/H/I/J/K
A23: =A21+1 -> 9 | C23: 81 | D23: =E23 -> 46204.833 | E23: =OFFSET(Matches!$D$77,A23-1,0) -> 46204.833 | F23: =OFFSET(Matches!$H$77,A23-1,0) -> ❶ D
A24: =A22+1 -> 9 | D24: =OFFSET(Matches!$Q$77,A23-1,0) -> Levi’s Stadium, San Francisco 🇺🇸 | F24: =OFFSET(Matches!$M$77,A24-1,0) -> ❸ B/E/F/I/J
A25: =A23+1 -> 10 | C25: 82 | D25: =E25 -> 46204.667 | E25: =OFFSET(Matches!$D$77,A25-1,0) -> 46204.667 | F25: =OFFSET(Matches!$H$77,A25-1,0) -> ❶ G
A26: =A24+1 -> 10 | D26: =OFFSET(Matches!$Q$77,A25-1,0) -> Lumen Field, Seattle 🇺🇸 | F26: =OFFSET(Matches!$M$77,A26-1,0) -> ❸ A/E/H/I/J
A27: =A25+1 -> 11 | C27: 83 | D27: =E27 -> 46205.792 | E27: =OFFSET(Matches!$D$77,A27-1,0) -> 46205.792 | F27: =OFFSET(Matches!$H$77,A27-1,0) -> ❷ K
A28: =A26+1 -> 11 | D28: =OFFSET(Matches!$Q$77,A27-1,0) -> BMO Field, Toronto 🇨🇦 | F28: =OFFSET(Matches!$M$77,A28-1,0) -> ❷ L
A29: =A27+1 -> 12 | C29: 84 | D29: =E29 -> 46205.625 | E29: =OFFSET(Matches!$D$77,A29-1,0) -> 46205.625 | F29: =OFFSET(Matches!$H$77,A29-1,0) -> ❶ H
A30: =A28+1 -> 12 | D30: =OFFSET(Matches!$Q$77,A29-1,0) -> SoFi Stadium, Los Angeles 🇺🇸 | F30: =OFFSET(Matches!$M$77,A30-1,0) -> ❷ J
A31: =A29+1 -> 13 | C31: 85 | D31: =E31 -> 46205.958 | E31: =OFFSET(Matches!$D$77,A31-1,0) -> 46205.958 | F31: =OFFSET(Matches!$H$77,A31-1,0) -> ❶ B
A32: =A30+1 -> 13 | D32: =OFFSET(Matches!$Q$77,A31-1,0) -> BC Place, Vancouver 🇨🇦 | F32: =OFFSET(Matches!$M$77,A32-1,0) -> ❸ E/F/G/I/J
A33: =A31+1 -> 14 | C33: 86 | D33: =E33 -> 46206.75 | E33: =OFFSET(Matches!$D$77,A33-1,0) -> 46206.75 | F33: =OFFSET(Matches!$H$77,A33-1,0) -> ❶ J
A34: =A32+1 -> 14 | D34: =OFFSET(Matches!$Q$77,A33-1,0) -> Hard Rock Stadium, Miami 🇺🇸 | F34: =OFFSET(Matches!$M$77,A34-1,0) -> ❷ H
A35: =A33+1 -> 15 | C35: 87 | D35: =E35 -> 46206.896 | E35: =OFFSET(Matches!$D$77,A35-1,0) -> 46206.896 | F35: =OFFSET(Matches!$H$77,A35-1,0) -> ❶ K
A36: =A34+1 -> 15 | D36: =OFFSET(Matches!$Q$77,A35-1,0) -> Arrowhead Stadium, Kansas City 🇺🇸 | F36: =OFFSET(Matches!$M$77,A36-1,0) -> ❸ D/E/I/J/L
A37: =A35+1 -> 16 | C37: 88 | D37: =E37 -> 46206.583 | E37: =OFFSET(Matches!$D$77,A37-1,0) -> 46206.583 | F37: =OFFSET(Matches!$H$77,A37-1,0) -> ❷ D
A38: =A36+1 -> 16 | D38: =OFFSET(Matches!$Q$77,A37-1,0) -> AT&T Stadium, Dallas 🇺🇸 | F38: =OFFSET(Matches!$M$77,A38-1,0) -> ❷ G
A42: 1 | B42: R16 | C42: 89 | D42: =E42 -> 46207.708 | E42: =OFFSET(Matches!$D$93,A42-1,0) -> 46207.708 | F42: =OFFSET(Matches!$H$93,A42-1,0) -> Winner #74
A43: 1 | D43: =OFFSET(Matches!$Q$93,A42-1,0) -> Lincoln Financial Field, Philadelphia 🇺🇸 | F43: =OFFSET(Matches!$M$93,A43-1,0) -> Winner #77
A44: =A42+1 -> 2 | C44: 90 | D44: =E44 -> 46207.542 | E44: =OFFSET(Matches!$D$93,A44-1,0) -> 46207.542 | F44: =OFFSET(Matches!$H$93,A44-1,0) -> Winner #73
A45: =A43+1 -> 2 | D45: =OFFSET(Matches!$Q$93,A44-1,0) -> NRG Stadium, Houston 🇺🇸 | F45: =OFFSET(Matches!$M$93,A45-1,0) -> Winner #75
A46: =A44+1 -> 3 | C46: 91 | D46: =E46 -> 46208.667 | E46: =OFFSET(Matches!$D$93,A46-1,0) -> 46208.667 | F46: =OFFSET(Matches!$H$93,A46-1,0) -> Winner #76
A47: =A45+1 -> 3 | D47: =OFFSET(Matches!$Q$93,A46-1,0) -> MetLife Stadium, NY/NJ 🇺🇸 | F47: =OFFSET(Matches!$M$93,A47-1,0) -> Winner #78
A48: =A46+1 -> 4 | C48: 92 | D48: =E48 -> 46208.833 | E48: =OFFSET(Matches!$D$93,A48-1,0) -> 46208.833 | F48: =OFFSET(Matches!$H$93,A48-1,0) -> Winner #79
A49: =A47+1 -> 4 | D49: =OFFSET(Matches!$Q$93,A48-1,0) -> Estadio Azteca, Mexico City 🇲🇽 | F49: =OFFSET(Matches!$M$93,A49-1,0) -> Winner #80
A50: =A48+1 -> 5 | C50: 93 | D50: =E50 -> 46209.625 | E50: =OFFSET(Matches!$D$93,A50-1,0) -> 46209.625 | F50: =OFFSET(Matches!$H$93,A50-1,0) -> Winner #83
A51: =A49+1 -> 5 | D51: =OFFSET(Matches!$Q$93,A50-1,0) -> AT&T Stadium, Dallas 🇺🇸 | F51: =OFFSET(Matches!$M$93,A51-1,0) -> Winner #84
A52: =A50+1 -> 6 | C52: 94 | D52: =E52 -> 46209.833 | E52: =OFFSET(Matches!$D$93,A52-1,0) -> 46209.833 | F52: =OFFSET(Matches!$H$93,A52-1,0) -> Winner #81
A53: =A51+1 -> 6 | D53: =OFFSET(Matches!$Q$93,A52-1,0) -> Lumen Field, Seattle 🇺🇸 | F53: =OFFSET(Matches!$M$93,A53-1,0) -> Winner #82
A54: =A52+1 -> 7 | C54: 95 | D54: =E54 -> 46210.5 | E54: =OFFSET(Matches!$D$93,A54-1,0) -> 46210.5 | F54: =OFFSET(Matches!$H$93,A54-1,0) -> Winner #86
A55: =A53+1 -> 7 | D55: =OFFSET(Matches!$Q$93,A54-1,0) -> Mercedes-Benz Stadium, Atlanta 🇺🇸 | F55: =OFFSET(Matches!$M$93,A55-1,0) -> Winner #88
A56: =A54+1 -> 8 | C56: 96 | D56: =E56 -> 46210.667 | E56: =OFFSET(Matches!$D$93,A56-1,0) -> 46210.667 | F56: =OFFSET(Matches!$H$93,A56-1,0) -> Winner #85
A57: =A55+1 -> 8 | D57: =OFFSET(Matches!$Q$93,A56-1,0) -> BC Place, Vancouver 🇨🇦 | F57: =OFFSET(Matches!$M$93,A57-1,0) -> Winner #87
A61: 1 | B61: QFs | C61: 97 | D61: =E61 -> 46212.667 | E61: =OFFSET(Matches!$D$101,A61-1,0) -> 46212.667 | F61: =OFFSET(Matches!$H$101,A61-1,0) -> Winner #89
A62: 1 | D62: =OFFSET(Matches!$Q$101,A61-1,0) -> Gillette Stadium, Boston 🇺🇸 | F62: =OFFSET(Matches!$M$101,A62-1,0) -> Winner #90
A63: =A61+1 -> 2 | C63: 98 | D63: =E63 -> 46213.625 | E63: =OFFSET(Matches!$D$101,A63-1,0) -> 46213.625 | F63: =OFFSET(Matches!$H$101,A63-1,0) -> Winner #93
A64: =A62+1 -> 2 | D64: =OFFSET(Matches!$Q$101,A63-1,0) -> SoFi Stadium, Los Angeles 🇺🇸 | F64: =OFFSET(Matches!$M$101,A64-1,0) -> Winner #94
A65: =A63+1 -> 3 | C65: 99 | D65: =E65 -> 46214.708 | E65: =OFFSET(Matches!$D$101,A65-1,0) -> 46214.708 | F65: =OFFSET(Matches!$H$101,A65-1,0) -> Winner #91
A66: =A64+1 -> 3 | D66: =OFFSET(Matches!$Q$101,A65-1,0) -> Hard Rock Stadium, Miami 🇺🇸 | F66: =OFFSET(Matches!$M$101,A66-1,0) -> Winner #92
A67: =A65+1 -> 4 | C67: 100 | D67: =E67 -> 46214.875 | E67: =OFFSET(Matches!$D$101,A67-1,0) -> 46214.875 | F67: =OFFSET(Matches!$H$101,A67-1,0) -> Winner #95
A68: =A66+1 -> 4 | D68: =OFFSET(Matches!$Q$101,A67-1,0) -> Arrowhead Stadium, Kansas City 🇺🇸 | F68: =OFFSET(Matches!$M$101,A68-1,0) -> Winner #96
A72: 1 | B72: SFs | C72: 101 | D72: =E72 -> 46217.625 | E72: =Matches!D105 -> 46217.625 | F72: =Matches!H105 -> Winner #97
A73: 1 | D73: =Matches!Q105 -> AT&T Stadium, Dallas 🇺🇸 | F73: =Matches!M105 -> Winner #98
A74: 2 | C74: 102 | D74: =E74 -> 46218.625 | E74: =Matches!D106 -> 46218.625 | F74: =Matches!H106 -> Winner #99
A75: 2 | D75: =Matches!Q106 -> Mercedes-Benz Stadium, Atlanta 🇺🇸 | F75: =Matches!M106 -> Winner #100
A79: 1 | B79: 3rd | C79: 103 | D79: =E79 -> 46221.708 | E79: =Matches!D107 -> 46221.708 | F79: =Matches!H107 -> Loser #101
A80: 1 | D80: =Matches!Q107 -> Hard Rock Stadium, Miami 🇺🇸 | F80: =Matches!M107 -> Loser #102
A84: 1 | B84: Final | C84: 104 | D84: =E84 -> 46222.625 | E84: =Matches!D108 -> 46222.625 | F84: =Matches!H108 -> Winner #101
A85: 1 | D85: =Matches!Q108 -> MetLife Stadium, NY/NJ 🇺🇸 | F85: =Matches!M108 -> Winner #102
C88: =Matches!S91 -> WORLD CUP 2026 CHAMPION | H88: =UPPER(Matches!S95) -> WINNER #104 | N88: TOP SCORER | O88: =UPPER('Top Scorer'!C8)
B90: © 2022 | journalSHEET.com

Sheet Group Stages
J1: 1 | K1: 2 | L1: 3 | M1: 4 | N1: 5 | O1: 6 | P1: 7 | Q1: 8 | S1: 1 | T1: 2 | U1: 3 | V1: 4 | W1: 5 | X1: 6 | Y1: 7 | Z1: 8 | AB1: 1 | AC1: 2 | AD1: 3 | AE1: 4 | AF1: 5 | AG1: 6 | AH1: 7 | AI1: 8
B3: GROUP STAGES | J3: Goal Scorer | O3: Click here to purchase the Unprotected version | S3: Assist | T3: AVAILABLE IN PAID VERSION | AB3: Goal Minute | AF3: AVAILABLE IN PAID VERSION
B4: Group | C4: Match # | D4: Date | E4: Time | F4: Team | H4: Score | J4: 1st | K4: 2nd | L4: 3rd | M4: 4th | N4: 5th | O4: 6th | P4: 7th | Q4: 8th | S4: 1st | T4: 2nd | U4: 3rd | V4: 4th | W4: 5th | X4: 6th | Y4: 7th | Z4: 8th | AB4: 1st | AC4: 2nd | AD4: 3rd | AE4: 4th | AF4: 5th | AG4: 6th | AH4: 7th | AI4: 8th
A7: 1 | B7: =OFFSET(Matches!$C$4,A7-1,0) -> A | C7: 1 | D7: =E7 -> 46184.625 | E7: =OFFSET(Matches!$D$4,A7-1,0) -> 46184.625 | F7: =OFFSET(Matches!$H$4,A7-1,0) -> Mexico
A8: 1 | D8: =OFFSET(Matches!$Q$4,A7-1,0) -> Estadio Azteca, Mexico City 🇲🇽 | F8: =OFFSET(Matches!$M$4,A8-1,0) -> South Africa
A9: =A7+1 -> 2 | B9: =OFFSET(Matches!$C$4,A9-1,0) -> A | C9: 2 | D9: =E9 -> 46184.917 | E9: =OFFSET(Matches!$D$4,A9-1,0) -> 46184.917 | F9: =OFFSET(Matches!$H$4,A9-1,0) -> Korea Republic
A10: =A8+1 -> 2 | D10: =OFFSET(Matches!$Q$4,A9-1,0) -> Estadio Akron, Guadalajara 🇲🇽 | F10: =OFFSET(Matches!$M$4,A10-1,0) -> Czechia
A11: =A9+1 -> 3 | B11: =OFFSET(Matches!$C$4,A11-1,0) -> B | C11: 3 | D11: =E11 -> 46185.625 | E11: =OFFSET(Matches!$D$4,A11-1,0) -> 46185.625 | F11: =OFFSET(Matches!$H$4,A11-1,0) -> Canada
A12: =A10+1 -> 3 | D12: =OFFSET(Matches!$Q$4,A11-1,0) -> BMO Field, Toronto 🇨🇦 | F12: =OFFSET(Matches!$M$4,A12-1,0) -> Bosnia and Herzegovina
A13: =A11+1 -> 4 | B13: =OFFSET(Matches!$C$4,A13-1,0) -> D | C13: 4 | D13: =E13 -> 46185.875 | E13: =OFFSET(Matches!$D$4,A13-1,0) -> 46185.875 | F13: =OFFSET(Matches!$H$4,A13-1,0) -> USA
A14: =A12+1 -> 4 | D14: =OFFSET(Matches!$Q$4,A13-1,0) -> SoFi Stadium, Los Angeles 🇺🇸 | F14: =OFFSET(Matches!$M$4,A14-1,0) -> Paraguay
A15: =A13+1 -> 5 | B15: =OFFSET(Matches!$C$4,A15-1,0) -> C | C15: 5 | D15: =E15 -> 46186.875 | E15: =OFFSET(Matches!$D$4,A15-1,0) -> 46186.875 | F15: =OFFSET(Matches!$H$4,A15-1,0) -> Haiti
A16: =A14+1 -> 5 | D16: =OFFSET(Matches!$Q$4,A15-1,0) -> Gillette Stadium, Boston 🇺🇸 | F16: =OFFSET(Matches!$M$4,A16-1,0) -> Scotland
A17: =A15+1 -> 6 | B17: =OFFSET(Matches!$C$4,A17-1,0) -> D | C17: 6 | D17: =E17 -> 46187 | E17: =OFFSET(Matches!$D$4,A17-1,0) -> 46187 | F17: =OFFSET(Matches!$H$4,A17-1,0) -> Australia
A18: =A16+1 -> 6 | D18: =OFFSET(Matches!$Q$4,A17-1,0) -> BC Place, Vancouver 🇨🇦 | F18: =OFFSET(Matches!$M$4,A18-1,0) -> Türkiye
A19: =A17+1 -> 7 | B19: =OFFSET(Matches!$C$4,A19-1,0) -> C | C19: 7 | D19: =E19 -> 46186.75 | E19: =OFFSET(Matches!$D$4,A19-1,0) -> 46186.75 | F19: =OFFSET(Matches!$H$4,A19-1,0) -> Brazil
A20: =A18+1 -> 7 | D20: =OFFSET(Matches!$Q$4,A19-1,0) -> MetLife Stadium, NY/NJ 🇺🇸 | F20: =OFFSET(Matches!$M$4,A20-1,0) -> Morocco
A21: =A19+1 -> 8 | B21: =OFFSET(Matches!$C$4,A21-1,0) -> B | C21: 8 | D21: =E21 -> 46186.625 | E21: =OFFSET(Matches!$D$4,A21-1,0) -> 46186.625 | F21: =OFFSET(Matches!$H$4,A21-1,0) -> Qatar
A22: =A20+1 -> 8 | D22: =OFFSET(Matches!$Q$4,A21-1,0) -> Levi’s Stadium, San Francisco 🇺🇸 | F22: =OFFSET(Matches!$M$4,A22-1,0) -> Switzerland
A23: =A21+1 -> 9 | B23: =OFFSET(Matches!$C$4,A23-1,0) -> E | C23: 9 | D23: =E23 -> 46187.792 | E23: =OFFSET(Matches!$D$4,A23-1,0) -> 46187.792 | F23: =OFFSET(Matches!$H$4,A23-1,0) -> Cote D'Voire
A24: =A22+1 -> 9 | D24: =OFFSET(Matches!$Q$4,A23-1,0) -> Lincoln Financial Field, Philadelphia 🇺🇸 | F24: =OFFSET(Matches!$M$4,A24-1,0) -> Ecuador
A25: =A23+1 -> 10 | B25: =OFFSET(Matches!$C$4,A25-1,0) -> E | C25: 10 | D25: =E25 -> 46187.542 | E25: =OFFSET(Matches!$D$4,A25-1,0) -> 46187.542 | F25: =OFFSET(Matches!$H$4,A25-1,0) -> Germany
A26: =A24+1 -> 10 | D26: =OFFSET(Matches!$Q$4,A25-1,0) -> NRG Stadium, Houston 🇺🇸 | F26: =OFFSET(Matches!$M$4,A26-1,0) -> Curacao
A27: =A25+1 -> 11 | B27: =OFFSET(Matches!$C$4,A27-1,0) -> F | C27: 11 | D27: =E27 -> 46187.667 | E27: =OFFSET(Matches!$D$4,A27-1,0) -> 46187.667 | F27: =OFFSET(Matches!$H$4,A27-1,0) -> Netherlands
A28: =A26+1 -> 11 | D28: =OFFSET(Matches!$Q$4,A27-1,0) -> AT&T Stadium, Dallas 🇺🇸 | F28: =OFFSET(Matches!$M$4,A28-1,0) -> Japan
A29: =A27+1 -> 12 | B29: =OFFSET(Matches!$C$4,A29-1,0) -> F | C29: 12 | D29: =E29 -> 46187.917 | E29: =OFFSET(Matches!$D$4,A29-1,0) -> 46187.917 | F29: =OFFSET(Matches!$H$4,A29-1,0) -> Sweden
A30: =A28+1 -> 12 | D30: =OFFSET(Matches!$Q$4,A29-1,0) -> Estadio BBVA, Monterrey 🇲🇽 | F30: =OFFSET(Matches!$M$4,A30-1,0) -> Tunisia
A31: =A29+1 -> 13 | B31: =OFFSET(Matches!$C$4,A31-1,0) -> H | C31: 13 | D31: =E31 -> 46188.75 | E31: =OFFSET(Matches!$D$4,A31-1,0) -> 46188.75 | F31: =OFFSET(Matches!$H$4,A31-1,0) -> Saudi Arabia
A32: =A30+1 -> 13 | D32: =OFFSET(Matches!$Q$4,A31-1,0) -> Hard Rock Stadium, Miami 🇺🇸 | F32: =OFFSET(Matches!$M$4,A32-1,0) -> Uruguay
A33: =A31+1 -> 14 | B33: =OFFSET(Matches!$C$4,A33-1,0) -> H | C33: 14 | D33: =E33 -> 46188.5 | E33: =OFFSET(Matches!$D$4,A33-1,0) -> 46188.5 | F33: =OFFSET(Matches!$H$4,A33-1,0) -> Spain
A34: =A32+1 -> 14 | D34: =OFFSET(Matches!$Q$4,A33-1,0) -> Mercedes-Benz Stadium, Atlanta 🇺🇸 | F34: =OFFSET(Matches!$M$4,A34-1,0) -> Cabo Verde
A35: =A33+1 -> 15 | B35: =OFFSET(Matches!$C$4,A35-1,0) -> G | C35: 15 | D35: =E35 -> 46188.875 | E35: =OFFSET(Matches!$D$4,A35-1,0) -> 46188.875 | F35: =OFFSET(Matches!$H$4,A35-1,0) -> Iran
A36: =A34+1 -> 15 | D36: =OFFSET(Matches!$Q$4,A35-1,0) -> SoFi Stadium, Los Angeles 🇺🇸 | F36: =OFFSET(Matches!$M$4,A36-1,0) -> New Zealand
A37: =A35+1 -> 16 | B37: =OFFSET(Matches!$C$4,A37-1,0) -> G | C37: 16 | D37: =E37 -> 46188.625 | E37: =OFFSET(Matches!$D$4,A37-1,0) -> 46188.625 | F37: =OFFSET(Matches!$H$4,A37-1,0) -> Belgium
A38: =A36+1 -> 16 | D38: =OFFSET(Matches!$Q$4,A37-1,0) -> Lumen Field, Seattle 🇺🇸 | F38: =OFFSET(Matches!$M$4,A38-1,0) -> Egypt
A39: =A37+1 -> 17 | B39: =OFFSET(Matches!$C$4,A39-1,0) -> I | C39: 17 | D39: =E39 -> 46189.625 | E39: =OFFSET(Matches!$D$4,A39-1,0) -> 46189.625 | F39: =OFFSET(Matches!$H$4,A39-1,0) -> France
A40: =A38+1 -> 17 | D40: =OFFSET(Matches!$Q$4,A39-1,0) -> MetLife Stadium, NY/NJ 🇺🇸 | F40: =OFFSET(Matches!$M$4,A40-1,0) -> Senegal
A41: =A39+1 -> 18 | B41: =OFFSET(Matches!$C$4,A41-1,0) -> I | C41: 18 | D41: =E41 -> 46189.75 | E41: =OFFSET(Matches!$D$4,A41-1,0) -> 46189.75 | F41: =OFFSET(Matches!$H$4,A41-1,0) -> Iraq
A42: =A40+1 -> 18 | D42: =OFFSET(Matches!$Q$4,A41-1,0) -> Gillette Stadium, Boston 🇺🇸 | F42: =OFFSET(Matches!$M$4,A42-1,0) -> Norway
A43: =A41+1 -> 19 | B43: =OFFSET(Matches!$C$4,A43-1,0) -> J | C43: 19 | D43: =E43 -> 46189.875 | E43: =OFFSET(Matches!$D$4,A43-1,0) -> 46189.875 | F43: =OFFSET(Matches!$H$4,A43-1,0) -> Argentina
A44: =A42+1 -> 19 | D44: =OFFSET(Matches!$Q$4,A43-1,0) -> Arrowhead Stadium, Kansas City 🇺🇸 | F44: =OFFSET(Matches!$M$4,A44-1,0) -> Algeria
A45: =A43+1 -> 20 | B45: =OFFSET(Matches!$C$4,A45-1,0) -> J | C45: 20 | D45: =E45 -> 46189 | E45: =OFFSET(Matches!$D$4,A45-1,0) -> 46189 | F45: =OFFSET(Matches!$H$4,A45-1,0) -> Austria
A46: =A44+1 -> 20 | D46: =OFFSET(Matches!$Q$4,A45-1,0) -> Levi’s Stadium, San Francisco 🇺🇸 | F46: =OFFSET(Matches!$M$4,A46-1,0) -> Jordan
A47: =A45+1 -> 21 | B47: =OFFSET(Matches!$C$4,A47-1,0) -> L | C47: 21 | D47: =E47 -> 46190.792 | E47: =OFFSET(Matches!$D$4,A47-1,0) -> 46190.792 | F47: =OFFSET(Matches!$H$4,A47-1,0) -> Ghana
A48: =A46+1 -> 21 | D48: =OFFSET(Matches!$Q$4,A47-1,0) -> BMO Field, Toronto 🇨🇦 | F48: =OFFSET(Matches!$M$4,A48-1,0) -> Panama
A49: =A47+1 -> 22 | B49: =OFFSET(Matches!$C$4,A49-1,0) -> L | C49: 22 | D49: =E49 -> 46190.667 | E49: =OFFSET(Matches!$D$4,A49-1,0) -> 46190.667 | F49: =OFFSET(Matches!$H$4,A49-1,0) -> England
A50: =A48+1 -> 22 | D50: =OFFSET(Matches!$Q$4,A49-1,0) -> AT&T Stadium, Dallas 🇺🇸 | F50: =OFFSET(Matches!$M$4,A50-1,0) -> Croatia
A51: =A49+1 -> 23 | B51: =OFFSET(Matches!$C$4,A51-1,0) -> K | C51: 23 | D51: =E51 -> 46190.542 | E51: =OFFSET(Matches!$D$4,A51-1,0) -> 46190.542 | F51: =OFFSET(Matches!$H$4,A51-1,0) -> Portugal
A52: =A50+1 -> 23 | D52: =OFFSET(Matches!$Q$4,A51-1,0) -> NRG Stadium, Houston 🇺🇸 | F52: =OFFSET(Matches!$M$4,A52-1,0) -> DR Congo
A53: =A51+1 -> 24 | B53: =OFFSET(Matches!$C$4,A53-1,0) -> K | C53: 24 | D53: =E53 -> 46190.917 | E53: =OFFSET(Matches!$D$4,A53-1,0) -> 46190.917 | F53: =OFFSET(Matches!$H$4,A53-1,0) -> Uzbekistan
A54: =A52+1 -> 24 | D54: =OFFSET(Matches!$Q$4,A53-1,0) -> Estadio Azteca, Mexico City 🇲🇽 | F54: =OFFSET(Matches!$M$4,A54-1,0) -> Colombia
A55: =A53+1 -> 25 | B55: =OFFSET(Matches!$C$4,A55-1,0) -> A | C55: 25 | D55: =E55 -> 46191.5 | E55: =OFFSET(Matches!$D$4,A55-1,0) -> 46191.5 | F55: =OFFSET(Matches!$H$4,A55-1,0) -> Czechia
A56: =A54+1 -> 25 | D56: =OFFSET(Matches!$Q$4,A55-1,0) -> Mercedes-Benz Stadium, Atlanta 🇺🇸 | F56: =OFFSET(Matches!$M$4,A56-1,0) -> South Africa
A57: =A55+1 -> 26 | B57: =OFFSET(Matches!$C$4,A57-1,0) -> B | C57: 26 | D57: =E57 -> 46191.625 | E57: =OFFSET(Matches!$D$4,A57-1,0) -> 46191.625 | F57: =OFFSET(Matches!$H$4,A57-1,0) -> Switzerland
A58: =A56+1 -> 26 | D58: =OFFSET(Matches!$Q$4,A57-1,0) -> SoFi Stadium, Los Angeles 🇺🇸 | F58: =OFFSET(Matches!$M$4,A58-1,0) -> Bosnia and Herzegovina
A59: =A57+1 -> 27 | B59: =OFFSET(Matches!$C$4,A59-1,0) -> B | C59: 27 | D59: =E59 -> 46191.75 | E59: =OFFSET(Matches!$D$4,A59-1,0) -> 46191.75 | F59: =OFFSET(Matches!$H$4,A59-1,0) -> Canada
A60: =A58+1 -> 27 | D60: =OFFSET(Matches!$Q$4,A59-1,0) -> BC Place, Vancouver 🇨🇦 | F60: =OFFSET(Matches!$M$4,A60-1,0) -> Qatar
A61: =A59+1 -> 28 | B61: =OFFSET(Matches!$C$4,A61-1,0) -> A | C61: 28 | D61: =E61 -> 46191.875 | E61: =OFFSET(Matches!$D$4,A61-1,0) -> 46191.875 | F61: =OFFSET(Matches!$H$4,A61-1,0) -> Mexico
A62: =A60+1 -> 28 | D62: =OFFSET(Matches!$Q$4,A61-1,0) -> Estadio Akron, Guadalajara 🇲🇽 | F62: =OFFSET(Matches!$M$4,A62-1,0) -> Korea Republic
A63: =A61+1 -> 29 | B63: =OFFSET(Matches!$C$4,A63-1,0) -> C | C63: 29 | D63: =E63 -> 46192.854 | E63: =OFFSET(Matches!$D$4,A63-1,0) -> 46192.854 | F63: =OFFSET(Matches!$H$4,A63-1,0) -> Brazil
A64: =A62+1 -> 29 | D64: =OFFSET(Matches!$Q$4,A63-1,0) -> Lincoln Financial Field, Philadelphia 🇺🇸 | F64: =OFFSET(Matches!$M$4,A64-1,0) -> Haiti
A65: =A63+1 -> 30 | B65: =OFFSET(Matches!$C$4,A65-1,0) -> C | C65: 30 | D65: =E65 -> 46192.75 | E65: =OFFSET(Matches!$D$4,A65-1,0) -> 46192.75 | F65: =OFFSET(Matches!$H$4,A65-1,0) -> Scotland
A66: =A64+1 -> 30 | D66: =OFFSET(Matches!$Q$4,A65-1,0) -> Gillette Stadium, Boston 🇺🇸 | F66: =OFFSET(Matches!$M$4,A66-1,0) -> Morocco
A67: =A65+1 -> 31 | B67: =OFFSET(Matches!$C$4,A67-1,0) -> D | C67: 31 | D67: =E67 -> 46192.958 | E67: =OFFSET(Matches!$D$4,A67-1,0) -> 46192.958 | F67: =OFFSET(Matches!$H$4,A67-1,0) -> Türkiye
A68: =A66+1 -> 31 | D68: =OFFSET(Matches!$Q$4,A67-1,0) -> Levi’s Stadium, San Francisco 🇺🇸 | F68: =OFFSET(Matches!$M$4,A68-1,0) -> Paraguay
A69: =A67+1 -> 32 | B69: =OFFSET(Matches!$C$4,A69-1,0) -> D | C69: 32 | D69: =E69 -> 46192.625 | E69: =OFFSET(Matches!$D$4,A69-1,0) -> 46192.625 | F69: =OFFSET(Matches!$H$4,A69-1,0) -> USA
A70: =A68+1 -> 32 | D70: =OFFSET(Matches!$Q$4,A69-1,0) -> Lumen Field, Seattle 🇺🇸 | F70: =OFFSET(Matches!$M$4,A70-1,0) -> Australia
A71: =A69+1 -> 33 | B71: =OFFSET(Matches!$C$4,A71-1,0) -> E | C71: 33 | D71: =E71 -> 46193.667 | E71: =OFFSET(Matches!$D$4,A71-1,0) -> 46193.667 | F71: =OFFSET(Matches!$H$4,A71-1,0) -> Germany
A72: =A70+1 -> 33 | D72: =OFFSET(Matches!$Q$4,A71-1,0) -> BMO Field, Toronto 🇨🇦 | F72: =OFFSET(Matches!$M$4,A72-1,0) -> Cote D'Voire
A73: =A71+1 -> 34 | B73: =OFFSET(Matches!$C$4,A73-1,0) -> E | C73: 34 | D73: =E73 -> 46193.833 | E73: =OFFSET(Matches!$D$4,A73-1,0) -> 46193.833 | F73: =OFFSET(Matches!$H$4,A73-1,0) -> Ecuador
A74: =A72+1 -> 34 | D74: =OFFSET(Matches!$Q$4,A73-1,0) -> Arrowhead Stadium, Kansas City 🇺🇸 | F74: =OFFSET(Matches!$M$4,A74-1,0) -> Curacao
A75: =A73+1 -> 35 | B75: =OFFSET(Matches!$C$4,A75-1,0) -> F | C75: 35 | D75: =E75 -> 46193.542 | E75: =OFFSET(Matches!$D$4,A75-1,0) -> 46193.542 | F75: =OFFSET(Matches!$H$4,A75-1,0) -> Netherlands
A76: =A74+1 -> 35 | D76: =OFFSET(Matches!$Q$4,A75-1,0) -> NRG Stadium, Houston 🇺🇸 | F76: =OFFSET(Matches!$M$4,A76-1,0) -> Sweden
A77: =A75+1 -> 36 | B77: =OFFSET(Matches!$C$4,A77-1,0) -> F | C77: 36 | D77: =E77 -> 46193 | E77: =OFFSET(Matches!$D$4,A77-1,0) -> 46193 | F77: =OFFSET(Matches!$H$4,A77-1,0) -> Tunisia
A78: =A76+1 -> 36 | D78: =OFFSET(Matches!$Q$4,A77-1,0) -> Estadio BBVA, Monterrey 🇲🇽 | F78: =OFFSET(Matches!$M$4,A78-1,0) -> Japan
A79: =A77+1 -> 37 | B79: =OFFSET(Matches!$C$4,A79-1,0) -> H | C79: 37 | D79: =E79 -> 46194.75 | E79: =OFFSET(Matches!$D$4,A79-1,0) -> 46194.75 | F79: =OFFSET(Matches!$H$4,A79-1,0) -> Uruguay
A80: =A78+1 -> 37 | D80: =OFFSET(Matches!$Q$4,A79-1,0) -> Hard Rock Stadium, Miami 🇺🇸 | F80: =OFFSET(Matches!$M$4,A80-1,0) -> Cabo Verde
A81: =A79+1 -> 38 | B81: =OFFSET(Matches!$C$4,A81-1,0) -> H | C81: 38 | D81: =E81 -> 46194.5 | E81: =OFFSET(Matches!$D$4,A81-1,0) -> 46194.5 | F81: =OFFSET(Matches!$H$4,A81-1,0) -> Spain
A82: =A80+1 -> 38 | D82: =OFFSET(Matches!$Q$4,A81-1,0) -> Mercedes-Benz Stadium, Atlanta 🇺🇸 | F82: =OFFSET(Matches!$M$4,A82-1,0) -> Saudi Arabia
A83: =A81+1 -> 39 | B83: =OFFSET(Matches!$C$4,A83-1,0) -> G | C83: 39 | D83: =E83 -> 46194.625 | E83: =OFFSET(Matches!$D$4,A83-1,0) -> 46194.625 | F83: =OFFSET(Matches!$H$4,A83-1,0) -> Belgium
A84: =A82+1 -> 39 | D84: =OFFSET(Matches!$Q$4,A83-1,0) -> SoFi Stadium, Los Angeles 🇺🇸 | F84: =OFFSET(Matches!$M$4,A84-1,0) -> Iran
A85: =A83+1 -> 40 | B85: =OFFSET(Matches!$C$4,A85-1,0) -> G | C85: 40 | D85: =E85 -> 46194.875 | E85: =OFFSET(Matches!$D$4,A85-1,0) -> 46194.875 | F85: =OFFSET(Matches!$H$4,A85-1,0) -> New Zealand
A86: =A84+1 -> 40 | D86: =OFFSET(Matches!$Q$4,A85-1,0) -> BC Place, Vancouver 🇨🇦 | F86: =OFFSET(Matches!$M$4,A86-1,0) -> Egypt
A87: =A85+1 -> 41 | B87: =OFFSET(Matches!$C$4,A87-1,0) -> I | C87: 41 | D87: =E87 -> 46195.833 | E87: =OFFSET(Matches!$D$4,A87-1,0) -> 46195.833 | F87: =OFFSET(Matches!$H$4,A87-1,0) -> Norway
A88: =A86+1 -> 41 | D88: =OFFSET(Matches!$Q$4,A87-1,0) -> MetLife Stadium, New York/New Jersey 🇺🇸 | F88: =OFFSET(Matches!$M$4,A88-1,0) -> Senegal
A89: =A87+1 -> 42 | B89: =OFFSET(Matches!$C$4,A89-1,0) -> I | C89: 42 | D89: =E89 -> 46195.708 | E89: =OFFSET(Matches!$D$4,A89-1,0) -> 46195.708 | F89: =OFFSET(Matches!$H$4,A89-1,0) -> France
A90: =A88+1 -> 42 | D90: =OFFSET(Matches!$Q$4,A89-1,0) -> Lincoln Financial Field, Philadelphia 🇺🇸 | F90: =OFFSET(Matches!$M$4,A90-1,0) -> Iraq
A91: =A89+1 -> 43 | B91: =OFFSET(Matches!$C$4,A91-1,0) -> J | C91: 43 | D91: =E91 -> 46195.542 | E91: =OFFSET(Matches!$D$4,A91-1,0) -> 46195.542 | F91: =OFFSET(Matches!$H$4,A91-1,0) -> Argentina
A92: =A90+1 -> 43 | D92: =OFFSET(Matches!$Q$4,A91-1,0) -> AT&T Stadium, Dallas 🇺🇸 | F92: =OFFSET(Matches!$M$4,A92-1,0) -> Austria
A93: =A91+1 -> 44 | B93: =OFFSET(Matches!$C$4,A93-1,0) -> J | C93: 44 | D93: =E93 -> 46195.958 | E93: =OFFSET(Matches!$D$4,A93-1,0) -> 46195.958 | F93: =OFFSET(Matches!$H$4,A93-1,0) -> Jordan
A94: =A92+1 -> 44 | D94: =OFFSET(Matches!$Q$4,A93-1,0) -> Levi’s Stadium, San Francisco 🇺🇸 | F94: =OFFSET(Matches!$M$4,A94-1,0) -> Algeria
A95: =A93+1 -> 45 | B95: =OFFSET(Matches!$C$4,A95-1,0) -> L | C95: 45 | D95: =E95 -> 46196.667 | E95: =OFFSET(Matches!$D$4,A95-1,0) -> 46196.667 | F95: =OFFSET(Matches!$H$4,A95-1,0) -> England
A96: =A94+1 -> 45 | D96: =OFFSET(Matches!$Q$4,A95-1,0) -> Gillette Stadium, Boston 🇺🇸 | F96: =OFFSET(Matches!$M$4,A96-1,0) -> Ghana
A97: =A95+1 -> 46 | B97: =OFFSET(Matches!$C$4,A97-1,0) -> L | C97: 46 | D97: =E97 -> 46196.792 | E97: =OFFSET(Matches!$D$4,A97-1,0) -> 46196.792 | F97: =OFFSET(Matches!$H$4,A97-1,0) -> Panama
A98: =A96+1 -> 46 | D98: =OFFSET(Matches!$Q$4,A97-1,0) -> BMO Field, Toronto 🇨🇦 | F98: =OFFSET(Matches!$M$4,A98-1,0) -> Croatia
A99: =A97+1 -> 47 | B99: =OFFSET(Matches!$C$4,A99-1,0) -> K | C99: 47 | D99: =E99 -> 46196.542 | E99: =OFFSET(Matches!$D$4,A99-1,0) -> 46196.542 | F99: =OFFSET(Matches!$H$4,A99-1,0) -> Portugal
A100: =A98+1 -> 47 | D100: =OFFSET(Matches!$Q$4,A99-1,0) -> NRG Stadium, Houston 🇺🇸 | F100: =OFFSET(Matches!$M$4,A100-1,0) -> Uzbekistan
A101: =A99+1 -> 48 | B101: =OFFSET(Matches!$C$4,A101-1,0) -> K | C101: 48 | D101: =E101 -> 46196.917 | E101: =OFFSET(Matches!$D$4,A101-1,0) -> 46196.917 | F101: =OFFSET(Matches!$H$4,A101-1,0) -> Colombia
A102: =A100+1 -> 48 | D102: =OFFSET(Matches!$Q$4,A101-1,0) -> Estadio Akron, Guadalajara 🇲🇽 | F102: =OFFSET(Matches!$M$4,A102-1,0) -> DR Congo
A103: =A101+1 -> 49 | B103: =OFFSET(Matches!$C$4,A103-1,0) -> C | C103: 49 | D103: =E103 -> 46197.75 | E103: =OFFSET(Matches!$D$4,A103-1,0) -> 46197.75 | F103: =OFFSET(Matches!$H$4,A103-1,0) -> Scotland
...

Sheet Calculator
AH1: Rule
V2: table rank 1 | AH2: 1 | AI2: 2 | AJ2: 3 | AK2: 5 | AL2: 6 | AM2: 9 | AP2: table rank 2 | BJ2: table rank 3 | CD2: table rank 4 | DA2: =INDEX(Matches!D4:D109,MATCH(105,Matches!B4:B109,0),0) -> 0 | DB2: GS | DC2: GA
D3: W | E3: D | F3: L | G3: GS | H3: GA | I3: Diff | J3: Points | K3: Rank | L3: rankall points | N3: rerank | Q3: rank 1 | R3: rank 2 | S3: rank 3 | T3: rank 4 | V3: Team | W3: W | X3: D | Y3: L | Z3: GS | AA3: GA | AB3: Diff | AC3: P | AD3: Sdif | AE3: SGS | AF3: Koef | AG3: Pts | AH3: R | AI3: GD | AJ3: GS | AK3: Sdiff | AL3: SGS | AM3: Koef | AN3: FR | AP3: Team | AQ3: W | AR3: D | AS3: L | AT3: GS | AU3: GA | AV3: Diff | AW3: P | AX3: Sdif | AY3: SGS | AZ3: Koef | BA3: Pts | BB3: R | BC3: GD | BD3: GS | BE3: Sdiff | BF3: SGS | BG3: Koef | BH3: FR | BJ3: Team | BK3: W | BL3: D | BM3: L | BN3: GS | BO3: GA | BP3: Diff | BQ3: P | BR3: Sdif | BS3: SGS | BT3: Koef | BU3: Pts | BV3: R | BW3: GD | BX3: GS | BY3: Sdif | BZ3: SGS | CA3: Koef | CB3: FR | CD3: Team | CE3: W | CF3: D | CG3: L | CH3: GS | CI3: GA | CJ3: Diff | CK3: P | CL3: Sdif | CM3: SGS | CN3: Koef | CO3: Pts | CP3: R | CQ3: GD | CR3: GS | CS3: Sdif | CT3: SGS | CU3: Koef | CV3: FR | CZ3: 1 | DA3: =Matches!H4 -> Mexico | DB3: =IF(DA2<>"",IF(AND(Matches!J4<>"",Matches!K4<>""),Matches!J4,0),"") -> 0 | DC3: =IF(DA2<>"",IF(AND(Matches!J4<>"",Matches!K4<>""),Matches!K4,0),"") -> 0 | DD3: =Matches!M4 -> South Africa | DE3: =IF(AND(Matches!J4<>"",Matches!K4<>""),IF(DB3>DC3,"W",IF(DB3=DC3,"D","L")),"") | DF3: =IF(DE3<>"",IF(DE3="W","L",IF(DE3="L","W","D")),"")
A4: =Setup!F8+100 -> 116 | B4: =VLOOKUP(C4,CX4:CY8,2,FALSE) -> 1 | C4: =EE7 -> Mexico | D4: =SUMPRODUCT((DA3:DA105=C4)*(DE3:DE105="W"))+SUMPRODUCT((DD3:DD105=C4)*(DF3:DF105="W")) -> 0 | E4: =SUMPRODUCT((DA3:DA105=C4)*(DE3:DE105="D"))+SUMPRODUCT((DD3:DD105=C4)*(DF3:DF105="D")) -> 0 | F4: =SUMPRODUCT((DA3:DA105=C4)*(DE3:DE105="L"))+SUMPRODUCT((DD3:DD105=C4)*(DF3:DF105="L")) -> 0 | G4: =SUMIF(DA3:DA123,C4,DB3:DB123)+SUMIF(DD3:DD123,C4,DC3:DC123) -> 0 | H4: =SUMIF(DD3:DD123,C4,DB3:DB123)+SUMIF(DA3:DA123,C4,DC3:DC123) -> 0 | I4: =G4-H4+1000 -> 1000 | J4: =D4*3+E4*1 -> 0 | K4: =IF(Setup!G8<>"",Setup!G8,-A4) -> -116 | L4: =IF(COUNTIF(J4:J8,4)<>4,RANK(J4,J4:J8),J83) -> 1 | N4: =SUMPRODUCT((L4:L7=L4)*(K4:K7<K4))+L4 -> 4 | O4: =INDEX(C4:C8,MATCH(1,N4:N8,0),0) -> South Africa | P4: =INDEX(L4:L8,MATCH(O4,C4:C8,0),0) -> 1 | Q4: =IF(P5=1,O4,"") -> South Africa | R4: =IF(P6=2,O5,"") | S4: =IF(P7=3,O6,"") | T4: =IF(P8=4,O7,"") | V4: =IF(Q4<>"",Q4,"") -> South Africa | W4: =SUMPRODUCT((DA3:DA105=V4)*(DD3:DD105=V5)*(DE3:DE105="W"))+SUMPRODUCT((DA3:DA105=V4)*(DD3:DD105=V6)*(DE3:DE105="W"))+SUMPRODUCT((DA3:DA105=V4)*(DD3:DD105=V7)*(DE3:DE105="W"))+SUMPRODUCT((DA3:DA105=V4)*(DD3:DD105=V8)*(DE3:DE105="W"))+SUMPRODUCT((DA3:DA105=V5)*(DD3:DD105=V4)*(DF3:DF105="W"))+SUMPRODUCT((DA3:DA105=V6)*(DD3:DD105=V4)*(DF3:DF105="W"))+SUMPRODUCT((DA3:DA105=V7)*(DD3:DD105=V4)*(DF3:DF105="W"))+SUMPRODUCT((DA3:DA105=V8)*(DD3:DD105=V4)*(DF3:DF105="W")) -> 0 | X4: =SUMPRODUCT((DA3:DA105=V4)*(DD3:DD105=V5)*(DE3:DE105="D"))+SUMPRODUCT((DA3:DA105=V4)*(DD3:DD105=V6)*(DE3:DE105="D"))+SUMPRODUCT((DA3:DA105=V4)*(DD3:DD105=V7)*(DE3:DE105="D"))+SUMPRODUCT((DA3:DA105=V4)*(DD3:DD105=V8)*(DE3:DE105="D"))+SUMPRODUCT((DA3:DA105=V5)*(DD3:DD105=V4)*(DE3:DE105="D"))+SUMPRODUCT((DA3:DA105=V6)*(DD3:DD105=V4)*(DE3:DE105="D"))+SUMPRODUCT((DA3:DA105=V7)*(DD3:DD105=V4)*(DE3:DE105="D"))+SUMPRODUCT((DA3:DA105=V8)*(DD3:DD105=V4)*(DE3:DE105="D")) -> 0 | Y4: =SUMPRODUCT((DA3:DA105=V4)*(DD3:DD105=V5)*(DE3:DE105="L"))+SUMPRODUCT((DA3:DA105=V4)*(DD3:DD105=V6)*(DE3:DE105="L"))+SUMPRODUCT((DA3:DA105=V4)*(DD3:DD105=V7)*(DE3:DE105="L"))+SUMPRODUCT((DA3:DA105=V4)*(DD3:DD105=V8)*(DE3:DE105="L"))+SUMPRODUCT((DA3:DA105=V5)*(DD3:DD105=V4)*(DF3:DF105="L"))+SUMPRODUCT((DA3:DA105=V6)*(DD3:DD105=V4)*(DF3:DF105="L"))+SUMPRODUCT((DA3:DA105=V7)*(DD3:DD105=V4)*(DF3:DF105="L"))+SUMPRODUCT((DA3:DA105=V8)*(DD3:DD105=V4)*(DF3:DF105="L")) -> 0 | Z4: =SUMPRODUCT((DA3:DA105=V4)*(DD3:DD105=V5)*DB3:DB105)+SUMPRODUCT((DA3:DA105=V4)*(DD3:DD105=V6)*DB3:DB105)+SUMPRODUCT((DA3:DA105=V4)*(DD3:DD105=V7)*DB3:DB105)+SUMPRODUCT((DA3:DA105=V4)*(DD3:DD105=V8)*DB3:DB105)+SUMPRODUCT((DA3:DA105=V5)*(DD3:DD105=V4)*DC3:DC105)+SUMPRODUCT((DA3:DA105=V6)*(DD3:DD105=V4)*DC3:DC105)+SUMPRODUCT((DA3:DA105=V7)*(DD3:DD105=V4)*DC3:DC105)+SUMPRODUCT((DA3:DA105=V8)*(DD3:DD105=V4)*DC3:DC105) -> 0 | AA4: =SUMPRODUCT((DA3:DA105=V4)*(DD3:DD105=V5)*DC3:DC105)+SUMPRODUCT((DA3:DA105=V4)*(DD3:DD105=V6)*DC3:DC105)+SUMPRODUCT((DA3:DA105=V4)*(DD3:DD105=V7)*DC3:DC105)+SUMPRODUCT((DA3:DA105=V4)*(DD3:DD105=V8)*DC3:DC105)+SUMPRODUCT((DA3:DA105=V5)*(DD3:DD105=V4)*DB3:DB105)+SUMPRODUCT((DA3:DA105=V6)*(DD3:DD105=V4)*DB3:DB105)+SUMPRODUCT((DA3:DA105=V7)*(DD3:DD105=V4)*DB3:DB105)+SUMPRODUCT((DA3:DA105=V8)*(DD3:DD105=V4)*DB3:DB105) -> 0 | AB4: =Z4-AA4+1000 -> 1000 | AC4: =IF(V4<>"",W4*3+X4*1,"") -> 0 | AD4: =IF(V4<>"",VLOOKUP(V4,C4:I52,7,FALSE),"") -> 1000 | AE4: =IF(V4<>"",VLOOKUP(V4,C4:I52,5,FALSE),"") -> 0 | AF4: =IF(V4<>"",VLOOKUP(V4,C4:K52,9,FALSE),"") -> -160 | AG4: =AC4 -> 0 | AH4: =IF(V4<>"",RANK(AG4,AG4:AG8),"") -> 1 | AI4: =IF(V4<>"",SUMPRODUCT((AG4:AG8=AG4)*(AB4:AB8>AB4)),"") -> 0 | AJ4: =IF(V4<>"",SUMPRODUCT((AG4:AG8=AG4)*(AB4:AB8=AB4)*(Z4:Z8>Z4)),"") -> 0 | AK4: =IF(V4<>"",SUMPRODUCT((AG4:AG8=AG4)*(AB4:AB8=AB4)*(Z4:Z8=Z4)*(AD4:AD8>AD4)),"") -> 0 | AL4: =IF(V4<>"",SUMPRODUCT((AG4:AG8=AG4)*(AB4:AB8=AB4)*(Z4:Z8=Z4)*(AD4:AD8=AD4)*(AE4:AE8>AE4)),"") -> 0 | AM4: =IF(V4<>"",SUMPRODUCT((AG4:AG8=AG4)*(AB4:AB8=AB4)*(Z4:Z8=Z4)*(AD4:AD8=AD4)*(AE4:AE8=AE4)*(AF4:AF8>AF4)),"") -> 3 | AN4: =IF(V4<>"",IF(AN83<>"",IF(U82=3,AN83,AN83+U82),SUM(AH4:AM4)),"") -> 4 | AO4: =IF(V4<>"",INDEX(V4:V8,MATCH(1,AN4:AN8,0),0),"") -> Mexico | CX4: =IF(AO4<>"",AO4,O4) -> Mexico | CY4: 1 | CZ4: 2 | DA4: =Matches!H5 -> Korea Republic | DB4: =IF(DA2<>"",IF(AND(Matches!J5<>"",Matches!K5<>""),Matches!J5,0),"") -> 0 | DC4: =IF(DA2<>"",IF(AND(Matches!J5<>"",Matches!K5<>""),Matches!K5,0),"") -> 0 | DD4: =Matches!M5 -> Czechia | DE4: =IF(AND(Matches!J5<>"",Matches!K5<>""),IF(DB4>DC4,"W",IF(DB4=DC4,"D","L")),"") | DF4: =IF(DE4<>"",IF(DE4="W","L",IF(DE4="L","W","D")),"")
A5: =Setup!F9+100 -> 160 | B5: =VLOOKUP(C5,CX4:CY8,2,FALSE) -> 4 | C5: =EE8 -> South Africa | D5: =SUMPRODUCT((DA3:DA105=C5)*(DE3:DE105="W"))+SUMPRODUCT((DD3:DD105=C5)*(DF3:DF105="W")) -> 0 | E5: =SUMPRODUCT((DA3:DA105=C5)*(DE3:DE105="D"))+SUMPRODUCT((DD3:DD105=C5)*(DF3:DF105="D")) -> 0 | F5: =SUMPRODUCT((DA3:DA105=C5)*(DE3:DE105="L"))+SUMPRODUCT((DD3:DD105=C5)*(DF3:DF105="L")) -> 0 | G5: =SUMIF(DA3:DA123,C5,DB3:DB123)+SUMIF(DD3:DD123,C5,DC3:DC123) -> 0 | H5: =SUMIF(DD3:DD123,C5,DB3:DB123)+SUMIF(DA3:DA123,C5,DC3:DC123) -> 0 | I5: =G5-H5+1000 -> 1000 | J5: =D5*3+E5*1 -> 0 | K5: =IF(Setup!G9<>"",Setup!G9,-A5) -> -160 | L5: =IF(COUNTIF(J4:J8,4)<>4,RANK(J5,J4:J8),J84) -> 1 | N5: =SUMPRODUCT((L4:L7=L5)*(K4:K7<K5))+L5 -> 1 | O5: =INDEX(C4:C8,MATCH(2,N4:N8,0),0) -> Czechia | P5: =INDEX(L4:L8,MATCH(O5,C4:C8,0),0) -> 1 | Q5: =IF(Q4<>"",O5,"") -> Czechia | R5: =IF(R4<>"",O6,"") | S5: =IF(S4<>"",O7,"") | T5: =IF(T4<>"",O8,"") | V5: =IF(Q5<>"",Q5,"") -> Czechia | W5: =SUMPRODUCT((DA3:DA105=V5)*(DD3:DD105=V6)*(DE3:DE105="W"))+SUMPRODUCT((DA3:DA105=V5)*(DD3:DD105=V7)*(DE3:DE105="W"))+SUMPRODUCT((DA3:DA105=V5)*(DD3:DD105=V8)*(DE3:DE105="W"))+SUMPRODUCT((DA3:DA105=V5)*(DD3:DD105=V4)*(DE3:DE105="W"))+SUMPRODUCT((DA3:DA105=V6)*(DD3:DD105=V5)*(DF3:DF105="W"))+SUMPRODUCT((DA3:DA105=V7)*(DD3:DD105=V5)*(DF3:DF105="W"))+SUMPRODUCT((DA3:DA105=V8)*(DD3:DD105=V5)*(DF3:DF105="W"))+SUMPRODUCT((DA3:DA105=V4)*(DD3:DD105=V5)*(DF3:DF105="W")) -> 0 | X5: =SUMPRODUCT((DA3:DA105=V5)*(DD3:DD105=V6)*(DE3:DE105="D"))+SUMPRODUCT((DA3:DA105=V5)*(DD3:DD105=V7)*(DE3:DE105="D"))+SUMPRODUCT((DA3:DA105=V5)*(DD3:DD105=V8)*(DE3:DE105="D"))+SUMPRODUCT((DA3:DA105=V5)*(DD3:DD105=V4)*(DE3:DE105="D"))+SUMPRODUCT((DA3:DA105=V6)*(DD3:DD105=V5)*(DE3:DE105="D"))+SUMPRODUCT((DA3:DA105=V7)*(DD3:DD105=V5)*(DE3:DE105="D"))+SUMPRODUCT((DA3:DA105=V8)*(DD3:DD105=V5)*(DE3:DE105="D"))+SUMPRODUCT((DA3:DA105=V4)*(DD3:DD105=V5)*(DE3:DE105="D")) -> 0 | Y5: =SUMPRODUCT((DA3:DA105=V5)*(DD3:DD105=V6)*(DE3:DE105="L"))+SUMPRODUCT((DA3:DA105=V5)*(DD3:DD105=V7)*(DE3:DE105="L"))+SUMPRODUCT((DA3:DA105=V5)*(DD3:DD105=V8)*(DE3:DE105="L"))+SUMPRODUCT((DA3:DA105=V5)*(DD3:DD105=V4)*(DE3:DE105="L"))+SUMPRODUCT((DA3:DA105=V6)*(DD3:DD105=V5)*(DF3:DF105="L"))+SUMPRODUCT((DA3:DA105=V7)*(DD3:DD105=V5)*(DF3:DF105="L"))+SUMPRODUCT((DA3:DA105=V8)*(DD3:DD105=V5)*(DF3:DF105="L"))+SUMPRODUCT((DA3:DA105=V4)*(DD3:DD105=V5)*(DF3:DF105="L")) -> 0 | Z5: =SUMPRODUCT((DA3:DA105=V5)*(DD3:DD105=V6)*DB3:DB105)+SUMPRODUCT((DA3:DA105=V5)*(DD3:DD105=V7)*DB3:DB105)+SUMPRODUCT((DA3:DA105=V5)*(DD3:DD105=V8)*DB3:DB105)+SUMPRODUCT((DA3:DA105=V5)*(DD3:DD105=V4)*DB3:DB105)+SUMPRODUCT((DA3:DA105=V6)*(DD3:DD105=V5)*DC3:DC105)+SUMPRODUCT((DA3:DA105=V7)*(DD3:DD105=V5)*DC3:DC105)+SUMPRODUCT((DA3:DA105=V8)*(DD3:DD105=V5)*DC3:DC105)+SUMPRODUCT((DA3:DA105=V4)*(DD3:DD105=V5)*DC3:DC105) -> 0 | AA5: =SUMPRODUCT((DA3:DA105=V5)*(DD3:DD105=V6)*DC3:DC105)+SUMPRODUCT((DA3:DA105=V5)*(DD3:DD105=V7)*DC3:DC105)+SUMPRODUCT((DA3:DA105=V5)*(DD3:DD105=V8)*DC3:DC105)+SUMPRODUCT((DA3:DA105=V5)*(DD3:DD105=V4)*DC3:DC105)+SUMPRODUCT((DA3:DA105=V6)*(DD3:DD105=V5)*DB3:DB105)+SUMPRODUCT((DA3:DA105=V7)*(DD3:DD105=V5)*DB3:DB105)+SUMPRODUCT((DA3:DA105=V8)*(DD3:DD105=V5)*DB3:DB105)+SUMPRODUCT((DA3:DA105=V4)*(DD3:DD105=V5)*DB3:DB105) -> 0 | AB5: =Z5-AA5+1000 -> 1000 | AC5: =IF(V5<>"",W5*3+X5*1,"") -> 0 | AD5: =IF(V5<>"",VLOOKUP(V5,C4:I52,7,FALSE),"") -> 1000 | AE5: =IF(V5<>"",VLOOKUP(V5,C4:I52,5,FALSE),"") -> 0 | AF5: =IF(V5<>"",VLOOKUP(V5,C4:K52,9,FALSE),"") -> -143 | AG5: =AC5 -> 0 | AH5: =IF(V5<>"",RANK(AG5,AG4:AG8),"") -> 1 | AI5: =IF(V5<>"",SUMPRODUCT((AG4:AG8=AG5)*(AB4:AB8>AB5)),"") -> 0 | AJ5: =IF(V5<>"",SUMPRODUCT((AG4:AG8=AG5)*(AB4:AB8=AB5)*(Z4:Z8>Z5)),"") -> 0 | AK5: =IF(V5<>"",SUMPRODUCT((AG4:AG8=AG5)*(AB4:AB8=AB5)*(Z4:Z8=Z5)*(AD4:AD8>AD5)),"") -> 0 | AL5: =IF(V5<>"",SUMPRODUCT((AG4:AG8=AG5)*(AB4:AB8=AB5)*(Z4:Z8=Z5)*(AD4:AD8=AD5)*(AE4:AE8>AE5)),"") -> 0 | AM5: =IF(V5<>"",SUMPRODUCT((AG4:AG8=AG5)*(AB4:AB8=AB5)*(Z4:Z8=Z5)*(AD4:AD8=AD5)*(AE4:AE8=AE5)*(AF4:AF8>AF5)),"") -> 2 | AN5: =IF(V5<>"",IF(AN84<>"",IF(U82=3,AN84,AN84+U82),SUM(AH5:AM5)),"") -> 3 | AO5: =IF(V5<>"",INDEX(V4:V8,MATCH(2,AN4:AN8,0),0),"") -> Korea Republic | AP5: =IF(R4<>"",R4,"") | AQ5: =SUMPRODUCT((DA3:DA105=AP5)*(DD3:DD105=AP6)*(DE3:DE105="W"))+SUMPRODUCT((DA3:DA105=AP5)*(DD3:DD105=AP7)*(DE3:DE105="W"))+SUMPRODUCT((DA3:DA105=AP5)*(DD3:DD105=AP8)*(DE3:DE105="W"))+SUMPRODUCT((DA3:DA105=AP6)*(DD3:DD105=AP5)*(DF3:DF105="W"))+SUMPRODUCT((DA3:DA105=AP7)*(DD3:DD105=AP5)*(DF3:DF105="W"))+SUMPRODUCT((DA3:DA105=AP8)*(DD3:DD105=AP5)*(DF3:DF105="W")) -> 0 | AR5: =SUMPRODUCT((DA3:DA105=AP5)*(DD3:DD105=AP6)*(DE3:DE105="D"))+SUMPRODUCT((DA3:DA105=AP5)*(DD3:DD105=AP7)*(DE3:DE105="D"))+SUMPRODUCT((DA3:DA105=AP5)*(DD3:DD105=AP8)*(DE3:DE105="D"))+SUMPRODUCT((DA3:DA105=AP6)*(DD3:DD105=AP5)*(DE3:DE105="D"))+SUMPRODUCT((DA3:DA105=AP7)*(DD3:DD105=AP5)*(DE3:DE105="D"))+SUMPRODUCT((DA3:DA105=AP8)*(DD3:DD105=AP5)*(DE3:DE105="D")) -> 0 | AS5: =SUMPRODUCT((DA3:DA105=AP5)*(DD3:DD105=AP6)*(DE3:DE105="L"))+SUMPRODUCT((DA3:DA105=AP5)*(DD3:DD105=AP7)*(DE3:DE105="L"))+SUMPRODUCT((DA3:DA105=AP5)*(DD3:DD105=AP8)*(DE3:DE105="L"))+SUMPRODUCT((DA3:DA105=AP6)*(DD3:DD105=AP5)*(DF3:DF105="L"))+SUMPRODUCT((DA3:DA105=AP7)*(DD3:DD105=AP5)*(DF3:DF105="L"))+SUMPRODUCT((DA3:DA105=AP8)*(DD3:DD105=AP5)*(DF3:DF105="L")) -> 0 | AT5: =SUMPRODUCT((DA3:DA105=AP5)*(DD3:DD105=AP6)*DB3:DB105)+SUMPRODUCT((DA3:DA105=AP5)*(DD3:DD105=AP7)*DB3:DB105)+SUMPRODUCT((DA3:DA105=AP5)*(DD3:DD105=AP8)*DB3:DB105)+SUMPRODUCT((DA3:DA105=AP5)*(DD3:DD105=AP4)*DB3:DB105)+SUMPRODUCT((DA3:DA105=AP6)*(DD3:DD105=AP5)*DC3:DC105)+SUMPRODUCT((DA3:DA105=AP7)*(DD3:DD105=AP5)*DC3:DC105)+SUMPRODUCT((DA3:DA105=AP8)*(DD3:DD105=AP5)*DC3:DC105)+SUMPRODUCT((DA3:DA105=AP4)*(DD3:DD105=AP5)*DC3:DC105) -> 0 | AU5: =SUMPRODUCT((DA3:DA105=AP5)*(DD3:DD105=AP6)*DC3:DC105)+SUMPRODUCT((DA3:DA105=AP5)*(DD3:DD105=AP7)*DC3:DC105)+SUMPRODUCT((DA3:DA105=AP5)*(DD3:DD105=AP8)*DC3:DC105)+SUMPRODUCT((DA3:DA105=AP5)*(DD3:DD105=AP4)*DC3:DC105)+SUMPRODUCT((DA3:DA105=AP6)*(DD3:DD105=AP5)*DB3:DB105)+SUMPRODUCT((DA3:DA105=AP7)*(DD3:DD105=AP5)*DB3:DB105)+SUMPRODUCT((DA3:DA105=AP8)*(DD3:DD105=AP5)*DB3:DB105)+SUMPRODUCT((DA3:DA105=AP4)*(DD3:DD105=AP5)*DB3:DB105) -> 0 | AV5: =AT5-AU5+1000 -> 1000 | AW5: =IF(AP5<>"",AQ5*3+AR5*1,"") | AX5: =IF(AP5<>"",VLOOKUP(AP5,C4:I52,7,FALSE),"") | AY5: =IF(AP5<>"",VLOOKUP(AP5,C4:I52,5,FALSE),"") | AZ5: =IF(AP5<>"",VLOOKUP(AP5,C4:K52,9,FALSE),"") | BA5: =AW5 | BB5: =IF(AP5<>"",RANK(BA5,BA4:BA8),"") | BC5: =IF(AP5<>"",SUMPRODUCT((BA4:BA8=BA5)*(AV4:AV8>AV5)),"") | BD5: =IF(AP5<>"",SUMPRODUCT((BA4:BA8=BA5)*(AV4:AV8=AV5)*(AT4:AT8>AT5)),"") | BE5: =IF(AP5<>"",SUMPRODUCT((BA4:BA8=BA5)*(AV4:AV8=AV5)*(AT4:AT8=AT5)*(AX4:AX8>AX5)),"") | BF5: =IF(AP5<>"",SUMPRODUCT((BA4:BA8=BA5)*(AV4:AV8=AV5)*(AT4:AT8=AT5)*(AX4:AX8=AX5)*(AY4:AY8>AY5)),"") | BG5: =IF(AP5<>"",SUMPRODUCT((BA4:BA8=BA5)*(AV4:AV8=AV5)*(AT4:AT8=AT5)*(AX4:AX8=AX5)*(AY4:AY8=AY5)*(AZ4:AZ8>AZ5)),"") | BH5: =IF(AP5<>"",IF(BH84<>"",IF(AO82=3,BH84,BH84+AO82),SUM(BB5:BG5)+1),"") | BI5: =IF(AP5<>"",INDEX(AP5:AP8,MATCH(2,BH5:BH8,0),0),"") | CX5: =IF(BI5<>"",BI5,IF(AO5<>"",AO5,O5)) -> Korea Republic | CY5: 2 | CZ5: 3 | DA5: =Matches!H6 -> Canada | DB5: =IF(DA2<>"",IF(AND(Matches!J6<>"",Matches!K6<>""),Matches!J6,0),"") -> 0 | DC5: =IF(DA2<>"",IF(AND(Matches!J6<>"",Matches!K6<>""),Matches!K6,0),"") -> 0 | DD5: =Matches!M6 -> Bosnia and Herzegovina | DE5: =IF(AND(Matches!J6<>"",Matches!K6<>""),IF(DB5>DC5,"W",IF(DB5=DC5,"D","L")),"") | DF5: =IF(DE5<>"",IF(DE5="W","L",IF(DE5="L","W","D")),"")
A6: =Setup!F10+100 -> 122 | B6: =VLOOKUP(C6,CX4:CY8,2,FALSE) -> 2 | C6: =EE9 -> Korea Republic | D6: =SUMPRODUCT((DA3:DA105=C6)*(DE3:DE105="W"))+SUMPRODUCT((DD3:DD105=C6)*(DF3:DF105="W")) -> 0 | E6: =SUMPRODUCT((DA3:DA105=C6)*(DE3:DE105="D"))+SUMPRODUCT((DD3:DD105=C6)*(DF3:DF105="D")) -> 0 | F6: =SUMPRODUCT((DA3:DA105=C6)*(DE3:DE105="L"))+SUMPRODUCT((DD3:DD105=C6)*(DF3:DF105="L")) -> 0 | G6: =SUMIF(DA3:DA123,C6,DB3:DB123)+SUMIF(DD3:DD123,C6,DC3:DC123) -> 0 | H6: =SUMIF(DD3:DD123,C6,DB3:DB123)+SUMIF(DA3:DA123,C6,DC3:DC123) -> 0 | I6: =G6-H6+1000 -> 1000 | J6: =D6*3+E6*1 -> 0 | K6: =IF(Setup!G10<>"",Setup!G10,-A6) -> -122 | L6: =IF(COUNTIF(J4:J8,4)<>4,RANK(J6,J4:J8),J85) -> 1 | N6: =SUMPRODUCT((L4:L7=L6)*(K4:K7<K6))+L6 -> 3 | O6: =INDEX(C4:C8,MATCH(3,N4:N8,0),0) -> Korea Republic | P6: =INDEX(L4:L8,MATCH(O6,C4:C8,0),0) -> 1 | Q6: =IF(AND(Q5<>"",P6=1),O6,"") -> Korea Republic | R6: =IF(AND(R5<>"",P7=2),O7,"") | S6: =IF(AND(S5<>"",P8=3),O8,"") | V6: =IF(Q6<>"",Q6,"") -> Korea Republic | W6: =SUMPRODUCT((DA3:DA105=V6)*(DD3:DD105=V7)*(DE3:DE105="W"))+SUMPRODUCT((DA3:DA105=V6)*(DD3:DD105=V8)*(DE3:DE105="W"))+SUMPRODUCT((DA3:DA105=V6)*(DD3:DD105=V4)*(DE3:DE105="W"))+SUMPRODUCT((DA3:DA105=V6)*(DD3:DD105=V5)*(DE3:DE105="W"))+SUMPRODUCT((DA3:DA105=V7)*(DD3:DD105=V6)*(DF3:DF105="W"))+SUMPRODUCT((DA3:DA105=V8)*(DD3:DD105=V6)*(DF3:DF105="W"))+SUMPRODUCT((DA3:DA105=V4)*(DD3:DD105=V6)*(DF3:DF105="W"))+SUMPRODUCT((DA3:DA105=V5)*(DD3:DD105=V6)*(DF3:DF105="W")) -> 0 | X6: =SUMPRODUCT((DA3:DA105=V6)*(DD3:DD105=V7)*(DE3:DE105="D"))+SUMPRODUCT((DA3:DA105=V6)*(DD3:DD105=V8)*(DE3:DE105="D"))+SUMPRODUCT((DA3:DA105=V6)*(DD3:DD105=V4)*(DE3:DE105="D"))+SUMPRODUCT((DA3:DA105=V6)*(DD3:DD105=V5)*(DE3:DE105="D"))+SUMPRODUCT((DA3:DA105=V7)*(DD3:DD105=V6)*(DE3:DE105="D"))+SUMPRODUCT((DA3:DA105=V8)*(DD3:DD105=V6)*(DE3:DE105="D"))+SUMPRODUCT((DA3:DA105=V4)*(DD3:DD105=V6)*(DE3:DE105="D"))+SUMPRODUCT((DA3:DA105=V5)*(DD3:DD105=V6)*(DE3:DE105="D")) -> 0 | Y6: =SUMPRODUCT((DA3:DA105=V6)*(DD3:DD105=V7)*(DE3:DE105="L"))+SUMPRODUCT((DA3:DA105=V6)*(DD3:DD105=V8)*(DE3:DE105="L"))+SUMPRODUCT((DA3:DA105=V6)*(DD3:DD105=V4)*(DE3:DE105="L"))+SUMPRODUCT((DA3:DA105=V6)*(DD3:DD105=V5)*(DE3:DE105="L"))+SUMPRODUCT((DA3:DA105=V7)*(DD3:DD105=V6)*(DF3:DF105="L"))+SUMPRODUCT((DA3:DA105=V8)*(DD3:DD105=V6)*(DF3:DF105="L"))+SUMPRODUCT((DA3:DA105=V4)*(DD3:DD105=V6)*(DF3:DF105="L"))+SUMPRODUCT((DA3:DA105=V5)*(DD3:DD105=V6)*(DF3:DF105="L")) -> 0 | Z6: =SUMPRODUCT((DA3:DA105=V6)*(DD3:DD105=V7)*DB3:DB105)+SUMPRODUCT((DA3:DA105=V6)*(DD3:DD105=V8)*DB3:DB105)+SUMPRODUCT((DA3:DA105=V6)*(DD3:DD105=V4)*DB3:DB105)+SUMPRODUCT((DA3:DA105=V6)*(DD3:DD105=V5)*DB3:DB105)+SUMPRODUCT((DA3:DA105=V7)*(DD3:DD105=V6)*DC3:DC105)+SUMPRODUCT((DA3:DA105=V8)*(DD3:DD105=V6)*DC3:DC105)+SUMPRODUCT((DA3:DA105=V4)*(DD3:DD105=V6)*DC3:DC105)+SUMPRODUCT((DA3:DA105=V5)*(DD3:DD105=V6)*DC3:DC105) -> 0 | AA6: =SUMPRODUCT((DA3:DA105=V6)*(DD3:DD105=V7)*DC3:DC105)+SUMPRODUCT((DA3:DA105=V6)*(DD3:DD105=V8)*DC3:DC105)+SUMPRODUCT((DA3:DA105=V6)*(DD3:DD105=V4)*DC3:DC105)+SUMPRODUCT((DA3:DA105=V6)*(DD3:DD105=V5)*DC3:DC105)+SUMPRODUCT((DA3:DA105=V7)*(DD3:DD105=V6)*DB3:DB105)+SUMPRODUCT((DA3:DA105=V8)*(DD3:DD105=V6)*DB3:DB105)+SUMPRODUCT((DA3:DA105=V4)*(DD3:DD105=V6)*DB3:DB105)+SUMPRODUCT((DA3:DA105=V5)*(DD3:DD105=V6)*DB3:DB105) -> 0 | AB6: =Z6-AA6+1000 -> 1000 | AC6: =IF(V6<>"",W6*3+X6*1,"") -> 0 | AD6: =IF(V6<>"",VLOOKUP(V6,C4:I52,7,FALSE),"") -> 1000 | AE6: =IF(V6<>"",VLOOKUP(V6,C4:I52,5,FALSE),"") -> 0 | AF6: =IF(V6<>"",VLOOKUP(V6,C4:K52,9,FALSE),"") -> -122 | AG6: =AC6 -> 0 | AH6: =IF(V6<>"",RANK(AG6,AG4:AG8),"") -> 1 | AI6: =IF(V6<>"",SUMPRODUCT((AG4:AG8=AG6)*(AB4:AB8>AB6)),"") -> 0 | AJ6: =IF(V6<>"",SUMPRODUCT((AG4:AG8=AG6)*(AB4:AB8=AB6)*(Z4:Z8>Z6)),"") -> 0 | AK6: =IF(V6<>"",SUMPRODUCT((AG4:AG8=AG6)*(AB4:AB8=AB6)*(Z4:Z8=Z6)*(AD4:AD8>AD6)),"") -> 0 | AL6: =IF(V6<>"",SUMPRODUCT((AG4:AG8=AG6)*(AB4:AB8=AB6)*(Z4:Z8=Z6)*(AD4:AD8=AD6)*(AE4:AE8>AE6)),"") -> 0 | AM6: =IF(V6<>"",SUMPRODUCT((AG4:AG8=AG6)*(AB4:AB8=AB6)*(Z4:Z8=Z6)*(AD4:AD8=AD6)*(AE4:AE8=AE6)*(AF4:AF8>AF6)),"") -> 1 | AN6: =IF(V6<>"",IF(AN85<>"",IF(U82=3,AN85,AN85+U82),SUM(AH6:AM6)),"") -> 2 | AO6: =IF(V6<>"",INDEX(V4:V8,MATCH(3,AN4:AN8,0),0),"") -> Czechia | AP6: =IF(R5<>"",R5,"") | AQ6: =SUMPRODUCT((DA3:DA105=AP6)*(DD3:DD105=AP7)*(DE3:DE105="W"))+SUMPRODUCT((DA3:DA105=AP6)*(DD3:DD105=AP8)*(DE3:DE105="W"))+SUMPRODUCT((DA3:DA105=AP6)*(DD3:DD105=AP5)*(DE3:DE105="W"))+SUMPRODUCT((DA3:DA105=AP7)*(DD3:DD105=AP6)*(DF3:DF105="W"))+SUMPRODUCT((DA3:DA105=AP8)*(DD3:DD105=AP6)*(DF3:DF105="W"))+SUMPRODUCT((DA3:DA105=AP5)*(DD3:DD105=AP6)*(DF3:DF105="W")) -> 0 | AR6: =SUMPRODUCT((DA3:DA105=AP6)*(DD3:DD105=AP7)*(DE3:DE105="D"))+SUMPRODUCT((DA3:DA105=AP6)*(DD3:DD105=AP8)*(DE3:DE105="D"))+SUMPRODUCT((DA3:DA105=AP6)*(DD3:DD105=AP5)*(DE3:DE105="D"))+SUMPRODUCT((DA3:DA105=AP7)*(DD3:DD105=AP6)*(DE3:DE105="D"))+SUMPRODUCT((DA3:DA105=AP8)*(DD3:DD105=AP6)*(DE3:DE105="D"))+SUMPRODUCT((DA3:DA105=AP5)*(DD3:DD105=AP6)*(DE3:DE105="D")) -> 0 | AS6: =SUMPRODUCT((DA3:DA105=AP6)*(DD3:DD105=AP7)*(DE3:DE105="L"))+SUMPRODUCT((DA3:DA105=AP6)*(DD3:DD105=AP8)*(DE3:DE105="L"))+SUMPRODUCT((DA3:DA105=AP6)*(DD3:DD105=AP5)*(DE3:DE105="L"))+SUMPRODUCT((DA3:DA105=AP7)*(DD3:DD105=AP6)*(DF3:DF105="L"))+SUMPRODUCT((DA3:DA105=AP8)*(DD3:DD105=AP6)*(DF3:DF105="L"))+SUMPRODUCT((DA3:DA105=AP5)*(DD3:DD105=AP6)*(DF3:DF105="L")) -> 0 | AT6: =SUMPRODUCT((DA3:DA105=AP6)*(DD3:DD105=AP7)*DB3:DB105)+SUMPRODUCT((DA3:DA105=AP6)*(DD3:DD105=AP8)*DB3:DB105)+SUMPRODUCT((DA3:DA105=AP6)*(DD3:DD105=AP4)*DB3:DB105)+SUMPRODUCT((DA3:DA105=AP6)*(DD3:DD105=AP5)*DB3:DB105)+SUMPRODUCT((DA3:DA105=AP7)*(DD3:DD105=AP6)*DC3:DC105)+SUMPRODUCT((DA3:DA105=AP8)*(DD3:DD105=AP6)*DC3:DC105)+SUMPRODUCT((DA3:DA105=AP4)*(DD3:DD105=AP6)*DC3:DC105)+SUMPRODUCT((DA3:DA105=AP5)*(DD3:DD105=AP6)*DC3:DC105) -> 0 | AU6: =SUMPRODUCT((DA3:DA105=AP6)*(DD3:DD105=AP7)*DC3:DC105)+SUMPRODUCT((DA3:DA105=AP6)*(DD3:DD105=AP8)*DC3:DC105)+SUMPRODUCT((DA3:DA105=AP6)*(DD3:DD105=AP4)*DC3:DC105)+SUMPRODUCT((DA3:DA105=AP6)*(DD3:DD105=AP5)*DC3:DC105)+SUMPRODUCT((DA3:DA105=AP7)*(DD3:DD105=AP6)*DB3:DB105)+SUMPRODUCT((DA3:DA105=AP8)*(DD3:DD105=AP6)*DB3:DB105)+SUMPRODUCT((DA3:DA105=AP4)*(DD3:DD105=AP6)*DB3:DB105)+SUMPRODUCT((DA3:DA105=AP5)*(DD3:DD105=AP6)*DB3:DB105) -> 0 | AV6: =AT6-AU6+1000 -> 1000 | AW6: =IF(AP6<>"",AQ6*3+AR6*1,"") | AX6: =IF(AP6<>"",VLOOKUP(AP6,C4:I52,7,FALSE),"") | AY6: =IF(AP6<>"",VLOOKUP(AP6,C4:I52,5,FALSE),"") | AZ6: =IF(AP6<>"",VLOOKUP(AP6,C4:K52,9,FALSE),"") | BA6: =AW6 | BB6: =IF(AP6<>"",RANK(BA6,BA4:BA8),"") | BC6: =IF(AP6<>"",SUMPRODUCT((BA4:BA8=BA6)*(AV4:AV8>AV6)),"") | BD6: =IF(AP6<>"",SUMPRODUCT((BA4:BA8=BA6)*(AV4:AV8=AV6)*(AT4:AT8>AT6)),"") | BE6: =IF(AP6<>"",SUMPRODUCT((BA4:BA8=BA6)*(AV4:AV8=AV6)*(AT4:AT8=AT6)*(AX4:AX8>AX6)),"") | BF6: =IF(AP6<>"",SUMPRODUCT((BA4:BA8=BA6)*(AV4:AV8=AV6)*(AT4:AT8=AT6)*(AX4:AX8=AX6)*(AY4:AY8>AY6)),"") | BG6: =IF(AP6<>"",SUMPRODUCT((BA4:BA8=BA6)*(AV4:AV8=AV6)*(AT4:AT8=AT6)*(AX4:AX8=AX6)*(AY4:AY8=AY6)*(AZ4:AZ8>AZ6)),"") | BH6: =IF(AP6<>"",IF(BH85<>"",IF(AO82=3,BH85,BH85+AO82),SUM(BB6:BG6)+1),"") | BI6: =IF(AP6<>"",INDEX(AP5:AP8,MATCH(3,BH5:BH8,0),0),"") | BJ6: =IF(S4<>"",S4,"") | BK6: =SUMPRODUCT((DA3:DA105=BJ6)*(DD3:DD105=BJ7)*(DE3:DE105="W"))+SUMPRODUCT((DA3:DA105=BJ6)*(DD3:DD105=BJ8)*(DE3:DE105="W"))+SUMPRODUCT((DA3:DA105=BJ6)*(DD3:DD105=BJ9)*(DE3:DE105="W"))+SUMPRODUCT((DA3:DA105=BJ7)*(DD3:DD105=BJ6)*(DF3:DF105="W"))+SUMPRODUCT((DA3:DA105=BJ8)*(DD3:DD105=BJ6)*(DF3:DF105="W"))+SUMPRODUCT((DA3:DA105=BJ9)*(DD3:DD105=BJ6)*(DF3:DF105="W")) -> 0 | BL6: =SUMPRODUCT((DA3:DA105=BJ6)*(DD3:DD105=BJ7)*(DE3:DE105="D"))+SUMPRODUCT((DA3:DA105=BJ6)*(DD3:DD105=BJ8)*(DE3:DE105="D"))+SUMPRODUCT((DA3:DA105=BJ6)*(DD3:DD105=BJ9)*(DE3:DE105="D"))+SUMPRODUCT((DA3:DA105=BJ7)*(DD3:DD105=BJ6)*(DE3:DE105="D"))+SUMPRODUCT((DA3:DA105=BJ8)*(DD3:DD105=BJ6)*(DE3:DE105="D"))+SUMPRODUCT((DA3:DA105=BJ9)*(DD3:DD105=BJ6)*(DE3:DE105="D")) -> 0 | BM6: =SUMPRODUCT((DA3:DA105=BJ6)*(DD3:DD105=BJ7)*(DE3:DE105="L"))+SUMPRODUCT((DA3:DA105=BJ6)*(DD3:DD105=BJ8)*(DE3:DE105="L"))+SUMPRODUCT((DA3:DA105=BJ6)*(DD3:DD105=BJ9)*(DE3:DE105="L"))+SUMPRODUCT((DA3:DA105=BJ7)*(DD3:DD105=BJ6)*(DF3:DF105="L"))+SUMPRODUCT((DA3:DA105=BJ8)*(DD3:DD105=BJ6)*(DF3:DF105="L"))+SUMPRODUCT((DA3:DA105=BJ9)*(DD3:DD105=BJ6)*(DF3:DF105="L")) -> 0 | BN6: =SUMPRODUCT((DA3:DA105=BJ6)*(DD3:DD105=BJ7)*DB3:DB105)+SUMPRODUCT((DA3:DA105=BJ6)*(DD3:DD105=BJ8)*DB3:DB105)+SUMPRODUCT((DA3:DA105=BJ6)*(DD3:DD105=BJ4)*DB3:DB105)+SUMPRODUCT((DA3:DA105=BJ6)*(DD3:DD105=BJ5)*DB3:DB105)+SUMPRODUCT((DA3:DA105=BJ7)*(DD3:DD105=BJ6)*DC3:DC105)+SUMPRODUCT((DA3:DA105=BJ8)*(DD3:DD105=BJ6)*DC3:DC105)+SUMPRODUCT((DA3:DA105=BJ4)*(DD3:DD105=BJ6)*DC3:DC105)+SUMPRODUCT((DA3:DA105=BJ5)*(DD3:DD105=BJ6)*DC3:DC105) -> 0 | BO6: =SUMPRODUCT((DA3:DA105=BJ6)*(DD3:DD105=BJ7)*DC3:DC105)+SUMPRODUCT((DA3:DA105=BJ6)*(DD3:DD105=BJ8)*DC3:DC105)+SUMPRODUCT((DA3:DA105=BJ6)*(DD3:DD105=BJ4)*DC3:DC105)+SUMPRODUCT((DA3:DA105=BJ6)*(DD3:DD105=BJ5)*DC3:DC105)+SUMPRODUCT((DA3:DA105=BJ7)*(DD3:DD105=BJ6)*DB3:DB105)+SUMPRODUCT((DA3:DA105=BJ8)*(DD3:DD105=BJ6)*DB3:DB105)+SUMPRODUCT((DA3:DA105=BJ4)*(DD3:DD105=BJ6)*DB3:DB105)+SUMPRODUCT((DA3:DA105=BJ5)*(DD3:DD105=BJ6)*DB3:DB105) -> 0 | BP6: =BN6-BO6+1000 -> 1000 | BQ6: =IF(BJ6<>"",BK6*3+BL6*1,"") | BR6: =IF(BJ6<>"",VLOOKUP(BJ6,C4:I52,7,FALSE),"") | BS6: =IF(BJ6<>"",VLOOKUP(BJ6,C4:I52,5,FALSE),"") | BT6: =IF(BJ6<>"",VLOOKUP(BJ6,C4:K52,9,FALSE),"") | BU6: =BQ6 | BV6: =IF(BJ6<>"",RANK(BU6,BU4:BU8),"") | BW6: =IF(BJ6<>"",SUMPRODUCT((BU4:BU8=BU6)*(BP4:BP8>BP6)),"") | BX6: =IF(BJ6<>"",SUMPRODUCT((BU4:BU8=BU6)*(BP4:BP8=BP6)*(BN4:BN8>BN6)),"") | BY6: =IF(BJ6<>"",SUMPRODUCT((BU4:BU8=BU6)*(BP4:BP8=BP6)*(BN4:BN8=BN6)*(BR4:BR8>BR6)),"") | BZ6: =IF(BJ6<>"",SUMPRODUCT((BU4:BU8=BU6)*(BP4:BP8=BP6)*(BN4:BN8=BN6)*(BR4:BR8=BR6)*(BS4:BS8>BS6)),"") | CA6: =IF(BJ6<>"",SUMPRODUCT((BU4:BU8=BU6)*(BP4:BP8=BP6)*(BN4:BN8=BN6)*(BR4:BR8=BR6)*(BS4:BS8=BS6)*(BT4:BT8>BT6)),"") | CB6: =IF(BJ6<>"",SUM(BV6:CA6)+2,"") | CC6: =IF(BJ6<>"",INDEX(BJ6:BJ8,MATCH(3,CB6:CB8,0),0),"") | CX6: =IF(CC6<>"",CC6,IF(BI6<>"",BI6,IF(AO6<>"",AO6,O6))) -> Czechia | CY6: 3 | CZ6: 4 | DA6: =Matches!H7 -> USA | DB6: =IF(DA2<>"",IF(AND(Matches!J7<>"",Matches!K7<>""),Matches!J7,0),"") -> 0 | DC6: =IF(DA2<>"",IF(AND(Matches!J7<>"",Matches!K7<>""),Matches!K7,0),"") -> 0 | DD6: =Matches!M7 -> Paraguay | DE6: =IF(AND(Matches!J7<>"",Matches!K7<>""),IF(DB6>DC6,"W",IF(DB6=DC6,"D","L")),"") | DF6: =IF(DE6<>"",IF(DE6="W","L",IF(DE6="L","W","D")),"") | EA6: eastern time | EC6: local time
A7: =Setup!F11+100 -> 143 | B7: =VLOOKUP(C7,CX4:CY8,2,FALSE) -> 3 | C7: =EE10 -> Czechia | D7: =SUMPRODUCT((DA3:DA105=C7)*(DE3:DE105="W"))+SUMPRODUCT((DD3:DD105=C7)*(DF3:DF105="W")) -> 0 | E7: =SUMPRODUCT((DA3:DA105=C7)*(DE3:DE105="D"))+SUMPRODUCT((DD3:DD105=C7)*(DF3:DF105="D")) -> 0 | F7: =SUMPRODUCT((DA3:DA105=C7)*(DE3:DE105="L"))+SUMPRODUCT((DD3:DD105=C7)*(DF3:DF105="L")) -> 0 | G7: =SUMIF(DA3:DA123,C7,DB3:DB123)+SUMIF(DD3:DD123,C7,DC3:DC123) -> 0 | H7: =SUMIF(DD3:DD123,C7,DB3:DB123)+SUMIF(DA3:DA123,C7,DC3:DC123) -> 0 | I7: =G7-H7+1000 -> 1000 | J7: =D7*3+E7*1 -> 0 | K7: =IF(Setup!G11<>"",Setup!G11,-A7) -> -143 | L7: =IF(COUNTIF(J4:J8,4)<>4,RANK(J7,J4:J8),J86) -> 1 | N7: =SUMPRODUCT((L4:L7=L7)*(K4:K7<K7))+L7 -> 2 | O7: =INDEX(C4:C8,MATCH(4,N4:N8,0),0) -> Mexico | P7: =INDEX(L4:L8,MATCH(O7,C4:C8,0),0) -> 1 | Q7: =IF(AND(Q6<>"",P7=1),O7,"") -> Mexico | R7: =IF(AND(R6<>"",P8=2),O8,"") | V7: =IF(Q7<>"",Q7,"") -> Mexico | W7: =SUMPRODUCT((DA3:DA105=V7)*(DD3:DD105=V8)*(DE3:DE105="W"))+SUMPRODUCT((DA3:DA105=V7)*(DD3:DD105=V4)*(DE3:DE105="W"))+SUMPRODUCT((DA3:DA105=V7)*(DD3:DD105=V5)*(DE3:DE105="W"))+SUMPRODUCT((DA3:DA105=V7)*(DD3:DD105=V6)*(DE3:DE105="W"))+SUMPRODUCT((DA3:DA105=V8)*(DD3:DD105=V7)*(DF3:DF105="W"))+SUMPRODUCT((DA3:DA105=V4)*(DD3:DD105=V7)*(DF3:DF105="W"))+SUMPRODUCT((DA3:DA105=V5)*(DD3:DD105=V7)*(DF3:DF105="W"))+SUMPRODUCT((DA3:DA105=V6)*(DD3:DD105=V7)*(DF3:DF105="W")) -> 0 | X7: =SUMPRODUCT((DA3:DA105=V7)*(DD3:DD105=V8)*(DE3:DE105="D"))+SUMPRODUCT((DA3:DA105=V7)*(DD3:DD105=V4)*(DE3:DE105="D"))+SUMPRODUCT((DA3:DA105=V7)*(DD3:DD105=V5)*(DE3:DE105="D"))+SUMPRODUCT((DA3:DA105=V7)*(DD3:DD105=V6)*(DE3:DE105="D"))+SUMPRODUCT((DA3:DA105=V8)*(DD3:DD105=V7)*(DE3:DE105="D"))+SUMPRODUCT((DA3:DA105=V4)*(DD3:DD105=V7)*(DE3:DE105="D"))+SUMPRODUCT((DA3:DA105=V5)*(DD3:DD105=V7)*(DE3:DE105="D"))+SUMPRODUCT((DA3:DA105=V6)*(DD3:DD105=V7)*(DE3:DE105="D")) -> 0 | Y7: =SUMPRODUCT((DA3:DA105=V7)*(DD3:DD105=V8)*(DE3:DE105="L"))+SUMPRODUCT((DA3:DA105=V7)*(DD3:DD105=V4)*(DE3:DE105="L"))+SUMPRODUCT((DA3:DA105=V7)*(DD3:DD105=V5)*(DE3:DE105="L"))+SUMPRODUCT((DA3:DA105=V7)*(DD3:DD105=V6)*(DE3:DE105="L"))+SUMPRODUCT((DA3:DA105=V8)*(DD3:DD105=V7)*(DF3:DF105="L"))+SUMPRODUCT((DA3:DA105=V4)*(DD3:DD105=V7)*(DF3:DF105="L"))+SUMPRODUCT((DA3:DA105=V5)*(DD3:DD105=V7)*(DF3:DF105="L"))+SUMPRODUCT((DA3:DA105=V6)*(DD3:DD105=V7)*(DF3:DF105="L")) -> 0 | Z7: =SUMPRODUCT((DA3:DA105=V7)*(DD3:DD105=V8)*DB3:DB105)+SUMPRODUCT((DA3:DA105=V7)*(DD3:DD105=V4)*DB3:DB105)+SUMPRODUCT((DA3:DA105=V7)*(DD3:DD105=V5)*DB3:DB105)+SUMPRODUCT((DA3:DA105=V7)*(DD3:DD105=V6)*DB3:DB105)+SUMPRODUCT((DA3:DA105=V8)*(DD3:DD105=V7)*DC3:DC105)+SUMPRODUCT((DA3:DA105=V4)*(DD3:DD105=V7)*DC3:DC105)+SUMPRODUCT((DA3:DA105=V5)*(DD3:DD105=V7)*DC3:DC105)+SUMPRODUCT((DA3:DA105=V6)*(DD3:DD105=V7)*DC3:DC105) -> 0 | AA7: =SUMPRODUCT((DA3:DA105=V7)*(DD3:DD105=V8)*DC3:DC105)+SUMPRODUCT((DA3:DA105=V7)*(DD3:DD105=V4)*DC3:DC105)+SUMPRODUCT((DA3:DA105=V7)*(DD3:DD105=V5)*DC3:DC105)+SUMPRODUCT((DA3:DA105=V7)*(DD3:DD105=V6)*DC3:DC105)+SUMPRODUCT((DA3:DA105=V8)*(DD3:DD105=V7)*DB3:DB105)+SUMPRODUCT((DA3:DA105=V4)*(DD3:DD105=V7)*DB3:DB105)+SUMPRODUCT((DA3:DA105=V5)*(DD3:DD105=V7)*DB3:DB105)+SUMPRODUCT((DA3:DA105=V6)*(DD3:DD105=V7)*DB3:DB105) -> 0 | AB7: =Z7-AA7+1000 -> 1000 | AC7: =IF(V7<>"",W7*3+X7*1,"") -> 0 | AD7: =IF(V7<>"",VLOOKUP(V7,C4:I52,7,FALSE),"") -> 1000 | AE7: =IF(V7<>"",VLOOKUP(V7,C4:I52,5,FALSE),"") -> 0 | AF7: =IF(V7<>"",VLOOKUP(V7,C4:K52,9,FALSE),"") -> -116 | AG7: =AC7 -> 0 | AH7: =IF(V7<>"",RANK(AG7,AG4:AG8),"") -> 1 | AI7: =IF(V7<>"",SUMPRODUCT((AG4:AG8=AG7)*(AB4:AB8>AB7)),"") -> 0 | AJ7: =IF(V7<>"",SUMPRODUCT((AG4:AG8=AG7)*(AB4:AB8=AB7)*(Z4:Z8>Z7)),"") -> 0 | AK7: =IF(V7<>"",SUMPRODUCT((AG4:AG8=AG7)*(AB4:AB8=AB7)*(Z4:Z8=Z7)*(AD4:AD8>AD7)),"") -> 0 | AL7: =IF(V7<>"",SUMPRODUCT((AG4:AG8=AG7)*(AB4:AB8=AB7)*(Z4:Z8=Z7)*(AD4:AD8=AD7)*(AE4:AE8>AE7)),"") -> 0 | AM7: =IF(V7<>"",SUMPRODUCT((AG4:AG8=AG7)*(AB4:AB8=AB7)*(Z4:Z8=Z7)*(AD4:AD8=AD7)*(AE4:AE8=AE7)*(AF4:AF8>AF7)),"") -> 0 | AN7: =IF(V7<>"",IF(AN86<>"",IF(U82=3,AN86,AN86+U82),SUM(AH7:AM7)),"") -> 1 | AO7: =IF(V7<>"",INDEX(V4:V8,MATCH(4,AN4:AN8,0),0),"") -> South Africa | AP7: =IF(R6<>"",R6,"") | AQ7: =SUMPRODUCT((DA3:DA105=AP7)*(DD3:DD105=AP8)*(DE3:DE105="W"))+SUMPRODUCT((DA3:DA105=AP7)*(DD3:DD105=AP5)*(DE3:DE105="W"))+SUMPRODUCT((DA3:DA105=AP7)*(DD3:DD105=AP6)*(DE3:DE105="W"))+SUMPRODUCT((DA3:DA105=AP8)*(DD3:DD105=AP7)*(DF3:DF105="W"))+SUMPRODUCT((DA3:DA105=AP5)*(DD3:DD105=AP7)*(DF3:DF105="W"))+SUMPRODUCT((DA3:DA105=AP6)*(DD3:DD105=AP7)*(DF3:DF105="W")) -> 0 | AR7: =SUMPRODUCT((DA3:DA105=AP7)*(DD3:DD105=AP8)*(DE3:DE105="D"))+SUMPRODUCT((DA3:DA105=AP7)*(DD3:DD105=AP5)*(DE3:DE105="D"))+SUMPRODUCT((DA3:DA105=AP7)*(DD3:DD105=AP6)*(DE3:DE105="D"))+SUMPRODUCT((DA3:DA105=AP8)*(DD3:DD105=AP7)*(DE3:DE105="D"))+SUMPRODUCT((DA3:DA105=AP5)*(DD3:DD105=AP7)*(DE3:DE105="D"))+SUMPRODUCT((DA3:DA105=AP6)*(DD3:DD105=AP7)*(DE3:DE105="D")) -> 0 | AS7: =SUMPRODUCT((DA3:DA105=AP7)*(DD3:DD105=AP8)*(DE3:DE105="L"))+SUMPRODUCT((DA3:DA105=AP7)*(DD3:DD105=AP5)*(DE3:DE105="L"))+SUMPRODUCT((DA3:DA105=AP7)*(DD3:DD105=AP6)*(DE3:DE105="L"))+SUMPRODUCT((DA3:DA105=AP8)*(DD3:DD105=AP7)*(DF3:DF105="L"))+SUMPRODUCT((DA3:DA105=AP5)*(DD3:DD105=AP7)*(DF3:DF105="L"))+SUMPRODUCT((DA3:DA105=AP6)*(DD3:DD105=AP7)*(DF3:DF105="L")) -> 0 | AT7: =SUMPRODUCT((DA3:DA105=AP7)*(DD3:DD105=AP8)*DB3:DB105)+SUMPRODUCT((DA3:DA105=AP7)*(DD3:DD105=AP4)*DB3:DB105)+SUMPRODUCT((DA3:DA105=AP7)*(DD3:DD105=AP5)*DB3:DB105)+SUMPRODUCT((DA3:DA105=AP7)*(DD3:DD105=AP6)*DB3:DB105)+SUMPRODUCT((DA3:DA105=AP8)*(DD3:DD105=AP7)*DC3:DC105)+SUMPRODUCT((DA3:DA105=AP4)*(DD3:DD105=AP7)*DC3:DC105)+SUMPRODUCT((DA3:DA105=AP5)*(DD3:DD105=AP7)*DC3:DC105)+SUMPRODUCT((DA3:DA105=AP6)*(DD3:DD105=AP7)*DC3:DC105) -> 0 | AU7: =SUMPRODUCT((DA3:DA105=AP7)*(DD3:DD105=AP8)*DC3:DC105)+SUMPRODUCT((DA3:DA105=AP7)*(DD3:DD105=AP4)*DC3:DC105)+SUMPRODUCT((DA3:DA105=AP7)*(DD3:DD105=AP5)*DC3:DC105)+SUMPRODUCT((DA3:DA105=AP7)*(DD3:DD105=AP6)*DC3:DC105)+SUMPRODUCT((DA3:DA105=AP8)*(DD3:DD105=AP7)*DB3:DB105)+SUMPRODUCT((DA3:DA105=AP4)*(DD3:DD105=AP7)*DB3:DB105)+SUMPRODUCT((DA3:DA105=AP5)*(DD3:DD105=AP7)*DB3:DB105)+SUMPRODUCT((DA3:DA105=AP6)*(DD3:DD105=AP7)*DB3:DB105) -> 0 | AV7: =AT7-AU7+1000 -> 1000 | AW7: =IF(AP7<>"",AQ7*3+AR7*1,"") | AX7: =IF(AP7<>"",VLOOKUP(AP7,C4:I52,7,FALSE),"") | AY7: =IF(AP7<>"",VLOOKUP(AP7,C4:I52,5,FALSE),"") | AZ7: =IF(AP7<>"",VLOOKUP(AP7,C4:K52,9,FALSE),"") | BA7: =AW7 | BB7: =IF(AP7<>"",RANK(BA7,BA4:BA8),"") | BC7: =IF(AP7<>"",SUMPRODUCT((BA4:BA8=BA7)*(AV4:AV8>AV7)),"") | BD7: =IF(AP7<>"",SUMPRODUCT((BA4:BA8=BA7)*(AV4:AV8=AV7)*(AT4:AT8>AT7)),"") | BE7: =IF(AP7<>"",SUMPRODUCT((BA4:BA8=BA7)*(AV4:AV8=AV7)*(AT4:AT8=AT7)*(AX4:AX8>AX7)),"") | BF7: =IF(AP7<>"",SUMPRODUCT((BA4:BA8=BA7)*(AV4:AV8=AV7)*(AT4:AT8=AT7)*(AX4:AX8=AX7)*(AY4:AY8>AY7)),"") | BG7: =IF(AP7<>"",SUMPRODUCT((BA4:BA8=BA7)*(AV4:AV8=AV7)*(AT4:AT8=AT7)*(AX4:AX8=AX7)*(AY4:AY8=AY7)*(AZ4:AZ8>AZ7)),"") | BH7: =IF(AP7<>"",IF(BH86<>"",IF(AO82=3,BH86,BH86+AO82),SUM(BB7:BG7)+1),"") | BI7: =IF(AP7<>"",INDEX(AP5:AP8,MATCH(4,BH5:BH8,0),0),"") | BJ7: =IF(S5<>"",S5,"") | BK7: =SUMPRODUCT((DA3:DA105=BJ7)*(DD3:DD105=BJ8)*(DE3:DE105="W"))+SUMPRODUCT((DA3:DA105=BJ7)*(DD3:DD105=BJ9)*(DE3:DE105="W"))+SUMPRODUCT((DA3:DA105=BJ7)*(DD3:DD105=BJ6)*(DE3:DE105="W"))+SUMPRODUCT((DA3:DA105=BJ8)*(DD3:DD105=BJ7)*(DF3:DF105="W"))+SUMPRODUCT((DA3:DA105=BJ9)*(DD3:DD105=BJ7)*(DF3:DF105="W"))+SUMPRODUCT((DA3:DA105=BJ6)*(DD3:DD105=BJ7)*(DF3:DF105="W")) -> 0 | BL7: =SUMPRODUCT((DA3:DA105=BJ7)*(DD3:DD105=BJ8)*(DE3:DE105="D"))+SUMPRODUCT((DA3:DA105=BJ7)*(DD3:DD105=BJ9)*(DE3:DE105="D"))+SUMPRODUCT((DA3:DA105=BJ7)*(DD3:DD105=BJ6)*(DE3:DE105="D"))+SUMPRODUCT((DA3:DA105=BJ8)*(DD3:DD105=BJ7)*(DE3:DE105="D"))+SUMPRODUCT((DA3:DA105=BJ9)*(DD3:DD105=BJ7)*(DE3:DE105="D"))+SUMPRODUCT((DA3:DA105=BJ6)*(DD3:DD105=BJ7)*(DE3:DE105="D")) -> 0 | BM7: =SUMPRODUCT((DA3:DA105=BJ7)*(DD3:DD105=BJ8)*(DE3:DE105="L"))+SUMPRODUCT((DA3:DA105=BJ7)*(DD3:DD105=BJ9)*(DE3:DE105="L"))+SUMPRODUCT((DA3:DA105=BJ7)*(DD3:DD105=BJ6)*(DE3:DE105="L"))+SUMPRODUCT((DA3:DA105=BJ8)*(DD3:DD105=BJ7)*(DF3:DF105="L"))+SUMPRODUCT((DA3:DA105=BJ9)*(DD3:DD105=BJ7)*(DF3:DF105="L"))+SUMPRODUCT((DA3:DA105=BJ6)*(DD3:DD105=BJ7)*(DF3:DF105="L")) -> 0 | BN7: =SUMPRODUCT((DA3:DA105=BJ7)*(DD3:DD105=BJ8)*DB3:DB105)+SUMPRODUCT((DA3:DA105=BJ7)*(DD3:DD105=BJ4)*DB3:DB105)+SUMPRODUCT((DA3:DA105=BJ7)*(DD3:DD105=BJ5)*DB3:DB105)+SUMPRODUCT((DA3:DA105=BJ7)*(DD3:DD105=BJ6)*DB3:DB105)+SUMPRODUCT((DA3:DA105=BJ8)*(DD3:DD105=BJ7)*DC3:DC105)+SUMPRODUCT((DA3:DA105=BJ4)*(DD3:DD105=BJ7)*DC3:DC105)+SUMPRODUCT((DA3:DA105=BJ5)*(DD3:DD105=BJ7)*DC3:DC105)+SUMPRODUCT((DA3:DA105=BJ6)*(DD3:DD105=BJ7)*DC3:DC105) -> 0 | BO7: =SUMPRODUCT((DA3:DA105=BJ7)*(DD3:DD105=BJ8)*DC3:DC105)+SUMPRODUCT((DA3:DA105=BJ7)*(DD3:DD105=BJ4)*DC3:DC105)+SUMPRODUCT((DA3:DA105=BJ7)*(DD3:DD105=BJ5)*DC3:DC105)+SUMPRODUCT((DA3:DA105=BJ7)*(DD3:DD105=BJ6)*DC3:DC105)+SUMPRODUCT((DA3:DA105=BJ8)*(DD3:DD105=BJ7)*DB3:DB105)+SUMPRODUCT((DA3:DA105=BJ4)*(DD3:DD105=BJ7)*DB3:DB105)+SUMPRODUCT((DA3:DA105=BJ5)*(DD3:DD105=BJ7)*DB3:DB105)+SUMPRODUCT((DA3:DA105=BJ6)*(DD3:DD105=BJ7)*DB3:DB105) -> 0 | BP7: =BN7-BO7+1000 -> 1000 | BQ7: =IF(BJ7<>"",BK7*3+BL7*1,"") | BR7: =IF(BJ7<>"",VLOOKUP(BJ7,C4:I52,7,FALSE),"") | BS7: =IF(BJ7<>"",VLOOKUP(BJ7,C4:I52,5,FALSE),"") | BT7: =IF(BJ7<>"",VLOOKUP(BJ7,C4:K52,9,FALSE),"") | BU7: =BQ7 | BV7: =IF(BJ7<>"",RANK(BU7,BU4:BU8),"") | BW7: =IF(BJ7<>"",SUMPRODUCT((BU4:BU8=BU7)*(BP4:BP8>BP7)),"") | BX7: =IF(BJ7<>"",SUMPRODUCT((BU4:BU8=BU7)*(BP4:BP8=BP7)*(BN4:BN8>BN7)),"") | BY7: =IF(BJ7<>"",SUMPRODUCT((BU4:BU8=BU7)*(BP4:BP8=BP7)*(BN4:BN8=BN7)*(BR4:BR8>BR7)),"") | BZ7: =IF(BJ7<>"",SUMPRODUCT((BU4:BU8=BU7)*(BP4:BP8=BP7)*(BN4:BN8=BN7)*(BR4:BR8=BR7)*(BS4:BS8>BS7)),"") | CA7: =IF(BJ7<>"",SUMPRODUCT((BU4:BU8=BU7)*(BP4:BP8=BP7)*(BN4:BN8=BN7)*(BR4:BR8=BR7)*(BS4:BS8=BS7)*(BT4:BT8>BT7)),"") | CB7: =IF(BJ7<>"",SUM(BV7:CA7)+2,"") | CC7: =IF(BJ7<>"",INDEX(BJ6:BJ8,MATCH(4,CB6:CB8,0),0),"") | CD7: =IF(T4<>"",T4,"") | CE7: =SUMPRODUCT((DA3:DA105=CD7)*(DD3:DD105=CD8)*(DE3:DE105="W"))+SUMPRODUCT((DA3:DA105=CD7)*(DD3:DD105=CD9)*(DE3:DE105="W"))+SUMPRODUCT((DA3:DA105=CD7)*(DD3:DD105=CD10)*(DE3:DE105="W"))+SUMPRODUCT((DA3:DA105=CD8)*(DD3:DD105=CD7)*(DF3:DF105="W"))+SUMPRODUCT((DA3:DA105=CD9)*(DD3:DD105=CD7)*(DF3:DF105="W"))+SUMPRODUCT((DA3:DA105=CD10)*(DD3:DD105=CD7)*(DF3:DF105="W")) -> 0 | CF7: =SUMPRODUCT((DA3:DA105=CD7)*(DD3:DD105=CD8)*(DE3:DE105="D"))+SUMPRODUCT((DA3:DA105=CD7)*(DD3:DD105=CD9)*(DE3:DE105="D"))+SUMPRODUCT((DA3:DA105=CD7)*(DD3:DD105=CD10)*(DE3:DE105="D"))+SUMPRODUCT((DA3:DA105=CD8)*(DD3:DD105=CD7)*(DE3:DE105="D"))+SUMPRODUCT((DA3:DA105=CD9)*(DD3:DD105=CD7)*(DE3:DE105="D"))+SUMPRODUCT((DA3:DA105=CD10)*(DD3:DD105=CD7)*(DE3:DE105="D")) -> 0 | CG7: =SUMPRODUCT((DA3:DA105=CD7)*(DD3:DD105=CD8)*(DE3:DE105="L"))+SUMPRODUCT((DA3:DA105=CD7)*(DD3:DD105=CD9)*(DE3:DE105="L"))+SUMPRODUCT((DA3:DA105=CD7)*(DD3:DD105=CD10)*(DE3:DE105="L"))+SUMPRODUCT((DA3:DA105=CD8)*(DD3:DD105=CD7)*(DF3:DF105="L"))+SUMPRODUCT((DA3:DA105=CD9)*(DD3:DD105=CD7)*(DF3:DF105="L"))+SUMPRODUCT((DA3:DA105=CD10)*(DD3:DD105=CD7)*(DF3:DF105="L")) -> 0 | CH7: =SUMPRODUCT((DA3:DA105=CD7)*(DD3:DD105=CD8)*DB3:DB105)+SUMPRODUCT((DA3:DA105=CD7)*(DD3:DD105=CD4)*DB3:DB105)+SUMPRODUCT((DA3:DA105=CD7)*(DD3:DD105=CD5)*DB3:DB105)+SUMPRODUCT((DA3:DA105=CD7)*(DD3:DD105=CD6)*DB3:DB105)+SUMPRODUCT((DA3:DA105=CD8)*(DD3:DD105=CD7)*DC3:DC105)+SUMPRODUCT((DA3:DA105=CD4)*(DD3:DD105=CD7)*DC3:DC105)+SUMPRODUCT((DA3:DA105=CD5)*(DD3:DD105=CD7)*DC3:DC105)+SUMPRODUCT((DA3:DA105=CD6)*(DD3:DD105=CD7)*DC3:DC105) -> 0 | CI7: =SUMPRODUCT((DA3:DA105=CD7)*(DD3:DD105=CD8)*DC3:DC105)+SUMPRODUCT((DA3:DA105=CD7)*(DD3:DD105=CD4)*DC3:DC105)+SUMPRODUCT((DA3:DA105=CD7)*(DD3:DD105=CD5)*DC3:DC105)+SUMPRODUCT((DA3:DA105=CD7)*(DD3:DD105=CD6)*DC3:DC105)+SUMPRODUCT((DA3:DA105=CD8)*(DD3:DD105=CD7)*DB3:DB105)+SUMPRODUCT((DA3:DA105=CD4)*(DD3:DD105=CD7)*DB3:DB105)+SUMPRODUCT((DA3:DA105=CD5)*(DD3:DD105=CD7)*DB3:DB105)+SUMPRODUCT((DA3:DA105=CD6)*(DD3:DD105=CD7)*DB3:DB105) -> 0 | CJ7: =CH7-CI7+1000 -> 1000 | CK7: =IF(CD7<>"",CE7*3+CF7*1,"") | CL7: =IF(CD7<>"",VLOOKUP(CD7,C4:I52,7,FALSE),"") | CM7: =IF(CD7<>"",VLOOKUP(CD7,C4:I52,5,FALSE),"") | CN7: =IF(CD7<>"",VLOOKUP(CD7,C4:K52,9,FALSE),"") | CO7: =CK7 | CP7: =IF(CD7<>"",RANK(CO7,CO4:CO8),"") | CQ7: =IF(CD7<>"",SUMPRODUCT((CO4:CO8=CO7)*(CJ4:CJ8>CJ7)),"") | CR7: =IF(CD7<>"",SUMPRODUCT((CO4:CO8=CO7)*(CJ4:CJ8=CJ7)*(CH4:CH8>CH7)),"") | CS7: =IF(CD7<>"",SUMPRODUCT((CO4:CO8=CO7)*(CJ4:CJ8=CJ7)*(CH4:CH8=CH7)*(CL4:CL8>CL7)),"") | CT7: =IF(CD7<>"",SUMPRODUCT((CO4:CO8=CO7)*(CJ4:CJ8=CJ7)*(CH4:CH8=CH7)*(CL4:CL8=CL7)*(CM4:CM8>CM7)),"") | CU7: =IF(CD7<>"",SUMPRODUCT((CO4:CO8=CO7)*(CJ4:CJ8=CJ7)*(CH4:CH8=CH7)*(CL4:CL8=CL7)*(CM4:CM8=CM7)*(CN4:CN8>CN7)),"") | CV7: =IF(CD7<>"",SUM(CP7:CU7)+3,"") | CW7: =IF(CD7<>"",IF(CV7=4,CD7,CD8),"") | CX7: =IF(CW7<>"",CW7,IF(CC7<>"",CC7,IF(BI7<>"",BI7,IF(AO7<>"",AO7,O7)))) -> South Africa | CY7: 4 | CZ7: 5 | DA7: =Matches!H8 -> Haiti | DB7: =IF(DA2<>"",IF(AND(Matches!J8<>"",Matches!K8<>""),Matches!J8,0),"") -> 0 | DC7: =IF(DA2<>"",IF(AND(Matches!J8<>"",Matches!K8<>""),Matches!K8,0),"") -> 0 | DD7: =Matches!M8 -> Scotland | DE7: =IF(AND(Matches!J8<>"",Matches!K8<>""),IF(DB7>DC7,"W",IF(DB7=DC7,"D","L")),"") | DF7: =IF(DE7<>"",IF(DE7="W","L",IF(DE7="L","W","D")),"") | DQ7: A | DS7: =EE7 -> Mexico | DT7: DQ7 | DV7: 1 | DW7: -12 | DX7: =WCTImeZoneData -> 0 | DY7: 1 | DZ7: =EA7 -> 46184.625 | EA7: 46184.625 | EB7: =EA7+WCTImeZoneData/24 -> 46184.625 | ED7: =SUM(Matches!S5:S8) -> 10 | EE7: =INDEX(Language!A1:K177,MATCH(Setup!B8,Language!B1:B177,0),MATCH(Setup!C5,Language!A1:J1,0)) -> Mexico
CZ8: 6 | DA8: =Matches!H9 -> Australia | DB8: =IF(DA2<>"",IF(AND(Matches!J9<>"",Matches!K9<>""),Matches!J9,0),"") -> 0 | DC8: =IF(DA2<>"",IF(AND(Matches!J9<>"",Matches!K9<>""),Matches!K9,0),"") -> 0 | DD8: =Matches!M9 -> Türkiye | DE8: =IF(AND(Matches!J9<>"",Matches!K9<>""),IF(DB8>DC8,"W",IF(DB8=DC8,"D","L")),"") | DF8: =IF(DE8<>"",IF(DE8="W","L",IF(DE8="L","W","D")),"") | DS8: =EE8 -> South Africa | DT8: DQ8 | DV8: 2 | DW8: -11.5 | DY8: 2 | DZ8: =EA8 -> 46184.917 | EA8: 46184.917 | EB8: =EA8+WCTImeZoneData/24 -> 46184.917 | EE8: =INDEX(Language!A1:K177,MATCH(Setup!B9,Language!B1:B177,0),MATCH(Setup!C5,Language!A1:J1,0)) -> South Africa
BH9: Y | CZ9: 7 | DA9: =Matches!H10 -> Brazil | DB9: =IF(DA2<>"",IF(AND(Matches!J10<>"",Matches!K10<>""),Matches!J10,0),"") -> 0 | DC9: =IF(DA2<>"",IF(AND(Matches!J10<>"",Matches!K10<>""),Matches!K10,0),"") -> 0 | DD9: =Matches!M10 -> Morocco | DE9: =IF(AND(Matches!J10<>"",Matches!K10<>""),IF(DB9>DC9,"W",IF(DB9=DC9,"D","L")),"") | DF9: =IF(DE9<>"",IF(DE9="W","L",IF(DE9="L","W","D")),"") | DS9: =EE9 -> Korea Republic | DT9: DQ9 | DV9: 3 | DW9: -11 | DY9: 3 | DZ9: =EA9 -> 46185.625 | EA9: 46185.625 | EB9: =EA9+WCTImeZoneData/24 -> 46185.625 | EE9: =INDEX(Language!A1:K177,MATCH(Setup!B10,Language!B1:B177,0),MATCH(Setup!C5,Language!A1:J1,0)) -> Korea Republic
CZ10: 8 | DA10: =Matches!H11 -> Qatar | DB10: =IF(DA2<>"",IF(AND(Matches!J11<>"",Matches!K11<>""),Matches!J11,0),"") -> 0 | DC10: =IF(DA2<>"",IF(AND(Matches!J11<>"",Matches!K11<>""),Matches!K11,0),"") -> 0 | DD10: =Matches!M11 -> Switzerland | DE10: =IF(AND(Matches!J11<>"",Matches!K11<>""),IF(DB10>DC10,"W",IF(DB10=DC10,"D","L")),"") | DF10: =IF(DE10<>"",IF(DE10="W","L",IF(DE10="L","W","D")),"") | DS10: =EE10 -> Czechia | DT10: DQ10 | DV10: 4 | DW10: -10.5 | DY10: 4 | DZ10: =EA10 -> 46185.875 | EA10: 46185.875 | EB10: =EA10+WCTImeZoneData/24 -> 46185.875 | EE10: =INDEX(Language!A1:K177,MATCH(Setup!B11,Language!B1:B177,0),MATCH(Setup!C5,Language!A1:J1,0)) -> Czechia
A11: =Setup!F12+100 -> 129 | B11: =VLOOKUP(C11,CX11:CY15,2,FALSE) -> 2 | C11: =EE11 -> Canada | D11: =SUMPRODUCT((DA3:DA105=C11)*(DE3:DE105="W"))+SUMPRODUCT((DD3:DD105=C11)*(DF3:DF105="W")) -> 0 | E11: =SUMPRODUCT((DA3:DA105=C11)*(DE3:DE105="D"))+SUMPRODUCT((DD3:DD105=C11)*(DF3:DF105="D")) -> 0 | F11: =SUMPRODUCT((DA3:DA105=C11)*(DE3:DE105="L"))+SUMPRODUCT((DD3:DD105=C11)*(DF3:DF105="L")) -> 0 | G11: =SUMIF(DA3:DA123,C11,DB3:DB123)+SUMIF(DD3:DD123,C11,DC3:DC123) -> 0 | H11: =SUMIF(DD3:DD123,C11,DB3:DB123)+SUMIF(DA3:DA123,C11,DC3:DC123) -> 0 | I11: =G11-H11+1000 -> 1000 | J11: =D11*3+E11*1 -> 0 | K11: =IF(Setup!G12<>"",Setup!G12,-A11) -> -129 | L11: =IF(COUNTIF(J11:J15,4)<>4,RANK(J11,J11:J15),J90) -> 1 | N11: =SUMPRODUCT((L11:L14=L11)*(K11:K14<K11))+L11 -> 3 | O11: =INDEX(C11:C15,MATCH(1,N11:N15,0),0) -> Bosnia and Herzegovina | P11: =INDEX(L11:L15,MATCH(O11,C11:C15,0),0) -> 1 | Q11: =IF(P12=1,O11,"") -> Bosnia and Herzegovina | R11: =IF(P13=2,O12,"") | S11: =IF(P14=3,O13,"") | T11: =IF(P15=4,O14,"") | V11: =IF(Q11<>"",Q11,"") -> Bosnia and Herzegovina | W11: =SUMPRODUCT((DA3:DA105=V11)*(DD3:DD105=V12)*(DE3:DE105="W"))+SUMPRODUCT((DA3:DA105=V11)*(DD3:DD105=V13)*(DE3:DE105="W"))+SUMPRODUCT((DA3:DA105=V11)*(DD3:DD105=V14)*(DE3:DE105="W"))+SUMPRODUCT((DA3:DA105=V11)*(DD3:DD105=V15)*(DE3:DE105="W"))+SUMPRODUCT((DA3:DA105=V12)*(DD3:DD105=V11)*(DF3:DF105="W"))+SUMPRODUCT((DA3:DA105=V13)*(DD3:DD105=V11)*(DF3:DF105="W"))+SUMPRODUCT((DA3:DA105=V14)*(DD3:DD105=V11)*(DF3:DF105="W"))+SUMPRODUCT((DA3:DA105=V15)*(DD3:DD105=V11)*(DF3:DF105="W")) -> 0 | X11: =SUMPRODUCT((DA3:DA105=V11)*(DD3:DD105=V12)*(DE3:DE105="D"))+SUMPRODUCT((DA3:DA105=V11)*(DD3:DD105=V13)*(DE3:DE105="D"))+SUMPRODUCT((DA3:DA105=V11)*(DD3:DD105=V14)*(DE3:DE105="D"))+SUMPRODUCT((DA3:DA105=V11)*(DD3:DD105=V15)*(DE3:DE105="D"))+SUMPRODUCT((DA3:DA105=V12)*(DD3:DD105=V11)*(DE3:DE105="D"))+SUMPRODUCT((DA3:DA105=V13)*(DD3:DD105=V11)*(DE3:DE105="D"))+SUMPRODUCT((DA3:DA105=V14)*(DD3:DD105=V11)*(DE3:DE105="D"))+SUMPRODUCT((DA3:DA105=V15)*(DD3:DD105=V11)*(DE3:DE105="D")) -> 0 | Y11: =SUMPRODUCT((DA3:DA105=V11)*(DD3:DD105=V12)*(DE3:DE105="L"))+SUMPRODUCT((DA3:DA105=V11)*(DD3:DD105=V13)*(DE3:DE105="L"))+SUMPRODUCT((DA3:DA105=V11)*(DD3:DD105=V14)*(DE3:DE105="L"))+SUMPRODUCT((DA3:DA105=V11)*(DD3:DD105=V15)*(DE3:DE105="L"))+SUMPRODUCT((DA3:DA105=V12)*(DD3:DD105=V11)*(DF3:DF105="L"))+SUMPRODUCT((DA3:DA105=V13)*(DD3:DD105=V11)*(DF3:DF105="L"))+SUMPRODUCT((DA3:DA105=V14)*(DD3:DD105=V11)*(DF3:DF105="L"))+SUMPRODUCT((DA3:DA105=V15)*(DD3:DD105=V11)*(DF3:DF105="L")) -> 0 | Z11: =SUMPRODUCT((DA3:DA105=V11)*(DD3:DD105=V12)*DB3:DB105)+SUMPRODUCT((DA3:DA105=V11)*(DD3:DD105=V13)*DB3:DB105)+SUMPRODUCT((DA3:DA105=V11)*(DD3:DD105=V14)*DB3:DB105)+SUMPRODUCT((DA3:DA105=V11)*(DD3:DD105=V15)*DB3:DB105)+SUMPRODUCT((DA3:DA105=V12)*(DD3:DD105=V11)*DC3:DC105)+SUMPRODUCT((DA3:DA105=V13)*(DD3:DD105=V11)*DC3:DC105)+SUMPRODUCT((DA3:DA105=V14)*(DD3:DD105=V11)*DC3:DC105)+SUMPRODUCT((DA3:DA105=V15)*(DD3:DD105=V11)*DC3:DC105) -> 0 | AA11: =SUMPRODUCT((DA3:DA105=V11)*(DD3:DD105=V12)*DC3:DC105)+SUMPRODUCT((DA3:DA105=V11)*(DD3:DD105=V13)*DC3:DC105)+SUMPRODUCT((DA3:DA105=V11)*(DD3:DD105=V14)*DC3:DC105)+SUMPRODUCT((DA3:DA105=V11)*(DD3:DD105=V15)*DC3:DC105)+SUMPRODUCT((DA3:DA105=V12)*(DD3:DD105=V11)*DB3:DB105)+SUMPRODUCT((DA3:DA105=V13)*(DD3:DD105=V11)*DB3:DB105)+SUMPRODUCT((DA3:DA105=V14)*(DD3:DD105=V11)*DB3:DB105)+SUMPRODUCT((DA3:DA105=V15)*(DD3:DD105=V11)*DB3:DB105) -> 0 | AB11: =Z11-AA11+1000 -> 1000 | AC11: =IF(V11<>"",W11*3+X11*1,"") -> 0 | AD11: =IF(V11<>"",VLOOKUP(V11,C4:I52,7,FALSE),"") -> 1000 | AE11: =IF(V11<>"",VLOOKUP(V11,C4:I52,5,FALSE),"") -> 0 | AF11: =IF(V11<>"",VLOOKUP(V11,C4:K52,9,FALSE),"") -> -171 | AG11: =AC11 -> 0 | AH11: =IF(V11<>"",RANK(AG11,AG11:AG15),"") -> 1 | AI11: =IF(V11<>"",SUMPRODUCT((AG11:AG15=AG11)*(AB11:AB15>AB11)),"") -> 0 | AJ11: =IF(V11<>"",SUMPRODUCT((AG11:AG15=AG11)*(AB11:AB15=AB11)*(Z11:Z15>Z11)),"") -> 0 | AK11: =IF(V11<>"",SUMPRODUCT((AG11:AG15=AG11)*(AB11:AB15=AB11)*(Z11:Z15=Z11)*(AD11:AD15>AD11)),"") -> 0 | AL11: =IF(V11<>"",SUMPRODUCT((AG11:AG15=AG11)*(AB11:AB15=AB11)*(Z11:Z15=Z11)*(AD11:AD15=AD11)*(AE11:AE15>AE11)),"") -> 0 | AM11: =IF(V11<>"",SUMPRODUCT((AG11:AG15=AG11)*(AB11:AB15=AB11)*(Z11:Z15=Z11)*(AD11:AD15=AD11)*(AE11:AE15=AE11)*(AF11:AF15>AF11)),"") -> 3 | AN11: =IF(V11<>"",IF(AN90<>"",IF(U89=3,AN90,AN90+U89),SUM(AH11:AM11)),"") -> 4 | AO11: =IF(V11<>"",INDEX(V11:V15,MATCH(1,AN11:AN15,0),0),"") -> Switzerland | CX11: =IF(AO11<>"",AO11,O11) -> Switzerland | CY11: 1 | CZ11: 9 | DA11: =Matches!H12 -> Cote D'Voire | DB11: =IF(DA2<>"",IF(AND(Matches!J12<>"",Matches!K12<>""),Matches!J12,0),"") -> 0 | DC11: =IF(DA2<>"",IF(AND(Matches!J12<>"",Matches!K12<>""),Matches!K12,0),"") -> 0 | DD11: =Matches!M12 -> Ecuador | DE11: =IF(AND(Matches!J12<>"",Matches!K12<>""),IF(DB11>DC11,"W",IF(DB11=DC11,"D","L")),"") | DF11: =IF(DE11<>"",IF(DE11="W","L",IF(DE11="L","W","D")),"") | DQ11: B | DS11: =EE11 -> Canada | DT11: DQ11 | DV11: 5 | DW11: -10 | DY11: 5 | DZ11: =EA11 -> 46186.875 | EA11: 46186.875 | EB11: =EA11+WCTImeZoneData/24 -> 46186.875 | EE11: =INDEX(Language!A1:K177,MATCH(Setup!B12,Language!B1:B177,0),MATCH(Setup!C5,Language!A1:J1,0)) -> Canada
A12: =Setup!F13+100 -> 171 | B12: =VLOOKUP(C12,CX11:CY15,2,FALSE) -> 4 | C12: =EE12 -> Bosnia and Herzegovina | D12: =SUMPRODUCT((DA3:DA105=C12)*(DE3:DE105="W"))+SUMPRODUCT((DD3:DD105=C12)*(DF3:DF105="W")) -> 0 | E12: =SUMPRODUCT((DA3:DA105=C12)*(DE3:DE105="D"))+SUMPRODUCT((DD3:DD105=C12)*(DF3:DF105="D")) -> 0 | F12: =SUMPRODUCT((DA3:DA105=C12)*(DE3:DE105="L"))+SUMPRODUCT((DD3:DD105=C12)*(DF3:DF105="L")) -> 0 | G12: =SUMIF(DA3:DA123,C12,DB3:DB123)+SUMIF(DD3:DD123,C12,DC3:DC123) -> 0 | H12: =SUMIF(DD3:DD123,C12,DB3:DB123)+SUMIF(DA3:DA123,C12,DC3:DC123) -> 0 | I12: =G12-H12+1000 -> 1000 | J12: =D12*3+E12*1 -> 0 | K12: =IF(Setup!G13<>"",Setup!G13,-A12) -> -171 | L12: =IF(COUNTIF(J11:J15,4)<>4,RANK(J12,J11:J15),J91) -> 1 | N12: =SUMPRODUCT((L11:L14=L12)*(K11:K14<K12))+L12 -> 1 | O12: =INDEX(C11:C15,MATCH(2,N11:N15,0),0) -> Qatar | P12: =INDEX(L11:L15,MATCH(O12,C11:C15,0),0) -> 1 | Q12: =IF(Q11<>"",O12,"") -> Qatar | R12: =IF(R11<>"",O13,"") | S12: =IF(S11<>"",O14,"") | T12: =IF(T11<>"",O15,"") | V12: =IF(Q12<>"",Q12,"") -> Qatar | W12: =SUMPRODUCT((DA3:DA105=V12)*(DD3:DD105=V13)*(DE3:DE105="W"))+SUMPRODUCT((DA3:DA105=V12)*(DD3:DD105=V14)*(DE3:DE105="W"))+SUMPRODUCT((DA3:DA105=V12)*(DD3:DD105=V15)*(DE3:DE105="W"))+SUMPRODUCT((DA3:DA105=V12)*(DD3:DD105=V11)*(DE3:DE105="W"))+SUMPRODUCT((DA3:DA105=V13)*(DD3:DD105=V12)*(DF3:DF105="W"))+SUMPRODUCT((DA3:DA105=V14)*(DD3:DD105=V12)*(DF3:DF105="W"))+SUMPRODUCT((DA3:DA105=V15)*(DD3:DD105=V12)*(DF3:DF105="W"))+SUMPRODUCT((DA3:DA105=V11)*(DD3:DD105=V12)*(DF3:DF105="W")) -> 0 | X12: =SUMPRODUCT((DA3:DA105=V12)*(DD3:DD105=V13)*(DE3:DE105="D"))+SUMPRODUCT((DA3:DA105=V12)*(DD3:DD105=V14)*(DE3:DE105="D"))+SUMPRODUCT((DA3:DA105=V12)*(DD3:DD105=V15)*(DE3:DE105="D"))+SUMPRODUCT((DA3:DA105=V12)*(DD3:DD105=V11)*(DE3:DE105="D"))+SUMPRODUCT((DA3:DA105=V13)*(DD3:DD105=V12)*(DE3:DE105="D"))+SUMPRODUCT((DA3:DA105=V14)*(DD3:DD105=V12)*(DE3:DE105="D"))+SUMPRODUCT((DA3:DA105=V15)*(DD3:DD105=V12)*(DE3:DE105="D"))+SUMPRODUCT((DA3:DA105=V11)*(DD3:DD105=V12)*(DE3:DE105="D")) -> 0 | Y12: =SUMPRODUCT((DA3:DA105=V12)*(DD3:DD105=V13)*(DE3:DE105="L"))+SUMPRODUCT((DA3:DA105=V12)*(DD3:DD105=V14)*(DE3:DE105="L"))+SUMPRODUCT((DA3:DA105=V12)*(DD3:DD105=V15)*(DE3:DE105="L"))+SUMPRODUCT((DA3:DA105=V12)*(DD3:DD105=V11)*(DE3:DE105="L"))+SUMPRODUCT((DA3:DA105=V13)*(DD3:DD105=V12)*(DF3:DF105="L"))+SUMPRODUCT((DA3:DA105=V14)*(DD3:DD105=V12)*(DF3:DF105="L"))+SUMPRODUCT((DA3:DA105=V15)*(DD3:DD105=V12)*(DF3:DF105="L"))+SUMPRODUCT((DA3:DA105=V11)*(DD3:DD105=V12)*(DF3:DF105="L")) -> 0 | Z12: =SUMPRODUCT((DA3:DA105=V12)*(DD3:DD105=V13)*DB3:DB105)+SUMPRODUCT((DA3:DA105=V12)*(DD3:DD105=V14)*DB3:DB105)+SUMPRODUCT((DA3:DA105=V12)*(DD3:DD105=V15)*DB3:DB105)+SUMPRODUCT((DA3:DA105=V12)*(DD3:DD105=V11)*DB3:DB105)+SUMPRODUCT((DA3:DA105=V13)*(DD3:DD105=V12)*DC3:DC105)+SUMPRODUCT((DA3:DA105=V14)*(DD3:DD105=V12)*DC3:DC105)+SUMPRODUCT((DA3:DA105=V15)*(DD3:DD105=V12)*DC3:DC105)+SUMPRODUCT((DA3:DA105=V11)*(DD3:DD105=V12)*DC3:DC105) -> 0 | AA12: =SUMPRODUCT((DA3:DA105=V12)*(DD3:DD105=V13)*DC3:DC105)+SUMPRODUCT((DA3:DA105=V12)*(DD3:DD105=V14)*DC3:DC105)+SUMPRODUCT((DA3:DA105=V12)*(DD3:DD105=V15)*DC3:DC105)+SUMPRODUCT((DA3:DA105=V12)*(DD3:DD105=V11)*DC3:DC105)+SUMPRODUCT((DA3:DA105=V13)*(DD3:DD105=V12)*DB3:DB105)+SUMPRODUCT((DA3:DA105=V14)*(DD3:DD105=V12)*DB3:DB105)+SUMPRODUCT((DA3:DA105=V15)*(DD3:DD105=V12)*DB3:DB105)+SUMPRODUCT((DA3:DA105=V11)*(DD3:DD105=V12)*DB3:DB105) -> 0 | AB12: =Z12-AA12+1000 -> 1000 | AC12: =IF(V12<>"",W12*3+X12*1,"") -> 0 | AD12: =IF(V12<>"",VLOOKUP(V12,C4:I52,7,FALSE),"") -> 1000 | AE12: =IF(V12<>"",VLOOKUP(V12,C4:I52,5,FALSE),"") -> 0 | AF12: =IF(V12<>"",VLOOKUP(V12,C4:K52,9,FALSE),"") -> -156 | AG12: =AC12 -> 0 | AH12: =IF(V12<>"",RANK(AG12,AG11:AG15),"") -> 1 | AI12: =IF(V12<>"",SUMPRODUCT((AG11:AG15=AG12)*(AB11:AB15>AB12)),"") -> 0 | AJ12: =IF(V12<>"",SUMPRODUCT((AG11:AG15=AG12)*(AB11:AB15=AB12)*(Z11:Z15>Z12)),"") -> 0 | AK12: =IF(V12<>"",SUMPRODUCT((AG11:AG15=AG12)*(AB11:AB15=AB12)*(Z11:Z15=Z12)*(AD11:AD15>AD12)),"") -> 0 | AL12: =IF(V12<>"",SUMPRODUCT((AG11:AG15=AG12)*(AB11:AB15=AB12)*(Z11:Z15=Z12)*(AD11:AD15=AD12)*(AE11:AE15>AE12)),"") -> 0 | AM12: =IF(V12<>"",SUMPRODUCT((AG11:AG15=AG12)*(AB11:AB15=AB12)*(Z11:Z15=Z12)*(AD11:AD15=AD12)*(AE11:AE15=AE12)*(AF11:AF15>AF12)),"") -> 2 | AN12: =IF(V12<>"",IF(AN91<>"",IF(U89=3,AN91,AN91+U89),SUM(AH12:AM12)),"") -> 3 | AO12: =IF(V12<>"",INDEX(V11:V15,MATCH(2,AN11:AN15,0),0),"") -> Canada | AP12: =IF(R11<>"",R11,"") | AQ12: =SUMPRODUCT((DA3:DA105=AP12)*(DD3:DD105=AP13)*(DE3:DE105="W"))+SUMPRODUCT((DA3:DA105=AP12)*(DD3:DD105=AP14)*(DE3:DE105="W"))+SUMPRODUCT((DA3:DA105=AP12)*(DD3:DD105=AP15)*(DE3:DE105="W"))+SUMPRODUCT((DA3:DA105=AP13)*(DD3:DD105=AP12)*(DF3:DF105="W"))+SUMPRODUCT((DA3:DA105=AP14)*(DD3:DD105=AP12)*(DF3:DF105="W"))+SUMPRODUCT((DA3:DA105=AP15)*(DD3:DD105=AP12)*(DF3:DF105="W")) -> 0 | AR12: =SUMPRODUCT((DA3:DA105=AP12)*(DD3:DD105=AP13)*(DE3:DE105="D"))+SUMPRODUCT((DA3:DA105=AP12)*(DD3:DD105=AP14)*(DE3:DE105="D"))+SUMPRODUCT((DA3:DA105=AP12)*(DD3:DD105=AP15)*(DE3:DE105="D"))+SUMPRODUCT((DA3:DA105=AP13)*(DD3:DD105=AP12)*(DE3:DE105="D"))+SUMPRODUCT((DA3:DA105=AP14)*(DD3:DD105=AP12)*(DE3:DE105="D"))+SUMPRODUCT((DA3:DA105=AP15)*(DD3:DD105=AP12)*(DE3:DE105="D")) -> 0 | AS12: =SUMPRODUCT((DA3:DA105=AP12)*(DD3:DD105=AP13)*(DE3:DE105="L"))+SUMPRODUCT((DA3:DA105=AP12)*(DD3:DD105=AP14)*(DE3:DE105="L"))+SUMPRODUCT((DA3:DA105=AP12)*(DD3:DD105=AP15)*(DE3:DE105="L"))+SUMPRODUCT((DA3:DA105=AP13)*(DD3:DD105=AP12)*(DF3:DF105="L"))+SUMPRODUCT((DA3:DA105=AP14)*(DD3:DD105=AP12)*(DF3:DF105="L"))+SUMPRODUCT((DA3:DA105=AP15)*(DD3:DD105=AP12)*(DF3:DF105="L")) -> 0 | AT12: =SUMPRODUCT((DA3:DA105=AP12)*(DD3:DD105=AP13)*DB3:DB105)+SUMPRODUCT((DA3:DA105=AP12)*(DD3:DD105=AP14)*DB3:DB105)+SUMPRODUCT((DA3:DA105=AP12)*(DD3:DD105=AP15)*DB3:DB105)+SUMPRODUCT((DA3:DA105=AP12)*(DD3:DD105=AP11)*DB3:DB105)+SUMPRODUCT((DA3:DA105=AP13)*(DD3:DD105=AP12)*DC3:DC105)+SUMPRODUCT((DA3:DA105=AP14)*(DD3:DD105=AP12)*DC3:DC105)+SUMPRODUCT((DA3:DA105=AP15)*(DD3:DD105=AP12)*DC3:DC105)+SUMPRODUCT((DA3:DA105=AP11)*(DD3:DD105=AP12)*DC3:DC105) -> 0 | AU12: =SUMPRODUCT((DA3:DA105=AP12)*(DD3:DD105=AP13)*DC3:DC105)+SUMPRODUCT((DA3:DA105=AP12)*(DD3:DD105=AP14)*DC3:DC105)+SUMPRODUCT((DA3:DA105=AP12)*(DD3:DD105=AP15)*DC3:DC105)+SUMPRODUCT((DA3:DA105=AP12)*(DD3:DD105=AP11)*DC3:DC105)+SUMPRODUCT((DA3:DA105=AP13)*(DD3:DD105=AP12)*DB3:DB105)+SUMPRODUCT((DA3:DA105=AP14)*(DD3:DD105=AP12)*DB3:DB105)+SUMPRODUCT((DA3:DA105=AP15)*(DD3:DD105=AP12)*DB3:DB105)+SUMPRODUCT((DA3:DA105=AP11)*(DD3:DD105=AP12)*DB3:DB105) -> 0 | AV12: =AT12-AU12+1000 -> 1000 | AW12: =IF(AP12<>"",AQ12*3+AR12*1,"") | AX12: =IF(AP12<>"",VLOOKUP(AP12,C4:I52,7,FALSE),"") | AY12: =IF(AP12<>"",VLOOKUP(AP12,C4:I52,5,FALSE),"") | AZ12: =IF(AP12<>"",VLOOKUP(AP12,C4:K52,9,FALSE),"") | BA12: =AW12 | BB12: =IF(AP12<>"",RANK(BA12,BA11:BA15),"") | BC12: =IF(AP12<>"",SUMPRODUCT((BA11:BA15=BA12)*(AV11:AV15>AV12)),"") | BD12: =IF(AP12<>"",SUMPRODUCT((BA11:BA15=BA12)*(AV11:AV15=AV12)*(AT11:AT15>AT12)),"") | BE12: =IF(AP12<>"",SUMPRODUCT((BA11:BA15=BA12)*(AV11:AV15=AV12)*(AT11:AT15=AT12)*(AX11:AX15>AX12)),"") | BF12: =IF(AP12<>"",SUMPRODUCT((BA11:BA15=BA12)*(AV11:AV15=AV12)*(AT11:AT15=AT12)*(AX11:AX15=AX12)*(AY11:AY15>AY12)),"") | BG12: =IF(AP12<>"",SUMPRODUCT((BA11:BA15=BA12)*(AV11:AV15=AV12)*(AT11:AT15=AT12)*(AX11:AX15=AX12)*(AY11:AY15=AY12)*(AZ11:AZ15>AZ12)),"") | BH12: =IF(AP12<>"",IF(BH91<>"",IF(AO89=3,BH91,BH91+AO89),SUM(BB12:BG12)+1),"") | BI12: =IF(AP12<>"",INDEX(AP12:AP15,MATCH(2,BH12:BH15,0),0),"") | CX12: =IF(BI12<>"",BI12,IF(AO12<>"",AO12,O12)) -> Canada | CY12: 2 | CZ12: 10 | DA12: =Matches!H13 -> Germany | DB12: =IF(DA2<>"",IF(AND(Matches!J13<>"",Matches!K13<>""),Matches!J13,0),"") -> 0 | DC12: =IF(DA2<>"",IF(AND(Matches!J13<>"",Matches!K13<>""),Matches!K13,0),"") -> 0 | DD12: =Matches!M13 -> Curacao | DE12: =IF(AND(Matches!J13<>"",Matches!K13<>""),IF(DB12>DC12,"W",IF(DB12=DC12,"D","L")),"") | DF12: =IF(DE12<>"",IF(DE12="W","L",IF(DE12="L","W","D")),"") | DS12: =EE12 -> Bosnia and Herzegovina | DT12: DQ12 | DV12: 6 | DW12: -9.5 | DY12: 6 | DZ12: =EA12 -> 46187 | EA12: 46187 | EB12: =EA12+WCTImeZoneData/24 -> 46187 | EE12: =INDEX(Language!A1:K177,MATCH(Setup!B13,Language!B1:B177,0),MATCH(Setup!C5,Language!A1:J1,0)) -> Bosnia and Herzegovina
A13: =Setup!F14+100 -> 156 | B13: =VLOOKUP(C13,CX11:CY15,2,FALSE) -> 3 | C13: =EE13 -> Qatar | D13: =SUMPRODUCT((DA3:DA105=C13)*(DE3:DE105="W"))+SUMPRODUCT((DD3:DD105=C13)*(DF3:DF105="W")) -> 0 | E13: =SUMPRODUCT((DA3:DA105=C13)*(DE3:DE105="D"))+SUMPRODUCT((DD3:DD105=C13)*(DF3:DF105="D")) -> 0 | F13: =SUMPRODUCT((DA3:DA105=C13)*(DE3:DE105="L"))+SUMPRODUCT((DD3:DD105=C13)*(DF3:DF105="L")) -> 0 | G13: =SUMIF(DA3:DA123,C13,DB3:DB123)+SUMIF(DD3:DD123,C13,DC3:DC123) -> 0 | H13: =SUMIF(DD3:DD123,C13,DB3:DB123)+SUMIF(DA3:DA123,C13,DC3:DC123) -> 0 | I13: =G13-H13+1000 -> 1000 | J13: =D13*3+E13*1 -> 0 | K13: =IF(Setup!G14<>"",Setup!G14,-A13) -> -156 | L13: =IF(COUNTIF(J11:J15,4)<>4,RANK(J13,J11:J15),J92) -> 1 | N13: =SUMPRODUCT((L11:L14=L13)*(K11:K14<K13))+L13 -> 2 | O13: =INDEX(C11:C15,MATCH(3,N11:N15,0),0) -> Canada | P13: =INDEX(L11:L15,MATCH(O13,C11:C15,0),0) -> 1 | Q13: =IF(AND(Q12<>"",P13=1),O13,"") -> Canada | R13: =IF(AND(R12<>"",P14=2),O14,"") | S13: =IF(AND(S12<>"",P15=3),O15,"") | V13: =IF(Q13<>"",Q13,"") -> Canada | W13: =SUMPRODUCT((DA3:DA105=V13)*(DD3:DD105=V14)*(DE3:DE105="W"))+SUMPRODUCT((DA3:DA105=V13)*(DD3:DD105=V15)*(DE3:DE105="W"))+SUMPRODUCT((DA3:DA105=V13)*(DD3:DD105=V11)*(DE3:DE105="W"))+SUMPRODUCT((DA3:DA105=V13)*(DD3:DD105=V12)*(DE3:DE105="W"))+SUMPRODUCT((DA3:DA105=V14)*(DD3:DD105=V13)*(DF3:DF105="W"))+SUMPRODUCT((DA3:DA105=V15)*(DD3:DD105=V13)*(DF3:DF105="W"))+SUMPRODUCT((DA3:DA105=V11)*(DD3:DD105=V13)*(DF3:DF105="W"))+SUMPRODUCT((DA3:DA105=V12)*(DD3:DD105=V13)*(DF3:DF105="W")) -> 0 | X13: =SUMPRODUCT((DA3:DA105=V13)*(DD3:DD105=V14)*(DE3:DE105="D"))+SUMPRODUCT((DA3:DA105=V13)*(DD3:DD105=V15)*(DE3:DE105="D"))+SUMPRODUCT((DA3:DA105=V13)*(DD3:DD105=V11)*(DE3:DE105="D"))+SUMPRODUCT((DA3:DA105=V13)*(DD3:DD105=V12)*(DE3:DE105="D"))+SUMPRODUCT((DA3:DA105=V14)*(DD3:DD105=V13)*(DE3:DE105="D"))+SUMPRODUCT((DA3:DA105=V15)*(DD3:DD105=V13)*(DE3:DE105="D"))+SUMPRODUCT((DA3:DA105=V11)*(DD3:DD105=V13)*(DE3:DE105="D"))+SUMPRODUCT((DA3:DA105=V12)*(DD3:DD105=V13)*(DE3:DE105="D")) -> 0 | Y13: =SUMPRODUCT((DA3:DA105=V13)*(DD3:DD105=V14)*(DE3:DE105="L"))+SUMPRODUCT((DA3:DA105=V13)*(DD3:DD105=V15)*(DE3:DE105="L"))+SUMPRODUCT((DA3:DA105=V13)*(DD3:DD105=V11)*(DE3:DE105="L"))+SUMPRODUCT((DA3:DA105=V13)*(DD3:DD105=V12)*(DE3:DE105="L"))+SUMPRODUCT((DA3:DA105=V14)*(DD3:DD105=V13)*(DF3:DF105="L"))+SUMPRODUCT((DA3:DA105=V15)*(DD3:DD105=V13)*(DF3:DF105="L"))+SUMPRODUCT((DA3:DA105=V11)*(DD3:DD105=V13)*(DF3:DF105="L"))+SUMPRODUCT((DA3:DA105=V12)*(DD3:DD105=V13)*(DF3:DF105="L")) -> 0 | Z13: =SUMPRODUCT((DA3:DA105=V13)*(DD3:DD105=V14)*DB3:DB105)+SUMPRODUCT((DA3:DA105=V13)*(DD3:DD105=V15)*DB3:DB105)+SUMPRODUCT((DA3:DA105=V13)*(DD3:DD105=V11)*DB3:DB105)+SUMPRODUCT((DA3:DA105=V13)*(DD3:DD105=V12)*DB3:DB105)+SUMPRODUCT((DA3:DA105=V14)*(DD3:DD105=V13)*DC3:DC105)+SUMPRODUCT((DA3:DA105=V15)*(DD3:DD105=V13)*DC3:DC105)+SUMPRODUCT((DA3:DA105=V11)*(DD3:DD105=V13)*DC3:DC105)+SUMPRODUCT((DA3:DA105=V12)*(DD3:DD105=V13)*DC3:DC105) -> 0 | AA13: =SUMPRODUCT((DA3:DA105=V13)*(DD3:DD105=V14)*DC3:DC105)+SUMPRODUCT((DA3:DA105=V13)*(DD3:DD105=V15)*DC3:DC105)+SUMPRODUCT((DA3:DA105=V13)*(DD3:DD105=V11)*DC3:DC105)+SUMPRODUCT((DA3:DA105=V13)*(DD3:DD105=V12)*DC3:DC105)+SUMPRODUCT((DA3:DA105=V14)*(DD3:DD105=V13)*DB3:DB105)+SUMPRODUCT((DA3:DA105=V15)*(DD3:DD105=V13)*DB3:DB105)+SUMPRODUCT((DA3:DA105=V11)*(DD3:DD105=V13)*DB3:DB105)+SUMPRODUCT((DA3:DA105=V12)*(DD3:DD105=V13)*DB3:DB105) -> 0 | AB13: =Z13-AA13+1000 -> 1000 | AC13: =IF(V13<>"",W13*3+X13*1,"") -> 0 | AD13: =IF(V13<>"",VLOOKUP(V13,C4:I52,7,FALSE),"") -> 1000 | AE13: =IF(V13<>"",VLOOKUP(V13,C4:I52,5,FALSE),"") -> 0 | AF13: =IF(V13<>"",VLOOKUP(V13,C4:K52,9,FALSE),"") -> -129 | AG13: =AC13 -> 0 | AH13: =IF(V13<>"",RANK(AG13,AG11:AG15),"") -> 1 | AI13: =IF(V13<>"",SUMPRODUCT((AG11:AG15=AG13)*(AB11:AB15>AB13)),"") -> 0 | AJ13: =IF(V13<>"",SUMPRODUCT((AG11:AG15=AG13)*(AB11:AB15=AB13)*(Z11:Z15>Z13)),"") -> 0 | AK13: =IF(V13<>"",SUMPRODUCT((AG11:AG15=AG13)*(AB11:AB15=AB13)*(Z11:Z15=Z13)*(AD11:AD15>AD13)),"") -> 0 | AL13: =IF(V13<>"",SUMPRODUCT((AG11:AG15=AG13)*(AB11:AB15=AB13)*(Z11:Z15=Z13)*(AD11:AD15=AD13)*(AE11:AE15>AE13)),"") -> 0 | AM13: =IF(V13<>"",SUMPRODUCT((AG11:AG15=AG13)*(AB11:AB15=AB13)*(Z11:Z15=Z13)*(AD11:AD15=AD13)*(AE11:AE15=AE13)*(AF11:AF15>AF13)),"") -> 1 | AN13: =IF(V13<>"",IF(AN92<>"",IF(U89=3,AN92,AN92+U89),SUM(AH13:AM13)),"") -> 2 | AO13: =IF(V13<>"",INDEX(V11:V15,MATCH(3,AN11:AN15,0),0),"") -> Qatar | AP13: =IF(R12<>"",R12,"") | AQ13: =SUMPRODUCT((DA3:DA105=AP13)*(DD3:DD105=AP14)*(DE3:DE105="W"))+SUMPRODUCT((DA3:DA105=AP13)*(DD3:DD105=AP15)*(DE3:DE105="W"))+SUMPRODUCT((DA3:DA105=AP13)*(DD3:DD105=AP12)*(DE3:DE105="W"))+SUMPRODUCT((DA3:DA105=AP14)*(DD3:DD105=AP13)*(DF3:DF105="W"))+SUMPRODUCT((DA3:DA105=AP15)*(DD3:DD105=AP13)*(DF3:DF105="W"))+SUMPRODUCT((DA3:DA105=AP12)*(DD3:DD105=AP13)*(DF3:DF105="W")) -> 0 | AR13: =SUMPRODUCT((DA3:DA105=AP13)*(DD3:DD105=AP14)*(DE3:DE105="D"))+SUMPRODUCT((DA3:DA105=AP13)*(DD3:DD105=AP15)*(DE3:DE105="D"))+SUMPRODUCT((DA3:DA105=AP13)*(DD3:DD105=AP12)*(DE3:DE105="D"))+SUMPRODUCT((DA3:DA105=AP14)*(DD3:DD105=AP13)*(DE3:DE105="D"))+SUMPRODUCT((DA3:DA105=AP15)*(DD3:DD105=AP13)*(DE3:DE105="D"))+SUMPRODUCT((DA3:DA105=AP12)*(DD3:DD105=AP13)*(DE3:DE105="D")) -> 0 | AS13: =SUMPRODUCT((DA3:DA105=AP13)*(DD3:DD105=AP14)*(DE3:DE105="L"))+SUMPRODUCT((DA3:DA105=AP13)*(DD3:DD105=AP15)*(DE3:DE105="L"))+SUMPRODUCT((DA3:DA105=AP13)*(DD3:DD105=AP12)*(DE3:DE105="L"))+SUMPRODUCT((DA3:DA105=AP14)*(DD3:DD105=AP13)*(DF3:DF105="L"))+SUMPRODUCT((DA3:DA105=AP15)*(DD3:DD105=AP13)*(DF3:DF105="L"))+SUMPRODUCT((DA3:DA105=AP12)*(DD3:DD105=AP13)*(DF3:DF105="L")) -> 0 | AT13: =SUMPRODUCT((DA3:DA105=AP13)*(DD3:DD105=AP14)*DB3:DB105)+SUMPRODUCT((DA3:DA105=AP13)*(DD3:DD105=AP15)*DB3:DB105)+SUMPRODUCT((DA3:DA105=AP13)*(DD3:DD105=AP11)*DB3:DB105)+SUMPRODUCT((DA3:DA105=AP13)*(DD3:DD105=AP12)*DB3:DB105)+SUMPRODUCT((DA3:DA105=AP14)*(DD3:DD105=AP13)*DC3:DC105)+SUMPRODUCT((DA3:DA105=AP15)*(DD3:DD105=AP13)*DC3:DC105)+SUMPRODUCT((DA3:DA105=AP11)*(DD3:DD105=AP13)*DC3:DC105)+SUMPRODUCT((DA3:DA105=AP12)*(DD3:DD105=AP13)*DC3:DC105) -> 0 | AU13: =SUMPRODUCT((DA3:DA105=AP13)*(DD3:DD105=AP14)*DC3:DC105)+SUMPRODUCT((DA3:DA105=AP13)*(DD3:DD105=AP15)*DC3:DC105)+SUMPRODUCT((DA3:DA105=AP13)*(DD3:DD105=AP11)*DC3:DC105)+SUMPRODUCT((DA3:DA105=AP13)*(DD3:DD105=AP12)*DC3:DC105)+SUMPRODUCT((DA3:DA105=AP14)*(DD3:DD105=AP13)*DB3:DB105)+SUMPRODUCT((DA3:DA105=AP15)*(DD3:DD105=AP13)*DB3:DB105)+SUMPRODUCT((DA3:DA105=AP11)*(DD3:DD105=AP13)*DB3:DB105)+SUMPRODUCT((DA3:DA105=AP12)*(DD3:DD105=AP13)*DB3:DB105) -> 0 | AV13: =AT13-AU13+1000 -> 1000 | AW13: =IF(AP13<>"",AQ13*3+AR13*1,"") | AX13: =IF(AP13<>"",VLOOKUP(AP13,C4:I52,7,FALSE),"") | AY13: =IF(AP13<>"",VLOOKUP(AP13,C4:I52,5,FALSE),"") | AZ13: =IF(AP13<>"",VLOOKUP(AP13,C4:K52,9,FALSE),"") | BA13: =AW13 | BB13: =IF(AP13<>"",RANK(BA13,BA11:BA15),"") | BC13: =IF(AP13<>"",SUMPRODUCT((BA11:BA15=BA13)*(AV11:AV15>AV13)),"") | BD13: =IF(AP13<>"",SUMPRODUCT((BA11:BA15=BA13)*(AV11:AV15=AV13)*(AT11:AT15>AT13)),"") | BE13: =IF(AP13<>"",SUMPRODUCT((BA11:BA15=BA13)*(AV11:AV15=AV13)*(AT11:AT15=AT13)*(AX11:AX15>AX13)),"") | BF13: =IF(AP13<>"",SUMPRODUCT((BA11:BA15=BA13)*(AV11:AV15=AV13)*(AT11:AT15=AT13)*(AX11:AX15=AX13)*(AY11:AY15>AY13)),"") | BG13: =IF(AP13<>"",SUMPRODUCT((BA11:BA15=BA13)*(AV11:AV15=AV13)*(AT11:AT15=AT13)*(AX11:AX15=AX13)*(AY11:AY15=AY13)*(AZ11:AZ15>AZ13)),"") | BH13: =IF(AP13<>"",IF(BH92<>"",IF(AO89=3,BH92,BH92+AO89),SUM(BB13:BG13)+1),"") | BI13: =IF(AP13<>"",INDEX(AP12:AP15,MATCH(3,BH12:BH15,0),0),"") | BJ13: =IF(S11<>"",S11,"") | BK13: =SUMPRODUCT((DA3:DA105=BJ13)*(DD3:DD105=BJ14)*(DE3:DE105="W"))+SUMPRODUCT((DA3:DA105=BJ13)*(DD3:DD105=BJ15)*(DE3:DE105="W"))+SUMPRODUCT((DA3:DA105=BJ13)*(DD3:DD105=BJ16)*(DE3:DE105="W"))+SUMPRODUCT((DA3:DA105=BJ14)*(DD3:DD105=BJ13)*(DF3:DF105="W"))+SUMPRODUCT((DA3:DA105=BJ15)*(DD3:DD105=BJ13)*(DF3:DF105="W"))+SUMPRODUCT((DA3:DA105=BJ16)*(DD3:DD105=BJ13)*(DF3:DF105="W")) -> 0 | BL13: =SUMPRODUCT((DA3:DA105=BJ13)*(DD3:DD105=BJ14)*(DE3:DE105="D"))+SUMPRODUCT((DA3:DA105=BJ13)*(DD3:DD105=BJ15)*(DE3:DE105="D"))+SUMPRODUCT((DA3:DA105=BJ13)*(DD3:DD105=BJ16)*(DE3:DE105="D"))+SUMPRODUCT((DA3:DA105=BJ14)*(DD3:DD105=BJ13)*(DE3:DE105="D"))+SUMPRODUCT((DA3:DA105=BJ15)*(DD3:DD105=BJ13)*(DE3:DE105="D"))+SUMPRODUCT((DA3:DA105=BJ16)*(DD3:DD105=BJ13)*(DE3:DE105="D")) -> 0 | BM13: =SUMPRODUCT((DA3:DA105=BJ13)*(DD3:DD105=BJ14)*(DE3:DE105="L"))+SUMPRODUCT((DA3:DA105=BJ13)*(DD3:DD105=BJ15)*(DE3:DE105="L"))+SUMPRODUCT((DA3:DA105=BJ13)*(DD3:DD105=BJ16)*(DE3:DE105="L"))+SUMPRODUCT((DA3:DA105=BJ14)*(DD3:DD105=BJ13)*(DF3:DF105="L"))+SUMPRODUCT((DA3:DA105=BJ15)*(DD3:DD105=BJ13)*(DF3:DF105="L"))+SUMPRODUCT((DA3:DA105=BJ16)*(DD3:DD105=BJ13)*(DF3:DF105="L")) -> 0 | BN13: =SUMPRODUCT((DA3:DA105=BJ13)*(DD3:DD105=BJ14)*DB3:DB105)+SUMPRODUCT((DA3:DA105=BJ13)*(DD3:DD105=BJ15)*DB3:DB105)+SUMPRODUCT((DA3:DA105=BJ13)*(DD3:DD105=BJ11)*DB3:DB105)+SUMPRODUCT((DA3:DA105=BJ13)*(DD3:DD105=BJ12)*DB3:DB105)+SUMPRODUCT((DA3:DA105=BJ14)*(DD3:DD105=BJ13)*DC3:DC105)+SUMPRODUCT((DA3:DA105=BJ15)*(DD3:DD105=BJ13)*DC3:DC105)+SUMPRODUCT((DA3:DA105=BJ11)*(DD3:DD105=BJ13)*DC3:DC105)+SUMPRODUCT((DA3:DA105=BJ12)*(DD3:DD105=BJ13)*DC3:DC105) -> 0 | BO13: =SUMPRODUCT((DA3:DA105=BJ13)*(DD3:DD105=BJ14)*DC3:DC105)+SUMPRODUCT((DA3:DA105=BJ13)*(DD3:DD105=BJ15)*DC3:DC105)+SUMPRODUCT((DA3:DA105=BJ13)*(DD3:DD105=BJ11)*DC3:DC105)+SUMPRODUCT((DA3:DA105=BJ13)*(DD3:DD105=BJ12)*DC3:DC105)+SUMPRODUCT((DA3:DA105=BJ14)*(DD3:DD105=BJ13)*DB3:DB105)+SUMPRODUCT((DA3:DA105=BJ15)*(DD3:DD105=BJ13)*DB3:DB105)+SUMPRODUCT((DA3:DA105=BJ11)*(DD3:DD105=BJ13)*DB3:DB105)+SUMPRODUCT((DA3:DA105=BJ12)*(DD3:DD105=BJ13)*DB3:DB105) -> 0 | BP13: =BN13-BO13+1000 -> 1000 | BQ13: =IF(BJ13<>"",BK13*3+BL13*1,"") | BR13: =IF(BJ13<>"",VLOOKUP(BJ13,C4:I52,7,FALSE),"") | BS13: =IF(BJ13<>"",VLOOKUP(BJ13,C4:I52,5,FALSE),"") | BT13: =IF(BJ13<>"",VLOOKUP(BJ13,C4:K52,9,FALSE),"") | BU13: =BQ13 | BV13: =IF(BJ13<>"",RANK(BU13,BU11:BU15),"") | BW13: =IF(BJ13<>"",SUMPRODUCT((BU11:BU15=BU13)*(BP11:BP15>BP13)),"") | BX13: =IF(BJ13<>"",SUMPRODUCT((BU11:BU15=BU13)*(BP11:BP15=BP13)*(BN11:BN15>BN13)),"") | BY13: =IF(BJ13<>"",SUMPRODUCT((BU11:BU15=BU13)*(BP11:BP15=BP13)*(BN11:BN15=BN13)*(BR11:BR15>BR13)),"") | BZ13: =IF(BJ13<>"",SUMPRODUCT((BU11:BU15=BU13)*(BP11:BP15=BP13)*(BN11:BN15=BN13)*(BR11:BR15=BR13)*(BS11:BS15>BS13)),"") | CA13: =IF(BJ13<>"",SUMPRODUCT((BU11:BU15=BU13)*(BP11:BP15=BP13)*(BN11:BN15=BN13)*(BR11:BR15=BR13)*(BS11:BS15=BS13)*(BT11:BT15>BT13)),"") | CB13: =IF(BJ13<>"",SUM(BV13:CA13)+2,"") | CC13: =IF(BJ13<>"",INDEX(BJ13:BJ15,MATCH(3,CB13:CB15,0),0),"") | CX13: =IF(CC13<>"",CC13,IF(BI13<>"",BI13,IF(AO13<>"",AO13,O13))) -> Qatar | CY13: 3 | CZ13: 11 | DA13: =Matches!H14 -> Netherlands | DB13: =IF(DA2<>"",IF(AND(Matches!J14<>"",Matches!K14<>""),Matches!J14,0),"") -> 0 | DC13: =IF(DA2<>"",IF(AND(Matches!J14<>"",Matches!K14<>""),Matches!K14,0),"") -> 0 | DD13: =Matches!M14 -> Japan | DE13: =IF(AND(Matches!J14<>"",Matches!K14<>""),IF(DB13>DC13,"W",IF(DB13=DC13,"D","L")),"") | DF13: =IF(DE13<>"",IF(DE13="W","L",IF(DE13="L","W","D")),"") | DS13: =EE13 -> Qatar | DT13: DQ13 | DV13: 7 | DW13: -9 | DY13: 7 | DZ13: =EA13 -> 46186.75 | EA13: 46186.75 | EB13: =EA13+WCTImeZoneData/24 -> 46186.75 | ED13: =SUM(Matches!S11:S14) -> 10 | EE13: =INDEX(Language!A1:K177,MATCH(Setup!B14,Language!B1:B177,0),MATCH(Setup!C5,Language!A1:J1,0)) -> Qatar
A14: =Setup!F15+100 -> 118 | B14: =VLOOKUP(C14,CX11:CY15,2,FALSE) -> 1 | C14: =EE14 -> Switzerland | D14: =SUMPRODUCT((DA3:DA105=C14)*(DE3:DE105="W"))+SUMPRODUCT((DD3:DD105=C14)*(DF3:DF105="W")) -> 0 | E14: =SUMPRODUCT((DA3:DA105=C14)*(DE3:DE105="D"))+SUMPRODUCT((DD3:DD105=C14)*(DF3:DF105="D")) -> 0 | F14: =SUMPRODUCT((DA3:DA105=C14)*(DE3:DE105="L"))+SUMPRODUCT((DD3:DD105=C14)*(DF3:DF105="L")) -> 0 | G14: =SUMIF(DA3:DA123,C14,DB3:DB123)+SUMIF(DD3:DD123,C14,DC3:DC123) -> 0 | H14: =SUMIF(DD3:DD123,C14,DB3:DB123)+SUMIF(DA3:DA123,C14,DC3:DC123) -> 0 | I14: =G14-H14+1000 -> 1000 | J14: =D14*3+E14*1 -> 0 | K14: =IF(Setup!G15<>"",Setup!G15,-A14) -> -118 | L14: =IF(COUNTIF(J11:J15,4)<>4,RANK(J14,J11:J15),J93) -> 1 | N14: =SUMPRODUCT((L11:L14=L14)*(K11:K14<K14))+L14 -> 4 | O14: =INDEX(C11:C15,MATCH(4,N11:N15,0),0) -> Switzerland | P14: =INDEX(L11:L15,MATCH(O14,C11:C15,0),0) -> 1 | Q14: =IF(AND(Q13<>"",P14=1),O14,"") -> Switzerland | R14: =IF(AND(R13<>"",P15=2),O15,"") | V14: =IF(Q14<>"",Q14,"") -> Switzerland | W14: =SUMPRODUCT((DA3:DA105=V14)*(DD3:DD105=V15)*(DE3:DE105="W"))+SUMPRODUCT((DA3:DA105=V14)*(DD3:DD105=V11)*(DE3:DE105="W"))+SUMPRODUCT((DA3:DA105=V14)*(DD3:DD105=V12)*(DE3:DE105="W"))+SUMPRODUCT((DA3:DA105=V14)*(DD3:DD105=V13)*(DE3:DE105="W"))+SUMPRODUCT((DA3:DA105=V15)*(DD3:DD105=V14)*(DF3:DF105="W"))+SUMPRODUCT((DA3:DA105=V11)*(DD3:DD105=V14)*(DF3:DF105="W"))+SUMPRODUCT((DA3:DA105=V12)*(DD3:DD105=V14)*(DF3:DF105="W"))+SUMPRODUCT((DA3:DA105=V13)*(DD3:DD105=V14)*(DF3:DF105="W")) -> 0 | X14: =SUMPRODUCT((DA3:DA105=V14)*(DD3:DD105=V15)*(DE3:DE105="D"))+SUMPRODUCT((DA3:DA105=V14)*(DD3:DD105=V11)*(DE3:DE105="D"))+SUMPRODUCT((DA3:DA105=V14)*(DD3:DD105=V12)*(DE3:DE105="D"))+SUMPRODUCT((DA3:DA105=V14)*(DD3:DD105=V13)*(DE3:DE105="D"))+SUMPRODUCT((DA3:DA105=V15)*(DD3:DD105=V14)*(DE3:DE105="D"))+SUMPRODUCT((DA3:DA105=V11)*(DD3:DD105=V14)*(DE3:DE105="D"))+SUMPRODUCT((DA3:DA105=V12)*(DD3:DD105=V14)*(DE3:DE105="D"))+SUMPRODUCT((DA3:DA105=V13)*(DD3:DD105=V14)*(DE3:DE105="D")) -> 0 | Y14: =SUMPRODUCT((DA3:DA105=V14)*(DD3:DD105=V15)*(DE3:DE105="L"))+SUMPRODUCT((DA3:DA105=V14)*(DD3:DD105=V11)*(DE3:DE105="L"))+SUMPRODUCT((DA3:DA105=V14)*(DD3:DD105=V12)*(DE3:DE105="L"))+SUMPRODUCT((DA3:DA105=V14)*(DD3:DD105=V13)*(DE3:DE105="L"))+SUMPRODUCT((DA3:DA105=V15)*(DD3:DD105=V14)*(DF3:DF105="L"))+SUMPRODUCT((DA3:DA105=V11)*(DD3:DD105=V14)*(DF3:DF105="L"))+SUMPRODUCT((DA3:DA105=V12)*(DD3:DD105=V14)*(DF3:DF105="L"))+SUMPRODUCT((DA3:DA105=V13)*(DD3:DD105=V14)*(DF3:DF105="L")) -> 0 | Z14: =SUMPRODUCT((DA3:DA105=V14)*(DD3:DD105=V15)*DB3:DB105)+SUMPRODUCT((DA3:DA105=V14)*(DD3:DD105=V11)*DB3:DB105)+SUMPRODUCT((DA3:DA105=V14)*(DD3:DD105=V12)*DB3:DB105)+SUMPRODUCT((DA3:DA105=V14)*(DD3:DD105=V13)*DB3:DB105)+SUMPRODUCT((DA3:DA105=V15)*(DD3:DD105=V14)*DC3:DC105)+SUMPRODUCT((DA3:DA105=V11)*(DD3:DD105=V14)*DC3:DC105)+SUMPRODUCT((DA3:DA105=V12)*(DD3:DD105=V14)*DC3:DC105)+SUMPRODUCT((DA3:DA105=V13)*(DD3:DD105=V14)*DC3:DC105) -> 0 | AA14: =SUMPRODUCT((DA3:DA105=V14)*(DD3:DD105=V15)*DC3:DC105)+SUMPRODUCT((DA3:DA105=V14)*(DD3:DD105=V11)*DC3:DC105)+SUMPRODUCT((DA3:DA105=V14)*(DD3:DD105=V12)*DC3:DC105)+SUMPRODUCT((DA3:DA105=V14)*(DD3:DD105=V13)*DC3:DC105)+SUMPRODUCT((DA3:DA105=V15)*(DD3:DD105=V14)*DB3:DB105)+SUMPRODUCT((DA3:DA105=V11)*(DD3:DD105=V14)*DB3:DB105)+SUMPRODUCT((DA3:DA105=V12)*(DD3:DD105=V14)*DB3:DB105)+SUMPRODUCT((DA3:DA105=V13)*(DD3:DD105=V14)*DB3:DB105) -> 0 | AB14: =Z14-AA14+1000 -> 1000 | AC14: =IF(V14<>"",W14*3+X14*1,"") -> 0 | AD14: =IF(V14<>"",VLOOKUP(V14,C4:I52,7,FALSE),"") -> 1000 | AE14: =IF(V14<>"",VLOOKUP(V14,C4:I52,5,FALSE),"") -> 0 | AF14: =IF(V14<>"",VLOOKUP(V14,C4:K52,9,FALSE),"") -> -118 | AG14: =AC14 -> 0 | AH14: =IF(V14<>"",RANK(AG14,AG11:AG15),"") -> 1 | AI14: =IF(V14<>"",SUMPRODUCT((AG11:AG15=AG14)*(AB11:AB15>AB14)),"") -> 0 | AJ14: =IF(V14<>"",SUMPRODUCT((AG11:AG15=AG14)*(AB11:AB15=AB14)*(Z11:Z15>Z14)),"") -> 0 | AK14: =IF(V14<>"",SUMPRODUCT((AG11:AG15=AG14)*(AB11:AB15=AB14)*(Z11:Z15=Z14)*(AD11:AD15>AD14)),"") -> 0 | AL14: =IF(V14<>"",SUMPRODUCT((AG11:AG15=AG14)*(AB11:AB15=AB14)*(Z11:Z15=Z14)*(AD11:AD15=AD14)*(AE11:AE15>AE14)),"") -> 0 | AM14: =IF(V14<>"",SUMPRODUCT((AG11:AG15=AG14)*(AB11:AB15=AB14)*(Z11:Z15=Z14)*(AD11:AD15=AD14)*(AE11:AE15=AE14)*(AF11:AF15>AF14)),"") -> 0 | AN14: =IF(V14<>"",IF(AN93<>"",IF(U89=3,AN93,AN93+U89),SUM(AH14:AM14)),"") -> 1 | AO14: =IF(V14<>"",INDEX(V11:V15,MATCH(4,AN11:AN15,0),0),"") -> Bosnia and Herzegovina | AP14: =IF(R13<>"",R13,"") | AQ14: =IF(AP14<>"",SUMPRODUCT((DA3:DA105=AP14)*(DD3:DD105=AP15)*(DE3:DE105="W"))+SUMPRODUCT((DA3:DA105=AP14)*(DD3:DD105=AP12)*(DE3:DE105="W"))+SUMPRODUCT((DA3:DA105=AP14)*(DD3:DD105=AP13)*(DE3:DE105="W"))+SUMPRODUCT((DA3:DA105=AP15)*(DD3:DD105=AP14)*(DF3:DF105="W"))+SUMPRODUCT((DA3:DA105=AP12)*(DD3:DD105=AP14)*(DF3:DF105="W"))+SUMPRODUCT((DA3:DA105=AP13)*(DD3:DD105=AP14)*(DF3:DF105="W")),"") | AR14: =IF(AP14<>"",SUMPRODUCT((DA3:DA105=AP14)*(DD3:DD105=AP15)*(DE3:DE105="D"))+SUMPRODUCT((DA3:DA105=AP14)*(DD3:DD105=AP12)*(DE3:DE105="D"))+SUMPRODUCT((DA3:DA105=AP14)*(DD3:DD105=AP13)*(DE3:DE105="D"))+SUMPRODUCT((DA3:DA105=AP15)*(DD3:DD105=AP14)*(DE3:DE105="D"))+SUMPRODUCT((DA3:DA105=AP12)*(DD3:DD105=AP14)*(DE3:DE105="D"))+SUMPRODUCT((DA3:DA105=AP13)*(DD3:DD105=AP14)*(DE3:DE105="D")),"") | AS14: =IF(AP14<>"",SUMPRODUCT((DA3:DA105=AP14)*(DD3:DD105=AP15)*(DE3:DE105="L"))+SUMPRODUCT((DA3:DA105=AP14)*(DD3:DD105=AP12)*(DE3:DE105="L"))+SUMPRODUCT((DA3:DA105=AP14)*(DD3:DD105=AP13)*(DE3:DE105="L"))+SUMPRODUCT((DA3:DA105=AP15)*(DD3:DD105=AP14)*(DF3:DF105="L"))+SUMPRODUCT((DA3:DA105=AP12)*(DD3:DD105=AP14)*(DF3:DF105="L"))+SUMPRODUCT((DA3:DA105=AP13)*(DD3:DD105=AP14)*(DF3:DF105="L")),"") | AT14: =SUMPRODUCT((DA3:DA105=AP14)*(DD3:DD105=AP15)*DB3:DB105)+SUMPRODUCT((DA3:DA105=AP14)*(DD3:DD105=AP11)*DB3:DB105)+SUMPRODUCT((DA3:DA105=AP14)*(DD3:DD105=AP12)*DB3:DB105)+SUMPRODUCT((DA3:DA105=AP14)*(DD3:DD105=AP13)*DB3:DB105)+SUMPRODUCT((DA3:DA105=AP15)*(DD3:DD105=AP14)*DC3:DC105)+SUMPRODUCT((DA3:DA105=AP11)*(DD3:DD105=AP14)*DC3:DC105)+SUMPRODUCT((DA3:DA105=AP12)*(DD3:DD105=AP14)*DC3:DC105)+SUMPRODUCT((DA3:DA105=AP13)*(DD3:DD105=AP14)*DC3:DC105) -> 0 | AU14: =SUMPRODUCT((DA3:DA105=AP14)*(DD3:DD105=AP15)*DC3:DC105)+SUMPRODUCT((DA3:DA105=AP14)*(DD3:DD105=AP11)*DC3:DC105)+SUMPRODUCT((DA3:DA105=AP14)*(DD3:DD105=AP12)*DC3:DC105)+SUMPRODUCT((DA3:DA105=AP14)*(DD3:DD105=AP13)*DC3:DC105)+SUMPRODUCT((DA3:DA105=AP15)*(DD3:DD105=AP14)*DB3:DB105)+SUMPRODUCT((DA3:DA105=AP11)*(DD3:DD105=AP14)*DB3:DB105)+SUMPRODUCT((DA3:DA105=AP12)*(DD3:DD105=AP14)*DB3:DB105)+SUMPRODUCT((DA3:DA105=AP13)*(DD3:DD105=AP14)*DB3:DB105) -> 0 | AV14: =AT14-AU14+1000 -> 1000 | AW14: =IF(AP14<>"",AQ14*3+AR14*1,"") | AX14: =IF(AP14<>"",VLOOKUP(AP14,C4:I52,7,FALSE),"") | AY14: =IF(AP14<>"",VLOOKUP(AP14,C4:I52,5,FALSE),"") | AZ14: =IF(AP14<>"",VLOOKUP(AP14,C4:K52,9,FALSE),"") | BA14: =AW14 | BB14: =IF(AP14<>"",RANK(BA14,BA11:BA15),"") | BC14: =IF(AP14<>"",SUMPRODUCT((BA11:BA15=BA14)*(AV11:AV15>AV14)),"") | BD14: =IF(AP14<>"",SUMPRODUCT((BA11:BA15=BA14)*(AV11:AV15=AV14)*(AT11:AT15>AT14)),"") | BE14: =IF(AP14<>"",SUMPRODUCT((BA11:BA15=BA14)*(AV11:AV15=AV14)*(AT11:AT15=AT14)*(AX11:AX15>AX14)),"") | BF14: =IF(AP14<>"",SUMPRODUCT((BA11:BA15=BA14)*(AV11:AV15=AV14)*(AT11:AT15=AT14)*(AX11:AX15=AX14)*(AY11:AY15>AY14)),"") | BG14: =IF(AP14<>"",SUMPRODUCT((BA11:BA15=BA14)*(AV11:AV15=AV14)*(AT11:AT15=AT14)*(AX11:AX15=AX14)*(AY11:AY15=AY14)*(AZ11:AZ15>AZ14)),"") | BH14: =IF(AP14<>"",IF(BH93<>"",IF(AO89=3,BH93,BH93+AO89),SUM(BB14:BG14)+1),"") | BI14: =IF(AP14<>"",INDEX(AP12:AP15,MATCH(4,BH12:BH15,0),0),"") | BJ14: =IF(S12<>"",S12,"") | BK14: =SUMPRODUCT((DA3:DA105=BJ14)*(DD3:DD105=BJ15)*(DE3:DE105="W"))+SUMPRODUCT((DA3:DA105=BJ14)*(DD3:DD105=BJ16)*(DE3:DE105="W"))+SUMPRODUCT((DA3:DA105=BJ14)*(DD3:DD105=BJ13)*(DE3:DE105="W"))+SUMPRODUCT((DA3:DA105=BJ15)*(DD3:DD105=BJ14)*(DF3:DF105="W"))+SUMPRODUCT((DA3:DA105=BJ16)*(DD3:DD105=BJ14)*(DF3:DF105="W"))+SUMPRODUCT((DA3:DA105=BJ13)*(DD3:DD105=BJ14)*(DF3:DF105="W")) -> 0 | BL14: =SUMPRODUCT((DA3:DA105=BJ14)*(DD3:DD105=BJ15)*(DE3:DE105="D"))+SUMPRODUCT((DA3:DA105=BJ14)*(DD3:DD105=BJ16)*(DE3:DE105="D"))+SUMPRODUCT((DA3:DA105=BJ14)*(DD3:DD105=BJ13)*(DE3:DE105="D"))+SUMPRODUCT((DA3:DA105=BJ15)*(DD3:DD105=BJ14)*(DE3:DE105="D"))+SUMPRODUCT((DA3:DA105=BJ16)*(DD3:DD105=BJ14)*(DE3:DE105="D"))+SUMPRODUCT((DA3:DA105=BJ13)*(DD3:DD105=BJ14)*(DE3:DE105="D")) -> 0 | BM14: =SUMPRODUCT((DA3:DA105=BJ14)*(DD3:DD105=BJ15)*(DE3:DE105="L"))+SUMPRODUCT((DA3:DA105=BJ14)*(DD3:DD105=BJ16)*(DE3:DE105="L"))+SUMPRODUCT((DA3:DA105=BJ14)*(DD3:DD105=BJ13)*(DE3:DE105="L"))+SUMPRODUCT((DA3:DA105=BJ15)*(DD3:DD105=BJ14)*(DF3:DF105="L"))+SUMPRODUCT((DA3:DA105=BJ16)*(DD3:DD105=BJ14)*(DF3:DF105="L"))+SUMPRODUCT((DA3:DA105=BJ13)*(DD3:DD105=BJ14)*(DF3:DF105="L")) -> 0 | BN14: =SUMPRODUCT((DA3:DA105=BJ14)*(DD3:DD105=BJ15)*DB3:DB105)+SUMPRODUCT((DA3:DA105=BJ14)*(DD3:DD105=BJ11)*DB3:DB105)+SUMPRODUCT((DA3:DA105=BJ14)*(DD3:DD105=BJ12)*DB3:DB105)+SUMPRODUCT((DA3:DA105=BJ14)*(DD3:DD105=BJ13)*DB3:DB105)+SUMPRODUCT((DA3:DA105=BJ15)*(DD3:DD105=BJ14)*DC3:DC105)+SUMPRODUCT((DA3:DA105=BJ11)*(DD3:DD105=BJ14)*DC3:DC105)+SUMPRODUCT((DA3:DA105=BJ12)*(DD3:DD105=BJ14)*DC3:DC105)+SUMPRODUCT((DA3:DA105=BJ13)*(DD3:DD105=BJ14)*DC3:DC105) -> 0 | BO14: =SUMPRODUCT((DA3:DA105=BJ14)*(DD3:DD105=BJ15)*DC3:DC105)+SUMPRODUCT((DA3:DA105=BJ14)*(DD3:DD105=BJ11)*DC3:DC105)+SUMPRODUCT((DA3:DA105=BJ14)*(DD3:DD105=BJ12)*DC3:DC105)+SUMPRODUCT((DA3:DA105=BJ14)*(DD3:DD105=BJ13)*DC3:DC105)+SUMPRODUCT((DA3:DA105=BJ15)*(DD3:DD105=BJ14)*DB3:DB105)+SUMPRODUCT((DA3:DA105=BJ11)*(DD3:DD105=BJ14)*DB3:DB105)+SUMPRODUCT((DA3:DA105=BJ12)*(DD3:DD105=BJ14)*DB3:DB105)+SUMPRODUCT((DA3:DA105=BJ13)*(DD3:DD105=BJ14)*DB3:DB105) -> 0 | BP14: =BN14-BO14+1000 -> 1000 | BQ14: =IF(BJ14<>"",BK14*3+BL14*1,"") | BR14: =IF(BJ14<>"",VLOOKUP(BJ14,C4:I52,7,FALSE),"") | BS14: =IF(BJ14<>"",VLOOKUP(BJ14,C4:I52,5,FALSE),"") | BT14: =IF(BJ14<>"",VLOOKUP(BJ14,C4:K52,9,FALSE),"") | BU14: =BQ14 | BV14: =IF(BJ14<>"",RANK(BU14,BU11:BU15),"") | BW14: =IF(BJ14<>"",SUMPRODUCT((BU11:BU15=BU14)*(BP11:BP15>BP14)),"") | BX14: =IF(BJ14<>"",SUMPRODUCT((BU11:BU15=BU14)*(BP11:BP15=BP14)*(BN11:BN15>BN14)),"") | BY14: =IF(BJ14<>"",SUMPRODUCT((BU11:BU15=BU14)*(BP11:BP15=BP14)*(BN11:BN15=BN14)*(BR11:BR15>BR14)),"") | BZ14: =IF(BJ14<>"",SUMPRODUCT((BU11:BU15=BU14)*(BP11:BP15=BP14)*(BN11:BN15=BN14)*(BR11:BR15=BR14)*(BS11:BS15>BS14)),"") | CA14: =IF(BJ14<>"",SUMPRODUCT((BU11:BU15=BU14)*(BP11:BP15=BP14)*(BN11:BN15=BN14)*(BR11:BR15=BR14)*(BS11:BS15=BS14)*(BT11:BT15>BT14)),"") | CB14: =IF(BJ14<>"",SUM(BV14:CA14)+2,"") | CC14: =IF(BJ14<>"",INDEX(BJ13:BJ15,MATCH(4,CB13:CB15,0),0),"") | CD14: =IF(T11<>"",T11,"") | CE14: =SUMPRODUCT((DA3:DA105=CD14)*(DD3:DD105=CD15)*(DE3:DE105="W"))+SUMPRODUCT((DA3:DA105=CD14)*(DD3:DD105=CD16)*(DE3:DE105="W"))+SUMPRODUCT((DA3:DA105=CD14)*(DD3:DD105=CD17)*(DE3:DE105="W"))+SUMPRODUCT((DA3:DA105=CD15)*(DD3:DD105=CD14)*(DF3:DF105="W"))+SUMPRODUCT((DA3:DA105=CD16)*(DD3:DD105=CD14)*(DF3:DF105="W"))+SUMPRODUCT((DA3:DA105=CD17)*(DD3:DD105=CD14)*(DF3:DF105="W")) -> 0 | CF14: =SUMPRODUCT((DA3:DA105=CD14)*(DD3:DD105=CD15)*(DE3:DE105="D"))+SUMPRODUCT((DA3:DA105=CD14)*(DD3:DD105=CD16)*(DE3:DE105="D"))+SUMPRODUCT((DA3:DA105=CD14)*(DD3:DD105=CD17)*(DE3:DE105="D"))+SUMPRODUCT((DA3:DA105=CD15)*(DD3:DD105=CD14)*(DE3:DE105="D"))+SUMPRODUCT((DA3:DA105=CD16)*(DD3:DD105=CD14)*(DE3:DE105="D"))+SUMPRODUCT((DA3:DA105=CD17)*(DD3:DD105=CD14)*(DE3:DE105="D")) -> 0 | CG14: =SUMPRODUCT((DA3:DA105=CD14)*(DD3:DD105=CD15)*(DE3:DE105="L"))+SUMPRODUCT((DA3:DA105=CD14)*(DD3:DD105=CD16)*(DE3:DE105="L"))+SUMPRODUCT((DA3:DA105=CD14)*(DD3:DD105=CD17)*(DE3:DE105="L"))+SUMPRODUCT((DA3:DA105=CD15)*(DD3:DD105=CD14)*(DF3:DF105="L"))+SUMPRODUCT((DA3:DA105=CD16)*(DD3:DD105=CD14)*(DF3:DF105="L"))+SUMPRODUCT((DA3:DA105=CD17)*(DD3:DD105=CD14)*(DF3:DF105="L")) -> 0 | CH14: =SUMPRODUCT((DA3:DA105=CD14)*(DD3:DD105=CD15)*DB3:DB105)+SUMPRODUCT((DA3:DA105=CD14)*(DD3:DD105=CD11)*DB3:DB105)+SUMPRODUCT((DA3:DA105=CD14)*(DD3:DD105=CD12)*DB3:DB105)+SUMPRODUCT((DA3:DA105=CD14)*(DD3:DD105=CD13)*DB3:DB105)+SUMPRODUCT((DA3:DA105=CD15)*(DD3:DD105=CD14)*DC3:DC105)+SUMPRODUCT((DA3:DA105=CD11)*(DD3:DD105=CD14)*DC3:DC105)+SUMPRODUCT((DA3:DA105=CD12)*(DD3:DD105=CD14)*DC3:DC105)+SUMPRODUCT((DA3:DA105=CD13)*(DD3:DD105=CD14)*DC3:DC105) -> 0 | CI14: =SUMPRODUCT((DA3:DA105=CD14)*(DD3:DD105=CD15)*DC3:DC105)+SUMPRODUCT((DA3:DA105=CD14)*(DD3:DD105=CD11)*DC3:DC105)+SUMPRODUCT((DA3:DA105=CD14)*(DD3:DD105=CD12)*DC3:DC105)+SUMPRODUCT((DA3:DA105=CD14)*(DD3:DD105=CD13)*DC3:DC105)+SUMPRODUCT((DA3:DA105=CD15)*(DD3:DD105=CD14)*DB3:DB105)+SUMPRODUCT((DA3:DA105=CD11)*(DD3:DD105=CD14)*DB3:DB105)+SUMPRODUCT((DA3:DA105=CD12)*(DD3:DD105=CD14)*DB3:DB105)+SUMPRODUCT((DA3:DA105=CD13)*(DD3:DD105=CD14)*DB3:DB105) -> 0 | CJ14: =CH14-CI14+1000 -> 1000 | CK14: =IF(CD14<>"",CE14*3+CF14*1,"") | CL14: =IF(CD14<>"",VLOOKUP(CD14,C4:I52,7,FALSE),"") | CM14: =IF(CD14<>"",VLOOKUP(CD14,C4:I52,5,FALSE),"") | CN14: =IF(CD14<>"",VLOOKUP(CD14,C4:K52,9,FALSE),"") | CO14: =CK14 | CP14: =IF(CD14<>"",RANK(CO14,CO11:CO15),"") | CQ14: =IF(CD14<>"",SUMPRODUCT((CO11:CO15=CO14)*(CJ11:CJ15>CJ14)),"") | CR14: =IF(CD14<>"",SUMPRODUCT((CO11:CO15=CO14)*(CJ11:CJ15=CJ14)*(CH11:CH15>CH14)),"") | CS14: =IF(CD14<>"",SUMPRODUCT((CO11:CO15=CO14)*(CJ11:CJ15=CJ14)*(CH11:CH15=CH14)*(CL11:CL15>CL14)),"") | CT14: =IF(CD14<>"",SUMPRODUCT((CO11:CO15=CO14)*(CJ11:CJ15=CJ14)*(CH11:CH15=CH14)*(CL11:CL15=CL14)*(CM11:CM15>CM14)),"") | CU14: =IF(CD14<>"",SUMPRODUCT((CO11:CO15=CO14)*(CJ11:CJ15=CJ14)*(CH11:CH15=CH14)*(CL11:CL15=CL14)*(CM11:CM15=CM14)*(CN11:CN15>CN14)),"") | CV14: =IF(CD14<>"",SUM(CP14:CU14)+3,"") | CW14: =IF(CD14<>"",IF(CV14=4,CD14,CD15),"") | CX14: =IF(CW14<>"",CW14,IF(CC14<>"",CC14,IF(BI14<>"",BI14,IF(AO14<>"",AO14,O14)))) -> Bosnia and Herzegovina | CY14: 4 | CZ14: 12 | DA14: =Matches!H15 -> Sweden | DB14: =IF(DA2<>"",IF(AND(Matches!J15<>"",Matches!K15<>""),Matches!J15,0),"") -> 0 | DC14: =IF(DA2<>"",IF(AND(Matches!J15<>"",Matches!K15<>""),Matches!K15,0),"") -> 0 | DD14: =Matches!M15 -> Tunisia | DE14: =IF(AND(Matches!J15<>"",Matches!K15<>""),IF(DB14>DC14,"W",IF(DB14=DC14,"D","L")),"") | DF14: =IF(DE14<>"",IF(DE14="W","L",IF(DE14="L","W","D")),"") | DS14: =EE14 -> Switzerland | DT14: DQ14 | DV14: 8 | DW14: -8.5 | DY14: 8 | DZ14: =EA14 -> 46186.625 | EA14: 46186.625 | EB14: =EA14+WCTImeZoneData/24 -> 46186.625 | EE14: =INDEX(Language!A1:K177,MATCH(Setup!B15,Language!B1:B177,0),MATCH(Setup!C5,Language!A1:J1,0)) -> Switzerland
CZ15: 13 | DA15: =Matches!H16 -> Saudi Arabia | DB15: =IF(DA2<>"",IF(AND(Matches!J16<>"",Matches!K16<>""),Matches!J16,0),"") -> 0 | DC15: =IF(DA2<>"",IF(AND(Matches!J16<>"",Matches!K16<>""),Matches!K16,0),"") -> 0 | DD15: =Matches!M16 -> Uruguay | DE15: =IF(AND(Matches!J16<>"",Matches!K16<>""),IF(DB15>DC15,"W",IF(DB15=DC15,"D","L")),"") | DF15: =IF(DE15<>"",IF(DE15="W","L",IF(DE15="L","W","D")),"") | DQ15: C | DS15: =EE15 -> Brazil | DT15: DQ15 | DV15: 9 | DW15: -8 | DY15: 9 | DZ15: =EA15 -> 46187.792 | EA15: 46187.792 | EB15: =EA15+WCTImeZoneData/24 -> 46187.792 | EE15: =INDEX(Language!A1:K177,MATCH(Setup!B16,Language!B1:B177,0),MATCH(Setup!C5,Language!A1:J1,0)) -> Brazil
CZ16: 14 | DA16: =Matches!H17 -> Spain | DB16: =IF(DA2<>"",IF(AND(Matches!J17<>"",Matches!K17<>""),Matches!J17,0),"") -> 0 | DC16: =IF(DA2<>"",IF(AND(Matches!J17<>"",Matches!K17<>""),Matches!K17,0),"") -> 0 | DD16: =Matches!M17 -> Cabo Verde | DE16: =IF(AND(Matches!J17<>"",Matches!K17<>""),IF(DB16>DC16,"W",IF(DB16=DC16,"D","L")),"") | DF16: =IF(DE16<>"",IF(DE16="W","L",IF(DE16="L","W","D")),"") | DS16: =EE16 -> Morocco | DT16: DQ16 | DV16: 10 | DW16: -7.5 | DY16: 10 | DZ16: =EA16 -> 46187.542 | EA16: 46187.542 | EB16: =EA16+WCTImeZoneData/24 -> 46187.542 | EE16: =INDEX(Language!A1:K177,MATCH(Setup!B17,Language!B1:B177,0),MATCH(Setup!C5,Language!A1:J1,0)) -> Morocco
W17: A | CZ17: 15 | DA17: =Matches!H18 -> Iran | DB17: =IF(DA2<>"",IF(AND(Matches!J18<>"",Matches!K18<>""),Matches!J18,0),"") -> 0 | DC17: =IF(DA2<>"",IF(AND(Matches!J18<>"",Matches!K18<>""),Matches!K18,0),"") -> 0 | DD17: =Matches!M18 -> New Zealand | DE17: =IF(AND(Matches!J18<>"",Matches!K18<>""),IF(DB17>DC17,"W",IF(DB17=DC17,"D","L")),"") | DF17: =IF(DE17<>"",IF(DE17="W","L",IF(DE17="L","W","D")),"") | DS17: =EE17 -> Haiti | DT17: DQ17 | DV17: 11 | DW17: -7 | DY17: 11 | DZ17: =EA17 -> 46187.667 | EA17: 46187.667 | EB17: =EA17+WCTImeZoneData/24 -> 46187.667 | EE17: =INDEX(Language!A1:K177,MATCH(Setup!B18,Language!B1:B177,0),MATCH(Setup!C5,Language!A1:J1,0)) -> Haiti
