Workbook
Name about: About!$A$1
Name BestPlayer: 'Best Player | Top Scorer Table'!$C$6:$C$16
Name Bonu1: 'Game Setup'!$E$31
Name Bonu11: 'Game Setup'!$E$47
Name Bonu12: 'Game Setup'!$E$52
Name Bonu13: 'Game Setup'!$E$56
Name Bonu14: 'Game Setup'!$E$59
Name Bonu15: 'Game Setup'!$E$60
Name Bonu16: 'Game Setup'!$E$61
Name Bonu17: 'Game Setup'!$E$62
Name Bonu2: 'Game Setup'!$E$32
Name Bonu3: 'Game Setup'!$E$33
Name Bonu4: 'Game Setup'!$E$34
Name Bonu5: 'Game Setup'!$E$35
Name Bonu6: 'Game Setup'!#REF!
Name Bonu7: 'Game Setup'!#REF!
Name Bonu8: 'Game Setup'!#REF!
Name Bonu9: 'Game Setup'!$E$46
Name BonuC1: 'Game Setup'!$E$48
Name BonuC2: 'Game Setup'!$E$49
Name BonuC3: 'Game Setup'!$E$50
Name BonuC4: 'Game Setup'!$E$51
Name BonuQF1: 'Game Setup'!$E$44
Name BonuQF2: 'Game Setup'!$E$45
Name BonuQQF1: 'Game Setup'!$E$37
Name BonuQQF2: 'Game Setup'!$E$38
Name BonuQQF3: 'Game Setup'!$E$39
Name BonuQSF1: 'Game Setup'!$E$41
Name BonuQSF2: 'Game Setup'!$E$42
Name BonuRU1: 'Game Setup'!$E$53
Name BonuRU2: 'Game Setup'!$E$54
Name BonuRU3: 'Game Setup'!$E$55
Name BonuSF1: 'Game Setup'!$E$57
Name BonuSF2: 'Game Setup'!$E$58
Name Champ: 'Game Board'!$G$52
Name Fina1: 'Game Setup'!$H$20
Name Fina2: 'Game Setup'!$H$21
Name Fina3: 'Game Setup'!$H$22
Name KOMatchRule: 'Game Setup'!$A$15
Name KOPSO: 'Game Setup'!$A$16
Name KOTeam3: 'Game Board'!$F$44:$I$49
Name KOTeams: 'Game Board'!$F$44:$I$50
Name KOTeamsF: 'Game Board'!$D$40:$D$41
Name KOTeamsQF: 'Game Board'!$C$36:$C$43
Name KOTeamsSF: 'Game Board'!$D$36:$D$39
Name Last5List: Scoreboard!$N$1:$AR$1
Name last5max: 'Game Board'!$A$6
Name ParticipantList: 'Participant Setup'!$C$6:$C$15
Name Pena1: 'Game Setup'!$E$25
Name Pena2: 'Game Setup'!$E$26
Name Pena3: 'Game Setup'!$E$27
Name Pool1: 'Game Setup'!$E$8
Name Pool2: 'Game Setup'!$E$9
Name Pool3: 'Game Setup'!$E$10
Name Qualified: 'Game Board'!$B$44:$B$51
Name Quar1: 'Game Setup'!$F$20
Name Quar2: 'Game Setup'!$F$21
Name Quar3: 'Game Setup'!$F$22
Name Round1: 'Game Setup'!$E$20
Name Round2: 'Game Setup'!$E$21

Sheet Game Setup
B3: WOMEN'S EURO 2025 PREDICTOR GAME | E3: CLICK HERE FOR MORE PAID INFORMATION
B5: ⚫ GROUP STAGES Point System
B7: PREDICTED CORRECTLY | E7: POINT | M7: Setup Video
B8: 1 | C8: Match Result and Goal Scores | D8: ▶ | E8: 6 | M8: https://youtu.be/we2Ez3aBDEM | N8: (It uses World Cup 2022 model. Several regulations might be different)
B9: 2 | C9: Match Result and Goal Differences | D9: ▶ | E9: 4 | M9: Group Stages Point Illustration (written illustration is also available in attached pdf file included in file package)
B10: 3 | C10: Match Result Only | D10: ▶ | E10: 4 | M10: https://youtu.be/MIx_CFNWDYI | N10: (It uses World Cup 2022 model. Several regulations might be different)
B12: ⚫ KNOCK OUT ROUNDS Game Scenario and Point System
B14: ● KNOCK OUT ROUNDS Game Scenario
A15: =IF(E15="Tournament's Actual Results",1,0) -> 1 | B15: SELECT Knock Out Rounds Pairing Team Scenario (ACTUAL or PREDICTION MATCHES) | D15: ▶ | E15: Tournament's Actual Results | L15: ◄ | M15: Make sure you select the right game scenario for your game
A16: =IF(E16="Included",1,0) -> 1 | B16: SELECT Penalty Shoot Out Point System (INCLUDED or NOT INCLUDED) | D16: ▶ | E16: Included
B18: ● KNOCK OUT ROUNDS Point System
B19: PREDICTED CORRECTLY in FULL TIME (NORMAL TIME + EXTRA TIME) | E19: R16 | F19: QF | G19: SF | H19: FINAL | M19: KO Rounds Point Illustration (written illustration is also available in attached pdf file included in file package)
B20: 1 | C20: Match Result and Goal Scores | D20: ▶ | E20: 12 | F20: 24 | G20: 48 | H20: 96 | M20: https://youtu.be/LCA6g7GNXMs | N20: (It uses World Cup 2022 model. Several regulations might be different)
B21: 2 | C21: Match Result and Goal Differences | D21: ▶ | E21: 8 | F21: 16 | G21: 32 | H21: 64
B22: 3 | C22: Match Result Only | D22: ▶ | E22: 6 | F22: 12 | G22: 24 | H22: 48
B24: PREDICTED CORRECTLY (PENALTY SHOOT OUT in ALL KNOCK OUT ROUNDS) | E24: POINT
B25: 1 | C25: Match Result and Goal Scores | D25: ▶ | E25: 6 | F25: =IF(KOPSO=0,"◄ Not Applied in Your Selected Game Scenario","")
B26: 2 | C26: Match Result and Goal Differences | D26: ▶ | E26: 4 | F26: =IF(KOPSO=0,"◄ Not Applied in Your Selected Game Scenario","")
B27: 3 | C27: Match Result Only | D27: ▶ | E27: 2 | F27: =IF(KOPSO=0,"◄ Not Applied in Your Selected Game Scenario","")
B29: ⚫ BONUS Point System
B30: PREDICTED CORRECTLY | E30: POINT | M30: Bonus Point Illustration (written illustration is also available in attached pdf file included in file package)
B31: 1 | C31: Group Winner and Runner Up | D31: ▶ | E31: 24 | M31: https://youtu.be/vbGfXFC3rLk
B32: 2 | C32: Group Winner only | D32: ▶ | E32: 12
B33: 3 | C33: Group Runner Up only | D33: ▶ | E33: 12
B34: 4 | C34: Qualified 2 teams (swapped group position) | D34: ▶ | E34: 8
B35: 5 | C35: Qualified 1 team only (incorrect group position) | D35: ▶ | E35: 6
B36: 6 | C36: # of Qualified Teams in Quarter Finals
C37: 8 teams | E37: 8
C38: 5 - 7 teams | E38: 4
C39: 2 - 4 teams | E39: 2
B40: 7 | C40: # of Qualified Teams in Semi Finals | F40: AVAILABLE IN PAID VERSION ONLY
C41: 4 teams | E41: 8
C42: 2 - 3 teams | E42: 4
B43: 8 | C43: # of Qualified Teams in Final
C44: 2 Teams | E44: 8
C45: 1 Teams | E45: 4
B46: 9 | C46: Bracket Pairing Matches | D46: ▶ | E46: 16
B47: 10 | C47: Champion of Tournament (Sum of points from each rounds) | E47: =SUM(E48:E51) -> 90
C48: Win at Round of 16 | D48: ▶ | E48: 6
C49: Win at Quarter Finals | D49: ▶ | E49: 12
...

Sheet Tournament Setup
B3: TOURNAMENT SETUP
B5: G | C5: No | D5: Team | E5: Fair Play Points | I5: ● You may translate team name to your language in column D. Retype other texts in Game Board worksheet to translate it to your language
B6: A | C6: 1 | D6: Switzerland | I6: Women's Euro 2025 Group Tiebreaker Policy
B7: A | C7: 2 | D7: Norway
B8: A | C8: 3 | D8: Iceland | K8: OFFICIAL | L8: GAME ACTUAL RESULTS | M8: GAME PREDICTION RESULTS
B9: A | C9: 4 | D9: Finland | I9: The ranking of teams in the group stage is determined as follows:
B10: B | C10: =C6 -> 1 | D10: Spain | I10: 1 | J10: Points obtained in all group matches; | K10: v | L10: v | M10: v
B11: B | C11: =C7 -> 2 | D11: Portugal | I11: 2 | J11: Points obtained in the matches played between the teams in question; | K11: v | L11: v | M11: v
B12: B | C12: =C8 -> 3 | D12: Belgium | I12: 3 | J12: Goal difference in the matches played between the teams in question; | K12: v | L12: v | M12: v
B13: B | C13: =C9 -> 4 | D13: Italy | I13: 4 | J13: Number of goals scored in the matches played between the teams in question; | K13: v | L13: v | M13: v
B14: C | C14: =C10 -> 1 | D14: Germany | I14: 5 | J14: If, after having applied criteria 1 to 3, teams still have an equal ranking, criteria 2 to 4 are reapplied exclusively to the matches between the teams who are still level to determine their final rankings.[a] If this procedure does not lead to a decision, criteria 6 to 9 will apply; | K14: v | L14: v | M14: v
B15: C | C15: =C11 -> 2 | D15: Poland | I15: 6 | J15: Goal difference in all group matches; | K15: v | L15: v | M15: v
B16: C | C16: =C12 -> 3 | D16: Denmark | I16: 7 | J16: Number of goals scored in all group matches; | K16: v | L16: v | M16: v
B17: C | C17: =C13 -> 4 | D17: Sweden | I17: 8 | J17: Fair play points in all group matches | K17: v | L17: v* | M17: x***
B18: D | C18: =C14 -> 1 | D18: France | J18: > Yellow card: −1 point;
B19: D | C19: =C15 -> 2 | D19: England | J19: > Indirect red card (second yellow card): −3 points;
B20: D | C20: =C16 -> 3 | D20: Wales | J20: > Direct red card: −4 points;
B21: D | C21: =C17 -> 4 | D21: Netherlands | J21: > Yellow card and direct red card: −5 points;
I22: 9 | J22: Drawing of lots. | K22: v | L22: x** | M22: x****
I24: NOTES
I26: * | J26: FILL FAIR PLAY POINTS between the teams concerned in COLUMN F to differentiate their standings. If it is leaved empty, they will be ranked based on FIFA World Ranking points
I27: ** | J27: If, it has to go through tie-breaker No 9 to decide group winner and runner up, you change it by overwriting it in Player Game Board table in cell F60:I67
I28: *** | J28: There is no needs to differentiate team standings based on fair play points. Players can adjust their prediction scores to get one team rank upper than the other.
I29: **** | J29: There is no needs to differentiate team standings based on drawing of lots. Players can adjust their prediction scores to get one team rank upper than the other.

Sheet Dummy
B1: 1 | AH1: Rule | DH1: =B1+1 -> 2 | EN1: Rule | HH1: 0 | HN1: =DH1+1 -> 3 | IT1: Rule | LN1: 0 | LT1: =HN1+1 -> 4 | MZ1: Rule | PT1: 0 | PZ1: =LT1+1 -> 5 | RF1: Rule | TZ1: 0 | UF1: =PZ1+1 -> 6 | VL1: Rule | YF1: 0 | YL1: =UF1+1 -> 7 | ZR1: Rule | ACL1: 0 | ACR1: =YL1+1 -> 8 | ADX1: Rule | AGR1: 0 | AGX1: =ACR1+1 -> 9 | AID1: Rule | AKX1: 0 | ALD1: =AGX1+1 -> 10 | AMJ1: Rule | APD1: 0 | APJ1: =ALD1+1 -> 11 | AQP1: Rule | ATJ1: 0
V2: table rank 1 | AH2: 1 | AI2: 2 | AJ2: 3 | AK2: 5 | AL2: 6 | AM2: 9 | AP2: table rank 2 | BJ2: table rank 3 | CD2: table rank 4 | DA2: =INDEX('Game Board'!E8:E56,MATCH(32,'Game Board'!C8:C56,0),0) -> 0 | DB2: GS | DC2: GA | EB2: table rank 1 | EN2: 1 | EO2: 2 | EP2: 3 | EQ2: 5 | ER2: 6 | ES2: 9 | EV2: table rank 2 | FP2: table rank 3 | GJ2: table rank 4 | HH2: GS | HI2: GA | IH2: table rank 1 | IT2: 1 | IU2: 2 | IV2: 3 | IW2: 5 | IX2: 6 | IY2: 9 | JB2: table rank 2 | JV2: table rank 3 | KP2: table rank 4 | LN2: GS | LO2: GA | MN2: table rank 1 | MZ2: 1 | NA2: 2 | NB2: 3 | NC2: 5 | ND2: 6 | NE2: 9 | NH2: table rank 2 | OB2: table rank 3 | OV2: table rank 4 | PT2: GS | PU2: GA | QT2: table rank 1 | RF2: 1 | RG2: 2 | RH2: 3 | RI2: 5 | RJ2: 6 | RK2: 9 | RN2: table rank 2 | SH2: table rank 3 | TB2: table rank 4 | TZ2: GS | UA2: GA | UZ2: table rank 1 | VL2: 1 | VM2: 2 | VN2: 3 | VO2: 5 | VP2: 6 | VQ2: 9 | VT2: table rank 2 | WN2: table rank 3 | XH2: table rank 4 | YF2: GS | YG2: GA | ZF2: table rank 1 | ZR2: 1 | ZS2: 2 | ZT2: 3 | ZU2: 5 | ZV2: 6 | ZW2: 9 | ZZ2: table rank 2 | AAT2: table rank 3 | ABN2: table rank 4 | ACL2: GS | ACM2: GA | ADL2: table rank 1 | ADX2: 1 | ADY2: 2 | ADZ2: 3 | AEA2: 5 | AEB2: 6 | AEC2: 9 | AEF2: table rank 2 | AEZ2: table rank 3 | AFT2: table rank 4 | AGR2: GS | AGS2: GA | AHR2: table rank 1 | AID2: 1 | AIE2: 2 | AIF2: 3 | AIG2: 5 | AIH2: 6 | AII2: 9 | AIL2: table rank 2 | AJF2: table rank 3 | AJZ2: table rank 4 | AKX2: GS | AKY2: GA | ALX2: table rank 1 | AMJ2: 1 | AMK2: 2 | AML2: 3 | AMM2: 5 | AMN2: 6 | AMO2: 9 | AMR2: table rank 2 | ANL2: table rank 3 | AOF2: table rank 4 | APD2: GS | APE2: GA | AQD2: table rank 1 | AQP2: 1 | AQQ2: 2 | AQR2: 3 | AQS2: 5 | AQT2: 6 | AQU2: 9 | AQX2: table rank 2 | ARR2: table rank 3 | ASL2: table rank 4 | ATI2: =INDEX('Game Board'!E8:E56,MATCH(32,'Game Board'!C8:C56,0),0) -> 0 | ATJ2: GS | ATK2: GA
D3: W | E3: D | F3: L | G3: GS | H3: GA | I3: Diff | J3: Points | K3: Rank | L3: rankall points | N3: rerank | Q3: rank 1 | R3: rank 2 | S3: rank 3 | T3: rank 4 | V3: Team | W3: W | X3: D | Y3: L | Z3: GS | AA3: GA | AB3: Diff | AC3: P | AD3: Sdif | AE3: SGS | AF3: Koef | AG3: Pts | AH3: R | AI3: GD | AJ3: GS | AK3: Sdiff | AL3: SGS | AM3: Koef | AN3: FR | AP3: Team | AQ3: W | AR3: D | AS3: L | AT3: GS | AU3: GA | AV3: Diff | AW3: P | AX3: Sdif | AY3: SGS | AZ3: Koef | BA3: Pts | BB3: R | BC3: GD | BD3: GS | BE3: Sdiff | BF3: SGS | BG3: Koef | BH3: FR | BJ3: Team | BK3: W | BL3: D | BM3: L | BN3: GS | BO3: GA | BP3: Diff | BQ3: P | BR3: Sdif | BS3: SGS | BT3: Koef | BU3: Pts | BV3: R | BW3: GD | BX3: GS | BY3: Sdif | BZ3: SGS | CA3: Koef | CB3: FR | CD3: Team | CE3: W | CF3: D | CG3: L | CH3: GS | CI3: GA | CJ3: Diff | CK3: P | CL3: Sdif | CM3: SGS | CN3: Koef | CO3: Pts | CP3: R | CQ3: GD | CR3: GS | CS3: Sdif | CT3: SGS | CU3: Koef | CV3: FR | CZ3: 1 | DA3: ='Game Board'!F8 -> Switzerland | DB3: =IF(DA2<>"",IF(AND('Game Board'!G8<>"",'Game Board'!H8<>""),'Game Board'!G8,0),"") -> 0 | DC3: =IF(DA2<>"",IF(AND('Game Board'!G8<>"",'Game Board'!H8<>""),'Game Board'!H8,0),"") -> 0 | DD3: ='Game Board'!I8 -> Norway | DE3: =IF(AND('Game Board'!G8<>"",'Game Board'!H8<>""),IF(DB3>DC3,"W",IF(DB3=DC3,"D","L")),"") | DF3: =IF(DE3<>"",IF(DE3="W","L",IF(DE3="L","W","D")),"") | DJ3: W | DK3: D | DL3: L | DM3: GS | DN3: GA | DO3: Diff | DP3: Points | DQ3: Rank | DR3: rankall points | DT3: rerank | DW3: rank 1 | DX3: rank 2 | DY3: rank 3 | DZ3: rank 4 | EB3: Team | EC3: W | ED3: D | EE3: L | EF3: GS | EG3: GA | EH3: Diff | EI3: P | EJ3: Sdif | EK3: SGS | EL3: Koef | EM3: Pts | EN3: R | EO3: GD | EP3: GS | EQ3: Sdiff | ER3: SGS | ES3: Koef | ET3: FR | EV3: Team | EW3: W | EX3: D | EY3: L | EZ3: GS | FA3: GA | FB3: Diff | FC3: P | FD3: Sdif | FE3: SGS | FF3: Koef | FG3: Pts | FH3: R | FI3: GD | FJ3: GS | FK3: Sdiff | FL3: SGS | FM3: Koef | FN3: FR | FP3: Team | FQ3: W | FR3: D | FS3: L | FT3: GS | FU3: GA | FV3: Diff | FW3: P | FX3: Sdif | FY3: SGS | FZ3: Koef | GA3: Pts | GB3: R | GC3: GD | GD3: GS | GE3: Sdif | GF3: SGS | GG3: Koef | GH3: FR | GJ3: Team | GK3: W | GL3: D | GM3: L | GN3: GS | GO3: GA | GP3: Diff | GQ3: P | GR3: Sdif | GS3: SGS | GT3: Koef | GU3: Pts | GV3: R | GW3: GD | GX3: GS | GY3: Sdif | GZ3: SGS | HA3: Koef | HB3: FR | HF3: 1 | HG3: =DA3 -> Switzerland | HH3: =IF(OFFSET('Game Board'!O8,0,HH1)<>"",OFFSET('Game Board'!O8,0,HH1),0) -> 0 | HI3: =IF(OFFSET('Game Board'!P8,0,HH1)<>"",OFFSET('Game Board'!P8,0,HH1),0) -> 0 | HJ3: =DD3 -> Norway | HK3: =IF(AND(OFFSET('Game Board'!O8,0,HH1)<>"",OFFSET('Game Board'!P8,0,HH1)<>""),IF(HH3>HI3,"W",IF(HH3=HI3,"D","L")),"") | HL3: =IF(HK3<>"",IF(HK3="W","L",IF(HK3="L","W","D")),"") | HP3: W | HQ3: D | HR3: L | HS3: GS | HT3: GA | HU3: Diff | HV3: Points | HW3: Rank | HX3: rankall points | HZ3: rerank | IC3: rank 1 | ID3: rank 2 | IE3: rank 3 | IF3: rank 4 | IH3: Team | II3: W | IJ3: D | IK3: L | IL3: GS | IM3: GA | IN3: Diff | IO3: P | IP3: Sdif | IQ3: SGS | IR3: Koef | IS3: Pts | IT3: R | IU3: GD | IV3: GS | IW3: Sdiff | IX3: SGS | IY3: Koef | IZ3: FR | JB3: Team | JC3: W | JD3: D | JE3: L | JF3: GS | JG3: GA | JH3: Diff | JI3: P | JJ3: Sdif | JK3: SGS | JL3: Koef | JM3: Pts | JN3: R | JO3: GD | JP3: GS | JQ3: Sdiff | JR3: SGS | JS3: Koef | JT3: FR | JV3: Team | JW3: W | JX3: D | JY3: L | JZ3: GS | KA3: GA | KB3: Diff | KC3: P | KD3: Sdif | KE3: SGS | KF3: Koef | KG3: Pts | KH3: R | KI3: GD | KJ3: GS | KK3: Sdif | KL3: SGS | KM3: Koef | KN3: FR | KP3: Team | KQ3: W | KR3: D | KS3: L | KT3: GS | KU3: GA | KV3: Diff | KW3: P | KX3: Sdif | KY3: SGS | KZ3: Koef | LA3: Pts | LB3: R | LC3: GD | LD3: GS | LE3: Sdif | LF3: SGS | LG3: Koef | LH3: FR | LL3: 1 | LM3: =HG3 -> Switzerland | LN3: =IF(OFFSET('Game Board'!O8,0,LN1)<>"",OFFSET('Game Board'!O8,0,LN1),0) -> 0 | LO3: =IF(OFFSET('Game Board'!P8,0,LN1)<>"",OFFSET('Game Board'!P8,0,LN1),0) -> 0 | LP3: =HJ3 -> Norway | LQ3: =IF(AND(OFFSET('Game Board'!O8,0,LN1)<>"",OFFSET('Game Board'!P8,0,LN1)<>""),IF(LN3>LO3,"W",IF(LN3=LO3,"D","L")),"") | LR3: =IF(LQ3<>"",IF(LQ3="W","L",IF(LQ3="L","W","D")),"") | LV3: W | LW3: D | LX3: L | LY3: GS | LZ3: GA | MA3: Diff | MB3: Points | MC3: Rank | MD3: rankall points | MF3: rerank | MI3: rank 1 | MJ3: rank 2 | MK3: rank 3 | ML3: rank 4 | MN3: Team | MO3: W | MP3: D | MQ3: L | MR3: GS | MS3: GA | MT3: Diff | MU3: P | MV3: Sdif | MW3: SGS | MX3: Koef | MY3: Pts | MZ3: R | NA3: GD | NB3: GS | NC3: Sdiff | ND3: SGS | NE3: Koef | NF3: FR | NH3: Team | NI3: W | NJ3: D | NK3: L | NL3: GS | NM3: GA | NN3: Diff | NO3: P | NP3: Sdif | NQ3: SGS | NR3: Koef | NS3: Pts | NT3: R | NU3: GD | NV3: GS | NW3: Sdiff | NX3: SGS | NY3: Koef | NZ3: FR | OB3: Team | OC3: W | OD3: D | OE3: L | OF3: GS | OG3: GA | OH3: Diff | OI3: P | OJ3: Sdif | OK3: SGS | OL3: Koef | OM3: Pts | ON3: R | OO3: GD | OP3: GS | OQ3: Sdif | OR3: SGS | OS3: Koef | OT3: FR | OV3: Team | OW3: W | OX3: D | OY3: L | OZ3: GS | PA3: GA | PB3: Diff | PC3: P | PD3: Sdif | PE3: SGS | PF3: Koef | PG3: Pts | PH3: R | PI3: GD | PJ3: GS | PK3: Sdif | PL3: SGS | PM3: Koef | PN3: FR | PR3: 1 | PS3: =LM3 -> Switzerland | PT3: =IF(OFFSET('Game Board'!O8,0,PT1)<>"",OFFSET('Game Board'!O8,0,PT1),0) -> 0 | PU3: =IF(OFFSET('Game Board'!P8,0,PT1)<>"",OFFSET('Game Board'!P8,0,PT1),0) -> 0 | PV3: =LP3 -> Norway | PW3: =IF(AND(OFFSET('Game Board'!O8,0,PT1)<>"",OFFSET('Game Board'!P8,0,PT1)<>""),IF(PT3>PU3,"W",IF(PT3=PU3,"D","L")),"") | PX3: =IF(PW3<>"",IF(PW3="W","L",IF(PW3="L","W","D")),"") | QB3: W | QC3: D | QD3: L | QE3: GS | QF3: GA | QG3: Diff | QH3: Points | QI3: Rank | QJ3: rankall points | QL3: rerank | QO3: rank 1 | QP3: rank 2 | QQ3: rank 3 | QR3: rank 4 | QT3: Team | QU3: W | QV3: D | QW3: L | QX3: GS | QY3: GA | QZ3: Diff | RA3: P | RB3: Sdif | RC3: SGS | RD3: Koef | RE3: Pts | RF3: R | RG3: GD | RH3: GS | RI3: Sdiff | RJ3: SGS | RK3: Koef | RL3: FR | RN3: Team | RO3: W | RP3: D | RQ3: L | RR3: GS | RS3: GA | RT3: Diff | RU3: P | RV3: Sdif | RW3: SGS | RX3: Koef | RY3: Pts | RZ3: R | SA3: GD | SB3: GS | SC3: Sdiff | SD3: SGS | SE3: Koef | SF3: FR | SH3: Team | SI3: W | SJ3: D | SK3: L | SL3: GS | SM3: GA | SN3: Diff | SO3: P | SP3: Sdif | SQ3: SGS | SR3: Koef | SS3: Pts | ST3: R | SU3: GD | SV3: GS | SW3: Sdif | SX3: SGS | SY3: Koef | SZ3: FR | TB3: Team | TC3: W | TD3: D | TE3: L | TF3: GS | TG3: GA | TH3: Diff | TI3: P | TJ3: Sdif | TK3: SGS | TL3: Koef | TM3: Pts | TN3: R | TO3: GD | TP3: GS | TQ3: Sdif | TR3: SGS | TS3: Koef | TT3: FR | TX3: 1 | TY3: =PS3 -> Switzerland | TZ3: =IF(OFFSET('Game Board'!O8,0,TZ1)<>"",OFFSET('Game Board'!O8,0,TZ1),0) -> 0 | UA3: =IF(OFFSET('Game Board'!P8,0,TZ1)<>"",OFFSET('Game Board'!P8,0,TZ1),0) -> 0 | UB3: =PV3 -> Norway | UC3: =IF(AND(OFFSET('Game Board'!O8,0,TZ1)<>"",OFFSET('Game Board'!P8,0,TZ1)<>""),IF(TZ3>UA3,"W",IF(TZ3=UA3,"D","L")),"") | UD3: =IF(UC3<>"",IF(UC3="W","L",IF(UC3="L","W","D")),"") | UH3: W | UI3: D | UJ3: L | UK3: GS | UL3: GA | UM3: Diff | UN3: Points | UO3: Rank | UP3: rankall points | UR3: rerank | UU3: rank 1 | UV3: rank 2 | UW3: rank 3 | UX3: rank 4 | UZ3: Team | VA3: W | VB3: D | VC3: L | VD3: GS | VE3: GA | VF3: Diff | VG3: P | VH3: Sdif | VI3: SGS | VJ3: Koef | VK3: Pts | VL3: R | VM3: GD | VN3: GS | VO3: Sdiff | VP3: SGS | VQ3: Koef | VR3: FR | VT3: Team | VU3: W | VV3: D | VW3: L | VX3: GS | VY3: GA | VZ3: Diff | WA3: P | WB3: Sdif | WC3: SGS | WD3: Koef | WE3: Pts | WF3: R | WG3: GD | WH3: GS | WI3: Sdiff | WJ3: SGS | WK3: Koef | WL3: FR | WN3: Team | WO3: W | WP3: D | WQ3: L | WR3: GS | WS3: GA | WT3: Diff | WU3: P | WV3: Sdif | WW3: SGS | WX3: Koef | WY3: Pts | WZ3: R | XA3: GD | XB3: GS | XC3: Sdif | XD3: SGS | XE3: Koef | XF3: FR | XH3: Team | XI3: W | XJ3: D | XK3: L | XL3: GS | XM3: GA | XN3: Diff | XO3: P | XP3: Sdif | XQ3: SGS | XR3: Koef | XS3: Pts | XT3: R | XU3: GD | XV3: GS | XW3: Sdif | XX3: SGS | XY3: Koef | XZ3: FR | YD3: 1 | YE3: =TY3 -> Switzerland | YF3: =IF(OFFSET('Game Board'!O8,0,YF1)<>"",OFFSET('Game Board'!O8,0,YF1),0) -> 0 | YG3: =IF(OFFSET('Game Board'!P8,0,YF1)<>"",OFFSET('Game Board'!P8,0,YF1),0) -> 0 | YH3: =UB3 -> Norway | YI3: =IF(AND(OFFSET('Game Board'!O8,0,YF1)<>"",OFFSET('Game Board'!P8,0,YF1)<>""),IF(YF3>YG3,"W",IF(YF3=YG3,"D","L")),"") | YJ3: =IF(YI3<>"",IF(YI3="W","L",IF(YI3="L","W","D")),"") | YN3: W | YO3: D | YP3: L | YQ3: GS | YR3: GA | YS3: Diff | YT3: Points | YU3: Rank | YV3: rankall points | YX3: rerank | ZA3: rank 1 | ZB3: rank 2 | ZC3: rank 3 | ZD3: rank 4 | ZF3: Team | ZG3: W | ZH3: D | ZI3: L | ZJ3: GS | ZK3: GA | ZL3: Diff | ZM3: P | ZN3: Sdif | ZO3: SGS | ZP3: Koef | ZQ3: Pts | ZR3: R | ZS3: GD | ZT3: GS | ZU3: Sdiff | ZV3: SGS | ZW3: Koef | ZX3: FR | ZZ3: Team | AAA3: W | AAB3: D | AAC3: L | AAD3: GS | AAE3: GA | AAF3: Diff | AAG3: P | AAH3: Sdif | AAI3: SGS | AAJ3: Koef | AAK3: Pts | AAL3: R | AAM3: GD | AAN3: GS | AAO3: Sdiff | AAP3: SGS | AAQ3: Koef | AAR3: FR | AAT3: Team | AAU3: W | AAV3: D | AAW3: L | AAX3: GS | AAY3: GA | AAZ3: Diff | ABA3: P | ABB3: Sdif | ABC3: SGS | ABD3: Koef | ABE3: Pts | ABF3: R | ABG3: GD | ABH3: GS | ABI3: Sdif | ABJ3: SGS | ABK3: Koef | ABL3: FR | ABN3: Team | ABO3: W | ABP3: D | ABQ3: L | ABR3: GS | ABS3: GA | ABT3: Diff | ABU3: P | ABV3: Sdif | ABW3: SGS | ABX3: Koef | ABY3: Pts | ABZ3: R | ACA3: GD | ACB3: GS | ACC3: Sdif | ACD3: SGS | ACE3: Koef | ACF3: FR | ACJ3: 1 | ACK3: =YE3 -> Switzerland | ACL3: =IF(OFFSET('Game Board'!O8,0,ACL1)<>"",OFFSET('Game Board'!O8,0,ACL1),0) -> 0 | ACM3: =IF(OFFSET('Game Board'!P8,0,ACL1)<>"",OFFSET('Game Board'!P8,0,ACL1),0) -> 0 | ACN3: =YH3 -> Norway | ACO3: =IF(AND(OFFSET('Game Board'!O8,0,ACL1)<>"",OFFSET('Game Board'!P8,0,ACL1)<>""),IF(ACL3>ACM3,"W",IF(ACL3=ACM3,"D","L")),"") | ACP3: =IF(ACO3<>"",IF(ACO3="W","L",IF(ACO3="L","W","D")),"") | ACT3: W | ACU3: D | ACV3: L | ACW3: GS | ACX3: GA | ACY3: Diff | ACZ3: Points | ADA3: Rank | ADB3: rankall points | ADD3: rerank | ADG3: rank 1 | ADH3: rank 2 | ADI3: rank 3 | ADJ3: rank 4 | ADL3: Team | ADM3: W | ADN3: D | ADO3: L | ADP3: GS | ADQ3: GA | ADR3: Diff | ADS3: P | ADT3: Sdif | ADU3: SGS | ADV3: Koef | ADW3: Pts | ADX3: R | ADY3: GD | ADZ3: GS | AEA3: Sdiff | AEB3: SGS | AEC3: Koef | AED3: FR | AEF3: Team | AEG3: W | AEH3: D | AEI3: L | AEJ3: GS | AEK3: GA | AEL3: Diff | AEM3: P | AEN3: Sdif | AEO3: SGS | AEP3: Koef | AEQ3: Pts | AER3: R | AES3: GD | AET3: GS | AEU3: Sdiff | AEV3: SGS | AEW3: Koef | AEX3: FR | AEZ3: Team | AFA3: W | AFB3: D | AFC3: L | AFD3: GS | AFE3: GA | AFF3: Diff | AFG3: P | AFH3: Sdif | AFI3: SGS | AFJ3: Koef | AFK3: Pts | AFL3: R | AFM3: GD | AFN3: GS | AFO3: Sdif | AFP3: SGS | AFQ3: Koef | AFR3: FR | AFT3: Team | AFU3: W | AFV3: D | AFW3: L | AFX3: GS | AFY3: GA | AFZ3: Diff | AGA3: P | AGB3: Sdif | AGC3: SGS | AGD3: Koef | AGE3: Pts | AGF3: R | AGG3: GD | AGH3: GS | AGI3: Sdif | AGJ3: SGS | AGK3: Koef | AGL3: FR | AGP3: 1 | AGQ3: =ACK3 -> Switzerland | AGR3: =IF(OFFSET('Game Board'!O8,0,AGR1)<>"",OFFSET('Game Board'!O8,0,AGR1),0) -> 0 | AGS3: =IF(OFFSET('Game Board'!P8,0,AGR1)<>"",OFFSET('Game Board'!P8,0,AGR1),0) -> 0 | AGT3: =ACN3 -> Norway | AGU3: =IF(AND(OFFSET('Game Board'!O8,0,AGR1)<>"",OFFSET('Game Board'!P8,0,AGR1)<>""),IF(AGR3>AGS3,"W",IF(AGR3=AGS3,"D","L")),"") | AGV3: =IF(AGU3<>"",IF(AGU3="W","L",IF(AGU3="L","W","D")),"") | AGZ3: W | AHA3: D | AHB3: L | AHC3: GS | AHD3: GA | AHE3: Diff | AHF3: Points | AHG3: Rank | AHH3: rankall points | AHJ3: rerank | AHM3: rank 1 | AHN3: rank 2 | AHO3: rank 3 | AHP3: rank 4 | AHR3: Team | AHS3: W | AHT3: D | AHU3: L | AHV3: GS | AHW3: GA | AHX3: Diff | AHY3: P | AHZ3: Sdif | AIA3: SGS | AIB3: Koef | AIC3: Pts | AID3: R | AIE3: GD | AIF3: GS | AIG3: Sdiff | AIH3: SGS | AII3: Koef | AIJ3: FR | AIL3: Team | AIM3: W | AIN3: D | AIO3: L | AIP3: GS | AIQ3: GA | AIR3: Diff | AIS3: P | AIT3: Sdif | AIU3: SGS | AIV3: Koef | AIW3: Pts | AIX3: R | AIY3: GD | AIZ3: GS | AJA3: Sdiff | AJB3: SGS | AJC3: Koef | AJD3: FR | AJF3: Team | AJG3: W | AJH3: D | AJI3: L | AJJ3: GS | AJK3: GA | AJL3: Diff | AJM3: P | AJN3: Sdif | AJO3: SGS | AJP3: Koef | AJQ3: Pts | AJR3: R | AJS3: GD | AJT3: GS | AJU3: Sdif | AJV3: SGS | AJW3: Koef | AJX3: FR | AJZ3: Team | AKA3: W | AKB3: D | AKC3: L | AKD3: GS | AKE3: GA | AKF3: Diff | AKG3: P | AKH3: Sdif | AKI3: SGS | AKJ3: Koef | AKK3: Pts | AKL3: R | AKM3: GD | AKN3: GS | AKO3: Sdif | AKP3: SGS | AKQ3: Koef | AKR3: FR | AKV3: 1 | AKW3: =AGQ3 -> Switzerland | AKX3: =IF(OFFSET('Game Board'!O8,0,AKX1)<>"",OFFSET('Game Board'!O8,0,AKX1),0) -> 0 | AKY3: =IF(OFFSET('Game Board'!P8,0,AKX1)<>"",OFFSET('Game Board'!P8,0,AKX1),0) -> 0 | AKZ3: =AGT3 -> Norway | ALA3: =IF(AND(OFFSET('Game Board'!O8,0,AKX1)<>"",OFFSET('Game Board'!P8,0,AKX1)<>""),IF(AKX3>AKY3,"W",IF(AKX3=AKY3,"D","L")),"") | ALB3: =IF(ALA3<>"",IF(ALA3="W","L",IF(ALA3="L","W","D")),"") | ALF3: W | ALG3: D | ALH3: L | ALI3: GS | ALJ3: GA | ALK3: Diff | ALL3: Points | ALM3: Rank | ALN3: rankall points | ALP3: rerank | ALS3: rank 1 | ALT3: rank 2 | ALU3: rank 3 | ALV3: rank 4 | ALX3: Team | ALY3: W | ALZ3: D | AMA3: L | AMB3: GS | AMC3: GA | AMD3: Diff | AME3: P | AMF3: Sdif | AMG3: SGS | AMH3: Koef | AMI3: Pts | AMJ3: R | AMK3: GD | AML3: GS | AMM3: Sdiff | AMN3: SGS | AMO3: Koef | AMP3: FR | AMR3: Team | AMS3: W | AMT3: D | AMU3: L | AMV3: GS | AMW3: GA | AMX3: Diff | AMY3: P | AMZ3: Sdif | ANA3: SGS | ANB3: Koef | ANC3: Pts | AND3: R | ANE3: GD | ANF3: GS | ANG3: Sdiff | ANH3: SGS | ANI3: Koef | ANJ3: FR | ANL3: Team | ANM3: W | ANN3: D | ANO3: L | ANP3: GS | ANQ3: GA | ANR3: Diff | ANS3: P | ANT3: Sdif | ANU3: SGS | ANV3: Koef | ANW3: Pts | ANX3: R | ANY3: GD | ANZ3: GS | AOA3: Sdif | AOB3: SGS | AOC3: Koef | AOD3: FR | AOF3: Team | AOG3: W | AOH3: D | AOI3: L | AOJ3: GS | AOK3: GA | AOL3: Diff | AOM3: P | AON3: Sdif | AOO3: SGS | AOP3: Koef | AOQ3: Pts | AOR3: R | AOS3: GD | AOT3: GS | AOU3: Sdif | AOV3: SGS | AOW3: Koef | AOX3: FR | APB3: 1 | APC3: =AKW3 -> Switzerland | APD3: =IF(OFFSET('Game Board'!O8,0,APD1)<>"",OFFSET('Game Board'!O8,0,APD1),0) -> 0 | APE3: =IF(OFFSET('Game Board'!P8,0,APD1)<>"",OFFSET('Game Board'!P8,0,APD1),0) -> 0 | APF3: =AKZ3 -> Norway | APG3: =IF(AND(OFFSET('Game Board'!O8,0,APD1)<>"",OFFSET('Game Board'!P8,0,APD1)<>""),IF(APD3>APE3,"W",IF(APD3=APE3,"D","L")),"") | APH3: =IF(APG3<>"",IF(APG3="W","L",IF(APG3="L","W","D")),"") | APL3: W | APM3: D | APN3: L | APO3: GS | APP3: GA | APQ3: Diff | APR3: Points | APS3: Rank | APT3: rankall points | APV3: rerank | APY3: rank 1 | APZ3: rank 2 | AQA3: rank 3 | AQB3: rank 4 | AQD3: Team | AQE3: W | AQF3: D | AQG3: L | AQH3: GS | AQI3: GA | AQJ3: Diff | AQK3: P | AQL3: Sdif | AQM3: SGS | AQN3: Koef | AQO3: Pts | AQP3: R | AQQ3: GD | AQR3: GS | AQS3: Sdiff | AQT3: SGS | AQU3: Koef | AQV3: FR | AQX3: Team | AQY3: W | AQZ3: D | ARA3: L | ARB3: GS | ARC3: GA | ARD3: Diff | ARE3: P | ARF3: Sdif | ARG3: SGS | ARH3: Koef | ARI3: Pts | ARJ3: R | ARK3: GD | ARL3: GS | ARM3: Sdiff | ARN3: SGS | ARO3: Koef | ARP3: FR | ARR3: Team | ARS3: W | ART3: D | ARU3: L | ARV3: GS | ARW3: GA | ARX3: Diff | ARY3: P | ARZ3: Sdif | ASA3: SGS | ASB3: Koef | ASC3: Pts | ASD3: R | ASE3: GD | ASF3: GS | ASG3: Sdif | ASH3: SGS | ASI3: Koef | ASJ3: FR | ASL3: Team | ASM3: W | ASN3: D | ASO3: L | ASP3: GS | ASQ3: GA | ASR3: Diff | ASS3: P | AST3: Sdif | ASU3: SGS | ASV3: Koef | ASW3: Pts | ASX3: R | ASY3: GD | ASZ3: GS | ATA3: Sdif | ATB3: SGS | ATC3: Koef | ATD3: FR | ATH3: 1 | ATI3: =APC3 -> Switzerland | ATJ3: =IF(ATI2<>"",IF(OFFSET('Game Board'!O8,0,ATJ1)<>"",OFFSET('Game Board'!O8,0,ATJ1),0),"") -> 0 | ATK3: =IF(ATI2<>"",IF(OFFSET('Game Board'!P8,0,ATJ1)<>"",OFFSET('Game Board'!P8,0,ATJ1),0),"") -> 0 | ATL3: =APF3 -> Norway | ATM3: =IF(AND(OFFSET('Game Board'!O8,0,ATJ1)<>"",OFFSET('Game Board'!P8,0,ATJ1)<>""),IF(ATJ3>ATK3,"W",IF(ATJ3=ATK3,"D","L")),"") | ATN3: =IF(ATM3<>"",IF(ATM3="W","L",IF(ATM3="L","W","D")),"")
