Workbook
Name about: About!$A$1
Name BestPlayer: 'Best Player | Top Scorer Table'!$C$6:$C$16
Name Bonu1: 'Game Setup'!$E$31
Name Bonu11: 'Game Setup'!$E$47
Name Bonu12: 'Game Setup'!$E$52
Name Bonu13: 'Game Setup'!$E$56
Name Bonu14: 'Game Setup'!$E$59
Name Bonu15: 'Game Setup'!$E$60
Name Bonu16: 'Game Setup'!$E$61
Name Bonu17: 'Game Setup'!$E$62
Name Bonu2: 'Game Setup'!$E$32
Name Bonu3: 'Game Setup'!$E$33
Name Bonu4: 'Game Setup'!$E$34
Name Bonu5: 'Game Setup'!$E$35
Name Bonu6: 'Game Setup'!#REF!
Name Bonu7: 'Game Setup'!#REF!
Name Bonu8: 'Game Setup'!#REF!
Name Bonu9: 'Game Setup'!$E$46
Name BonuC1: 'Game Setup'!$E$48
Name BonuC2: 'Game Setup'!$E$49
Name BonuC3: 'Game Setup'!$E$50
Name BonuC4: 'Game Setup'!$E$51
Name BonuQF1: 'Game Setup'!$E$44
Name BonuQF2: 'Game Setup'!$E$45
Name BonuQQF1: 'Game Setup'!$E$37
Name BonuQQF2: 'Game Setup'!$E$38
Name BonuQQF3: 'Game Setup'!$E$39
Name BonuQSF1: 'Game Setup'!$E$41
Name BonuQSF2: 'Game Setup'!$E$42
Name BonuRU1: 'Game Setup'!$E$53
Name BonuRU2: 'Game Setup'!$E$54
Name BonuRU3: 'Game Setup'!$E$55
Name BonuSF1: 'Game Setup'!$E$57
Name BonuSF2: 'Game Setup'!$E$58
Name Champ: 'Game Board'!$G$52
Name Fina1: 'Game Setup'!$H$20
Name Fina2: 'Game Setup'!$H$21
Name Fina3: 'Game Setup'!$H$22
Name KOMatchRule: 'Game Setup'!$A$15
Name KOPSO: 'Game Setup'!$A$16
Name KOTeam3: 'Game Board'!$F$44:$I$49
Name KOTeams: 'Game Board'!$F$44:$I$50
Name KOTeamsF: 'Game Board'!$D$40:$D$41
Name KOTeamsQF: 'Game Board'!$C$36:$C$43
Name KOTeamsSF: 'Game Board'!$D$36:$D$39
Name Last5List: Scoreboard!$N$1:$AR$1
Name last5max: 'Game Board'!$A$6
Name ParticipantList: 'Participant Setup'!$C$6:$C$15
Name Pena1: 'Game Setup'!$E$25
Name Pena2: 'Game Setup'!$E$26
Name Pena3: 'Game Setup'!$E$27
Name Pool1: 'Game Setup'!$E$8
Name Pool2: 'Game Setup'!$E$9
Name Pool3: 'Game Setup'!$E$10
Name Qualified: 'Game Board'!$B$44:$B$51
Name Quar1: 'Game Setup'!$F$20
Name Quar2: 'Game Setup'!$F$21
Name Quar3: 'Game Setup'!$F$22
Name Round1: 'Game Setup'!$E$20
Name Round2: 'Game Setup'!$E$21

Sheet Game Setup
B3: WOMEN'S EURO 2025 PREDICTOR GAME | E3: CLICK HERE FOR MORE PAID INFORMATION
B5: ⚫ GROUP STAGES Point System
B7: PREDICTED CORRECTLY | E7: POINT | M7: Setup Video
B8: 1 | C8: Match Result and Goal Scores | D8: ▶ | E8: 6 | M8: https://youtu.be/we2Ez3aBDEM | N8: (It uses World Cup 2022 model. Several regulations might be different)
B9: 2 | C9: Match Result and Goal Differences | D9: ▶ | E9: 4 | M9: Group Stages Point Illustration (written illustration is also available in attached pdf file included in file package)
B10: 3 | C10: Match Result Only | D10: ▶ | E10: 4 | M10: https://youtu.be/MIx_CFNWDYI | N10: (It uses World Cup 2022 model. Several regulations might be different)
B12: ⚫ KNOCK OUT ROUNDS Game Scenario and Point System
B14: ● KNOCK OUT ROUNDS Game Scenario
A15: =IF(E15="Tournament's Actual Results",1,0) -> 1 | B15: SELECT Knock Out Rounds Pairing Team Scenario (ACTUAL or PREDICTION MATCHES) | D15: ▶ | E15: Tournament's Actual Results | L15: ◄ | M15: Make sure you select the right game scenario for your game
A16: =IF(E16="Included",1,0) -> 1 | B16: SELECT Penalty Shoot Out Point System (INCLUDED or NOT INCLUDED) | D16: ▶ | E16: Included
B18: ● KNOCK OUT ROUNDS Point System
B19: PREDICTED CORRECTLY in FULL TIME (NORMAL TIME + EXTRA TIME) | E19: R16 | F19: QF | G19: SF | H19: FINAL | M19: KO Rounds Point Illustration (written illustration is also available in attached pdf file included in file package)
B20: 1 | C20: Match Result and Goal Scores | D20: ▶ | E20: 12 | F20: 24 | G20: 48 | H20: 96 | M20: https://youtu.be/LCA6g7GNXMs | N20: (It uses World Cup 2022 model. Several regulations might be different)
B21: 2 | C21: Match Result and Goal Differences | D21: ▶ | E21: 8 | F21: 16 | G21: 32 | H21: 64
B22: 3 | C22: Match Result Only | D22: ▶ | E22: 6 | F22: 12 | G22: 24 | H22: 48
B24: PREDICTED CORRECTLY (PENALTY SHOOT OUT in ALL KNOCK OUT ROUNDS) | E24: POINT
B25: 1 | C25: Match Result and Goal Scores | D25: ▶ | E25: 6 | F25: =IF(KOPSO=0,"◄ Not Applied in Your Selected Game Scenario","")
B26: 2 | C26: Match Result and Goal Differences | D26: ▶ | E26: 4 | F26: =IF(KOPSO=0,"◄ Not Applied in Your Selected Game Scenario","")
B27: 3 | C27: Match Result Only | D27: ▶ | E27: 2 | F27: =IF(KOPSO=0,"◄ Not Applied in Your Selected Game Scenario","")
B29: ⚫ BONUS Point System
B30: PREDICTED CORRECTLY | E30: POINT | M30: Bonus Point Illustration (written illustration is also available in attached pdf file included in file package)
B31: 1 | C31: Group Winner and Runner Up | D31: ▶ | E31: 24 | M31: https://youtu.be/vbGfXFC3rLk
B32: 2 | C32: Group Winner only | D32: ▶ | E32: 12
B33: 3 | C33: Group Runner Up only | D33: ▶ | E33: 12
B34: 4 | C34: Qualified 2 teams (swapped group position) | D34: ▶ | E34: 8
B35: 5 | C35: Qualified 1 team only (incorrect group position) | D35: ▶ | E35: 6
B36: 6 | C36: # of Qualified Teams in Quarter Finals
C37: 8 teams | E37: 8
C38: 5 - 7 teams | E38: 4
C39: 2 - 4 teams | E39: 2
B40: 7 | C40: # of Qualified Teams in Semi Finals | F40: AVAILABLE IN PAID VERSION ONLY
C41: 4 teams | E41: 8
C42: 2 - 3 teams | E42: 4
B43: 8 | C43: # of Qualified Teams in Final
C44: 2 Teams | E44: 8
C45: 1 Teams | E45: 4
B46: 9 | C46: Bracket Pairing Matches | D46: ▶ | E46: 16
B47: 10 | C47: Champion of Tournament (Sum of points from each rounds) | E47: =SUM(E48:E51) -> 90
C48: Win at Round of 16 | D48: ▶ | E48: 6
C49: Win at Quarter Finals | D49: ▶ | E49: 12
C50: Win at Semi Finals | D50: ▶ | E50: 24
C51: Win at Final | D51: ▶ | E51: 48
B52: 11 | C52: Tournament Runner Up (Sum of points from each rounds) | E52: =SUM(E53:E55) -> 42
C53: Win at Round of 16 | D53: ▶ | E53: 6
C54: Win at Quarter Finals | D54: ▶ | E54: 12
C55: Win at Semi Finals | D55: ▶ | E55: 24
B56: 12 | C56: Tournament Semifinalists (2 Teams) | E56: =SUM(E57:E58) -> 18
C57: Win at Round of 16 | E57: 6
C58: Win at Quarter Finals | E58: 12
B59: 13 | C59: Best Player | D59: ▶ | E59: 24
B60: 14 | C60: Top Scorer | D60: ▶ | E60: 24
B61: 15 | C61: Match Winner (Based on Full Time + Penalty Shoot Out Result) | D61: ▶ | E61: 6
B64: ⚫ LEADERBOARD REGULATION
B66: All players will be ranked by
B67: ❶ | C67: Higher total points (match + bonus points)
B68: ❷ | C68: Higher total correct prediction
B69: ❸ | C69: Higher total match points
B70: ❹ | C70: Entry order in player scoreboard table
B71: © 2025 | journalSHEET.com
B72: © 2025 | journalSHEET.com

Sheet Tournament Setup
B3: TOURNAMENT SETUP
B5: G | C5: No | D5: Team | E5: Fair Play Points | I5: ● You may translate team name to your language in column D. Retype other texts in Game Board worksheet to translate it to your language
B6: A | C6: 1 | D6: Switzerland | I6: Women's Euro 2025 Group Tiebreaker Policy
B7: A | C7: 2 | D7: Norway
B8: A | C8: 3 | D8: Iceland | K8: OFFICIAL | L8: GAME ACTUAL RESULTS | M8: GAME PREDICTION RESULTS
B9: A | C9: 4 | D9: Finland | I9: The ranking of teams in the group stage is determined as follows:
B10: B | C10: =C6 -> 1 | D10: Spain | I10: 1 | J10: Points obtained in all group matches; | K10: v | L10: v | M10: v
B11: B | C11: =C7 -> 2 | D11: Portugal | I11: 2 | J11: Points obtained in the matches played between the teams in question; | K11: v | L11: v | M11: v
B12: B | C12: =C8 -> 3 | D12: Belgium | I12: 3 | J12: Goal difference in the matches played between the teams in question; | K12: v | L12: v | M12: v
B13: B | C13: =C9 -> 4 | D13: Italy | I13: 4 | J13: Number of goals scored in the matches played between the teams in question; | K13: v | L13: v | M13: v
B14: C | C14: =C10 -> 1 | D14: Germany | I14: 5 | J14: If, after having applied criteria 1 to 3, teams still have an equal ranking, criteria 2 to 4 are reapplied exclusively to the matches between the teams who are still level to determine their final rankings.[a] If this procedure does not lead to a decision, criteria 6 to 9 will apply; | K14: v | L14: v | M14: v
B15: C | C15: =C11 -> 2 | D15: Poland | I15: 6 | J15: Goal difference in all group matches; | K15: v | L15: v | M15: v
B16: C | C16: =C12 -> 3 | D16: Denmark | I16: 7 | J16: Number of goals scored in all group matches; | K16: v | L16: v | M16: v
B17: C | C17: =C13 -> 4 | D17: Sweden | I17: 8 | J17: Fair play points in all group matches | K17: v | L17: v* | M17: x***
B18: D | C18: =C14 -> 1 | D18: France | J18: > Yellow card: −1 point;
B19: D | C19: =C15 -> 2 | D19: England | J19: > Indirect red card (second yellow card): −3 points;
B20: D | C20: =C16 -> 3 | D20: Wales | J20: > Direct red card: −4 points;
B21: D | C21: =C17 -> 4 | D21: Netherlands | J21: > Yellow card and direct red card: −5 points;
I22: 9 | J22: Drawing of lots. | K22: v | L22: x** | M22: x****
I24: NOTES
I26: * | J26: FILL FAIR PLAY POINTS between the teams concerned in COLUMN F to differentiate their standings. If it is leaved empty, they will be ranked based on FIFA World Ranking points
I27: ** | J27: If, it has to go through tie-breaker No 9 to decide group winner and runner up, you change it by overwriting it in Player Game Board table in cell F60:I67
I28: *** | J28: There is no needs to differentiate team standings based on fair play points. Players can adjust their prediction scores to get one team rank upper than the other.
I29: **** | J29: There is no needs to differentiate team standings based on drawing of lots. Players can adjust their prediction scores to get one team rank upper than the other.

Sheet Dummy
B1: 1 | AH1: Rule | DH1: =B1+1 -> 2 | EN1: Rule | HH1: 0 | HN1: =DH1+1 -> 3 | IT1: Rule | LN1: 0 | LT1: =HN1+1 -> 4 | MZ1: Rule | PT1: 0 | PZ1: =LT1+1 -> 5 | RF1: Rule | TZ1: 0 | UF1: =PZ1+1 -> 6 | VL1: Rule | YF1: 0 | YL1: =UF1+1 -> 7 | ZR1: Rule | ACL1: 0 | ACR1: =YL1+1 -> 8 | ADX1: Rule | AGR1: 0 | AGX1: =ACR1+1 -> 9 | AID1: Rule | AKX1: 0 | ALD1: =AGX1+1 -> 10 | AMJ1: Rule | APD1: 0 | APJ1: =ALD1+1 -> 11 | AQP1: Rule | ATJ1: 0
V2: table rank 1 | AH2: 1 | AI2: 2 | AJ2: 3 | AK2: 5 | AL2: 6 | AM2: 9 | AP2: table rank 2 | BJ2: table rank 3 | CD2: table rank 4 | DA2: =INDEX('Game Board'!E8:E56,MATCH(32,'Game Board'!C8:C56,0),0) -> 0 | DB2: GS | DC2: GA | EB2: table rank 1 | EN2: 1 | EO2: 2 | EP2: 3 | EQ2: 5 | ER2: 6 | ES2: 9 | EV2: table rank 2 | FP2: table rank 3 | GJ2: table rank 4 | HH2: GS | HI2: GA | IH2: table rank 1 | IT2: 1 | IU2: 2 | IV2: 3 | IW2: 5 | IX2: 6 | IY2: 9 | JB2: table rank 2 | JV2: table rank 3 | KP2: table rank 4 | LN2: GS | LO2: GA | MN2: table rank 1 | MZ2: 1 | NA2: 2 | NB2: 3 | NC2: 5 | ND2: 6 | NE2: 9 | NH2: table rank 2 | OB2: table rank 3 | OV2: table rank 4 | PT2: GS | PU2: GA | QT2: table rank 1 | RF2: 1 | RG2: 2 | RH2: 3 | RI2: 5 | RJ2: 6 | RK2: 9 | RN2: table rank 2 | SH2: table rank 3 | TB2: table rank 4 | TZ2: GS | UA2: GA | UZ2: table rank 1 | VL2: 1 | VM2: 2 | VN2: 3 | VO2: 5 | VP2: 6 | VQ2: 9 | VT2: table rank 2 | WN2: table rank 3 | XH2: table rank 4 | YF2: GS | YG2: GA | ZF2: table rank 1 | ZR2: 1 | ZS2: 2 | ZT2: 3 | ZU2: 5 | ZV2: 6 | ZW2: 9 | ZZ2: table rank 2 | AAT2: table rank 3 | ABN2: table rank 4 | ACL2: GS | ACM2: GA | ADL2: table rank 1 | ADX2: 1 | ADY2: 2 | ADZ2: 3 | AEA2: 5 | AEB2: 6 | AEC2: 9 | AEF2: table rank 2 | AEZ2: table rank 3 | AFT2: table rank 4 | AGR2: GS | AGS2: GA | AHR2: table rank 1 | AID2: 1 | AIE2: 2 | AIF2: 3 | AIG2: 5 | AIH2: 6 | AII2: 9 | AIL2: table rank 2 | AJF2: table rank 3 | AJZ2: table rank 4 | AKX2: GS | AKY2: GA | ALX2: table rank 1 | AMJ2: 1 | AMK2: 2 | AML2: 3 | AMM2: 5 | AMN2: 6 | AMO2: 9 | AMR2: table rank 2 | ANL2: table rank 3 | AOF2: table rank 4 | APD2: GS | APE2: GA | AQD2: table rank 1 | AQP2: 1 | AQQ2: 2 | AQR2: 3 | AQS2: 5 | AQT2: 6 | AQU2: 9 | AQX2: table rank 2 | ARR2: table rank 3 | ASL2: table rank 4 | ATI2: =INDEX('Game Board'!E8:E56,MATCH(32,'Game Board'!C8:C56,0),0) -> 0 | ATJ2: GS | ATK2: GA
D3: W | E3: D | F3: L | G3: GS | H3: GA | I3: Diff | J3: Points | K3: Rank | L3: rankall points | N3: rerank | Q3: rank 1 | R3: rank 2 | S3: rank 3 | T3: rank 4 | V3: Team | W3: W | X3: D | Y3: L | Z3: GS | AA3: GA | AB3: Diff | AC3: P | AD3: Sdif | AE3: SGS | AF3: Koef | AG3: Pts | AH3: R | AI3: GD | AJ3: GS | AK3: Sdiff | AL3: SGS | AM3: Koef | AN3: FR | AP3: Team | AQ3: W | AR3: D | AS3: L | AT3: GS | AU3: GA | AV3: Diff | AW3: P | AX3: Sdif | AY3: SGS | AZ3: Koef | BA3: Pts | BB3: R | BC3: GD | BD3: GS | BE3: Sdiff | BF3: SGS | BG3: Koef | BH3: FR | BJ3: Team | BK3: W | BL3: D | BM3: L | BN3: GS | BO3: GA | BP3: Diff | BQ3: P | BR3: Sdif | BS3: SGS | BT3: Koef | BU3: Pts | BV3: R | BW3: GD | BX3: GS | BY3: Sdif | BZ3: SGS | CA3: Koef | CB3: FR | CD3: Team | CE3: W | CF3: D | CG3: L | CH3: GS | CI3: GA | CJ3: Diff | CK3: P | CL3: Sdif | CM3: SGS | CN3: Koef | CO3: Pts | CP3: R | CQ3: GD | CR3: GS | CS3: Sdif | CT3: SGS | CU3: Koef | CV3: FR | CZ3: 1 | DA3: ='Game Board'!F8 -> Switzerland | DB3: =IF(DA2<>"",IF(AND('Game Board'!G8<>"",'Game Board'!H8<>""),'Game Board'!G8,0),"") -> 0 | DC3: =IF(DA2<>"",IF(AND('Game Board'!G8<>"",'Game Board'!H8<>""),'Game Board'!H8,0),"") -> 0 | DD3: ='Game Board'!I8 -> Norway | DE3: =IF(AND('Game Board'!G8<>"",'Game Board'!H8<>""),IF(DB3>DC3,"W",IF(DB3=DC3,"D","L")),"") | DF3: =IF(DE3<>"",IF(DE3="W","L",IF(DE3="L","W","D")),"") | DJ3: W | DK3: D | DL3: L | DM3: GS | DN3: GA | DO3: Diff | DP3: Points | DQ3: Rank | DR3: rankall points | DT3: rerank | DW3: rank 1 | DX3: rank 2 | DY3: rank 3 | DZ3: rank 4 | EB3: Team | EC3: W | ED3: D | EE3: L | EF3: GS | EG3: GA | EH3: Diff | EI3: P | EJ3: Sdif | EK3: SGS | EL3: Koef | EM3: Pts | EN3: R | EO3: GD | EP3: GS | EQ3: Sdiff | ER3: SGS | ES3: Koef | ET3: FR | EV3: Team | EW3: W | EX3: D | EY3: L | EZ3: GS | FA3: GA | FB3: Diff | FC3: P | FD3: Sdif | FE3: SGS | FF3: Koef | FG3: Pts | FH3: R | FI3: GD | FJ3: GS | FK3: Sdiff | FL3: SGS | FM3: Koef | FN3: FR | FP3: Team | FQ3: W | FR3: D | FS3: L | FT3: GS | FU3: GA | FV3: Diff | FW3: P | FX3: Sdif | FY3: SGS | FZ3: Koef | GA3: Pts | GB3: R | GC3: GD | GD3: GS | GE3: Sdif | GF3: SGS | GG3: Koef | GH3: FR | GJ3: Team | GK3: W | GL3: D | GM3: L | GN3: GS | GO3: GA | GP3: Diff | GQ3: P | GR3: Sdif | GS3: SGS | GT3: Koef | GU3: Pts | GV3: R | GW3: GD | GX3: GS | GY3: Sdif | GZ3: SGS | HA3: Koef | HB3: FR | HF3: 1 | HG3: =DA3 -> Switzerland | HH3: =IF(OFFSET('Game Board'!O8,0,HH1)<>"",OFFSET('Game Board'!O8,0,HH1),0) -> 0 | HI3: =IF(OFFSET('Game Board'!P8,0,HH1)<>"",OFFSET('Game Board'!P8,0,HH1),0) -> 0 | HJ3: =DD3 -> Norway | HK3: =IF(AND(OFFSET('Game Board'!O8,0,HH1)<>"",OFFSET('Game Board'!P8,0,HH1)<>""),IF(HH3>HI3,"W",IF(HH3=HI3,"D","L")),"") | HL3: =IF(HK3<>"",IF(HK3="W","L",IF(HK3="L","W","D")),"") | HP3: W | HQ3: D | HR3: L | HS3: GS | HT3: GA | HU3: Diff | HV3: Points | HW3: Rank | HX3: rankall points | HZ3: rerank | IC3: rank 1 | ID3: rank 2 | IE3: rank 3 | IF3: rank 4 | IH3: Team | II3: W | IJ3: D | IK3: L | IL3: GS | IM3: GA | IN3: Diff | IO3: P | IP3: Sdif | IQ3: SGS | IR3: Koef | IS3: Pts | IT3: R | IU3: GD | IV3: GS | IW3: Sdiff | IX3: SGS | IY3: Koef | IZ3: FR | JB3: Team | JC3: W | JD3: D | JE3: L | JF3: GS | JG3: GA | JH3: Diff | JI3: P | JJ3: Sdif | JK3: SGS | JL3: Koef | JM3: Pts | JN3: R | JO3: GD | JP3: GS | JQ3: Sdiff | JR3: SGS | JS3: Koef | JT3: FR | JV3: Team | JW3: W | JX3: D | JY3: L | JZ3: GS | KA3: GA | KB3: Diff | KC3: P | KD3: Sdif | KE3: SGS | KF3: Koef | KG3: Pts | KH3: R | KI3: GD | KJ3: GS | KK3: Sdif | KL3: SGS | KM3: Koef | KN3: FR | KP3: Team | KQ3: W | KR3: D | KS3: L | KT3: GS | KU3: GA | KV3: Diff | KW3: P | KX3: Sdif | KY3: SGS | KZ3: Koef | LA3: Pts | LB3: R | LC3: GD | LD3: GS | LE3: Sdif | LF3: SGS | LG3: Koef | LH3: FR | LL3: 1 | LM3: =HG3 -> Switzerland | LN3: =IF(OFFSET('Game Board'!O8,0,LN1)<>"",OFFSET('Game Board'!O8,0,LN1),0) -> 0 | LO3: =IF(OFFSET('Game Board'!P8,0,LN1)<>"",OFFSET('Game Board'!P8,0,LN1),0) -> 0 | LP3: =HJ3 -> Norway | LQ3: =IF(AND(OFFSET('Game Board'!O8,0,LN1)<>"",OFFSET('Game Board'!P8,0,LN1)<>""),IF(LN3>LO3,"W",IF(LN3=LO3,"D","L")),"") | LR3: =IF(LQ3<>"",IF(LQ3="W","L",IF(LQ3="L","W","D")),"") | LV3: W | LW3: D | LX3: L | LY3: GS | LZ3: GA | MA3: Diff | MB3: Points | MC3: Rank | MD3: rankall points | MF3: rerank | MI3: rank 1 | MJ3: rank 2 | MK3: rank 3 | ML3: rank 4 | MN3: Team | MO3: W | MP3: D | MQ3: L | MR3: GS | MS3: GA | MT3: Diff | MU3: P | MV3: Sdif | MW3: SGS | MX3: Koef | MY3: Pts | MZ3: R | NA3: GD | NB3: GS | NC3: Sdiff | ND3: SGS | NE3: Koef | NF3: FR | NH3: Team | NI3: W | NJ3: D | NK3: L | NL3: GS | NM3: GA | NN3: Diff | NO3: P | NP3: Sdif | NQ3: SGS | NR3: Koef | NS3: Pts | NT3: R | NU3: GD | NV3: GS | NW3: Sdiff | NX3: SGS | NY3: Koef | NZ3: FR | OB3: Team | OC3: W | OD3: D | OE3: L | OF3: GS | OG3: GA | OH3: Diff | OI3: P | OJ3: Sdif | OK3: SGS | OL3: Koef | OM3: Pts | ON3: R | OO3: GD | OP3: GS | OQ3: Sdif | OR3: SGS | OS3: Koef | OT3: FR | OV3: Team | OW3: W | OX3: D | OY3: L | OZ3: GS | PA3: GA | PB3: Diff | PC3: P | PD3: Sdif | PE3: SGS | PF3: Koef | PG3: Pts | PH3: R | PI3: GD | PJ3: GS | PK3: Sdif | PL3: SGS | PM3: Koef | PN3: FR | PR3: 1 | PS3: =LM3 -> Switzerland | PT3: =IF(OFFSET('Game Board'!O8,0,PT1)<>"",OFFSET('Game Board'!O8,0,PT1),0) -> 0 | PU3: =IF(OFFSET('Game Board'!P8,0,PT1)<>"",OFFSET('Game Board'!P8,0,PT1),0) -> 0 | PV3: =LP3 -> Norway | PW3: =IF(AND(OFFSET('Game Board'!O8,0,PT1)<>"",OFFSET('Game Board'!P8,0,PT1)<>""),IF(PT3>PU3,"W",IF(PT3=PU3,"D","L")),"") | PX3: =IF(PW3<>"",IF(PW3="W","L",IF(PW3="L","W","D")),"") | QB3: W | QC3: D | QD3: L | QE3: GS | QF3: GA | QG3: Diff | QH3: Points | QI3: Rank | QJ3: rankall points | QL3: rerank | QO3: rank 1 | QP3: rank 2 | QQ3: rank 3 | QR3: rank 4 | QT3: Team | QU3: W | QV3: D | QW3: L | QX3: GS | QY3: GA | QZ3: Diff | RA3: P | RB3: Sdif | RC3: SGS | RD3: Koef | RE3: Pts | RF3: R | RG3: GD | RH3: GS | RI3: Sdiff | RJ3: SGS | RK3: Koef | RL3: FR | RN3: Team | RO3: W | RP3: D | RQ3: L | RR3: GS | RS3: GA | RT3: Diff | RU3: P | RV3: Sdif | RW3: SGS | RX3: Koef | RY3: Pts | RZ3: R | SA3: GD | SB3: GS | SC3: Sdiff | SD3: SGS | SE3: Koef | SF3: FR | SH3: Team | SI3: W | SJ3: D | SK3: L | SL3: GS | SM3: GA | SN3: Diff | SO3: P | SP3: Sdif | SQ3: SGS | SR3: Koef | SS3: Pts | ST3: R | SU3: GD | SV3: GS | SW3: Sdif | SX3: SGS | SY3: Koef | SZ3: FR | TB3: Team | TC3: W | TD3: D | TE3: L | TF3: GS | TG3: GA | TH3: Diff | TI3: P | TJ3: Sdif | TK3: SGS | TL3: Koef | TM3: Pts | TN3: R | TO3: GD | TP3: GS | TQ3: Sdif | TR3: SGS | TS3: Koef | TT3: FR | TX3: 1 | TY3: =PS3 -> Switzerland | TZ3: =IF(OFFSET('Game Board'!O8,0,TZ1)<>"",OFFSET('Game Board'!O8,0,TZ1),0) -> 0 | UA3: =IF(OFFSET('Game Board'!P8,0,TZ1)<>"",OFFSET('Game Board'!P8,0,TZ1),0) -> 0 | UB3: =PV3 -> Norway | UC3: =IF(AND(OFFSET('Game Board'!O8,0,TZ1)<>"",OFFSET('Game Board'!P8,0,TZ1)<>""),IF(TZ3>UA3,"W",IF(TZ3=UA3,"D","L")),"") | UD3: =IF(UC3<>"",IF(UC3="W","L",IF(UC3="L","W","D")),"") | UH3: W | UI3: D | UJ3: L | UK3: GS | UL3: GA | UM3: Diff | UN3: Points | UO3: Rank | UP3: rankall points | UR3: rerank | UU3: rank 1 | UV3: rank 2 | UW3: rank 3 | UX3: rank 4 | UZ3: Team | VA3: W | VB3: D | VC3: L | VD3: GS | VE3: GA | VF3: Diff | VG3: P | VH3: Sdif | VI3: SGS | VJ3: Koef | VK3: Pts | VL3: R | VM3: GD | VN3: GS | VO3: Sdiff | VP3: SGS | VQ3: Koef | VR3: FR | VT3: Team | VU3: W | VV3: D | VW3: L | VX3: GS | VY3: GA | VZ3: Diff | WA3: P | WB3: Sdif | WC3: SGS | WD3: Koef | WE3: Pts | WF3: R | WG3: GD | WH3: GS | WI3: Sdiff | WJ3: SGS | WK3: Koef | WL3: FR | WN3: Team | WO3: W | WP3: D | WQ3: L | WR3: GS | WS3: GA | WT3: Diff | WU3: P | WV3: Sdif | WW3: SGS | WX3: Koef | WY3: Pts | WZ3: R | XA3: GD | XB3: GS | XC3: Sdif | XD3: SGS | XE3: Koef | XF3: FR | XH3: Team | XI3: W | XJ3: D | XK3: L | XL3: GS | XM3: GA | XN3: Diff | XO3: P | XP3: Sdif | XQ3: SGS | XR3: Koef | XS3: Pts | XT3: R | XU3: GD | XV3: GS | XW3: Sdif | XX3: SGS | XY3: Koef | XZ3: FR | YD3: 1 | YE3: =TY3 -> Switzerland | YF3: =IF(OFFSET('Game Board'!O8,0,YF1)<>"",OFFSET('Game Board'!O8,0,YF1),0) -> 0 | YG3: =IF(OFFSET('Game Board'!P8,0,YF1)<>"",OFFSET('Game Board'!P8,0,YF1),0) -> 0 | YH3: =UB3 -> Norway | YI3: =IF(AND(OFFSET('Game Board'!O8,0,YF1)<>"",OFFSET('Game Board'!P8,0,YF1)<>""),IF(YF3>YG3,"W",IF(YF3=YG3,"D","L")),"") | YJ3: =IF(YI3<>"",IF(YI3="W","L",IF(YI3="L","W","D")),"") | YN3: W | YO3: D | YP3: L | YQ3: GS | YR3: GA | YS3: Diff | YT3: Points | YU3: Rank | YV3: rankall points | YX3: rerank | ZA3: rank 1 | ZB3: rank 2 | ZC3: rank 3 | ZD3: rank 4 | ZF3: Team | ZG3: W | ZH3: D | ZI3: L | ZJ3: GS | ZK3: GA | ZL3: Diff | ZM3: P | ZN3: Sdif | ZO3: SGS | ZP3: Koef | ZQ3: Pts | ZR3: R | ZS3: GD | ZT3: GS | ZU3: Sdiff | ZV3: SGS | ZW3: Koef | ZX3: FR | ZZ3: Team | AAA3: W | AAB3: D | AAC3: L | AAD3: GS | AAE3: GA | AAF3: Diff | AAG3: P | AAH3: Sdif | AAI3: SGS | AAJ3: Koef | AAK3: Pts | AAL3: R | AAM3: GD | AAN3: GS | AAO3: Sdiff | AAP3: SGS | AAQ3: Koef | AAR3: FR | AAT3: Team | AAU3: W | AAV3: D | AAW3: L | AAX3: GS | AAY3: GA | AAZ3: Diff | ABA3: P | ABB3: Sdif | ABC3: SGS | ABD3: Koef | ABE3: Pts | ABF3: R | ABG3: GD | ABH3: GS | ABI3: Sdif | ABJ3: SGS | ABK3: Koef | ABL3: FR | ABN3: Team | ABO3: W | ABP3: D | ABQ3: L | ABR3: GS | ABS3: GA | ABT3: Diff | ABU3: P | ABV3: Sdif | ABW3: SGS | ABX3: Koef | ABY3: Pts | ABZ3: R | ACA3: GD | ACB3: GS | ACC3: Sdif | ACD3: SGS | ACE3: Koef | ACF3: FR | ACJ3: 1 | ACK3: =YE3 -> Switzerland | ACL3: =IF(OFFSET('Game Board'!O8,0,ACL1)<>"",OFFSET('Game Board'!O8,0,ACL1),0) -> 0 | ACM3: =IF(OFFSET('Game Board'!P8,0,ACL1)<>"",OFFSET('Game Board'!P8,0,ACL1),0) -> 0 | ACN3: =YH3 -> Norway | ACO3: =IF(AND(OFFSET('Game Board'!O8,0,ACL1)<>"",OFFSET('Game Board'!P8,0,ACL1)<>""),IF(ACL3>ACM3,"W",IF(ACL3=ACM3,"D","L")),"") | ACP3: =IF(ACO3<>"",IF(ACO3="W","L",IF(ACO3="L","W","D")),"") | ACT3: W | ACU3: D | ACV3: L | ACW3: GS | ACX3: GA | ACY3: Diff | ACZ3: Points | ADA3: Rank | ADB3: rankall points | ADD3: rerank | ADG3: rank 1 | ADH3: rank 2 | ADI3: rank 3 | ADJ3: rank 4 | ADL3: Team | ADM3: W | ADN3: D | ADO3: L | ADP3: GS | ADQ3: GA | ADR3: Diff | ADS3: P | ADT3: Sdif | ADU3: SGS | ADV3: Koef | ADW3: Pts | ADX3: R | ADY3: GD | ADZ3: GS | AEA3: Sdiff | AEB3: SGS | AEC3: Koef | AED3: FR | AEF3: Team | AEG3: W | AEH3: D | AEI3: L | AEJ3: GS | AEK3: GA | AEL3: Diff | AEM3: P | AEN3: Sdif | AEO3: SGS | AEP3: Koef | AEQ3: Pts | AER3: R | AES3: GD | AET3: GS | AEU3: Sdiff | AEV3: SGS | AEW3: Koef | AEX3: FR | AEZ3: Team | AFA3: W | AFB3: D | AFC3: L | AFD3: GS | AFE3: GA | AFF3: Diff | AFG3: P | AFH3: Sdif | AFI3: SGS | AFJ3: Koef | AFK3: Pts | AFL3: R | AFM3: GD | AFN3: GS | AFO3: Sdif | AFP3: SGS | AFQ3: Koef | AFR3: FR | AFT3: Team | AFU3: W | AFV3: D | AFW3: L | AFX3: GS | AFY3: GA | AFZ3: Diff | AGA3: P | AGB3: Sdif | AGC3: SGS | AGD3: Koef | AGE3: Pts | AGF3: R | AGG3: GD | AGH3: GS | AGI3: Sdif | AGJ3: SGS | AGK3: Koef | AGL3: FR | AGP3: 1 | AGQ3: =ACK3 -> Switzerland | AGR3: =IF(OFFSET('Game Board'!O8,0,AGR1)<>"",OFFSET('Game Board'!O8,0,AGR1),0) -> 0 | AGS3: =IF(OFFSET('Game Board'!P8,0,AGR1)<>"",OFFSET('Game Board'!P8,0,AGR1),0) -> 0 | AGT3: =ACN3 -> Norway | AGU3: =IF(AND(OFFSET('Game Board'!O8,0,AGR1)<>"",OFFSET('Game Board'!P8,0,AGR1)<>""),IF(AGR3>AGS3,"W",IF(AGR3=AGS3,"D","L")),"") | AGV3: =IF(AGU3<>"",IF(AGU3="W","L",IF(AGU3="L","W","D")),"") | AGZ3: W | AHA3: D | AHB3: L | AHC3: GS | AHD3: GA | AHE3: Diff | AHF3: Points | AHG3: Rank | AHH3: rankall points | AHJ3: rerank | AHM3: rank 1 | AHN3: rank 2 | AHO3: rank 3 | AHP3: rank 4 | AHR3: Team | AHS3: W | AHT3: D | AHU3: L | AHV3: GS | AHW3: GA | AHX3: Diff | AHY3: P | AHZ3: Sdif | AIA3: SGS | AIB3: Koef | AIC3: Pts | AID3: R | AIE3: GD | AIF3: GS | AIG3: Sdiff | AIH3: SGS | AII3: Koef | AIJ3: FR | AIL3: Team | AIM3: W | AIN3: D | AIO3: L | AIP3: GS | AIQ3: GA | AIR3: Diff | AIS3: P | AIT3: Sdif | AIU3: SGS | AIV3: Koef | AIW3: Pts | AIX3: R | AIY3: GD | AIZ3: GS | AJA3: Sdiff | AJB3: SGS | AJC3: Koef | AJD3: FR | AJF3: Team | AJG3: W | AJH3: D | AJI3: L | AJJ3: GS | AJK3: GA | AJL3: Diff | AJM3: P | AJN3: Sdif | AJO3: SGS | AJP3: Koef | AJQ3: Pts | AJR3: R | AJS3: GD | AJT3: GS | AJU3: Sdif | AJV3: SGS | AJW3: Koef | AJX3: FR | AJZ3: Team | AKA3: W | AKB3: D | AKC3: L | AKD3: GS | AKE3: GA | AKF3: Diff | AKG3: P | AKH3: Sdif | AKI3: SGS | AKJ3: Koef | AKK3: Pts | AKL3: R | AKM3: GD | AKN3: GS | AKO3: Sdif | AKP3: SGS | AKQ3: Koef | AKR3: FR | AKV3: 1 | AKW3: =AGQ3 -> Switzerland | AKX3: =IF(OFFSET('Game Board'!O8,0,AKX1)<>"",OFFSET('Game Board'!O8,0,AKX1),0) -> 0 | AKY3: =IF(OFFSET('Game Board'!P8,0,AKX1)<>"",OFFSET('Game Board'!P8,0,AKX1),0) -> 0 | AKZ3: =AGT3 -> Norway | ALA3: =IF(AND(OFFSET('Game Board'!O8,0,AKX1)<>"",OFFSET('Game Board'!P8,0,AKX1)<>""),IF(AKX3>AKY3,"W",IF(AKX3=AKY3,"D","L")),"") | ALB3: =IF(ALA3<>"",IF(ALA3="W","L",IF(ALA3="L","W","D")),"") | ALF3: W | ALG3: D | ALH3: L | ALI3: GS | ALJ3: GA | ALK3: Diff | ALL3: Points | ALM3: Rank | ALN3: rankall points | ALP3: rerank | ALS3: rank 1 | ALT3: rank 2 | ALU3: rank 3 | ALV3: rank 4 | ALX3: Team | ALY3: W | ALZ3: D | AMA3: L | AMB3: GS | AMC3: GA | AMD3: Diff | AME3: P | AMF3: Sdif | AMG3: SGS | AMH3: Koef | AMI3: Pts | AMJ3: R | AMK3: GD | AML3: GS | AMM3: Sdiff | AMN3: SGS | AMO3: Koef | AMP3: FR | AMR3: Team | AMS3: W | AMT3: D | AMU3: L | AMV3: GS | AMW3: GA | AMX3: Diff | AMY3: P | AMZ3: Sdif | ANA3: SGS | ANB3: Koef | ANC3: Pts | AND3: R | ANE3: GD | ANF3: GS | ANG3: Sdiff | ANH3: SGS | ANI3: Koef | ANJ3: FR | ANL3: Team | ANM3: W | ANN3: D | ANO3: L | ANP3: GS | ANQ3: GA | ANR3: Diff | ANS3: P | ANT3: Sdif | ANU3: SGS | ANV3: Koef | ANW3: Pts | ANX3: R | ANY3: GD | ANZ3: GS | AOA3: Sdif | AOB3: SGS | AOC3: Koef | AOD3: FR | AOF3: Team | AOG3: W | AOH3: D | AOI3: L | AOJ3: GS | AOK3: GA | AOL3: Diff | AOM3: P | AON3: Sdif | AOO3: SGS | AOP3: Koef | AOQ3: Pts | AOR3: R | AOS3: GD | AOT3: GS | AOU3: Sdif | AOV3: SGS | AOW3: Koef | AOX3: FR | APB3: 1 | APC3: =AKW3 -> Switzerland | APD3: =IF(OFFSET('Game Board'!O8,0,APD1)<>"",OFFSET('Game Board'!O8,0,APD1),0) -> 0 | APE3: =IF(OFFSET('Game Board'!P8,0,APD1)<>"",OFFSET('Game Board'!P8,0,APD1),0) -> 0 | APF3: =AKZ3 -> Norway | APG3: =IF(AND(OFFSET('Game Board'!O8,0,APD1)<>"",OFFSET('Game Board'!P8,0,APD1)<>""),IF(APD3>APE3,"W",IF(APD3=APE3,"D","L")),"") | APH3: =IF(APG3<>"",IF(APG3="W","L",IF(APG3="L","W","D")),"") | APL3: W | APM3: D | APN3: L | APO3: GS | APP3: GA | APQ3: Diff | APR3: Points | APS3: Rank | APT3: rankall points | APV3: rerank | APY3: rank 1 | APZ3: rank 2 | AQA3: rank 3 | AQB3: rank 4 | AQD3: Team | AQE3: W | AQF3: D | AQG3: L | AQH3: GS | AQI3: GA | AQJ3: Diff | AQK3: P | AQL3: Sdif | AQM3: SGS | AQN3: Koef | AQO3: Pts | AQP3: R | AQQ3: GD | AQR3: GS | AQS3: Sdiff | AQT3: SGS | AQU3: Koef | AQV3: FR | AQX3: Team | AQY3: W | AQZ3: D | ARA3: L | ARB3: GS | ARC3: GA | ARD3: Diff | ARE3: P | ARF3: Sdif | ARG3: SGS | ARH3: Koef | ARI3: Pts | ARJ3: R | ARK3: GD | ARL3: GS | ARM3: Sdiff | ARN3: SGS | ARO3: Koef | ARP3: FR | ARR3: Team | ARS3: W | ART3: D | ARU3: L | ARV3: GS | ARW3: GA | ARX3: Diff | ARY3: P | ARZ3: Sdif | ASA3: SGS | ASB3: Koef | ASC3: Pts | ASD3: R | ASE3: GD | ASF3: GS | ASG3: Sdif | ASH3: SGS | ASI3: Koef | ASJ3: FR | ASL3: Team | ASM3: W | ASN3: D | ASO3: L | ASP3: GS | ASQ3: GA | ASR3: Diff | ASS3: P | AST3: Sdif | ASU3: SGS | ASV3: Koef | ASW3: Pts | ASX3: R | ASY3: GD | ASZ3: GS | ATA3: Sdif | ATB3: SGS | ATC3: Koef | ATD3: FR | ATH3: 1 | ATI3: =APC3 -> Switzerland | ATJ3: =IF(ATI2<>"",IF(OFFSET('Game Board'!O8,0,ATJ1)<>"",OFFSET('Game Board'!O8,0,ATJ1),0),"") -> 0 | ATK3: =IF(ATI2<>"",IF(OFFSET('Game Board'!P8,0,ATJ1)<>"",OFFSET('Game Board'!P8,0,ATJ1),0),"") -> 0 | ATL3: =APF3 -> Norway | ATM3: =IF(AND(OFFSET('Game Board'!O8,0,ATJ1)<>"",OFFSET('Game Board'!P8,0,ATJ1)<>""),IF(ATJ3>ATK3,"W",IF(ATJ3=ATK3,"D","L")),"") | ATN3: =IF(ATM3<>"",IF(ATM3="W","L",IF(ATM3="L","W","D")),"")
B4: =VLOOKUP(C4,CX4:CY8,2,FALSE) -> 1 | C4: ='Tournament Setup'!D6 -> Switzerland | D4: =SUMPRODUCT((DA3:DA54=C4)*(DE3:DE54="W"))+SUMPRODUCT((DD3:DD54=C4)*(DF3:DF54="W")) -> 0 | E4: =SUMPRODUCT((DA3:DA54=C4)*(DE3:DE54="D"))+SUMPRODUCT((DD3:DD54=C4)*(DF3:DF54="D")) -> 0 | F4: =SUMPRODUCT((DA3:DA54=C4)*(DE3:DE54="L"))+SUMPRODUCT((DD3:DD54=C4)*(DF3:DF54="L")) -> 0 | G4: =SUMIF(DA3:DA72,C4,DB3:DB72)+SUMIF(DD3:DD72,C4,DC3:DC72) -> 0 | H4: =SUMIF(DD3:DD72,C4,DB3:DB72)+SUMIF(DA3:DA72,C4,DC3:DC72) -> 0 | I4: =G4-H4+1000 -> 1000 | J4: =D4*3+E4*1 -> 0 | K4: 27 | L4: =IF(COUNTIF(J4:J8,4)<>4,RANK(J4,J4:J8),J56) -> 1 | N4: =SUMPRODUCT((L4:L7=L4)*(K4:K7<K4))+L4 -> 4 | O4: =INDEX(C4:C8,MATCH(1,N4:N8,0),0) -> Finland | P4: =INDEX(L4:L8,MATCH(O4,C4:C8,0),0) -> 1 | Q4: =IF(P5=1,O4,"") -> Finland | R4: =IF(P6=2,O5,"") | S4: =IF(P7=3,O6,"") | T4: =IF(P8=4,O7,"") | V4: =IF(Q4<>"",Q4,"") -> Finland | W4: =SUMPRODUCT((DA3:DA54=V4)*(DD3:DD54=V5)*(DE3:DE54="W"))+SUMPRODUCT((DA3:DA54=V4)*(DD3:DD54=V6)*(DE3:DE54="W"))+SUMPRODUCT((DA3:DA54=V4)*(DD3:DD54=V7)*(DE3:DE54="W"))+SUMPRODUCT((DA3:DA54=V4)*(DD3:DD54=V8)*(DE3:DE54="W"))+SUMPRODUCT((DA3:DA54=V5)*(DD3:DD54=V4)*(DF3:DF54="W"))+SUMPRODUCT((DA3:DA54=V6)*(DD3:DD54=V4)*(DF3:DF54="W"))+SUMPRODUCT((DA3:DA54=V7)*(DD3:DD54=V4)*(DF3:DF54="W"))+SUMPRODUCT((DA3:DA54=V8)*(DD3:DD54=V4)*(DF3:DF54="W")) -> 0 | X4: =SUMPRODUCT((DA3:DA54=V4)*(DD3:DD54=V5)*(DE3:DE54="D"))+SUMPRODUCT((DA3:DA54=V4)*(DD3:DD54=V6)*(DE3:DE54="D"))+SUMPRODUCT((DA3:DA54=V4)*(DD3:DD54=V7)*(DE3:DE54="D"))+SUMPRODUCT((DA3:DA54=V4)*(DD3:DD54=V8)*(DE3:DE54="D"))+SUMPRODUCT((DA3:DA54=V5)*(DD3:DD54=V4)*(DE3:DE54="D"))+SUMPRODUCT((DA3:DA54=V6)*(DD3:DD54=V4)*(DE3:DE54="D"))+SUMPRODUCT((DA3:DA54=V7)*(DD3:DD54=V4)*(DE3:DE54="D"))+SUMPRODUCT((DA3:DA54=V8)*(DD3:DD54=V4)*(DE3:DE54="D")) -> 0 | Y4: =SUMPRODUCT((DA3:DA54=V4)*(DD3:DD54=V5)*(DE3:DE54="L"))+SUMPRODUCT((DA3:DA54=V4)*(DD3:DD54=V6)*(DE3:DE54="L"))+SUMPRODUCT((DA3:DA54=V4)*(DD3:DD54=V7)*(DE3:DE54="L"))+SUMPRODUCT((DA3:DA54=V4)*(DD3:DD54=V8)*(DE3:DE54="L"))+SUMPRODUCT((DA3:DA54=V5)*(DD3:DD54=V4)*(DF3:DF54="L"))+SUMPRODUCT((DA3:DA54=V6)*(DD3:DD54=V4)*(DF3:DF54="L"))+SUMPRODUCT((DA3:DA54=V7)*(DD3:DD54=V4)*(DF3:DF54="L"))+SUMPRODUCT((DA3:DA54=V8)*(DD3:DD54=V4)*(DF3:DF54="L")) -> 0 | Z4: =SUMPRODUCT((DA3:DA54=V4)*(DD3:DD54=V5)*DB3:DB54)+SUMPRODUCT((DA3:DA54=V4)*(DD3:DD54=V6)*DB3:DB54)+SUMPRODUCT((DA3:DA54=V4)*(DD3:DD54=V7)*DB3:DB54)+SUMPRODUCT((DA3:DA54=V4)*(DD3:DD54=V8)*DB3:DB54)+SUMPRODUCT((DA3:DA54=V5)*(DD3:DD54=V4)*DC3:DC54)+SUMPRODUCT((DA3:DA54=V6)*(DD3:DD54=V4)*DC3:DC54)+SUMPRODUCT((DA3:DA54=V7)*(DD3:DD54=V4)*DC3:DC54)+SUMPRODUCT((DA3:DA54=V8)*(DD3:DD54=V4)*DC3:DC54) -> 0 | AA4: =SUMPRODUCT((DA3:DA54=V4)*(DD3:DD54=V5)*DC3:DC54)+SUMPRODUCT((DA3:DA54=V4)*(DD3:DD54=V6)*DC3:DC54)+SUMPRODUCT((DA3:DA54=V4)*(DD3:DD54=V7)*DC3:DC54)+SUMPRODUCT((DA3:DA54=V4)*(DD3:DD54=V8)*DC3:DC54)+SUMPRODUCT((DA3:DA54=V5)*(DD3:DD54=V4)*DB3:DB54)+SUMPRODUCT((DA3:DA54=V6)*(DD3:DD54=V4)*DB3:DB54)+SUMPRODUCT((DA3:DA54=V7)*(DD3:DD54=V4)*DB3:DB54)+SUMPRODUCT((DA3:DA54=V8)*(DD3:DD54=V4)*DB3:DB54) -> 0 | AB4: =Z4-AA4+1000 -> 1000 | AC4: =IF(V4<>"",W4*3+X4*1,"") -> 0 | AD4: =IF(V4<>"",VLOOKUP(V4,C4:I52,7,FALSE),"") -> 1000 | AE4: =IF(V4<>"",VLOOKUP(V4,C4:I52,5,FALSE),"") -> 0 | AF4: =IF(V4<>"",VLOOKUP(V4,C4:K52,9,FALSE),"") -> 8 | AG4: =AC4 -> 0 | AH4: =IF(V4<>"",RANK(AG4,AG4:AG8),"") -> 1 | AI4: =IF(V4<>"",SUMPRODUCT((AG4:AG8=AG4)*(AB4:AB8>AB4)),"") -> 0 | AJ4: =IF(V4<>"",SUMPRODUCT((AG4:AG8=AG4)*(AB4:AB8=AB4)*(Z4:Z8>Z4)),"") -> 0 | AK4: =IF(V4<>"",SUMPRODUCT((AG4:AG8=AG4)*(AB4:AB8=AB4)*(Z4:Z8=Z4)*(AD4:AD8>AD4)),"") -> 0 | AL4: =IF(V4<>"",SUMPRODUCT((AG4:AG8=AG4)*(AB4:AB8=AB4)*(Z4:Z8=Z4)*(AD4:AD8=AD4)*(AE4:AE8>AE4)),"") -> 0 | AM4: =IF(V4<>"",SUMPRODUCT((AG4:AG8=AG4)*(AB4:AB8=AB4)*(Z4:Z8=Z4)*(AD4:AD8=AD4)*(AE4:AE8=AE4)*(AF4:AF8>AF4)),"") -> 3 | AN4: =IF(V4<>"",IF(AN56<>"",IF(U55=3,AN56,AN56+U55),SUM(AH4:AM4)),"") -> 4 | AO4: =IF(V4<>"",INDEX(V4:V8,MATCH(1,AN4:AN8,0),0),"") -> Switzerland | CX4: =IF(AO4<>"",AO4,O4) -> Switzerland | CY4: 1 | CZ4: 2 | DA4: ='Game Board'!F9 -> Iceland | DB4: =IF(DA2<>"",IF(AND('Game Board'!G9<>"",'Game Board'!H9<>""),'Game Board'!G9,0),"") -> 0 | DC4: =IF(DA2<>"",IF(AND('Game Board'!G9<>"",'Game Board'!H9<>""),'Game Board'!H9,0),"") -> 0 | DD4: ='Game Board'!I9 -> Finland | DE4: =IF(AND('Game Board'!G9<>"",'Game Board'!H9<>""),IF(DB4>DC4,"W",IF(DB4=DC4,"D","L")),"") | DF4: =IF(DE4<>"",IF(DE4="W","L",IF(DE4="L","W","D")),"") | DH4: =VLOOKUP(DI4,HD4:HE8,2,FALSE) -> 1 | DI4: =C4 -> Switzerland | DJ4: =SUMPRODUCT((HG3:HG54=DI4)*(HK3:HK54="W"))+SUMPRODUCT((HJ3:HJ54=DI4)*(HL3:HL54="W")) -> 0 | DK4: =SUMPRODUCT((HG3:HG54=DI4)*(HK3:HK54="D"))+SUMPRODUCT((HJ3:HJ54=DI4)*(HL3:HL54="D")) -> 0 | DL4: =SUMPRODUCT((HG3:HG54=DI4)*(HK3:HK54="L"))+SUMPRODUCT((HJ3:HJ54=DI4)*(HL3:HL54="L")) -> 0 | DM4: =SUMIF(HG3:HG72,DI4,HH3:HH72)+SUMIF(HJ3:HJ72,DI4,HI3:HI72) -> 0 | DN4: =SUMIF(HJ3:HJ72,DI4,HH3:HH72)+SUMIF(HG3:HG72,DI4,HI3:HI72) -> 0 | DO4: =DM4-DN4+1000 -> 1000 | DP4: =DJ4*3+DK4*1 -> 0 | DQ4: =K4 -> 27 | DR4: =IF(COUNTIF(DP4:DP8,4)<>4,RANK(DP4,DP4:DP8),DP56) -> 1 | DT4: =SUMPRODUCT((DR4:DR7=DR4)*(DQ4:DQ7<DQ4))+DR4 -> 4 | DU4: =INDEX(DI4:DI8,MATCH(1,DT4:DT8,0),0) -> Finland | DV4: =INDEX(DR4:DR8,MATCH(DU4,DI4:DI8,0),0) -> 1 | DW4: =IF(DV5=1,DU4,"") -> Finland | DX4: =IF(DV6=2,DU5,"") | DY4: =IF(DV7=3,DU6,"") | DZ4: =IF(DV8=4,DU7,"") | EB4: =IF(DW4<>"",DW4,"") -> Finland | EC4: =SUMPRODUCT((HG3:HG54=EB4)*(HJ3:HJ54=EB5)*(HK3:HK54="W"))+SUMPRODUCT((HG3:HG54=EB4)*(HJ3:HJ54=EB6)*(HK3:HK54="W"))+SUMPRODUCT((HG3:HG54=EB4)*(HJ3:HJ54=EB7)*(HK3:HK54="W"))+SUMPRODUCT((HG3:HG54=EB4)*(HJ3:HJ54=EB8)*(HK3:HK54="W"))+SUMPRODUCT((HG3:HG54=EB5)*(HJ3:HJ54=EB4)*(HL3:HL54="W"))+SUMPRODUCT((HG3:HG54=EB6)*(HJ3:HJ54=EB4)*(HL3:HL54="W"))+SUMPRODUCT((HG3:HG54=EB7)*(HJ3:HJ54=EB4)*(HL3:HL54="W"))+SUMPRODUCT((HG3:HG54=EB8)*(HJ3:HJ54=EB4)*(HL3:HL54="W")) -> 0 | ED4: =SUMPRODUCT((HG3:HG54=EB4)*(HJ3:HJ54=EB5)*(HK3:HK54="D"))+SUMPRODUCT((HG3:HG54=EB4)*(HJ3:HJ54=EB6)*(HK3:HK54="D"))+SUMPRODUCT((HG3:HG54=EB4)*(HJ3:HJ54=EB7)*(HK3:HK54="D"))+SUMPRODUCT((HG3:HG54=EB4)*(HJ3:HJ54=EB8)*(HK3:HK54="D"))+SUMPRODUCT((HG3:HG54=EB5)*(HJ3:HJ54=EB4)*(HK3:HK54="D"))+SUMPRODUCT((HG3:HG54=EB6)*(HJ3:HJ54=EB4)*(HK3:HK54="D"))+SUMPRODUCT((HG3:HG54=EB7)*(HJ3:HJ54=EB4)*(HK3:HK54="D"))+SUMPRODUCT((HG3:HG54=EB8)*(HJ3:HJ54=EB4)*(HK3:HK54="D")) -> 0 | EE4: =SUMPRODUCT((HG3:HG54=EB4)*(HJ3:HJ54=EB5)*(HK3:HK54="L"))+SUMPRODUCT((HG3:HG54=EB4)*(HJ3:HJ54=EB6)*(HK3:HK54="L"))+SUMPRODUCT((HG3:HG54=EB4)*(HJ3:HJ54=EB7)*(HK3:HK54="L"))+SUMPRODUCT((HG3:HG54=EB4)*(HJ3:HJ54=EB8)*(HK3:HK54="L"))+SUMPRODUCT((HG3:HG54=EB5)*(HJ3:HJ54=EB4)*(HL3:HL54="L"))+SUMPRODUCT((HG3:HG54=EB6)*(HJ3:HJ54=EB4)*(HL3:HL54="L"))+SUMPRODUCT((HG3:HG54=EB7)*(HJ3:HJ54=EB4)*(HL3:HL54="L"))+SUMPRODUCT((HG3:HG54=EB8)*(HJ3:HJ54=EB4)*(HL3:HL54="L")) -> 0 | EF4: =SUMPRODUCT((HG3:HG54=EB4)*(HJ3:HJ54=EB5)*HH3:HH54)+SUMPRODUCT((HG3:HG54=EB4)*(HJ3:HJ54=EB6)*HH3:HH54)+SUMPRODUCT((HG3:HG54=EB4)*(HJ3:HJ54=EB7)*HH3:HH54)+SUMPRODUCT((HG3:HG54=EB4)*(HJ3:HJ54=EB8)*HH3:HH54)+SUMPRODUCT((HG3:HG54=EB5)*(HJ3:HJ54=EB4)*HI3:HI54)+SUMPRODUCT((HG3:HG54=EB6)*(HJ3:HJ54=EB4)*HI3:HI54)+SUMPRODUCT((HG3:HG54=EB7)*(HJ3:HJ54=EB4)*HI3:HI54)+SUMPRODUCT((HG3:HG54=EB8)*(HJ3:HJ54=EB4)*HI3:HI54) -> 0 | EG4: =SUMPRODUCT((HG3:HG54=EB4)*(HJ3:HJ54=EB5)*HI3:HI54)+SUMPRODUCT((HG3:HG54=EB4)*(HJ3:HJ54=EB6)*HI3:HI54)+SUMPRODUCT((HG3:HG54=EB4)*(HJ3:HJ54=EB7)*HI3:HI54)+SUMPRODUCT((HG3:HG54=EB4)*(HJ3:HJ54=EB8)*HI3:HI54)+SUMPRODUCT((HG3:HG54=EB5)*(HJ3:HJ54=EB4)*HH3:HH54)+SUMPRODUCT((HG3:HG54=EB6)*(HJ3:HJ54=EB4)*HH3:HH54)+SUMPRODUCT((HG3:HG54=EB7)*(HJ3:HJ54=EB4)*HH3:HH54)+SUMPRODUCT((HG3:HG54=EB8)*(HJ3:HJ54=EB4)*HH3:HH54) -> 0 | EH4: =EF4-EG4+1000 -> 1000 | EI4: =IF(EB4<>"",EC4*3+ED4*1,"") -> 0 | EJ4: =IF(EB4<>"",VLOOKUP(EB4,DI4:DO52,7,FALSE),"") -> 1000 | EK4: =IF(EB4<>"",VLOOKUP(EB4,DI4:DO52,5,FALSE),"") -> 0 | EL4: =IF(EB4<>"",VLOOKUP(EB4,DI4:DQ52,9,FALSE),"") -> 8 | EM4: =EI4 -> 0 | EN4: =IF(EB4<>"",RANK(EM4,EM4:EM8),"") -> 1 | EO4: =IF(EB4<>"",SUMPRODUCT((EM4:EM8=EM4)*(EH4:EH8>EH4)),"") -> 0 | EP4: =IF(EB4<>"",SUMPRODUCT((EM4:EM8=EM4)*(EH4:EH8=EH4)*(EF4:EF8>EF4)),"") -> 0 | EQ4: =IF(EB4<>"",SUMPRODUCT((EM4:EM8=EM4)*(EH4:EH8=EH4)*(EF4:EF8=EF4)*(EJ4:EJ8>EJ4)),"") -> 0 | ER4: =IF(EB4<>"",SUMPRODUCT((EM4:EM8=EM4)*(EH4:EH8=EH4)*(EF4:EF8=EF4)*(EJ4:EJ8=EJ4)*(EK4:EK8>EK4)),"") -> 0 | ES4: =IF(EB4<>"",SUMPRODUCT((EM4:EM8=EM4)*(EH4:EH8=EH4)*(EF4:EF8=EF4)*(EJ4:EJ8=EJ4)*(EK4:EK8=EK4)*(EL4:EL8>EL4)),"") -> 3 | ET4: =IF(EB4<>"",IF(ET56<>"",IF(EA55=3,ET56,ET56+EA55),SUM(EN4:ES4)),"") -> 4 | EU4: =IF(EB4<>"",INDEX(EB4:EB8,MATCH(1,ET4:ET8,0),0),"") -> Switzerland | HD4: =IF(EU4<>"",EU4,DU4) -> Switzerland | HE4: 1 | HF4: 2 | HG4: =DA4 -> Iceland | HH4: =IF(OFFSET('Game Board'!O9,0,HH1)<>"",OFFSET('Game Board'!O9,0,HH1),0) -> 0 | HI4: =IF(OFFSET('Game Board'!P9,0,HH1)<>"",OFFSET('Game Board'!P9,0,HH1),0) -> 0 | HJ4: =DD4 -> Finland | HK4: =IF(AND(OFFSET('Game Board'!O9,0,HH1)<>"",OFFSET('Game Board'!P9,0,HH1)<>""),IF(HH4>HI4,"W",IF(HH4=HI4,"D","L")),"") | HL4: =IF(HK4<>"",IF(HK4="W","L",IF(HK4="L","W","D")),"") | HN4: =VLOOKUP(HO4,LJ4:LK8,2,FALSE) -> 1 | HO4: =DI4 -> Switzerland | HP4: =SUMPRODUCT((LM3:LM54=HO4)*(LQ3:LQ54="W"))+SUMPRODUCT((LP3:LP54=HO4)*(LR3:LR54="W")) -> 0 | HQ4: =SUMPRODUCT((LM3:LM54=HO4)*(LQ3:LQ54="D"))+SUMPRODUCT((LP3:LP54=HO4)*(LR3:LR54="D")) -> 0 | HR4: =SUMPRODUCT((LM3:LM54=HO4)*(LQ3:LQ54="L"))+SUMPRODUCT((LP3:LP54=HO4)*(LR3:LR54="L")) -> 0 | HS4: =SUMIF(LM3:LM72,HO4,LN3:LN72)+SUMIF(LP3:LP72,HO4,LO3:LO72) -> 0 | HT4: =SUMIF(LP3:LP72,HO4,LN3:LN72)+SUMIF(LM3:LM72,HO4,LO3:LO72) -> 0 | HU4: =HS4-HT4+1000 -> 1000 | HV4: =HP4*3+HQ4*1 -> 0 | HW4: =DQ4 -> 27 | HX4: =IF(COUNTIF(HV4:HV8,4)<>4,RANK(HV4,HV4:HV8),HV56) -> 1 | HZ4: =SUMPRODUCT((HX4:HX7=HX4)*(HW4:HW7<HW4))+HX4 -> 4 | IA4: =INDEX(HO4:HO8,MATCH(1,HZ4:HZ8,0),0) -> Finland | IB4: =INDEX(HX4:HX8,MATCH(IA4,HO4:HO8,0),0) -> 1 | IC4: =IF(IB5=1,IA4,"") -> Finland | ID4: =IF(IB6=2,IA5,"") | IE4: =IF(IB7=3,IA6,"") | IF4: =IF(IB8=4,IA7,"") | IH4: =IF(IC4<>"",IC4,"") -> Finland | II4: =SUMPRODUCT((LM3:LM54=IH4)*(LP3:LP54=IH5)*(LQ3:LQ54="W"))+SUMPRODUCT((LM3:LM54=IH4)*(LP3:LP54=IH6)*(LQ3:LQ54="W"))+SUMPRODUCT((LM3:LM54=IH4)*(LP3:LP54=IH7)*(LQ3:LQ54="W"))+SUMPRODUCT((LM3:LM54=IH4)*(LP3:LP54=IH8)*(LQ3:LQ54="W"))+SUMPRODUCT((LM3:LM54=IH5)*(LP3:LP54=IH4)*(LR3:LR54="W"))+SUMPRODUCT((LM3:LM54=IH6)*(LP3:LP54=IH4)*(LR3:LR54="W"))+SUMPRODUCT((LM3:LM54=IH7)*(LP3:LP54=IH4)*(LR3:LR54="W"))+SUMPRODUCT((LM3:LM54=IH8)*(LP3:LP54=IH4)*(LR3:LR54="W")) -> 0 | IJ4: =SUMPRODUCT((LM3:LM54=IH4)*(LP3:LP54=IH5)*(LQ3:LQ54="D"))+SUMPRODUCT((LM3:LM54=IH4)*(LP3:LP54=IH6)*(LQ3:LQ54="D"))+SUMPRODUCT((LM3:LM54=IH4)*(LP3:LP54=IH7)*(LQ3:LQ54="D"))+SUMPRODUCT((LM3:LM54=IH4)*(LP3:LP54=IH8)*(LQ3:LQ54="D"))+SUMPRODUCT((LM3:LM54=IH5)*(LP3:LP54=IH4)*(LQ3:LQ54="D"))+SUMPRODUCT((LM3:LM54=IH6)*(LP3:LP54=IH4)*(LQ3:LQ54="D"))+SUMPRODUCT((LM3:LM54=IH7)*(LP3:LP54=IH4)*(LQ3:LQ54="D"))+SUMPRODUCT((LM3:LM54=IH8)*(LP3:LP54=IH4)*(LQ3:LQ54="D")) -> 0 | IK4: =SUMPRODUCT((LM3:LM54=IH4)*(LP3:LP54=IH5)*(LQ3:LQ54="L"))+SUMPRODUCT((LM3:LM54=IH4)*(LP3:LP54=IH6)*(LQ3:LQ54="L"))+SUMPRODUCT((LM3:LM54=IH4)*(LP3:LP54=IH7)*(LQ3:LQ54="L"))+SUMPRODUCT((LM3:LM54=IH4)*(LP3:LP54=IH8)*(LQ3:LQ54="L"))+SUMPRODUCT((LM3:LM54=IH5)*(LP3:LP54=IH4)*(LR3:LR54="L"))+SUMPRODUCT((LM3:LM54=IH6)*(LP3:LP54=IH4)*(LR3:LR54="L"))+SUMPRODUCT((LM3:LM54=IH7)*(LP3:LP54=IH4)*(LR3:LR54="L"))+SUMPRODUCT((LM3:LM54=IH8)*(LP3:LP54=IH4)*(LR3:LR54="L")) -> 0 | IL4: =SUMPRODUCT((LM3:LM54=IH4)*(LP3:LP54=IH5)*LN3:LN54)+SUMPRODUCT((LM3:LM54=IH4)*(LP3:LP54=IH6)*LN3:LN54)+SUMPRODUCT((LM3:LM54=IH4)*(LP3:LP54=IH7)*LN3:LN54)+SUMPRODUCT((LM3:LM54=IH4)*(LP3:LP54=IH8)*LN3:LN54)+SUMPRODUCT((LM3:LM54=IH5)*(LP3:LP54=IH4)*LO3:LO54)+SUMPRODUCT((LM3:LM54=IH6)*(LP3:LP54=IH4)*LO3:LO54)+SUMPRODUCT((LM3:LM54=IH7)*(LP3:LP54=IH4)*LO3:LO54)+SUMPRODUCT((LM3:LM54=IH8)*(LP3:LP54=IH4)*LO3:LO54) -> 0 | IM4: =SUMPRODUCT((LM3:LM54=IH4)*(LP3:LP54=IH5)*LO3:LO54)+SUMPRODUCT((LM3:LM54=IH4)*(LP3:LP54=IH6)*LO3:LO54)+SUMPRODUCT((LM3:LM54=IH4)*(LP3:LP54=IH7)*LO3:LO54)+SUMPRODUCT((LM3:LM54=IH4)*(LP3:LP54=IH8)*LO3:LO54)+SUMPRODUCT((LM3:LM54=IH5)*(LP3:LP54=IH4)*LN3:LN54)+SUMPRODUCT((LM3:LM54=IH6)*(LP3:LP54=IH4)*LN3:LN54)+SUMPRODUCT((LM3:LM54=IH7)*(LP3:LP54=IH4)*LN3:LN54)+SUMPRODUCT((LM3:LM54=IH8)*(LP3:LP54=IH4)*LN3:LN54) -> 0 | IN4: =IL4-IM4+1000 -> 1000 | IO4: =IF(IH4<>"",II4*3+IJ4*1,"") -> 0 | IP4: =IF(IH4<>"",VLOOKUP(IH4,HO4:HU52,7,FALSE),"") -> 1000 | IQ4: =IF(IH4<>"",VLOOKUP(IH4,HO4:HU52,5,FALSE),"") -> 0 | IR4: =IF(IH4<>"",VLOOKUP(IH4,HO4:HW52,9,FALSE),"") -> 8 | IS4: =IO4 -> 0 | IT4: =IF(IH4<>"",RANK(IS4,IS4:IS8),"") -> 1 | IU4: =IF(IH4<>"",SUMPRODUCT((IS4:IS8=IS4)*(IN4:IN8>IN4)),"") -> 0 | IV4: =IF(IH4<>"",SUMPRODUCT((IS4:IS8=IS4)*(IN4:IN8=IN4)*(IL4:IL8>IL4)),"") -> 0 | IW4: =IF(IH4<>"",SUMPRODUCT((IS4:IS8=IS4)*(IN4:IN8=IN4)*(IL4:IL8=IL4)*(IP4:IP8>IP4)),"") -> 0 | IX4: =IF(IH4<>"",SUMPRODUCT((IS4:IS8=IS4)*(IN4:IN8=IN4)*(IL4:IL8=IL4)*(IP4:IP8=IP4)*(IQ4:IQ8>IQ4)),"") -> 0 | IY4: =IF(IH4<>"",SUMPRODUCT((IS4:IS8=IS4)*(IN4:IN8=IN4)*(IL4:IL8=IL4)*(IP4:IP8=IP4)*(IQ4:IQ8=IQ4)*(IR4:IR8>IR4)),"") -> 3 | IZ4: =IF(IH4<>"",IF(IZ56<>"",IF(IG55=3,IZ56,IZ56+IG55),SUM(IT4:IY4)),"") -> 4 | JA4: =IF(IH4<>"",INDEX(IH4:IH8,MATCH(1,IZ4:IZ8,0),0),"") -> Switzerland | LJ4: =IF(JA4<>"",JA4,IA4) -> Switzerland | LK4: 1 | LL4: 2 | LM4: =HG4 -> Iceland | LN4: =IF(OFFSET('Game Board'!O9,0,LN1)<>"",OFFSET('Game Board'!O9,0,LN1),0) -> 0 | LO4: =IF(OFFSET('Game Board'!P9,0,LN1)<>"",OFFSET('Game Board'!P9,0,LN1),0) -> 0 | LP4: =HJ4 -> Finland | LQ4: =IF(AND(OFFSET('Game Board'!O9,0,LN1)<>"",OFFSET('Game Board'!P9,0,LN1)<>""),IF(LN4>LO4,"W",IF(LN4=LO4,"D","L")),"") | LR4: =IF(LQ4<>"",IF(LQ4="W","L",IF(LQ4="L","W","D")),"") | LT4: =VLOOKUP(LU4,PP4:PQ8,2,FALSE) -> 1 | LU4: =HO4 -> Switzerland | LV4: =SUMPRODUCT((PS3:PS54=LU4)*(PW3:PW54="W"))+SUMPRODUCT((PV3:PV54=LU4)*(PX3:PX54="W")) -> 0 | LW4: =SUMPRODUCT((PS3:PS54=LU4)*(PW3:PW54="D"))+SUMPRODUCT((PV3:PV54=LU4)*(PX3:PX54="D")) -> 0 | LX4: =SUMPRODUCT((PS3:PS54=LU4)*(PW3:PW54="L"))+SUMPRODUCT((PV3:PV54=LU4)*(PX3:PX54="L")) -> 0 | LY4: =SUMIF(PS3:PS72,LU4,PT3:PT72)+SUMIF(PV3:PV72,LU4,PU3:PU72) -> 0 | LZ4: =SUMIF(PV3:PV72,LU4,PT3:PT72)+SUMIF(PS3:PS72,LU4,PU3:PU72) -> 0 | MA4: =LY4-LZ4+1000 -> 1000 | MB4: =LV4*3+LW4*1 -> 0 | MC4: =HW4 -> 27 | MD4: =IF(COUNTIF(MB4:MB8,4)<>4,RANK(MB4,MB4:MB8),MB56) -> 1 | MF4: =SUMPRODUCT((MD4:MD7=MD4)*(MC4:MC7<MC4))+MD4 -> 4 | MG4: =INDEX(LU4:LU8,MATCH(1,MF4:MF8,0),0) -> Finland | MH4: =INDEX(MD4:MD8,MATCH(MG4,LU4:LU8,0),0) -> 1 | MI4: =IF(MH5=1,MG4,"") -> Finland | MJ4: =IF(MH6=2,MG5,"") | MK4: =IF(MH7=3,MG6,"") | ML4: =IF(MH8=4,MG7,"") | MN4: =IF(MI4<>"",MI4,"") -> Finland | MO4: =SUMPRODUCT((PS3:PS54=MN4)*(PV3:PV54=MN5)*(PW3:PW54="W"))+SUMPRODUCT((PS3:PS54=MN4)*(PV3:PV54=MN6)*(PW3:PW54="W"))+SUMPRODUCT((PS3:PS54=MN4)*(PV3:PV54=MN7)*(PW3:PW54="W"))+SUMPRODUCT((PS3:PS54=MN4)*(PV3:PV54=MN8)*(PW3:PW54="W"))+SUMPRODUCT((PS3:PS54=MN5)*(PV3:PV54=MN4)*(PX3:PX54="W"))+SUMPRODUCT((PS3:PS54=MN6)*(PV3:PV54=MN4)*(PX3:PX54="W"))+SUMPRODUCT((PS3:PS54=MN7)*(PV3:PV54=MN4)*(PX3:PX54="W"))+SUMPRODUCT((PS3:PS54=MN8)*(PV3:PV54=MN4)*(PX3:PX54="W")) -> 0 | MP4: =SUMPRODUCT((PS3:PS54=MN4)*(PV3:PV54=MN5)*(PW3:PW54="D"))+SUMPRODUCT((PS3:PS54=MN4)*(PV3:PV54=MN6)*(PW3:PW54="D"))+SUMPRODUCT((PS3:PS54=MN4)*(PV3:PV54=MN7)*(PW3:PW54="D"))+SUMPRODUCT((PS3:PS54=MN4)*(PV3:PV54=MN8)*(PW3:PW54="D"))+SUMPRODUCT((PS3:PS54=MN5)*(PV3:PV54=MN4)*(PW3:PW54="D"))+SUMPRODUCT((PS3:PS54=MN6)*(PV3:PV54=MN4)*(PW3:PW54="D"))+SUMPRODUCT((PS3:PS54=MN7)*(PV3:PV54=MN4)*(PW3:PW54="D"))+SUMPRODUCT((PS3:PS54=MN8)*(PV3:PV54=MN4)*(PW3:PW54="D")) -> 0 | MQ4: =SUMPRODUCT((PS3:PS54=MN4)*(PV3:PV54=MN5)*(PW3:PW54="L"))+SUMPRODUCT((PS3:PS54=MN4)*(PV3:PV54=MN6)*(PW3:PW54="L"))+SUMPRODUCT((PS3:PS54=MN4)*(PV3:PV54=MN7)*(PW3:PW54="L"))+SUMPRODUCT((PS3:PS54=MN4)*(PV3:PV54=MN8)*(PW3:PW54="L"))+SUMPRODUCT((PS3:PS54=MN5)*(PV3:PV54=MN4)*(PX3:PX54="L"))+SUMPRODUCT((PS3:PS54=MN6)*(PV3:PV54=MN4)*(PX3:PX54="L"))+SUMPRODUCT((PS3:PS54=MN7)*(PV3:PV54=MN4)*(PX3:PX54="L"))+SUMPRODUCT((PS3:PS54=MN8)*(PV3:PV54=MN4)*(PX3:PX54="L")) -> 0 | MR4: =SUMPRODUCT((PS3:PS54=MN4)*(PV3:PV54=MN5)*PT3:PT54)+SUMPRODUCT((PS3:PS54=MN4)*(PV3:PV54=MN6)*PT3:PT54)+SUMPRODUCT((PS3:PS54=MN4)*(PV3:PV54=MN7)*PT3:PT54)+SUMPRODUCT((PS3:PS54=MN4)*(PV3:PV54=MN8)*PT3:PT54)+SUMPRODUCT((PS3:PS54=MN5)*(PV3:PV54=MN4)*PU3:PU54)+SUMPRODUCT((PS3:PS54=MN6)*(PV3:PV54=MN4)*PU3:PU54)+SUMPRODUCT((PS3:PS54=MN7)*(PV3:PV54=MN4)*PU3:PU54)+SUMPRODUCT((PS3:PS54=MN8)*(PV3:PV54=MN4)*PU3:PU54) -> 0 | MS4: =SUMPRODUCT((PS3:PS54=MN4)*(PV3:PV54=MN5)*PU3:PU54)+SUMPRODUCT((PS3:PS54=MN4)*(PV3:PV54=MN6)*PU3:PU54)+SUMPRODUCT((PS3:PS54=MN4)*(PV3:PV54=MN7)*PU3:PU54)+SUMPRODUCT((PS3:PS54=MN4)*(PV3:PV54=MN8)*PU3:PU54)+SUMPRODUCT((PS3:PS54=MN5)*(PV3:PV54=MN4)*PT3:PT54)+SUMPRODUCT((PS3:PS54=MN6)*(PV3:PV54=MN4)*PT3:PT54)+SUMPRODUCT((PS3:PS54=MN7)*(PV3:PV54=MN4)*PT3:PT54)+SUMPRODUCT((PS3:PS54=MN8)*(PV3:PV54=MN4)*PT3:PT54) -> 0 | MT4: =MR4-MS4+1000 -> 1000 | MU4: =IF(MN4<>"",MO4*3+MP4*1,"") -> 0 | MV4: =IF(MN4<>"",VLOOKUP(MN4,LU4:MA52,7,FALSE),"") -> 1000 | MW4: =IF(MN4<>"",VLOOKUP(MN4,LU4:MA52,5,FALSE),"") -> 0 | MX4: =IF(MN4<>"",VLOOKUP(MN4,LU4:MC52,9,FALSE),"") -> 8 | MY4: =MU4 -> 0 | MZ4: =IF(MN4<>"",RANK(MY4,MY4:MY8),"") -> 1 | NA4: =IF(MN4<>"",SUMPRODUCT((MY4:MY8=MY4)*(MT4:MT8>MT4)),"") -> 0 | NB4: =IF(MN4<>"",SUMPRODUCT((MY4:MY8=MY4)*(MT4:MT8=MT4)*(MR4:MR8>MR4)),"") -> 0 | NC4: =IF(MN4<>"",SUMPRODUCT((MY4:MY8=MY4)*(MT4:MT8=MT4)*(MR4:MR8=MR4)*(MV4:MV8>MV4)),"") -> 0 | ND4: =IF(MN4<>"",SUMPRODUCT((MY4:MY8=MY4)*(MT4:MT8=MT4)*(MR4:MR8=MR4)*(MV4:MV8=MV4)*(MW4:MW8>MW4)),"") -> 0 | NE4: =IF(MN4<>"",SUMPRODUCT((MY4:MY8=MY4)*(MT4:MT8=MT4)*(MR4:MR8=MR4)*(MV4:MV8=MV4)*(MW4:MW8=MW4)*(MX4:MX8>MX4)),"") -> 3 | NF4: =IF(MN4<>"",IF(NF56<>"",IF(MM55=3,NF56,NF56+MM55),SUM(MZ4:NE4)),"") -> 4 | NG4: =IF(MN4<>"",INDEX(MN4:MN8,MATCH(1,NF4:NF8,0),0),"") -> Switzerland | PP4: =IF(NG4<>"",NG4,MG4) -> Switzerland | PQ4: 1 | PR4: 2 | PS4: =LM4 -> Iceland | PT4: =IF(OFFSET('Game Board'!O9,0,PT1)<>"",OFFSET('Game Board'!O9,0,PT1),0) -> 0 | PU4: =IF(OFFSET('Game Board'!P9,0,PT1)<>"",OFFSET('Game Board'!P9,0,PT1),0) -> 0 | PV4: =LP4 -> Finland | PW4: =IF(AND(OFFSET('Game Board'!O9,0,PT1)<>"",OFFSET('Game Board'!P9,0,PT1)<>""),IF(PT4>PU4,"W",IF(PT4=PU4,"D","L")),"") | PX4: =IF(PW4<>"",IF(PW4="W","L",IF(PW4="L","W","D")),"") | PZ4: =VLOOKUP(QA4,TV4:TW8,2,FALSE) -> 1 | QA4: =LU4 -> Switzerland | QB4: =SUMPRODUCT((TY3:TY54=QA4)*(UC3:UC54="W"))+SUMPRODUCT((UB3:UB54=QA4)*(UD3:UD54="W")) -> 0 | QC4: =SUMPRODUCT((TY3:TY54=QA4)*(UC3:UC54="D"))+SUMPRODUCT((UB3:UB54=QA4)*(UD3:UD54="D")) -> 0 | QD4: =SUMPRODUCT((TY3:TY54=QA4)*(UC3:UC54="L"))+SUMPRODUCT((UB3:UB54=QA4)*(UD3:UD54="L")) -> 0 | QE4: =SUMIF(TY3:TY72,QA4,TZ3:TZ72)+SUMIF(UB3:UB72,QA4,UA3:UA72) -> 0 | QF4: =SUMIF(UB3:UB72,QA4,TZ3:TZ72)+SUMIF(TY3:TY72,QA4,UA3:UA72) -> 0 | QG4: =QE4-QF4+1000 -> 1000 | QH4: =QB4*3+QC4*1 -> 0 | QI4: =MC4 -> 27 | QJ4: =IF(COUNTIF(QH4:QH8,4)<>4,RANK(QH4,QH4:QH8),QH56) -> 1 | QL4: =SUMPRODUCT((QJ4:QJ7=QJ4)*(QI4:QI7<QI4))+QJ4 -> 4 | QM4: =INDEX(QA4:QA8,MATCH(1,QL4:QL8,0),0) -> Finland | QN4: =INDEX(QJ4:QJ8,MATCH(QM4,QA4:QA8,0),0) -> 1 | QO4: =IF(QN5=1,QM4,"") -> Finland | QP4: =IF(QN6=2,QM5,"") | QQ4: =IF(QN7=3,QM6,"") | QR4: =IF(QN8=4,QM7,"") | QT4: =IF(QO4<>"",QO4,"") -> Finland | QU4: =SUMPRODUCT((TY3:TY54=QT4)*(UB3:UB54=QT5)*(UC3:UC54="W"))+SUMPRODUCT((TY3:TY54=QT4)*(UB3:UB54=QT6)*(UC3:UC54="W"))+SUMPRODUCT((TY3:TY54=QT4)*(UB3:UB54=QT7)*(UC3:UC54="W"))+SUMPRODUCT((TY3:TY54=QT4)*(UB3:UB54=QT8)*(UC3:UC54="W"))+SUMPRODUCT((TY3:TY54=QT5)*(UB3:UB54=QT4)*(UD3:UD54="W"))+SUMPRODUCT((TY3:TY54=QT6)*(UB3:UB54=QT4)*(UD3:UD54="W"))+SUMPRODUCT((TY3:TY54=QT7)*(UB3:UB54=QT4)*(UD3:UD54="W"))+SUMPRODUCT((TY3:TY54=QT8)*(UB3:UB54=QT4)*(UD3:UD54="W")) -> 0 | QV4: =SUMPRODUCT((TY3:TY54=QT4)*(UB3:UB54=QT5)*(UC3:UC54="D"))+SUMPRODUCT((TY3:TY54=QT4)*(UB3:UB54=QT6)*(UC3:UC54="D"))+SUMPRODUCT((TY3:TY54=QT4)*(UB3:UB54=QT7)*(UC3:UC54="D"))+SUMPRODUCT((TY3:TY54=QT4)*(UB3:UB54=QT8)*(UC3:UC54="D"))+SUMPRODUCT((TY3:TY54=QT5)*(UB3:UB54=QT4)*(UC3:UC54="D"))+SUMPRODUCT((TY3:TY54=QT6)*(UB3:UB54=QT4)*(UC3:UC54="D"))+SUMPRODUCT((TY3:TY54=QT7)*(UB3:UB54=QT4)*(UC3:UC54="D"))+SUMPRODUCT((TY3:TY54=QT8)*(UB3:UB54=QT4)*(UC3:UC54="D")) -> 0 | QW4: =SUMPRODUCT((TY3:TY54=QT4)*(UB3:UB54=QT5)*(UC3:UC54="L"))+SUMPRODUCT((TY3:TY54=QT4)*(UB3:UB54=QT6)*(UC3:UC54="L"))+SUMPRODUCT((TY3:TY54=QT4)*(UB3:UB54=QT7)*(UC3:UC54="L"))+SUMPRODUCT((TY3:TY54=QT4)*(UB3:UB54=QT8)*(UC3:UC54="L"))+SUMPRODUCT((TY3:TY54=QT5)*(UB3:UB54=QT4)*(UD3:UD54="L"))+SUMPRODUCT((TY3:TY54=QT6)*(UB3:UB54=QT4)*(UD3:UD54="L"))+SUMPRODUCT((TY3:TY54=QT7)*(UB3:UB54=QT4)*(UD3:UD54="L"))+SUMPRODUCT((TY3:TY54=QT8)*(UB3:UB54=QT4)*(UD3:UD54="L")) -> 0 | QX4: =SUMPRODUCT((TY3:TY54=QT4)*(UB3:UB54=QT5)*TZ3:TZ54)+SUMPRODUCT((TY3:TY54=QT4)*(UB3:UB54=QT6)*TZ3:TZ54)+SUMPRODUCT((TY3:TY54=QT4)*(UB3:UB54=QT7)*TZ3:TZ54)+SUMPRODUCT((TY3:TY54=QT4)*(UB3:UB54=QT8)*TZ3:TZ54)+SUMPRODUCT((TY3:TY54=QT5)*(UB3:UB54=QT4)*UA3:UA54)+SUMPRODUCT((TY3:TY54=QT6)*(UB3:UB54=QT4)*UA3:UA54)+SUMPRODUCT((TY3:TY54=QT7)*(UB3:UB54=QT4)*UA3:UA54)+SUMPRODUCT((TY3:TY54=QT8)*(UB3:UB54=QT4)*UA3:UA54) -> 0 | QY4: =SUMPRODUCT((TY3:TY54=QT4)*(UB3:UB54=QT5)*UA3:UA54)+SUMPRODUCT((TY3:TY54=QT4)*(UB3:UB54=QT6)*UA3:UA54)+SUMPRODUCT((TY3:TY54=QT4)*(UB3:UB54=QT7)*UA3:UA54)+SUMPRODUCT((TY3:TY54=QT4)*(UB3:UB54=QT8)*UA3:UA54)+SUMPRODUCT((TY3:TY54=QT5)*(UB3:UB54=QT4)*TZ3:TZ54)+SUMPRODUCT((TY3:TY54=QT6)*(UB3:UB54=QT4)*TZ3:TZ54)+SUMPRODUCT((TY3:TY54=QT7)*(UB3:UB54=QT4)*TZ3:TZ54)+SUMPRODUCT((TY3:TY54=QT8)*(UB3:UB54=QT4)*TZ3:TZ54) -> 0 | QZ4: =QX4-QY4+1000 -> 1000 | RA4: =IF(QT4<>"",QU4*3+QV4*1,"") -> 0 | RB4: =IF(QT4<>"",VLOOKUP(QT4,QA4:QG52,7,FALSE),"") -> 1000 | RC4: =IF(QT4<>"",VLOOKUP(QT4,QA4:QG52,5,FALSE),"") -> 0 | RD4: =IF(QT4<>"",VLOOKUP(QT4,QA4:QI52,9,FALSE),"") -> 8 | RE4: =RA4 -> 0 | RF4: =IF(QT4<>"",RANK(RE4,RE4:RE8),"") -> 1 | RG4: =IF(QT4<>"",SUMPRODUCT((RE4:RE8=RE4)*(QZ4:QZ8>QZ4)),"") -> 0 | RH4: =IF(QT4<>"",SUMPRODUCT((RE4:RE8=RE4)*(QZ4:QZ8=QZ4)*(QX4:QX8>QX4)),"") -> 0 | RI4: =IF(QT4<>"",SUMPRODUCT((RE4:RE8=RE4)*(QZ4:QZ8=QZ4)*(QX4:QX8=QX4)*(RB4:RB8>RB4)),"") -> 0 | RJ4: =IF(QT4<>"",SUMPRODUCT((RE4:RE8=RE4)*(QZ4:QZ8=QZ4)*(QX4:QX8=QX4)*(RB4:RB8=RB4)*(RC4:RC8>RC4)),"") -> 0 | RK4: =IF(QT4<>"",SUMPRODUCT((RE4:RE8=RE4)*(QZ4:QZ8=QZ4)*(QX4:QX8=QX4)*(RB4:RB8=RB4)*(RC4:RC8=RC4)*(RD4:RD8>RD4)),"") -> 3 | RL4: =IF(QT4<>"",IF(RL56<>"",IF(QS55=3,RL56,RL56+QS55),SUM(RF4:RK4)),"") -> 4 | RM4: =IF(QT4<>"",INDEX(QT4:QT8,MATCH(1,RL4:RL8,0),0),"") -> Switzerland | TV4: =IF(RM4<>"",RM4,QM4) -> Switzerland | TW4: 1 | TX4: 2 | TY4: =PS4 -> Iceland | TZ4: =IF(OFFSET('Game Board'!O9,0,TZ1)<>"",OFFSET('Game Board'!O9,0,TZ1),0) -> 0 | UA4: =IF(OFFSET('Game Board'!P9,0,TZ1)<>"",OFFSET('Game Board'!P9,0,TZ1),0) -> 0 | UB4: =PV4 -> Finland | UC4: =IF(AND(OFFSET('Game Board'!O9,0,TZ1)<>"",OFFSET('Game Board'!P9,0,TZ1)<>""),IF(TZ4>UA4,"W",IF(TZ4=UA4,"D","L")),"") | UD4: =IF(UC4<>"",IF(UC4="W","L",IF(UC4="L","W","D")),"") | UF4: =VLOOKUP(UG4,YB4:YC8,2,FALSE) -> 1 | UG4: =QA4 -> Switzerland | UH4: =SUMPRODUCT((YE3:YE54=UG4)*(YI3:YI54="W"))+SUMPRODUCT((YH3:YH54=UG4)*(YJ3:YJ54="W")) -> 0 | UI4: =SUMPRODUCT((YE3:YE54=UG4)*(YI3:YI54="D"))+SUMPRODUCT((YH3:YH54=UG4)*(YJ3:YJ54="D")) -> 0 | UJ4: =SUMPRODUCT((YE3:YE54=UG4)*(YI3:YI54="L"))+SUMPRODUCT((YH3:YH54=UG4)*(YJ3:YJ54="L")) -> 0 | UK4: =SUMIF(YE3:YE72,UG4,YF3:YF72)+SUMIF(YH3:YH72,UG4,YG3:YG72) -> 0 | UL4: =SUMIF(YH3:YH72,UG4,YF3:YF72)+SUMIF(YE3:YE72,UG4,YG3:YG72) -> 0 | UM4: =UK4-UL4+1000 -> 1000 | UN4: =UH4*3+UI4*1 -> 0 | UO4: =QI4 -> 27 | UP4: =IF(COUNTIF(UN4:UN8,4)<>4,RANK(UN4,UN4:UN8),UN56) -> 1 | UR4: =SUMPRODUCT((UP4:UP7=UP4)*(UO4:UO7<UO4))+UP4 -> 4 | US4: =INDEX(UG4:UG8,MATCH(1,UR4:UR8,0),0) -> Finland | UT4: =INDEX(UP4:UP8,MATCH(US4,UG4:UG8,0),0) -> 1 | UU4: =IF(UT5=1,US4,"") -> Finland | UV4: =IF(UT6=2,US5,"") | UW4: =IF(UT7=3,US6,"") | UX4: =IF(UT8=4,US7,"") | UZ4: =IF(UU4<>"",UU4,"") -> Finland | VA4: =SUMPRODUCT((YE3:YE54=UZ4)*(YH3:YH54=UZ5)*(YI3:YI54="W"))+SUMPRODUCT((YE3:YE54=UZ4)*(YH3:YH54=UZ6)*(YI3:YI54="W"))+SUMPRODUCT((YE3:YE54=UZ4)*(YH3:YH54=UZ7)*(YI3:YI54="W"))+SUMPRODUCT((YE3:YE54=UZ4)*(YH3:YH54=UZ8)*(YI3:YI54="W"))+SUMPRODUCT((YE3:YE54=UZ5)*(YH3:YH54=UZ4)*(YJ3:YJ54="W"))+SUMPRODUCT((YE3:YE54=UZ6)*(YH3:YH54=UZ4)*(YJ3:YJ54="W"))+SUMPRODUCT((YE3:YE54=UZ7)*(YH3:YH54=UZ4)*(YJ3:YJ54="W"))+SUMPRODUCT((YE3:YE54=UZ8)*(YH3:YH54=UZ4)*(YJ3:YJ54="W")) -> 0 | VB4: =SUMPRODUCT((YE3:YE54=UZ4)*(YH3:YH54=UZ5)*(YI3:YI54="D"))+SUMPRODUCT((YE3:YE54=UZ4)*(YH3:YH54=UZ6)*(YI3:YI54="D"))+SUMPRODUCT((YE3:YE54=UZ4)*(YH3:YH54=UZ7)*(YI3:YI54="D"))+SUMPRODUCT((YE3:YE54=UZ4)*(YH3:YH54=UZ8)*(YI3:YI54="D"))+SUMPRODUCT((YE3:YE54=UZ5)*(YH3:YH54=UZ4)*(YI3:YI54="D"))+SUMPRODUCT((YE3:YE54=UZ6)*(YH3:YH54=UZ4)*(YI3:YI54="D"))+SUMPRODUCT((YE3:YE54=UZ7)*(YH3:YH54=UZ4)*(YI3:YI54="D"))+SUMPRODUCT((YE3:YE54=UZ8)*(YH3:YH54=UZ4)*(YI3:YI54="D")) -> 0 | VC4: =SUMPRODUCT((YE3:YE54=UZ4)*(YH3:YH54=UZ5)*(YI3:YI54="L"))+SUMPRODUCT((YE3:YE54=UZ4)*(YH3:YH54=UZ6)*(YI3:YI54="L"))+SUMPRODUCT((YE3:YE54=UZ4)*(YH3:YH54=UZ7)*(YI3:YI54="L"))+SUMPRODUCT((YE3:YE54=UZ4)*(YH3:YH54=UZ8)*(YI3:YI54="L"))+SUMPRODUCT((YE3:YE54=UZ5)*(YH3:YH54=UZ4)*(YJ3:YJ54="L"))+SUMPRODUCT((YE3:YE54=UZ6)*(YH3:YH54=UZ4)*(YJ3:YJ54="L"))+SUMPRODUCT((YE3:YE54=UZ7)*(YH3:YH54=UZ4)*(YJ3:YJ54="L"))+SUMPRODUCT((YE3:YE54=UZ8)*(YH3:YH54=UZ4)*(YJ3:YJ54="L")) -> 0 | VD4: =SUMPRODUCT((YE3:YE54=UZ4)*(YH3:YH54=UZ5)*YF3:YF54)+SUMPRODUCT((YE3:YE54=UZ4)*(YH3:YH54=UZ6)*YF3:YF54)+SUMPRODUCT((YE3:YE54=UZ4)*(YH3:YH54=UZ7)*YF3:YF54)+SUMPRODUCT((YE3:YE54=UZ4)*(YH3:YH54=UZ8)*YF3:YF54)+SUMPRODUCT((YE3:YE54=UZ5)*(YH3:YH54=UZ4)*YG3:YG54)+SUMPRODUCT((YE3:YE54=UZ6)*(YH3:YH54=UZ4)*YG3:YG54)+SUMPRODUCT((YE3:YE54=UZ7)*(YH3:YH54=UZ4)*YG3:YG54)+SUMPRODUCT((YE3:YE54=UZ8)*(YH3:YH54=UZ4)*YG3:YG54) -> 0 | VE4: =SUMPRODUCT((YE3:YE54=UZ4)*(YH3:YH54=UZ5)*YG3:YG54)+SUMPRODUCT((YE3:YE54=UZ4)*(YH3:YH54=UZ6)*YG3:YG54)+SUMPRODUCT((YE3:YE54=UZ4)*(YH3:YH54=UZ7)*YG3:YG54)+SUMPRODUCT((YE3:YE54=UZ4)*(YH3:YH54=UZ8)*YG3:YG54)+SUMPRODUCT((YE3:YE54=UZ5)*(YH3:YH54=UZ4)*YF3:YF54)+SUMPRODUCT((YE3:YE54=UZ6)*(YH3:YH54=UZ4)*YF3:YF54)+SUMPRODUCT((YE3:YE54=UZ7)*(YH3:YH54=UZ4)*YF3:YF54)+SUMPRODUCT((YE3:YE54=UZ8)*(YH3:YH54=UZ4)*YF3:YF54) -> 0 | VF4: =VD4-VE4+1000 -> 1000 | VG4: =IF(UZ4<>"",VA4*3+VB4*1,"") -> 0 | VH4: =IF(UZ4<>"",VLOOKUP(UZ4,UG4:UM52,7,FALSE),"") -> 1000 | VI4: =IF(UZ4<>"",VLOOKUP(UZ4,UG4:UM52,5,FALSE),"") -> 0 | VJ4: =IF(UZ4<>"",VLOOKUP(UZ4,UG4:UO52,9,FALSE),"") -> 8 | VK4: =VG4 -> 0 | VL4: =IF(UZ4<>"",RANK(VK4,VK4:VK8),"") -> 1 | VM4: =IF(UZ4<>"",SUMPRODUCT((VK4:VK8=VK4)*(VF4:VF8>VF4)),"") -> 0 | VN4: =IF(UZ4<>"",SUMPRODUCT((VK4:VK8=VK4)*(VF4:VF8=VF4)*(VD4:VD8>VD4)),"") -> 0 | VO4: =IF(UZ4<>"",SUMPRODUCT((VK4:VK8=VK4)*(VF4:VF8=VF4)*(VD4:VD8=VD4)*(VH4:VH8>VH4)),"") -> 0 | VP4: =IF(UZ4<>"",SUMPRODUCT((VK4:VK8=VK4)*(VF4:VF8=VF4)*(VD4:VD8=VD4)*(VH4:VH8=VH4)*(VI4:VI8>VI4)),"") -> 0 | VQ4: =IF(UZ4<>"",SUMPRODUCT((VK4:VK8=VK4)*(VF4:VF8=VF4)*(VD4:VD8=VD4)*(VH4:VH8=VH4)*(VI4:VI8=VI4)*(VJ4:VJ8>VJ4)),"") -> 3 | VR4: =IF(UZ4<>"",IF(VR56<>"",IF(UY55=3,VR56,VR56+UY55),SUM(VL4:VQ4)),"") -> 4 | VS4: =IF(UZ4<>"",INDEX(UZ4:UZ8,MATCH(1,VR4:VR8,0),0),"") -> Switzerland | YB4: =IF(VS4<>"",VS4,US4) -> Switzerland | YC4: 1 | YD4: 2 | YE4: =TY4 -> Iceland | YF4: =IF(OFFSET('Game Board'!O9,0,YF1)<>"",OFFSET('Game Board'!O9,0,YF1),0) -> 0 | YG4: =IF(OFFSET('Game Board'!P9,0,YF1)<>"",OFFSET('Game Board'!P9,0,YF1),0) -> 0 | YH4: =UB4 -> Finland | YI4: =IF(AND(OFFSET('Game Board'!O9,0,YF1)<>"",OFFSET('Game Board'!P9,0,YF1)<>""),IF(YF4>YG4,"W",IF(YF4=YG4,"D","L")),"") | YJ4: =IF(YI4<>"",IF(YI4="W","L",IF(YI4="L","W","D")),"") | YL4: =VLOOKUP(YM4,ACH4:ACI8,2,FALSE) -> 1 | YM4: =UG4 -> Switzerland | YN4: =SUMPRODUCT((ACK3:ACK54=YM4)*(ACO3:ACO54="W"))+SUMPRODUCT((ACN3:ACN54=YM4)*(ACP3:ACP54="W")) -> 0 | YO4: =SUMPRODUCT((ACK3:ACK54=YM4)*(ACO3:ACO54="D"))+SUMPRODUCT((ACN3:ACN54=YM4)*(ACP3:ACP54="D")) -> 0 | YP4: =SUMPRODUCT((ACK3:ACK54=YM4)*(ACO3:ACO54="L"))+SUMPRODUCT((ACN3:ACN54=YM4)*(ACP3:ACP54="L")) -> 0 | YQ4: =SUMIF(ACK3:ACK72,YM4,ACL3:ACL72)+SUMIF(ACN3:ACN72,YM4,ACM3:ACM72) -> 0 | YR4: =SUMIF(ACN3:ACN72,YM4,ACL3:ACL72)+SUMIF(ACK3:ACK72,YM4,ACM3:ACM72) -> 0 | YS4: =YQ4-YR4+1000 -> 1000 | YT4: =YN4*3+YO4*1 -> 0 | YU4: =UO4 -> 27 | YV4: =IF(COUNTIF(YT4:YT8,4)<>4,RANK(YT4,YT4:YT8),YT56) -> 1 | YX4: =SUMPRODUCT((YV4:YV7=YV4)*(YU4:YU7<YU4))+YV4 -> 4 | YY4: =INDEX(YM4:YM8,MATCH(1,YX4:YX8,0),0) -> Finland | YZ4: =INDEX(YV4:YV8,MATCH(YY4,YM4:YM8,0),0) -> 1 | ZA4: =IF(YZ5=1,YY4,"") -> Finland | ZB4: =IF(YZ6=2,YY5,"") | ZC4: =IF(YZ7=3,YY6,"") | ZD4: =IF(YZ8=4,YY7,"") | ZF4: =IF(ZA4<>"",ZA4,"") -> Finland | ZG4: =SUMPRODUCT((ACK3:ACK54=ZF4)*(ACN3:ACN54=ZF5)*(ACO3:ACO54="W"))+SUMPRODUCT((ACK3:ACK54=ZF4)*(ACN3:ACN54=ZF6)*(ACO3:ACO54="W"))+SUMPRODUCT((ACK3:ACK54=ZF4)*(ACN3:ACN54=ZF7)*(ACO3:ACO54="W"))+SUMPRODUCT((ACK3:ACK54=ZF4)*(ACN3:ACN54=ZF8)*(ACO3:ACO54="W"))+SUMPRODUCT((ACK3:ACK54=ZF5)*(ACN3:ACN54=ZF4)*(ACP3:ACP54="W"))+SUMPRODUCT((ACK3:ACK54=ZF6)*(ACN3:ACN54=ZF4)*(ACP3:ACP54="W"))+SUMPRODUCT((ACK3:ACK54=ZF7)*(ACN3:ACN54=ZF4)*(ACP3:ACP54="W"))+SUMPRODUCT((ACK3:ACK54=ZF8)*(ACN3:ACN54=ZF4)*(ACP3:ACP54="W")) -> 0 | ZH4: =SUMPRODUCT((ACK3:ACK54=ZF4)*(ACN3:ACN54=ZF5)*(ACO3:ACO54="D"))+SUMPRODUCT((ACK3:ACK54=ZF4)*(ACN3:ACN54=ZF6)*(ACO3:ACO54="D"))+SUMPRODUCT((ACK3:ACK54=ZF4)*(ACN3:ACN54=ZF7)*(ACO3:ACO54="D"))+SUMPRODUCT((ACK3:ACK54=ZF4)*(ACN3:ACN54=ZF8)*(ACO3:ACO54="D"))+SUMPRODUCT((ACK3:ACK54=ZF5)*(ACN3:ACN54=ZF4)*(ACO3:ACO54="D"))+SUMPRODUCT((ACK3:ACK54=ZF6)*(ACN3:ACN54=ZF4)*(ACO3:ACO54="D"))+SUMPRODUCT((ACK3:ACK54=ZF7)*(ACN3:ACN54=ZF4)*(ACO3:ACO54="D"))+SUMPRODUCT((ACK3:ACK54=ZF8)*(ACN3:ACN54=ZF4)*(ACO3:ACO54="D")) -> 0 | ZI4: =SUMPRODUCT((ACK3:ACK54=ZF4)*(ACN3:ACN54=ZF5)*(ACO3:ACO54="L"))+SUMPRODUCT((ACK3:ACK54=ZF4)*(ACN3:ACN54=ZF6)*(ACO3:ACO54="L"))+SUMPRODUCT((ACK3:ACK54=ZF4)*(ACN3:ACN54=ZF7)*(ACO3:ACO54="L"))+SUMPRODUCT((ACK3:ACK54=ZF4)*(ACN3:ACN54=ZF8)*(ACO3:ACO54="L"))+SUMPRODUCT((ACK3:ACK54=ZF5)*(ACN3:ACN54=ZF4)*(ACP3:ACP54="L"))+SUMPRODUCT((ACK3:ACK54=ZF6)*(ACN3:ACN54=ZF4)*(ACP3:ACP54="L"))+SUMPRODUCT((ACK3:ACK54=ZF7)*(ACN3:ACN54=ZF4)*(ACP3:ACP54="L"))+SUMPRODUCT((ACK3:ACK54=ZF8)*(ACN3:ACN54=ZF4)*(ACP3:ACP54="L")) -> 0 | ZJ4: =SUMPRODUCT((ACK3:ACK54=ZF4)*(ACN3:ACN54=ZF5)*ACL3:ACL54)+SUMPRODUCT((ACK3:ACK54=ZF4)*(ACN3:ACN54=ZF6)*ACL3:ACL54)+SUMPRODUCT((ACK3:ACK54=ZF4)*(ACN3:ACN54=ZF7)*ACL3:ACL54)+SUMPRODUCT((ACK3:ACK54=ZF4)*(ACN3:ACN54=ZF8)*ACL3:ACL54)+SUMPRODUCT((ACK3:ACK54=ZF5)*(ACN3:ACN54=ZF4)*ACM3:ACM54)+SUMPRODUCT((ACK3:ACK54=ZF6)*(ACN3:ACN54=ZF4)*ACM3:ACM54)+SUMPRODUCT((ACK3:ACK54=ZF7)*(ACN3:ACN54=ZF4)*ACM3:ACM54)+SUMPRODUCT((ACK3:ACK54=ZF8)*(ACN3:ACN54=ZF4)*ACM3:ACM54) -> 0 | ZK4: =SUMPRODUCT((ACK3:ACK54=ZF4)*(ACN3:ACN54=ZF5)*ACM3:ACM54)+SUMPRODUCT((ACK3:ACK54=ZF4)*(ACN3:ACN54=ZF6)*ACM3:ACM54)+SUMPRODUCT((ACK3:ACK54=ZF4)*(ACN3:ACN54=ZF7)*ACM3:ACM54)+SUMPRODUCT((ACK3:ACK54=ZF4)*(ACN3:ACN54=ZF8)*ACM3:ACM54)+SUMPRODUCT((ACK3:ACK54=ZF5)*(ACN3:ACN54=ZF4)*ACL3:ACL54)+SUMPRODUCT((ACK3:ACK54=ZF6)*(ACN3:ACN54=ZF4)*ACL3:ACL54)+SUMPRODUCT((ACK3:ACK54=ZF7)*(ACN3:ACN54=ZF4)*ACL3:ACL54)+SUMPRODUCT((ACK3:ACK54=ZF8)*(ACN3:ACN54=ZF4)*ACL3:ACL54) -> 0 | ZL4: =ZJ4-ZK4+1000 -> 1000 | ZM4: =IF(ZF4<>"",ZG4*3+ZH4*1,"") -> 0 | ZN4: =IF(ZF4<>"",VLOOKUP(ZF4,YM4:YS52,7,FALSE),"") -> 1000 | ZO4: =IF(ZF4<>"",VLOOKUP(ZF4,YM4:YS52,5,FALSE),"") -> 0 | ZP4: =IF(ZF4<>"",VLOOKUP(ZF4,YM4:YU52,9,FALSE),"") -> 8 | ZQ4: =ZM4 -> 0 | ZR4: =IF(ZF4<>"",RANK(ZQ4,ZQ4:ZQ8),"") -> 1 | ZS4: =IF(ZF4<>"",SUMPRODUCT((ZQ4:ZQ8=ZQ4)*(ZL4:ZL8>ZL4)),"") -> 0 | ZT4: =IF(ZF4<>"",SUMPRODUCT((ZQ4:ZQ8=ZQ4)*(ZL4:ZL8=ZL4)*(ZJ4:ZJ8>ZJ4)),"") -> 0 | ZU4: =IF(ZF4<>"",SUMPRODUCT((ZQ4:ZQ8=ZQ4)*(ZL4:ZL8=ZL4)*(ZJ4:ZJ8=ZJ4)*(ZN4:ZN8>ZN4)),"") -> 0 | ZV4: =IF(ZF4<>"",SUMPRODUCT((ZQ4:ZQ8=ZQ4)*(ZL4:ZL8=ZL4)*(ZJ4:ZJ8=ZJ4)*(ZN4:ZN8=ZN4)*(ZO4:ZO8>ZO4)),"") -> 0 | ZW4: =IF(ZF4<>"",SUMPRODUCT((ZQ4:ZQ8=ZQ4)*(ZL4:ZL8=ZL4)*(ZJ4:ZJ8=ZJ4)*(ZN4:ZN8=ZN4)*(ZO4:ZO8=ZO4)*(ZP4:ZP8>ZP4)),"") -> 3 | ZX4: =IF(ZF4<>"",IF(ZX56<>"",IF(ZE55=3,ZX56,ZX56+ZE55),SUM(ZR4:ZW4)),"") -> 4 | ZY4: =IF(ZF4<>"",INDEX(ZF4:ZF8,MATCH(1,ZX4:ZX8,0),0),"") -> Switzerland | ACH4: =IF(ZY4<>"",ZY4,YY4) -> Switzerland | ACI4: 1 | ACJ4: 2 | ACK4: =YE4 -> Iceland | ACL4: =IF(OFFSET('Game Board'!O9,0,ACL1)<>"",OFFSET('Game Board'!O9,0,ACL1),0) -> 0 | ACM4: =IF(OFFSET('Game Board'!P9,0,ACL1)<>"",OFFSET('Game Board'!P9,0,ACL1),0) -> 0 | ACN4: =YH4 -> Finland | ACO4: =IF(AND(OFFSET('Game Board'!O9,0,ACL1)<>"",OFFSET('Game Board'!P9,0,ACL1)<>""),IF(ACL4>ACM4,"W",IF(ACL4=ACM4,"D","L")),"") | ACP4: =IF(ACO4<>"",IF(ACO4="W","L",IF(ACO4="L","W","D")),"") | ACR4: =VLOOKUP(ACS4,AGN4:AGO8,2,FALSE) -> 1 | ACS4: =YM4 -> Switzerland | ACT4: =SUMPRODUCT((AGQ3:AGQ54=ACS4)*(AGU3:AGU54="W"))+SUMPRODUCT((AGT3:AGT54=ACS4)*(AGV3:AGV54="W")) -> 0 | ACU4: =SUMPRODUCT((AGQ3:AGQ54=ACS4)*(AGU3:AGU54="D"))+SUMPRODUCT((AGT3:AGT54=ACS4)*(AGV3:AGV54="D")) -> 0 | ACV4: =SUMPRODUCT((AGQ3:AGQ54=ACS4)*(AGU3:AGU54="L"))+SUMPRODUCT((AGT3:AGT54=ACS4)*(AGV3:AGV54="L")) -> 0 | ACW4: =SUMIF(AGQ3:AGQ72,ACS4,AGR3:AGR72)+SUMIF(AGT3:AGT72,ACS4,AGS3:AGS72) -> 0 | ACX4: =SUMIF(AGT3:AGT72,ACS4,AGR3:AGR72)+SUMIF(AGQ3:AGQ72,ACS4,AGS3:AGS72) -> 0 | ACY4: =ACW4-ACX4+1000 -> 1000 | ACZ4: =ACT4*3+ACU4*1 -> 0 | ADA4: =YU4 -> 27 | ADB4: =IF(COUNTIF(ACZ4:ACZ8,4)<>4,RANK(ACZ4,ACZ4:ACZ8),ACZ56) -> 1 | ADD4: =SUMPRODUCT((ADB4:ADB7=ADB4)*(ADA4:ADA7<ADA4))+ADB4 -> 4 | ADE4: =INDEX(ACS4:ACS8,MATCH(1,ADD4:ADD8,0),0) -> Finland | ADF4: =INDEX(ADB4:ADB8,MATCH(ADE4,ACS4:ACS8,0),0) -> 1 | ADG4: =IF(ADF5=1,ADE4,"") -> Finland | ADH4: =IF(ADF6=2,ADE5,"") | ADI4: =IF(ADF7=3,ADE6,"") | ADJ4: =IF(ADF8=4,ADE7,"") | ADL4: =IF(ADG4<>"",ADG4,"") -> Finland | ADM4: =SUMPRODUCT((AGQ3:AGQ54=ADL4)*(AGT3:AGT54=ADL5)*(AGU3:AGU54="W"))+SUMPRODUCT((AGQ3:AGQ54=ADL4)*(AGT3:AGT54=ADL6)*(AGU3:AGU54="W"))+SUMPRODUCT((AGQ3:AGQ54=ADL4)*(AGT3:AGT54=ADL7)*(AGU3:AGU54="W"))+SUMPRODUCT((AGQ3:AGQ54=ADL4)*(AGT3:AGT54=ADL8)*(AGU3:AGU54="W"))+SUMPRODUCT((AGQ3:AGQ54=ADL5)*(AGT3:AGT54=ADL4)*(AGV3:AGV54="W"))+SUMPRODUCT((AGQ3:AGQ54=ADL6)*(AGT3:AGT54=ADL4)*(AGV3:AGV54="W"))+SUMPRODUCT((AGQ3:AGQ54=ADL7)*(AGT3:AGT54=ADL4)*(AGV3:AGV54="W"))+SUMPRODUCT((AGQ3:AGQ54=ADL8)*(AGT3:AGT54=ADL4)*(AGV3:AGV54="W")) -> 0 | ADN4: =SUMPRODUCT((AGQ3:AGQ54=ADL4)*(AGT3:AGT54=ADL5)*(AGU3:AGU54="D"))+SUMPRODUCT((AGQ3:AGQ54=ADL4)*(AGT3:AGT54=ADL6)*(AGU3:AGU54="D"))+SUMPRODUCT((AGQ3:AGQ54=ADL4)*(AGT3:AGT54=ADL7)*(AGU3:AGU54="D"))+SUMPRODUCT((AGQ3:AGQ54=ADL4)*(AGT3:AGT54=ADL8)*(AGU3:AGU54="D"))+SUMPRODUCT((AGQ3:AGQ54=ADL5)*(AGT3:AGT54=ADL4)*(AGU3:AGU54="D"))+SUMPRODUCT((AGQ3:AGQ54=ADL6)*(AGT3:AGT54=ADL4)*(AGU3:AGU54="D"))+SUMPRODUCT((AGQ3:AGQ54=ADL7)*(AGT3:AGT54=ADL4)*(AGU3:AGU54="D"))+SUMPRODUCT((AGQ3:AGQ54=ADL8)*(AGT3:AGT54=ADL4)*(AGU3:AGU54="D")) -> 0 | ADO4: =SUMPRODUCT((AGQ3:AGQ54=ADL4)*(AGT3:AGT54=ADL5)*(AGU3:AGU54="L"))+SUMPRODUCT((AGQ3:AGQ54=ADL4)*(AGT3:AGT54=ADL6)*(AGU3:AGU54="L"))+SUMPRODUCT((AGQ3:AGQ54=ADL4)*(AGT3:AGT54=ADL7)*(AGU3:AGU54="L"))+SUMPRODUCT((AGQ3:AGQ54=ADL4)*(AGT3:AGT54=ADL8)*(AGU3:AGU54="L"))+SUMPRODUCT((AGQ3:AGQ54=ADL5)*(AGT3:AGT54=ADL4)*(AGV3:AGV54="L"))+SUMPRODUCT((AGQ3:AGQ54=ADL6)*(AGT3:AGT54=ADL4)*(AGV3:AGV54="L"))+SUMPRODUCT((AGQ3:AGQ54=ADL7)*(AGT3:AGT54=ADL4)*(AGV3:AGV54="L"))+SUMPRODUCT((AGQ3:AGQ54=ADL8)*(AGT3:AGT54=ADL4)*(AGV3:AGV54="L")) -> 0 | ADP4: =SUMPRODUCT((AGQ3:AGQ54=ADL4)*(AGT3:AGT54=ADL5)*AGR3:AGR54)+SUMPRODUCT((AGQ3:AGQ54=ADL4)*(AGT3:AGT54=ADL6)*AGR3:AGR54)+SUMPRODUCT((AGQ3:AGQ54=ADL4)*(AGT3:AGT54=ADL7)*AGR3:AGR54)+SUMPRODUCT((AGQ3:AGQ54=ADL4)*(AGT3:AGT54=ADL8)*AGR3:AGR54)+SUMPRODUCT((AGQ3:AGQ54=ADL5)*(AGT3:AGT54=ADL4)*AGS3:AGS54)+SUMPRODUCT((AGQ3:AGQ54=ADL6)*(AGT3:AGT54=ADL4)*AGS3:AGS54)+SUMPRODUCT((AGQ3:AGQ54=ADL7)*(AGT3:AGT54=ADL4)*AGS3:AGS54)+SUMPRODUCT((AGQ3:AGQ54=ADL8)*(AGT3:AGT54=ADL4)*AGS3:AGS54) -> 0 | ADQ4: =SUMPRODUCT((AGQ3:AGQ54=ADL4)*(AGT3:AGT54=ADL5)*AGS3:AGS54)+SUMPRODUCT((AGQ3:AGQ54=ADL4)*(AGT3:AGT54=ADL6)*AGS3:AGS54)+SUMPRODUCT((AGQ3:AGQ54=ADL4)*(AGT3:AGT54=ADL7)*AGS3:AGS54)+SUMPRODUCT((AGQ3:AGQ54=ADL4)*(AGT3:AGT54=ADL8)*AGS3:AGS54)+SUMPRODUCT((AGQ3:AGQ54=ADL5)*(AGT3:AGT54=ADL4)*AGR3:AGR54)+SUMPRODUCT((AGQ3:AGQ54=ADL6)*(AGT3:AGT54=ADL4)*AGR3:AGR54)+SUMPRODUCT((AGQ3:AGQ54=ADL7)*(AGT3:AGT54=ADL4)*AGR3:AGR54)+SUMPRODUCT((AGQ3:AGQ54=ADL8)*(AGT3:AGT54=ADL4)*AGR3:AGR54) -> 0 | ADR4: =ADP4-ADQ4+1000 -> 1000 | ADS4: =IF(ADL4<>"",ADM4*3+ADN4*1,"") -> 0 | ADT4: =IF(ADL4<>"",VLOOKUP(ADL4,ACS4:ACY52,7,FALSE),"") -> 1000 | ADU4: =IF(ADL4<>"",VLOOKUP(ADL4,ACS4:ACY52,5,FALSE),"") -> 0 | ADV4: =IF(ADL4<>"",VLOOKUP(ADL4,ACS4:ADA52,9,FALSE),"") -> 8 | ADW4: =ADS4 -> 0 | ADX4: =IF(ADL4<>"",RANK(ADW4,ADW4:ADW8),"") -> 1 | ADY4: =IF(ADL4<>"",SUMPRODUCT((ADW4:ADW8=ADW4)*(ADR4:ADR8>ADR4)),"") -> 0 | ADZ4: =IF(ADL4<>"",SUMPRODUCT((ADW4:ADW8=ADW4)*(ADR4:ADR8=ADR4)*(ADP4:ADP8>ADP4)),"") -> 0 | AEA4: =IF(ADL4<>"",SUMPRODUCT((ADW4:ADW8=ADW4)*(ADR4:ADR8=ADR4)*(ADP4:ADP8=ADP4)*(ADT4:ADT8>ADT4)),"") -> 0 | AEB4: =IF(ADL4<>"",SUMPRODUCT((ADW4:ADW8=ADW4)*(ADR4:ADR8=ADR4)*(ADP4:ADP8=ADP4)*(ADT4:ADT8=ADT4)*(ADU4:ADU8>ADU4)),"") -> 0 | AEC4: =IF(ADL4<>"",SUMPRODUCT((ADW4:ADW8=ADW4)*(ADR4:ADR8=ADR4)*(ADP4:ADP8=ADP4)*(ADT4:ADT8=ADT4)*(ADU4:ADU8=ADU4)*(ADV4:ADV8>ADV4)),"") -> 3 | AED4: =IF(ADL4<>"",IF(AED56<>"",IF(ADK55=3,AED56,AED56+ADK55),SUM(ADX4:AEC4)),"") -> 4 | AEE4: =IF(ADL4<>"",INDEX(ADL4:ADL8,MATCH(1,AED4:AED8,0),0),"") -> Switzerland | AGN4: =IF(AEE4<>"",AEE4,ADE4) -> Switzerland | AGO4: 1 | AGP4: 2 | AGQ4: =ACK4 -> Iceland | AGR4: =IF(OFFSET('Game Board'!O9,0,AGR1)<>"",OFFSET('Game Board'!O9,0,AGR1),0) -> 0 | AGS4: =IF(OFFSET('Game Board'!P9,0,AGR1)<>"",OFFSET('Game Board'!P9,0,AGR1),0) -> 0 | AGT4: =ACN4 -> Finland | AGU4: =IF(AND(OFFSET('Game Board'!O9,0,AGR1)<>"",OFFSET('Game Board'!P9,0,AGR1)<>""),IF(AGR4>AGS4,"W",IF(AGR4=AGS4,"D","L")),"") | AGV4: =IF(AGU4<>"",IF(AGU4="W","L",IF(AGU4="L","W","D")),"") | AGX4: =VLOOKUP(AGY4,AKT4:AKU8,2,FALSE) -> 1 | AGY4: =ACS4 -> Switzerland | AGZ4: =SUMPRODUCT((AKW3:AKW54=AGY4)*(ALA3:ALA54="W"))+SUMPRODUCT((AKZ3:AKZ54=AGY4)*(ALB3:ALB54="W")) -> 0 | AHA4: =SUMPRODUCT((AKW3:AKW54=AGY4)*(ALA3:ALA54="D"))+SUMPRODUCT((AKZ3:AKZ54=AGY4)*(ALB3:ALB54="D")) -> 0 | AHB4: =SUMPRODUCT((AKW3:AKW54=AGY4)*(ALA3:ALA54="L"))+SUMPRODUCT((AKZ3:AKZ54=AGY4)*(ALB3:ALB54="L")) -> 0 | AHC4: =SUMIF(AKW3:AKW72,AGY4,AKX3:AKX72)+SUMIF(AKZ3:AKZ72,AGY4,AKY3:AKY72) -> 0 | AHD4: =SUMIF(AKZ3:AKZ72,AGY4,AKX3:AKX72)+SUMIF(AKW3:AKW72,AGY4,AKY3:AKY72) -> 0 | AHE4: =AHC4-AHD4+1000 -> 1000 | AHF4: =AGZ4*3+AHA4*1 -> 0 | AHG4: =ADA4 -> 27 | AHH4: =IF(COUNTIF(AHF4:AHF8,4)<>4,RANK(AHF4,AHF4:AHF8),AHF56) -> 1 | AHJ4: =SUMPRODUCT((AHH4:AHH7=AHH4)*(AHG4:AHG7<AHG4))+AHH4 -> 4 | AHK4: =INDEX(AGY4:AGY8,MATCH(1,AHJ4:AHJ8,0),0) -> Finland | AHL4: =INDEX(AHH4:AHH8,MATCH(AHK4,AGY4:AGY8,0),0) -> 1 | AHM4: =IF(AHL5=1,AHK4,"") -> Finland | AHN4: =IF(AHL6=2,AHK5,"") | AHO4: =IF(AHL7=3,AHK6,"") | AHP4: =IF(AHL8=4,AHK7,"") | AHR4: =IF(AHM4<>"",AHM4,"") -> Finland | AHS4: =SUMPRODUCT((AKW3:AKW54=AHR4)*(AKZ3:AKZ54=AHR5)*(ALA3:ALA54="W"))+SUMPRODUCT((AKW3:AKW54=AHR4)*(AKZ3:AKZ54=AHR6)*(ALA3:ALA54="W"))+SUMPRODUCT((AKW3:AKW54=AHR4)*(AKZ3:AKZ54=AHR7)*(ALA3:ALA54="W"))+SUMPRODUCT((AKW3:AKW54=AHR4)*(AKZ3:AKZ54=AHR8)*(ALA3:ALA54="W"))+SUMPRODUCT((AKW3:AKW54=AHR5)*(AKZ3:AKZ54=AHR4)*(ALB3:ALB54="W"))+SUMPRODUCT((AKW3:AKW54=AHR6)*(AKZ3:AKZ54=AHR4)*(ALB3:ALB54="W"))+SUMPRODUCT((AKW3:AKW54=AHR7)*(AKZ3:AKZ54=AHR4)*(ALB3:ALB54="W"))+SUMPRODUCT((AKW3:AKW54=AHR8)*(AKZ3:AKZ54=AHR4)*(ALB3:ALB54="W")) -> 0 | AHT4: =SUMPRODUCT((AKW3:AKW54=AHR4)*(AKZ3:AKZ54=AHR5)*(ALA3:ALA54="D"))+SUMPRODUCT((AKW3:AKW54=AHR4)*(AKZ3:AKZ54=AHR6)*(ALA3:ALA54="D"))+SUMPRODUCT((AKW3:AKW54=AHR4)*(AKZ3:AKZ54=AHR7)*(ALA3:ALA54="D"))+SUMPRODUCT((AKW3:AKW54=AHR4)*(AKZ3:AKZ54=AHR8)*(ALA3:ALA54="D"))+SUMPRODUCT((AKW3:AKW54=AHR5)*(AKZ3:AKZ54=AHR4)*(ALA3:ALA54="D"))+SUMPRODUCT((AKW3:AKW54=AHR6)*(AKZ3:AKZ54=AHR4)*(ALA3:ALA54="D"))+SUMPRODUCT((AKW3:AKW54=AHR7)*(AKZ3:AKZ54=AHR4)*(ALA3:ALA54="D"))+SUMPRODUCT((AKW3:AKW54=AHR8)*(AKZ3:AKZ54=AHR4)*(ALA3:ALA54="D")) -> 0 | AHU4: =SUMPRODUCT((AKW3:AKW54=AHR4)*(AKZ3:AKZ54=AHR5)*(ALA3:ALA54="L"))+SUMPRODUCT((AKW3:AKW54=AHR4)*(AKZ3:AKZ54=AHR6)*(ALA3:ALA54="L"))+SUMPRODUCT((AKW3:AKW54=AHR4)*(AKZ3:AKZ54=AHR7)*(ALA3:ALA54="L"))+SUMPRODUCT((AKW3:AKW54=AHR4)*(AKZ3:AKZ54=AHR8)*(ALA3:ALA54="L"))+SUMPRODUCT((AKW3:AKW54=AHR5)*(AKZ3:AKZ54=AHR4)*(ALB3:ALB54="L"))+SUMPRODUCT((AKW3:AKW54=AHR6)*(AKZ3:AKZ54=AHR4)*(ALB3:ALB54="L"))+SUMPRODUCT((AKW3:AKW54=AHR7)*(AKZ3:AKZ54=AHR4)*(ALB3:ALB54="L"))+SUMPRODUCT((AKW3:AKW54=AHR8)*(AKZ3:AKZ54=AHR4)*(ALB3:ALB54="L")) -> 0 | AHV4: =SUMPRODUCT((AKW3:AKW54=AHR4)*(AKZ3:AKZ54=AHR5)*AKX3:AKX54)+SUMPRODUCT((AKW3:AKW54=AHR4)*(AKZ3:AKZ54=AHR6)*AKX3:AKX54)+SUMPRODUCT((AKW3:AKW54=AHR4)*(AKZ3:AKZ54=AHR7)*AKX3:AKX54)+SUMPRODUCT((AKW3:AKW54=AHR4)*(AKZ3:AKZ54=AHR8)*AKX3:AKX54)+SUMPRODUCT((AKW3:AKW54=AHR5)*(AKZ3:AKZ54=AHR4)*AKY3:AKY54)+SUMPRODUCT((AKW3:AKW54=AHR6)*(AKZ3:AKZ54=AHR4)*AKY3:AKY54)+SUMPRODUCT((AKW3:AKW54=AHR7)*(AKZ3:AKZ54=AHR4)*AKY3:AKY54)+SUMPRODUCT((AKW3:AKW54=AHR8)*(AKZ3:AKZ54=AHR4)*AKY3:AKY54) -> 0 | AHW4: =SUMPRODUCT((AKW3:AKW54=AHR4)*(AKZ3:AKZ54=AHR5)*AKY3:AKY54)+SUMPRODUCT((AKW3:AKW54=AHR4)*(AKZ3:AKZ54=AHR6)*AKY3:AKY54)+SUMPRODUCT((AKW3:AKW54=AHR4)*(AKZ3:AKZ54=AHR7)*AKY3:AKY54)+SUMPRODUCT((AKW3:AKW54=AHR4)*(AKZ3:AKZ54=AHR8)*AKY3:AKY54)+SUMPRODUCT((AKW3:AKW54=AHR5)*(AKZ3:AKZ54=AHR4)*AKX3:AKX54)+SUMPRODUCT((AKW3:AKW54=AHR6)*(AKZ3:AKZ54=AHR4)*AKX3:AKX54)+SUMPRODUCT((AKW3:AKW54=AHR7)*(AKZ3:AKZ54=AHR4)*AKX3:AKX54)+SUMPRODUCT((AKW3:AKW54=AHR8)*(AKZ3:AKZ54=AHR4)*AKX3:AKX54) -> 0 | AHX4: =AHV4-AHW4+1000 -> 1000 | AHY4: =IF(AHR4<>"",AHS4*3+AHT4*1,"") -> 0 | AHZ4: =IF(AHR4<>"",VLOOKUP(AHR4,AGY4:AHE52,7,FALSE),"") -> 1000 | AIA4: =IF(AHR4<>"",VLOOKUP(AHR4,AGY4:AHE52,5,FALSE),"") -> 0 | AIB4: =IF(AHR4<>"",VLOOKUP(AHR4,AGY4:AHG52,9,FALSE),"") -> 8 | AIC4: =AHY4 -> 0 | AID4: =IF(AHR4<>"",RANK(AIC4,AIC4:AIC8),"") -> 1 | AIE4: =IF(AHR4<>"",SUMPRODUCT((AIC4:AIC8=AIC4)*(AHX4:AHX8>AHX4)),"") -> 0 | AIF4: =IF(AHR4<>"",SUMPRODUCT((AIC4:AIC8=AIC4)*(AHX4:AHX8=AHX4)*(AHV4:AHV8>AHV4)),"") -> 0 | AIG4: =IF(AHR4<>"",SUMPRODUCT((AIC4:AIC8=AIC4)*(AHX4:AHX8=AHX4)*(AHV4:AHV8=AHV4)*(AHZ4:AHZ8>AHZ4)),"") -> 0 | AIH4: =IF(AHR4<>"",SUMPRODUCT((AIC4:AIC8=AIC4)*(AHX4:AHX8=AHX4)*(AHV4:AHV8=AHV4)*(AHZ4:AHZ8=AHZ4)*(AIA4:AIA8>AIA4)),"") -> 0 | AII4: =IF(AHR4<>"",SUMPRODUCT((AIC4:AIC8=AIC4)*(AHX4:AHX8=AHX4)*(AHV4:AHV8=AHV4)*(AHZ4:AHZ8=AHZ4)*(AIA4:AIA8=AIA4)*(AIB4:AIB8>AIB4)),"") -> 3 | AIJ4: =IF(AHR4<>"",IF(AIJ56<>"",IF(AHQ55=3,AIJ56,AIJ56+AHQ55),SUM(AID4:AII4)),"") -> 4 | AIK4: =IF(AHR4<>"",INDEX(AHR4:AHR8,MATCH(1,AIJ4:AIJ8,0),0),"") -> Switzerland | AKT4: =IF(AIK4<>"",AIK4,AHK4) -> Switzerland | AKU4: 1 | AKV4: 2 | AKW4: =AGQ4 -> Iceland | AKX4: =IF(OFFSET('Game Board'!O9,0,AKX1)<>"",OFFSET('Game Board'!O9,0,AKX1),0) -> 0 | AKY4: =IF(OFFSET('Game Board'!P9,0,AKX1)<>"",OFFSET('Game Board'!P9,0,AKX1),0) -> 0 | AKZ4: =AGT4 -> Finland | ALA4: =IF(AND(OFFSET('Game Board'!O9,0,AKX1)<>"",OFFSET('Game Board'!P9,0,AKX1)<>""),IF(AKX4>AKY4,"W",IF(AKX4=AKY4,"D","L")),"") | ALB4: =IF(ALA4<>"",IF(ALA4="W","L",IF(ALA4="L","W","D")),"") | ALD4: =VLOOKUP(ALE4,AOZ4:APA8,2,FALSE) -> 1 | ALE4: =AGY4 -> Switzerland | ALF4: =SUMPRODUCT((APC3:APC54=ALE4)*(APG3:APG54="W"))+SUMPRODUCT((APF3:APF54=ALE4)*(APH3:APH54="W")) -> 0 | ALG4: =SUMPRODUCT((APC3:APC54=ALE4)*(APG3:APG54="D"))+SUMPRODUCT((APF3:APF54=ALE4)*(APH3:APH54="D")) -> 0 | ALH4: =SUMPRODUCT((APC3:APC54=ALE4)*(APG3:APG54="L"))+SUMPRODUCT((APF3:APF54=ALE4)*(APH3:APH54="L")) -> 0 | ALI4: =SUMIF(APC3:APC72,ALE4,APD3:APD72)+SUMIF(APF3:APF72,ALE4,APE3:APE72) -> 0 | ALJ4: =SUMIF(APF3:APF72,ALE4,APD3:APD72)+SUMIF(APC3:APC72,ALE4,APE3:APE72) -> 0 | ALK4: =ALI4-ALJ4+1000 -> 1000 | ALL4: =ALF4*3+ALG4*1 -> 0 | ALM4: =AHG4 -> 27 | ALN4: =IF(COUNTIF(ALL4:ALL8,4)<>4,RANK(ALL4,ALL4:ALL8),ALL56) -> 1 | ALP4: =SUMPRODUCT((ALN4:ALN7=ALN4)*(ALM4:ALM7<ALM4))+ALN4 -> 4 | ALQ4: =INDEX(ALE4:ALE8,MATCH(1,ALP4:ALP8,0),0) -> Finland | ALR4: =INDEX(ALN4:ALN8,MATCH(ALQ4,ALE4:ALE8,0),0) -> 1 | ALS4: =IF(ALR5=1,ALQ4,"") -> Finland | ALT4: =IF(ALR6=2,ALQ5,"") | ALU4: =IF(ALR7=3,ALQ6,"") | ALV4: =IF(ALR8=4,ALQ7,"") | ALX4: =IF(ALS4<>"",ALS4,"") -> Finland | ALY4: =SUMPRODUCT((APC3:APC54=ALX4)*(APF3:APF54=ALX5)*(APG3:APG54="W"))+SUMPRODUCT((APC3:APC54=ALX4)*(APF3:APF54=ALX6)*(APG3:APG54="W"))+SUMPRODUCT((APC3:APC54=ALX4)*(APF3:APF54=ALX7)*(APG3:APG54="W"))+SUMPRODUCT((APC3:APC54=ALX4)*(APF3:APF54=ALX8)*(APG3:APG54="W"))+SUMPRODUCT((APC3:APC54=ALX5)*(APF3:APF54=ALX4)*(APH3:APH54="W"))+SUMPRODUCT((APC3:APC54=ALX6)*(APF3:APF54=ALX4)*(APH3:APH54="W"))+SUMPRODUCT((APC3:APC54=ALX7)*(APF3:APF54=ALX4)*(APH3:APH54="W"))+SUMPRODUCT((APC3:APC54=ALX8)*(APF3:APF54=ALX4)*(APH3:APH54="W")) -> 0 | ALZ4: =SUMPRODUCT((APC3:APC54=ALX4)*(APF3:APF54=ALX5)*(APG3:APG54="D"))+SUMPRODUCT((APC3:APC54=ALX4)*(APF3:APF54=ALX6)*(APG3:APG54="D"))+SUMPRODUCT((APC3:APC54=ALX4)*(APF3:APF54=ALX7)*(APG3:APG54="D"))+SUMPRODUCT((APC3:APC54=ALX4)*(APF3:APF54=ALX8)*(APG3:APG54="D"))+SUMPRODUCT((APC3:APC54=ALX5)*(APF3:APF54=ALX4)*(APG3:APG54="D"))+SUMPRODUCT((APC3:APC54=ALX6)*(APF3:APF54=ALX4)*(APG3:APG54="D"))+SUMPRODUCT((APC3:APC54=ALX7)*(APF3:APF54=ALX4)*(APG3:APG54="D"))+SUMPRODUCT((APC3:APC54=ALX8)*(APF3:APF54=ALX4)*(APG3:APG54="D")) -> 0 | AMA4: =SUMPRODUCT((APC3:APC54=ALX4)*(APF3:APF54=ALX5)*(APG3:APG54="L"))+SUMPRODUCT((APC3:APC54=ALX4)*(APF3:APF54=ALX6)*(APG3:APG54="L"))+SUMPRODUCT((APC3:APC54=ALX4)*(APF3:APF54=ALX7)*(APG3:APG54="L"))+SUMPRODUCT((APC3:APC54=ALX4)*(APF3:APF54=ALX8)*(APG3:APG54="L"))+SUMPRODUCT((APC3:APC54=ALX5)*(APF3:APF54=ALX4)*(APH3:APH54="L"))+SUMPRODUCT((APC3:APC54=ALX6)*(APF3:APF54=ALX4)*(APH3:APH54="L"))+SUMPRODUCT((APC3:APC54=ALX7)*(APF3:APF54=ALX4)*(APH3:APH54="L"))+SUMPRODUCT((APC3:APC54=ALX8)*(APF3:APF54=ALX4)*(APH3:APH54="L")) -> 0 | AMB4: =SUMPRODUCT((APC3:APC54=ALX4)*(APF3:APF54=ALX5)*APD3:APD54)+SUMPRODUCT((APC3:APC54=ALX4)*(APF3:APF54=ALX6)*APD3:APD54)+SUMPRODUCT((APC3:APC54=ALX4)*(APF3:APF54=ALX7)*APD3:APD54)+SUMPRODUCT((APC3:APC54=ALX4)*(APF3:APF54=ALX8)*APD3:APD54)+SUMPRODUCT((APC3:APC54=ALX5)*(APF3:APF54=ALX4)*APE3:APE54)+SUMPRODUCT((APC3:APC54=ALX6)*(APF3:APF54=ALX4)*APE3:APE54)+SUMPRODUCT((APC3:APC54=ALX7)*(APF3:APF54=ALX4)*APE3:APE54)+SUMPRODUCT((APC3:APC54=ALX8)*(APF3:APF54=ALX4)*APE3:APE54) -> 0 | AMC4: =SUMPRODUCT((APC3:APC54=ALX4)*(APF3:APF54=ALX5)*APE3:APE54)+SUMPRODUCT((APC3:APC54=ALX4)*(APF3:APF54=ALX6)*APE3:APE54)+SUMPRODUCT((APC3:APC54=ALX4)*(APF3:APF54=ALX7)*APE3:APE54)+SUMPRODUCT((APC3:APC54=ALX4)*(APF3:APF54=ALX8)*APE3:APE54)+SUMPRODUCT((APC3:APC54=ALX5)*(APF3:APF54=ALX4)*APD3:APD54)+SUMPRODUCT((APC3:APC54=ALX6)*(APF3:APF54=ALX4)*APD3:APD54)+SUMPRODUCT((APC3:APC54=ALX7)*(APF3:APF54=ALX4)*APD3:APD54)+SUMPRODUCT((APC3:APC54=ALX8)*(APF3:APF54=ALX4)*APD3:APD54) -> 0 | AMD4: =AMB4-AMC4+1000 -> 1000 | AME4: =IF(ALX4<>"",ALY4*3+ALZ4*1,"") -> 0 | AMF4: =IF(ALX4<>"",VLOOKUP(ALX4,ALE4:ALK52,7,FALSE),"") -> 1000 | AMG4: =IF(ALX4<>"",VLOOKUP(ALX4,ALE4:ALK52,5,FALSE),"") -> 0 | AMH4: =IF(ALX4<>"",VLOOKUP(ALX4,ALE4:ALM52,9,FALSE),"") -> 8 | AMI4: =AME4 -> 0 | AMJ4: =IF(ALX4<>"",RANK(AMI4,AMI4:AMI8),"") -> 1 | AMK4: =IF(ALX4<>"",SUMPRODUCT((AMI4:AMI8=AMI4)*(AMD4:AMD8>AMD4)),"") -> 0 | AML4: =IF(ALX4<>"",SUMPRODUCT((AMI4:AMI8=AMI4)*(AMD4:AMD8=AMD4)*(AMB4:AMB8>AMB4)),"") -> 0 | AMM4: =IF(ALX4<>"",SUMPRODUCT((AMI4:AMI8=AMI4)*(AMD4:AMD8=AMD4)*(AMB4:AMB8=AMB4)*(AMF4:AMF8>AMF4)),"") -> 0 | AMN4: =IF(ALX4<>"",SUMPRODUCT((AMI4:AMI8=AMI4)*(AMD4:AMD8=AMD4)*(AMB4:AMB8=AMB4)*(AMF4:AMF8=AMF4)*(AMG4:AMG8>AMG4)),"") -> 0 | AMO4: =IF(ALX4<>"",SUMPRODUCT((AMI4:AMI8=AMI4)*(AMD4:AMD8=AMD4)*(AMB4:AMB8=AMB4)*(AMF4:AMF8=AMF4)*(AMG4:AMG8=AMG4)*(AMH4:AMH8>AMH4)),"") -> 3 | AMP4: =IF(ALX4<>"",IF(AMP56<>"",IF(ALW55=3,AMP56,AMP56+ALW55),SUM(AMJ4:AMO4)),"") -> 4 | AMQ4: =IF(ALX4<>"",INDEX(ALX4:ALX8,MATCH(1,AMP4:AMP8,0),0),"") -> Switzerland | AOZ4: =IF(AMQ4<>"",AMQ4,ALQ4) -> Switzerland | APA4: 1 | APB4: 2 | APC4: =AKW4 -> Iceland | APD4: =IF(OFFSET('Game Board'!O9,0,APD1)<>"",OFFSET('Game Board'!O9,0,APD1),0) -> 0 | APE4: =IF(OFFSET('Game Board'!P9,0,APD1)<>"",OFFSET('Game Board'!P9,0,APD1),0) -> 0 | APF4: =AKZ4 -> Finland | APG4: =IF(AND(OFFSET('Game Board'!O9,0,APD1)<>"",OFFSET('Game Board'!P9,0,APD1)<>""),IF(APD4>APE4,"W",IF(APD4=APE4,"D","L")),"") | APH4: =IF(APG4<>"",IF(APG4="W","L",IF(APG4="L","W","D")),"") | APJ4: =VLOOKUP(APK4,ATF4:ATG8,2,FALSE) -> 1 | APK4: =ALE4 -> Switzerland | APL4: =SUMPRODUCT((ATI3:ATI54=APK4)*(ATM3:ATM54="W"))+SUMPRODUCT((ATL3:ATL54=APK4)*(ATN3:ATN54="W")) -> 0 | APM4: =SUMPRODUCT((ATI3:ATI54=APK4)*(ATM3:ATM54="D"))+SUMPRODUCT((ATL3:ATL54=APK4)*(ATN3:ATN54="D")) -> 0 | APN4: =SUMPRODUCT((ATI3:ATI54=APK4)*(ATM3:ATM54="L"))+SUMPRODUCT((ATL3:ATL54=APK4)*(ATN3:ATN54="L")) -> 0 | APO4: =SUMIF(ATI3:ATI72,APK4,ATJ3:ATJ72)+SUMIF(ATL3:ATL72,APK4,ATK3:ATK72) -> 0 | APP4: =SUMIF(ATL3:ATL72,APK4,ATJ3:ATJ72)+SUMIF(ATI3:ATI72,APK4,ATK3:ATK72) -> 0 | APQ4: =APO4-APP4+1000 -> 1000 | APR4: =APL4*3+APM4*1 -> 0 | APS4: =ALM4 -> 27 | APT4: =IF(COUNTIF(APR4:APR8,4)<>4,RANK(APR4,APR4:APR8),APR56) -> 1 | APV4: =SUMPRODUCT((APT4:APT7=APT4)*(APS4:APS7<APS4))+APT4 -> 4 | APW4: =INDEX(APK4:APK8,MATCH(1,APV4:APV8,0),0) -> Finland | APX4: =INDEX(APT4:APT8,MATCH(APW4,APK4:APK8,0),0) -> 1 | APY4: =IF(APX5=1,APW4,"") -> Finland | APZ4: =IF(APX6=2,APW5,"") | AQA4: =IF(APX7=3,APW6,"") | AQB4: =IF(APX8=4,APW7,"") | AQD4: =IF(APY4<>"",APY4,"") -> Finland | AQE4: =SUMPRODUCT((ATI3:ATI54=AQD4)*(ATL3:ATL54=AQD5)*(ATM3:ATM54="W"))+SUMPRODUCT((ATI3:ATI54=AQD4)*(ATL3:ATL54=AQD6)*(ATM3:ATM54="W"))+SUMPRODUCT((ATI3:ATI54=AQD4)*(ATL3:ATL54=AQD7)*(ATM3:ATM54="W"))+SUMPRODUCT((ATI3:ATI54=AQD4)*(ATL3:ATL54=AQD8)*(ATM3:ATM54="W"))+SUMPRODUCT((ATI3:ATI54=AQD5)*(ATL3:ATL54=AQD4)*(ATN3:ATN54="W"))+SUMPRODUCT((ATI3:ATI54=AQD6)*(ATL3:ATL54=AQD4)*(ATN3:ATN54="W"))+SUMPRODUCT((ATI3:ATI54=AQD7)*(ATL3:ATL54=AQD4)*(ATN3:ATN54="W"))+SUMPRODUCT((ATI3:ATI54=AQD8)*(ATL3:ATL54=AQD4)*(ATN3:ATN54="W")) -> 0 | AQF4: =SUMPRODUCT((ATI3:ATI54=AQD4)*(ATL3:ATL54=AQD5)*(ATM3:ATM54="D"))+SUMPRODUCT((ATI3:ATI54=AQD4)*(ATL3:ATL54=AQD6)*(ATM3:ATM54="D"))+SUMPRODUCT((ATI3:ATI54=AQD4)*(ATL3:ATL54=AQD7)*(ATM3:ATM54="D"))+SUMPRODUCT((ATI3:ATI54=AQD4)*(ATL3:ATL54=AQD8)*(ATM3:ATM54="D"))+SUMPRODUCT((ATI3:ATI54=AQD5)*(ATL3:ATL54=AQD4)*(ATM3:ATM54="D"))+SUMPRODUCT((ATI3:ATI54=AQD6)*(ATL3:ATL54=AQD4)*(ATM3:ATM54="D"))+SUMPRODUCT((ATI3:ATI54=AQD7)*(ATL3:ATL54=AQD4)*(ATM3:ATM54="D"))+SUMPRODUCT((ATI3:ATI54=AQD8)*(ATL3:ATL54=AQD4)*(ATM3:ATM54="D")) -> 0 | AQG4: =SUMPRODUCT((ATI3:ATI54=AQD4)*(ATL3:ATL54=AQD5)*(ATM3:ATM54="L"))+SUMPRODUCT((ATI3:ATI54=AQD4)*(ATL3:ATL54=AQD6)*(ATM3:ATM54="L"))+SUMPRODUCT((ATI3:ATI54=AQD4)*(ATL3:ATL54=AQD7)*(ATM3:ATM54="L"))+SUMPRODUCT((ATI3:ATI54=AQD4)*(ATL3:ATL54=AQD8)*(ATM3:ATM54="L"))+SUMPRODUCT((ATI3:ATI54=AQD5)*(ATL3:ATL54=AQD4)*(ATN3:ATN54="L"))+SUMPRODUCT((ATI3:ATI54=AQD6)*(ATL3:ATL54=AQD4)*(ATN3:ATN54="L"))+SUMPRODUCT((ATI3:ATI54=AQD7)*(ATL3:ATL54=AQD4)*(ATN3:ATN54="L"))+SUMPRODUCT((ATI3:ATI54=AQD8)*(ATL3:ATL54=AQD4)*(ATN3:ATN54="L")) -> 0 | AQH4: =SUMPRODUCT((ATI3:ATI54=AQD4)*(ATL3:ATL54=AQD5)*ATJ3:ATJ54)+SUMPRODUCT((ATI3:ATI54=AQD4)*(ATL3:ATL54=AQD6)*ATJ3:ATJ54)+SUMPRODUCT((ATI3:ATI54=AQD4)*(ATL3:ATL54=AQD7)*ATJ3:ATJ54)+SUMPRODUCT((ATI3:ATI54=AQD4)*(ATL3:ATL54=AQD8)*ATJ3:ATJ54)+SUMPRODUCT((ATI3:ATI54=AQD5)*(ATL3:ATL54=AQD4)*ATK3:ATK54)+SUMPRODUCT((ATI3:ATI54=AQD6)*(ATL3:ATL54=AQD4)*ATK3:ATK54)+SUMPRODUCT((ATI3:ATI54=AQD7)*(ATL3:ATL54=AQD4)*ATK3:ATK54)+SUMPRODUCT((ATI3:ATI54=AQD8)*(ATL3:ATL54=AQD4)*ATK3:ATK54) -> 0 | AQI4: =SUMPRODUCT((ATI3:ATI54=AQD4)*(ATL3:ATL54=AQD5)*ATK3:ATK54)+SUMPRODUCT((ATI3:ATI54=AQD4)*(ATL3:ATL54=AQD6)*ATK3:ATK54)+SUMPRODUCT((ATI3:ATI54=AQD4)*(ATL3:ATL54=AQD7)*ATK3:ATK54)+SUMPRODUCT((ATI3:ATI54=AQD4)*(ATL3:ATL54=AQD8)*ATK3:ATK54)+SUMPRODUCT((ATI3:ATI54=AQD5)*(ATL3:ATL54=AQD4)*ATJ3:ATJ54)+SUMPRODUCT((ATI3:ATI54=AQD6)*(ATL3:ATL54=AQD4)*ATJ3:ATJ54)+SUMPRODUCT((ATI3:ATI54=AQD7)*(ATL3:ATL54=AQD4)*ATJ3:ATJ54)+SUMPRODUCT((ATI3:ATI54=AQD8)*(ATL3:ATL54=AQD4)*ATJ3:ATJ54) -> 0 | AQJ4: =AQH4-AQI4+1000 -> 1000 | AQK4: =IF(AQD4<>"",AQE4*3+AQF4*1,"") -> 0 | AQL4: =IF(AQD4<>"",VLOOKUP(AQD4,APK4:APQ52,7,FALSE),"") -> 1000 | AQM4: =IF(AQD4<>"",VLOOKUP(AQD4,APK4:APQ52,5,FALSE),"") -> 0 | AQN4: =IF(AQD4<>"",VLOOKUP(AQD4,APK4:APS52,9,FALSE),"") -> 8 | AQO4: =AQK4 -> 0 | AQP4: =IF(AQD4<>"",RANK(AQO4,AQO4:AQO8),"") -> 1 | AQQ4: =IF(AQD4<>"",SUMPRODUCT((AQO4:AQO8=AQO4)*(AQJ4:AQJ8>AQJ4)),"") -> 0 | AQR4: =IF(AQD4<>"",SUMPRODUCT((AQO4:AQO8=AQO4)*(AQJ4:AQJ8=AQJ4)*(AQH4:AQH8>AQH4)),"") -> 0 | AQS4: =IF(AQD4<>"",SUMPRODUCT((AQO4:AQO8=AQO4)*(AQJ4:AQJ8=AQJ4)*(AQH4:AQH8=AQH4)*(AQL4:AQL8>AQL4)),"") -> 0 | AQT4: =IF(AQD4<>"",SUMPRODUCT((AQO4:AQO8=AQO4)*(AQJ4:AQJ8=AQJ4)*(AQH4:AQH8=AQH4)*(AQL4:AQL8=AQL4)*(AQM4:AQM8>AQM4)),"") -> 0 | AQU4: =IF(AQD4<>"",SUMPRODUCT((AQO4:AQO8=AQO4)*(AQJ4:AQJ8=AQJ4)*(AQH4:AQH8=AQH4)*(AQL4:AQL8=AQL4)*(AQM4:AQM8=AQM4)*(AQN4:AQN8>AQN4)),"") -> 3 | AQV4: =IF(AQD4<>"",IF(AQV56<>"",IF(AQC55=3,AQV56,AQV56+AQC55),SUM(AQP4:AQU4)),"") -> 4 | AQW4: =IF(AQD4<>"",INDEX(AQD4:AQD8,MATCH(1,AQV4:AQV8,0),0),"") -> Switzerland | ATF4: =IF(AQW4<>"",AQW4,APW4) -> Switzerland | ATG4: 1 | ATH4: 2 | ATI4: =APC4 -> Iceland | ATJ4: =IF(ATI2<>"",IF(OFFSET('Game Board'!O9,0,ATJ1)<>"",OFFSET('Game Board'!O9,0,ATJ1),0),"") -> 0 | ATK4: =IF(ATI2<>"",IF(OFFSET('Game Board'!P9,0,ATJ1)<>"",OFFSET('Game Board'!P9,0,ATJ1),0),"") -> 0 | ATL4: =APF4 -> Finland | ATM4: =IF(AND(OFFSET('Game Board'!O9,0,ATJ1)<>"",OFFSET('Game Board'!P9,0,ATJ1)<>""),IF(ATJ4>ATK4,"W",IF(ATJ4=ATK4,"D","L")),"") | ATN4: =IF(ATM4<>"",IF(ATM4="W","L",IF(ATM4="L","W","D")),"")
B5: =VLOOKUP(C5,CX4:CY8,2,FALSE) -> 2 | C5: ='Tournament Setup'!D7 -> Norway | D5: =SUMPRODUCT((DA3:DA54=C5)*(DE3:DE54="W"))+SUMPRODUCT((DD3:DD54=C5)*(DF3:DF54="W")) -> 0 | E5: =SUMPRODUCT((DA3:DA54=C5)*(DE3:DE54="D"))+SUMPRODUCT((DD3:DD54=C5)*(DF3:DF54="D")) -> 0 | F5: =SUMPRODUCT((DA3:DA54=C5)*(DE3:DE54="L"))+SUMPRODUCT((DD3:DD54=C5)*(DF3:DF54="L")) -> 0 | G5: =SUMIF(DA3:DA72,C5,DB3:DB72)+SUMIF(DD3:DD72,C5,DC3:DC72) -> 0 | H5: =SUMIF(DD3:DD72,C5,DB3:DB72)+SUMIF(DA3:DA72,C5,DC3:DC72) -> 0 | I5: =G5-H5+1000 -> 1000 | J5: =D5*3+E5*1 -> 0 | K5: 24 | L5: =IF(COUNTIF(J4:J8,4)<>4,RANK(J5,J4:J8),J57) -> 1 | N5: =SUMPRODUCT((L4:L7=L5)*(K4:K7<K5))+L5 -> 3 | O5: =INDEX(C4:C8,MATCH(2,N4:N8,0),0) -> Iceland | P5: =INDEX(L4:L8,MATCH(O5,C4:C8,0),0) -> 1 | Q5: =IF(Q4<>"",O5,"") -> Iceland | R5: =IF(R4<>"",O6,"") | S5: =IF(S4<>"",O7,"") | T5: =IF(T4<>"",O8,"") | V5: =IF(Q5<>"",Q5,"") -> Iceland | W5: =SUMPRODUCT((DA3:DA54=V5)*(DD3:DD54=V6)*(DE3:DE54="W"))+SUMPRODUCT((DA3:DA54=V5)*(DD3:DD54=V7)*(DE3:DE54="W"))+SUMPRODUCT((DA3:DA54=V5)*(DD3:DD54=V8)*(DE3:DE54="W"))+SUMPRODUCT((DA3:DA54=V5)*(DD3:DD54=V4)*(DE3:DE54="W"))+SUMPRODUCT((DA3:DA54=V6)*(DD3:DD54=V5)*(DF3:DF54="W"))+SUMPRODUCT((DA3:DA54=V7)*(DD3:DD54=V5)*(DF3:DF54="W"))+SUMPRODUCT((DA3:DA54=V8)*(DD3:DD54=V5)*(DF3:DF54="W"))+SUMPRODUCT((DA3:DA54=V4)*(DD3:DD54=V5)*(DF3:DF54="W")) -> 0 | X5: =SUMPRODUCT((DA3:DA54=V5)*(DD3:DD54=V6)*(DE3:DE54="D"))+SUMPRODUCT((DA3:DA54=V5)*(DD3:DD54=V7)*(DE3:DE54="D"))+SUMPRODUCT((DA3:DA54=V5)*(DD3:DD54=V8)*(DE3:DE54="D"))+SUMPRODUCT((DA3:DA54=V5)*(DD3:DD54=V4)*(DE3:DE54="D"))+SUMPRODUCT((DA3:DA54=V6)*(DD3:DD54=V5)*(DE3:DE54="D"))+SUMPRODUCT((DA3:DA54=V7)*(DD3:DD54=V5)*(DE3:DE54="D"))+SUMPRODUCT((DA3:DA54=V8)*(DD3:DD54=V5)*(DE3:DE54="D"))+SUMPRODUCT((DA3:DA54=V4)*(DD3:DD54=V5)*(DE3:DE54="D")) -> 0 | Y5: =SUMPRODUCT((DA3:DA54=V5)*(DD3:DD54=V6)*(DE3:DE54="L"))+SUMPRODUCT((DA3:DA54=V5)*(DD3:DD54=V7)*(DE3:DE54="L"))+SUMPRODUCT((DA3:DA54=V5)*(DD3:DD54=V8)*(DE3:DE54="L"))+SUMPRODUCT((DA3:DA54=V5)*(DD3:DD54=V4)*(DE3:DE54="L"))+SUMPRODUCT((DA3:DA54=V6)*(DD3:DD54=V5)*(DF3:DF54="L"))+SUMPRODUCT((DA3:DA54=V7)*(DD3:DD54=V5)*(DF3:DF54="L"))+SUMPRODUCT((DA3:DA54=V8)*(DD3:DD54=V5)*(DF3:DF54="L"))+SUMPRODUCT((DA3:DA54=V4)*(DD3:DD54=V5)*(DF3:DF54="L")) -> 0 | Z5: =SUMPRODUCT((DA3:DA54=V5)*(DD3:DD54=V6)*DB3:DB54)+SUMPRODUCT((DA3:DA54=V5)*(DD3:DD54=V7)*DB3:DB54)+SUMPRODUCT((DA3:DA54=V5)*(DD3:DD54=V8)*DB3:DB54)+SUMPRODUCT((DA3:DA54=V5)*(DD3:DD54=V4)*DB3:DB54)+SUMPRODUCT((DA3:DA54=V6)*(DD3:DD54=V5)*DC3:DC54)+SUMPRODUCT((DA3:DA54=V7)*(DD3:DD54=V5)*DC3:DC54)+SUMPRODUCT((DA3:DA54=V8)*(DD3:DD54=V5)*DC3:DC54)+SUMPRODUCT((DA3:DA54=V4)*(DD3:DD54=V5)*DC3:DC54) -> 0 | AA5: =SUMPRODUCT((DA3:DA54=V5)*(DD3:DD54=V6)*DC3:DC54)+SUMPRODUCT((DA3:DA54=V5)*(DD3:DD54=V7)*DC3:DC54)+SUMPRODUCT((DA3:DA54=V5)*(DD3:DD54=V8)*DC3:DC54)+SUMPRODUCT((DA3:DA54=V5)*(DD3:DD54=V4)*DC3:DC54)+SUMPRODUCT((DA3:DA54=V6)*(DD3:DD54=V5)*DB3:DB54)+SUMPRODUCT((DA3:DA54=V7)*(DD3:DD54=V5)*DB3:DB54)+SUMPRODUCT((DA3:DA54=V8)*(DD3:DD54=V5)*DB3:DB54)+SUMPRODUCT((DA3:DA54=V4)*(DD3:DD54=V5)*DB3:DB54) -> 0 | AB5: =Z5-AA5+1000 -> 1000 | AC5: =IF(V5<>"",W5*3+X5*1,"") -> 0 | AD5: =IF(V5<>"",VLOOKUP(V5,C4:I52,7,FALSE),"") -> 1000 | AE5: =IF(V5<>"",VLOOKUP(V5,C4:I52,5,FALSE),"") -> 0 | AF5: =IF(V5<>"",VLOOKUP(V5,C4:K52,9,FALSE),"") -> 16 | AG5: =AC5 -> 0 | AH5: =IF(V5<>"",RANK(AG5,AG4:AG8),"") -> 1 | AI5: =IF(V5<>"",SUMPRODUCT((AG4:AG8=AG5)*(AB4:AB8>AB5)),"") -> 0 | AJ5: =IF(V5<>"",SUMPRODUCT((AG4:AG8=AG5)*(AB4:AB8=AB5)*(Z4:Z8>Z5)),"") -> 0 | AK5: =IF(V5<>"",SUMPRODUCT((AG4:AG8=AG5)*(AB4:AB8=AB5)*(Z4:Z8=Z5)*(AD4:AD8>AD5)),"") -> 0 | AL5: =IF(V5<>"",SUMPRODUCT((AG4:AG8=AG5)*(AB4:AB8=AB5)*(Z4:Z8=Z5)*(AD4:AD8=AD5)*(AE4:AE8>AE5)),"") -> 0 | AM5: =IF(V5<>"",SUMPRODUCT((AG4:AG8=AG5)*(AB4:AB8=AB5)*(Z4:Z8=Z5)*(AD4:AD8=AD5)*(AE4:AE8=AE5)*(AF4:AF8>AF5)),"") -> 2 | AN5: =IF(V5<>"",IF(AN57<>"",IF(U55=3,AN57,AN57+U55),SUM(AH5:AM5)),"") -> 3 | AO5: =IF(V5<>"",INDEX(V4:V8,MATCH(2,AN4:AN8,0),0),"") -> Norway | AP5: =IF(R4<>"",R4,"") | AQ5: =SUMPRODUCT((DA3:DA54=AP5)*(DD3:DD54=AP6)*(DE3:DE54="W"))+SUMPRODUCT((DA3:DA54=AP5)*(DD3:DD54=AP7)*(DE3:DE54="W"))+SUMPRODUCT((DA3:DA54=AP5)*(DD3:DD54=AP8)*(DE3:DE54="W"))+SUMPRODUCT((DA3:DA54=AP6)*(DD3:DD54=AP5)*(DF3:DF54="W"))+SUMPRODUCT((DA3:DA54=AP7)*(DD3:DD54=AP5)*(DF3:DF54="W"))+SUMPRODUCT((DA3:DA54=AP8)*(DD3:DD54=AP5)*(DF3:DF54="W")) -> 0 | AR5: =SUMPRODUCT((DA3:DA54=AP5)*(DD3:DD54=AP6)*(DE3:DE54="D"))+SUMPRODUCT((DA3:DA54=AP5)*(DD3:DD54=AP7)*(DE3:DE54="D"))+SUMPRODUCT((DA3:DA54=AP5)*(DD3:DD54=AP8)*(DE3:DE54="D"))+SUMPRODUCT((DA3:DA54=AP6)*(DD3:DD54=AP5)*(DE3:DE54="D"))+SUMPRODUCT((DA3:DA54=AP7)*(DD3:DD54=AP5)*(DE3:DE54="D"))+SUMPRODUCT((DA3:DA54=AP8)*(DD3:DD54=AP5)*(DE3:DE54="D")) -> 0 | AS5: =SUMPRODUCT((DA3:DA54=AP5)*(DD3:DD54=AP6)*(DE3:DE54="L"))+SUMPRODUCT((DA3:DA54=AP5)*(DD3:DD54=AP7)*(DE3:DE54="L"))+SUMPRODUCT((DA3:DA54=AP5)*(DD3:DD54=AP8)*(DE3:DE54="L"))+SUMPRODUCT((DA3:DA54=AP6)*(DD3:DD54=AP5)*(DF3:DF54="L"))+SUMPRODUCT((DA3:DA54=AP7)*(DD3:DD54=AP5)*(DF3:DF54="L"))+SUMPRODUCT((DA3:DA54=AP8)*(DD3:DD54=AP5)*(DF3:DF54="L")) -> 0 | AT5: =SUMPRODUCT((DA3:DA54=AP5)*(DD3:DD54=AP6)*DB3:DB54)+SUMPRODUCT((DA3:DA54=AP5)*(DD3:DD54=AP7)*DB3:DB54)+SUMPRODUCT((DA3:DA54=AP5)*(DD3:DD54=AP8)*DB3:DB54)+SUMPRODUCT((DA3:DA54=AP5)*(DD3:DD54=AP4)*DB3:DB54)+SUMPRODUCT((DA3:DA54=AP6)*(DD3:DD54=AP5)*DC3:DC54)+SUMPRODUCT((DA3:DA54=AP7)*(DD3:DD54=AP5)*DC3:DC54)+SUMPRODUCT((DA3:DA54=AP8)*(DD3:DD54=AP5)*DC3:DC54)+SUMPRODUCT((DA3:DA54=AP4)*(DD3:DD54=AP5)*DC3:DC54) -> 0 | AU5: =SUMPRODUCT((DA3:DA54=AP5)*(DD3:DD54=AP6)*DC3:DC54)+SUMPRODUCT((DA3:DA54=AP5)*(DD3:DD54=AP7)*DC3:DC54)+SUMPRODUCT((DA3:DA54=AP5)*(DD3:DD54=AP8)*DC3:DC54)+SUMPRODUCT((DA3:DA54=AP5)*(DD3:DD54=AP4)*DC3:DC54)+SUMPRODUCT((DA3:DA54=AP6)*(DD3:DD54=AP5)*DB3:DB54)+SUMPRODUCT((DA3:DA54=AP7)*(DD3:DD54=AP5)*DB3:DB54)+SUMPRODUCT((DA3:DA54=AP8)*(DD3:DD54=AP5)*DB3:DB54)+SUMPRODUCT((DA3:DA54=AP4)*(DD3:DD54=AP5)*DB3:DB54) -> 0 | AV5: =AT5-AU5+1000 -> 1000 | AW5: =IF(AP5<>"",AQ5*3+AR5*1,"") | AX5: =IF(AP5<>"",VLOOKUP(AP5,C4:I52,7,FALSE),"") | AY5: =IF(AP5<>"",VLOOKUP(AP5,C4:I52,5,FALSE),"") | AZ5: =IF(AP5<>"",VLOOKUP(AP5,C4:K52,9,FALSE),"") | BA5: =AW5 | BB5: =IF(AP5<>"",RANK(BA5,BA4:BA8),"") | BC5: =IF(AP5<>"",SUMPRODUCT((BA4:BA8=BA5)*(AV4:AV8>AV5)),"") | BD5: =IF(AP5<>"",SUMPRODUCT((BA4:BA8=BA5)*(AV4:AV8=AV5)*(AT4:AT8>AT5)),"") | BE5: =IF(AP5<>"",SUMPRODUCT((BA4:BA8=BA5)*(AV4:AV8=AV5)*(AT4:AT8=AT5)*(AX4:AX8>AX5)),"") | BF5: =IF(AP5<>"",SUMPRODUCT((BA4:BA8=BA5)*(AV4:AV8=AV5)*(AT4:AT8=AT5)*(AX4:AX8=AX5)*(AY4:AY8>AY5)),"") | BG5: =IF(AP5<>"",SUMPRODUCT((BA4:BA8=BA5)*(AV4:AV8=AV5)*(AT4:AT8=AT5)*(AX4:AX8=AX5)*(AY4:AY8=AY5)*(AZ4:AZ8>AZ5)),"") | BH5: =IF(AP5<>"",IF(BH57<>"",IF(AO55=3,BH57,BH57+AO55),SUM(BB5:BG5)+1),"") | BI5: =IF(AP5<>"",INDEX(AP5:AP8,MATCH(2,BH5:BH8,0),0),"") | CX5: =IF(BI5<>"",BI5,IF(AO5<>"",AO5,O5)) -> Norway | CY5: 2 | CZ5: 3 | DA5: ='Game Board'!F10 -> Spain | DB5: =IF(DA2<>"",IF(AND('Game Board'!G10<>"",'Game Board'!H10<>""),'Game Board'!G10,0),"") -> 0 | DC5: =IF(DA2<>"",IF(AND('Game Board'!G10<>"",'Game Board'!H10<>""),'Game Board'!H10,0),"") -> 0 | DD5: ='Game Board'!I10 -> Portugal | DE5: =IF(AND('Game Board'!G10<>"",'Game Board'!H10<>""),IF(DB5>DC5,"W",IF(DB5=DC5,"D","L")),"") | DF5: =IF(DE5<>"",IF(DE5="W","L",IF(DE5="L","W","D")),"") | DH5: =VLOOKUP(DI5,HD4:HE8,2,FALSE) -> 2 | DI5: =C5 -> Norway | DJ5: =SUMPRODUCT((HG3:HG54=DI5)*(HK3:HK54="W"))+SUMPRODUCT((HJ3:HJ54=DI5)*(HL3:HL54="W")) -> 0 | DK5: =SUMPRODUCT((HG3:HG54=DI5)*(HK3:HK54="D"))+SUMPRODUCT((HJ3:HJ54=DI5)*(HL3:HL54="D")) -> 0 | DL5: =SUMPRODUCT((HG3:HG54=DI5)*(HK3:HK54="L"))+SUMPRODUCT((HJ3:HJ54=DI5)*(HL3:HL54="L")) -> 0 | DM5: =SUMIF(HG3:HG72,DI5,HH3:HH72)+SUMIF(HJ3:HJ72,DI5,HI3:HI72) -> 0 | DN5: =SUMIF(HJ3:HJ72,DI5,HH3:HH72)+SUMIF(HG3:HG72,DI5,HI3:HI72) -> 0 | DO5: =DM5-DN5+1000 -> 1000 | DP5: =DJ5*3+DK5*1 -> 0 | DQ5: =K5 -> 24 | DR5: =IF(COUNTIF(DP4:DP8,4)<>4,RANK(DP5,DP4:DP8),DP57) -> 1 | DT5: =SUMPRODUCT((DR4:DR7=DR5)*(DQ4:DQ7<DQ5))+DR5 -> 3 | DU5: =INDEX(DI4:DI8,MATCH(2,DT4:DT8,0),0) -> Iceland | DV5: =INDEX(DR4:DR8,MATCH(DU5,DI4:DI8,0),0) -> 1 | DW5: =IF(DW4<>"",DU5,"") -> Iceland | DX5: =IF(DX4<>"",DU6,"") | DY5: =IF(DY4<>"",DU7,"") | DZ5: =IF(DZ4<>"",DU8,"") | EB5: =IF(DW5<>"",DW5,"") -> Iceland | EC5: =SUMPRODUCT((HG3:HG54=EB5)*(HJ3:HJ54=EB6)*(HK3:HK54="W"))+SUMPRODUCT((HG3:HG54=EB5)*(HJ3:HJ54=EB7)*(HK3:HK54="W"))+SUMPRODUCT((HG3:HG54=EB5)*(HJ3:HJ54=EB8)*(HK3:HK54="W"))+SUMPRODUCT((HG3:HG54=EB5)*(HJ3:HJ54=EB4)*(HK3:HK54="W"))+SUMPRODUCT((HG3:HG54=EB6)*(HJ3:HJ54=EB5)*(HL3:HL54="W"))+SUMPRODUCT((HG3:HG54=EB7)*(HJ3:HJ54=EB5)*(HL3:HL54="W"))+SUMPRODUCT((HG3:HG54=EB8)*(HJ3:HJ54=EB5)*(HL3:HL54="W"))+SUMPRODUCT((HG3:HG54=EB4)*(HJ3:HJ54=EB5)*(HL3:HL54="W")) -> 0 | ED5: =SUMPRODUCT((HG3:HG54=EB5)*(HJ3:HJ54=EB6)*(HK3:HK54="D"))+SUMPRODUCT((HG3:HG54=EB5)*(HJ3:HJ54=EB7)*(HK3:HK54="D"))+SUMPRODUCT((HG3:HG54=EB5)*(HJ3:HJ54=EB8)*(HK3:HK54="D"))+SUMPRODUCT((HG3:HG54=EB5)*(HJ3:HJ54=EB4)*(HK3:HK54="D"))+SUMPRODUCT((HG3:HG54=EB6)*(HJ3:HJ54=EB5)*(HK3:HK54="D"))+SUMPRODUCT((HG3:HG54=EB7)*(HJ3:HJ54=EB5)*(HK3:HK54="D"))+SUMPRODUCT((HG3:HG54=EB8)*(HJ3:HJ54=EB5)*(HK3:HK54="D"))+SUMPRODUCT((HG3:HG54=EB4)*(HJ3:HJ54=EB5)*(HK3:HK54="D")) -> 0 | EE5: =SUMPRODUCT((HG3:HG54=EB5)*(HJ3:HJ54=EB6)*(HK3:HK54="L"))+SUMPRODUCT((HG3:HG54=EB5)*(HJ3:HJ54=EB7)*(HK3:HK54="L"))+SUMPRODUCT((HG3:HG54=EB5)*(HJ3:HJ54=EB8)*(HK3:HK54="L"))+SUMPRODUCT((HG3:HG54=EB5)*(HJ3:HJ54=EB4)*(HK3:HK54="L"))+SUMPRODUCT((HG3:HG54=EB6)*(HJ3:HJ54=EB5)*(HL3:HL54="L"))+SUMPRODUCT((HG3:HG54=EB7)*(HJ3:HJ54=EB5)*(HL3:HL54="L"))+SUMPRODUCT((HG3:HG54=EB8)*(HJ3:HJ54=EB5)*(HL3:HL54="L"))+SUMPRODUCT((HG3:HG54=EB4)*(HJ3:HJ54=EB5)*(HL3:HL54="L")) -> 0 | EF5: =SUMPRODUCT((HG3:HG54=EB5)*(HJ3:HJ54=EB6)*HH3:HH54)+SUMPRODUCT((HG3:HG54=EB5)*(HJ3:HJ54=EB7)*HH3:HH54)+SUMPRODUCT((HG3:HG54=EB5)*(HJ3:HJ54=EB8)*HH3:HH54)+SUMPRODUCT((HG3:HG54=EB5)*(HJ3:HJ54=EB4)*HH3:HH54)+SUMPRODUCT((HG3:HG54=EB6)*(HJ3:HJ54=EB5)*HI3:HI54)+SUMPRODUCT((HG3:HG54=EB7)*(HJ3:HJ54=EB5)*HI3:HI54)+SUMPRODUCT((HG3:HG54=EB8)*(HJ3:HJ54=EB5)*HI3:HI54)+SUMPRODUCT((HG3:HG54=EB4)*(HJ3:HJ54=EB5)*HI3:HI54) -> 0 | EG5: =SUMPRODUCT((HG3:HG54=EB5)*(HJ3:HJ54=EB6)*HI3:HI54)+SUMPRODUCT((HG3:HG54=EB5)*(HJ3:HJ54=EB7)*HI3:HI54)+SUMPRODUCT((HG3:HG54=EB5)*(HJ3:HJ54=EB8)*HI3:HI54)+SUMPRODUCT((HG3:HG54=EB5)*(HJ3:HJ54=EB4)*HI3:HI54)+SUMPRODUCT((HG3:HG54=EB6)*(HJ3:HJ54=EB5)*HH3:HH54)+SUMPRODUCT((HG3:HG54=EB7)*(HJ3:HJ54=EB5)*HH3:HH54)+SUMPRODUCT((HG3:HG54=EB8)*(HJ3:HJ54=EB5)*HH3:HH54)+SUMPRODUCT((HG3:HG54=EB4)*(HJ3:HJ54=EB5)*HH3:HH54) -> 0 | EH5: =EF5-EG5+1000 -> 1000 | EI5: =IF(EB5<>"",EC5*3+ED5*1,"") -> 0 | EJ5: =IF(EB5<>"",VLOOKUP(EB5,DI4:DO52,7,FALSE),"") -> 1000 | EK5: =IF(EB5<>"",VLOOKUP(EB5,DI4:DO52,5,FALSE),"") -> 0 | EL5: =IF(EB5<>"",VLOOKUP(EB5,DI4:DQ52,9,FALSE),"") -> 16 | EM5: =EI5 -> 0 | EN5: =IF(EB5<>"",RANK(EM5,EM4:EM8),"") -> 1 | EO5: =IF(EB5<>"",SUMPRODUCT((EM4:EM8=EM5)*(EH4:EH8>EH5)),"") -> 0 | EP5: =IF(EB5<>"",SUMPRODUCT((EM4:EM8=EM5)*(EH4:EH8=EH5)*(EF4:EF8>EF5)),"") -> 0 | EQ5: =IF(EB5<>"",SUMPRODUCT((EM4:EM8=EM5)*(EH4:EH8=EH5)*(EF4:EF8=EF5)*(EJ4:EJ8>EJ5)),"") -> 0 | ER5: =IF(EB5<>"",SUMPRODUCT((EM4:EM8=EM5)*(EH4:EH8=EH5)*(EF4:EF8=EF5)*(EJ4:EJ8=EJ5)*(EK4:EK8>EK5)),"") -> 0 | ES5: =IF(EB5<>"",SUMPRODUCT((EM4:EM8=EM5)*(EH4:EH8=EH5)*(EF4:EF8=EF5)*(EJ4:EJ8=EJ5)*(EK4:EK8=EK5)*(EL4:EL8>EL5)),"") -> 2 | ET5: =IF(EB5<>"",IF(ET57<>"",IF(EA55=3,ET57,ET57+EA55),SUM(EN5:ES5)),"") -> 3 | EU5: =IF(EB5<>"",INDEX(EB4:EB8,MATCH(2,ET4:ET8,0),0),"") -> Norway | EV5: =IF(DX4<>"",DX4,"") | EW5: =SUMPRODUCT((HG3:HG54=EV5)*(HJ3:HJ54=EV6)*(HK3:HK54="W"))+SUMPRODUCT((HG3:HG54=EV5)*(HJ3:HJ54=EV7)*(HK3:HK54="W"))+SUMPRODUCT((HG3:HG54=EV5)*(HJ3:HJ54=EV8)*(HK3:HK54="W"))+SUMPRODUCT((HG3:HG54=EV6)*(HJ3:HJ54=EV5)*(HL3:HL54="W"))+SUMPRODUCT((HG3:HG54=EV7)*(HJ3:HJ54=EV5)*(HL3:HL54="W"))+SUMPRODUCT((HG3:HG54=EV8)*(HJ3:HJ54=EV5)*(HL3:HL54="W")) -> 0 | EX5: =SUMPRODUCT((HG3:HG54=EV5)*(HJ3:HJ54=EV6)*(HK3:HK54="D"))+SUMPRODUCT((HG3:HG54=EV5)*(HJ3:HJ54=EV7)*(HK3:HK54="D"))+SUMPRODUCT((HG3:HG54=EV5)*(HJ3:HJ54=EV8)*(HK3:HK54="D"))+SUMPRODUCT((HG3:HG54=EV6)*(HJ3:HJ54=EV5)*(HK3:HK54="D"))+SUMPRODUCT((HG3:HG54=EV7)*(HJ3:HJ54=EV5)*(HK3:HK54="D"))+SUMPRODUCT((HG3:HG54=EV8)*(HJ3:HJ54=EV5)*(HK3:HK54="D")) -> 0 | EY5: =SUMPRODUCT((HG3:HG54=EV5)*(HJ3:HJ54=EV6)*(HK3:HK54="L"))+SUMPRODUCT((HG3:HG54=EV5)*(HJ3:HJ54=EV7)*(HK3:HK54="L"))+SUMPRODUCT((HG3:HG54=EV5)*(HJ3:HJ54=EV8)*(HK3:HK54="L"))+SUMPRODUCT((HG3:HG54=EV6)*(HJ3:HJ54=EV5)*(HL3:HL54="L"))+SUMPRODUCT((HG3:HG54=EV7)*(HJ3:HJ54=EV5)*(HL3:HL54="L"))+SUMPRODUCT((HG3:HG54=EV8)*(HJ3:HJ54=EV5)*(HL3:HL54="L")) -> 0 | EZ5: =SUMPRODUCT((HG3:HG54=EV5)*(HJ3:HJ54=EV6)*HH3:HH54)+SUMPRODUCT((HG3:HG54=EV5)*(HJ3:HJ54=EV7)*HH3:HH54)+SUMPRODUCT((HG3:HG54=EV5)*(HJ3:HJ54=EV8)*HH3:HH54)+SUMPRODUCT((HG3:HG54=EV5)*(HJ3:HJ54=EV4)*HH3:HH54)+SUMPRODUCT((HG3:HG54=EV6)*(HJ3:HJ54=EV5)*HI3:HI54)+SUMPRODUCT((HG3:HG54=EV7)*(HJ3:HJ54=EV5)*HI3:HI54)+SUMPRODUCT((HG3:HG54=EV8)*(HJ3:HJ54=EV5)*HI3:HI54)+SUMPRODUCT((HG3:HG54=EV4)*(HJ3:HJ54=EV5)*HI3:HI54) -> 0 | FA5: =SUMPRODUCT((HG3:HG54=EV5)*(HJ3:HJ54=EV6)*HI3:HI54)+SUMPRODUCT((HG3:HG54=EV5)*(HJ3:HJ54=EV7)*HI3:HI54)+SUMPRODUCT((HG3:HG54=EV5)*(HJ3:HJ54=EV8)*HI3:HI54)+SUMPRODUCT((HG3:HG54=EV5)*(HJ3:HJ54=EV4)*HI3:HI54)+SUMPRODUCT((HG3:HG54=EV6)*(HJ3:HJ54=EV5)*HH3:HH54)+SUMPRODUCT((HG3:HG54=EV7)*(HJ3:HJ54=EV5)*HH3:HH54)+SUMPRODUCT((HG3:HG54=EV8)*(HJ3:HJ54=EV5)*HH3:HH54)+SUMPRODUCT((HG3:HG54=EV4)*(HJ3:HJ54=EV5)*HH3:HH54) -> 0 | FB5: =EZ5-FA5+1000 -> 1000 | FC5: =IF(EV5<>"",EW5*3+EX5*1,"") | FD5: =IF(EV5<>"",VLOOKUP(EV5,DI4:DO52,7,FALSE),"") | FE5: =IF(EV5<>"",VLOOKUP(EV5,DI4:DO52,5,FALSE),"") | FF5: =IF(EV5<>"",VLOOKUP(EV5,DI4:DQ52,9,FALSE),"") | FG5: =FC5 | FH5: =IF(EV5<>"",RANK(FG5,FG4:FG8),"") | FI5: =IF(EV5<>"",SUMPRODUCT((FG4:FG8=FG5)*(FB4:FB8>FB5)),"") | FJ5: =IF(EV5<>"",SUMPRODUCT((FG4:FG8=FG5)*(FB4:FB8=FB5)*(EZ4:EZ8>EZ5)),"") | FK5: =IF(EV5<>"",SUMPRODUCT((FG4:FG8=FG5)*(FB4:FB8=FB5)*(EZ4:EZ8=EZ5)*(FD4:FD8>FD5)),"") | FL5: =IF(EV5<>"",SUMPRODUCT((FG4:FG8=FG5)*(FB4:FB8=FB5)*(EZ4:EZ8=EZ5)*(FD4:FD8=FD5)*(FE4:FE8>FE5)),"") | FM5: =IF(EV5<>"",SUMPRODUCT((FG4:FG8=FG5)*(FB4:FB8=FB5)*(EZ4:EZ8=EZ5)*(FD4:FD8=FD5)*(FE4:FE8=FE5)*(FF4:FF8>FF5)),"") | FN5: =IF(EV5<>"",IF(FN57<>"",IF(EU55=3,FN57,FN57+EU55),SUM(FH5:FM5)+1),"") | FO5: =IF(EV5<>"",INDEX(EV5:EV8,MATCH(2,FN5:FN8,0),0),"") | HD5: =IF(FO5<>"",FO5,IF(EU5<>"",EU5,DU5)) -> Norway | HE5: 2 | HF5: 3 | HG5: =DA5 -> Spain | HH5: =IF(OFFSET('Game Board'!O10,0,HH1)<>"",OFFSET('Game Board'!O10,0,HH1),0) -> 0 | HI5: =IF(OFFSET('Game Board'!P10,0,HH1)<>"",OFFSET('Game Board'!P10,0,HH1),0) -> 0 | HJ5: =DD5 -> Portugal | HK5: =IF(AND(OFFSET('Game Board'!O10,0,HH1)<>"",OFFSET('Game Board'!P10,0,HH1)<>""),IF(HH5>HI5,"W",IF(HH5=HI5,"D","L")),"") | HL5: =IF(HK5<>"",IF(HK5="W","L",IF(HK5="L","W","D")),"") | HN5: =VLOOKUP(HO5,LJ4:LK8,2,FALSE) -> 2 | HO5: =DI5 -> Norway | HP5: =SUMPRODUCT((LM3:LM54=HO5)*(LQ3:LQ54="W"))+SUMPRODUCT((LP3:LP54=HO5)*(LR3:LR54="W")) -> 0 | HQ5: =SUMPRODUCT((LM3:LM54=HO5)*(LQ3:LQ54="D"))+SUMPRODUCT((LP3:LP54=HO5)*(LR3:LR54="D")) -> 0 | HR5: =SUMPRODUCT((LM3:LM54=HO5)*(LQ3:LQ54="L"))+SUMPRODUCT((LP3:LP54=HO5)*(LR3:LR54="L")) -> 0 | HS5: =SUMIF(LM3:LM72,HO5,LN3:LN72)+SUMIF(LP3:LP72,HO5,LO3:LO72) -> 0 | HT5: =SUMIF(LP3:LP72,HO5,LN3:LN72)+SUMIF(LM3:LM72,HO5,LO3:LO72) -> 0 | HU5: =HS5-HT5+1000 -> 1000 | HV5: =HP5*3+HQ5*1 -> 0 | HW5: =DQ5 -> 24 | HX5: =IF(COUNTIF(HV4:HV8,4)<>4,RANK(HV5,HV4:HV8),HV57) -> 1 | HZ5: =SUMPRODUCT((HX4:HX7=HX5)*(HW4:HW7<HW5))+HX5 -> 3 | IA5: =INDEX(HO4:HO8,MATCH(2,HZ4:HZ8,0),0) -> Iceland | IB5: =INDEX(HX4:HX8,MATCH(IA5,HO4:HO8,0),0) -> 1 | IC5: =IF(IC4<>"",IA5,"") -> Iceland | ID5: =IF(ID4<>"",IA6,"") | IE5: =IF(IE4<>"",IA7,"") | IF5: =IF(IF4<>"",IA8,"") | IH5: =IF(IC5<>"",IC5,"") -> Iceland | II5: =SUMPRODUCT((LM3:LM54=IH5)*(LP3:LP54=IH6)*(LQ3:LQ54="W"))+SUMPRODUCT((LM3:LM54=IH5)*(LP3:LP54=IH7)*(LQ3:LQ54="W"))+SUMPRODUCT((LM3:LM54=IH5)*(LP3:LP54=IH8)*(LQ3:LQ54="W"))+SUMPRODUCT((LM3:LM54=IH5)*(LP3:LP54=IH4)*(LQ3:LQ54="W"))+SUMPRODUCT((LM3:LM54=IH6)*(LP3:LP54=IH5)*(LR3:LR54="W"))+SUMPRODUCT((LM3:LM54=IH7)*(LP3:LP54=IH5)*(LR3:LR54="W"))+SUMPRODUCT((LM3:LM54=IH8)*(LP3:LP54=IH5)*(LR3:LR54="W"))+SUMPRODUCT((LM3:LM54=IH4)*(LP3:LP54=IH5)*(LR3:LR54="W")) -> 0 | IJ5: =SUMPRODUCT((LM3:LM54=IH5)*(LP3:LP54=IH6)*(LQ3:LQ54="D"))+SUMPRODUCT((LM3:LM54=IH5)*(LP3:LP54=IH7)*(LQ3:LQ54="D"))+SUMPRODUCT((LM3:LM54=IH5)*(LP3:LP54=IH8)*(LQ3:LQ54="D"))+SUMPRODUCT((LM3:LM54=IH5)*(LP3:LP54=IH4)*(LQ3:LQ54="D"))+SUMPRODUCT((LM3:LM54=IH6)*(LP3:LP54=IH5)*(LQ3:LQ54="D"))+SUMPRODUCT((LM3:LM54=IH7)*(LP3:LP54=IH5)*(LQ3:LQ54="D"))+SUMPRODUCT((LM3:LM54=IH8)*(LP3:LP54=IH5)*(LQ3:LQ54="D"))+SUMPRODUCT((LM3:LM54=IH4)*(LP3:LP54=IH5)*(LQ3:LQ54="D")) -> 0 | IK5: =SUMPRODUCT((LM3:LM54=IH5)*(LP3:LP54=IH6)*(LQ3:LQ54="L"))+SUMPRODUCT((LM3:LM54=IH5)*(LP3:LP54=IH7)*(LQ3:LQ54="L"))+SUMPRODUCT((LM3:LM54=IH5)*(LP3:LP54=IH8)*(LQ3:LQ54="L"))+SUMPRODUCT((LM3:LM54=IH5)*(LP3:LP54=IH4)*(LQ3:LQ54="L"))+SUMPRODUCT((LM3:LM54=IH6)*(LP3:LP54=IH5)*(LR3:LR54="L"))+SUMPRODUCT((LM3:LM54=IH7)*(LP3:LP54=IH5)*(LR3:LR54="L"))+SUMPRODUCT((LM3:LM54=IH8)*(LP3:LP54=IH5)*(LR3:LR54="L"))+SUMPRODUCT((LM3:LM54=IH4)*(LP3:LP54=IH5)*(LR3:LR54="L")) -> 0 | IL5: =SUMPRODUCT((LM3:LM54=IH5)*(LP3:LP54=IH6)*LN3:LN54)+SUMPRODUCT((LM3:LM54=IH5)*(LP3:LP54=IH7)*LN3:LN54)+SUMPRODUCT((LM3:LM54=IH5)*(LP3:LP54=IH8)*LN3:LN54)+SUMPRODUCT((LM3:LM54=IH5)*(LP3:LP54=IH4)*LN3:LN54)+SUMPRODUCT((LM3:LM54=IH6)*(LP3:LP54=IH5)*LO3:LO54)+SUMPRODUCT((LM3:LM54=IH7)*(LP3:LP54=IH5)*LO3:LO54)+SUMPRODUCT((LM3:LM54=IH8)*(LP3:LP54=IH5)*LO3:LO54)+SUMPRODUCT((LM3:LM54=IH4)*(LP3:LP54=IH5)*LO3:LO54) -> 0 | IM5: =SUMPRODUCT((LM3:LM54=IH5)*(LP3:LP54=IH6)*LO3:LO54)+SUMPRODUCT((LM3:LM54=IH5)*(LP3:LP54=IH7)*LO3:LO54)+SUMPRODUCT((LM3:LM54=IH5)*(LP3:LP54=IH8)*LO3:LO54)+SUMPRODUCT((LM3:LM54=IH5)*(LP3:LP54=IH4)*LO3:LO54)+SUMPRODUCT((LM3:LM54=IH6)*(LP3:LP54=IH5)*LN3:LN54)+SUMPRODUCT((LM3:LM54=IH7)*(LP3:LP54=IH5)*LN3:LN54)+SUMPRODUCT((LM3:LM54=IH8)*(LP3:LP54=IH5)*LN3:LN54)+SUMPRODUCT((LM3:LM54=IH4)*(LP3:LP54=IH5)*LN3:LN54) -> 0 | IN5: =IL5-IM5+1000 -> 1000 | IO5: =IF(IH5<>"",II5*3+IJ5*1,"") -> 0 | IP5: =IF(IH5<>"",VLOOKUP(IH5,HO4:HU52,7,FALSE),"") -> 1000 | IQ5: =IF(IH5<>"",VLOOKUP(IH5,HO4:HU52,5,FALSE),"") -> 0 | IR5: =IF(IH5<>"",VLOOKUP(IH5,HO4:HW52,9,FALSE),"") -> 16 | IS5: =IO5 -> 0 | IT5: =IF(IH5<>"",RANK(IS5,IS4:IS8),"") -> 1 | IU5: =IF(IH5<>"",SUMPRODUCT((IS4:IS8=IS5)*(IN4:IN8>IN5)),"") -> 0 | IV5: =IF(IH5<>"",SUMPRODUCT((IS4:IS8=IS5)*(IN4:IN8=IN5)*(IL4:IL8>IL5)),"") -> 0 | IW5: =IF(IH5<>"",SUMPRODUCT((IS4:IS8=IS5)*(IN4:IN8=IN5)*(IL4:IL8=IL5)*(IP4:IP8>IP5)),"") -> 0 | IX5: =IF(IH5<>"",SUMPRODUCT((IS4:IS8=IS5)*(IN4:IN8=IN5)*(IL4:IL8=IL5)*(IP4:IP8=IP5)*(IQ4:IQ8>IQ5)),"") -> 0 | IY5: =IF(IH5<>"",SUMPRODUCT((IS4:IS8=IS5)*(IN4:IN8=IN5)*(IL4:IL8=IL5)*(IP4:IP8=IP5)*(IQ4:IQ8=IQ5)*(IR4:IR8>IR5)),"") -> 2 | IZ5: =IF(IH5<>"",IF(IZ57<>"",IF(IG55=3,IZ57,IZ57+IG55),SUM(IT5:IY5)),"") -> 3 | JA5: =IF(IH5<>"",INDEX(IH4:IH8,MATCH(2,IZ4:IZ8,0),0),"") -> Norway | JB5: =IF(ID4<>"",ID4,"") | JC5: =SUMPRODUCT((LM3:LM54=JB5)*(LP3:LP54=JB6)*(LQ3:LQ54="W"))+SUMPRODUCT((LM3:LM54=JB5)*(LP3:LP54=JB7)*(LQ3:LQ54="W"))+SUMPRODUCT((LM3:LM54=JB5)*(LP3:LP54=JB8)*(LQ3:LQ54="W"))+SUMPRODUCT((LM3:LM54=JB6)*(LP3:LP54=JB5)*(LR3:LR54="W"))+SUMPRODUCT((LM3:LM54=JB7)*(LP3:LP54=JB5)*(LR3:LR54="W"))+SUMPRODUCT((LM3:LM54=JB8)*(LP3:LP54=JB5)*(LR3:LR54="W")) -> 0 | JD5: =SUMPRODUCT((LM3:LM54=JB5)*(LP3:LP54=JB6)*(LQ3:LQ54="D"))+SUMPRODUCT((LM3:LM54=JB5)*(LP3:LP54=JB7)*(LQ3:LQ54="D"))+SUMPRODUCT((LM3:LM54=JB5)*(LP3:LP54=JB8)*(LQ3:LQ54="D"))+SUMPRODUCT((LM3:LM54=JB6)*(LP3:LP54=JB5)*(LQ3:LQ54="D"))+SUMPRODUCT((LM3:LM54=JB7)*(LP3:LP54=JB5)*(LQ3:LQ54="D"))+SUMPRODUCT((LM3:LM54=JB8)*(LP3:LP54=JB5)*(LQ3:LQ54="D")) -> 0 | JE5: =SUMPRODUCT((LM3:LM54=JB5)*(LP3:LP54=JB6)*(LQ3:LQ54="L"))+SUMPRODUCT((LM3:LM54=JB5)*(LP3:LP54=JB7)*(LQ3:LQ54="L"))+SUMPRODUCT((LM3:LM54=JB5)*(LP3:LP54=JB8)*(LQ3:LQ54="L"))+SUMPRODUCT((LM3:LM54=JB6)*(LP3:LP54=JB5)*(LR3:LR54="L"))+SUMPRODUCT((LM3:LM54=JB7)*(LP3:LP54=JB5)*(LR3:LR54="L"))+SUMPRODUCT((LM3:LM54=JB8)*(LP3:LP54=JB5)*(LR3:LR54="L")) -> 0 | JF5: =SUMPRODUCT((LM3:LM54=JB5)*(LP3:LP54=JB6)*LN3:LN54)+SUMPRODUCT((LM3:LM54=JB5)*(LP3:LP54=JB7)*LN3:LN54)+SUMPRODUCT((LM3:LM54=JB5)*(LP3:LP54=JB8)*LN3:LN54)+SUMPRODUCT((LM3:LM54=JB5)*(LP3:LP54=JB4)*LN3:LN54)+SUMPRODUCT((LM3:LM54=JB6)*(LP3:LP54=JB5)*LO3:LO54)+SUMPRODUCT((LM3:LM54=JB7)*(LP3:LP54=JB5)*LO3:LO54)+SUMPRODUCT((LM3:LM54=JB8)*(LP3:LP54=JB5)*LO3:LO54)+SUMPRODUCT((LM3:LM54=JB4)*(LP3:LP54=JB5)*LO3:LO54) -> 0 | JG5: =SUMPRODUCT((LM3:LM54=JB5)*(LP3:LP54=JB6)*LO3:LO54)+SUMPRODUCT((LM3:LM54=JB5)*(LP3:LP54=JB7)*LO3:LO54)+SUMPRODUCT((LM3:LM54=JB5)*(LP3:LP54=JB8)*LO3:LO54)+SUMPRODUCT((LM3:LM54=JB5)*(LP3:LP54=JB4)*LO3:LO54)+SUMPRODUCT((LM3:LM54=JB6)*(LP3:LP54=JB5)*LN3:LN54)+SUMPRODUCT((LM3:LM54=JB7)*(LP3:LP54=JB5)*LN3:LN54)+SUMPRODUCT((LM3:LM54=JB8)*(LP3:LP54=JB5)*LN3:LN54)+SUMPRODUCT((LM3:LM54=JB4)*(LP3:LP54=JB5)*LN3:LN54) -> 0 | JH5: =JF5-JG5+1000 -> 1000 | JI5: =IF(JB5<>"",JC5*3+JD5*1,"") | JJ5: =IF(JB5<>"",VLOOKUP(JB5,HO4:HU52,7,FALSE),"") | JK5: =IF(JB5<>"",VLOOKUP(JB5,HO4:HU52,5,FALSE),"") | JL5: =IF(JB5<>"",VLOOKUP(JB5,HO4:HW52,9,FALSE),"") | JM5: =JI5 | JN5: =IF(JB5<>"",RANK(JM5,JM4:JM8),"") | JO5: =IF(JB5<>"",SUMPRODUCT((JM4:JM8=JM5)*(JH4:JH8>JH5)),"") | JP5: =IF(JB5<>"",SUMPRODUCT((JM4:JM8=JM5)*(JH4:JH8=JH5)*(JF4:JF8>JF5)),"") | JQ5: =IF(JB5<>"",SUMPRODUCT((JM4:JM8=JM5)*(JH4:JH8=JH5)*(JF4:JF8=JF5)*(JJ4:JJ8>JJ5)),"") | JR5: =IF(JB5<>"",SUMPRODUCT((JM4:JM8=JM5)*(JH4:JH8=JH5)*(JF4:JF8=JF5)*(JJ4:JJ8=JJ5)*(JK4:JK8>JK5)),"") | JS5: =IF(JB5<>"",SUMPRODUCT((JM4:JM8=JM5)*(JH4:JH8=JH5)*(JF4:JF8=JF5)*(JJ4:JJ8=JJ5)*(JK4:JK8=JK5)*(JL4:JL8>JL5)),"") | JT5: =IF(JB5<>"",IF(JT57<>"",IF(JA55=3,JT57,JT57+JA55),SUM(JN5:JS5)+1),"") | JU5: =IF(JB5<>"",INDEX(JB5:JB8,MATCH(2,JT5:JT8,0),0),"") | LJ5: =IF(JU5<>"",JU5,IF(JA5<>"",JA5,IA5)) -> Norway | LK5: 2 | LL5: 3 | LM5: =HG5 -> Spain | LN5: =IF(OFFSET('Game Board'!O10,0,LN1)<>"",OFFSET('Game Board'!O10,0,LN1),0) -> 0 | LO5: =IF(OFFSET('Game Board'!P10,0,LN1)<>"",OFFSET('Game Board'!P10,0,LN1),0) -> 0 | LP5: =HJ5 -> Portugal | LQ5: =IF(AND(OFFSET('Game Board'!O10,0,LN1)<>"",OFFSET('Game Board'!P10,0,LN1)<>""),IF(LN5>LO5,"W",IF(LN5=LO5,"D","L")),"") | LR5: =IF(LQ5<>"",IF(LQ5="W","L",IF(LQ5="L","W","D")),"") | LT5: =VLOOKUP(LU5,PP4:PQ8,2,FALSE) -> 2 | LU5: =HO5 -> Norway | LV5: =SUMPRODUCT((PS3:PS54=LU5)*(PW3:PW54="W"))+SUMPRODUCT((PV3:PV54=LU5)*(PX3:PX54="W")) -> 0 | LW5: =SUMPRODUCT((PS3:PS54=LU5)*(PW3:PW54="D"))+SUMPRODUCT((PV3:PV54=LU5)*(PX3:PX54="D")) -> 0 | LX5: =SUMPRODUCT((PS3:PS54=LU5)*(PW3:PW54="L"))+SUMPRODUCT((PV3:PV54=LU5)*(PX3:PX54="L")) -> 0 | LY5: =SUMIF(PS3:PS72,LU5,PT3:PT72)+SUMIF(PV3:PV72,LU5,PU3:PU72) -> 0 | LZ5: =SUMIF(PV3:PV72,LU5,PT3:PT72)+SUMIF(PS3:PS72,LU5,PU3:PU72) -> 0 | MA5: =LY5-LZ5+1000 -> 1000 | MB5: =LV5*3+LW5*1 -> 0 | MC5: =HW5 -> 24 | MD5: =IF(COUNTIF(MB4:MB8,4)<>4,RANK(MB5,MB4:MB8),MB57) -> 1 | MF5: =SUMPRODUCT((MD4:MD7=MD5)*(MC4:MC7<MC5))+MD5 -> 3 | MG5: =INDEX(LU4:LU8,MATCH(2,MF4:MF8,0),0) -> Iceland | MH5: =INDEX(MD4:MD8,MATCH(MG5,LU4:LU8,0),0) -> 1 | MI5: =IF(MI4<>"",MG5,"") -> Iceland | MJ5: =IF(MJ4<>"",MG6,"") | MK5: =IF(MK4<>"",MG7,"") | ML5: =IF(ML4<>"",MG8,"") | MN5: =IF(MI5<>"",MI5,"") -> Iceland | MO5: =SUMPRODUCT((PS3:PS54=MN5)*(PV3:PV54=MN6)*(PW3:PW54="W"))+SUMPRODUCT((PS3:PS54=MN5)*(PV3:PV54=MN7)*(PW3:PW54="W"))+SUMPRODUCT((PS3:PS54=MN5)*(PV3:PV54=MN8)*(PW3:PW54="W"))+SUMPRODUCT((PS3:PS54=MN5)*(PV3:PV54=MN4)*(PW3:PW54="W"))+SUMPRODUCT((PS3:PS54=MN6)*(PV3:PV54=MN5)*(PX3:PX54="W"))+SUMPRODUCT((PS3:PS54=MN7)*(PV3:PV54=MN5)*(PX3:PX54="W"))+SUMPRODUCT((PS3:PS54=MN8)*(PV3:PV54=MN5)*(PX3:PX54="W"))+SUMPRODUCT((PS3:PS54=MN4)*(PV3:PV54=MN5)*(PX3:PX54="W")) -> 0 | MP5: =SUMPRODUCT((PS3:PS54=MN5)*(PV3:PV54=MN6)*(PW3:PW54="D"))+SUMPRODUCT((PS3:PS54=MN5)*(PV3:PV54=MN7)*(PW3:PW54="D"))+SUMPRODUCT((PS3:PS54=MN5)*(PV3:PV54=MN8)*(PW3:PW54="D"))+SUMPRODUCT((PS3:PS54=MN5)*(PV3:PV54=MN4)*(PW3:PW54="D"))+SUMPRODUCT((PS3:PS54=MN6)*(PV3:PV54=MN5)*(PW3:PW54="D"))+SUMPRODUCT((PS3:PS54=MN7)*(PV3:PV54=MN5)*(PW3:PW54="D"))+SUMPRODUCT((PS3:PS54=MN8)*(PV3:PV54=MN5)*(PW3:PW54="D"))+SUMPRODUCT((PS3:PS54=MN4)*(PV3:PV54=MN5)*(PW3:PW54="D")) -> 0 | MQ5: =SUMPRODUCT((PS3:PS54=MN5)*(PV3:PV54=MN6)*(PW3:PW54="L"))+SUMPRODUCT((PS3:PS54=MN5)*(PV3:PV54=MN7)*(PW3:PW54="L"))+SUMPRODUCT((PS3:PS54=MN5)*(PV3:PV54=MN8)*(PW3:PW54="L"))+SUMPRODUCT((PS3:PS54=MN5)*(PV3:PV54=MN4)*(PW3:PW54="L"))+SUMPRODUCT((PS3:PS54=MN6)*(PV3:PV54=MN5)*(PX3:PX54="L"))+SUMPRODUCT((PS3:PS54=MN7)*(PV3:PV54=MN5)*(PX3:PX54="L"))+SUMPRODUCT((PS3:PS54=MN8)*(PV3:PV54=MN5)*(PX3:PX54="L"))+SUMPRODUCT((PS3:PS54=MN4)*(PV3:PV54=MN5)*(PX3:PX54="L")) -> 0 | MR5: =SUMPRODUCT((PS3:PS54=MN5)*(PV3:PV54=MN6)*PT3:PT54)+SUMPRODUCT((PS3:PS54=MN5)*(PV3:PV54=MN7)*PT3:PT54)+SUMPRODUCT((PS3:PS54=MN5)*(PV3:PV54=MN8)*PT3:PT54)+SUMPRODUCT((PS3:PS54=MN5)*(PV3:PV54=MN4)*PT3:PT54)+SUMPRODUCT((PS3:PS54=MN6)*(PV3:PV54=MN5)*PU3:PU54)+SUMPRODUCT((PS3:PS54=MN7)*(PV3:PV54=MN5)*PU3:PU54)+SUMPRODUCT((PS3:PS54=MN8)*(PV3:PV54=MN5)*PU3:PU54)+SUMPRODUCT((PS3:PS54=MN4)*(PV3:PV54=MN5)*PU3:PU54) -> 0 | MS5: =SUMPRODUCT((PS3:PS54=MN5)*(PV3:PV54=MN6)*PU3:PU54)+SUMPRODUCT((PS3:PS54=MN5)*(PV3:PV54=MN7)*PU3:PU54)+SUMPRODUCT((PS3:PS54=MN5)*(PV3:PV54=MN8)*PU3:PU54)+SUMPRODUCT((PS3:PS54=MN5)*(PV3:PV54=MN4)*PU3:PU54)+SUMPRODUCT((PS3:PS54=MN6)*(PV3:PV54=MN5)*PT3:PT54)+SUMPRODUCT((PS3:PS54=MN7)*(PV3:PV54=MN5)*PT3:PT54)+SUMPRODUCT((PS3:PS54=MN8)*(PV3:PV54=MN5)*PT3:PT54)+SUMPRODUCT((PS3:PS54=MN4)*(PV3:PV54=MN5)*PT3:PT54) -> 0 | MT5: =MR5-MS5+1000 -> 1000 | MU5: =IF(MN5<>"",MO5*3+MP5*1,"") -> 0 | MV5: =IF(MN5<>"",VLOOKUP(MN5,LU4:MA52,7,FALSE),"") -> 1000 | MW5: =IF(MN5<>"",VLOOKUP(MN5,LU4:MA52,5,FALSE),"") -> 0 | MX5: =IF(MN5<>"",VLOOKUP(MN5,LU4:MC52,9,FALSE),"") -> 16 | MY5: =MU5 -> 0 | MZ5: =IF(MN5<>"",RANK(MY5,MY4:MY8),"") -> 1 | NA5: =IF(MN5<>"",SUMPRODUCT((MY4:MY8=MY5)*(MT4:MT8>MT5)),"") -> 0 | NB5: =IF(MN5<>"",SUMPRODUCT((MY4:MY8=MY5)*(MT4:MT8=MT5)*(MR4:MR8>MR5)),"") -> 0 | NC5: =IF(MN5<>"",SUMPRODUCT((MY4:MY8=MY5)*(MT4:MT8=MT5)*(MR4:MR8=MR5)*(MV4:MV8>MV5)),"") -> 0 | ND5: =IF(MN5<>"",SUMPRODUCT((MY4:MY8=MY5)*(MT4:MT8=MT5)*(MR4:MR8=MR5)*(MV4:MV8=MV5)*(MW4:MW8>MW5)),"") -> 0 | NE5: =IF(MN5<>"",SUMPRODUCT((MY4:MY8=MY5)*(MT4:MT8=MT5)*(MR4:MR8=MR5)*(MV4:MV8=MV5)*(MW4:MW8=MW5)*(MX4:MX8>MX5)),"") -> 2 | NF5: =IF(MN5<>"",IF(NF57<>"",IF(MM55=3,NF57,NF57+MM55),SUM(MZ5:NE5)),"") -> 3 | NG5: =IF(MN5<>"",INDEX(MN4:MN8,MATCH(2,NF4:NF8,0),0),"") -> Norway | NH5: =IF(MJ4<>"",MJ4,"") | NI5: =SUMPRODUCT((PS3:PS54=NH5)*(PV3:PV54=NH6)*(PW3:PW54="W"))+SUMPRODUCT((PS3:PS54=NH5)*(PV3:PV54=NH7)*(PW3:PW54="W"))+SUMPRODUCT((PS3:PS54=NH5)*(PV3:PV54=NH8)*(PW3:PW54="W"))+SUMPRODUCT((PS3:PS54=NH6)*(PV3:PV54=NH5)*(PX3:PX54="W"))+SUMPRODUCT((PS3:PS54=NH7)*(PV3:PV54=NH5)*(PX3:PX54="W"))+SUMPRODUCT((PS3:PS54=NH8)*(PV3:PV54=NH5)*(PX3:PX54="W")) -> 0 | NJ5: =SUMPRODUCT((PS3:PS54=NH5)*(PV3:PV54=NH6)*(PW3:PW54="D"))+SUMPRODUCT((PS3:PS54=NH5)*(PV3:PV54=NH7)*(PW3:PW54="D"))+SUMPRODUCT((PS3:PS54=NH5)*(PV3:PV54=NH8)*(PW3:PW54="D"))+SUMPRODUCT((PS3:PS54=NH6)*(PV3:PV54=NH5)*(PW3:PW54="D"))+SUMPRODUCT((PS3:PS54=NH7)*(PV3:PV54=NH5)*(PW3:PW54="D"))+SUMPRODUCT((PS3:PS54=NH8)*(PV3:PV54=NH5)*(PW3:PW54="D")) -> 0 | NK5: =SUMPRODUCT((PS3:PS54=NH5)*(PV3:PV54=NH6)*(PW3:PW54="L"))+SUMPRODUCT((PS3:PS54=NH5)*(PV3:PV54=NH7)*(PW3:PW54="L"))+SUMPRODUCT((PS3:PS54=NH5)*(PV3:PV54=NH8)*(PW3:PW54="L"))+SUMPRODUCT((PS3:PS54=NH6)*(PV3:PV54=NH5)*(PX3:PX54="L"))+SUMPRODUCT((PS3:PS54=NH7)*(PV3:PV54=NH5)*(PX3:PX54="L"))+SUMPRODUCT((PS3:PS54=NH8)*(PV3:PV54=NH5)*(PX3:PX54="L")) -> 0 | NL5: =SUMPRODUCT((PS3:PS54=NH5)*(PV3:PV54=NH6)*PT3:PT54)+SUMPRODUCT((PS3:PS54=NH5)*(PV3:PV54=NH7)*PT3:PT54)+SUMPRODUCT((PS3:PS54=NH5)*(PV3:PV54=NH8)*PT3:PT54)+SUMPRODUCT((PS3:PS54=NH5)*(PV3:PV54=NH4)*PT3:PT54)+SUMPRODUCT((PS3:PS54=NH6)*(PV3:PV54=NH5)*PU3:PU54)+SUMPRODUCT((PS3:PS54=NH7)*(PV3:PV54=NH5)*PU3:PU54)+SUMPRODUCT((PS3:PS54=NH8)*(PV3:PV54=NH5)*PU3:PU54)+SUMPRODUCT((PS3:PS54=NH4)*(PV3:PV54=NH5)*PU3:PU54) -> 0 | NM5: =SUMPRODUCT((PS3:PS54=NH5)*(PV3:PV54=NH6)*PU3:PU54)+SUMPRODUCT((PS3:PS54=NH5)*(PV3:PV54=NH7)*PU3:PU54)+SUMPRODUCT((PS3:PS54=NH5)*(PV3:PV54=NH8)*PU3:PU54)+SUMPRODUCT((PS3:PS54=NH5)*(PV3:PV54=NH4)*PU3:PU54)+SUMPRODUCT((PS3:PS54=NH6)*(PV3:PV54=NH5)*PT3:PT54)+SUMPRODUCT((PS3:PS54=NH7)*(PV3:PV54=NH5)*PT3:PT54)+SUMPRODUCT((PS3:PS54=NH8)*(PV3:PV54=NH5)*PT3:PT54)+SUMPRODUCT((PS3:PS54=NH4)*(PV3:PV54=NH5)*PT3:PT54) -> 0 | NN5: =NL5-NM5+1000 -> 1000 | NO5: =IF(NH5<>"",NI5*3+NJ5*1,"") | NP5: =IF(NH5<>"",VLOOKUP(NH5,LU4:MA52,7,FALSE),"") | NQ5: =IF(NH5<>"",VLOOKUP(NH5,LU4:MA52,5,FALSE),"") | NR5: =IF(NH5<>"",VLOOKUP(NH5,LU4:MC52,9,FALSE),"") | NS5: =NO5 | NT5: =IF(NH5<>"",RANK(NS5,NS4:NS8),"") | NU5: =IF(NH5<>"",SUMPRODUCT((NS4:NS8=NS5)*(NN4:NN8>NN5)),"") | NV5: =IF(NH5<>"",SUMPRODUCT((NS4:NS8=NS5)*(NN4:NN8=NN5)*(NL4:NL8>NL5)),"") | NW5: =IF(NH5<>"",SUMPRODUCT((NS4:NS8=NS5)*(NN4:NN8=NN5)*(NL4:NL8=NL5)*(NP4:NP8>NP5)),"") | NX5: =IF(NH5<>"",SUMPRODUCT((NS4:NS8=NS5)*(NN4:NN8=NN5)*(NL4:NL8=NL5)*(NP4:NP8=NP5)*(NQ4:NQ8>NQ5)),"") | NY5: =IF(NH5<>"",SUMPRODUCT((NS4:NS8=NS5)*(NN4:NN8=NN5)*(NL4:NL8=NL5)*(NP4:NP8=NP5)*(NQ4:NQ8=NQ5)*(NR4:NR8>NR5)),"") | NZ5: =IF(NH5<>"",IF(NZ57<>"",IF(NG55=3,NZ57,NZ57+NG55),SUM(NT5:NY5)+1),"") | OA5: =IF(NH5<>"",INDEX(NH5:NH8,MATCH(2,NZ5:NZ8,0),0),"") | PP5: =IF(OA5<>"",OA5,IF(NG5<>"",NG5,MG5)) -> Norway | PQ5: 2 | PR5: 3 | PS5: =LM5 -> Spain | PT5: =IF(OFFSET('Game Board'!O10,0,PT1)<>"",OFFSET('Game Board'!O10,0,PT1),0) -> 0 | PU5: =IF(OFFSET('Game Board'!P10,0,PT1)<>"",OFFSET('Game Board'!P10,0,PT1),0) -> 0 | PV5: =LP5 -> Portugal | PW5: =IF(AND(OFFSET('Game Board'!O10,0,PT1)<>"",OFFSET('Game Board'!P10,0,PT1)<>""),IF(PT5>PU5,"W",IF(PT5=PU5,"D","L")),"") | PX5: =IF(PW5<>"",IF(PW5="W","L",IF(PW5="L","W","D")),"") | PZ5: =VLOOKUP(QA5,TV4:TW8,2,FALSE) -> 2 | QA5: =LU5 -> Norway | QB5: =SUMPRODUCT((TY3:TY54=QA5)*(UC3:UC54="W"))+SUMPRODUCT((UB3:UB54=QA5)*(UD3:UD54="W")) -> 0 | QC5: =SUMPRODUCT((TY3:TY54=QA5)*(UC3:UC54="D"))+SUMPRODUCT((UB3:UB54=QA5)*(UD3:UD54="D")) -> 0 | QD5: =SUMPRODUCT((TY3:TY54=QA5)*(UC3:UC54="L"))+SUMPRODUCT((UB3:UB54=QA5)*(UD3:UD54="L")) -> 0 | QE5: =SUMIF(TY3:TY72,QA5,TZ3:TZ72)+SUMIF(UB3:UB72,QA5,UA3:UA72) -> 0 | QF5: =SUMIF(UB3:UB72,QA5,TZ3:TZ72)+SUMIF(TY3:TY72,QA5,UA3:UA72) -> 0 | QG5: =QE5-QF5+1000 -> 1000 | QH5: =QB5*3+QC5*1 -> 0 | QI5: =MC5 -> 24 | QJ5: =IF(COUNTIF(QH4:QH8,4)<>4,RANK(QH5,QH4:QH8),QH57) -> 1 | QL5: =SUMPRODUCT((QJ4:QJ7=QJ5)*(QI4:QI7<QI5))+QJ5 -> 3 | QM5: =INDEX(QA4:QA8,MATCH(2,QL4:QL8,0),0) -> Iceland | QN5: =INDEX(QJ4:QJ8,MATCH(QM5,QA4:QA8,0),0) -> 1 | QO5: =IF(QO4<>"",QM5,"") -> Iceland | QP5: =IF(QP4<>"",QM6,"") | QQ5: =IF(QQ4<>"",QM7,"") | QR5: =IF(QR4<>"",QM8,"") | QT5: =IF(QO5<>"",QO5,"") -> Iceland | QU5: =SUMPRODUCT((TY3:TY54=QT5)*(UB3:UB54=QT6)*(UC3:UC54="W"))+SUMPRODUCT((TY3:TY54=QT5)*(UB3:UB54=QT7)*(UC3:UC54="W"))+SUMPRODUCT((TY3:TY54=QT5)*(UB3:UB54=QT8)*(UC3:UC54="W"))+SUMPRODUCT((TY3:TY54=QT5)*(UB3:UB54=QT4)*(UC3:UC54="W"))+SUMPRODUCT((TY3:TY54=QT6)*(UB3:UB54=QT5)*(UD3:UD54="W"))+SUMPRODUCT((TY3:TY54=QT7)*(UB3:UB54=QT5)*(UD3:UD54="W"))+SUMPRODUCT((TY3:TY54=QT8)*(UB3:UB54=QT5)*(UD3:UD54="W"))+SUMPRODUCT((TY3:TY54=QT4)*(UB3:UB54=QT5)*(UD3:UD54="W")) -> 0 | QV5: =SUMPRODUCT((TY3:TY54=QT5)*(UB3:UB54=QT6)*(UC3:UC54="D"))+SUMPRODUCT((TY3:TY54=QT5)*(UB3:UB54=QT7)*(UC3:UC54="D"))+SUMPRODUCT((TY3:TY54=QT5)*(UB3:UB54=QT8)*(UC3:UC54="D"))+SUMPRODUCT((TY3:TY54=QT5)*(UB3:UB54=QT4)*(UC3:UC54="D"))+SUMPRODUCT((TY3:TY54=QT6)*(UB3:UB54=QT5)*(UC3:UC54="D"))+SUMPRODUCT((TY3:TY54=QT7)*(UB3:UB54=QT5)*(UC3:UC54="D"))+SUMPRODUCT((TY3:TY54=QT8)*(UB3:UB54=QT5)*(UC3:UC54="D"))+SUMPRODUCT((TY3:TY54=QT4)*(UB3:UB54=QT5)*(UC3:UC54="D")) -> 0 | QW5: =SUMPRODUCT((TY3:TY54=QT5)*(UB3:UB54=QT6)*(UC3:UC54="L"))+SUMPRODUCT((TY3:TY54=QT5)*(UB3:UB54=QT7)*(UC3:UC54="L"))+SUMPRODUCT((TY3:TY54=QT5)*(UB3:UB54=QT8)*(UC3:UC54="L"))+SUMPRODUCT((TY3:TY54=QT5)*(UB3:UB54=QT4)*(UC3:UC54="L"))+SUMPRODUCT((TY3:TY54=QT6)*(UB3:UB54=QT5)*(UD3:UD54="L"))+SUMPRODUCT((TY3:TY54=QT7)*(UB3:UB54=QT5)*(UD3:UD54="L"))+SUMPRODUCT((TY3:TY54=QT8)*(UB3:UB54=QT5)*(UD3:UD54="L"))+SUMPRODUCT((TY3:TY54=QT4)*(UB3:UB54=QT5)*(UD3:UD54="L")) -> 0 | QX5: =SUMPRODUCT((TY3:TY54=QT5)*(UB3:UB54=QT6)*TZ3:TZ54)+SUMPRODUCT((TY3:TY54=QT5)*(UB3:UB54=QT7)*TZ3:TZ54)+SUMPRODUCT((TY3:TY54=QT5)*(UB3:UB54=QT8)*TZ3:TZ54)+SUMPRODUCT((TY3:TY54=QT5)*(UB3:UB54=QT4)*TZ3:TZ54)+SUMPRODUCT((TY3:TY54=QT6)*(UB3:UB54=QT5)*UA3:UA54)+SUMPRODUCT((TY3:TY54=QT7)*(UB3:UB54=QT5)*UA3:UA54)+SUMPRODUCT((TY3:TY54=QT8)*(UB3:UB54=QT5)*UA3:UA54)+SUMPRODUCT((TY3:TY54=QT4)*(UB3:UB54=QT5)*UA3:UA54) -> 0 | QY5: =SUMPRODUCT((TY3:TY54=QT5)*(UB3:UB54=QT6)*UA3:UA54)+SUMPRODUCT((TY3:TY54=QT5)*(UB3:UB54=QT7)*UA3:UA54)+SUMPRODUCT((TY3:TY54=QT5)*(UB3:UB54=QT8)*UA3:UA54)+SUMPRODUCT((TY3:TY54=QT5)*(UB3:UB54=QT4)*UA3:UA54)+SUMPRODUCT((TY3:TY54=QT6)*(UB3:UB54=QT5)*TZ3:TZ54)+SUMPRODUCT((TY3:TY54=QT7)*(UB3:UB54=QT5)*TZ3:TZ54)+SUMPRODUCT((TY3:TY54=QT8)*(UB3:UB54=QT5)*TZ3:TZ54)+SUMPRODUCT((TY3:TY54=QT4)*(UB3:UB54=QT5)*TZ3:TZ54) -> 0 | QZ5: =QX5-QY5+1000 -> 1000 | RA5: =IF(QT5<>"",QU5*3+QV5*1,"") -> 0 | RB5: =IF(QT5<>"",VLOOKUP(QT5,QA4:QG52,7,FALSE),"") -> 1000 | RC5: =IF(QT5<>"",VLOOKUP(QT5,QA4:QG52,5,FALSE),"") -> 0 | RD5: =IF(QT5<>"",VLOOKUP(QT5,QA4:QI52,9,FALSE),"") -> 16 | RE5: =RA5 -> 0 | RF5: =IF(QT5<>"",RANK(RE5,RE4:RE8),"") -> 1 | RG5: =IF(QT5<>"",SUMPRODUCT((RE4:RE8=RE5)*(QZ4:QZ8>QZ5)),"") -> 0 | RH5: =IF(QT5<>"",SUMPRODUCT((RE4:RE8=RE5)*(QZ4:QZ8=QZ5)*(QX4:QX8>QX5)),"") -> 0 | RI5: =IF(QT5<>"",SUMPRODUCT((RE4:RE8=RE5)*(QZ4:QZ8=QZ5)*(QX4:QX8=QX5)*(RB4:RB8>RB5)),"") -> 0 | RJ5: =IF(QT5<>"",SUMPRODUCT((RE4:RE8=RE5)*(QZ4:QZ8=QZ5)*(QX4:QX8=QX5)*(RB4:RB8=RB5)*(RC4:RC8>RC5)),"") -> 0 | RK5: =IF(QT5<>"",SUMPRODUCT((RE4:RE8=RE5)*(QZ4:QZ8=QZ5)*(QX4:QX8=QX5)*(RB4:RB8=RB5)*(RC4:RC8=RC5)*(RD4:RD8>RD5)),"") -> 2 | RL5: =IF(QT5<>"",IF(RL57<>"",IF(QS55=3,RL57,RL57+QS55),SUM(RF5:RK5)),"") -> 3 | RM5: =IF(QT5<>"",INDEX(QT4:QT8,MATCH(2,RL4:RL8,0),0),"") -> Norway | RN5: =IF(QP4<>"",QP4,"") | RO5: =SUMPRODUCT((TY3:TY54=RN5)*(UB3:UB54=RN6)*(UC3:UC54="W"))+SUMPRODUCT((TY3:TY54=RN5)*(UB3:UB54=RN7)*(UC3:UC54="W"))+SUMPRODUCT((TY3:TY54=RN5)*(UB3:UB54=RN8)*(UC3:UC54="W"))+SUMPRODUCT((TY3:TY54=RN6)*(UB3:UB54=RN5)*(UD3:UD54="W"))+SUMPRODUCT((TY3:TY54=RN7)*(UB3:UB54=RN5)*(UD3:UD54="W"))+SUMPRODUCT((TY3:TY54=RN8)*(UB3:UB54=RN5)*(UD3:UD54="W")) -> 0 | RP5: =SUMPRODUCT((TY3:TY54=RN5)*(UB3:UB54=RN6)*(UC3:UC54="D"))+SUMPRODUCT((TY3:TY54=RN5)*(UB3:UB54=RN7)*(UC3:UC54="D"))+SUMPRODUCT((TY3:TY54=RN5)*(UB3:UB54=RN8)*(UC3:UC54="D"))+SUMPRODUCT((TY3:TY54=RN6)*(UB3:UB54=RN5)*(UC3:UC54="D"))+SUMPRODUCT((TY3:TY54=RN7)*(UB3:UB54=RN5)*(UC3:UC54="D"))+SUMPRODUCT((TY3:TY54=RN8)*(UB3:UB54=RN5)*(UC3:UC54="D")) -> 0 | RQ5: =SUMPRODUCT((TY3:TY54=RN5)*(UB3:UB54=RN6)*(UC3:UC54="L"))+SUMPRODUCT((TY3:TY54=RN5)*(UB3:UB54=RN7)*(UC3:UC54="L"))+SUMPRODUCT((TY3:TY54=RN5)*(UB3:UB54=RN8)*(UC3:UC54="L"))+SUMPRODUCT((TY3:TY54=RN6)*(UB3:UB54=RN5)*(UD3:UD54="L"))+SUMPRODUCT((TY3:TY54=RN7)*(UB3:UB54=RN5)*(UD3:UD54="L"))+SUMPRODUCT((TY3:TY54=RN8)*(UB3:UB54=RN5)*(UD3:UD54="L")) -> 0 | RR5: =SUMPRODUCT((TY3:TY54=RN5)*(UB3:UB54=RN6)*TZ3:TZ54)+SUMPRODUCT((TY3:TY54=RN5)*(UB3:UB54=RN7)*TZ3:TZ54)+SUMPRODUCT((TY3:TY54=RN5)*(UB3:UB54=RN8)*TZ3:TZ54)+SUMPRODUCT((TY3:TY54=RN5)*(UB3:UB54=RN4)*TZ3:TZ54)+SUMPRODUCT((TY3:TY54=RN6)*(UB3:UB54=RN5)*UA3:UA54)+SUMPRODUCT((TY3:TY54=RN7)*(UB3:UB54=RN5)*UA3:UA54)+SUMPRODUCT((TY3:TY54=RN8)*(UB3:UB54=RN5)*UA3:UA54)+SUMPRODUCT((TY3:TY54=RN4)*(UB3:UB54=RN5)*UA3:UA54) -> 0 | RS5: =SUMPRODUCT((TY3:TY54=RN5)*(UB3:UB54=RN6)*UA3:UA54)+SUMPRODUCT((TY3:TY54=RN5)*(UB3:UB54=RN7)*UA3:UA54)+SUMPRODUCT((TY3:TY54=RN5)*(UB3:UB54=RN8)*UA3:UA54)+SUMPRODUCT((TY3:TY54=RN5)*(UB3:UB54=RN4)*UA3:UA54)+SUMPRODUCT((TY3:TY54=RN6)*(UB3:UB54=RN5)*TZ3:TZ54)+SUMPRODUCT((TY3:TY54=RN7)*(UB3:UB54=RN5)*TZ3:TZ54)+SUMPRODUCT((TY3:TY54=RN8)*(UB3:UB54=RN5)*TZ3:TZ54)+SUMPRODUCT((TY3:TY54=RN4)*(UB3:UB54=RN5)*TZ3:TZ54) -> 0 | RT5: =RR5-RS5+1000 -> 1000 | RU5: =IF(RN5<>"",RO5*3+RP5*1,"") | RV5: =IF(RN5<>"",VLOOKUP(RN5,QA4:QG52,7,FALSE),"") | RW5: =IF(RN5<>"",VLOOKUP(RN5,QA4:QG52,5,FALSE),"") | RX5: =IF(RN5<>"",VLOOKUP(RN5,QA4:QI52,9,FALSE),"") | RY5: =RU5 | RZ5: =IF(RN5<>"",RANK(RY5,RY4:RY8),"") | SA5: =IF(RN5<>"",SUMPRODUCT((RY4:RY8=RY5)*(RT4:RT8>RT5)),"") | SB5: =IF(RN5<>"",SUMPRODUCT((RY4:RY8=RY5)*(RT4:RT8=RT5)*(RR4:RR8>RR5)),"") | SC5: =IF(RN5<>"",SUMPRODUCT((RY4:RY8=RY5)*(RT4:RT8=RT5)*(RR4:RR8=RR5)*(RV4:RV8>RV5)),"") | SD5: =IF(RN5<>"",SUMPRODUCT((RY4:RY8=RY5)*(RT4:RT8=RT5)*(RR4:RR8=RR5)*(RV4:RV8=RV5)*(RW4:RW8>RW5)),"") | SE5: =IF(RN5<>"",SUMPRODUCT((RY4:RY8=RY5)*(RT4:RT8=RT5)*(RR4:RR8=RR5)*(RV4:RV8=RV5)*(RW4:RW8=RW5)*(RX4:RX8>RX5)),"") | SF5: =IF(RN5<>"",IF(SF57<>"",IF(RM55=3,SF57,SF57+RM55),SUM(RZ5:SE5)+1),"") | SG5: =IF(RN5<>"",INDEX(RN5:RN8,MATCH(2,SF5:SF8,0),0),"") | TV5: =IF(SG5<>"",SG5,IF(RM5<>"",RM5,QM5)) -> Norway | TW5: 2 | TX5: 3 | TY5: =PS5 -> Spain | TZ5: =IF(OFFSET('Game Board'!O10,0,TZ1)<>"",OFFSET('Game Board'!O10,0,TZ1),0) -> 0 | UA5: =IF(OFFSET('Game Board'!P10,0,TZ1)<>"",OFFSET('Game Board'!P10,0,TZ1),0) -> 0 | UB5: =PV5 -> Portugal | UC5: =IF(AND(OFFSET('Game Board'!O10,0,TZ1)<>"",OFFSET('Game Board'!P10,0,TZ1)<>""),IF(TZ5>UA5,"W",IF(TZ5=UA5,"D","L")),"") | UD5: =IF(UC5<>"",IF(UC5="W","L",IF(UC5="L","W","D")),"") | UF5: =VLOOKUP(UG5,YB4:YC8,2,FALSE) -> 2 | UG5: =QA5 -> Norway | UH5: =SUMPRODUCT((YE3:YE54=UG5)*(YI3:YI54="W"))+SUMPRODUCT((YH3:YH54=UG5)*(YJ3:YJ54="W")) -> 0 | UI5: =SUMPRODUCT((YE3:YE54=UG5)*(YI3:YI54="D"))+SUMPRODUCT((YH3:YH54=UG5)*(YJ3:YJ54="D")) -> 0 | UJ5: =SUMPRODUCT((YE3:YE54=UG5)*(YI3:YI54="L"))+SUMPRODUCT((YH3:YH54=UG5)*(YJ3:YJ54="L")) -> 0 | UK5: =SUMIF(YE3:YE72,UG5,YF3:YF72)+SUMIF(YH3:YH72,UG5,YG3:YG72) -> 0 | UL5: =SUMIF(YH3:YH72,UG5,YF3:YF72)+SUMIF(YE3:YE72,UG5,YG3:YG72) -> 0 | UM5: =UK5-UL5+1000 -> 1000 | UN5: =UH5*3+UI5*1 -> 0 | UO5: =QI5 -> 24 | UP5: =IF(COUNTIF(UN4:UN8,4)<>4,RANK(UN5,UN4:UN8),UN57) -> 1 | UR5: =SUMPRODUCT((UP4:UP7=UP5)*(UO4:UO7<UO5))+UP5 -> 3 | US5: =INDEX(UG4:UG8,MATCH(2,UR4:UR8,0),0) -> Iceland | UT5: =INDEX(UP4:UP8,MATCH(US5,UG4:UG8,0),0) -> 1 | UU5: =IF(UU4<>"",US5,"") -> Iceland | UV5: =IF(UV4<>"",US6,"") | UW5: =IF(UW4<>"",US7,"") | UX5: =IF(UX4<>"",US8,"") | UZ5: =IF(UU5<>"",UU5,"") -> Iceland | VA5: =SUMPRODUCT((YE3:YE54=UZ5)*(YH3:YH54=UZ6)*(YI3:YI54="W"))+SUMPRODUCT((YE3:YE54=UZ5)*(YH3:YH54=UZ7)*(YI3:YI54="W"))+SUMPRODUCT((YE3:YE54=UZ5)*(YH3:YH54=UZ8)*(YI3:YI54="W"))+SUMPRODUCT((YE3:YE54=UZ5)*(YH3:YH54=UZ4)*(YI3:YI54="W"))+SUMPRODUCT((YE3:YE54=UZ6)*(YH3:YH54=UZ5)*(YJ3:YJ54="W"))+SUMPRODUCT((YE3:YE54=UZ7)*(YH3:YH54=UZ5)*(YJ3:YJ54="W"))+SUMPRODUCT((YE3:YE54=UZ8)*(YH3:YH54=UZ5)*(YJ3:YJ54="W"))+SUMPRODUCT((YE3:YE54=UZ4)*(YH3:YH54=UZ5)*(YJ3:YJ54="W")) -> 0 | VB5: =SUMPRODUCT((YE3:YE54=UZ5)*(YH3:YH54=UZ6)*(YI3:YI54="D"))+SUMPRODUCT((YE3:YE54=UZ5)*(YH3:YH54=UZ7)*(YI3:YI54="D"))+SUMPRODUCT((YE3:YE54=UZ5)*(YH3:YH54=UZ8)*(YI3:YI54="D"))+SUMPRODUCT((YE3:YE54=UZ5)*(YH3:YH54=UZ4)*(YI3:YI54="D"))+SUMPRODUCT((YE3:YE54=UZ6)*(YH3:YH54=UZ5)*(YI3:YI54="D"))+SUMPRODUCT((YE3:YE54=UZ7)*(YH3:YH54=UZ5)*(YI3:YI54="D"))+SUMPRODUCT((YE3:YE54=UZ8)*(YH3:YH54=UZ5)*(YI3:YI54="D"))+SUMPRODUCT((YE3:YE54=UZ4)*(YH3:YH54=UZ5)*(YI3:YI54="D")) -> 0 | VC5: =SUMPRODUCT((YE3:YE54=UZ5)*(YH3:YH54=UZ6)*(YI3:YI54="L"))+SUMPRODUCT((YE3:YE54=UZ5)*(YH3:YH54=UZ7)*(YI3:YI54="L"))+SUMPRODUCT((YE3:YE54=UZ5)*(YH3:YH54=UZ8)*(YI3:YI54="L"))+SUMPRODUCT((YE3:YE54=UZ5)*(YH3:YH54=UZ4)*(YI3:YI54="L"))+SUMPRODUCT((YE3:YE54=UZ6)*(YH3:YH54=UZ5)*(YJ3:YJ54="L"))+SUMPRODUCT((YE3:YE54=UZ7)*(YH3:YH54=UZ5)*(YJ3:YJ54="L"))+SUMPRODUCT((YE3:YE54=UZ8)*(YH3:YH54=UZ5)*(YJ3:YJ54="L"))+SUMPRODUCT((YE3:YE54=UZ4)*(YH3:YH54=UZ5)*(YJ3:YJ54="L")) -> 0 | VD5: =SUMPRODUCT((YE3:YE54=UZ5)*(YH3:YH54=UZ6)*YF3:YF54)+SUMPRODUCT((YE3:YE54=UZ5)*(YH3:YH54=UZ7)*YF3:YF54)+SUMPRODUCT((YE3:YE54=UZ5)*(YH3:YH54=UZ8)*YF3:YF54)+SUMPRODUCT((YE3:YE54=UZ5)*(YH3:YH54=UZ4)*YF3:YF54)+SUMPRODUCT((YE3:YE54=UZ6)*(YH3:YH54=UZ5)*YG3:YG54)+SUMPRODUCT((YE3:YE54=UZ7)*(YH3:YH54=UZ5)*YG3:YG54)+SUMPRODUCT((YE3:YE54=UZ8)*(YH3:YH54=UZ5)*YG3:YG54)+SUMPRODUCT((YE3:YE54=UZ4)*(YH3:YH54=UZ5)*YG3:YG54) -> 0 | VE5: =SUMPRODUCT((YE3:YE54=UZ5)*(YH3:YH54=UZ6)*YG3:YG54)+SUMPRODUCT((YE3:YE54=UZ5)*(YH3:YH54=UZ7)*YG3:YG54)+SUMPRODUCT((YE3:YE54=UZ5)*(YH3:YH54=UZ8)*YG3:YG54)+SUMPRODUCT((YE3:YE54=UZ5)*(YH3:YH54=UZ4)*YG3:YG54)+SUMPRODUCT((YE3:YE54=UZ6)*(YH3:YH54=UZ5)*YF3:YF54)+SUMPRODUCT((YE3:YE54=UZ7)*(YH3:YH54=UZ5)*YF3:YF54)+SUMPRODUCT((YE3:YE54=UZ8)*(YH3:YH54=UZ5)*YF3:YF54)+SUMPRODUCT((YE3:YE54=UZ4)*(YH3:YH54=UZ5)*YF3:YF54) -> 0 | VF5: =VD5-VE5+1000 -> 1000 | VG5: =IF(UZ5<>"",VA5*3+VB5*1,"") -> 0 | VH5: =IF(UZ5<>"",VLOOKUP(UZ5,UG4:UM52,7,FALSE),"") -> 1000 | VI5: =IF(UZ5<>"",VLOOKUP(UZ5,UG4:UM52,5,FALSE),"") -> 0 | VJ5: =IF(UZ5<>"",VLOOKUP(UZ5,UG4:UO52,9,FALSE),"") -> 16 | VK5: =VG5 -> 0 | VL5: =IF(UZ5<>"",RANK(VK5,VK4:VK8),"") -> 1 | VM5: =IF(UZ5<>"",SUMPRODUCT((VK4:VK8=VK5)*(VF4:VF8>VF5)),"") -> 0 | VN5: =IF(UZ5<>"",SUMPRODUCT((VK4:VK8=VK5)*(VF4:VF8=VF5)*(VD4:VD8>VD5)),"") -> 0 | VO5: =IF(UZ5<>"",SUMPRODUCT((VK4:VK8=VK5)*(VF4:VF8=VF5)*(VD4:VD8=VD5)*(VH4:VH8>VH5)),"") -> 0 | VP5: =IF(UZ5<>"",SUMPRODUCT((VK4:VK8=VK5)*(VF4:VF8=VF5)*(VD4:VD8=VD5)*(VH4:VH8=VH5)*(VI4:VI8>VI5)),"") -> 0 | VQ5: =IF(UZ5<>"",SUMPRODUCT((VK4:VK8=VK5)*(VF4:VF8=VF5)*(VD4:VD8=VD5)*(VH4:VH8=VH5)*(VI4:VI8=VI5)*(VJ4:VJ8>VJ5)),"") -> 2 | VR5: =IF(UZ5<>"",IF(VR57<>"",IF(UY55=3,VR57,VR57+UY55),SUM(VL5:VQ5)),"") -> 3 | VS5: =IF(UZ5<>"",INDEX(UZ4:UZ8,MATCH(2,VR4:VR8,0),0),"") -> Norway | VT5: =IF(UV4<>"",UV4,"") | VU5: =SUMPRODUCT((YE3:YE54=VT5)*(YH3:YH54=VT6)*(YI3:YI54="W"))+SUMPRODUCT((YE3:YE54=VT5)*(YH3:YH54=VT7)*(YI3:YI54="W"))+SUMPRODUCT((YE3:YE54=VT5)*(YH3:YH54=VT8)*(YI3:YI54="W"))+SUMPRODUCT((YE3:YE54=VT6)*(YH3:YH54=VT5)*(YJ3:YJ54="W"))+SUMPRODUCT((YE3:YE54=VT7)*(YH3:YH54=VT5)*(YJ3:YJ54="W"))+SUMPRODUCT((YE3:YE54=VT8)*(YH3:YH54=VT5)*(YJ3:YJ54="W")) -> 0 | VV5: =SUMPRODUCT((YE3:YE54=VT5)*(YH3:YH54=VT6)*(YI3:YI54="D"))+SUMPRODUCT((YE3:YE54=VT5)*(YH3:YH54=VT7)*(YI3:YI54="D"))+SUMPRODUCT((YE3:YE54=VT5)*(YH3:YH54=VT8)*(YI3:YI54="D"))+SUMPRODUCT((YE3:YE54=VT6)*(YH3:YH54=VT5)*(YI3:YI54="D"))+SUMPRODUCT((YE3:YE54=VT7)*(YH3:YH54=VT5)*(YI3:YI54="D"))+SUMPRODUCT((YE3:YE54=VT8)*(YH3:YH54=VT5)*(YI3:YI54="D")) -> 0 | VW5: =SUMPRODUCT((YE3:YE54=VT5)*(YH3:YH54=VT6)*(YI3:YI54="L"))+SUMPRODUCT((YE3:YE54=VT5)*(YH3:YH54=VT7)*(YI3:YI54="L"))+SUMPRODUCT((YE3:YE54=VT5)*(YH3:YH54=VT8)*(YI3:YI54="L"))+SUMPRODUCT((YE3:YE54=VT6)*(YH3:YH54=VT5)*(YJ3:YJ54="L"))+SUMPRODUCT((YE3:YE54=VT7)*(YH3:YH54=VT5)*(YJ3:YJ54="L"))+SUMPRODUCT((YE3:YE54=VT8)*(YH3:YH54=VT5)*(YJ3:YJ54="L")) -> 0 | VX5: =SUMPRODUCT((YE3:YE54=VT5)*(YH3:YH54=VT6)*YF3:YF54)+SUMPRODUCT((YE3:YE54=VT5)*(YH3:YH54=VT7)*YF3:YF54)+SUMPRODUCT((YE3:YE54=VT5)*(YH3:YH54=VT8)*YF3:YF54)+SUMPRODUCT((YE3:YE54=VT5)*(YH3:YH54=VT4)*YF3:YF54)+SUMPRODUCT((YE3:YE54=VT6)*(YH3:YH54=VT5)*YG3:YG54)+SUMPRODUCT((YE3:YE54=VT7)*(YH3:YH54=VT5)*YG3:YG54)+SUMPRODUCT((YE3:YE54=VT8)*(YH3:YH54=VT5)*YG3:YG54)+SUMPRODUCT((YE3:YE54=VT4)*(YH3:YH54=VT5)*YG3:YG54) -> 0 | VY5: =SUMPRODUCT((YE3:YE54=VT5)*(YH3:YH54=VT6)*YG3:YG54)+SUMPRODUCT((YE3:YE54=VT5)*(YH3:YH54=VT7)*YG3:YG54)+SUMPRODUCT((YE3:YE54=VT5)*(YH3:YH54=VT8)*YG3:YG54)+SUMPRODUCT((YE3:YE54=VT5)*(YH3:YH54=VT4)*YG3:YG54)+SUMPRODUCT((YE3:YE54=VT6)*(YH3:YH54=VT5)*YF3:YF54)+SUMPRODUCT((YE3:YE54=VT7)*(YH3:YH54=VT5)*YF3:YF54)+SUMPRODUCT((YE3:YE54=VT8)*(YH3:YH54=VT5)*YF3:YF54)+SUMPRODUCT((YE3:YE54=VT4)*(YH3:YH54=VT5)*YF3:YF54) -> 0 | VZ5: =VX5-VY5+1000 -> 1000 | WA5: =IF(VT5<>"",VU5*3+VV5*1,"") | WB5: =IF(VT5<>"",VLOOKUP(VT5,UG4:UM52,7,FALSE),"") | WC5: =IF(VT5<>"",VLOOKUP(VT5,UG4:UM52,5,FALSE),"") | WD5: =IF(VT5<>"",VLOOKUP(VT5,UG4:UO52,9,FALSE),"") | WE5: =WA5 | WF5: =IF(VT5<>"",RANK(WE5,WE4:WE8),"") | WG5: =IF(VT5<>"",SUMPRODUCT((WE4:WE8=WE5)*(VZ4:VZ8>VZ5)),"") | WH5: =IF(VT5<>"",SUMPRODUCT((WE4:WE8=WE5)*(VZ4:VZ8=VZ5)*(VX4:VX8>VX5)),"") | WI5: =IF(VT5<>"",SUMPRODUCT((WE4:WE8=WE5)*(VZ4:VZ8=VZ5)*(VX4:VX8=VX5)*(WB4:WB8>WB5)),"") | WJ5: =IF(VT5<>"",SUMPRODUCT((WE4:WE8=WE5)*(VZ4:VZ8=VZ5)*(VX4:VX8=VX5)*(WB4:WB8=WB5)*(WC4:WC8>WC5)),"") | WK5: =IF(VT5<>"",SUMPRODUCT((WE4:WE8=WE5)*(VZ4:VZ8=VZ5)*(VX4:VX8=VX5)*(WB4:WB8=WB5)*(WC4:WC8=WC5)*(WD4:WD8>WD5)),"") | WL5: =IF(VT5<>"",IF(WL57<>"",IF(VS55=3,WL57,WL57+VS55),SUM(WF5:WK5)+1),"") | WM5: =IF(VT5<>"",INDEX(VT5:VT8,MATCH(2,WL5:WL8,0),0),"") | YB5: =IF(WM5<>"",WM5,IF(VS5<>"",VS5,US5)) -> Norway | YC5: 2 | YD5: 3 | YE5: =TY5 -> Spain | YF5: =IF(OFFSET('Game Board'!O10,0,YF1)<>"",OFFSET('Game Board'!O10,0,YF1),0) -> 0 | YG5: =IF(OFFSET('Game Board'!P10,0,YF1)<>"",OFFSET('Game Board'!P10,0,YF1),0) -> 0 | YH5: =UB5 -> Portugal | YI5: =IF(AND(OFFSET('Game Board'!O10,0,YF1)<>"",OFFSET('Game Board'!P10,0,YF1)<>""),IF(YF5>YG5,"W",IF(YF5=YG5,"D","L")),"") | YJ5: =IF(YI5<>"",IF(YI5="W","L",IF(YI5="L","W","D")),"") | YL5: =VLOOKUP(YM5,ACH4:ACI8,2,FALSE) -> 2 | YM5: =UG5 -> Norway | YN5: =SUMPRODUCT((ACK3:ACK54=YM5)*(ACO3:ACO54="W"))+SUMPRODUCT((ACN3:ACN54=YM5)*(ACP3:ACP54="W")) -> 0 | YO5: =SUMPRODUCT((ACK3:ACK54=YM5)*(ACO3:ACO54="D"))+SUMPRODUCT((ACN3:ACN54=YM5)*(ACP3:ACP54="D")) -> 0 | YP5: =SUMPRODUCT((ACK3:ACK54=YM5)*(ACO3:ACO54="L"))+SUMPRODUCT((ACN3:ACN54=YM5)*(ACP3:ACP54="L")) -> 0 | YQ5: =SUMIF(ACK3:ACK72,YM5,ACL3:ACL72)+SUMIF(ACN3:ACN72,YM5,ACM3:ACM72) -> 0 | YR5: =SUMIF(ACN3:ACN72,YM5,ACL3:ACL72)+SUMIF(ACK3:ACK72,YM5,ACM3:ACM72) -> 0 | YS5: =YQ5-YR5+1000 -> 1000 | YT5: =YN5*3+YO5*1 -> 0 | YU5: =UO5 -> 24 | YV5: =IF(COUNTIF(YT4:YT8,4)<>4,RANK(YT5,YT4:YT8),YT57) -> 1 | YX5: =SUMPRODUCT((YV4:YV7=YV5)*(YU4:YU7<YU5))+YV5 -> 3 | YY5: =INDEX(YM4:YM8,MATCH(2,YX4:YX8,0),0) -> Iceland | YZ5: =INDEX(YV4:YV8,MATCH(YY5,YM4:YM8,0),0) -> 1 | ZA5: =IF(ZA4<>"",YY5,"") -> Iceland | ZB5: =IF(ZB4<>"",YY6,"") | ZC5: =IF(ZC4<>"",YY7,"") | ZD5: =IF(ZD4<>"",YY8,"") | ZF5: =IF(ZA5<>"",ZA5,"") -> Iceland | ZG5: =SUMPRODUCT((ACK3:ACK54=ZF5)*(ACN3:ACN54=ZF6)*(ACO3:ACO54="W"))+SUMPRODUCT((ACK3:ACK54=ZF5)*(ACN3:ACN54=ZF7)*(ACO3:ACO54="W"))+SUMPRODUCT((ACK3:ACK54=ZF5)*(ACN3:ACN54=ZF8)*(ACO3:ACO54="W"))+SUMPRODUCT((ACK3:ACK54=ZF5)*(ACN3:ACN54=ZF4)*(ACO3:ACO54="W"))+SUMPRODUCT((ACK3:ACK54=ZF6)*(ACN3:ACN54=ZF5)*(ACP3:ACP54="W"))+SUMPRODUCT((ACK3:ACK54=ZF7)*(ACN3:ACN54=ZF5)*(ACP3:ACP54="W"))+SUMPRODUCT((ACK3:ACK54=ZF8)*(ACN3:ACN54=ZF5)*(ACP3:ACP54="W"))+SUMPRODUCT((ACK3:ACK54=ZF4)*(ACN3:ACN54=ZF5)*(ACP3:ACP54="W")) -> 0 | ZH5: =SUMPRODUCT((ACK3:ACK54=ZF5)*(ACN3:ACN54=ZF6)*(ACO3:ACO54="D"))+SUMPRODUCT((ACK3:ACK54=ZF5)*(ACN3:ACN54=ZF7)*(ACO3:ACO54="D"))+SUMPRODUCT((ACK3:ACK54=ZF5)*(ACN3:ACN54=ZF8)*(ACO3:ACO54="D"))+SUMPRODUCT((ACK3:ACK54=ZF5)*(ACN3:ACN54=ZF4)*(ACO3:ACO54="D"))+SUMPRODUCT((ACK3:ACK54=ZF6)*(ACN3:ACN54=ZF5)*(ACO3:ACO54="D"))+SUMPRODUCT((ACK3:ACK54=ZF7)*(ACN3:ACN54=ZF5)*(ACO3:ACO54="D"))+SUMPRODUCT((ACK3:ACK54=ZF8)*(ACN3:ACN54=ZF5)*(ACO3:ACO54="D"))+SUMPRODUCT((ACK3:ACK54=ZF4)*(ACN3:ACN54=ZF5)*(ACO3:ACO54="D")) -> 0 | ZI5: =SUMPRODUCT((ACK3:ACK54=ZF5)*(ACN3:ACN54=ZF6)*(ACO3:ACO54="L"))+SUMPRODUCT((ACK3:ACK54=ZF5)*(ACN3:ACN54=ZF7)*(ACO3:ACO54="L"))+SUMPRODUCT((ACK3:ACK54=ZF5)*(ACN3:ACN54=ZF8)*(ACO3:ACO54="L"))+SUMPRODUCT((ACK3:ACK54=ZF5)*(ACN3:ACN54=ZF4)*(ACO3:ACO54="L"))+SUMPRODUCT((ACK3:ACK54=ZF6)*(ACN3:ACN54=ZF5)*(ACP3:ACP54="L"))+SUMPRODUCT((ACK3:ACK54=ZF7)*(ACN3:ACN54=ZF5)*(ACP3:ACP54="L"))+SUMPRODUCT((ACK3:ACK54=ZF8)*(ACN3:ACN54=ZF5)*(ACP3:ACP54="L"))+SUMPRODUCT((ACK3:ACK54=ZF4)*(ACN3:ACN54=ZF5)*(ACP3:ACP54="L")) -> 0 | ZJ5: =SUMPRODUCT((ACK3:ACK54=ZF5)*(ACN3:ACN54=ZF6)*ACL3:ACL54)+SUMPRODUCT((ACK3:ACK54=ZF5)*(ACN3:ACN54=ZF7)*ACL3:ACL54)+SUMPRODUCT((ACK3:ACK54=ZF5)*(ACN3:ACN54=ZF8)*ACL3:ACL54)+SUMPRODUCT((ACK3:ACK54=ZF5)*(ACN3:ACN54=ZF4)*ACL3:ACL54)+SUMPRODUCT((ACK3:ACK54=ZF6)*(ACN3:ACN54=ZF5)*ACM3:ACM54)+SUMPRODUCT((ACK3:ACK54=ZF7)*(ACN3:ACN54=ZF5)*ACM3:ACM54)+SUMPRODUCT((ACK3:ACK54=ZF8)*(ACN3:ACN54=ZF5)*ACM3:ACM54)+SUMPRODUCT((ACK3:ACK54=ZF4)*(ACN3:ACN54=ZF5)*ACM3:ACM54) -> 0 | ZK5: =SUMPRODUCT((ACK3:ACK54=ZF5)*(ACN3:ACN54=ZF6)*ACM3:ACM54)+SUMPRODUCT((ACK3:ACK54=ZF5)*(ACN3:ACN54=ZF7)*ACM3:ACM54)+SUMPRODUCT((ACK3:ACK54=ZF5)*(ACN3:ACN54=ZF8)*ACM3:ACM54)+SUMPRODUCT((ACK3:ACK54=ZF5)*(ACN3:ACN54=ZF4)*ACM3:ACM54)+SUMPRODUCT((ACK3:ACK54=ZF6)*(ACN3:ACN54=ZF5)*ACL3:ACL54)+SUMPRODUCT((ACK3:ACK54=ZF7)*(ACN3:ACN54=ZF5)*ACL3:ACL54)+SUMPRODUCT((ACK3:ACK54=ZF8)*(ACN3:ACN54=ZF5)*ACL3:ACL54)+SUMPRODUCT((ACK3:ACK54=ZF4)*(ACN3:ACN54=ZF5)*ACL3:ACL54) -> 0 | ZL5: =ZJ5-ZK5+1000 -> 1000 | ZM5: =IF(ZF5<>"",ZG5*3+ZH5*1,"") -> 0 | ZN5: =IF(ZF5<>"",VLOOKUP(ZF5,YM4:YS52,7,FALSE),"") -> 1000 | ZO5: =IF(ZF5<>"",VLOOKUP(ZF5,YM4:YS52,5,FALSE),"") -> 0 | ZP5: =IF(ZF5<>"",VLOOKUP(ZF5,YM4:YU52,9,FALSE),"") -> 16 | ZQ5: =ZM5 -> 0 | ZR5: =IF(ZF5<>"",RANK(ZQ5,ZQ4:ZQ8),"") -> 1 | ZS5: =IF(ZF5<>"",SUMPRODUCT((ZQ4:ZQ8=ZQ5)*(ZL4:ZL8>ZL5)),"") -> 0 | ZT5: =IF(ZF5<>"",SUMPRODUCT((ZQ4:ZQ8=ZQ5)*(ZL4:ZL8=ZL5)*(ZJ4:ZJ8>ZJ5)),"") -> 0 | ZU5: =IF(ZF5<>"",SUMPRODUCT((ZQ4:ZQ8=ZQ5)*(ZL4:ZL8=ZL5)*(ZJ4:ZJ8=ZJ5)*(ZN4:ZN8>ZN5)),"") -> 0 | ZV5: =IF(ZF5<>"",SUMPRODUCT((ZQ4:ZQ8=ZQ5)*(ZL4:ZL8=ZL5)*(ZJ4:ZJ8=ZJ5)*(ZN4:ZN8=ZN5)*(ZO4:ZO8>ZO5)),"") -> 0 | ZW5: =IF(ZF5<>"",SUMPRODUCT((ZQ4:ZQ8=ZQ5)*(ZL4:ZL8=ZL5)*(ZJ4:ZJ8=ZJ5)*(ZN4:ZN8=ZN5)*(ZO4:ZO8=ZO5)*(ZP4:ZP8>ZP5)),"") -> 2 | ZX5: =IF(ZF5<>"",IF(ZX57<>"",IF(ZE55=3,ZX57,ZX57+ZE55),SUM(ZR5:ZW5)),"") -> 3 | ZY5: =IF(ZF5<>"",INDEX(ZF4:ZF8,MATCH(2,ZX4:ZX8,0),0),"") -> Norway | ZZ5: =IF(ZB4<>"",ZB4,"") | AAA5: =SUMPRODUCT((ACK3:ACK54=ZZ5)*(ACN3:ACN54=ZZ6)*(ACO3:ACO54="W"))+SUMPRODUCT((ACK3:ACK54=ZZ5)*(ACN3:ACN54=ZZ7)*(ACO3:ACO54="W"))+SUMPRODUCT((ACK3:ACK54=ZZ5)*(ACN3:ACN54=ZZ8)*(ACO3:ACO54="W"))+SUMPRODUCT((ACK3:ACK54=ZZ6)*(ACN3:ACN54=ZZ5)*(ACP3:ACP54="W"))+SUMPRODUCT((ACK3:ACK54=ZZ7)*(ACN3:ACN54=ZZ5)*(ACP3:ACP54="W"))+SUMPRODUCT((ACK3:ACK54=ZZ8)*(ACN3:ACN54=ZZ5)*(ACP3:ACP54="W")) -> 0 | AAB5: =SUMPRODUCT((ACK3:ACK54=ZZ5)*(ACN3:ACN54=ZZ6)*(ACO3:ACO54="D"))+SUMPRODUCT((ACK3:ACK54=ZZ5)*(ACN3:ACN54=ZZ7)*(ACO3:ACO54="D"))+SUMPRODUCT((ACK3:ACK54=ZZ5)*(ACN3:ACN54=ZZ8)*(ACO3:ACO54="D"))+SUMPRODUCT((ACK3:ACK54=ZZ6)*(ACN3:ACN54=ZZ5)*(ACO3:ACO54="D"))+SUMPRODUCT((ACK3:ACK54=ZZ7)*(ACN3:ACN54=ZZ5)*(ACO3:ACO54="D"))+SUMPRODUCT((ACK3:ACK54=ZZ8)*(ACN3:ACN54=ZZ5)*(ACO3:ACO54="D")) -> 0 | AAC5: =SUMPRODUCT((ACK3:ACK54=ZZ5)*(ACN3:ACN54=ZZ6)*(ACO3:ACO54="L"))+SUMPRODUCT((ACK3:ACK54=ZZ5)*(ACN3:ACN54=ZZ7)*(ACO3:ACO54="L"))+SUMPRODUCT((ACK3:ACK54=ZZ5)*(ACN3:ACN54=ZZ8)*(ACO3:ACO54="L"))+SUMPRODUCT((ACK3:ACK54=ZZ6)*(ACN3:ACN54=ZZ5)*(ACP3:ACP54="L"))+SUMPRODUCT((ACK3:ACK54=ZZ7)*(ACN3:ACN54=ZZ5)*(ACP3:ACP54="L"))+SUMPRODUCT((ACK3:ACK54=ZZ8)*(ACN3:ACN54=ZZ5)*(ACP3:ACP54="L")) -> 0 | AAD5: =SUMPRODUCT((ACK3:ACK54=ZZ5)*(ACN3:ACN54=ZZ6)*ACL3:ACL54)+SUMPRODUCT((ACK3:ACK54=ZZ5)*(ACN3:ACN54=ZZ7)*ACL3:ACL54)+SUMPRODUCT((ACK3:ACK54=ZZ5)*(ACN3:ACN54=ZZ8)*ACL3:ACL54)+SUMPRODUCT((ACK3:ACK54=ZZ5)*(ACN3:ACN54=ZZ4)*ACL3:ACL54)+SUMPRODUCT((ACK3:ACK54=ZZ6)*(ACN3:ACN54=ZZ5)*ACM3:ACM54)+SUMPRODUCT((ACK3:ACK54=ZZ7)*(ACN3:ACN54=ZZ5)*ACM3:ACM54)+SUMPRODUCT((ACK3:ACK54=ZZ8)*(ACN3:ACN54=ZZ5)*ACM3:ACM54)+SUMPRODUCT((ACK3:ACK54=ZZ4)*(ACN3:ACN54=ZZ5)*ACM3:ACM54) -> 0 | AAE5: =SUMPRODUCT((ACK3:ACK54=ZZ5)*(ACN3:ACN54=ZZ6)*ACM3:ACM54)+SUMPRODUCT((ACK3:ACK54=ZZ5)*(ACN3:ACN54=ZZ7)*ACM3:ACM54)+SUMPRODUCT((ACK3:ACK54=ZZ5)*(ACN3:ACN54=ZZ8)*ACM3:ACM54)+SUMPRODUCT((ACK3:ACK54=ZZ5)*(ACN3:ACN54=ZZ4)*ACM3:ACM54)+SUMPRODUCT((ACK3:ACK54=ZZ6)*(ACN3:ACN54=ZZ5)*ACL3:ACL54)+SUMPRODUCT((ACK3:ACK54=ZZ7)*(ACN3:ACN54=ZZ5)*ACL3:ACL54)+SUMPRODUCT((ACK3:ACK54=ZZ8)*(ACN3:ACN54=ZZ5)*ACL3:ACL54)+SUMPRODUCT((ACK3:ACK54=ZZ4)*(ACN3:ACN54=ZZ5)*ACL3:ACL54) -> 0 | AAF5: =AAD5-AAE5+1000 -> 1000 | AAG5: =IF(ZZ5<>"",AAA5*3+AAB5*1,"") | AAH5: =IF(ZZ5<>"",VLOOKUP(ZZ5,YM4:YS52,7,FALSE),"") | AAI5: =IF(ZZ5<>"",VLOOKUP(ZZ5,YM4:YS52,5,FALSE),"") | AAJ5: =IF(ZZ5<>"",VLOOKUP(ZZ5,YM4:YU52,9,FALSE),"") | AAK5: =AAG5 | AAL5: =IF(ZZ5<>"",RANK(AAK5,AAK4:AAK8),"") | AAM5: =IF(ZZ5<>"",SUMPRODUCT((AAK4:AAK8=AAK5)*(AAF4:AAF8>AAF5)),"") | AAN5: =IF(ZZ5<>"",SUMPRODUCT((AAK4:AAK8=AAK5)*(AAF4:AAF8=AAF5)*(AAD4:AAD8>AAD5)),"") | AAO5: =IF(ZZ5<>"",SUMPRODUCT((AAK4:AAK8=AAK5)*(AAF4:AAF8=AAF5)*(AAD4:AAD8=AAD5)*(AAH4:AAH8>AAH5)),"") | AAP5: =IF(ZZ5<>"",SUMPRODUCT((AAK4:AAK8=AAK5)*(AAF4:AAF8=AAF5)*(AAD4:AAD8=AAD5)*(AAH4:AAH8=AAH5)*(AAI4:AAI8>AAI5)),"") | AAQ5: =IF(ZZ5<>"",SUMPRODUCT((AAK4:AAK8=AAK5)*(AAF4:AAF8=AAF5)*(AAD4:AAD8=AAD5)*(AAH4:AAH8=AAH5)*(AAI4:AAI8=AAI5)*(AAJ4:AAJ8>AAJ5)),"") | AAR5: =IF(ZZ5<>"",IF(AAR57<>"",IF(ZY55=3,AAR57,AAR57+ZY55),SUM(AAL5:AAQ5)+1),"") | AAS5: =IF(ZZ5<>"",INDEX(ZZ5:ZZ8,MATCH(2,AAR5:AAR8,0),0),"") | ACH5: =IF(AAS5<>"",AAS5,IF(ZY5<>"",ZY5,YY5)) -> Norway | ACI5: 2 | ACJ5: 3 | ACK5: =YE5 -> Spain | ACL5: =IF(OFFSET('Game Board'!O10,0,ACL1)<>"",OFFSET('Game Board'!O10,0,ACL1),0) -> 0 | ACM5: =IF(OFFSET('Game Board'!P10,0,ACL1)<>"",OFFSET('Game Board'!P10,0,ACL1),0) -> 0 | ACN5: =YH5 -> Portugal | ACO5: =IF(AND(OFFSET('Game Board'!O10,0,ACL1)<>"",OFFSET('Game Board'!P10,0,ACL1)<>""),IF(ACL5>ACM5,"W",IF(ACL5=ACM5,"D","L")),"") | ACP5: =IF(ACO5<>"",IF(ACO5="W","L",IF(ACO5="L","W","D")),"") | ACR5: =VLOOKUP(ACS5,AGN4:AGO8,2,FALSE) -> 2 | ACS5: =YM5 -> Norway | ACT5: =SUMPRODUCT((AGQ3:AGQ54=ACS5)*(AGU3:AGU54="W"))+SUMPRODUCT((AGT3:AGT54=ACS5)*(AGV3:AGV54="W")) -> 0 | ACU5: =SUMPRODUCT((AGQ3:AGQ54=ACS5)*(AGU3:AGU54="D"))+SUMPRODUCT((AGT3:AGT54=ACS5)*(AGV3:AGV54="D")) -> 0 | ACV5: =SUMPRODUCT((AGQ3:AGQ54=ACS5)*(AGU3:AGU54="L"))+SUMPRODUCT((AGT3:AGT54=ACS5)*(AGV3:AGV54="L")) -> 0 | ACW5: =SUMIF(AGQ3:AGQ72,ACS5,AGR3:AGR72)+SUMIF(AGT3:AGT72,ACS5,AGS3:AGS72) -> 0 | ACX5: =SUMIF(AGT3:AGT72,ACS5,AGR3:AGR72)+SUMIF(AGQ3:AGQ72,ACS5,AGS3:AGS72) -> 0 | ACY5: =ACW5-ACX5+1000 -> 1000 | ACZ5: =ACT5*3+ACU5*1 -> 0 | ADA5: =YU5 -> 24 | ADB5: =IF(COUNTIF(ACZ4:ACZ8,4)<>4,RANK(ACZ5,ACZ4:ACZ8),ACZ57) -> 1 | ADD5: =SUMPRODUCT((ADB4:ADB7=ADB5)*(ADA4:ADA7<ADA5))+ADB5 -> 3 | ADE5: =INDEX(ACS4:ACS8,MATCH(2,ADD4:ADD8,0),0) -> Iceland | ADF5: =INDEX(ADB4:ADB8,MATCH(ADE5,ACS4:ACS8,0),0) -> 1 | ADG5: =IF(ADG4<>"",ADE5,"") -> Iceland | ADH5: =IF(ADH4<>"",ADE6,"") | ADI5: =IF(ADI4<>"",ADE7,"") | ADJ5: =IF(ADJ4<>"",ADE8,"") | ADL5: =IF(ADG5<>"",ADG5,"") -> Iceland | ADM5: =SUMPRODUCT((AGQ3:AGQ54=ADL5)*(AGT3:AGT54=ADL6)*(AGU3:AGU54="W"))+SUMPRODUCT((AGQ3:AGQ54=ADL5)*(AGT3:AGT54=ADL7)*(AGU3:AGU54="W"))+SUMPRODUCT((AGQ3:AGQ54=ADL5)*(AGT3:AGT54=ADL8)*(AGU3:AGU54="W"))+SUMPRODUCT((AGQ3:AGQ54=ADL5)*(AGT3:AGT54=ADL4)*(AGU3:AGU54="W"))+SUMPRODUCT((AGQ3:AGQ54=ADL6)*(AGT3:AGT54=ADL5)*(AGV3:AGV54="W"))+SUMPRODUCT((AGQ3:AGQ54=ADL7)*(AGT3:AGT54=ADL5)*(AGV3:AGV54="W"))+SUMPRODUCT((AGQ3:AGQ54=ADL8)*(AGT3:AGT54=ADL5)*(AGV3:AGV54="W"))+SUMPRODUCT((AGQ3:AGQ54=ADL4)*(AGT3:AGT54=ADL5)*(AGV3:AGV54="W")) -> 0 | ADN5: =SUMPRODUCT((AGQ3:AGQ54=ADL5)*(AGT3:AGT54=ADL6)*(AGU3:AGU54="D"))+SUMPRODUCT((AGQ3:AGQ54=ADL5)*(AGT3:AGT54=ADL7)*(AGU3:AGU54="D"))+SUMPRODUCT((AGQ3:AGQ54=ADL5)*(AGT3:AGT54=ADL8)*(AGU3:AGU54="D"))+SUMPRODUCT((AGQ3:AGQ54=ADL5)*(AGT3:AGT54=ADL4)*(AGU3:AGU54="D"))+SUMPRODUCT((AGQ3:AGQ54=ADL6)*(AGT3:AGT54=ADL5)*(AGU3:AGU54="D"))+SUMPRODUCT((AGQ3:AGQ54=ADL7)*(AGT3:AGT54=ADL5)*(AGU3:AGU54="D"))+SUMPRODUCT((AGQ3:AGQ54=ADL8)*(AGT3:AGT54=ADL5)*(AGU3:AGU54="D"))+SUMPRODUCT((AGQ3:AGQ54=ADL4)*(AGT3:AGT54=ADL5)*(AGU3:AGU54="D")) -> 0 | ADO5: =SUMPRODUCT((AGQ3:AGQ54=ADL5)*(AGT3:AGT54=ADL6)*(AGU3:AGU54="L"))+SUMPRODUCT((AGQ3:AGQ54=ADL5)*(AGT3:AGT54=ADL7)*(AGU3:AGU54="L"))+SUMPRODUCT((AGQ3:AGQ54=ADL5)*(AGT3:AGT54=ADL8)*(AGU3:AGU54="L"))+SUMPRODUCT((AGQ3:AGQ54=ADL5)*(AGT3:AGT54=ADL4)*(AGU3:AGU54="L"))+SUMPRODUCT((AGQ3:AGQ54=ADL6)*(AGT3:AGT54=ADL5)*(AGV3:AGV54="L"))+SUMPRODUCT((AGQ3:AGQ54=ADL7)*(AGT3:AGT54=ADL5)*(AGV3:AGV54="L"))+SUMPRODUCT((AGQ3:AGQ54=ADL8)*(AGT3:AGT54=ADL5)*(AGV3:AGV54="L"))+SUMPRODUCT((AGQ3:AGQ54=ADL4)*(AGT3:AGT54=ADL5)*(AGV3:AGV54="L")) -> 0 | ADP5: =SUMPRODUCT((AGQ3:AGQ54=ADL5)*(AGT3:AGT54=ADL6)*AGR3:AGR54)+SUMPRODUCT((AGQ3:AGQ54=ADL5)*(AGT3:AGT54=ADL7)*AGR3:AGR54)+SUMPRODUCT((AGQ3:AGQ54=ADL5)*(AGT3:AGT54=ADL8)*AGR3:AGR54)+SUMPRODUCT((AGQ3:AGQ54=ADL5)*(AGT3:AGT54=ADL4)*AGR3:AGR54)+SUMPRODUCT((AGQ3:AGQ54=ADL6)*(AGT3:AGT54=ADL5)*AGS3:AGS54)+SUMPRODUCT((AGQ3:AGQ54=ADL7)*(AGT3:AGT54=ADL5)*AGS3:AGS54)+SUMPRODUCT((AGQ3:AGQ54=ADL8)*(AGT3:AGT54=ADL5)*AGS3:AGS54)+SUMPRODUCT((AGQ3:AGQ54=ADL4)*(AGT3:AGT54=ADL5)*AGS3:AGS54) -> 0 | ADQ5: =SUMPRODUCT((AGQ3:AGQ54=ADL5)*(AGT3:AGT54=ADL6)*AGS3:AGS54)+SUMPRODUCT((AGQ3:AGQ54=ADL5)*(AGT3:AGT54=ADL7)*AGS3:AGS54)+SUMPRODUCT((AGQ3:AGQ54=ADL5)*(AGT3:AGT54=ADL8)*AGS3:AGS54)+SUMPRODUCT((AGQ3:AGQ54=ADL5)*(AGT3:AGT54=ADL4)*AGS3:AGS54)+SUMPRODUCT((AGQ3:AGQ54=ADL6)*(AGT3:AGT54=ADL5)*AGR3:AGR54)+SUMPRODUCT((AGQ3:AGQ54=ADL7)*(AGT3:AGT54=ADL5)*AGR3:AGR54)+SUMPRODUCT((AGQ3:AGQ54=ADL8)*(AGT3:AGT54=ADL5)*AGR3:AGR54)+SUMPRODUCT((AGQ3:AGQ54=ADL4)*(AGT3:AGT54=ADL5)*AGR3:AGR54) -> 0 | ADR5: =ADP5-ADQ5+1000 -> 1000 | ADS5: =IF(ADL5<>"",ADM5*3+ADN5*1,"") -> 0 | ADT5: =IF(ADL5<>"",VLOOKUP(ADL5,ACS4:ACY52,7,FALSE),"") -> 1000 | ADU5: =IF(ADL5<>"",VLOOKUP(ADL5,ACS4:ACY52,5,FALSE),"") -> 0 | ADV5: =IF(ADL5<>"",VLOOKUP(ADL5,ACS4:ADA52,9,FALSE),"") -> 16 | ADW5: =ADS5 -> 0 | ADX5: =IF(ADL5<>"",RANK(ADW5,ADW4:ADW8),"") -> 1 | ADY5: =IF(ADL5<>"",SUMPRODUCT((ADW4:ADW8=ADW5)*(ADR4:ADR8>ADR5)),"") -> 0 | ADZ5: =IF(ADL5<>"",SUMPRODUCT((ADW4:ADW8=ADW5)*(ADR4:ADR8=ADR5)*(ADP4:ADP8>ADP5)),"") -> 0 | AEA5: =IF(ADL5<>"",SUMPRODUCT((ADW4:ADW8=ADW5)*(ADR4:ADR8=ADR5)*(ADP4:ADP8=ADP5)*(ADT4:ADT8>ADT5)),"") -> 0 | AEB5: =IF(ADL5<>"",SUMPRODUCT((ADW4:ADW8=ADW5)*(ADR4:ADR8=ADR5)*(ADP4:ADP8=ADP5)*(ADT4:ADT8=ADT5)*(ADU4:ADU8>ADU5)),"") -> 0 | AEC5: =IF(ADL5<>"",SUMPRODUCT((ADW4:ADW8=ADW5)*(ADR4:ADR8=ADR5)*(ADP4:ADP8=ADP5)*(ADT4:ADT8=ADT5)*(ADU4:ADU8=ADU5)*(ADV4:ADV8>ADV5)),"") -> 2 | AED5: =IF(ADL5<>"",IF(AED57<>"",IF(ADK55=3,AED57,AED57+ADK55),SUM(ADX5:AEC5)),"") -> 3 | AEE5: =IF(ADL5<>"",INDEX(ADL4:ADL8,MATCH(2,AED4:AED8,0),0),"") -> Norway | AEF5: =IF(ADH4<>"",ADH4,"") | AEG5: =SUMPRODUCT((AGQ3:AGQ54=AEF5)*(AGT3:AGT54=AEF6)*(AGU3:AGU54="W"))+SUMPRODUCT((AGQ3:AGQ54=AEF5)*(AGT3:AGT54=AEF7)*(AGU3:AGU54="W"))+SUMPRODUCT((AGQ3:AGQ54=AEF5)*(AGT3:AGT54=AEF8)*(AGU3:AGU54="W"))+SUMPRODUCT((AGQ3:AGQ54=AEF6)*(AGT3:AGT54=AEF5)*(AGV3:AGV54="W"))+SUMPRODUCT((AGQ3:AGQ54=AEF7)*(AGT3:AGT54=AEF5)*(AGV3:AGV54="W"))+SUMPRODUCT((AGQ3:AGQ54=AEF8)*(AGT3:AGT54=AEF5)*(AGV3:AGV54="W")) -> 0 | AEH5: =SUMPRODUCT((AGQ3:AGQ54=AEF5)*(AGT3:AGT54=AEF6)*(AGU3:AGU54="D"))+SUMPRODUCT((AGQ3:AGQ54=AEF5)*(AGT3:AGT54=AEF7)*(AGU3:AGU54="D"))+SUMPRODUCT((AGQ3:AGQ54=AEF5)*(AGT3:AGT54=AEF8)*(AGU3:AGU54="D"))+SUMPRODUCT((AGQ3:AGQ54=AEF6)*(AGT3:AGT54=AEF5)*(AGU3:AGU54="D"))+SUMPRODUCT((AGQ3:AGQ54=AEF7)*(AGT3:AGT54=AEF5)*(AGU3:AGU54="D"))+SUMPRODUCT((AGQ3:AGQ54=AEF8)*(AGT3:AGT54=AEF5)*(AGU3:AGU54="D")) -> 0 | AEI5: =SUMPRODUCT((AGQ3:AGQ54=AEF5)*(AGT3:AGT54=AEF6)*(AGU3:AGU54="L"))+SUMPRODUCT((AGQ3:AGQ54=AEF5)*(AGT3:AGT54=AEF7)*(AGU3:AGU54="L"))+SUMPRODUCT((AGQ3:AGQ54=AEF5)*(AGT3:AGT54=AEF8)*(AGU3:AGU54="L"))+SUMPRODUCT((AGQ3:AGQ54=AEF6)*(AGT3:AGT54=AEF5)*(AGV3:AGV54="L"))+SUMPRODUCT((AGQ3:AGQ54=AEF7)*(AGT3:AGT54=AEF5)*(AGV3:AGV54="L"))+SUMPRODUCT((AGQ3:AGQ54=AEF8)*(AGT3:AGT54=AEF5)*(AGV3:AGV54="L")) -> 0 | AEJ5: =SUMPRODUCT((AGQ3:AGQ54=AEF5)*(AGT3:AGT54=AEF6)*AGR3:AGR54)+SUMPRODUCT((AGQ3:AGQ54=AEF5)*(AGT3:AGT54=AEF7)*AGR3:AGR54)+SUMPRODUCT((AGQ3:AGQ54=AEF5)*(AGT3:AGT54=AEF8)*AGR3:AGR54)+SUMPRODUCT((AGQ3:AGQ54=AEF5)*(AGT3:AGT54=AEF4)*AGR3:AGR54)+SUMPRODUCT((AGQ3:AGQ54=AEF6)*(AGT3:AGT54=AEF5)*AGS3:AGS54)+SUMPRODUCT((AGQ3:AGQ54=AEF7)*(AGT3:AGT54=AEF5)*AGS3:AGS54)+SUMPRODUCT((AGQ3:AGQ54=AEF8)*(AGT3:AGT54=AEF5)*AGS3:AGS54)+SUMPRODUCT((AGQ3:AGQ54=AEF4)*(AGT3:AGT54=AEF5)*AGS3:AGS54) -> 0 | AEK5: =SUMPRODUCT((AGQ3:AGQ54=AEF5)*(AGT3:AGT54=AEF6)*AGS3:AGS54)+SUMPRODUCT((AGQ3:AGQ54=AEF5)*(AGT3:AGT54=AEF7)*AGS3:AGS54)+SUMPRODUCT((AGQ3:AGQ54=AEF5)*(AGT3:AGT54=AEF8)*AGS3:AGS54)+SUMPRODUCT((AGQ3:AGQ54=AEF5)*(AGT3:AGT54=AEF4)*AGS3:AGS54)+SUMPRODUCT((AGQ3:AGQ54=AEF6)*(AGT3:AGT54=AEF5)*AGR3:AGR54)+SUMPRODUCT((AGQ3:AGQ54=AEF7)*(AGT3:AGT54=AEF5)*AGR3:AGR54)+SUMPRODUCT((AGQ3:AGQ54=AEF8)*(AGT3:AGT54=AEF5)*AGR3:AGR54)+SUMPRODUCT((AGQ3:AGQ54=AEF4)*(AGT3:AGT54=AEF5)*AGR3:AGR54) -> 0 | AEL5: =AEJ5-AEK5+1000 -> 1000 | AEM5: =IF(AEF5<>"",AEG5*3+AEH5*1,"") | AEN5: =IF(AEF5<>"",VLOOKUP(AEF5,ACS4:ACY52,7,FALSE),"") | AEO5: =IF(AEF5<>"",VLOOKUP(AEF5,ACS4:ACY52,5,FALSE),"") | AEP5: =IF(AEF5<>"",VLOOKUP(AEF5,ACS4:ADA52,9,FALSE),"") | AEQ5: =AEM5 | AER5: =IF(AEF5<>"",RANK(AEQ5,AEQ4:AEQ8),"") | AES5: =IF(AEF5<>"",SUMPRODUCT((AEQ4:AEQ8=AEQ5)*(AEL4:AEL8>AEL5)),"") | AET5: =IF(AEF5<>"",SUMPRODUCT((AEQ4:AEQ8=AEQ5)*(AEL4:AEL8=AEL5)*(AEJ4:AEJ8>AEJ5)),"") | AEU5: =IF(AEF5<>"",SUMPRODUCT((AEQ4:AEQ8=AEQ5)*(AEL4:AEL8=AEL5)*(AEJ4:AEJ8=AEJ5)*(AEN4:AEN8>AEN5)),"") | AEV5: =IF(AEF5<>"",SUMPRODUCT((AEQ4:AEQ8=AEQ5)*(AEL4:AEL8=AEL5)*(AEJ4:AEJ8=AEJ5)*(AEN4:AEN8=AEN5)*(AEO4:AEO8>AEO5)),"") | AEW5: =IF(AEF5<>"",SUMPRODUCT((AEQ4:AEQ8=AEQ5)*(AEL4:AEL8=AEL5)*(AEJ4:AEJ8=AEJ5)*(AEN4:AEN8=AEN5)*(AEO4:AEO8=AEO5)*(AEP4:AEP8>AEP5)),"") | AEX5: =IF(AEF5<>"",IF(AEX57<>"",IF(AEE55=3,AEX57,AEX57+AEE55),SUM(AER5:AEW5)+1),"") | AEY5: =IF(AEF5<>"",INDEX(AEF5:AEF8,MATCH(2,AEX5:AEX8,0),0),"") | AGN5: =IF(AEY5<>"",AEY5,IF(AEE5<>"",AEE5,ADE5)) -> Norway | AGO5: 2 | AGP5: 3 | AGQ5: =ACK5 -> Spain | AGR5: =IF(OFFSET('Game Board'!O10,0,AGR1)<>"",OFFSET('Game Board'!O10,0,AGR1),0) -> 0 | AGS5: =IF(OFFSET('Game Board'!P10,0,AGR1)<>"",OFFSET('Game Board'!P10,0,AGR1),0) -> 0 | AGT5: =ACN5 -> Portugal | AGU5: =IF(AND(OFFSET('Game Board'!O10,0,AGR1)<>"",OFFSET('Game Board'!P10,0,AGR1)<>""),IF(AGR5>AGS5,"W",IF(AGR5=AGS5,"D","L")),"") | AGV5: =IF(AGU5<>"",IF(AGU5="W","L",IF(AGU5="L","W","D")),"") | AGX5: =VLOOKUP(AGY5,AKT4:AKU8,2,FALSE) -> 2 | AGY5: =ACS5 -> Norway | AGZ5: =SUMPRODUCT((AKW3:AKW54=AGY5)*(ALA3:ALA54="W"))+SUMPRODUCT((AKZ3:AKZ54=AGY5)*(ALB3:ALB54="W")) -> 0 | AHA5: =SUMPRODUCT((AKW3:AKW54=AGY5)*(ALA3:ALA54="D"))+SUMPRODUCT((AKZ3:AKZ54=AGY5)*(ALB3:ALB54="D")) -> 0 | AHB5: =SUMPRODUCT((AKW3:AKW54=AGY5)*(ALA3:ALA54="L"))+SUMPRODUCT((AKZ3:AKZ54=AGY5)*(ALB3:ALB54="L")) -> 0 | AHC5: =SUMIF(AKW3:AKW72,AGY5,AKX3:AKX72)+SUMIF(AKZ3:AKZ72,AGY5,AKY3:AKY72) -> 0 | AHD5: =SUMIF(AKZ3:AKZ72,AGY5,AKX3:AKX72)+SUMIF(AKW3:AKW72,AGY5,AKY3:AKY72) -> 0 | AHE5: =AHC5-AHD5+1000 -> 1000 | AHF5: =AGZ5*3+AHA5*1 -> 0 | AHG5: =ADA5 -> 24 | AHH5: =IF(COUNTIF(AHF4:AHF8,4)<>4,RANK(AHF5,AHF4:AHF8),AHF57) -> 1 | AHJ5: =SUMPRODUCT((AHH4:AHH7=AHH5)*(AHG4:AHG7<AHG5))+AHH5 -> 3 | AHK5: =INDEX(AGY4:AGY8,MATCH(2,AHJ4:AHJ8,0),0) -> Iceland | AHL5: =INDEX(AHH4:AHH8,MATCH(AHK5,AGY4:AGY8,0),0) -> 1 | AHM5: =IF(AHM4<>"",AHK5,"") -> Iceland | AHN5: =IF(AHN4<>"",AHK6,"") | AHO5: =IF(AHO4<>"",AHK7,"") | AHP5: =IF(AHP4<>"",AHK8,"") | AHR5: =IF(AHM5<>"",AHM5,"") -> Iceland | AHS5: =SUMPRODUCT((AKW3:AKW54=AHR5)*(AKZ3:AKZ54=AHR6)*(ALA3:ALA54="W"))+SUMPRODUCT((AKW3:AKW54=AHR5)*(AKZ3:AKZ54=AHR7)*(ALA3:ALA54="W"))+SUMPRODUCT((AKW3:AKW54=AHR5)*(AKZ3:AKZ54=AHR8)*(ALA3:ALA54="W"))+SUMPRODUCT((AKW3:AKW54=AHR5)*(AKZ3:AKZ54=AHR4)*(ALA3:ALA54="W"))+SUMPRODUCT((AKW3:AKW54=AHR6)*(AKZ3:AKZ54=AHR5)*(ALB3:ALB54="W"))+SUMPRODUCT((AKW3:AKW54=AHR7)*(AKZ3:AKZ54=AHR5)*(ALB3:ALB54="W"))+SUMPRODUCT((AKW3:AKW54=AHR8)*(AKZ3:AKZ54=AHR5)*(ALB3:ALB54="W"))+SUMPRODUCT((AKW3:AKW54=AHR4)*(AKZ3:AKZ54=AHR5)*(ALB3:ALB54="W")) -> 0 | AHT5: =SUMPRODUCT((AKW3:AKW54=AHR5)*(AKZ3:AKZ54=AHR6)*(ALA3:ALA54="D"))+SUMPRODUCT((AKW3:AKW54=AHR5)*(AKZ3:AKZ54=AHR7)*(ALA3:ALA54="D"))+SUMPRODUCT((AKW3:AKW54=AHR5)*(AKZ3:AKZ54=AHR8)*(ALA3:ALA54="D"))+SUMPRODUCT((AKW3:AKW54=AHR5)*(AKZ3:AKZ54=AHR4)*(ALA3:ALA54="D"))+SUMPRODUCT((AKW3:AKW54=AHR6)*(AKZ3:AKZ54=AHR5)*(ALA3:ALA54="D"))+SUMPRODUCT((AKW3:AKW54=AHR7)*(AKZ3:AKZ54=AHR5)*(ALA3:ALA54="D"))+SUMPRODUCT((AKW3:AKW54=AHR8)*(AKZ3:AKZ54=AHR5)*(ALA3:ALA54="D"))+SUMPRODUCT((AKW3:AKW54=AHR4)*(AKZ3:AKZ54=AHR5)*(ALA3:ALA54="D")) -> 0 | AHU5: =SUMPRODUCT((AKW3:AKW54=AHR5)*(AKZ3:AKZ54=AHR6)*(ALA3:ALA54="L"))+SUMPRODUCT((AKW3:AKW54=AHR5)*(AKZ3:AKZ54=AHR7)*(ALA3:ALA54="L"))+SUMPRODUCT((AKW3:AKW54=AHR5)*(AKZ3:AKZ54=AHR8)*(ALA3:ALA54="L"))+SUMPRODUCT((AKW3:AKW54=AHR5)*(AKZ3:AKZ54=AHR4)*(ALA3:ALA54="L"))+SUMPRODUCT((AKW3:AKW54=AHR6)*(AKZ3:AKZ54=AHR5)*(ALB3:ALB54="L"))+SUMPRODUCT((AKW3:AKW54=AHR7)*(AKZ3:AKZ54=AHR5)*(ALB3:ALB54="L"))+SUMPRODUCT((AKW3:AKW54=AHR8)*(AKZ3:AKZ54=AHR5)*(ALB3:ALB54="L"))+SUMPRODUCT((AKW3:AKW54=AHR4)*(AKZ3:AKZ54=AHR5)*(ALB3:ALB54="L")) -> 0 | AHV5: =SUMPRODUCT((AKW3:AKW54=AHR5)*(AKZ3:AKZ54=AHR6)*AKX3:AKX54)+SUMPRODUCT((AKW3:AKW54=AHR5)*(AKZ3:AKZ54=AHR7)*AKX3:AKX54)+SUMPRODUCT((AKW3:AKW54=AHR5)*(AKZ3:AKZ54=AHR8)*AKX3:AKX54)+SUMPRODUCT((AKW3:AKW54=AHR5)*(AKZ3:AKZ54=AHR4)*AKX3:AKX54)+SUMPRODUCT((AKW3:AKW54=AHR6)*(AKZ3:AKZ54=AHR5)*AKY3:AKY54)+SUMPRODUCT((AKW3:AKW54=AHR7)*(AKZ3:AKZ54=AHR5)*AKY3:AKY54)+SUMPRODUCT((AKW3:AKW54=AHR8)*(AKZ3:AKZ54=AHR5)*AKY3:AKY54)+SUMPRODUCT((AKW3:AKW54=AHR4)*(AKZ3:AKZ54=AHR5)*AKY3:AKY54) -> 0 | AHW5: =SUMPRODUCT((AKW3:AKW54=AHR5)*(AKZ3:AKZ54=AHR6)*AKY3:AKY54)+SUMPRODUCT((AKW3:AKW54=AHR5)*(AKZ3:AKZ54=AHR7)*AKY3:AKY54)+SUMPRODUCT((AKW3:AKW54=AHR5)*(AKZ3:AKZ54=AHR8)*AKY3:AKY54)+SUMPRODUCT((AKW3:AKW54=AHR5)*(AKZ3:AKZ54=AHR4)*AKY3:AKY54)+SUMPRODUCT((AKW3:AKW54=AHR6)*(AKZ3:AKZ54=AHR5)*AKX3:AKX54)+SUMPRODUCT((AKW3:AKW54=AHR7)*(AKZ3:AKZ54=AHR5)*AKX3:AKX54)+SUMPRODUCT((AKW3:AKW54=AHR8)*(AKZ3:AKZ54=AHR5)*AKX3:AKX54)+SUMPRODUCT((AKW3:AKW54=AHR4)*(AKZ3:AKZ54=AHR5)*AKX3:AKX54) -> 0 | AHX5: =AHV5-AHW5+1000 -> 1000 | AHY5: =IF(AHR5<>"",AHS5*3+AHT5*1,"") -> 0 | AHZ5: =IF(AHR5<>"",VLOOKUP(AHR5,AGY4:AHE52,7,FALSE),"") -> 1000 | AIA5: =IF(AHR5<>"",VLOOKUP(AHR5,AGY4:AHE52,5,FALSE),"") -> 0 | AIB5: =IF(AHR5<>"",VLOOKUP(AHR5,AGY4:AHG52,9,FALSE),"") -> 16 | AIC5: =AHY5 -> 0 | AID5: =IF(AHR5<>"",RANK(AIC5,AIC4:AIC8),"") -> 1 | AIE5: =IF(AHR5<>"",SUMPRODUCT((AIC4:AIC8=AIC5)*(AHX4:AHX8>AHX5)),"") -> 0 | AIF5: =IF(AHR5<>"",SUMPRODUCT((AIC4:AIC8=AIC5)*(AHX4:AHX8=AHX5)*(AHV4:AHV8>AHV5)),"") -> 0 | AIG5: =IF(AHR5<>"",SUMPRODUCT((AIC4:AIC8=AIC5)*(AHX4:AHX8=AHX5)*(AHV4:AHV8=AHV5)*(AHZ4:AHZ8>AHZ5)),"") -> 0 | AIH5: =IF(AHR5<>"",SUMPRODUCT((AIC4:AIC8=AIC5)*(AHX4:AHX8=AHX5)*(AHV4:AHV8=AHV5)*(AHZ4:AHZ8=AHZ5)*(AIA4:AIA8>AIA5)),"") -> 0 | AII5: =IF(AHR5<>"",SUMPRODUCT((AIC4:AIC8=AIC5)*(AHX4:AHX8=AHX5)*(AHV4:AHV8=AHV5)*(AHZ4:AHZ8=AHZ5)*(AIA4:AIA8=AIA5)*(AIB4:AIB8>AIB5)),"") -> 2 | AIJ5: =IF(AHR5<>"",IF(AIJ57<>"",IF(AHQ55=3,AIJ57,AIJ57+AHQ55),SUM(AID5:AII5)),"") -> 3 | AIK5: =IF(AHR5<>"",INDEX(AHR4:AHR8,MATCH(2,AIJ4:AIJ8,0),0),"") -> Norway | AIL5: =IF(AHN4<>"",AHN4,"") | AIM5: =SUMPRODUCT((AKW3:AKW54=AIL5)*(AKZ3:AKZ54=AIL6)*(ALA3:ALA54="W"))+SUMPRODUCT((AKW3:AKW54=AIL5)*(AKZ3:AKZ54=AIL7)*(ALA3:ALA54="W"))+SUMPRODUCT((AKW3:AKW54=AIL5)*(AKZ3:AKZ54=AIL8)*(ALA3:ALA54="W"))+SUMPRODUCT((AKW3:AKW54=AIL6)*(AKZ3:AKZ54=AIL5)*(ALB3:ALB54="W"))+SUMPRODUCT((AKW3:AKW54=AIL7)*(AKZ3:AKZ54=AIL5)*(ALB3:ALB54="W"))+SUMPRODUCT((AKW3:AKW54=AIL8)*(AKZ3:AKZ54=AIL5)*(ALB3:ALB54="W")) -> 0 | AIN5: =SUMPRODUCT((AKW3:AKW54=AIL5)*(AKZ3:AKZ54=AIL6)*(ALA3:ALA54="D"))+SUMPRODUCT((AKW3:AKW54=AIL5)*(AKZ3:AKZ54=AIL7)*(ALA3:ALA54="D"))+SUMPRODUCT((AKW3:AKW54=AIL5)*(AKZ3:AKZ54=AIL8)*(ALA3:ALA54="D"))+SUMPRODUCT((AKW3:AKW54=AIL6)*(AKZ3:AKZ54=AIL5)*(ALA3:ALA54="D"))+SUMPRODUCT((AKW3:AKW54=AIL7)*(AKZ3:AKZ54=AIL5)*(ALA3:ALA54="D"))+SUMPRODUCT((AKW3:AKW54=AIL8)*(AKZ3:AKZ54=AIL5)*(ALA3:ALA54="D")) -> 0 | AIO5: =SUMPRODUCT((AKW3:AKW54=AIL5)*(AKZ3:AKZ54=AIL6)*(ALA3:ALA54="L"))+SUMPRODUCT((AKW3:AKW54=AIL5)*(AKZ3:AKZ54=AIL7)*(ALA3:ALA54="L"))+SUMPRODUCT((AKW3:AKW54=AIL5)*(AKZ3:AKZ54=AIL8)*(ALA3:ALA54="L"))+SUMPRODUCT((AKW3:AKW54=AIL6)*(AKZ3:AKZ54=AIL5)*(ALB3:ALB54="L"))+SUMPRODUCT((AKW3:AKW54=AIL7)*(AKZ3:AKZ54=AIL5)*(ALB3:ALB54="L"))+SUMPRODUCT((AKW3:AKW54=AIL8)*(AKZ3:AKZ54=AIL5)*(ALB3:ALB54="L")) -> 0 | AIP5: =SUMPRODUCT((AKW3:AKW54=AIL5)*(AKZ3:AKZ54=AIL6)*AKX3:AKX54)+SUMPRODUCT((AKW3:AKW54=AIL5)*(AKZ3:AKZ54=AIL7)*AKX3:AKX54)+SUMPRODUCT((AKW3:AKW54=AIL5)*(AKZ3:AKZ54=AIL8)*AKX3:AKX54)+SUMPRODUCT((AKW3:AKW54=AIL5)*(AKZ3:AKZ54=AIL4)*AKX3:AKX54)+SUMPRODUCT((AKW3:AKW54=AIL6)*(AKZ3:AKZ54=AIL5)*AKY3:AKY54)+SUMPRODUCT((AKW3:AKW54=AIL7)*(AKZ3:AKZ54=AIL5)*AKY3:AKY54)+SUMPRODUCT((AKW3:AKW54=AIL8)*(AKZ3:AKZ54=AIL5)*AKY3:AKY54)+SUMPRODUCT((AKW3:AKW54=AIL4)*(AKZ3:AKZ54=AIL5)*AKY3:AKY54) -> 0 | AIQ5: =SUMPRODUCT((AKW3:AKW54=AIL5)*(AKZ3:AKZ54=AIL6)*AKY3:AKY54)+SUMPRODUCT((AKW3:AKW54=AIL5)*(AKZ3:AKZ54=AIL7)*AKY3:AKY54)+SUMPRODUCT((AKW3:AKW54=AIL5)*(AKZ3:AKZ54=AIL8)*AKY3:AKY54)+SUMPRODUCT((AKW3:AKW54=AIL5)*(AKZ3:AKZ54=AIL4)*AKY3:AKY54)+SUMPRODUCT((AKW3:AKW54=AIL6)*(AKZ3:AKZ54=AIL5)*AKX3:AKX54)+SUMPRODUCT((AKW3:AKW54=AIL7)*(AKZ3:AKZ54=AIL5)*AKX3:AKX54)+SUMPRODUCT((AKW3:AKW54=AIL8)*(AKZ3:AKZ54=AIL5)*AKX3:AKX54)+SUMPRODUCT((AKW3:AKW54=AIL4)*(AKZ3:AKZ54=AIL5)*AKX3:AKX54) -> 0 | AIR5: =AIP5-AIQ5+1000 -> 1000 | AIS5: =IF(AIL5<>"",AIM5*3+AIN5*1,"") | AIT5: =IF(AIL5<>"",VLOOKUP(AIL5,AGY4:AHE52,7,FALSE),"") | AIU5: =IF(AIL5<>"",VLOOKUP(AIL5,AGY4:AHE52,5,FALSE),"") | AIV5: =IF(AIL5<>"",VLOOKUP(AIL5,AGY4:AHG52,9,FALSE),"") | AIW5: =AIS5 | AIX5: =IF(AIL5<>"",RANK(AIW5,AIW4:AIW8),"") | AIY5: =IF(AIL5<>"",SUMPRODUCT((AIW4:AIW8=AIW5)*(AIR4:AIR8>AIR5)),"") | AIZ5: =IF(AIL5<>"",SUMPRODUCT((AIW4:AIW8=AIW5)*(AIR4:AIR8=AIR5)*(AIP4:AIP8>AIP5)),"") | AJA5: =IF(AIL5<>"",SUMPRODUCT((AIW4:AIW8=AIW5)*(AIR4:AIR8=AIR5)*(AIP4:AIP8=AIP5)*(AIT4:AIT8>AIT5)),"") | AJB5: =IF(AIL5<>"",SUMPRODUCT((AIW4:AIW8=AIW5)*(AIR4:AIR8=AIR5)*(AIP4:AIP8=AIP5)*(AIT4:AIT8=AIT5)*(AIU4:AIU8>AIU5)),"") | AJC5: =IF(AIL5<>"",SUMPRODUCT((AIW4:AIW8=AIW5)*(AIR4:AIR8=AIR5)*(AIP4:AIP8=AIP5)*(AIT4:AIT8=AIT5)*(AIU4:AIU8=AIU5)*(AIV4:AIV8>AIV5)),"") | AJD5: =IF(AIL5<>"",IF(AJD57<>"",IF(AIK55=3,AJD57,AJD57+AIK55),SUM(AIX5:AJC5)+1),"") | AJE5: =IF(AIL5<>"",INDEX(AIL5:AIL8,MATCH(2,AJD5:AJD8,0),0),"") | AKT5: =IF(AJE5<>"",AJE5,IF(AIK5<>"",AIK5,AHK5)) -> Norway | AKU5: 2 | AKV5: 3 | AKW5: =AGQ5 -> Spain | AKX5: =IF(OFFSET('Game Board'!O10,0,AKX1)<>"",OFFSET('Game Board'!O10,0,AKX1),0) -> 0 | AKY5: =IF(OFFSET('Game Board'!P10,0,AKX1)<>"",OFFSET('Game Board'!P10,0,AKX1),0) -> 0 | AKZ5: =AGT5 -> Portugal | ALA5: =IF(AND(OFFSET('Game Board'!O10,0,AKX1)<>"",OFFSET('Game Board'!P10,0,AKX1)<>""),IF(AKX5>AKY5,"W",IF(AKX5=AKY5,"D","L")),"") | ALB5: =IF(ALA5<>"",IF(ALA5="W","L",IF(ALA5="L","W","D")),"") | ALD5: =VLOOKUP(ALE5,AOZ4:APA8,2,FALSE) -> 2 | ALE5: =AGY5 -> Norway | ALF5: =SUMPRODUCT((APC3:APC54=ALE5)*(APG3:APG54="W"))+SUMPRODUCT((APF3:APF54=ALE5)*(APH3:APH54="W")) -> 0 | ALG5: =SUMPRODUCT((APC3:APC54=ALE5)*(APG3:APG54="D"))+SUMPRODUCT((APF3:APF54=ALE5)*(APH3:APH54="D")) -> 0 | ALH5: =SUMPRODUCT((APC3:APC54=ALE5)*(APG3:APG54="L"))+SUMPRODUCT((APF3:APF54=ALE5)*(APH3:APH54="L")) -> 0 | ALI5: =SUMIF(APC3:APC72,ALE5,APD3:APD72)+SUMIF(APF3:APF72,ALE5,APE3:APE72) -> 0 | ALJ5: =SUMIF(APF3:APF72,ALE5,APD3:APD72)+SUMIF(APC3:APC72,ALE5,APE3:APE72) -> 0 | ALK5: =ALI5-ALJ5+1000 -> 1000 | ALL5: =ALF5*3+ALG5*1 -> 0 | ALM5: =AHG5 -> 24 | ALN5: =IF(COUNTIF(ALL4:ALL8,4)<>4,RANK(ALL5,ALL4:ALL8),ALL57) -> 1 | ALP5: =SUMPRODUCT((ALN4:ALN7=ALN5)*(ALM4:ALM7<ALM5))+ALN5 -> 3 | ALQ5: =INDEX(ALE4:ALE8,MATCH(2,ALP4:ALP8,0),0) -> Iceland | ALR5: =INDEX(ALN4:ALN8,MATCH(ALQ5,ALE4:ALE8,0),0) -> 1 | ALS5: =IF(ALS4<>"",ALQ5,"") -> Iceland | ALT5: =IF(ALT4<>"",ALQ6,"") | ALU5: =IF(ALU4<>"",ALQ7,"") | ALV5: =IF(ALV4<>"",ALQ8,"") | ALX5: =IF(ALS5<>"",ALS5,"") -> Iceland | ALY5: =SUMPRODUCT((APC3:APC54=ALX5)*(APF3:APF54=ALX6)*(APG3:APG54="W"))+SUMPRODUCT((APC3:APC54=ALX5)*(APF3:APF54=ALX7)*(APG3:APG54="W"))+SUMPRODUCT((APC3:APC54=ALX5)*(APF3:APF54=ALX8)*(APG3:APG54="W"))+SUMPRODUCT((APC3:APC54=ALX5)*(APF3:APF54=ALX4)*(APG3:APG54="W"))+SUMPRODUCT((APC3:APC54=ALX6)*(APF3:APF54=ALX5)*(APH3:APH54="W"))+SUMPRODUCT((APC3:APC54=ALX7)*(APF3:APF54=ALX5)*(APH3:APH54="W"))+SUMPRODUCT((APC3:APC54=ALX8)*(APF3:APF54=ALX5)*(APH3:APH54="W"))+SUMPRODUCT((APC3:APC54=ALX4)*(APF3:APF54=ALX5)*(APH3:APH54="W")) -> 0 | ALZ5: =SUMPRODUCT((APC3:APC54=ALX5)*(APF3:APF54=ALX6)*(APG3:APG54="D"))+SUMPRODUCT((APC3:APC54=ALX5)*(APF3:APF54=ALX7)*(APG3:APG54="D"))+SUMPRODUCT((APC3:APC54=ALX5)*(APF3:APF54=ALX8)*(APG3:APG54="D"))+SUMPRODUCT((APC3:APC54=ALX5)*(APF3:APF54=ALX4)*(APG3:APG54="D"))+SUMPRODUCT((APC3:APC54=ALX6)*(APF3:APF54=ALX5)*(APG3:APG54="D"))+SUMPRODUCT((APC3:APC54=ALX7)*(APF3:APF54=ALX5)*(APG3:APG54="D"))+SUMPRODUCT((APC3:APC54=ALX8)*(APF3:APF54=ALX5)*(APG3:APG54="D"))+SUMPRODUCT((APC3:APC54=ALX4)*(APF3:APF54=ALX5)*(APG3:APG54="D")) -> 0 | AMA5: =SUMPRODUCT((APC3:APC54=ALX5)*(APF3:APF54=ALX6)*(APG3:APG54="L"))+SUMPRODUCT((APC3:APC54=ALX5)*(APF3:APF54=ALX7)*(APG3:APG54="L"))+SUMPRODUCT((APC3:APC54=ALX5)*(APF3:APF54=ALX8)*(APG3:APG54="L"))+SUMPRODUCT((APC3:APC54=ALX5)*(APF3:APF54=ALX4)*(APG3:APG54="L"))+SUMPRODUCT((APC3:APC54=ALX6)*(APF3:APF54=ALX5)*(APH3:APH54="L"))+SUMPRODUCT((APC3:APC54=ALX7)*(APF3:APF54=ALX5)*(APH3:APH54="L"))+SUMPRODUCT((APC3:APC54=ALX8)*(APF3:APF54=ALX5)*(APH3:APH54="L"))+SUMPRODUCT((APC3:APC54=ALX4)*(APF3:APF54=ALX5)*(APH3:APH54="L")) -> 0 | AMB5: =SUMPRODUCT((APC3:APC54=ALX5)*(APF3:APF54=ALX6)*APD3:APD54)+SUMPRODUCT((APC3:APC54=ALX5)*(APF3:APF54=ALX7)*APD3:APD54)+SUMPRODUCT((APC3:APC54=ALX5)*(APF3:APF54=ALX8)*APD3:APD54)+SUMPRODUCT((APC3:APC54=ALX5)*(APF3:APF54=ALX4)*APD3:APD54)+SUMPRODUCT((APC3:APC54=ALX6)*(APF3:APF54=ALX5)*APE3:APE54)+SUMPRODUCT((APC3:APC54=ALX7)*(APF3:APF54=ALX5)*APE3:APE54)+SUMPRODUCT((APC3:APC54=ALX8)*(APF3:APF54=ALX5)*APE3:APE54)+SUMPRODUCT((APC3:APC54=ALX4)*(APF3:APF54=ALX5)*APE3:APE54) -> 0 | AMC5: =SUMPRODUCT((APC3:APC54=ALX5)*(APF3:APF54=ALX6)*APE3:APE54)+SUMPRODUCT((APC3:APC54=ALX5)*(APF3:APF54=ALX7)*APE3:APE54)+SUMPRODUCT((APC3:APC54=ALX5)*(APF3:APF54=ALX8)*APE3:APE54)+SUMPRODUCT((APC3:APC54=ALX5)*(APF3:APF54=ALX4)*APE3:APE54)+SUMPRODUCT((APC3:APC54=ALX6)*(APF3:APF54=ALX5)*APD3:APD54)+SUMPRODUCT((APC3:APC54=ALX7)*(APF3:APF54=ALX5)*APD3:APD54)+SUMPRODUCT((APC3:APC54=ALX8)*(APF3:APF54=ALX5)*APD3:APD54)+SUMPRODUCT((APC3:APC54=ALX4)*(APF3:APF54=ALX5)*APD3:APD54) -> 0 | AMD5: =AMB5-AMC5+1000 -> 1000 | AME5: =IF(ALX5<>"",ALY5*3+ALZ5*1,"") -> 0 | AMF5: =IF(ALX5<>"",VLOOKUP(ALX5,ALE4:ALK52,7,FALSE),"") -> 1000 | AMG5: =IF(ALX5<>"",VLOOKUP(ALX5,ALE4:ALK52,5,FALSE),"") -> 0 | AMH5: =IF(ALX5<>"",VLOOKUP(ALX5,ALE4:ALM52,9,FALSE),"") -> 16 | AMI5: =AME5 -> 0 | AMJ5: =IF(ALX5<>"",RANK(AMI5,AMI4:AMI8),"") -> 1 | AMK5: =IF(ALX5<>"",SUMPRODUCT((AMI4:AMI8=AMI5)*(AMD4:AMD8>AMD5)),"") -> 0 | AML5: =IF(ALX5<>"",SUMPRODUCT((AMI4:AMI8=AMI5)*(AMD4:AMD8=AMD5)*(AMB4:AMB8>AMB5)),"") -> 0 | AMM5: =IF(ALX5<>"",SUMPRODUCT((AMI4:AMI8=AMI5)*(AMD4:AMD8=AMD5)*(AMB4:AMB8=AMB5)*(AMF4:AMF8>AMF5)),"") -> 0 | AMN5: =IF(ALX5<>"",SUMPRODUCT((AMI4:AMI8=AMI5)*(AMD4:AMD8=AMD5)*(AMB4:AMB8=AMB5)*(AMF4:AMF8=AMF5)*(AMG4:AMG8>AMG5)),"") -> 0 | AMO5: =IF(ALX5<>"",SUMPRODUCT((AMI4:AMI8=AMI5)*(AMD4:AMD8=AMD5)*(AMB4:AMB8=AMB5)*(AMF4:AMF8=AMF5)*(AMG4:AMG8=AMG5)*(AMH4:AMH8>AMH5)),"") -> 2 | AMP5: =IF(ALX5<>"",IF(AMP57<>"",IF(ALW55=3,AMP57,AMP57+ALW55),SUM(AMJ5:AMO5)),"") -> 3 | AMQ5: =IF(ALX5<>"",INDEX(ALX4:ALX8,MATCH(2,AMP4:AMP8,0),0),"") -> Norway | AMR5: =IF(ALT4<>"",ALT4,"") | AMS5: =SUMPRODUCT((APC3:APC54=AMR5)*(APF3:APF54=AMR6)*(APG3:APG54="W"))+SUMPRODUCT((APC3:APC54=AMR5)*(APF3:APF54=AMR7)*(APG3:APG54="W"))+SUMPRODUCT((APC3:APC54=AMR5)*(APF3:APF54=AMR8)*(APG3:APG54="W"))+SUMPRODUCT((APC3:APC54=AMR6)*(APF3:APF54=AMR5)*(APH3:APH54="W"))+SUMPRODUCT((APC3:APC54=AMR7)*(APF3:APF54=AMR5)*(APH3:APH54="W"))+SUMPRODUCT((APC3:APC54=AMR8)*(APF3:APF54=AMR5)*(APH3:APH54="W")) -> 0 | AMT5: =SUMPRODUCT((APC3:APC54=AMR5)*(APF3:APF54=AMR6)*(APG3:APG54="D"))+SUMPRODUCT((APC3:APC54=AMR5)*(APF3:APF54=AMR7)*(APG3:APG54="D"))+SUMPRODUCT((APC3:APC54=AMR5)*(APF3:APF54=AMR8)*(APG3:APG54="D"))+SUMPRODUCT((APC3:APC54=AMR6)*(APF3:APF54=AMR5)*(APG3:APG54="D"))+SUMPRODUCT((APC3:APC54=AMR7)*(APF3:APF54=AMR5)*(APG3:APG54="D"))+SUMPRODUCT((APC3:APC54=AMR8)*(APF3:APF54=AMR5)*(APG3:APG54="D")) -> 0 | AMU5: =SUMPRODUCT((APC3:APC54=AMR5)*(APF3:APF54=AMR6)*(APG3:APG54="L"))+SUMPRODUCT((APC3:APC54=AMR5)*(APF3:APF54=AMR7)*(APG3:APG54="L"))+SUMPRODUCT((APC3:APC54=AMR5)*(APF3:APF54=AMR8)*(APG3:APG54="L"))+SUMPRODUCT((APC3:APC54=AMR6)*(APF3:APF54=AMR5)*(APH3:APH54="L"))+SUMPRODUCT((APC3:APC54=AMR7)*(APF3:APF54=AMR5)*(APH3:APH54="L"))+SUMPRODUCT((APC3:APC54=AMR8)*(APF3:APF54=AMR5)*(APH3:APH54="L")) -> 0 | AMV5: =SUMPRODUCT((APC3:APC54=AMR5)*(APF3:APF54=AMR6)*APD3:APD54)+SUMPRODUCT((APC3:APC54=AMR5)*(APF3:APF54=AMR7)*APD3:APD54)+SUMPRODUCT((APC3:APC54=AMR5)*(APF3:APF54=AMR8)*APD3:APD54)+SUMPRODUCT((APC3:APC54=AMR5)*(APF3:APF54=AMR4)*APD3:APD54)+SUMPRODUCT((APC3:APC54=AMR6)*(APF3:APF54=AMR5)*APE3:APE54)+SUMPRODUCT((APC3:APC54=AMR7)*(APF3:APF54=AMR5)*APE3:APE54)+SUMPRODUCT((APC3:APC54=AMR8)*(APF3:APF54=AMR5)*APE3:APE54)+SUMPRODUCT((APC3:APC54=AMR4)*(APF3:APF54=AMR5)*APE3:APE54) -> 0 | AMW5: =SUMPRODUCT((APC3:APC54=AMR5)*(APF3:APF54=AMR6)*APE3:APE54)+SUMPRODUCT((APC3:APC54=AMR5)*(APF3:APF54=AMR7)*APE3:APE54)+SUMPRODUCT((APC3:APC54=AMR5)*(APF3:APF54=AMR8)*APE3:APE54)+SUMPRODUCT((APC3:APC54=AMR5)*(APF3:APF54=AMR4)*APE3:APE54)+SUMPRODUCT((APC3:APC54=AMR6)*(APF3:APF54=AMR5)*APD3:APD54)+SUMPRODUCT((APC3:APC54=AMR7)*(APF3:APF54=AMR5)*APD3:APD54)+SUMPRODUCT((APC3:APC54=AMR8)*(APF3:APF54=AMR5)*APD3:APD54)+SUMPRODUCT((APC3:APC54=AMR4)*(APF3:APF54=AMR5)*APD3:APD54) -> 0 | AMX5: =AMV5-AMW5+1000 -> 1000 | AMY5: =IF(AMR5<>"",AMS5*3+AMT5*1,"") | AMZ5: =IF(AMR5<>"",VLOOKUP(AMR5,ALE4:ALK52,7,FALSE),"") | ANA5: =IF(AMR5<>"",VLOOKUP(AMR5,ALE4:ALK52,5,FALSE),"") | ANB5: =IF(AMR5<>"",VLOOKUP(AMR5,ALE4:ALM52,9,FALSE),"") | ANC5: =AMY5 | AND5: =IF(AMR5<>"",RANK(ANC5,ANC4:ANC8),"") | ANE5: =IF(AMR5<>"",SUMPRODUCT((ANC4:ANC8=ANC5)*(AMX4:AMX8>AMX5)),"") | ANF5: =IF(AMR5<>"",SUMPRODUCT((ANC4:ANC8=ANC5)*(AMX4:AMX8=AMX5)*(AMV4:AMV8>AMV5)),"") | ANG5: =IF(AMR5<>"",SUMPRODUCT((ANC4:ANC8=ANC5)*(AMX4:AMX8=AMX5)*(AMV4:AMV8=AMV5)*(AMZ4:AMZ8>AMZ5)),"") | ANH5: =IF(AMR5<>"",SUMPRODUCT((ANC4:ANC8=ANC5)*(AMX4:AMX8=AMX5)*(AMV4:AMV8=AMV5)*(AMZ4:AMZ8=AMZ5)*(ANA4:ANA8>ANA5)),"") | ANI5: =IF(AMR5<>"",SUMPRODUCT((ANC4:ANC8=ANC5)*(AMX4:AMX8=AMX5)*(AMV4:AMV8=AMV5)*(AMZ4:AMZ8=AMZ5)*(ANA4:ANA8=ANA5)*(ANB4:ANB8>ANB5)),"") | ANJ5: =IF(AMR5<>"",IF(ANJ57<>"",IF(AMQ55=3,ANJ57,ANJ57+AMQ55),SUM(AND5:ANI5)+1),"") | ANK5: =IF(AMR5<>"",INDEX(AMR5:AMR8,MATCH(2,ANJ5:ANJ8,0),0),"") | AOZ5: =IF(ANK5<>"",ANK5,IF(AMQ5<>"",AMQ5,ALQ5)) -> Norway | APA5: 2 | APB5: 3 | APC5: =AKW5 -> Spain | APD5: =IF(OFFSET('Game Board'!O10,0,APD1)<>"",OFFSET('Game Board'!O10,0,APD1),0) -> 0 | APE5: =IF(OFFSET('Game Board'!P10,0,APD1)<>"",OFFSET('Game Board'!P10,0,APD1),0) -> 0 | APF5: =AKZ5 -> Portugal | APG5: =IF(AND(OFFSET('Game Board'!O10,0,APD1)<>"",OFFSET('Game Board'!P10,0,APD1)<>""),IF(APD5>APE5,"W",IF(APD5=APE5,"D","L")),"") | APH5: =IF(APG5<>"",IF(APG5="W","L",IF(APG5="L","W","D")),"") | APJ5: =VLOOKUP(APK5,ATF4:ATG8,2,FALSE) -> 2 | APK5: =ALE5 -> Norway | APL5: =SUMPRODUCT((ATI3:ATI54=APK5)*(ATM3:ATM54="W"))+SUMPRODUCT((ATL3:ATL54=APK5)*(ATN3:ATN54="W")) -> 0 | APM5: =SUMPRODUCT((ATI3:ATI54=APK5)*(ATM3:ATM54="D"))+SUMPRODUCT((ATL3:ATL54=APK5)*(ATN3:ATN54="D")) -> 0 | APN5: =SUMPRODUCT((ATI3:ATI54=APK5)*(ATM3:ATM54="L"))+SUMPRODUCT((ATL3:ATL54=APK5)*(ATN3:ATN54="L")) -> 0 | APO5: =SUMIF(ATI3:ATI72,APK5,ATJ3:ATJ72)+SUMIF(ATL3:ATL72,APK5,ATK3:ATK72) -> 0 | APP5: =SUMIF(ATL3:ATL72,APK5,ATJ3:ATJ72)+SUMIF(ATI3:ATI72,APK5,ATK3:ATK72) -> 0 | APQ5: =APO5-APP5+1000 -> 1000 | APR5: =APL5*3+APM5*1 -> 0 | APS5: =ALM5 -> 24 | APT5: =IF(COUNTIF(APR4:APR8,4)<>4,RANK(APR5,APR4:APR8),APR57) -> 1 | APV5: =SUMPRODUCT((APT4:APT7=APT5)*(APS4:APS7<APS5))+APT5 -> 3 | APW5: =INDEX(APK4:APK8,MATCH(2,APV4:APV8,0),0) -> Iceland | APX5: =INDEX(APT4:APT8,MATCH(APW5,APK4:APK8,0),0) -> 1 | APY5: =IF(APY4<>"",APW5,"") -> Iceland | APZ5: =IF(APZ4<>"",APW6,"") | AQA5: =IF(AQA4<>"",APW7,"") | AQB5: =IF(AQB4<>"",APW8,"") | AQD5: =IF(APY5<>"",APY5,"") -> Iceland | AQE5: =SUMPRODUCT((ATI3:ATI54=AQD5)*(ATL3:ATL54=AQD6)*(ATM3:ATM54="W"))+SUMPRODUCT((ATI3:ATI54=AQD5)*(ATL3:ATL54=AQD7)*(ATM3:ATM54="W"))+SUMPRODUCT((ATI3:ATI54=AQD5)*(ATL3:ATL54=AQD8)*(ATM3:ATM54="W"))+SUMPRODUCT((ATI3:ATI54=AQD5)*(ATL3:ATL54=AQD4)*(ATM3:ATM54="W"))+SUMPRODUCT((ATI3:ATI54=AQD6)*(ATL3:ATL54=AQD5)*(ATN3:ATN54="W"))+SUMPRODUCT((ATI3:ATI54=AQD7)*(ATL3:ATL54=AQD5)*(ATN3:ATN54="W"))+SUMPRODUCT((ATI3:ATI54=AQD8)*(ATL3:ATL54=AQD5)*(ATN3:ATN54="W"))+SUMPRODUCT((ATI3:ATI54=AQD4)*(ATL3:ATL54=AQD5)*(ATN3:ATN54="W")) -> 0 | AQF5: =SUMPRODUCT((ATI3:ATI54=AQD5)*(ATL3:ATL54=AQD6)*(ATM3:ATM54="D"))+SUMPRODUCT((ATI3:ATI54=AQD5)*(ATL3:ATL54=AQD7)*(ATM3:ATM54="D"))+SUMPRODUCT((ATI3:ATI54=AQD5)*(ATL3:ATL54=AQD8)*(ATM3:ATM54="D"))+SUMPRODUCT((ATI3:ATI54=AQD5)*(ATL3:ATL54=AQD4)*(ATM3:ATM54="D"))+SUMPRODUCT((ATI3:ATI54=AQD6)*(ATL3:ATL54=AQD5)*(ATM3:ATM54="D"))+SUMPRODUCT((ATI3:ATI54=AQD7)*(ATL3:ATL54=AQD5)*(ATM3:ATM54="D"))+SUMPRODUCT((ATI3:ATI54=AQD8)*(ATL3:ATL54=AQD5)*(ATM3:ATM54="D"))+SUMPRODUCT((ATI3:ATI54=AQD4)*(ATL3:ATL54=AQD5)*(ATM3:ATM54="D")) -> 0 | AQG5: =SUMPRODUCT((ATI3:ATI54=AQD5)*(ATL3:ATL54=AQD6)*(ATM3:ATM54="L"))+SUMPRODUCT((ATI3:ATI54=AQD5)*(ATL3:ATL54=AQD7)*(ATM3:ATM54="L"))+SUMPRODUCT((ATI3:ATI54=AQD5)*(ATL3:ATL54=AQD8)*(ATM3:ATM54="L"))+SUMPRODUCT((ATI3:ATI54=AQD5)*(ATL3:ATL54=AQD4)*(ATM3:ATM54="L"))+SUMPRODUCT((ATI3:ATI54=AQD6)*(ATL3:ATL54=AQD5)*(ATN3:ATN54="L"))+SUMPRODUCT((ATI3:ATI54=AQD7)*(ATL3:ATL54=AQD5)*(ATN3:ATN54="L"))+SUMPRODUCT((ATI3:ATI54=AQD8)*(ATL3:ATL54=AQD5)*(ATN3:ATN54="L"))+SUMPRODUCT((ATI3:ATI54=AQD4)*(ATL3:ATL54=AQD5)*(ATN3:ATN54="L")) -> 0 | AQH5: =SUMPRODUCT((ATI3:ATI54=AQD5)*(ATL3:ATL54=AQD6)*ATJ3:ATJ54)+SUMPRODUCT((ATI3:ATI54=AQD5)*(ATL3:ATL54=AQD7)*ATJ3:ATJ54)+SUMPRODUCT((ATI3:ATI54=AQD5)*(ATL3:ATL54=AQD8)*ATJ3:ATJ54)+SUMPRODUCT((ATI3:ATI54=AQD5)*(ATL3:ATL54=AQD4)*ATJ3:ATJ54)+SUMPRODUCT((ATI3:ATI54=AQD6)*(ATL3:ATL54=AQD5)*ATK3:ATK54)+SUMPRODUCT((ATI3:ATI54=AQD7)*(ATL3:ATL54=AQD5)*ATK3:ATK54)+SUMPRODUCT((ATI3:ATI54=AQD8)*(ATL3:ATL54=AQD5)*ATK3:ATK54)+SUMPRODUCT((ATI3:ATI54=AQD4)*(ATL3:ATL54=AQD5)*ATK3:ATK54) -> 0 | AQI5: =SUMPRODUCT((ATI3:ATI54=AQD5)*(ATL3:ATL54=AQD6)*ATK3:ATK54)+SUMPRODUCT((ATI3:ATI54=AQD5)*(ATL3:ATL54=AQD7)*ATK3:ATK54)+SUMPRODUCT((ATI3:ATI54=AQD5)*(ATL3:ATL54=AQD8)*ATK3:ATK54)+SUMPRODUCT((ATI3:ATI54=AQD5)*(ATL3:ATL54=AQD4)*ATK3:ATK54)+SUMPRODUCT((ATI3:ATI54=AQD6)*(ATL3:ATL54=AQD5)*ATJ3:ATJ54)+SUMPRODUCT((ATI3:ATI54=AQD7)*(ATL3:ATL54=AQD5)*ATJ3:ATJ54)+SUMPRODUCT((ATI3:ATI54=AQD8)*(ATL3:ATL54=AQD5)*ATJ3:ATJ54)+SUMPRODUCT((ATI3:ATI54=AQD4)*(ATL3:ATL54=AQD5)*ATJ3:ATJ54) -> 0 | AQJ5: =AQH5-AQI5+1000 -> 1000 | AQK5: =IF(AQD5<>"",AQE5*3+AQF5*1,"") -> 0 | AQL5: =IF(AQD5<>"",VLOOKUP(AQD5,APK4:APQ52,7,FALSE),"") -> 1000 | AQM5: =IF(AQD5<>"",VLOOKUP(AQD5,APK4:APQ52,5,FALSE),"") -> 0 | AQN5: =IF(AQD5<>"",VLOOKUP(AQD5,APK4:APS52,9,FALSE),"") -> 16 | AQO5: =AQK5 -> 0 | AQP5: =IF(AQD5<>"",RANK(AQO5,AQO4:AQO8),"") -> 1 | AQQ5: =IF(AQD5<>"",SUMPRODUCT((AQO4:AQO8=AQO5)*(AQJ4:AQJ8>AQJ5)),"") -> 0 | AQR5: =IF(AQD5<>"",SUMPRODUCT((AQO4:AQO8=AQO5)*(AQJ4:AQJ8=AQJ5)*(AQH4:AQH8>AQH5)),"") -> 0 | AQS5: =IF(AQD5<>"",SUMPRODUCT((AQO4:AQO8=AQO5)*(AQJ4:AQJ8=AQJ5)*(AQH4:AQH8=AQH5)*(AQL4:AQL8>AQL5)),"") -> 0 | AQT5: =IF(AQD5<>"",SUMPRODUCT((AQO4:AQO8=AQO5)*(AQJ4:AQJ8=AQJ5)*(AQH4:AQH8=AQH5)*(AQL4:AQL8=AQL5)*(AQM4:AQM8>AQM5)),"") -> 0 | AQU5: =IF(AQD5<>"",SUMPRODUCT((AQO4:AQO8=AQO5)*(AQJ4:AQJ8=AQJ5)*(AQH4:AQH8=AQH5)*(AQL4:AQL8=AQL5)*(AQM4:AQM8=AQM5)*(AQN4:AQN8>AQN5)),"") -> 2 | AQV5: =IF(AQD5<>"",IF(AQV57<>"",IF(AQC55=3,AQV57,AQV57+AQC55),SUM(AQP5:AQU5)),"") -> 3 | AQW5: =IF(AQD5<>"",INDEX(AQD4:AQD8,MATCH(2,AQV4:AQV8,0),0),"") -> Norway | AQX5: =IF(APZ4<>"",APZ4,"") | AQY5: =SUMPRODUCT((ATI3:ATI54=AQX5)*(ATL3:ATL54=AQX6)*(ATM3:ATM54="W"))+SUMPRODUCT((ATI3:ATI54=AQX5)*(ATL3:ATL54=AQX7)*(ATM3:ATM54="W"))+SUMPRODUCT((ATI3:ATI54=AQX5)*(ATL3:ATL54=AQX8)*(ATM3:ATM54="W"))+SUMPRODUCT((ATI3:ATI54=AQX6)*(ATL3:ATL54=AQX5)*(ATN3:ATN54="W"))+SUMPRODUCT((ATI3:ATI54=AQX7)*(ATL3:ATL54=AQX5)*(ATN3:ATN54="W"))+SUMPRODUCT((ATI3:ATI54=AQX8)*(ATL3:ATL54=AQX5)*(ATN3:ATN54="W")) -> 0 | AQZ5: =SUMPRODUCT((ATI3:ATI54=AQX5)*(ATL3:ATL54=AQX6)*(ATM3:ATM54="D"))+SUMPRODUCT((ATI3:ATI54=AQX5)*(ATL3:ATL54=AQX7)*(ATM3:ATM54="D"))+SUMPRODUCT((ATI3:ATI54=AQX5)*(ATL3:ATL54=AQX8)*(ATM3:ATM54="D"))+SUMPRODUCT((ATI3:ATI54=AQX6)*(ATL3:ATL54=AQX5)*(ATM3:ATM54="D"))+SUMPRODUCT((ATI3:ATI54=AQX7)*(ATL3:ATL54=AQX5)*(ATM3:ATM54="D"))+SUMPRODUCT((ATI3:ATI54=AQX8)*(ATL3:ATL54=AQX5)*(ATM3:ATM54="D")) -> 0 | ARA5: =SUMPRODUCT((ATI3:ATI54=AQX5)*(ATL3:ATL54=AQX6)*(ATM3:ATM54="L"))+SUMPRODUCT((ATI3:ATI54=AQX5)*(ATL3:ATL54=AQX7)*(ATM3:ATM54="L"))+SUMPRODUCT((ATI3:ATI54=AQX5)*(ATL3:ATL54=AQX8)*(ATM3:ATM54="L"))+SUMPRODUCT((ATI3:ATI54=AQX6)*(ATL3:ATL54=AQX5)*(ATN3:ATN54="L"))+SUMPRODUCT((ATI3:ATI54=AQX7)*(ATL3:ATL54=AQX5)*(ATN3:ATN54="L"))+SUMPRODUCT((ATI3:ATI54=AQX8)*(ATL3:ATL54=AQX5)*(ATN3:ATN54="L")) -> 0 | ARB5: =SUMPRODUCT((ATI3:ATI54=AQX5)*(ATL3:ATL54=AQX6)*ATJ3:ATJ54)+SUMPRODUCT((ATI3:ATI54=AQX5)*(ATL3:ATL54=AQX7)*ATJ3:ATJ54)+SUMPRODUCT((ATI3:ATI54=AQX5)*(ATL3:ATL54=AQX8)*ATJ3:ATJ54)+SUMPRODUCT((ATI3:ATI54=AQX5)*(ATL3:ATL54=AQX4)*ATJ3:ATJ54)+SUMPRODUCT((ATI3:ATI54=AQX6)*(ATL3:ATL54=AQX5)*ATK3:ATK54)+SUMPRODUCT((ATI3:ATI54=AQX7)*(ATL3:ATL54=AQX5)*ATK3:ATK54)+SUMPRODUCT((ATI3:ATI54=AQX8)*(ATL3:ATL54=AQX5)*ATK3:ATK54)+SUMPRODUCT((ATI3:ATI54=AQX4)*(ATL3:ATL54=AQX5)*ATK3:ATK54) -> 0 | ARC5: =SUMPRODUCT((ATI3:ATI54=AQX5)*(ATL3:ATL54=AQX6)*ATK3:ATK54)+SUMPRODUCT((ATI3:ATI54=AQX5)*(ATL3:ATL54=AQX7)*ATK3:ATK54)+SUMPRODUCT((ATI3:ATI54=AQX5)*(ATL3:ATL54=AQX8)*ATK3:ATK54)+SUMPRODUCT((ATI3:ATI54=AQX5)*(ATL3:ATL54=AQX4)*ATK3:ATK54)+SUMPRODUCT((ATI3:ATI54=AQX6)*(ATL3:ATL54=AQX5)*ATJ3:ATJ54)+SUMPRODUCT((ATI3:ATI54=AQX7)*(ATL3:ATL54=AQX5)*ATJ3:ATJ54)+SUMPRODUCT((ATI3:ATI54=AQX8)*(ATL3:ATL54=AQX5)*ATJ3:ATJ54)+SUMPRODUCT((ATI3:ATI54=AQX4)*(ATL3:ATL54=AQX5)*ATJ3:ATJ54) -> 0 | ARD5: =ARB5-ARC5+1000 -> 1000 | ARE5: =IF(AQX5<>"",AQY5*3+AQZ5*1,"") | ARF5: =IF(AQX5<>"",VLOOKUP(AQX5,APK4:APQ52,7,FALSE),"") | ARG5: =IF(AQX5<>"",VLOOKUP(AQX5,APK4:APQ52,5,FALSE),"") | ARH5: =IF(AQX5<>"",VLOOKUP(AQX5,APK4:APS52,9,FALSE),"") | ARI5: =ARE5 | ARJ5: =IF(AQX5<>"",RANK(ARI5,ARI4:ARI8),"") | ARK5: =IF(AQX5<>"",SUMPRODUCT((ARI4:ARI8=ARI5)*(ARD4:ARD8>ARD5)),"") | ARL5: =IF(AQX5<>"",SUMPRODUCT((ARI4:ARI8=ARI5)*(ARD4:ARD8=ARD5)*(ARB4:ARB8>ARB5)),"") | ARM5: =IF(AQX5<>"",SUMPRODUCT((ARI4:ARI8=ARI5)*(ARD4:ARD8=ARD5)*(ARB4:ARB8=ARB5)*(ARF4:ARF8>ARF5)),"") | ARN5: =IF(AQX5<>"",SUMPRODUCT((ARI4:ARI8=ARI5)*(ARD4:ARD8=ARD5)*(ARB4:ARB8=ARB5)*(ARF4:ARF8=ARF5)*(ARG4:ARG8>ARG5)),"") | ARO5: =IF(AQX5<>"",SUMPRODUCT((ARI4:ARI8=ARI5)*(ARD4:ARD8=ARD5)*(ARB4:ARB8=ARB5)*(ARF4:ARF8=ARF5)*(ARG4:ARG8=ARG5)*(ARH4:ARH8>ARH5)),"") | ARP5: =IF(AQX5<>"",IF(ARP57<>"",IF(AQW55=3,ARP57,ARP57+AQW55),SUM(ARJ5:ARO5)+1),"") | ARQ5: =IF(AQX5<>"",INDEX(AQX5:AQX8,MATCH(2,ARP5:ARP8,0),0),"") | ATF5: =IF(ARQ5<>"",ARQ5,IF(AQW5<>"",AQW5,APW5)) -> Norway | ATG5: 2 | ATH5: 3 | ATI5: =APC5 -> Spain | ATJ5: =IF(ATI2<>"",IF(OFFSET('Game Board'!O10,0,ATJ1)<>"",OFFSET('Game Board'!O10,0,ATJ1),0),"") -> 0 | ATK5: =IF(ATI2<>"",IF(OFFSET('Game Board'!P10,0,ATJ1)<>"",OFFSET('Game Board'!P10,0,ATJ1),0),"") -> 0 | ATL5: =APF5 -> Portugal | ATM5: =IF(AND(OFFSET('Game Board'!O10,0,ATJ1)<>"",OFFSET('Game Board'!P10,0,ATJ1)<>""),IF(ATJ5>ATK5,"W",IF(ATJ5=ATK5,"D","L")),"") | ATN5: =IF(ATM5<>"",IF(ATM5="W","L",IF(ATM5="L","W","D")),"")
