Workbook
Name licen: License!$G$22
Name QualifiedTeams: 'Knock Out Rounds'!$M$25:$M$40
Name Quarterfinalist: 'Knock Out Rounds'!$M$43:$M$50
Name Semifinalist: 'Knock Out Rounds'!$M$53:$M$56
Name Team: Teams!$C$5:$C$40

Sheet Teams
C2: 2024/2025 CHAMPIONS LEAGUE PARTICIPANTS
B4: No | C4: Team Name | D4: Home Stadium | E4: Country | F4: Coef | G4: Disciplinary Points | H4: R | I4: Opponent 1 | J4: Opponent 2 | K4: Opponent 3 | L4: Opponent 4 | M4: Opponent 5 | N4: Opponent 6 | O4: Opponent 7 | P4: Opponent 8 | R4: Group Tie Breaker Regulation :
B5: 1 | C5: AC Milan | D5: San Siro | E5: Italy | F5: 59000 | H5: =COUNTIF('Group Stages'!D:G,Teams!C5) -> 8 | I5: Liverpool | J5: Club Brugge | K5: Crvena Zvezda | L5: Girona | M5: Bayer Leverkusen | N5: Real Madrid | O5: Slovan Bratislava | P5: Dinamo Zagreb | R5: If two or more teams are equal on points on completion of the group
B6: 2 | C6: Arsenal | D6: Emirates | E6: England | F6: 62000 | H6: =COUNTIF('Group Stages'!D:G,Teams!C6) -> 8 | I6: Paris Saint-Germain | J6: Shakhtar Donetsk | K6: Monaco | L6: Dinamo Zagreb | M6: Atalanta | N6: Inter | O6: Sporting CP | P6: Girona | R6: matches, the following criteria are applied to determine the rankings:
B7: 3 | C7: Aston Villa | D7: Villa Park | E7: England | F7: 17000 | H7: =COUNTIF('Group Stages'!D:G,Teams!C7) -> 8 | I7: Bayern München | J7: Bologna | K7: Juventus | L7: Celtic | M7: Young Boys | N7: Club Brugge | O7: RB Leipzig | P7: Monaco | R7: 1 | S7: Goal difference
B8: 4 | C8: Atalanta | D8: Gewiss | E8: Italy | F8: 61000 | H8: =COUNTIF('Group Stages'!D:G,Teams!C8) -> 8 | I8: Arsenal | J8: Celtic | K8: Real Madrid | L8: Sturm Graz | M8: Shakhtar Donetsk | N8: VfB Stuttgart | O8: Young Boys | P8: Barcelona | R8: 2 | S8: Goals scored
B9: 5 | C9: Atlético Madrid | D9: Vicente Calderon | E9: Spain | F9: 67000 | H9: =COUNTIF('Group Stages'!D:G,Teams!C9) -> 8 | I9: RB Leipzig | J9: Lille | K9: Slovan Bratislava | L9: Bayer Leverkusen | M9: Benfica | N9: Paris Saint-Germain | O9: Sparta Praha | P9: RB Salzburg | R9: 3 | S9: Away goals scored
B10: 6 | C10: Barcelona | D10: Nou Camp | E10: Spain | F10: 67001 | H10: =COUNTIF('Group Stages'!D:G,Teams!C10) -> 8 | I10: Young Boys | J10: Bayern München | K10: Brest | L10: Atalanta | M10: Monaco | N10: Crvena Zvezda | O10: Borussia Dortmund | P10: Benfica | R10: 4 | S10: Wins
B11: 7 | C11: Bayer Leverkusen | D11: Bay Arena | E11: Germany | F11: 72000 | H11: =COUNTIF('Group Stages'!D:G,Teams!C11) -> 8 | I11: AC Milan | J11: RB Salzburg | K11: Inter | L11: Sparta Praha | M11: Feyenoord | N11: Brest | O11: Liverpool | P11: Atlético Madrid | R11: 5 | S11: Away wins
B12: 8 | C12: Bayern München | D12: Allianz Arena | E12: Germany | F12: 108000 | H12: =COUNTIF('Group Stages'!D:G,Teams!C12) -> 8 | I12: Dinamo Zagreb | J12: Benfica | K12: Paris Saint-Germain | L12: Slovan Bratislava | M12: Aston Villa | N12: Barcelona | O12: Shakhtar Donetsk | P12: Feyenoord | R12: 6 | S12: Combined points of opponents
B13: 9 | C13: Benfica | D13: Stadion da Luz | E13: Portugal | F13: 69000 | H13: =COUNTIF('Group Stages'!D:G,Teams!C13) -> 8 | I13: Atlético Madrid | J13: Feyenoord | K13: Bologna | L13: Barcelona | M13: Crvena Zvezda | N13: Bayern München | O13: Monaco | P13: Juventus | R13: 7 | S13: Overall goal difference of opponents
B14: 10 | C14: Bologna | D14: Renato Dall'Ara | E14: Italy | F14: 0 | H14: =COUNTIF('Group Stages'!D:G,Teams!C14) -> 8 | I14: Shakhtar Donetsk | J14: Monaco | K14: Lille | L14: Borussia Dortmund | M14: Liverpool | N14: Aston Villa | O14: Benfica | P14: Sporting CP | R14: 8 | S14: Combined goals scored by opponents
B15: 11 | C15: Borussia Dortmund | D15: Signal Iduna Park | E15: Germany | F15: 79000 | H15: =COUNTIF('Group Stages'!D:G,Teams!C15) -> 8 | I15: Celtic | J15: Sturm Graz | K15: Barcelona | L15: Shakhtar Donetsk | M15: Club Brugge | N15: Real Madrid | O15: Dinamo Zagreb | P15: Bologna | R15: 9 | S15: Disciplinary record
B16: 12 | C16: Brest | D16: Francis-Le Blé | E16: France | F16: 1 | H16: =COUNTIF('Group Stages'!D:G,Teams!C16) -> 8 | I16: Sturm Graz | J16: Bayer Leverkusen | K16: PSV Eindhoven | L16: Real Madrid | M16: RB Salzburg | N16: Sparta Praha | O16: Barcelona | P16: Shakhtar Donetsk | R16: 10 | S16: UEFA club coefficient
B17: 13 | C17: Celtic | D17: Celtic Park | E17: Scotland | F17: 22000 | H17: =COUNTIF('Group Stages'!D:G,Teams!C17) -> 8 | I17: Slovan Bratislava | J17: RB Leipzig | K17: Club Brugge | L17: Young Boys | M17: Borussia Dortmund | N17: Atalanta | O17: Dinamo Zagreb | P17: Aston Villa
B18: 14 | C18: Club Brugge | D18: Jan Breydel | E18: Belgium | F18: 56000 | H18: =COUNTIF('Group Stages'!D:G,Teams!C18) -> 8 | I18: Borussia Dortmund | J18: Aston Villa | K18: Sporting CP | L18: Juventus | M18: Sturm Graz | N18: AC Milan | O18: Celtic | P18: Manchester City | R18: Type disciplinary points in column G if positions or particular teams are needed to be decided by tie-breaker no 9
B19: 15 | C19: Crvena Zvezda | D19: Rajko Mitic Stadium | E19: Serbia | F19: 34000 | H19: =COUNTIF('Group Stages'!D:G,Teams!C19) -> 8 | I19: Benfica | J19: Barcelona | K19: VfB Stuttgart | L19: PSV Eindhoven | M19: Inter | N19: Monaco | O19: AC Milan | P19: Young Boys
B20: 16 | C20: Dinamo Zagreb | D20: Maksimir Stadium | E20: Croatia | F20: 42000 | H20: =COUNTIF('Group Stages'!D:G,Teams!C20) -> 8 | I20: Monaco | J20: Borussia Dortmund | K20: Celtic | L20: AC Milan | M20: Bayern München | N20: RB Salzburg | O20: Slovan Bratislava | P20: Arsenal
B21: 17 | C21: Feyenoord | D21: De Kuip | E21: Netherlands | F21: 53000 | H21: =COUNTIF('Group Stages'!D:G,Teams!C21) -> 8 | I21: Bayer Leverkusen | J21: RB Salzburg | K21: Sparta Praha | L21: Bayern München | M21: Girona | N21: Benfica | O21: Manchester City | P21: Lille
B22: 18 | C22: Girona | D22: Montilivi | E22: Spain | F22: 2 | H22: =COUNTIF('Group Stages'!D:G,Teams!C22) -> 8 | I22: Feyenoord | J22: Slovan Bratislava | K22: Liverpool | L22: Arsenal | M22: Paris Saint-Germain | N22: PSV Eindhoven | O22: Sturm Graz | P22: AC Milan
B23: 19 | C23: Inter | D23: San Siro | E23: Italy | F23: 76999 | H23: =COUNTIF('Group Stages'!D:G,Teams!C23) -> 8 | I23: Crvena Zvezda | J23: Arsenal | K23: RB Leipzig | L23: Monaco | M23: Manchester City | N23: Young Boys | O23: Bayer Leverkusen | P23: Sparta Praha
B24: 20 | C24: Juventus | D24: Juventus Stadium | E24: Italy | F24: 58000 | H24: =COUNTIF('Group Stages'!D:G,Teams!C24) -> 8 | I24: PSV Eindhoven | J24: VfB Stuttgart | K24: Manchester City | L24: Benfica | M24: RB Leipzig | N24: Lille | O24: Aston Villa | P24: Club Brugge
B25: 21 | C25: Lille | D25: Pierre Mauroy Stadium | E25: France | F25: 42001 | H25: =COUNTIF('Group Stages'!D:G,Teams!C25) -> 8 | I25: Real Madrid | J25: Juventus | K25: Sturm Graz | L25: Feyenoord | M25: Sporting CP | N25: Atlético Madrid | O25: Bologna | P25: Liverpool
B26: 22 | C26: Liverpool | D26: Anfield | E26: England | F26: 96000 | H26: =COUNTIF('Group Stages'!D:G,Teams!C26) -> 8 | I26: Bologna | J26: Bayer Leverkusen | K26: Real Madrid | L26: Lille | M26: AC Milan | N26: RB Leipzig | O26: Girona | P26: PSV Eindhoven
B27: 23 | C27: Manchester City | D27: Etihad | E27: England | F27: 123000 | H27: =COUNTIF('Group Stages'!D:G,Teams!C27) -> 8 | I27: Inter | J27: Sparta Praha | K27: Feyenoord | L27: Club Brugge | M27: Slovan Bratislava | N27: Sporting CP | O27: Juventus | P27: Paris Saint-Germain
B28: 24 | C28: Monaco | D28: Louis II | E28: France | F28: 24000 | H28: =COUNTIF('Group Stages'!D:G,Teams!C28) -> 8 | I28: Barcelona | J28: Crvena Zvezda | K28: Benfica | L28: Aston Villa | M28: Dinamo Zagreb | N28: Bologna | O28: Arsenal | P28: Inter
B29: 25 | C29: Paris Saint-Germain | D29: Parc des Princes | E29: France | F29: 85000 | H29: =COUNTIF('Group Stages'!D:G,Teams!C29) -> 8 | I29: Girona | J29: PSV Eindhoven | K29: Atlético Madrid | L29: Manchester City | M29: Arsenal | N29: Bayern München | O29: RB Salzburg | P29: VfB Stuttgart
B30: 26 | C30: PSV Eindhoven | D30: Philips Stadion | E30: Netherlands | F30: 48000 | H30: =COUNTIF('Group Stages'!D:G,Teams!C30) -> 8 | I30: Sporting CP | J30: Girona | K30: Shakhtar Donetsk | L30: Liverpool | M30: Juventus | N30: Paris Saint-Germain | O30: Brest | P30: Crvena Zvezda
... B40: 36 | C40: Young Boys | D40: Wankdorf Stadium | E40: Switzerland | F40: 28500 | H40: =COUNTIF('Group Stages'!D:G,Teams!C40) -> 8 | I40: Aston Villa | J40: Inter | K40: Atalanta | L40: Crvena Zvezda | M40: Barcelona | N40: Shakhtar Donetsk | O40: VfB Stuttgart | P40: Celtic
C42: © 2024 | journalsheet.com

Sheet Group Stages
B2: 2024/2025 CHAMPIONS LEAGUE FIXTURES | L2: Click Here to Purchase Editable Version
B4: GROUP STAGES | L4: GROUP STANDINGS | CH4: Arabic | CI4: Adelaide
B5: MD | C5: DATE | D5: HOME | E5: SCORE | G5: AWAY | J5: VENUE | N5: P | O5: W | P5: D | Q5: L | R5: GF | S5: GA | T5: GD | U5: Pts | CH5: Albanian | CI5: Addis Ababa
B6: 1 | C6: 45552 | D6: Juventus | E6: 3 | F6: 1 | G6: PSV Eindhoven | J6: =IFERROR(INDEX(Teams!D$5:D$40,MATCH(D6,Team,0),0),"") -> Juventus Stadium | L6: 1 | M6: =INDEX('Dummy Table'!B:B,MATCH($L6,'Dummy Table'!$A:$A,0),0) -> Bayern München | N6: =INDEX('Dummy Table'!S:S,MATCH($L6,'Dummy Table'!$A:$A,0),0) -> 1 | O6: =INDEX('Dummy Table'!T:T,MATCH($L6,'Dummy Table'!$A:$A,0),0) -> 1 | P6: =INDEX('Dummy Table'!U:U,MATCH($L6,'Dummy Table'!$A:$A,0),0) -> 0 | Q6: =INDEX('Dummy Table'!V:V,MATCH($L6,'Dummy Table'!$A:$A,0),0) -> 0 | R6: =INDEX('Dummy Table'!W:W,MATCH($L6,'Dummy Table'!$A:$A,0),0) -> 9 | S6: =INDEX('Dummy Table'!X:X,MATCH($L6,'Dummy Table'!$A:$A,0),0) -> 2 | T6: =INDEX('Dummy Table'!Y:Y,MATCH($L6,'Dummy Table'!$A:$A,0),0) -> 7 | U6: =INDEX('Dummy Table'!Z:Z,MATCH($L6,'Dummy Table'!$A:$A,0),0) -> 3 | CH6: Bahasa | CI6: Aden
B7: 1 | C7: 45552 | D7: Young Boys | E7: 0 | F7: 3 | G7: Aston Villa | J7: =IFERROR(INDEX(Teams!D$5:D$40,MATCH(D7,Team,0),0),"") -> Wankdorf Stadium | L7: 2 | M7: =INDEX('Dummy Table'!B:B,MATCH($L7,'Dummy Table'!$A:$A,0),0) -> Celtic | N7: =INDEX('Dummy Table'!S:S,MATCH($L7,'Dummy Table'!$A:$A,0),0) -> 1 | O7: =INDEX('Dummy Table'!T:T,MATCH($L7,'Dummy Table'!$A:$A,0),0) -> 1 | P7: =INDEX('Dummy Table'!U:U,MATCH($L7,'Dummy Table'!$A:$A,0),0) -> 0 | Q7: =INDEX('Dummy Table'!V:V,MATCH($L7,'Dummy Table'!$A:$A,0),0) -> 0 | R7: =INDEX('Dummy Table'!W:W,MATCH($L7,'Dummy Table'!$A:$A,0),0) -> 5 | S7: =INDEX('Dummy Table'!X:X,MATCH($L7,'Dummy Table'!$A:$A,0),0) -> 1 | T7: =INDEX('Dummy Table'!Y:Y,MATCH($L7,'Dummy Table'!$A:$A,0),0) -> 4 | U7: =INDEX('Dummy Table'!Z:Z,MATCH($L7,'Dummy Table'!$A:$A,0),0) -> 3 | CH7: Bulgarian | CI7: Algiers
B8: 1 | C8: 45552 | D8: Bayern München | E8: 9 | F8: 2 | G8: Dinamo Zagreb | J8: =IFERROR(INDEX(Teams!D$5:D$40,MATCH(D8,Team,0),0),"") -> Allianz Arena | L8: 3 | M8: =INDEX('Dummy Table'!B:B,MATCH($L8,'Dummy Table'!$A:$A,0),0) -> Bayer Leverkusen | N8: =INDEX('Dummy Table'!S:S,MATCH($L8,'Dummy Table'!$A:$A,0),0) -> 1 | O8: =INDEX('Dummy Table'!T:T,MATCH($L8,'Dummy Table'!$A:$A,0),0) -> 1 | P8: =INDEX('Dummy Table'!U:U,MATCH($L8,'Dummy Table'!$A:$A,0),0) -> 0 | Q8: =INDEX('Dummy Table'!V:V,MATCH($L8,'Dummy Table'!$A:$A,0),0) -> 0 | R8: =INDEX('Dummy Table'!W:W,MATCH($L8,'Dummy Table'!$A:$A,0),0) -> 4 | S8: =INDEX('Dummy Table'!X:X,MATCH($L8,'Dummy Table'!$A:$A,0),0) -> 0 | T8: =INDEX('Dummy Table'!Y:Y,MATCH($L8,'Dummy Table'!$A:$A,0),0) -> 4 | U8: =INDEX('Dummy Table'!Z:Z,MATCH($L8,'Dummy Table'!$A:$A,0),0) -> 3 | CH8: Chinese | CI8: Almaty
B9: 1 | C9: 45552 | D9: Real Madrid | E9: 3 | F9: 1 | G9: VfB Stuttgart | J9: =IFERROR(INDEX(Teams!D$5:D$40,MATCH(D9,Team,0),0),"") -> Santiago Bernabeu | L9: 4 | M9: =INDEX('Dummy Table'!B:B,MATCH($L9,'Dummy Table'!$A:$A,0),0) -> Aston Villa | N9: =INDEX('Dummy Table'!S:S,MATCH($L9,'Dummy Table'!$A:$A,0),0) -> 1 | O9: =INDEX('Dummy Table'!T:T,MATCH($L9,'Dummy Table'!$A:$A,0),0) -> 1 | P9: =INDEX('Dummy Table'!U:U,MATCH($L9,'Dummy Table'!$A:$A,0),0) -> 0 | Q9: =INDEX('Dummy Table'!V:V,MATCH($L9,'Dummy Table'!$A:$A,0),0) -> 0 | R9: =INDEX('Dummy Table'!W:W,MATCH($L9,'Dummy Table'!$A:$A,0),0) -> 3 | S9: =INDEX('Dummy Table'!X:X,MATCH($L9,'Dummy Table'!$A:$A,0),0) -> 0 | T9: =INDEX('Dummy Table'!Y:Y,MATCH($L9,'Dummy Table'!$A:$A,0),0) -> 3 | U9: =INDEX('Dummy Table'!Z:Z,MATCH($L9,'Dummy Table'!$A:$A,0),0) -> 3 | CH9: Croatian | CI9: Amman
B10: 1 | C10: 45552 | D10: AC Milan | E10: 1 | F10: 3 | G10: Liverpool | J10: =IFERROR(INDEX(Teams!D$5:D$40,MATCH(D10,Team,0),0),"") -> San Siro | L10: 5 | M10: =INDEX('Dummy Table'!B:B,MATCH($L10,'Dummy Table'!$A:$A,0),0) -> Borussia Dortmund | N10: =INDEX('Dummy Table'!S:S,MATCH($L10,'Dummy Table'!$A:$A,0),0) -> 1 | O10: =INDEX('Dummy Table'!T:T,MATCH($L10,'Dummy Table'!$A:$A,0),0) -> 1 | P10: =INDEX('Dummy Table'!U:U,MATCH($L10,'Dummy Table'!$A:$A,0),0) -> 0 | Q10: =INDEX('Dummy Table'!V:V,MATCH($L10,'Dummy Table'!$A:$A,0),0) -> 0 | R10: =INDEX('Dummy Table'!W:W,MATCH($L10,'Dummy Table'!$A:$A,0),0) -> 3 | S10: =INDEX('Dummy Table'!X:X,MATCH($L10,'Dummy Table'!$A:$A,0),0) -> 0 | T10: =INDEX('Dummy Table'!Y:Y,MATCH($L10,'Dummy Table'!$A:$A,0),0) -> 3 | U10: =INDEX('Dummy Table'!Z:Z,MATCH($L10,'Dummy Table'!$A:$A,0),0) -> 3 | CH10: Danish | CI10: Amsterdam
B11: 1 | C11: 45552 | D11: Sporting CP | E11: 2 | F11: 0 | G11: Lille | J11: =IFERROR(INDEX(Teams!D$5:D$40,MATCH(D11,Team,0),0),"") -> José Alvalade | L11: 6 | M11: =INDEX('Dummy Table'!B:B,MATCH($L11,'Dummy Table'!$A:$A,0),0) -> Sparta Praha | N11: =INDEX('Dummy Table'!S:S,MATCH($L11,'Dummy Table'!$A:$A,0),0) -> 1 | O11: =INDEX('Dummy Table'!T:T,MATCH($L11,'Dummy Table'!$A:$A,0),0) -> 1 | P11: =INDEX('Dummy Table'!U:U,MATCH($L11,'Dummy Table'!$A:$A,0),0) -> 0 | Q11: =INDEX('Dummy Table'!V:V,MATCH($L11,'Dummy Table'!$A:$A,0),0) -> 0 | R11: =INDEX('Dummy Table'!W:W,MATCH($L11,'Dummy Table'!$A:$A,0),0) -> 3 | S11: =INDEX('Dummy Table'!X:X,MATCH($L11,'Dummy Table'!$A:$A,0),0) -> 0 | T11: =INDEX('Dummy Table'!Y:Y,MATCH($L11,'Dummy Table'!$A:$A,0),0) -> 3 | U11: =INDEX('Dummy Table'!Z:Z,MATCH($L11,'Dummy Table'!$A:$A,0),0) -> 3 | CH11: Dutch | CI11: Anadyr
B12: 1 | C12: 45553 | D12: Bologna | E12: 0 | F12: 0 | G12: Shakhtar Donetsk | J12: =IFERROR(INDEX(Teams!D$5:D$40,MATCH(D12,Team,0),0),"") -> Renato Dall'Ara | L12: 7 | M12: =INDEX('Dummy Table'!B:B,MATCH($L12,'Dummy Table'!$A:$A,0),0) -> Liverpool | N12: =INDEX('Dummy Table'!S:S,MATCH($L12,'Dummy Table'!$A:$A,0),0) -> 1 | O12: =INDEX('Dummy Table'!T:T,MATCH($L12,'Dummy Table'!$A:$A,0),0) -> 1 | P12: =INDEX('Dummy Table'!U:U,MATCH($L12,'Dummy Table'!$A:$A,0),0) -> 0 | Q12: =INDEX('Dummy Table'!V:V,MATCH($L12,'Dummy Table'!$A:$A,0),0) -> 0 | R12: =INDEX('Dummy Table'!W:W,MATCH($L12,'Dummy Table'!$A:$A,0),0) -> 3 | S12: =INDEX('Dummy Table'!X:X,MATCH($L12,'Dummy Table'!$A:$A,0),0) -> 1 | T12: =INDEX('Dummy Table'!Y:Y,MATCH($L12,'Dummy Table'!$A:$A,0),0) -> 2 | U12: =INDEX('Dummy Table'!Z:Z,MATCH($L12,'Dummy Table'!$A:$A,0),0) -> 3 | CH12: English | CI12: Anchorage
B13: 1 | C13: 45553 | D13: Sparta Praha | E13: 3 | F13: 0 | G13: RB Salzburg | J13: =IFERROR(INDEX(Teams!D$5:D$40,MATCH(D13,Team,0),0),"") -> epet ARENA | L13: 8 | M13: =INDEX('Dummy Table'!B:B,MATCH($L13,'Dummy Table'!$A:$A,0),0) -> Real Madrid | N13: =INDEX('Dummy Table'!S:S,MATCH($L13,'Dummy Table'!$A:$A,0),0) -> 1 | O13: =INDEX('Dummy Table'!T:T,MATCH($L13,'Dummy Table'!$A:$A,0),0) -> 1 | P13: =INDEX('Dummy Table'!U:U,MATCH($L13,'Dummy Table'!$A:$A,0),0) -> 0 | Q13: =INDEX('Dummy Table'!V:V,MATCH($L13,'Dummy Table'!$A:$A,0),0) -> 0 | R13: =INDEX('Dummy Table'!W:W,MATCH($L13,'Dummy Table'!$A:$A,0),0) -> 3 | S13: =INDEX('Dummy Table'!X:X,MATCH($L13,'Dummy Table'!$A:$A,0),0) -> 1 | T13: =INDEX('Dummy Table'!Y:Y,MATCH($L13,'Dummy Table'!$A:$A,0),0) -> 2 | U13: =INDEX('Dummy Table'!Z:Z,MATCH($L13,'Dummy Table'!$A:$A,0),0) -> 3 | CH13: Finnish | CI13: Ankara
B14: 1 | C14: 45553 | D14: Manchester City | E14: 0 | F14: 0 | G14: Inter | J14: =IFERROR(INDEX(Teams!D$5:D$40,MATCH(D14,Team,0),0),"") -> Etihad | L14: 9 | M14: =INDEX('Dummy Table'!B:B,MATCH($L14,'Dummy Table'!$A:$A,0),0) -> Juventus | N14: =INDEX('Dummy Table'!S:S,MATCH($L14,'Dummy Table'!$A:$A,0),0) -> 1 | O14: =INDEX('Dummy Table'!T:T,MATCH($L14,'Dummy Table'!$A:$A,0),0) -> 1 | P14: =INDEX('Dummy Table'!U:U,MATCH($L14,'Dummy Table'!$A:$A,0),0) -> 0 | Q14: =INDEX('Dummy Table'!V:V,MATCH($L14,'Dummy Table'!$A:$A,0),0) -> 0 | R14: =INDEX('Dummy Table'!W:W,MATCH($L14,'Dummy Table'!$A:$A,0),0) -> 3 | S14: =INDEX('Dummy Table'!X:X,MATCH($L14,'Dummy Table'!$A:$A,0),0) -> 1 | T14: =INDEX('Dummy Table'!Y:Y,MATCH($L14,'Dummy Table'!$A:$A,0),0) -> 2 | U14: =INDEX('Dummy Table'!Z:Z,MATCH($L14,'Dummy Table'!$A:$A,0),0) -> 3 | CH14: France | CI14: Antananarivo
B15: 1 | C15: 45553 | D15: Paris Saint-Germain | E15: 1 | F15: 0 | G15: Girona | J15: =IFERROR(INDEX(Teams!D$5:D$40,MATCH(D15,Team,0),0),"") -> Parc des Princes | L15: 10 | M15: =INDEX('Dummy Table'!B:B,MATCH($L15,'Dummy Table'!$A:$A,0),0) -> Sporting CP | N15: =INDEX('Dummy Table'!S:S,MATCH($L15,'Dummy Table'!$A:$A,0),0) -> 1 | O15: =INDEX('Dummy Table'!T:T,MATCH($L15,'Dummy Table'!$A:$A,0),0) -> 1 | P15: =INDEX('Dummy Table'!U:U,MATCH($L15,'Dummy Table'!$A:$A,0),0) -> 0 | Q15: =INDEX('Dummy Table'!V:V,MATCH($L15,'Dummy Table'!$A:$A,0),0) -> 0 | R15: =INDEX('Dummy Table'!W:W,MATCH($L15,'Dummy Table'!$A:$A,0),0) -> 2 | S15: =INDEX('Dummy Table'!X:X,MATCH($L15,'Dummy Table'!$A:$A,0),0) -> 0 | T15: =INDEX('Dummy Table'!Y:Y,MATCH($L15,'Dummy Table'!$A:$A,0),0) -> 2 | U15: =INDEX('Dummy Table'!Z:Z,MATCH($L15,'Dummy Table'!$A:$A,0),0) -> 3 | CH15: German | CI15: Asuncion
B16: 1 | C16: 45553 | D16: Club Brugge | E16: 0 | F16: 3 | G16: Borussia Dortmund | J16: =IFERROR(INDEX(Teams!D$5:D$40,MATCH(D16,Team,0),0),"") -> Jan Breydel | L16: 11 | M16: =INDEX('Dummy Table'!B:B,MATCH($L16,'Dummy Table'!$A:$A,0),0) -> Benfica | N16: =INDEX('Dummy Table'!S:S,MATCH($L16,'Dummy Table'!$A:$A,0),0) -> 1 | O16: =INDEX('Dummy Table'!T:T,MATCH($L16,'Dummy Table'!$A:$A,0),0) -> 1 | P16: =INDEX('Dummy Table'!U:U,MATCH($L16,'Dummy Table'!$A:$A,0),0) -> 0 | Q16: =INDEX('Dummy Table'!V:V,MATCH($L16,'Dummy Table'!$A:$A,0),0) -> 0 | R16: =INDEX('Dummy Table'!W:W,MATCH($L16,'Dummy Table'!$A:$A,0),0) -> 2 | S16: =INDEX('Dummy Table'!X:X,MATCH($L16,'Dummy Table'!$A:$A,0),0) -> 1 | T16: =INDEX('Dummy Table'!Y:Y,MATCH($L16,'Dummy Table'!$A:$A,0),0) -> 1 | U16: =INDEX('Dummy Table'!Z:Z,MATCH($L16,'Dummy Table'!$A:$A,0),0) -> 3 | CH16: Greek | CI16: Athens
B17: 1 | C17: 45553 | D17: Celtic | E17: 5 | F17: 1 | G17: Slovan Bratislava | J17: =IFERROR(INDEX(Teams!D$5:D$40,MATCH(D17,Team,0),0),"") -> Celtic Park | L17: 12 | M17: =INDEX('Dummy Table'!B:B,MATCH($L17,'Dummy Table'!$A:$A,0),0) -> Atlético Madrid | N17: =INDEX('Dummy Table'!S:S,MATCH($L17,'Dummy Table'!$A:$A,0),0) -> 1 | O17: =INDEX('Dummy Table'!T:T,MATCH($L17,'Dummy Table'!$A:$A,0),0) -> 1 | P17: =INDEX('Dummy Table'!U:U,MATCH($L17,'Dummy Table'!$A:$A,0),0) -> 0 | Q17: =INDEX('Dummy Table'!V:V,MATCH($L17,'Dummy Table'!$A:$A,0),0) -> 0 | R17: =INDEX('Dummy Table'!W:W,MATCH($L17,'Dummy Table'!$A:$A,0),0) -> 2 | S17: =INDEX('Dummy Table'!X:X,MATCH($L17,'Dummy Table'!$A:$A,0),0) -> 1 | T17: =INDEX('Dummy Table'!Y:Y,MATCH($L17,'Dummy Table'!$A:$A,0),0) -> 1 | U17: =INDEX('Dummy Table'!Z:Z,MATCH($L17,'Dummy Table'!$A:$A,0),0) -> 3 | CH17: Hungarian | CI17: Atlanta
... B23: 1 | C23: 45554 | D23: Brest | E23: 2 | F23: 1 | G23: Sturm Graz | J23: =IFERROR(INDEX(Teams!D$5:D$40,MATCH(D23,Team,0),0),"") -> Francis-Le Blé | L23: 18 | M23: =INDEX('Dummy Table'!B:B,MATCH($L23,'Dummy Table'!$A:$A,0),0) -> Shakhtar Donetsk | N23: =INDEX('Dummy Table'!S:S,MATCH($L23,'Dummy Table'!$A:$A,0),0) -> 1 | O23: =INDEX('Dummy Table'!T:T,MATCH($L23,'Dummy Table'!$A:$A,0),0) -> 0 | P23: =INDEX('Dummy Table'!U:U,MATCH($L23,'Dummy Table'!$A:$A,0),0) -> 1 | Q23: =INDEX('Dummy Table'!V:V,MATCH($L23,'Dummy Table'!$A:$A,0),0) -> 0 | R23: =INDEX('Dummy Table'!W:W,MATCH($L23,'Dummy Table'!$A:$A,0),0) -> 0 | S23: =INDEX('Dummy Table'!X:X,MATCH($L23,'Dummy Table'!$A:$A,0),0) -> 0 | T23: =INDEX('Dummy Table'!Y:Y,MATCH($L23,'Dummy Table'!$A:$A,0),0) -> 0 | U23: =INDEX('Dummy Table'!Z:Z,MATCH($L23,'Dummy Table'!$A:$A,0),0) -> 1 | CH23: Portuguese | CI23: Beirut
B24: =B6+1 -> 2 | C24: 45566 | D24: RB Salzburg | G24: Brest | J24: =IFERROR(INDEX(Teams!D$5:D$40,MATCH(D24,Team,0),0),"") -> Red Bull Arena | L24: 19 | M24: =INDEX('Dummy Table'!B:B,MATCH($L24,'Dummy Table'!$A:$A,0),0) -> Arsenal | N24: =INDEX('Dummy Table'!S:S,MATCH($L24,'Dummy Table'!$A:$A,0),0) -> 1 | O24: =INDEX('Dummy Table'!T:T,MATCH($L24,'Dummy Table'!$A:$A,0),0) -> 0 | P24: =INDEX('Dummy Table'!U:U,MATCH($L24,'Dummy Table'!$A:$A,0),0) -> 1 | Q24: =INDEX('Dummy Table'!V:V,MATCH($L24,'Dummy Table'!$A:$A,0),0) -> 0 | R24: =INDEX('Dummy Table'!W:W,MATCH($L24,'Dummy Table'!$A:$A,0),0) -> 0 | S24: =INDEX('Dummy Table'!X:X,MATCH($L24,'Dummy Table'!$A:$A,0),0) -> 0 | T24: =INDEX('Dummy Table'!Y:Y,MATCH($L24,'Dummy Table'!$A:$A,0),0) -> 0 | U24: =INDEX('Dummy Table'!Z:Z,MATCH($L24,'Dummy Table'!$A:$A,0),0) -> 1 | CH24: Romanian | CI24: Belgrade
B25: =B7+1 -> 2 | C25: 45566 | D25: VfB Stuttgart | G25: Sparta Praha | J25: =IFERROR(INDEX(Teams!D$5:D$40,MATCH(D25,Team,0),0),"") -> MHP Arena | L25: 20 | M25: =INDEX('Dummy Table'!B:B,MATCH($L25,'Dummy Table'!$A:$A,0),0) -> Inter | N25: =INDEX('Dummy Table'!S:S,MATCH($L25,'Dummy Table'!$A:$A,0),0) -> 1 | O25: =INDEX('Dummy Table'!T:T,MATCH($L25,'Dummy Table'!$A:$A,0),0) -> 0 | P25: =INDEX('Dummy Table'!U:U,MATCH($L25,'Dummy Table'!$A:$A,0),0) -> 1 | Q25: =INDEX('Dummy Table'!V:V,MATCH($L25,'Dummy Table'!$A:$A,0),0) -> 0 | R25: =INDEX('Dummy Table'!W:W,MATCH($L25,'Dummy Table'!$A:$A,0),0) -> 0 | S25: =INDEX('Dummy Table'!X:X,MATCH($L25,'Dummy Table'!$A:$A,0),0) -> 0 | T25: =INDEX('Dummy Table'!Y:Y,MATCH($L25,'Dummy Table'!$A:$A,0),0) -> 0 | U25: =INDEX('Dummy Table'!Z:Z,MATCH($L25,'Dummy Table'!$A:$A,0),0) -> 1 | CH25: Russian | CI25: Berlin
B26: =B8+1 -> 2 | C26: 45566 | D26: Borussia Dortmund | G26: Celtic | J26: =IFERROR(INDEX(Teams!D$5:D$40,MATCH(D26,Team,0),0),"") -> Signal Iduna Park | L26: 21 | M26: =INDEX('Dummy Table'!B:B,MATCH($L26,'Dummy Table'!$A:$A,0),0) -> Atalanta | N26: =INDEX('Dummy Table'!S:S,MATCH($L26,'Dummy Table'!$A:$A,0),0) -> 1 | O26: =INDEX('Dummy Table'!T:T,MATCH($L26,'Dummy Table'!$A:$A,0),0) -> 0 | P26: =INDEX('Dummy Table'!U:U,MATCH($L26,'Dummy Table'!$A:$A,0),0) -> 1 | Q26: =INDEX('Dummy Table'!V:V,MATCH($L26,'Dummy Table'!$A:$A,0),0) -> 0 | R26: =INDEX('Dummy Table'!W:W,MATCH($L26,'Dummy Table'!$A:$A,0),0) -> 0 | S26: =INDEX('Dummy Table'!X:X,MATCH($L26,'Dummy Table'!$A:$A,0),0) -> 0 | T26: =INDEX('Dummy Table'!Y:Y,MATCH($L26,'Dummy Table'!$A:$A,0),0) -> 0 | U26: =INDEX('Dummy Table'!Z:Z,MATCH($L26,'Dummy Table'!$A:$A,0),0) -> 1 | CH26: Serbian | CI26: Bogota
B27: =B9+1 -> 2 | C27: 45566 | D27: Barcelona | G27: Young Boys | J27: =IFERROR(INDEX(Teams!D$5:D$40,MATCH(D27,Team,0),0),"") -> Nou Camp | L27: 22 | M27: =INDEX('Dummy Table'!B:B,MATCH($L27,'Dummy Table'!$A:$A,0),0) -> RB Leipzig | N27: =INDEX('Dummy Table'!S:S,MATCH($L27,'Dummy Table'!$A:$A,0),0) -> 1 | O27: =INDEX('Dummy Table'!T:T,MATCH($L27,'Dummy Table'!$A:$A,0),0) -> 0 | P27: =INDEX('Dummy Table'!U:U,MATCH($L27,'Dummy Table'!$A:$A,0),0) -> 0 | Q27: =INDEX('Dummy Table'!V:V,MATCH($L27,'Dummy Table'!$A:$A,0),0) -> 1 | R27: =INDEX('Dummy Table'!W:W,MATCH($L27,'Dummy Table'!$A:$A,0),0) -> 1 | S27: =INDEX('Dummy Table'!X:X,MATCH($L27,'Dummy Table'!$A:$A,0),0) -> 2 | T27: =INDEX('Dummy Table'!Y:Y,MATCH($L27,'Dummy Table'!$A:$A,0),0) -> -1 | U27: =INDEX('Dummy Table'!Z:Z,MATCH($L27,'Dummy Table'!$A:$A,0),0) -> 0 | CH27: Slovenian | CI27: Boston
B28: =B10+1 -> 2 | C28: 45566 | D28: Inter | G28: Crvena Zvezda | J28: =IFERROR(INDEX(Teams!D$5:D$40,MATCH(D28,Team,0),0),"") -> San Siro | L28: 23 | M28: =INDEX('Dummy Table'!B:B,MATCH($L28,'Dummy Table'!$A:$A,0),0) -> Barcelona | N28: =INDEX('Dummy Table'!S:S,MATCH($L28,'Dummy Table'!$A:$A,0),0) -> 1 | O28: =INDEX('Dummy Table'!T:T,MATCH($L28,'Dummy Table'!$A:$A,0),0) -> 0 | P28: =INDEX('Dummy Table'!U:U,MATCH($L28,'Dummy Table'!$A:$A,0),0) -> 0 | Q28: =INDEX('Dummy Table'!V:V,MATCH($L28,'Dummy Table'!$A:$A,0),0) -> 1 | R28: =INDEX('Dummy Table'!W:W,MATCH($L28,'Dummy Table'!$A:$A,0),0) -> 1 | S28: =INDEX('Dummy Table'!X:X,MATCH($L28,'Dummy Table'!$A:$A,0),0) -> 2 | T28: =INDEX('Dummy Table'!Y:Y,MATCH($L28,'Dummy Table'!$A:$A,0),0) -> -1 | U28: =INDEX('Dummy Table'!Z:Z,MATCH($L28,'Dummy Table'!$A:$A,0),0) -> 0 | CH28: Spanish | CI28: Brasilia
B29: =B11+1 -> 2 | C29: 45566 | D29: Bayer Leverkusen | G29: AC Milan | J29: =IFERROR(INDEX(Teams!D$5:D$40,MATCH(D29,Team,0),0),"") -> Bay Arena | L29: 24 | M29: =INDEX('Dummy Table'!B:B,MATCH($L29,'Dummy Table'!$A:$A,0),0) -> Sturm Graz | N29: =INDEX('Dummy Table'!S:S,MATCH($L29,'Dummy Table'!$A:$A,0),0) -> 1 | O29: =INDEX('Dummy Table'!T:T,MATCH($L29,'Dummy Table'!$A:$A,0),0) -> 0 | P29: =INDEX('Dummy Table'!U:U,MATCH($L29,'Dummy Table'!$A:$A,0),0) -> 0 | Q29: =INDEX('Dummy Table'!V:V,MATCH($L29,'Dummy Table'!$A:$A,0),0) -> 1 | R29: =INDEX('Dummy Table'!W:W,MATCH($L29,'Dummy Table'!$A:$A,0),0) -> 1 | S29: =INDEX('Dummy Table'!X:X,MATCH($L29,'Dummy Table'!$A:$A,0),0) -> 2 | T29: =INDEX('Dummy Table'!Y:Y,MATCH($L29,'Dummy Table'!$A:$A,0),0) -> -1 | U29: =INDEX('Dummy Table'!Z:Z,MATCH($L29,'Dummy Table'!$A:$A,0),0) -> 0 | CH29: Turkish | CI29: Brisbane
B30: =B12+1 -> 2 | C30: 45566 | D30: Arsenal | G30: Paris Saint-Germain | J30: =IFERROR(INDEX(Teams!D$5:D$40,MATCH(D30,Team,0),0),"") -> Emirates | L30: 25 | M30: =INDEX('Dummy Table'!B:B,MATCH($L30,'Dummy Table'!$A:$A,0),0) -> Crvena Zvezda | N30: =INDEX('Dummy Table'!S:S,MATCH($L30,'Dummy Table'!$A:$A,0),0) -> 1 | O30: =INDEX('Dummy Table'!T:T,MATCH($L30,'Dummy Table'!$A:$A,0),0) -> 0 | P30: =INDEX('Dummy Table'!U:U,MATCH($L30,'Dummy Table'!$A:$A,0),0) -> 0 | Q30: =INDEX('Dummy Table'!V:V,MATCH($L30,'Dummy Table'!$A:$A,0),0) -> 1 | R30: =INDEX('Dummy Table'!W:W,MATCH($L30,'Dummy Table'!$A:$A,0),0) -> 1 | S30: =INDEX('Dummy Table'!X:X,MATCH($L30,'Dummy Table'!$A:$A,0),0) -> 2 | T30: =INDEX('Dummy Table'!Y:Y,MATCH($L30,'Dummy Table'!$A:$A,0),0) -> -1 | U30: =INDEX('Dummy Table'!Z:Z,MATCH($L30,'Dummy Table'!$A:$A,0),0) -> 0 | CH30: Vietnamese | CI30: Brussels
B31: =B13+1 -> 2 | C31: 45566 | D31: PSV Eindhoven | G31: Sporting CP | J31: =IFERROR(INDEX(Teams!D$5:D$40,MATCH(D31,Team,0),0),"") -> Philips Stadion | L31: 26 | M31: =INDEX('Dummy Table'!B:B,MATCH($L31,'Dummy Table'!$A:$A,0),0) -> Girona | N31: =INDEX('Dummy Table'!S:S,MATCH($L31,'Dummy Table'!$A:$A,0),0) -> 1 | O31: =INDEX('Dummy Table'!T:T,MATCH($L31,'Dummy Table'!$A:$A,0),0) -> 0 | P31: =INDEX('Dummy Table'!U:U,MATCH($L31,'Dummy Table'!$A:$A,0),0) -> 0 | Q31: =INDEX('Dummy Table'!V:V,MATCH($L31,'Dummy Table'!$A:$A,0),0) -> 1 | R31: =INDEX('Dummy Table'!W:W,MATCH($L31,'Dummy Table'!$A:$A,0),0) -> 0 | S31: =INDEX('Dummy Table'!X:X,MATCH($L31,'Dummy Table'!$A:$A,0),0) -> 1 | T31: =INDEX('Dummy Table'!Y:Y,MATCH($L31,'Dummy Table'!$A:$A,0),0) -> -1 | U31: =INDEX('Dummy Table'!Z:Z,MATCH($L31,'Dummy Table'!$A:$A,0),0) -> 0 | CI31: Bucharest
B32: =B14+1 -> 2 | C32: 45566 | D32: Slovan Bratislava | G32: Manchester City | J32: =IFERROR(INDEX(Teams!D$5:D$40,MATCH(D32,Team,0),0),"") -> Tehelné pole | L32: 27 | M32: =INDEX('Dummy Table'!B:B,MATCH($L32,'Dummy Table'!$A:$A,0),0) -> PSV Eindhoven | N32: =INDEX('Dummy Table'!S:S,MATCH($L32,'Dummy Table'!$A:$A,0),0) -> 1 | O32: =INDEX('Dummy Table'!T:T,MATCH($L32,'Dummy Table'!$A:$A,0),0) -> 0 | P32: =INDEX('Dummy Table'!U:U,MATCH($L32,'Dummy Table'!$A:$A,0),0) -> 0 | Q32: =INDEX('Dummy Table'!V:V,MATCH($L32,'Dummy Table'!$A:$A,0),0) -> 1 | R32: =INDEX('Dummy Table'!W:W,MATCH($L32,'Dummy Table'!$A:$A,0),0) -> 1 | S32: =INDEX('Dummy Table'!X:X,MATCH($L32,'Dummy Table'!$A:$A,0),0) -> 3 | T32: =INDEX('Dummy Table'!Y:Y,MATCH($L32,'Dummy Table'!$A:$A,0),0) -> -2 | U32: =INDEX('Dummy Table'!Z:Z,MATCH($L32,'Dummy Table'!$A:$A,0),0) -> 0 | CI32: Budapest
B33: =B15+1 -> 2 | C33: 45567 | D33: Shakhtar Donetsk | G33: Atalanta | J33: =IFERROR(INDEX(Teams!D$5:D$40,MATCH(D33,Team,0),0),"") -> Donbass Arena | L33: 28 | M33: =INDEX('Dummy Table'!B:B,MATCH($L33,'Dummy Table'!$A:$A,0),0) -> VfB Stuttgart | N33: =INDEX('Dummy Table'!S:S,MATCH($L33,'Dummy Table'!$A:$A,0),0) -> 1 | O33: =INDEX('Dummy Table'!T:T,MATCH($L33,'Dummy Table'!$A:$A,0),0) -> 0 | P33: =INDEX('Dummy Table'!U:U,MATCH($L33,'Dummy Table'!$A:$A,0),0) -> 0 | Q33: =INDEX('Dummy Table'!V:V,MATCH($L33,'Dummy Table'!$A:$A,0),0) -> 1 | R33: =INDEX('Dummy Table'!W:W,MATCH($L33,'Dummy Table'!$A:$A,0),0) -> 1 | S33: =INDEX('Dummy Table'!X:X,MATCH($L33,'Dummy Table'!$A:$A,0),0) -> 3 | T33: =INDEX('Dummy Table'!Y:Y,MATCH($L33,'Dummy Table'!$A:$A,0),0) -> -2 | U33: =INDEX('Dummy Table'!Z:Z,MATCH($L33,'Dummy Table'!$A:$A,0),0) -> 0 | CI33: Buenos Aires
B34: =B16+1 -> 2 | C34: 45567 | D34: Girona | G34: Feyenoord | J34: =IFERROR(INDEX(Teams!D$5:D$40,MATCH(D34,Team,0),0),"") -> Montilivi | L34: 29 | M34: =INDEX('Dummy Table'!B:B,MATCH($L34,'Dummy Table'!$A:$A,0),0) -> AC Milan | N34: =INDEX('Dummy Table'!S:S,MATCH($L34,'Dummy Table'!$A:$A,0),0) -> 1 | O34: =INDEX('Dummy Table'!T:T,MATCH($L34,'Dummy Table'!$A:$A,0),0) -> 0 | P34: =INDEX('Dummy Table'!U:U,MATCH($L34,'Dummy Table'!$A:$A,0),0) -> 0 | Q34: =INDEX('Dummy Table'!V:V,MATCH($L34,'Dummy Table'!$A:$A,0),0) -> 1 | R34: =INDEX('Dummy Table'!W:W,MATCH($L34,'Dummy Table'!$A:$A,0),0) -> 1 | S34: =INDEX('Dummy Table'!X:X,MATCH($L34,'Dummy Table'!$A:$A,0),0) -> 3 | T34: =INDEX('Dummy Table'!Y:Y,MATCH($L34,'Dummy Table'!$A:$A,0),0) -> -2 | U34: =INDEX('Dummy Table'!Z:Z,MATCH($L34,'Dummy Table'!$A:$A,0),0) -> 0 | CI34: Cairo
B35: =B17+1 -> 2 | C35: 45567 | D35: Liverpool | G35: Bologna | J35: =IFERROR(INDEX(Teams!D$5:D$40,MATCH(D35,Team,0),0),"") -> Anfield | L35: 30 | M35: =INDEX('Dummy Table'!B:B,MATCH($L35,'Dummy Table'!$A:$A,0),0) -> Lille | N35: =INDEX('Dummy Table'!S:S,MATCH($L35,'Dummy Table'!$A:$A,0),0) -> 1 | O35: =INDEX('Dummy Table'!T:T,MATCH($L35,'Dummy Table'!$A:$A,0),0) -> 0 | P35: =INDEX('Dummy Table'!U:U,MATCH($L35,'Dummy Table'!$A:$A,0),0) -> 0 | Q35: =INDEX('Dummy Table'!V:V,MATCH($L35,'Dummy Table'!$A:$A,0),0) -> 1 | R35: =INDEX('Dummy Table'!W:W,MATCH($L35,'Dummy Table'!$A:$A,0),0) -> 0 | S35: =INDEX('Dummy Table'!X:X,MATCH($L35,'Dummy Table'!$A:$A,0),0) -> 2 | T35: =INDEX('Dummy Table'!Y:Y,MATCH($L35,'Dummy Table'!$A:$A,0),0) -> -2 | U35: =INDEX('Dummy Table'!Z:Z,MATCH($L35,'Dummy Table'!$A:$A,0),0) -> 0 | CI35: Canberra
B36: =B18+1 -> 2 | C36: 45567 | D36: RB Leipzig | G36: Juventus | J36: =IFERROR(INDEX(Teams!D$5:D$40,MATCH(D36,Team,0),0),"") -> Red Bull Arena | L36: 31 | M36: =INDEX('Dummy Table'!B:B,MATCH($L36,'Dummy Table'!$A:$A,0),0) -> RB Salzburg | N36: =INDEX('Dummy Table'!S:S,MATCH($L36,'Dummy Table'!$A:$A,0),0) -> 1 | O36: =INDEX('Dummy Table'!T:T,MATCH($L36,'Dummy Table'!$A:$A,0),0) -> 0 | P36: =INDEX('Dummy Table'!U:U,MATCH($L36,'Dummy Table'!$A:$A,0),0) -> 0 | Q36: =INDEX('Dummy Table'!V:V,MATCH($L36,'Dummy Table'!$A:$A,0),0) -> 1 | R36: =INDEX('Dummy Table'!W:W,MATCH($L36,'Dummy Table'!$A:$A,0),0) -> 0 | S36: =INDEX('Dummy Table'!X:X,MATCH($L36,'Dummy Table'!$A:$A,0),0) -> 3 | T36: =INDEX('Dummy Table'!Y:Y,MATCH($L36,'Dummy Table'!$A:$A,0),0) -> -3 | U36: =INDEX('Dummy Table'!Z:Z,MATCH($L36,'Dummy Table'!$A:$A,0),0) -> 0 | CI36: Cape Town
B37: =B19+1 -> 2 | C37: 45567 | D37: Benfica | G37: Atlético Madrid | J37: =IFERROR(INDEX(Teams!D$5:D$40,MATCH(D37,Team,0),0),"") -> Stadion da Luz | L37: 32 | M37: =INDEX('Dummy Table'!B:B,MATCH($L37,'Dummy Table'!$A:$A,0),0) -> Club Brugge | N37: =INDEX('Dummy Table'!S:S,MATCH($L37,'Dummy Table'!$A:$A,0),0) -> 1 | O37: =INDEX('Dummy Table'!T:T,MATCH($L37,'Dummy Table'!$A:$A,0),0) -> 0 | P37: =INDEX('Dummy Table'!U:U,MATCH($L37,'Dummy Table'!$A:$A,0),0) -> 0 | Q37: =INDEX('Dummy Table'!V:V,MATCH($L37,'Dummy Table'!$A:$A,0),0) -> 1 | R37: =INDEX('Dummy Table'!W:W,MATCH($L37,'Dummy Table'!$A:$A,0),0) -> 0 | S37: =INDEX('Dummy Table'!X:X,MATCH($L37,'Dummy Table'!$A:$A,0),0) -> 3 | T37: =INDEX('Dummy Table'!Y:Y,MATCH($L37,'Dummy Table'!$A:$A,0),0) -> -3 | U37: =INDEX('Dummy Table'!Z:Z,MATCH($L37,'Dummy Table'!$A:$A,0),0) -> 0 | CI37: Caracas
B38: =B20+1 -> 2 | C38: 45567 | D38: Dinamo Zagreb | G38: Monaco | J38: =IFERROR(INDEX(Teams!D$5:D$40,MATCH(D38,Team,0),0),"") -> Maksimir Stadium | L38: 33 | M38: =INDEX('Dummy Table'!B:B,MATCH($L38,'Dummy Table'!$A:$A,0),0) -> Young Boys | N38: =INDEX('Dummy Table'!S:S,MATCH($L38,'Dummy Table'!$A:$A,0),0) -> 1 | O38: =INDEX('Dummy Table'!T:T,MATCH($L38,'Dummy Table'!$A:$A,0),0) -> 0 | P38: =INDEX('Dummy Table'!U:U,MATCH($L38,'Dummy Table'!$A:$A,0),0) -> 0 | Q38: =INDEX('Dummy Table'!V:V,MATCH($L38,'Dummy Table'!$A:$A,0),0) -> 1 | R38: =INDEX('Dummy Table'!W:W,MATCH($L38,'Dummy Table'!$A:$A,0),0) -> 0 | S38: =INDEX('Dummy Table'!X:X,MATCH($L38,'Dummy Table'!$A:$A,0),0) -> 3 | T38: =INDEX('Dummy Table'!Y:Y,MATCH($L38,'Dummy Table'!$A:$A,0),0) -> -3 | U38: =INDEX('Dummy Table'!Z:Z,MATCH($L38,'Dummy Table'!$A:$A,0),0) -> 0 | CI38: Casablanca
B39: =B21+1 -> 2 | C39: 45567 | D39: Lille | G39: Real Madrid | J39: =IFERROR(INDEX(Teams!D$5:D$40,MATCH(D39,Team,0),0),"") -> Pierre Mauroy Stadium | L39: 34 | M39: =INDEX('Dummy Table'!B:B,MATCH($L39,'Dummy Table'!$A:$A,0),0) -> Slovan Bratislava | N39: =INDEX('Dummy Table'!S:S,MATCH($L39,'Dummy Table'!$A:$A,0),0) -> 1 | O39: =INDEX('Dummy Table'!T:T,MATCH($L39,'Dummy Table'!$A:$A,0),0) -> 0 | P39: =INDEX('Dummy Table'!U:U,MATCH($L39,'Dummy Table'!$A:$A,0),0) -> 0 | Q39: =INDEX('Dummy Table'!V:V,MATCH($L39,'Dummy Table'!$A:$A,0),0) -> 1 | R39: =INDEX('Dummy Table'!W:W,MATCH($L39,'Dummy Table'!$A:$A,0),0) -> 1 | S39: =INDEX('Dummy Table'!X:X,MATCH($L39,'Dummy Table'!$A:$A,0),0) -> 5 | T39: =INDEX('Dummy Table'!Y:Y,MATCH($L39,'Dummy Table'!$A:$A,0),0) -> -4 | U39: =INDEX('Dummy Table'!Z:Z,MATCH($L39,'Dummy Table'!$A:$A,0),0) -> 0 | CI39: Chicago
B40: =B22+1 -> 2 | C40: 45567 | D40: Aston Villa | G40: Bayern München | J40: =IFERROR(INDEX(Teams!D$5:D$40,MATCH(D40,Team,0),0),"") -> Villa Park | L40: 35 | M40: =INDEX('Dummy Table'!B:B,MATCH($L40,'Dummy Table'!$A:$A,0),0) -> Feyenoord | N40: =INDEX('Dummy Table'!S:S,MATCH($L40,'Dummy Table'!$A:$A,0),0) -> 1 | O40: =INDEX('Dummy Table'!T:T,MATCH($L40,'Dummy Table'!$A:$A,0),0) -> 0 | P40: =INDEX('Dummy Table'!U:U,MATCH($L40,'Dummy Table'!$A:$A,0),0) -> 0 | Q40: =INDEX('Dummy Table'!V:V,MATCH($L40,'Dummy Table'!$A:$A,0),0) -> 1 | R40: =INDEX('Dummy Table'!W:W,MATCH($L40,'Dummy Table'!$A:$A,0),0) -> 0 | S40: =INDEX('Dummy Table'!X:X,MATCH($L40,'Dummy Table'!$A:$A,0),0) -> 4 | T40: =INDEX('Dummy Table'!Y:Y,MATCH($L40,'Dummy Table'!$A:$A,0),0) -> -4 | U40: =INDEX('Dummy Table'!Z:Z,MATCH($L40,'Dummy Table'!$A:$A,0),0) -> 0 | CI40: Copenhagen
B41: =B23+1 -> 2 | C41: 45567 | D41: Sturm Graz | G41: Club Brugge | J41: =IFERROR(INDEX(Teams!D$5:D$40,MATCH(D41,Team,0),0),"") -> Merkur Arena | L41: 36 | M41: =INDEX('Dummy Table'!B:B,MATCH($L41,'Dummy Table'!$A:$A,0),0) -> Dinamo Zagreb | N41: =INDEX('Dummy Table'!S:S,MATCH($L41,'Dummy Table'!$A:$A,0),0) -> 1 | O41: =INDEX('Dummy Table'!T:T,MATCH($L41,'Dummy Table'!$A:$A,0),0) -> 0 | P41: =INDEX('Dummy Table'!U:U,MATCH($L41,'Dummy Table'!$A:$A,0),0) -> 0 | Q41: =INDEX('Dummy Table'!V:V,MATCH($L41,'Dummy Table'!$A:$A,0),0) -> 1 | R41: =INDEX('Dummy Table'!W:W,MATCH($L41,'Dummy Table'!$A:$A,0),0) -> 2 | S41: =INDEX('Dummy Table'!X:X,MATCH($L41,'Dummy Table'!$A:$A,0),0) -> 9 | T41: =INDEX('Dummy Table'!Y:Y,MATCH($L41,'Dummy Table'!$A:$A,0),0) -> -7 | U41: =INDEX('Dummy Table'!Z:Z,MATCH($L41,'Dummy Table'!$A:$A,0),0) -> 0 | CI41: Darwin
B42: =B24+1 -> 3 | C42: 45587 | D42: AC Milan | G42: Club Brugge | J42: =IFERROR(INDEX(Teams!D$5:D$40,MATCH(D42,Team,0),0),"") -> San Siro | CI42: Denver
B43: =B25+1 -> 3 | C43: 45587 | D43: Monaco | G43: Crvena Zvezda | J43: =IFERROR(INDEX(Teams!D$5:D$40,MATCH(D43,Team,0),0),"") -> Louis II | M43: Qualified to Round of 16 | CI43: Detroit
B44: =B26+1 -> 3 | C44: 45587 | D44: Paris Saint-Germain | G44: PSV Eindhoven | J44: =IFERROR(INDEX(Teams!D$5:D$40,MATCH(D44,Team,0),0),"") -> Parc des Princes | CI44: Dhaka
B45: =B27+1 -> 3 | C45: 45587 | D45: Real Madrid | G45: Borussia Dortmund | J45: =IFERROR(INDEX(Teams!D$5:D$40,MATCH(D45,Team,0),0),"") -> Santiago Bernabeu | M45: Qualified to Play Off Rounds for Place in Round of 16 | CI45: Dubai
B46: =B28+1 -> 3 | C46: 45587 | D46: Arsenal | G46: Shakhtar Donetsk | J46: =IFERROR(INDEX(Teams!D$5:D$40,MATCH(D46,Team,0),0),"") -> Emirates | CI46: Dublin
B47: =B29+1 -> 3 | C47: 45587 | D47: Juventus | G47: VfB Stuttgart | J47: =IFERROR(INDEX(Teams!D$5:D$40,MATCH(D47,Team,0),0),"") -> Juventus Stadium | M47: Eliminated | CI47: Edmonton
B48: =B30+1 -> 3 | C48: 45587 | D48: Aston Villa | G48: Bologna | J48: =IFERROR(INDEX(Teams!D$5:D$40,MATCH(D48,Team,0),0),"") -> Villa Park | CI48: Frankfurt
B49: =B31+1 -> 3 | C49: 45587 | D49: Girona | G49: Slovan Bratislava | J49: =IFERROR(INDEX(Teams!D$5:D$40,MATCH(D49,Team,0),0),"") -> Montilivi | L49: This spreadsheet is not compatible with Google Spreadsheet | CI49: Geneva
B50: =B32+1 -> 3 | C50: 45587 | D50: Sturm Graz | G50: Sporting CP | J50: =IFERROR(INDEX(Teams!D$5:D$40,MATCH(D50,Team,0),0),"") -> Merkur Arena | L50: Some functions might not work properly | CI50: Guatemala
B51: =B33+1 -> 3 | C51: 45588 | D51: Atalanta | G51: Celtic | J51: =IFERROR(INDEX(Teams!D$5:D$40,MATCH(D51,Team,0),0),"") -> Gewiss | CI51: Halifax
B52: =B34+1 -> 3 | C52: 45588 | D52: Brest | G52: Bayer Leverkusen | J52: =IFERROR(INDEX(Teams!D$5:D$40,MATCH(D52,Team,0),0),"") -> Francis-Le Blé | L52: Do not remove copyright notice. It will make some functions not working properly | CI52: Hanoi
B53: =B35+1 -> 3 | C53: 45588 | D53: Barcelona | G53: Bayern München | J53: =IFERROR(INDEX(Teams!D$5:D$40,MATCH(D53,Team,0),0),"") -> Nou Camp | CI53: Harare
B54: =B36+1 -> 3 | C54: 45588 | D54: Manchester City | G54: Sparta Praha | J54: =IFERROR(INDEX(Teams!D$5:D$40,MATCH(D54,Team,0),0),"") -> Etihad | CI54: Havana
B55: =B37+1 -> 3 | C55: 45588 | D55: RB Leipzig | G55: Liverpool | J55: =IFERROR(INDEX(Teams!D$5:D$40,MATCH(D55,Team,0),0),"") -> Red Bull Arena | CI55: Helsinki
B56: =B38+1 -> 3 | C56: 45588 | D56: Atlético Madrid | G56: Lille | J56: =IFERROR(INDEX(Teams!D$5:D$40,MATCH(D56,Team,0),0),"") -> Vicente Calderon | CI56: Hong Kong
B57: =B39+1 -> 3 | C57: 45588 | D57: Benfica | G57: Feyenoord | J57: =IFERROR(INDEX(Teams!D$5:D$40,MATCH(D57,Team,0),0),"") -> Stadion da Luz | CI57: Honolulu
B58: =B40+1 -> 3 | C58: 45588 | D58: RB Salzburg | G58: Dinamo Zagreb | J58: =IFERROR(INDEX(Teams!D$5:D$40,MATCH(D58,Team,0),0),"") -> Red Bull Arena | CI58: Houston
B59: =B41+1 -> 3 | C59: 45588 | D59: Young Boys | G59: Inter | J59: =IFERROR(INDEX(Teams!D$5:D$40,MATCH(D59,Team,0),0),"") -> Wankdorf Stadium | CI59: Indianapolis
B60: =B42+1 -> 4 | C60: 45601 | D60: PSV Eindhoven | G60: Girona | J60: =IFERROR(INDEX(Teams!D$5:D$40,MATCH(D60,Team,0),0),"") -> Philips Stadion
B61: =B43+1 -> 4 | C61: 45601 | D61: Slovan Bratislava | G61: Dinamo Zagreb | J61: =IFERROR(INDEX(Teams!D$5:D$40,MATCH(D61,Team,0),0),"") -> Tehelné pole
B62: =B44+1 -> 4 | C62: 45601 | D62: Borussia Dortmund | G62: Sturm Graz | J62: =IFERROR(INDEX(Teams!D$5:D$40,MATCH(D62,Team,0),0),"") -> Signal Iduna Park
B63: =B45+1 -> 4 | C63: 45601 | D63: Liverpool | G63: Bayer Leverkusen | J63: =IFERROR(INDEX(Teams!D$5:D$40,MATCH(D63,Team,0),0),"") -> Anfield
B64: =B46+1 -> 4 | C64: 45601 | D64: Real Madrid | G64: AC Milan | J64: =IFERROR(INDEX(Teams!D$5:D$40,MATCH(D64,Team,0),0),"") -> Santiago Bernabeu
B65: =B47+1 -> 4 | C65: 45601 | D65: Celtic | G65: RB Leipzig | J65: =IFERROR(INDEX(Teams!D$5:D$40,MATCH(D65,Team,0),0),"") -> Celtic Park
B66: =B48+1 -> 4 | C66: 45601 | D66: Lille | G66: Juventus | J66: =IFERROR(INDEX(Teams!D$5:D$40,MATCH(D66,Team,0),0),"") -> Pierre Mauroy Stadium
B67: =B49+1 -> 4 | C67: 45601 | D67: Sporting CP | G67: Manchester City | J67: =IFERROR(INDEX(Teams!D$5:D$40,MATCH(D67,Team,0),0),"") -> José Alvalade
B68: =B50+1 -> 4 | C68: 45601 | D68: Bologna | G68: Monaco | J68: =IFERROR(INDEX(Teams!D$5:D$40,MATCH(D68,Team,0),0),"") -> Renato Dall'Ara
B69: =B51+1 -> 4 | C69: 45602 | D69: Club Brugge | G69: Aston Villa | J69: =IFERROR(INDEX(Teams!D$5:D$40,MATCH(D69,Team,0),0),"") -> Jan Breydel
B70: =B52+1 -> 4 | C70: 45602 | D70: Shakhtar Donetsk | G70: Young Boys | J70: =IFERROR(INDEX(Teams!D$5:D$40,MATCH(D70,Team,0),0),"") -> Donbass Arena
B71: =B53+1 -> 4 | C71: 45602 | D71: Bayern München | G71: Benfica | J71: =IFERROR(INDEX(Teams!D$5:D$40,MATCH(D71,Team,0),0),"") -> Allianz Arena
... B149: =B131+1 -> 8 | C149: 45686 | D149: VfB Stuttgart | G149: Paris Saint-Germain | J149: =IFERROR(INDEX(Teams!D$5:D$40,MATCH(D149,Team,0),0),"") -> MHP Arena
B151: © 2024 | journalsheet.com

Sheet Knock Out Rounds
B2: 2024/2025 CHAMPIONS LEAGUE FIXTURES | L2: Click Here to Purchase Editable Version
B4: KNOCK OUT ROUNDS | L4: KNOCK OUT TEAMS
B5: M# | C5: DATE/TIME | D5: HOME | E5: SCORE | G5: AWAY | H5: PSO | J5: VENUE
B6: PLAY OFF | L6: GROUP RANK 9 - 24
B7: Match | G7: =IF(D8<>"",D8,"") | J7: =IFERROR(INDEX(Teams!D$5:D$40,MATCH(D7,Team,0),0),"") | L7: 9 | M7: ='Group Stages'!M14 -> Juventus | N7: =IFERROR(INDEX(Teams!E$5:E$40,MATCH(M7,Teams!C$5:C$40,0),0),"") -> Italy
B8: 1 | G8: =IF(D7<>"",D7,"") | J8: =IFERROR(INDEX(Teams!D$5:D$40,MATCH(D8,Team,0),0),"") | L8: 10 | M8: ='Group Stages'!M15 -> Sporting CP | N8: =IFERROR(INDEX(Teams!E$5:E$40,MATCH(M8,Teams!C$5:C$40,0),0),"") -> Portugal
B9: Match | G9: =IF(D10<>"",D10,"") | J9: =IFERROR(INDEX(Teams!D$5:D$40,MATCH(D9,Team,0),0),"") | L9: 11 | M9: ='Group Stages'!M16 -> Benfica | N9: =IFERROR(INDEX(Teams!E$5:E$40,MATCH(M9,Teams!C$5:C$40,0),0),"") -> Portugal
B10: 2 | G10: =IF(D9<>"",D9,"") | J10: =IFERROR(INDEX(Teams!D$5:D$40,MATCH(D10,Team,0),0),"") | L10: 12 | M10: ='Group Stages'!M17 -> Atlético Madrid | N10: =IFERROR(INDEX(Teams!E$5:E$40,MATCH(M10,Teams!C$5:C$40,0),0),"") -> Spain
B11: Match | G11: =IF(D12<>"",D12,"") | J11: =IFERROR(INDEX(Teams!D$5:D$40,MATCH(D11,Team,0),0),"") | L11: 13 | M11: ='Group Stages'!M18 -> Brest | N11: =IFERROR(INDEX(Teams!E$5:E$40,MATCH(M11,Teams!C$5:C$40,0),0),"") -> France
B12: 3 | G12: =IF(D11<>"",D11,"") | J12: =IFERROR(INDEX(Teams!D$5:D$40,MATCH(D12,Team,0),0),"") | L12: 14 | M12: ='Group Stages'!M19 -> Monaco | N12: =IFERROR(INDEX(Teams!E$5:E$40,MATCH(M12,Teams!C$5:C$40,0),0),"") -> France
B13: Match | G13: =IF(D14<>"",D14,"") | J13: =IFERROR(INDEX(Teams!D$5:D$40,MATCH(D13,Team,0),0),"") | L13: 15 | M13: ='Group Stages'!M20 -> Paris Saint-Germain | N13: =IFERROR(INDEX(Teams!E$5:E$40,MATCH(M13,Teams!C$5:C$40,0),0),"") -> France
B14: 4 | G14: =IF(D13<>"",D13,"") | J14: =IFERROR(INDEX(Teams!D$5:D$40,MATCH(D14,Team,0),0),"") | L14: 16 | M14: ='Group Stages'!M21 -> Bologna | N14: =IFERROR(INDEX(Teams!E$5:E$40,MATCH(M14,Teams!C$5:C$40,0),0),"") -> Italy
B15: Match | G15: =IF(D16<>"",D16,"") | J15: =IFERROR(INDEX(Teams!D$5:D$40,MATCH(D15,Team,0),0),"") | L15: 17 | M15: ='Group Stages'!M22 -> Manchester City | N15: =IFERROR(INDEX(Teams!E$5:E$40,MATCH(M15,Teams!C$5:C$40,0),0),"") -> England
B16: 5 | G16: =IF(D15<>"",D15,"") | J16: =IFERROR(INDEX(Teams!D$5:D$40,MATCH(D16,Team,0),0),"") | L16: 18 | M16: ='Group Stages'!M23 -> Shakhtar Donetsk | N16: =IFERROR(INDEX(Teams!E$5:E$40,MATCH(M16,Teams!C$5:C$40,0),0),"") -> Ukraine
B17: Match | G17: =IF(D18<>"",D18,"") | J17: =IFERROR(INDEX(Teams!D$5:D$40,MATCH(D17,Team,0),0),"") | L17: 19 | M17: ='Group Stages'!M24 -> Arsenal | N17: =IFERROR(INDEX(Teams!E$5:E$40,MATCH(M17,Teams!C$5:C$40,0),0),"") -> England
B18: 6 | G18: =IF(D17<>"",D17,"") | J18: =IFERROR(INDEX(Teams!D$5:D$40,MATCH(D18,Team,0),0),"") | L18: 20 | M18: ='Group Stages'!M25 -> Inter | N18: =IFERROR(INDEX(Teams!E$5:E$40,MATCH(M18,Teams!C$5:C$40,0),0),"") -> Italy
B19: Match | G19: =IF(D20<>"",D20,"") | J19: =IFERROR(INDEX(Teams!D$5:D$40,MATCH(D19,Team,0),0),"") | L19: 21 | M19: ='Group Stages'!M26 -> Atalanta | N19: =IFERROR(INDEX(Teams!E$5:E$40,MATCH(M19,Teams!C$5:C$40,0),0),"") -> Italy
B20: 7 | G20: =IF(D19<>"",D19,"") | J20: =IFERROR(INDEX(Teams!D$5:D$40,MATCH(D20,Team,0),0),"") | L20: 22 | M20: ='Group Stages'!M27 -> RB Leipzig | N20: =IFERROR(INDEX(Teams!E$5:E$40,MATCH(M20,Teams!C$5:C$40,0),0),"") -> Germany
B21: Match | G21: =IF(D22<>"",D22,"") | J21: =IFERROR(INDEX(Teams!D$5:D$40,MATCH(D21,Team,0),0),"") | L21: 23 | M21: ='Group Stages'!M28 -> Barcelona | N21: =IFERROR(INDEX(Teams!E$5:E$40,MATCH(M21,Teams!C$5:C$40,0),0),"") -> Spain
B22: 8 | G22: =IF(D21<>"",D21,"") | J22: =IFERROR(INDEX(Teams!D$5:D$40,MATCH(D22,Team,0),0),"") | L22: 24 | M22: ='Group Stages'!M29 -> Sturm Graz | N22: =IFERROR(INDEX(Teams!E$5:E$40,MATCH(M22,Teams!C$5:C$40,0),0),"") -> Austria
B24: ROUND of 16 | L24: GROUP RANK 1 - 8 & PLAY OFF WINNER
B25: Match | G25: =IF(D26<>"",D26,"") | J25: =IFERROR(INDEX(Teams!D$5:D$40,MATCH(D25,Team,0),0),"") | L25: 1 | M25: ='Group Stages'!M6 -> Bayern München | N25: =IFERROR(INDEX(Teams!E$5:E$40,MATCH(M25,Teams!C$5:C$40,0),0),"") -> Germany
B26: 1 | G26: =IF(D25<>"",D25,"") | J26: =IFERROR(INDEX(Teams!D$5:D$40,MATCH(D26,Team,0),0),"") | L26: 2 | M26: ='Group Stages'!M7 -> Celtic | N26: =IFERROR(INDEX(Teams!E$5:E$40,MATCH(M26,Teams!C$5:C$40,0),0),"") -> Scotland
B27: Match | G27: =IF(D28<>"",D28,"") | J27: =IFERROR(INDEX(Teams!D$5:D$40,MATCH(D27,Team,0),0),"") | L27: 3 | M27: ='Group Stages'!M8 -> Bayer Leverkusen | N27: =IFERROR(INDEX(Teams!E$5:E$40,MATCH(M27,Teams!C$5:C$40,0),0),"") -> Germany
B28: 2 | G28: =IF(D27<>"",D27,"") | J28: =IFERROR(INDEX(Teams!D$5:D$40,MATCH(D28,Team,0),0),"") | L28: 4 | M28: ='Group Stages'!M9 -> Aston Villa | N28: =IFERROR(INDEX(Teams!E$5:E$40,MATCH(M28,Teams!C$5:C$40,0),0),"") -> England
B29: Match | G29: =IF(D30<>"",D30,"") | J29: =IFERROR(INDEX(Teams!D$5:D$40,MATCH(D29,Team,0),0),"") | L29: 5 | M29: ='Group Stages'!M10 -> Borussia Dortmund | N29: =IFERROR(INDEX(Teams!E$5:E$40,MATCH(M29,Teams!C$5:C$40,0),0),"") -> Germany
B30: 3 | G30: =IF(D29<>"",D29,"") | J30: =IFERROR(INDEX(Teams!D$5:D$40,MATCH(D30,Team,0),0),"") | L30: 6 | M30: ='Group Stages'!M11 -> Sparta Praha | N30: =IFERROR(INDEX(Teams!E$5:E$40,MATCH(M30,Teams!C$5:C$40,0),0),"") -> Czech
B31: Match | G31: =IF(D32<>"",D32,"") | J31: =IFERROR(INDEX(Teams!D$5:D$40,MATCH(D31,Team,0),0),"") | L31: 7 | M31: ='Group Stages'!M12 -> Liverpool | N31: =IFERROR(INDEX(Teams!E$5:E$40,MATCH(M31,Teams!C$5:C$40,0),0),"") -> England
B32: 4 | G32: =IF(D31<>"",D31,"") | J32: =IFERROR(INDEX(Teams!D$5:D$40,MATCH(D32,Team,0),0),"") | L32: 8 | M32: ='Group Stages'!M13 -> Real Madrid | N32: =IFERROR(INDEX(Teams!E$5:E$40,MATCH(M32,Teams!C$5:C$40,0),0),"") -> Spain
B33: Match | G33: =IF(D34<>"",D34,"") | J33: =IFERROR(INDEX(Teams!D$5:D$40,MATCH(D33,Team,0),0),"") | L33: PO1 | M33: =IF(E8<>"",IF(H8<>"",IF(H8>I8,D8,G8),IF(F7+E8>E7+F8,D8,G8)),"") | N33: =IFERROR(INDEX(Teams!E$5:E$40,MATCH(M33,Teams!C$5:C$40,0),0),"")
B34: 5 | G34: =IF(D33<>"",D33,"") | J34: =IFERROR(INDEX(Teams!D$5:D$40,MATCH(D34,Team,0),0),"") | L34: PO2 | M34: =IF(E10<>"",IF(H10<>"",IF(H10>I10,D10,G10),IF(F9+E10>E9+F10,D10,G10)),"") | N34: =IFERROR(INDEX(Teams!E$5:E$40,MATCH(M34,Teams!C$5:C$40,0),0),"")
B35: Match | G35: =IF(D36<>"",D36,"") | J35: =IFERROR(INDEX(Teams!D$5:D$40,MATCH(D35,Team,0),0),"") | L35: PO3 | M35: =IF(E12<>"",IF(H12<>"",IF(H12>I12,D12,G12),IF(F11+E12>E11+F12,D12,G12)),"") | N35: =IFERROR(INDEX(Teams!E$5:E$40,MATCH(M35,Teams!C$5:C$40,0),0),"")
B36: 6 | G36: =IF(D35<>"",D35,"") | J36: =IFERROR(INDEX(Teams!D$5:D$40,MATCH(D36,Team,0),0),"") | L36: PO4 | M36: =IF(E14<>"",IF(H14<>"",IF(H14>I14,D14,G14),IF(F13+E14>E13+F14,D14,G14)),"") | N36: =IFERROR(INDEX(Teams!E$5:E$40,MATCH(M36,Teams!C$5:C$40,0),0),"")
B37: Match | G37: =IF(D38<>"",D38,"") | J37: =IFERROR(INDEX(Teams!D$5:D$40,MATCH(D37,Team,0),0),"") | L37: PO5 | M37: =IF(E16<>"",IF(H16<>"",IF(H16>I16,D16,G16),IF(F15+E16>E15+F16,D16,G16)),"") | N37: =IFERROR(INDEX(Teams!E$5:E$40,MATCH(M37,Teams!C$5:C$40,0),0),"")
B38: 7 | G38: =IF(D37<>"",D37,"") | J38: =IFERROR(INDEX(Teams!D$5:D$40,MATCH(D38,Team,0),0),"") | L38: PO6 | M38: =IF(E18<>"",IF(H18<>"",IF(H18>I18,D18,G18),IF(F17+E18>E17+F18,D18,G18)),"") | N38: =IFERROR(INDEX(Teams!E$5:E$40,MATCH(M38,Teams!C$5:C$40,0),0),"")
B39: Match | G39: =IF(D40<>"",D40,"") | J39: =IFERROR(INDEX(Teams!D$5:D$40,MATCH(D39,Team,0),0),"") | L39: PO7 | M39: =IF(E20<>"",IF(H20<>"",IF(H20>I20,D20,G20),IF(F19+E20>E19+F20,D20,G20)),"") | N39: =IFERROR(INDEX(Teams!E$5:E$40,MATCH(M39,Teams!C$5:C$40,0),0),"")
B40: 8 | G40: =IF(D39<>"",D39,"") | J40: =IFERROR(INDEX(Teams!D$5:D$40,MATCH(D40,Team,0),0),"") | L40: PO8 | M40: =IF(E22<>"",IF(H22<>"",IF(H22>I22,D22,G22),IF(F21+E22>E21+F22,D22,G22)),"") | N40: =IFERROR(INDEX(Teams!E$5:E$40,MATCH(M40,Teams!C$5:C$40,0),0),"")
B42: QUARTER FINALS | L42: QUARTERFINALISTS
B43: Match | G43: =IF(D44<>"",D44,"") | J43: =IFERROR(INDEX(Teams!D$5:D$40,MATCH(D43,Team,0),0),"") | L43: R16-1 | M43: =IF(E26<>"",IF(H26<>"",IF(H26>I26,D26,G26),IF(F25+E26>E25+F26,D26,G26)),"") | N43: =IFERROR(INDEX(Teams!E$5:E$40,MATCH(M43,Teams!C$5:C$40,0),0),"")
B44: 1 | G44: =IF(D43<>"",D43,"") | J44: =IFERROR(INDEX(Teams!D$5:D$40,MATCH(D44,Team,0),0),"") | L44: R16-2 | M44: =IF(E28<>"",IF(H28<>"",IF(H28>I28,D28,G28),IF(F27+E28>E27+F28,D28,G28)),"") | N44: =IFERROR(INDEX(Teams!E$5:E$40,MATCH(M44,Teams!C$5:C$40,0),0),"")
B45: Match | G45: =IF(D46<>"",D46,"") | J45: =IFERROR(INDEX(Teams!D$5:D$40,MATCH(D45,Team,0),0),"") | L45: R16-3 | M45: =IF(E30<>"",IF(H30<>"",IF(H30>I30,D30,G30),IF(F29+E30>E29+F30,D30,G30)),"") | N45: =IFERROR(INDEX(Teams!E$5:E$40,MATCH(M45,Teams!C$5:C$40,0),0),"")
B46: 2 | G46: =IF(D45<>"",D45,"") | J46: =IFERROR(INDEX(Teams!D$5:D$40,MATCH(D46,Team,0),0),"") | L46: R16-4 | M46: =IF(E32<>"",IF(H32<>"",IF(H32>I32,D32,G32),IF(F31+E32>E31+F32,D32,G32)),"") | N46: =IFERROR(INDEX(Teams!E$5:E$40,MATCH(M46,Teams!C$5:C$40,0),0),"")
B47: Match | G47: =IF(D48<>"",D48,"") | J47: =IFERROR(INDEX(Teams!D$5:D$40,MATCH(D47,Team,0),0),"") | L47: R16-5 | M47: =IF(E34<>"",IF(H34<>"",IF(H34>I34,D34,G34),IF(F33+E34>E33+F34,D34,G34)),"") | N47: =IFERROR(INDEX(Teams!E$5:E$40,MATCH(M47,Teams!C$5:C$40,0),0),"")
B48: 3 | G48: =IF(D47<>"",D47,"") | J48: =IFERROR(INDEX(Teams!D$5:D$40,MATCH(D48,Team,0),0),"") | L48: R16-6 | M48: =IF(E36<>"",IF(H36<>"",IF(H36>I36,D36,G36),IF(F35+E36>E35+F36,D36,G36)),"") | N48: =IFERROR(INDEX(Teams!E$5:E$40,MATCH(M48,Teams!C$5:C$40,0),0),"")
B49: Match | G49: =IF(D50<>"",D50,"") | J49: =IFERROR(INDEX(Teams!D$5:D$40,MATCH(D49,Team,0),0),"") | L49: R16-7 | M49: =IF(E38<>"",IF(H38<>"",IF(H38>I38,D38,G38),IF(F37+E38>E37+F38,D38,G38)),"") | N49: =IFERROR(INDEX(Teams!E$5:E$40,MATCH(M49,Teams!C$5:C$40,0),0),"")
B50: 4 | G50: =IF(D49<>"",D49,"") | J50: =IFERROR(INDEX(Teams!D$5:D$40,MATCH(D50,Team,0),0),"") | L50: R16-8 | M50: =IF(E40<>"",IF(H40<>"",IF(H40>I40,D40,G40),IF(F39+E40>E39+F40,D40,G40)),"") | N50: =IFERROR(INDEX(Teams!E$5:E$40,MATCH(M50,Teams!C$5:C$40,0),0),"")
B52: SEMI FINALS | L52: SEMIFINALISTS
B53: Match | G53: =IF(D54<>"",D54,"") | J53: =IFERROR(INDEX(Teams!D$5:D$40,MATCH(D53,Team,0),0),"") | L53: QF-1 | M53: =IF(E44<>"",IF(H44<>"",IF(H44>I44,D44,G44),IF(F43+E44>E43+F44,D44,G44)),"") | N53: =IFERROR(INDEX(Teams!E$5:E$40,MATCH(M53,Teams!C$5:C$40,0),0),"")
B54: 1 | G54: =IF(D53<>"",D53,"") | J54: =IFERROR(INDEX(Teams!D$5:D$40,MATCH(D54,Team,0),0),"") | L54: QF-2 | M54: =IF(E46<>"",IF(H46<>"",IF(H46>I46,D46,G46),IF(F45+E46>E45+F46,D46,G46)),"") | N54: =IFERROR(INDEX(Teams!E$5:E$40,MATCH(M54,Teams!C$5:C$40,0),0),"")
B55: Match | G55: =IF(D56<>"",D56,"") | J55: =IFERROR(INDEX(Teams!D$5:D$40,MATCH(D55,Team,0),0),"") | L55: QF-3 | M55: =IF(E48<>"",IF(H48<>"",IF(H48>I48,D48,G48),IF(F47+E48>E47+F48,D48,G48)),"") | N55: =IFERROR(INDEX(Teams!E$5:E$40,MATCH(M55,Teams!C$5:C$40,0),0),"")
B56: 2 | G56: =IF(D55<>"",D55,"") | J56: =IFERROR(INDEX(Teams!D$5:D$40,MATCH(D56,Team,0),0),"") | L56: QF-4 | M56: =IF(E50<>"",IF(H50<>"",IF(H50>I50,D50,G50),IF(F49+E50>E49+F50,D50,G50)),"") | N56: =IFERROR(INDEX(Teams!E$5:E$40,MATCH(M56,Teams!C$5:C$40,0),0),"")
B58: FINAL | L58: FINALISTS
C59: 45808 | D59: =IF(E54<>"",IF(H54<>"",IF(H54>I54,D54,G54),IF(F53+E54=E53+F54,IF(F53>F54,D54,D53),IF(F53+E54>E53+F54,D54,G54))),"") | G59: =IF(E56<>"",IF(H56<>"",IF(H56>I56,D56,G56),IF(F55+E56=E55+F56,IF(F55>F56,D56,D55),IF(F55+E56>E55+F56,D56,G56))),"") | J59: Allianz Arena, Munich, Germany | L59: SF-1 | M59: =IF(E54<>"",IF(H54<>"",IF(H54>I54,D54,G54),IF(F53+E54>E53+F54,D54,G54)),"") | N59: =IFERROR(INDEX(Teams!E$5:E$40,MATCH(M59,Teams!C$5:C$40,0),0),"")
L60: SF-2 | M60: =IF(E56<>"",IF(H56<>"",IF(H56>I56,D56,G56),IF(F55+E56>E55+F56,D56,G56)),"") | N60: =IFERROR(INDEX(Teams!E$5:E$40,MATCH(M60,Teams!C$5:C$40,0),0),"")
B61: CHAMPION
B62: =IF(AND(E59<>"",F59<>""),IF(F59+I59>E59+H59,UPPER(G59),UPPER(D59)),"")
M63: =IF(E57<>"",IF(E57+H57>F57+I57,D57,G57),"")
B65: © 2024 | journalsheet.com | M65: =IF(E59<>"",IF(E59+H59>F59+I59,D59,G59),"")

Sheet Dummy Table
A4: =SUM(AC4:AH4)+SUM(AN4:AP4)+SUM(AR4:AS4) -> 29 | B4: =Teams!C5 -> AC Milan | C4: =SUM(D4:F4) -> 1 | D4: =SUMPRODUCT(('Group Stages'!E6:E149<>"")*('Group Stages'!F6:F149<>"")*('Group Stages'!D6:D149='Dummy Table'!B4)*('Group Stages'!E6:E149>'Group Stages'!F6:F149)) -> 0 | E4: =SUMPRODUCT(('Group Stages'!E6:E149<>"")*('Group Stages'!F6:F149<>"")*('Group Stages'!D6:D149='Dummy Table'!B4)*('Group Stages'!E6:E149='Group Stages'!F6:F149)) -> 0 | F4: =SUMPRODUCT(('Group Stages'!E6:E149<>"")*('Group Stages'!F6:F149<>"")*('Group Stages'!D6:D149='Dummy Table'!B4)*('Group Stages'!E6:E149<'Group Stages'!F6:F149)) -> 1 | G4: =SUMIF('Group Stages'!D6:D149,'Dummy Table'!B4,'Group Stages'!E6:E149) -> 1 | H4: =SUMIF('Group Stages'!D6:D149,'Dummy Table'!B4,'Group Stages'!F6:F149) -> 3 | I4: =G4-H4 -> -2 | J4: =D4*3+E4*1 -> 0 | K4: =SUM(L4:N4) -> 0 | L4: =SUMPRODUCT(('Group Stages'!E6:E149<>"")*('Group Stages'!F6:F149<>"")*('Group Stages'!G6:G149='Dummy Table'!B4)*('Group Stages'!E6:E149<'Group Stages'!F6:F149)) -> 0 | M4: =SUMPRODUCT(('Group Stages'!E6:E149<>"")*('Group Stages'!F6:F149<>"")*('Group Stages'!G6:G149='Dummy Table'!B4)*('Group Stages'!E6:E149='Group Stages'!F6:F149)) -> 0 | N4: =SUMPRODUCT(('Group Stages'!E6:E149<>"")*('Group Stages'!F6:F149<>"")*('Group Stages'!G6:G149='Dummy Table'!B4)*('Group Stages'!E6:E149>'Group Stages'!F6:F149)) -> 0 | O4: =IF(AM4="",VALUE(SUMIF('Group Stages'!G6:G149,'Dummy Table'!B4,'Group Stages'!F6:F149)),0) -> 0 | P4: =SUMIF('Group Stages'!G6:G149,'Dummy Table'!B4,'Group Stages'!E6:E149) -> 0 | Q4: =O4-P4 -> 0 | R4: =L4*3+M4*1 -> 0 | S4: =C4+K4 -> 1 | T4: =IF(AM4="",D4+L4,0) -> 0 | U4: =E4+M4 -> 0 | V4: =F4+N4 -> 1 | W4: =G4+O4 -> 1 | X4: =H4+P4 -> 3 | Y4: =I4+Q4 -> -2 | Z4: =J4+R4 -> 0 | AA4: =Teams!F5 -> 59000 | AB4: =Teams!G5 -> 0 | AC4: =RANK(Z4,Z4:Z39) -> 22 | AD4: =SUMPRODUCT((AC4:AC39=AC4)*(Y4:Y39>Y4)) -> 5 | AE4: =SUMPRODUCT((AC4:AC39=AC4)*(Y4:Y39=Y4)*(W4:W39>W4)) -> 0 | AF4: =SUMPRODUCT((AC4:AC39=AC4)*(Y4:Y39=Y4)*(W4:W39=W4)*(O4:O39>O4)) -> 2 | AG4: =SUMPRODUCT((AC4:AC39=AC4)*(Y4:Y39=Y4)*(W4:W39=W4)*(O4:O39=O4)*(T4:T39>T4)) -> 0 | AH4: =SUMPRODUCT((AC4:AC39=AC4)*(Y4:Y39=Y4)*(W4:W39=W4)*(O4:O39=O4)*(T4:T39=T4)*(L4:L39>L4)) -> 0 | AI4: 45296 | AJ4: =SUMIFS(Z4:Z39,B4:B39,Teams!I5)+SUMIFS(Z4:Z39,B4:B39,Teams!J5)+SUMIFS(Z4:Z39,B4:B39,Teams!K5)+SUMIFS(Z4:Z39,B4:B39,Teams!L5)+SUMIFS(Z4:Z39,B4:B39,Teams!M5)+SUMIFS(Z4:Z39,B4:B39,Teams!N5)+SUMIFS(Z4:Z39,B4:B39,Teams!O5)+SUMIFS(Z4:Z39,B4:B39,Teams!P5) -> 9 | AK4: =SUMIFS(Y4:Y39,B4:B39,Teams!I5)+SUMIFS(Y4:Y39,B4:B39,Teams!J5)+SUMIFS(Y4:Y39,B4:B39,Teams!K5)+SUMIFS(Y4:Y39,B4:B39,Teams!L5)+SUMIFS(Y4:Y39,B4:B39,Teams!M5)+SUMIFS(Y4:Y39,B4:B39,Teams!N5)+SUMIFS(Y4:Y39,B4:B39,Teams!O5)+SUMIFS(Y4:Y39,B4:B39,Teams!P5) -> -8 | AL4: =SUMIFS(W4:W39,B4:B39,Teams!I5)+SUMIFS(W4:W39,B4:B39,Teams!J5)+SUMIFS(W4:W39,B4:B39,Teams!K5)+SUMIFS(W4:W39,B4:B39,Teams!L5)+SUMIFS(W4:W39,B4:B39,Teams!M5)+SUMIFS(W4:W39,B4:B39,Teams!N5)+SUMIFS(W4:W39,B4:B39,Teams!O5)+SUMIFS(W4:W39,B4:B39,Teams!P5) -> 14 | AM4: =IFERROR(VALUE(IFERROR(INDEX(AI:AI,MATCH(B15,AQ:AQ,0),0),"")),"") | AN4: =SUMPRODUCT((AC4:AC39=AC4)*(Y4:Y39=Y4)*(W4:W39=W4)*(O4:O39=O4)*(T4:T39=T4)*(L4:L39=L4)*(AJ4:AJ39>AJ4)) -> 0 | AO4: =SUMPRODUCT((AC4:AC39=AC4)*(Y4:Y39=Y4)*(W4:W39=W4)*(O4:O39=O4)*(T4:T39=T4)*(L4:L39=L4)*(AJ4:AJ39=AJ4)*(AK4:AK39>AK4)) -> 0 | AP4: =SUMPRODUCT((AC4:AC39=AC4)*(Y4:Y39=Y4)*(W4:W39=W4)*(O4:O39=O4)*(T4:T39=T4)*(L4:L39=L4)*(AJ4:AJ39=AJ4)*(AK4:AK39=AK4)*(AL4:AL39>AL4)) -> 0 | AR4: =SUMPRODUCT((AC4:AC39=AC4)*(Y4:Y39=Y4)*(W4:W39=W4)*(O4:O39=O4)*(T4:T39=T4)*(L4:L39=L4)*(AJ4:AJ39=AJ4)*(AK4:AK39=AK4)*(AL4:AL39=AL4)*(AB4:AB39>AB4)) -> 0 | AS4: =SUMPRODUCT((AC4:AC39=AC4)*(Y4:Y39=Y4)*(W4:W39=W4)*(O4:O39=O4)*(T4:T39=T4)*(L4:L39=L4)*(AJ4:AJ39=AJ4)*(AK4:AK39=AK4)*(AL4:AL39=AL4)*(AB4:AB39=AB4)*(AA4:AA39>AA4)) -> 0
A5: =SUM(AC5:AH5)+SUM(AN5:AP5)+SUM(AR5:AS5) -> 19 | B5: =Teams!C6 -> Arsenal | C5: =SUM(D5:F5) -> 0 | D5: =SUMPRODUCT(('Group Stages'!E6:E149<>"")*('Group Stages'!F6:F149<>"")*('Group Stages'!D6:D149='Dummy Table'!B5)*('Group Stages'!E6:E149>'Group Stages'!F6:F149)) -> 0 | E5: =SUMPRODUCT(('Group Stages'!E6:E149<>"")*('Group Stages'!F6:F149<>"")*('Group Stages'!D6:D149='Dummy Table'!B5)*('Group Stages'!E6:E149='Group Stages'!F6:F149)) -> 0 | F5: =SUMPRODUCT(('Group Stages'!E6:E149<>"")*('Group Stages'!F6:F149<>"")*('Group Stages'!D6:D149='Dummy Table'!B5)*('Group Stages'!E6:E149<'Group Stages'!F6:F149)) -> 0 | G5: =SUMIF('Group Stages'!D6:D149,'Dummy Table'!B5,'Group Stages'!E6:E149) -> 0 | H5: =SUMIF('Group Stages'!D6:D149,'Dummy Table'!B5,'Group Stages'!F6:F149) -> 0 | I5: =G5-H5 -> 0 | J5: =D5*3+E5*1 -> 0 | K5: =SUM(L5:N5) -> 1 | L5: =SUMPRODUCT(('Group Stages'!E6:E149<>"")*('Group Stages'!F6:F149<>"")*('Group Stages'!G6:G149='Dummy Table'!B5)*('Group Stages'!E6:E149<'Group Stages'!F6:F149)) -> 0 | M5: =SUMPRODUCT(('Group Stages'!E6:E149<>"")*('Group Stages'!F6:F149<>"")*('Group Stages'!G6:G149='Dummy Table'!B5)*('Group Stages'!E6:E149='Group Stages'!F6:F149)) -> 1 | N5: =SUMPRODUCT(('Group Stages'!E6:E149<>"")*('Group Stages'!F6:F149<>"")*('Group Stages'!G6:G149='Dummy Table'!B5)*('Group Stages'!E6:E149>'Group Stages'!F6:F149)) -> 0 | O5: =IF(AM5="",VALUE(SUMIF('Group Stages'!G6:G149,'Dummy Table'!B5,'Group Stages'!F6:F149)),0) -> 0 | P5: =SUMIF('Group Stages'!G6:G149,'Dummy Table'!B5,'Group Stages'!E6:E149) -> 0 | Q5: =O5-P5 -> 0 | R5: =L5*3+M5*1 -> 1 | S5: =C5+K5 -> 1 | T5: =IF(AM5="",D5+L5,0) -> 0 | U5: =E5+M5 -> 1 | V5: =F5+N5 -> 0 | W5: =G5+O5 -> 0 | X5: =H5+P5 -> 0 | Y5: =I5+Q5 -> 0 | Z5: =J5+R5 -> 1 | AA5: =Teams!F6 -> 62000 | AB5: =Teams!G6 -> 0 | AC5: =RANK(Z5,Z4:Z39) -> 16 | AD5: =SUMPRODUCT((AC4:AC39=AC5)*(Y4:Y39>Y5)) -> 0 | AE5: =SUMPRODUCT((AC4:AC39=AC5)*(Y4:Y39=Y5)*(W4:W39>W5)) -> 0 | AF5: =SUMPRODUCT((AC4:AC39=AC5)*(Y4:Y39=Y5)*(W4:W39=W5)*(O4:O39>O5)) -> 0 | AG5: =SUMPRODUCT((AC4:AC39=AC5)*(Y4:Y39=Y5)*(W4:W39=W5)*(O4:O39=O5)*(T4:T39>T5)) -> 0 | AH5: =SUMPRODUCT((AC4:AC39=AC5)*(Y4:Y39=Y5)*(W4:W39=W5)*(O4:O39=O5)*(T4:T39=T5)*(L4:L39>L5)) -> 0 | AI5: 45297 | AJ5: =SUMIFS(Z4:Z39,B4:B39,Teams!I6)+SUMIFS(Z4:Z39,B4:B39,Teams!J6)+SUMIFS(Z4:Z39,B4:B39,Teams!K6)+SUMIFS(Z4:Z39,B4:B39,Teams!L6)+SUMIFS(Z4:Z39,B4:B39,Teams!M6)+SUMIFS(Z4:Z39,B4:B39,Teams!N6)+SUMIFS(Z4:Z39,B4:B39,Teams!O6)+SUMIFS(Z4:Z39,B4:B39,Teams!P6) -> 12 | AK5: =SUMIFS(Y4:Y39,B4:B39,Teams!I6)+SUMIFS(Y4:Y39,B4:B39,Teams!J6)+SUMIFS(Y4:Y39,B4:B39,Teams!K6)+SUMIFS(Y4:Y39,B4:B39,Teams!L6)+SUMIFS(Y4:Y39,B4:B39,Teams!M6)+SUMIFS(Y4:Y39,B4:B39,Teams!N6)+SUMIFS(Y4:Y39,B4:B39,Teams!O6)+SUMIFS(Y4:Y39,B4:B39,Teams!P6) -> -4 | AL5: =SUMIFS(W4:W39,B4:B39,Teams!I6)+SUMIFS(W4:W39,B4:B39,Teams!J6)+SUMIFS(W4:W39,B4:B39,Teams!K6)+SUMIFS(W4:W39,B4:B39,Teams!L6)+SUMIFS(W4:W39,B4:B39,Teams!M6)+SUMIFS(W4:W39,B4:B39,Teams!N6)+SUMIFS(W4:W39,B4:B39,Teams!O6)+SUMIFS(W4:W39,B4:B39,Teams!P6) -> 7 | AM5: =IFERROR(VALUE(IFERROR(INDEX(AI:AI,MATCH(B16,AQ:AQ,0),0),"")),"") | AN5: =SUMPRODUCT((AC4:AC39=AC5)*(Y4:Y39=Y5)*(W4:W39=W5)*(O4:O39=O5)*(T4:T39=T5)*(L4:L39=L5)*(AJ4:AJ39>AJ5)) -> 2 | AO5: =SUMPRODUCT((AC4:AC39=AC5)*(Y4:Y39=Y5)*(W4:W39=W5)*(O4:O39=O5)*(T4:T39=T5)*(L4:L39=L5)*(AJ4:AJ39=AJ5)*(AK4:AK39>AK5)) -> 1 | AP5: =SUMPRODUCT((AC4:AC39=AC5)*(Y4:Y39=Y5)*(W4:W39=W5)*(O4:O39=O5)*(T4:T39=T5)*(L4:L39=L5)*(AJ4:AJ39=AJ5)*(AK4:AK39=AK5)*(AL4:AL39>AL5)) -> 0 | AR5: =SUMPRODUCT((AC4:AC39=AC5)*(Y4:Y39=Y5)*(W4:W39=W5)*(O4:O39=O5)*(T4:T39=T5)*(L4:L39=L5)*(AJ4:AJ39=AJ5)*(AK4:AK39=AK5)*(AL4:AL39=AL5)*(AB4:AB39>AB5)) -> 0 | AS5: =SUMPRODUCT((AC4:AC39=AC5)*(Y4:Y39=Y5)*(W4:W39=W5)*(O4:O39=O5)*(T4:T39=T5)*(L4:L39=L5)*(AJ4:AJ39=AJ5)*(AK4:AK39=AK5)*(AL4:AL39=AL5)*(AB4:AB39=AB5)*(AA4:AA39>AA5)) -> 0
A6: =SUM(AC6:AH6)+SUM(AN6:AP6)+SUM(AR6:AS6) -> 4 | B6: =Teams!C7 -> Aston Villa | C6: =SUM(D6:F6) -> 0 | D6: =SUMPRODUCT(('Group Stages'!E6:E149<>"")*('Group Stages'!F6:F149<>"")*('Group Stages'!D6:D149='Dummy Table'!B6)*('Group Stages'!E6:E149>'Group Stages'!F6:F149)) -> 0 | E6: =SUMPRODUCT(('Group Stages'!E6:E149<>"")*('Group Stages'!F6:F149<>"")*('Group Stages'!D6:D149='Dummy Table'!B6)*('Group Stages'!E6:E149='Group Stages'!F6:F149)) -> 0 | F6: =SUMPRODUCT(('Group Stages'!E6:E149<>"")*('Group Stages'!F6:F149<>"")*('Group Stages'!D6:D149='Dummy Table'!B6)*('Group Stages'!E6:E149<'Group Stages'!F6:F149)) -> 0 | G6: =SUMIF('Group Stages'!D6:D149,'Dummy Table'!B6,'Group Stages'!E6:E149) -> 0 | H6: =SUMIF('Group Stages'!D6:D149,'Dummy Table'!B6,'Group Stages'!F6:F149) -> 0 | I6: =G6-H6 -> 0 | J6: =D6*3+E6*1 -> 0 | K6: =SUM(L6:N6) -> 1 | L6: =SUMPRODUCT(('Group Stages'!E6:E149<>"")*('Group Stages'!F6:F149<>"")*('Group Stages'!G6:G149='Dummy Table'!B6)*('Group Stages'!E6:E149<'Group Stages'!F6:F149)) -> 1 | M6: =SUMPRODUCT(('Group Stages'!E6:E149<>"")*('Group Stages'!F6:F149<>"")*('Group Stages'!G6:G149='Dummy Table'!B6)*('Group Stages'!E6:E149='Group Stages'!F6:F149)) -> 0 | N6: =SUMPRODUCT(('Group Stages'!E6:E149<>"")*('Group Stages'!F6:F149<>"")*('Group Stages'!G6:G149='Dummy Table'!B6)*('Group Stages'!E6:E149>'Group Stages'!F6:F149)) -> 0 | O6: =IF(AM6="",VALUE(SUMIF('Group Stages'!G6:G149,'Dummy Table'!B6,'Group Stages'!F6:F149)),0) -> 3 | P6: =SUMIF('Group Stages'!G6:G149,'Dummy Table'!B6,'Group Stages'!E6:E149) -> 0 | Q6: =O6-P6 -> 3 | R6: =L6*3+M6*1 -> 3 | S6: =C6+K6 -> 1 | T6: =IF(AM6="",D6+L6,0) -> 1 | U6: =E6+M6 -> 0 | V6: =F6+N6 -> 0 | W6: =G6+O6 -> 3 | X6: =H6+P6 -> 0 | Y6: =I6+Q6 -> 3 | Z6: =J6+R6 -> 3 | AA6: =Teams!F7 -> 17000 | AB6: =Teams!G7 -> 0 | AC6: =RANK(Z6,Z4:Z39) -> 1 | AD6: =SUMPRODUCT((AC4:AC39=AC6)*(Y4:Y39>Y6)) -> 3 | AE6: =SUMPRODUCT((AC4:AC39=AC6)*(Y4:Y39=Y6)*(W4:W39>W6)) -> 0 | AF6: =SUMPRODUCT((AC4:AC39=AC6)*(Y4:Y39=Y6)*(W4:W39=W6)*(O4:O39>O6)) -> 0 | AG6: =SUMPRODUCT((AC4:AC39=AC6)*(Y4:Y39=Y6)*(W4:W39=W6)*(O4:O39=O6)*(T4:T39>T6)) -> 0 | AH6: =SUMPRODUCT((AC4:AC39=AC6)*(Y4:Y39=Y6)*(W4:W39=W6)*(O4:O39=O6)*(T4:T39=T6)*(L4:L39>L6)) -> 0 | AI6: 45298 | AJ6: =SUMIFS(Z4:Z39,B4:B39,Teams!I7)+SUMIFS(Z4:Z39,B4:B39,Teams!J7)+SUMIFS(Z4:Z39,B4:B39,Teams!K7)+SUMIFS(Z4:Z39,B4:B39,Teams!L7)+SUMIFS(Z4:Z39,B4:B39,Teams!M7)+SUMIFS(Z4:Z39,B4:B39,Teams!N7)+SUMIFS(Z4:Z39,B4:B39,Teams!O7)+SUMIFS(Z4:Z39,B4:B39,Teams!P7) -> 13 | AK6: =SUMIFS(Y4:Y39,B4:B39,Teams!I7)+SUMIFS(Y4:Y39,B4:B39,Teams!J7)+SUMIFS(Y4:Y39,B4:B39,Teams!K7)+SUMIFS(Y4:Y39,B4:B39,Teams!L7)+SUMIFS(Y4:Y39,B4:B39,Teams!M7)+SUMIFS(Y4:Y39,B4:B39,Teams!N7)+SUMIFS(Y4:Y39,B4:B39,Teams!O7)+SUMIFS(Y4:Y39,B4:B39,Teams!P7) -> 7 | AL6: =SUMIFS(W4:W39,B4:B39,Teams!I7)+SUMIFS(W4:W39,B4:B39,Teams!J7)+SUMIFS(W4:W39,B4:B39,Teams!K7)+SUMIFS(W4:W39,B4:B39,Teams!L7)+SUMIFS(W4:W39,B4:B39,Teams!M7)+SUMIFS(W4:W39,B4:B39,Teams!N7)+SUMIFS(W4:W39,B4:B39,Teams!O7)+SUMIFS(W4:W39,B4:B39,Teams!P7) -> 20 | AM6: =IFERROR(VALUE(IFERROR(INDEX(AI:AI,MATCH(B17,AQ:AQ,0),0),"")),"") | AN6: =SUMPRODUCT((AC4:AC39=AC6)*(Y4:Y39=Y6)*(W4:W39=W6)*(O4:O39=O6)*(T4:T39=T6)*(L4:L39=L6)*(AJ4:AJ39>AJ6)) -> 0 | AO6: =SUMPRODUCT((AC4:AC39=AC6)*(Y4:Y39=Y6)*(W4:W39=W6)*(O4:O39=O6)*(T4:T39=T6)*(L4:L39=L6)*(AJ4:AJ39=AJ6)*(AK4:AK39>AK6)) -> 0 | AP6: =SUMPRODUCT((AC4:AC39=AC6)*(Y4:Y39=Y6)*(W4:W39=W6)*(O4:O39=O6)*(T4:T39=T6)*(L4:L39=L6)*(AJ4:AJ39=AJ6)*(AK4:AK39=AK6)*(AL4:AL39>AL6)) -> 0 | AR6: =SUMPRODUCT((AC4:AC39=AC6)*(Y4:Y39=Y6)*(W4:W39=W6)*(O4:O39=O6)*(T4:T39=T6)*(L4:L39=L6)*(AJ4:AJ39=AJ6)*(AK4:AK39=AK6)*(AL4:AL39=AL6)*(AB4:AB39>AB6)) -> 0 | AS6: =SUMPRODUCT((AC4:AC39=AC6)*(Y4:Y39=Y6)*(W4:W39=W6)*(O4:O39=O6)*(T4:T39=T6)*(L4:L39=L6)*(AJ4:AJ39=AJ6)*(AK4:AK39=AK6)*(AL4:AL39=AL6)*(AB4:AB39=AB6)*(AA4:AA39>AA6)) -> 0
A7: =SUM(AC7:AH7)+SUM(AN7:AP7)+SUM(AR7:AS7) -> 21 | B7: =Teams!C8 -> Atalanta | C7: =SUM(D7:F7) -> 1 | D7: =SUMPRODUCT(('Group Stages'!E6:E149<>"")*('Group Stages'!F6:F149<>"")*('Group Stages'!D6:D149='Dummy Table'!B7)*('Group Stages'!E6:E149>'Group Stages'!F6:F149)) -> 0 | E7: =SUMPRODUCT(('Group Stages'!E6:E149<>"")*('Group Stages'!F6:F149<>"")*('Group Stages'!D6:D149='Dummy Table'!B7)*('Group Stages'!E6:E149='Group Stages'!F6:F149)) -> 1 | F7: =SUMPRODUCT(('Group Stages'!E6:E149<>"")*('Group Stages'!F6:F149<>"")*('Group Stages'!D6:D149='Dummy Table'!B7)*('Group Stages'!E6:E149<'Group Stages'!F6:F149)) -> 0 | G7: =SUMIF('Group Stages'!D6:D149,'Dummy Table'!B7,'Group Stages'!E6:E149) -> 0 | H7: =SUMIF('Group Stages'!D6:D149,'Dummy Table'!B7,'Group Stages'!F6:F149) -> 0 | I7: =G7-H7 -> 0 | J7: =D7*3+E7*1 -> 1 | K7: =SUM(L7:N7) -> 0 | L7: =SUMPRODUCT(('Group Stages'!E6:E149<>"")*('Group Stages'!F6:F149<>"")*('Group Stages'!G6:G149='Dummy Table'!B7)*('Group Stages'!E6:E149<'Group Stages'!F6:F149)) -> 0 | M7: =SUMPRODUCT(('Group Stages'!E6:E149<>"")*('Group Stages'!F6:F149<>"")*('Group Stages'!G6:G149='Dummy Table'!B7)*('Group Stages'!E6:E149='Group Stages'!F6:F149)) -> 0 | N7: =SUMPRODUCT(('Group Stages'!E6:E149<>"")*('Group Stages'!F6:F149<>"")*('Group Stages'!G6:G149='Dummy Table'!B7)*('Group Stages'!E6:E149>'Group Stages'!F6:F149)) -> 0 | O7: =IF(AM7="",VALUE(SUMIF('Group Stages'!G6:G149,'Dummy Table'!B7,'Group Stages'!F6:F149)),0) -> 0 | P7: =SUMIF('Group Stages'!G6:G149,'Dummy Table'!B7,'Group Stages'!E6:E149) -> 0 | Q7: =O7-P7 -> 0 | R7: =L7*3+M7*1 -> 0 | S7: =C7+K7 -> 1 | T7: =IF(AM7="",D7+L7,0) -> 0 | U7: =E7+M7 -> 1 | V7: =F7+N7 -> 0 | W7: =G7+O7 -> 0 | X7: =H7+P7 -> 0 | Y7: =I7+Q7 -> 0 | Z7: =J7+R7 -> 1 | AA7: =Teams!F8 -> 61000 | AB7: =Teams!G8 -> 0 | AC7: =RANK(Z7,Z4:Z39) -> 16 | AD7: =SUMPRODUCT((AC4:AC39=AC7)*(Y4:Y39>Y7)) -> 0 | AE7: =SUMPRODUCT((AC4:AC39=AC7)*(Y4:Y39=Y7)*(W4:W39>W7)) -> 0 | AF7: =SUMPRODUCT((AC4:AC39=AC7)*(Y4:Y39=Y7)*(W4:W39=W7)*(O4:O39>O7)) -> 0 | AG7: =SUMPRODUCT((AC4:AC39=AC7)*(Y4:Y39=Y7)*(W4:W39=W7)*(O4:O39=O7)*(T4:T39>T7)) -> 0 | AH7: =SUMPRODUCT((AC4:AC39=AC7)*(Y4:Y39=Y7)*(W4:W39=W7)*(O4:O39=O7)*(T4:T39=T7)*(L4:L39>L7)) -> 0 | AI7: 45299 | AJ7: =SUMIFS(Z4:Z39,B4:B39,Teams!I8)+SUMIFS(Z4:Z39,B4:B39,Teams!J8)+SUMIFS(Z4:Z39,B4:B39,Teams!K8)+SUMIFS(Z4:Z39,B4:B39,Teams!L8)+SUMIFS(Z4:Z39,B4:B39,Teams!M8)+SUMIFS(Z4:Z39,B4:B39,Teams!N8)+SUMIFS(Z4:Z39,B4:B39,Teams!O8)+SUMIFS(Z4:Z39,B4:B39,Teams!P8) -> 8 | AK7: =SUMIFS(Y4:Y39,B4:B39,Teams!I8)+SUMIFS(Y4:Y39,B4:B39,Teams!J8)+SUMIFS(Y4:Y39,B4:B39,Teams!K8)+SUMIFS(Y4:Y39,B4:B39,Teams!L8)+SUMIFS(Y4:Y39,B4:B39,Teams!M8)+SUMIFS(Y4:Y39,B4:B39,Teams!N8)+SUMIFS(Y4:Y39,B4:B39,Teams!O8)+SUMIFS(Y4:Y39,B4:B39,Teams!P8) -> -1 | AL7: =SUMIFS(W4:W39,B4:B39,Teams!I8)+SUMIFS(W4:W39,B4:B39,Teams!J8)+SUMIFS(W4:W39,B4:B39,Teams!K8)+SUMIFS(W4:W39,B4:B39,Teams!L8)+SUMIFS(W4:W39,B4:B39,Teams!M8)+SUMIFS(W4:W39,B4:B39,Teams!N8)+SUMIFS(W4:W39,B4:B39,Teams!O8)+SUMIFS(W4:W39,B4:B39,Teams!P8) -> 11 | AM7: =IFERROR(VALUE(IFERROR(INDEX(AI:AI,MATCH(B18,AQ:AQ,0),0),"")),"") | AN7: =SUMPRODUCT((AC4:AC39=AC7)*(Y4:Y39=Y7)*(W4:W39=W7)*(O4:O39=O7)*(T4:T39=T7)*(L4:L39=L7)*(AJ4:AJ39>AJ7)) -> 5 | AO7: =SUMPRODUCT((AC4:AC39=AC7)*(Y4:Y39=Y7)*(W4:W39=W7)*(O4:O39=O7)*(T4:T39=T7)*(L4:L39=L7)*(AJ4:AJ39=AJ7)*(AK4:AK39>AK7)) -> 0 | AP7: =SUMPRODUCT((AC4:AC39=AC7)*(Y4:Y39=Y7)*(W4:W39=W7)*(O4:O39=O7)*(T4:T39=T7)*(L4:L39=L7)*(AJ4:AJ39=AJ7)*(AK4:AK39=AK7)*(AL4:AL39>AL7)) -> 0 | AR7: =SUMPRODUCT((AC4:AC39=AC7)*(Y4:Y39=Y7)*(W4:W39=W7)*(O4:O39=O7)*(T4:T39=T7)*(L4:L39=L7)*(AJ4:AJ39=AJ7)*(AK4:AK39=AK7)*(AL4:AL39=AL7)*(AB4:AB39>AB7)) -> 0 | AS7: =SUMPRODUCT((AC4:AC39=AC7)*(Y4:Y39=Y7)*(W4:W39=W7)*(O4:O39=O7)*(T4:T39=T7)*(L4:L39=L7)*(AJ4:AJ39=AJ7)*(AK4:AK39=AK7)*(AL4:AL39=AL7)*(AB4:AB39=AB7)*(AA4:AA39>AA7)) -> 0
A8: =SUM(AC8:AH8)+SUM(AN8:AP8)+SUM(AR8:AS8) -> 12 | B8: =Teams!C9 -> Atlético Madrid | C8: =SUM(D8:F8) -> 1 | D8: =SUMPRODUCT(('Group Stages'!E6:E149<>"")*('Group Stages'!F6:F149<>"")*('Group Stages'!D6:D149='Dummy Table'!B8)*('Group Stages'!E6:E149>'Group Stages'!F6:F149)) -> 1 | E8: =SUMPRODUCT(('Group Stages'!E6:E149<>"")*('Group Stages'!F6:F149<>"")*('Group Stages'!D6:D149='Dummy Table'!B8)*('Group Stages'!E6:E149='Group Stages'!F6:F149)) -> 0 | F8: =SUMPRODUCT(('Group Stages'!E6:E149<>"")*('Group Stages'!F6:F149<>"")*('Group Stages'!D6:D149='Dummy Table'!B8)*('Group Stages'!E6:E149<'Group Stages'!F6:F149)) -> 0 | G8: =SUMIF('Group Stages'!D6:D149,'Dummy Table'!B8,'Group Stages'!E6:E149) -> 2 | H8: =SUMIF('Group Stages'!D6:D149,'Dummy Table'!B8,'Group Stages'!F6:F149) -> 1 | I8: =G8-H8 -> 1 | J8: =D8*3+E8*1 -> 3 | K8: =SUM(L8:N8) -> 0 | L8: =SUMPRODUCT(('Group Stages'!E6:E149<>"")*('Group Stages'!F6:F149<>"")*('Group Stages'!G6:G149='Dummy Table'!B8)*('Group Stages'!E6:E149<'Group Stages'!F6:F149)) -> 0 | M8: =SUMPRODUCT(('Group Stages'!E6:E149<>"")*('Group Stages'!F6:F149<>"")*('Group Stages'!G6:G149='Dummy Table'!B8)*('Group Stages'!E6:E149='Group Stages'!F6:F149)) -> 0 | N8: =SUMPRODUCT(('Group Stages'!E6:E149<>"")*('Group Stages'!F6:F149<>"")*('Group Stages'!G6:G149='Dummy Table'!B8)*('Group Stages'!E6:E149>'Group Stages'!F6:F149)) -> 0 | O8: =IF(AM8="",VALUE(SUMIF('Group Stages'!G6:G149,'Dummy Table'!B8,'Group Stages'!F6:F149)),0) -> 0 | P8: =SUMIF('Group Stages'!G6:G149,'Dummy Table'!B8,'Group Stages'!E6:E149) -> 0 | Q8: =O8-P8 -> 0 | R8: =L8*3+M8*1 -> 0 | S8: =C8+K8 -> 1 | T8: =IF(AM8="",D8+L8,0) -> 1 | U8: =E8+M8 -> 0 | V8: =F8+N8 -> 0 | W8: =G8+O8 -> 2 | X8: =H8+P8 -> 1 | Y8: =I8+Q8 -> 1 | Z8: =J8+R8 -> 3 | AA8: =Teams!F9 -> 67000 | AB8: =Teams!G9 -> 0 | AC8: =RANK(Z8,Z4:Z39) -> 1 | AD8: =SUMPRODUCT((AC4:AC39=AC8)*(Y4:Y39>Y8)) -> 10 | AE8: =SUMPRODUCT((AC4:AC39=AC8)*(Y4:Y39=Y8)*(W4:W39>W8)) -> 0 | AF8: =SUMPRODUCT((AC4:AC39=AC8)*(Y4:Y39=Y8)*(W4:W39=W8)*(O4:O39>O8)) -> 1 | AG8: =SUMPRODUCT((AC4:AC39=AC8)*(Y4:Y39=Y8)*(W4:W39=W8)*(O4:O39=O8)*(T4:T39>T8)) -> 0 | AH8: =SUMPRODUCT((AC4:AC39=AC8)*(Y4:Y39=Y8)*(W4:W39=W8)*(O4:O39=O8)*(T4:T39=T8)*(L4:L39>L8)) -> 0 | AI8: 45300 | AJ8: =SUMIFS(Z4:Z39,B4:B39,Teams!I9)+SUMIFS(Z4:Z39,B4:B39,Teams!J9)+SUMIFS(Z4:Z39,B4:B39,Teams!K9)+SUMIFS(Z4:Z39,B4:B39,Teams!L9)+SUMIFS(Z4:Z39,B4:B39,Teams!M9)+SUMIFS(Z4:Z39,B4:B39,Teams!N9)+SUMIFS(Z4:Z39,B4:B39,Teams!O9)+SUMIFS(Z4:Z39,B4:B39,Teams!P9) -> 12 | AK8: =SUMIFS(Y4:Y39,B4:B39,Teams!I9)+SUMIFS(Y4:Y39,B4:B39,Teams!J9)+SUMIFS(Y4:Y39,B4:B39,Teams!K9)+SUMIFS(Y4:Y39,B4:B39,Teams!L9)+SUMIFS(Y4:Y39,B4:B39,Teams!M9)+SUMIFS(Y4:Y39,B4:B39,Teams!N9)+SUMIFS(Y4:Y39,B4:B39,Teams!O9)+SUMIFS(Y4:Y39,B4:B39,Teams!P9) -> -1 | AL8: =SUMIFS(W4:W39,B4:B39,Teams!I9)+SUMIFS(W4:W39,B4:B39,Teams!J9)+SUMIFS(W4:W39,B4:B39,Teams!K9)+SUMIFS(W4:W39,B4:B39,Teams!L9)+SUMIFS(W4:W39,B4:B39,Teams!M9)+SUMIFS(W4:W39,B4:B39,Teams!N9)+SUMIFS(W4:W39,B4:B39,Teams!O9)+SUMIFS(W4:W39,B4:B39,Teams!P9) -> 12 | AM8: =IFERROR(VALUE(IFERROR(INDEX(AI:AI,MATCH(B19,AQ:AQ,0),0),"")),"") | AN8: =SUMPRODUCT((AC4:AC39=AC8)*(Y4:Y39=Y8)*(W4:W39=W8)*(O4:O39=O8)*(T4:T39=T8)*(L4:L39=L8)*(AJ4:AJ39>AJ8)) -> 0 | AO8: =SUMPRODUCT((AC4:AC39=AC8)*(Y4:Y39=Y8)*(W4:W39=W8)*(O4:O39=O8)*(T4:T39=T8)*(L4:L39=L8)*(AJ4:AJ39=AJ8)*(AK4:AK39>AK8)) -> 0 | AP8: =SUMPRODUCT((AC4:AC39=AC8)*(Y4:Y39=Y8)*(W4:W39=W8)*(O4:O39=O8)*(T4:T39=T8)*(L4:L39=L8)*(AJ4:AJ39=AJ8)*(AK4:AK39=AK8)*(AL4:AL39>AL8)) -> 0 | AR8: =SUMPRODUCT((AC4:AC39=AC8)*(Y4:Y39=Y8)*(W4:W39=W8)*(O4:O39=O8)*(T4:T39=T8)*(L4:L39=L8)*(AJ4:AJ39=AJ8)*(AK4:AK39=AK8)*(AL4:AL39=AL8)*(AB4:AB39>AB8)) -> 0 | AS8: =SUMPRODUCT((AC4:AC39=AC8)*(Y4:Y39=Y8)*(W4:W39=W8)*(O4:O39=O8)*(T4:T39=T8)*(L4:L39=L8)*(AJ4:AJ39=AJ8)*(AK4:AK39=AK8)*(AL4:AL39=AL8)*(AB4:AB39=AB8)*(AA4:AA39>AA8)) -> 0
A9: =SUM(AC9:AH9)+SUM(AN9:AP9)+SUM(AR9:AS9) -> 23 | B9: =Teams!C10 -> Barcelona | C9: =SUM(D9:F9) -> 0 | D9: =SUMPRODUCT(('Group Stages'!E6:E149<>"")*('Group Stages'!F6:F149<>"")*('Group Stages'!D6:D149='Dummy Table'!B9)*('Group Stages'!E6:E149>'Group Stages'!F6:F149)) -> 0 | E9: =SUMPRODUCT(('Group Stages'!E6:E149<>"")*('Group Stages'!F6:F149<>"")*('Group Stages'!D6:D149='Dummy Table'!B9)*('Group Stages'!E6:E149='Group Stages'!F6:F149)) -> 0 | F9: =SUMPRODUCT(('Group Stages'!E6:E149<>"")*('Group Stages'!F6:F149<>"")*('Group Stages'!D6:D149='Dummy Table'!B9)*('Group Stages'!E6:E149<'Group Stages'!F6:F149)) -> 0 | G9: =SUMIF('Group Stages'!D6:D149,'Dummy Table'!B9,'Group Stages'!E6:E149) -> 0 | H9: =SUMIF('Group Stages'!D6:D149,'Dummy Table'!B9,'Group Stages'!F6:F149) -> 0 | I9: =G9-H9 -> 0 | J9: =D9*3+E9*1 -> 0 | K9: =SUM(L9:N9) -> 1 | L9: =SUMPRODUCT(('Group Stages'!E6:E149<>"")*('Group Stages'!F6:F149<>"")*('Group Stages'!G6:G149='Dummy Table'!B9)*('Group Stages'!E6:E149<'Group Stages'!F6:F149)) -> 0 | M9: =SUMPRODUCT(('Group Stages'!E6:E149<>"")*('Group Stages'!F6:F149<>"")*('Group Stages'!G6:G149='Dummy Table'!B9)*('Group Stages'!E6:E149='Group Stages'!F6:F149)) -> 0 | N9: =SUMPRODUCT(('Group Stages'!E6:E149<>"")*('Group Stages'!F6:F149<>"")*('Group Stages'!G6:G149='Dummy Table'!B9)*('Group Stages'!E6:E149>'Group Stages'!F6:F149)) -> 1 | O9: =IF(AM9="",VALUE(SUMIF('Group Stages'!G6:G149,'Dummy Table'!B9,'Group Stages'!F6:F149)),0) -> 1 | P9: =SUMIF('Group Stages'!G6:G149,'Dummy Table'!B9,'Group Stages'!E6:E149) -> 2 | Q9: =O9-P9 -> -1 | R9: =L9*3+M9*1 -> 0 | S9: =C9+K9 -> 1 | T9: =IF(AM9="",D9+L9,0) -> 0 | U9: =E9+M9 -> 0 | V9: =F9+N9 -> 1 | W9: =G9+O9 -> 1 | X9: =H9+P9 -> 2 | Y9: =I9+Q9 -> -1 | Z9: =J9+R9 -> 0 | AA9: =Teams!F10 -> 67001 | AB9: =Teams!G10 -> 0 | AC9: =RANK(Z9,Z4:Z39) -> 22 | AD9: =SUMPRODUCT((AC4:AC39=AC9)*(Y4:Y39>Y9)) -> 0 | AE9: =SUMPRODUCT((AC4:AC39=AC9)*(Y4:Y39=Y9)*(W4:W39>W9)) -> 0 | AF9: =SUMPRODUCT((AC4:AC39=AC9)*(Y4:Y39=Y9)*(W4:W39=W9)*(O4:O39>O9)) -> 0 | AG9: =SUMPRODUCT((AC4:AC39=AC9)*(Y4:Y39=Y9)*(W4:W39=W9)*(O4:O39=O9)*(T4:T39>T9)) -> 0 | AH9: =SUMPRODUCT((AC4:AC39=AC9)*(Y4:Y39=Y9)*(W4:W39=W9)*(O4:O39=O9)*(T4:T39=T9)*(L4:L39>L9)) -> 0 | AI9: 45301 | AJ9: =SUMIFS(Z4:Z39,B4:B39,Teams!I10)+SUMIFS(Z4:Z39,B4:B39,Teams!J10)+SUMIFS(Z4:Z39,B4:B39,Teams!K10)+SUMIFS(Z4:Z39,B4:B39,Teams!L10)+SUMIFS(Z4:Z39,B4:B39,Teams!M10)+SUMIFS(Z4:Z39,B4:B39,Teams!N10)+SUMIFS(Z4:Z39,B4:B39,Teams!O10)+SUMIFS(Z4:Z39,B4:B39,Teams!P10) -> 16 | AK9: =SUMIFS(Y4:Y39,B4:B39,Teams!I10)+SUMIFS(Y4:Y39,B4:B39,Teams!J10)+SUMIFS(Y4:Y39,B4:B39,Teams!K10)+SUMIFS(Y4:Y39,B4:B39,Teams!L10)+SUMIFS(Y4:Y39,B4:B39,Teams!M10)+SUMIFS(Y4:Y39,B4:B39,Teams!N10)+SUMIFS(Y4:Y39,B4:B39,Teams!O10)+SUMIFS(Y4:Y39,B4:B39,Teams!P10) -> 9 | AL9: =SUMIFS(W4:W39,B4:B39,Teams!I10)+SUMIFS(W4:W39,B4:B39,Teams!J10)+SUMIFS(W4:W39,B4:B39,Teams!K10)+SUMIFS(W4:W39,B4:B39,Teams!L10)+SUMIFS(W4:W39,B4:B39,Teams!M10)+SUMIFS(W4:W39,B4:B39,Teams!N10)+SUMIFS(W4:W39,B4:B39,Teams!O10)+SUMIFS(W4:W39,B4:B39,Teams!P10) -> 19 | AM9: =IFERROR(VALUE(IFERROR(INDEX(AI:AI,MATCH(B20,AQ:AQ,0),0),"")),"") | AN9: =SUMPRODUCT((AC4:AC39=AC9)*(Y4:Y39=Y9)*(W4:W39=W9)*(O4:O39=O9)*(T4:T39=T9)*(L4:L39=L9)*(AJ4:AJ39>AJ9)) -> 1 | AO9: =SUMPRODUCT((AC4:AC39=AC9)*(Y4:Y39=Y9)*(W4:W39=W9)*(O4:O39=O9)*(T4:T39=T9)*(L4:L39=L9)*(AJ4:AJ39=AJ9)*(AK4:AK39>AK9)) -> 0 | AP9: =SUMPRODUCT((AC4:AC39=AC9)*(Y4:Y39=Y9)*(W4:W39=W9)*(O4:O39=O9)*(T4:T39=T9)*(L4:L39=L9)*(AJ4:AJ39=AJ9)*(AK4:AK39=AK9)*(AL4:AL39>AL9)) -> 0 | AR9: =SUMPRODUCT((AC4:AC39=AC9)*(Y4:Y39=Y9)*(W4:W39=W9)*(O4:O39=O9)*(T4:T39=T9)*(L4:L39=L9)*(AJ4:AJ39=AJ9)*(AK4:AK39=AK9)*(AL4:AL39=AL9)*(AB4:AB39>AB9)) -> 0 | AS9: =SUMPRODUCT((AC4:AC39=AC9)*(Y4:Y39=Y9)*(W4:W39=W9)*(O4:O39=O9)*(T4:T39=T9)*(L4:L39=L9)*(AJ4:AJ39=AJ9)*(AK4:AK39=AK9)*(AL4:AL39=AL9)*(AB4:AB39=AB9)*(AA4:AA39>AA9)) -> 0
A10: =SUM(AC10:AH10)+SUM(AN10:AP10)+SUM(AR10:AS10) -> 3 | B10: =Teams!C11 -> Bayer Leverkusen | C10: =SUM(D10:F10) -> 0 | D10: =SUMPRODUCT(('Group Stages'!E6:E149<>"")*('Group Stages'!F6:F149<>"")*('Group Stages'!D6:D149='Dummy Table'!B10)*('Group Stages'!E6:E149>'Group Stages'!F6:F149)) -> 0 | E10: =SUMPRODUCT(('Group Stages'!E6:E149<>"")*('Group Stages'!F6:F149<>"")*('Group Stages'!D6:D149='Dummy Table'!B10)*('Group Stages'!E6:E149='Group Stages'!F6:F149)) -> 0 | F10: =SUMPRODUCT(('Group Stages'!E6:E149<>"")*('Group Stages'!F6:F149<>"")*('Group Stages'!D6:D149='Dummy Table'!B10)*('Group Stages'!E6:E149<'Group Stages'!F6:F149)) -> 0 | G10: =SUMIF('Group Stages'!D6:D149,'Dummy Table'!B10,'Group Stages'!E6:E149) -> 0 | H10: =SUMIF('Group Stages'!D6:D149,'Dummy Table'!B10,'Group Stages'!F6:F149) -> 0 | I10: =G10-H10 -> 0 | J10: =D10*3+E10*1 -> 0 | K10: =SUM(L10:N10) -> 1 | L10: =SUMPRODUCT(('Group Stages'!E6:E149<>"")*('Group Stages'!F6:F149<>"")*('Group Stages'!G6:G149='Dummy Table'!B10)*('Group Stages'!E6:E149<'Group Stages'!F6:F149)) -> 1 | M10: =SUMPRODUCT(('Group Stages'!E6:E149<>"")*('Group Stages'!F6:F149<>"")*('Group Stages'!G6:G149='Dummy Table'!B10)*('Group Stages'!E6:E149='Group Stages'!F6:F149)) -> 0 | N10: =SUMPRODUCT(('Group Stages'!E6:E149<>"")*('Group Stages'!F6:F149<>"")*('Group Stages'!G6:G149='Dummy Table'!B10)*('Group Stages'!E6:E149>'Group Stages'!F6:F149)) -> 0 | O10: =IF(AM10="",VALUE(SUMIF('Group Stages'!G6:G149,'Dummy Table'!B10,'Group Stages'!F6:F149)),0) -> 4 | P10: =SUMIF('Group Stages'!G6:G149,'Dummy Table'!B10,'Group Stages'!E6:E149) -> 0 | Q10: =O10-P10 -> 4 | R10: =L10*3+M10*1 -> 3 | S10: =C10+K10 -> 1 | T10: =IF(AM10="",D10+L10,0) -> 1 | U10: =E10+M10 -> 0 | V10: =F10+N10 -> 0 | W10: =G10+O10 -> 4 | X10: =H10+P10 -> 0 | Y10: =I10+Q10 -> 4 | Z10: =J10+R10 -> 3 | AA10: =Teams!F11 -> 72000 | AB10: =Teams!G11 -> 0 | AC10: =RANK(Z10,Z4:Z39) -> 1 | AD10: =SUMPRODUCT((AC4:AC39=AC10)*(Y4:Y39>Y10)) -> 1 | AE10: =SUMPRODUCT((AC4:AC39=AC10)*(Y4:Y39=Y10)*(W4:W39>W10)) -> 1 | AF10: =SUMPRODUCT((AC4:AC39=AC10)*(Y4:Y39=Y10)*(W4:W39=W10)*(O4:O39>O10)) -> 0 | AG10: =SUMPRODUCT((AC4:AC39=AC10)*(Y4:Y39=Y10)*(W4:W39=W10)*(O4:O39=O10)*(T4:T39>T10)) -> 0 | AH10: =SUMPRODUCT((AC4:AC39=AC10)*(Y4:Y39=Y10)*(W4:W39=W10)*(O4:O39=O10)*(T4:T39=T10)*(L4:L39>L10)) -> 0 | AI10: 45302 | AJ10: =SUMIFS(Z4:Z39,B4:B39,Teams!I11)+SUMIFS(Z4:Z39,B4:B39,Teams!J11)+SUMIFS(Z4:Z39,B4:B39,Teams!K11)+SUMIFS(Z4:Z39,B4:B39,Teams!L11)+SUMIFS(Z4:Z39,B4:B39,Teams!M11)+SUMIFS(Z4:Z39,B4:B39,Teams!N11)+SUMIFS(Z4:Z39,B4:B39,Teams!O11)+SUMIFS(Z4:Z39,B4:B39,Teams!P11) -> 13 | AK10: =SUMIFS(Y4:Y39,B4:B39,Teams!I11)+SUMIFS(Y4:Y39,B4:B39,Teams!J11)+SUMIFS(Y4:Y39,B4:B39,Teams!K11)+SUMIFS(Y4:Y39,B4:B39,Teams!L11)+SUMIFS(Y4:Y39,B4:B39,Teams!M11)+SUMIFS(Y4:Y39,B4:B39,Teams!N11)+SUMIFS(Y4:Y39,B4:B39,Teams!O11)+SUMIFS(Y4:Y39,B4:B39,Teams!P11) -> -2 | AL10: =SUMIFS(W4:W39,B4:B39,Teams!I11)+SUMIFS(W4:W39,B4:B39,Teams!J11)+SUMIFS(W4:W39,B4:B39,Teams!K11)+SUMIFS(W4:W39,B4:B39,Teams!L11)+SUMIFS(W4:W39,B4:B39,Teams!M11)+SUMIFS(W4:W39,B4:B39,Teams!N11)+SUMIFS(W4:W39,B4:B39,Teams!O11)+SUMIFS(W4:W39,B4:B39,Teams!P11) -> 11 | AM10: =IFERROR(VALUE(IFERROR(INDEX(AI:AI,MATCH(B21,AQ:AQ,0),0),"")),"") | AN10: =SUMPRODUCT((AC4:AC39=AC10)*(Y4:Y39=Y10)*(W4:W39=W10)*(O4:O39=O10)*(T4:T39=T10)*(L4:L39=L10)*(AJ4:AJ39>AJ10)) -> 0 | AO10: =SUMPRODUCT((AC4:AC39=AC10)*(Y4:Y39=Y10)*(W4:W39=W10)*(O4:O39=O10)*(T4:T39=T10)*(L4:L39=L10)*(AJ4:AJ39=AJ10)*(AK4:AK39>AK10)) -> 0 | AP10: =SUMPRODUCT((AC4:AC39=AC10)*(Y4:Y39=Y10)*(W4:W39=W10)*(O4:O39=O10)*(T4:T39=T10)*(L4:L39=L10)*(AJ4:AJ39=AJ10)*(AK4:AK39=AK10)*(AL4:AL39>AL10)) -> 0 | AR10: =SUMPRODUCT((AC4:AC39=AC10)*(Y4:Y39=Y10)*(W4:W39=W10)*(O4:O39=O10)*(T4:T39=T10)*(L4:L39=L10)*(AJ4:AJ39=AJ10)*(AK4:AK39=AK10)*(AL4:AL39=AL10)*(AB4:AB39>AB10)) -> 0 | AS10: =SUMPRODUCT((AC4:AC39=AC10)*(Y4:Y39=Y10)*(W4:W39=W10)*(O4:O39=O10)*(T4:T39=T10)*(L4:L39=L10)*(AJ4:AJ39=AJ10)*(AK4:AK39=AK10)*(AL4:AL39=AL10)*(AB4:AB39=AB10)*(AA4:AA39>AA10)) -> 0
A11: =SUM(AC11:AH11)+SUM(AN11:AP11)+SUM(AR11:AS11) -> 1 | B11: =Teams!C12 -> Bayern München | C11: =SUM(D11:F11) -> 1 | D11: =SUMPRODUCT(('Group Stages'!E6:E149<>"")*('Group Stages'!F6:F149<>"")*('Group Stages'!D6:D149='Dummy Table'!B11)*('Group Stages'!E6:E149>'Group Stages'!F6:F149)) -> 1 | E11: =SUMPRODUCT(('Group Stages'!E6:E149<>"")*('Group Stages'!F6:F149<>"")*('Group Stages'!D6:D149='Dummy Table'!B11)*('Group Stages'!E6:E149='Group Stages'!F6:F149)) -> 0 | F11: =SUMPRODUCT(('Group Stages'!E6:E149<>"")*('Group Stages'!F6:F149<>"")*('Group Stages'!D6:D149='Dummy Table'!B11)*('Group Stages'!E6:E149<'Group Stages'!F6:F149)) -> 0 | G11: =SUMIF('Group Stages'!D6:D149,'Dummy Table'!B11,'Group Stages'!E6:E149) -> 9 | H11: =SUMIF('Group Stages'!D6:D149,'Dummy Table'!B11,'Group Stages'!F6:F149) -> 2 | I11: =G11-H11 -> 7 | J11: =D11*3+E11*1 -> 3 | K11: =SUM(L11:N11) -> 0 | L11: =SUMPRODUCT(('Group Stages'!E6:E149<>"")*('Group Stages'!F6:F149<>"")*('Group Stages'!G6:G149='Dummy Table'!B11)*('Group Stages'!E6:E149<'Group Stages'!F6:F149)) -> 0 | M11: =SUMPRODUCT(('Group Stages'!E6:E149<>"")*('Group Stages'!F6:F149<>"")*('Group Stages'!G6:G149='Dummy Table'!B11)*('Group Stages'!E6:E149='Group Stages'!F6:F149)) -> 0 | N11: =SUMPRODUCT(('Group Stages'!E6:E149<>"")*('Group Stages'!F6:F149<>"")*('Group Stages'!G6:G149='Dummy Table'!B11)*('Group Stages'!E6:E149>'Group Stages'!F6:F149)) -> 0 | O11: =IF(AM11="",VALUE(SUMIF('Group Stages'!G6:G149,'Dummy Table'!B11,'Group Stages'!F6:F149)),0) -> 0 | P11: =SUMIF('Group Stages'!G6:G149,'Dummy Table'!B11,'Group Stages'!E6:E149) -> 0 | Q11: =O11-P11 -> 0 | R11: =L11*3+M11*1 -> 0 | S11: =C11+K11 -> 1 | T11: =IF(AM11="",D11+L11,0) -> 1 | U11: =E11+M11 -> 0 | V11: =F11+N11 -> 0 | W11: =G11+O11 -> 9 | X11: =H11+P11 -> 2 | Y11: =I11+Q11 -> 7 | Z11: =J11+R11 -> 3 | AA11: =Teams!F12 -> 108000 | AB11: =Teams!G12 -> 0 | AC11: =RANK(Z11,Z4:Z39) -> 1 | AD11: =SUMPRODUCT((AC4:AC39=AC11)*(Y4:Y39>Y11)) -> 0 | AE11: =SUMPRODUCT((AC4:AC39=AC11)*(Y4:Y39=Y11)*(W4:W39>W11)) -> 0 | AF11: =SUMPRODUCT((AC4:AC39=AC11)*(Y4:Y39=Y11)*(W4:W39=W11)*(O4:O39>O11)) -> 0 | AG11: =SUMPRODUCT((AC4:AC39=AC11)*(Y4:Y39=Y11)*(W4:W39=W11)*(O4:O39=O11)*(T4:T39>T11)) -> 0 | AH11: =SUMPRODUCT((AC4:AC39=AC11)*(Y4:Y39=Y11)*(W4:W39=W11)*(O4:O39=O11)*(T4:T39=T11)*(L4:L39>L11)) -> 0 | AI11: 45303 | AJ11: =SUMIFS(Z4:Z39,B4:B39,Teams!I12)+SUMIFS(Z4:Z39,B4:B39,Teams!J12)+SUMIFS(Z4:Z39,B4:B39,Teams!K12)+SUMIFS(Z4:Z39,B4:B39,Teams!L12)+SUMIFS(Z4:Z39,B4:B39,Teams!M12)+SUMIFS(Z4:Z39,B4:B39,Teams!N12)+SUMIFS(Z4:Z39,B4:B39,Teams!O12)+SUMIFS(Z4:Z39,B4:B39,Teams!P12) -> 10 | AK11: =SUMIFS(Y4:Y39,B4:B39,Teams!I12)+SUMIFS(Y4:Y39,B4:B39,Teams!J12)+SUMIFS(Y4:Y39,B4:B39,Teams!K12)+SUMIFS(Y4:Y39,B4:B39,Teams!L12)+SUMIFS(Y4:Y39,B4:B39,Teams!M12)+SUMIFS(Y4:Y39,B4:B39,Teams!N12)+SUMIFS(Y4:Y39,B4:B39,Teams!O12)+SUMIFS(Y4:Y39,B4:B39,Teams!P12) -> -11 | AL11: =SUMIFS(W4:W39,B4:B39,Teams!I12)+SUMIFS(W4:W39,B4:B39,Teams!J12)+SUMIFS(W4:W39,B4:B39,Teams!K12)+SUMIFS(W4:W39,B4:B39,Teams!L12)+SUMIFS(W4:W39,B4:B39,Teams!M12)+SUMIFS(W4:W39,B4:B39,Teams!N12)+SUMIFS(W4:W39,B4:B39,Teams!O12)+SUMIFS(W4:W39,B4:B39,Teams!P12) -> 10 | AM11: =IFERROR(VALUE(IFERROR(INDEX(AI:AI,MATCH(B22,AQ:AQ,0),0),"")),"") | AN11: =SUMPRODUCT((AC4:AC39=AC11)*(Y4:Y39=Y11)*(W4:W39=W11)*(O4:O39=O11)*(T4:T39=T11)*(L4:L39=L11)*(AJ4:AJ39>AJ11)) -> 0 | AO11: =SUMPRODUCT((AC4:AC39=AC11)*(Y4:Y39=Y11)*(W4:W39=W11)*(O4:O39=O11)*(T4:T39=T11)*(L4:L39=L11)*(AJ4:AJ39=AJ11)*(AK4:AK39>AK11)) -> 0 | AP11: =SUMPRODUCT((AC4:AC39=AC11)*(Y4:Y39=Y11)*(W4:W39=W11)*(O4:O39=O11)*(T4:T39=T11)*(L4:L39=L11)*(AJ4:AJ39=AJ11)*(AK4:AK39=AK11)*(AL4:AL39>AL11)) -> 0 | AR11: =SUMPRODUCT((AC4:AC39=AC11)*(Y4:Y39=Y11)*(W4:W39=W11)*(O4:O39=O11)*(T4:T39=T11)*(L4:L39=L11)*(AJ4:AJ39=AJ11)*(AK4:AK39=AK11)*(AL4:AL39=AL11)*(AB4:AB39>AB11)) -> 0 | AS11: =SUMPRODUCT((AC4:AC39=AC11)*(Y4:Y39=Y11)*(W4:W39=W11)*(O4:O39=O11)*(T4:T39=T11)*(L4:L39=L11)*(AJ4:AJ39=AJ11)*(AK4:AK39=AK11)*(AL4:AL39=AL11)*(AB4:AB39=AB11)*(AA4:AA39>AA11)) -> 0
A12: =SUM(AC12:AH12)+SUM(AN12:AP12)+SUM(AR12:AS12) -> 11 | B12: =Teams!C13 -> Benfica | C12: =SUM(D12:F12) -> 0 | D12: =SUMPRODUCT(('Group Stages'!E6:E149<>"")*('Group Stages'!F6:F149<>"")*('Group Stages'!D6:D149='Dummy Table'!B12)*('Group Stages'!E6:E149>'Group Stages'!F6:F149)) -> 0 | E12: =SUMPRODUCT(('Group Stages'!E6:E149<>"")*('Group Stages'!F6:F149<>"")*('Group Stages'!D6:D149='Dummy Table'!B12)*('Group Stages'!E6:E149='Group Stages'!F6:F149)) -> 0 | F12: =SUMPRODUCT(('Group Stages'!E6:E149<>"")*('Group Stages'!F6:F149<>"")*('Group Stages'!D6:D149='Dummy Table'!B12)*('Group Stages'!E6:E149<'Group Stages'!F6:F149)) -> 0 | G12: =SUMIF('Group Stages'!D6:D149,'Dummy Table'!B12,'Group Stages'!E6:E149) -> 0 | H12: =SUMIF('Group Stages'!D6:D149,'Dummy Table'!B12,'Group Stages'!F6:F149) -> 0 | I12: =G12-H12 -> 0 | J12: =D12*3+E12*1 -> 0 | K12: =SUM(L12:N12) -> 1 | L12: =SUMPRODUCT(('Group Stages'!E6:E149<>"")*('Group Stages'!F6:F149<>"")*('Group Stages'!G6:G149='Dummy Table'!B12)*('Group Stages'!E6:E149<'Group Stages'!F6:F149)) -> 1 | M12: =SUMPRODUCT(('Group Stages'!E6:E149<>"")*('Group Stages'!F6:F149<>"")*('Group Stages'!G6:G149='Dummy Table'!B12)*('Group Stages'!E6:E149='Group Stages'!F6:F149)) -> 0 | N12: =SUMPRODUCT(('Group Stages'!E6:E149<>"")*('Group Stages'!F6:F149<>"")*('Group Stages'!G6:G149='Dummy Table'!B12)*('Group Stages'!E6:E149>'Group Stages'!F6:F149)) -> 0 | O12: =IF(AM12="",VALUE(SUMIF('Group Stages'!G6:G149,'Dummy Table'!B12,'Group Stages'!F6:F149)),0) -> 2 | P12: =SUMIF('Group Stages'!G6:G149,'Dummy Table'!B12,'Group Stages'!E6:E149) -> 1 | Q12: =O12-P12 -> 1 | R12: =L12*3+M12*1 -> 3 | S12: =C12+K12 -> 1 | T12: =IF(AM12="",D12+L12,0) -> 1 | U12: =E12+M12 -> 0 | V12: =F12+N12 -> 0 | W12: =G12+O12 -> 2 | X12: =H12+P12 -> 1 | Y12: =I12+Q12 -> 1 | Z12: =J12+R12 -> 3 | AA12: =Teams!F13 -> 69000 | AB12: =Teams!G13 -> 0 | AC12: =RANK(Z12,Z4:Z39) -> 1 | AD12: =SUMPRODUCT((AC4:AC39=AC12)*(Y4:Y39>Y12)) -> 10 | AE12: =SUMPRODUCT((AC4:AC39=AC12)*(Y4:Y39=Y12)*(W4:W39>W12)) -> 0 | AF12: =SUMPRODUCT((AC4:AC39=AC12)*(Y4:Y39=Y12)*(W4:W39=W12)*(O4:O39>O12)) -> 0 | AG12: =SUMPRODUCT((AC4:AC39=AC12)*(Y4:Y39=Y12)*(W4:W39=W12)*(O4:O39=O12)*(T4:T39>T12)) -> 0 | AH12: =SUMPRODUCT((AC4:AC39=AC12)*(Y4:Y39=Y12)*(W4:W39=W12)*(O4:O39=O12)*(T4:T39=T12)*(L4:L39>L12)) -> 0 | AI12: 45304 | AJ12: =SUMIFS(Z4:Z39,B4:B39,Teams!I13)+SUMIFS(Z4:Z39,B4:B39,Teams!J13)+SUMIFS(Z4:Z39,B4:B39,Teams!K13)+SUMIFS(Z4:Z39,B4:B39,Teams!L13)+SUMIFS(Z4:Z39,B4:B39,Teams!M13)+SUMIFS(Z4:Z39,B4:B39,Teams!N13)+SUMIFS(Z4:Z39,B4:B39,Teams!O13)+SUMIFS(Z4:Z39,B4:B39,Teams!P13) -> 13 | AK12: =SUMIFS(Y4:Y39,B4:B39,Teams!I13)+SUMIFS(Y4:Y39,B4:B39,Teams!J13)+SUMIFS(Y4:Y39,B4:B39,Teams!K13)+SUMIFS(Y4:Y39,B4:B39,Teams!L13)+SUMIFS(Y4:Y39,B4:B39,Teams!M13)+SUMIFS(Y4:Y39,B4:B39,Teams!N13)+SUMIFS(Y4:Y39,B4:B39,Teams!O13)+SUMIFS(Y4:Y39,B4:B39,Teams!P13) -> 5 | AL12: =SUMIFS(W4:W39,B4:B39,Teams!I13)+SUMIFS(W4:W39,B4:B39,Teams!J13)+SUMIFS(W4:W39,B4:B39,Teams!K13)+SUMIFS(W4:W39,B4:B39,Teams!L13)+SUMIFS(W4:W39,B4:B39,Teams!M13)+SUMIFS(W4:W39,B4:B39,Teams!N13)+SUMIFS(W4:W39,B4:B39,Teams!O13)+SUMIFS(W4:W39,B4:B39,Teams!P13) -> 18 | AM12: =IFERROR(VALUE(IFERROR(INDEX(AI:AI,MATCH(B23,AQ:AQ,0),0),"")),"") | AN12: =SUMPRODUCT((AC4:AC39=AC12)*(Y4:Y39=Y12)*(W4:W39=W12)*(O4:O39=O12)*(T4:T39=T12)*(L4:L39=L12)*(AJ4:AJ39>AJ12)) -> 0 | AO12: =SUMPRODUCT((AC4:AC39=AC12)*(Y4:Y39=Y12)*(W4:W39=W12)*(O4:O39=O12)*(T4:T39=T12)*(L4:L39=L12)*(AJ4:AJ39=AJ12)*(AK4:AK39>AK12)) -> 0 | AP12: =SUMPRODUCT((AC4:AC39=AC12)*(Y4:Y39=Y12)*(W4:W39=W12)*(O4:O39=O12)*(T4:T39=T12)*(L4:L39=L12)*(AJ4:AJ39=AJ12)*(AK4:AK39=AK12)*(AL4:AL39>AL12)) -> 0 | AR12: =SUMPRODUCT((AC4:AC39=AC12)*(Y4:Y39=Y12)*(W4:W39=W12)*(O4:O39=O12)*(T4:T39=T12)*(L4:L39=L12)*(AJ4:AJ39=AJ12)*(AK4:AK39=AK12)*(AL4:AL39=AL12)*(AB4:AB39>AB12)) -> 0 | AS12: =SUMPRODUCT((AC4:AC39=AC12)*(Y4:Y39=Y12)*(W4:W39=W12)*(O4:O39=O12)*(T4:T39=T12)*(L4:L39=L12)*(AJ4:AJ39=AJ12)*(AK4:AK39=AK12)*(AL4:AL39=AL12)*(AB4:AB39=AB12)*(AA4:AA39>AA12)) -> 0
A13: =SUM(AC13:AH13)+SUM(AN13:AP13)+SUM(AR13:AS13) -> 16 | B13: =Teams!C14 -> Bologna | C13: =SUM(D13:F13) -> 1 | D13: =SUMPRODUCT(('Group Stages'!E6:E149<>"")*('Group Stages'!F6:F149<>"")*('Group Stages'!D6:D149='Dummy Table'!B13)*('Group Stages'!E6:E149>'Group Stages'!F6:F149)) -> 0 | E13: =SUMPRODUCT(('Group Stages'!E6:E149<>"")*('Group Stages'!F6:F149<>"")*('Group Stages'!D6:D149='Dummy Table'!B13)*('Group Stages'!E6:E149='Group Stages'!F6:F149)) -> 1 | F13: =SUMPRODUCT(('Group Stages'!E6:E149<>"")*('Group Stages'!F6:F149<>"")*('Group Stages'!D6:D149='Dummy Table'!B13)*('Group Stages'!E6:E149<'Group Stages'!F6:F149)) -> 0 | G13: =SUMIF('Group Stages'!D6:D149,'Dummy Table'!B13,'Group Stages'!E6:E149) -> 0 | H13: =SUMIF('Group Stages'!D6:D149,'Dummy Table'!B13,'Group Stages'!F6:F149) -> 0 | I13: =G13-H13 -> 0 | J13: =D13*3+E13*1 -> 1 | K13: =SUM(L13:N13) -> 0 | L13: =SUMPRODUCT(('Group Stages'!E6:E149<>"")*('Group Stages'!F6:F149<>"")*('Group Stages'!G6:G149='Dummy Table'!B13)*('Group Stages'!E6:E149<'Group Stages'!F6:F149)) -> 0 | M13: =SUMPRODUCT(('Group Stages'!E6:E149<>"")*('Group Stages'!F6:F149<>"")*('Group Stages'!G6:G149='Dummy Table'!B13)*('Group Stages'!E6:E149='Group Stages'!F6:F149)) -> 0 | N13: =SUMPRODUCT(('Group Stages'!E6:E149<>"")*('Group Stages'!F6:F149<>"")*('Group Stages'!G6:G149='Dummy Table'!B13)*('Group Stages'!E6:E149>'Group Stages'!F6:F149)) -> 0 | O13: =IF(AM13="",VALUE(SUMIF('Group Stages'!G6:G149,'Dummy Table'!B13,'Group Stages'!F6:F149)),0) -> 0 | P13: =SUMIF('Group Stages'!G6:G149,'Dummy Table'!B13,'Group Stages'!E6:E149) -> 0 | Q13: =O13-P13 -> 0 | R13: =L13*3+M13*1 -> 0 | S13: =C13+K13 -> 1 | T13: =IF(AM13="",D13+L13,0) -> 0 | U13: =E13+M13 -> 1 | V13: =F13+N13 -> 0 | W13: =G13+O13 -> 0 | X13: =H13+P13 -> 0 | Y13: =I13+Q13 -> 0 | Z13: =J13+R13 -> 1 | AA13: =Teams!F14 -> 0 | AB13: =Teams!G14 -> 0 | AC13: =RANK(Z13,Z4:Z39) -> 16 | AD13: =SUMPRODUCT((AC4:AC39=AC13)*(Y4:Y39>Y13)) -> 0 | AE13: =SUMPRODUCT((AC4:AC39=AC13)*(Y4:Y39=Y13)*(W4:W39>W13)) -> 0 | AF13: =SUMPRODUCT((AC4:AC39=AC13)*(Y4:Y39=Y13)*(W4:W39=W13)*(O4:O39>O13)) -> 0 | AG13: =SUMPRODUCT((AC4:AC39=AC13)*(Y4:Y39=Y13)*(W4:W39=W13)*(O4:O39=O13)*(T4:T39>T13)) -> 0 | AH13: =SUMPRODUCT((AC4:AC39=AC13)*(Y4:Y39=Y13)*(W4:W39=W13)*(O4:O39=O13)*(T4:T39=T13)*(L4:L39>L13)) -> 0 | AJ13: =SUMIFS(Z4:Z39,B4:B39,Teams!I14)+SUMIFS(Z4:Z39,B4:B39,Teams!J14)+SUMIFS(Z4:Z39,B4:B39,Teams!K14)+SUMIFS(Z4:Z39,B4:B39,Teams!L14)+SUMIFS(Z4:Z39,B4:B39,Teams!M14)+SUMIFS(Z4:Z39,B4:B39,Teams!N14)+SUMIFS(Z4:Z39,B4:B39,Teams!O14)+SUMIFS(Z4:Z39,B4:B39,Teams!P14) -> 19 | AK13: =SUMIFS(Y4:Y39,B4:B39,Teams!I14)+SUMIFS(Y4:Y39,B4:B39,Teams!J14)+SUMIFS(Y4:Y39,B4:B39,Teams!K14)+SUMIFS(Y4:Y39,B4:B39,Teams!L14)+SUMIFS(Y4:Y39,B4:B39,Teams!M14)+SUMIFS(Y4:Y39,B4:B39,Teams!N14)+SUMIFS(Y4:Y39,B4:B39,Teams!O14)+SUMIFS(Y4:Y39,B4:B39,Teams!P14) -> 10 | AL13: =SUMIFS(W4:W39,B4:B39,Teams!I14)+SUMIFS(W4:W39,B4:B39,Teams!J14)+SUMIFS(W4:W39,B4:B39,Teams!K14)+SUMIFS(W4:W39,B4:B39,Teams!L14)+SUMIFS(W4:W39,B4:B39,Teams!M14)+SUMIFS(W4:W39,B4:B39,Teams!N14)+SUMIFS(W4:W39,B4:B39,Teams!O14)+SUMIFS(W4:W39,B4:B39,Teams!P14) -> 15 | AM13: =IFERROR(VALUE(IFERROR(INDEX(AI:AI,MATCH(B24,AQ:AQ,0),0),"")),"") | AN13: =SUMPRODUCT((AC4:AC39=AC13)*(Y4:Y39=Y13)*(W4:W39=W13)*(O4:O39=O13)*(T4:T39=T13)*(L4:L39=L13)*(AJ4:AJ39>AJ13)) -> 0 | AO13: =SUMPRODUCT((AC4:AC39=AC13)*(Y4:Y39=Y13)*(W4:W39=W13)*(O4:O39=O13)*(T4:T39=T13)*(L4:L39=L13)*(AJ4:AJ39=AJ13)*(AK4:AK39>AK13)) -> 0 | AP13: =SUMPRODUCT((AC4:AC39=AC13)*(Y4:Y39=Y13)*(W4:W39=W13)*(O4:O39=O13)*(T4:T39=T13)*(L4:L39=L13)*(AJ4:AJ39=AJ13)*(AK4:AK39=AK13)*(AL4:AL39>AL13)) -> 0 | AR13: =SUMPRODUCT((AC4:AC39=AC13)*(Y4:Y39=Y13)*(W4:W39=W13)*(O4:O39=O13)*(T4:T39=T13)*(L4:L39=L13)*(AJ4:AJ39=AJ13)*(AK4:AK39=AK13)*(AL4:AL39=AL13)*(AB4:AB39>AB13)) -> 0 | AS13: =SUMPRODUCT((AC4:AC39=AC13)*(Y4:Y39=Y13)*(W4:W39=W13)*(O4:O39=O13)*(T4:T39=T13)*(L4:L39=L13)*(AJ4:AJ39=AJ13)*(AK4:AK39=AK13)*(AL4:AL39=AL13)*(AB4:AB39=AB13)*(AA4:AA39>AA13)) -> 0
A14: =SUM(AC14:AH14)+SUM(AN14:AP14)+SUM(AR14:AS14) -> 5 | B14: =Teams!C15 -> Borussia Dortmund | C14: =SUM(D14:F14) -> 0 | D14: =SUMPRODUCT(('Group Stages'!E6:E149<>"")*('Group Stages'!F6:F149<>"")*('Group Stages'!D6:D149='Dummy Table'!B14)*('Group Stages'!E6:E149>'Group Stages'!F6:F149)) -> 0 | E14: =SUMPRODUCT(('Group Stages'!E6:E149<>"")*('Group Stages'!F6:F149<>"")*('Group Stages'!D6:D149='Dummy Table'!B14)*('Group Stages'!E6:E149='Group Stages'!F6:F149)) -> 0 | F14: =SUMPRODUCT(('Group Stages'!E6:E149<>"")*('Group Stages'!F6:F149<>"")*('Group Stages'!D6:D149='Dummy Table'!B14)*('Group Stages'!E6:E149<'Group Stages'!F6:F149)) -> 0 | G14: =SUMIF('Group Stages'!D6:D149,'Dummy Table'!B14,'Group Stages'!E6:E149) -> 0 | H14: =SUMIF('Group Stages'!D6:D149,'Dummy Table'!B14,'Group Stages'!F6:F149) -> 0 | I14: =G14-H14 -> 0 | J14: =D14*3+E14*1 -> 0 | K14: =SUM(L14:N14) -> 1 | L14: =SUMPRODUCT(('Group Stages'!E6:E149<>"")*('Group Stages'!F6:F149<>"")*('Group Stages'!G6:G149='Dummy Table'!B14)*('Group Stages'!E6:E149<'Group Stages'!F6:F149)) -> 1 | M14: =SUMPRODUCT(('Group Stages'!E6:E149<>"")*('Group Stages'!F6:F149<>"")*('Group Stages'!G6:G149='Dummy Table'!B14)*('Group Stages'!E6:E149='Group Stages'!F6:F149)) -> 0 | N14: =SUMPRODUCT(('Group Stages'!E6:E149<>"")*('Group Stages'!F6:F149<>"")*('Group Stages'!G6:G149='Dummy Table'!B14)*('Group Stages'!E6:E149>'Group Stages'!F6:F149)) -> 0 | O14: =IF(AM14="",VALUE(SUMIF('Group Stages'!G6:G149,'Dummy Table'!B14,'Group Stages'!F6:F149)),0) -> 3 | P14: =SUMIF('Group Stages'!G6:G149,'Dummy Table'!B14,'Group Stages'!E6:E149) -> 0 | Q14: =O14-P14 -> 3 | R14: =L14*3+M14*1 -> 3 | S14: =C14+K14 -> 1 | T14: =IF(AM14="",D14+L14,0) -> 1 | U14: =E14+M14 -> 0 | V14: =F14+N14 -> 0 | W14: =G14+O14 -> 3 | X14: =H14+P14 -> 0 | Y14: =I14+Q14 -> 3 | Z14: =J14+R14 -> 3 | AA14: =Teams!F15 -> 79000 | AB14: =Teams!G15 -> 0 | AC14: =RANK(Z14,Z4:Z39) -> 1 | AD14: =SUMPRODUCT((AC4:AC39=AC14)*(Y4:Y39>Y14)) -> 3 | AE14: =SUMPRODUCT((AC4:AC39=AC14)*(Y4:Y39=Y14)*(W4:W39>W14)) -> 0 | AF14: =SUMPRODUCT((AC4:AC39=AC14)*(Y4:Y39=Y14)*(W4:W39=W14)*(O4:O39>O14)) -> 0 | AG14: =SUMPRODUCT((AC4:AC39=AC14)*(Y4:Y39=Y14)*(W4:W39=W14)*(O4:O39=O14)*(T4:T39>T14)) -> 0 | AH14: =SUMPRODUCT((AC4:AC39=AC14)*(Y4:Y39=Y14)*(W4:W39=W14)*(O4:O39=O14)*(T4:T39=T14)*(L4:L39>L14)) -> 0 | AJ14: =SUMIFS(Z4:Z39,B4:B39,Teams!I15)+SUMIFS(Z4:Z39,B4:B39,Teams!J15)+SUMIFS(Z4:Z39,B4:B39,Teams!K15)+SUMIFS(Z4:Z39,B4:B39,Teams!L15)+SUMIFS(Z4:Z39,B4:B39,Teams!M15)+SUMIFS(Z4:Z39,B4:B39,Teams!N15)+SUMIFS(Z4:Z39,B4:B39,Teams!O15)+SUMIFS(Z4:Z39,B4:B39,Teams!P15) -> 8 | AK14: =SUMIFS(Y4:Y39,B4:B39,Teams!I15)+SUMIFS(Y4:Y39,B4:B39,Teams!J15)+SUMIFS(Y4:Y39,B4:B39,Teams!K15)+SUMIFS(Y4:Y39,B4:B39,Teams!L15)+SUMIFS(Y4:Y39,B4:B39,Teams!M15)+SUMIFS(Y4:Y39,B4:B39,Teams!N15)+SUMIFS(Y4:Y39,B4:B39,Teams!O15)+SUMIFS(Y4:Y39,B4:B39,Teams!P15) -> -6 | AL14: =SUMIFS(W4:W39,B4:B39,Teams!I15)+SUMIFS(W4:W39,B4:B39,Teams!J15)+SUMIFS(W4:W39,B4:B39,Teams!K15)+SUMIFS(W4:W39,B4:B39,Teams!L15)+SUMIFS(W4:W39,B4:B39,Teams!M15)+SUMIFS(W4:W39,B4:B39,Teams!N15)+SUMIFS(W4:W39,B4:B39,Teams!O15)+SUMIFS(W4:W39,B4:B39,Teams!P15) -> 12 | AM14: =IFERROR(VALUE(IFERROR(INDEX(AI:AI,MATCH(B25,AQ:AQ,0),0),"")),"") | AN14: =SUMPRODUCT((AC4:AC39=AC14)*(Y4:Y39=Y14)*(W4:W39=W14)*(O4:O39=O14)*(T4:T39=T14)*(L4:L39=L14)*(AJ4:AJ39>AJ14)) -> 1 | AO14: =SUMPRODUCT((AC4:AC39=AC14)*(Y4:Y39=Y14)*(W4:W39=W14)*(O4:O39=O14)*(T4:T39=T14)*(L4:L39=L14)*(AJ4:AJ39=AJ14)*(AK4:AK39>AK14)) -> 0 | AP14: =SUMPRODUCT((AC4:AC39=AC14)*(Y4:Y39=Y14)*(W4:W39=W14)*(O4:O39=O14)*(T4:T39=T14)*(L4:L39=L14)*(AJ4:AJ39=AJ14)*(AK4:AK39=AK14)*(AL4:AL39>AL14)) -> 0 | AR14: =SUMPRODUCT((AC4:AC39=AC14)*(Y4:Y39=Y14)*(W4:W39=W14)*(O4:O39=O14)*(T4:T39=T14)*(L4:L39=L14)*(AJ4:AJ39=AJ14)*(AK4:AK39=AK14)*(AL4:AL39=AL14)*(AB4:AB39>AB14)) -> 0 | AS14: =SUMPRODUCT((AC4:AC39=AC14)*(Y4:Y39=Y14)*(W4:W39=W14)*(O4:O39=O14)*(T4:T39=T14)*(L4:L39=L14)*(AJ4:AJ39=AJ14)*(AK4:AK39=AK14)*(AL4:AL39=AL14)*(AB4:AB39=AB14)*(AA4:AA39>AA14)) -> 0
A15: =SUM(AC15:AH15)+SUM(AN15:AP15)+SUM(AR15:AS15) -> 13 | B15: =Teams!C16 -> Brest | C15: =SUM(D15:F15) -> 1 | D15: =SUMPRODUCT(('Group Stages'!E6:E149<>"")*('Group Stages'!F6:F149<>"")*('Group Stages'!D6:D149='Dummy Table'!B15)*('Group Stages'!E6:E149>'Group Stages'!F6:F149)) -> 1 | E15: =SUMPRODUCT(('Group Stages'!E6:E149<>"")*('Group Stages'!F6:F149<>"")*('Group Stages'!D6:D149='Dummy Table'!B15)*('Group Stages'!E6:E149='Group Stages'!F6:F149)) -> 0 | F15: =SUMPRODUCT(('Group Stages'!E6:E149<>"")*('Group Stages'!F6:F149<>"")*('Group Stages'!D6:D149='Dummy Table'!B15)*('Group Stages'!E6:E149<'Group Stages'!F6:F149)) -> 0 | G15: =SUMIF('Group Stages'!D6:D149,'Dummy Table'!B15,'Group Stages'!E6:E149) -> 2 | H15: =SUMIF('Group Stages'!D6:D149,'Dummy Table'!B15,'Group Stages'!F6:F149) -> 1 | I15: =G15-H15 -> 1 | J15: =D15*3+E15*1 -> 3 | K15: =SUM(L15:N15) -> 0 | L15: =SUMPRODUCT(('Group Stages'!E6:E149<>"")*('Group Stages'!F6:F149<>"")*('Group Stages'!G6:G149='Dummy Table'!B15)*('Group Stages'!E6:E149<'Group Stages'!F6:F149)) -> 0 | M15: =SUMPRODUCT(('Group Stages'!E6:E149<>"")*('Group Stages'!F6:F149<>"")*('Group Stages'!G6:G149='Dummy Table'!B15)*('Group Stages'!E6:E149='Group Stages'!F6:F149)) -> 0 | N15: =SUMPRODUCT(('Group Stages'!E6:E149<>"")*('Group Stages'!F6:F149<>"")*('Group Stages'!G6:G149='Dummy Table'!B15)*('Group Stages'!E6:E149>'Group Stages'!F6:F149)) -> 0 | O15: =IF(AM15="",VALUE(SUMIF('Group Stages'!G6:G149,'Dummy Table'!B15,'Group Stages'!F6:F149)),0) -> 0 | P15: =SUMIF('Group Stages'!G6:G149,'Dummy Table'!B15,'Group Stages'!E6:E149) -> 0 | Q15: =O15-P15 -> 0 | R15: =L15*3+M15*1 -> 0 | S15: =C15+K15 -> 1 | T15: =IF(AM15="",D15+L15,0) -> 1 | U15: =E15+M15 -> 0 | V15: =F15+N15 -> 0 | W15: =G15+O15 -> 2 | X15: =H15+P15 -> 1 | Y15: =I15+Q15 -> 1 | Z15: =J15+R15 -> 3 | AA15: =Teams!F16 -> 1 | AB15: =Teams!G16 -> 0 | AC15: =RANK(Z15,Z4:Z39) -> 1 | AD15: =SUMPRODUCT((AC4:AC39=AC15)*(Y4:Y39>Y15)) -> 10 | AE15: =SUMPRODUCT((AC4:AC39=AC15)*(Y4:Y39=Y15)*(W4:W39>W15)) -> 0 | AF15: =SUMPRODUCT((AC4:AC39=AC15)*(Y4:Y39=Y15)*(W4:W39=W15)*(O4:O39>O15)) -> 1 | AG15: =SUMPRODUCT((AC4:AC39=AC15)*(Y4:Y39=Y15)*(W4:W39=W15)*(O4:O39=O15)*(T4:T39>T15)) -> 0 | AH15: =SUMPRODUCT((AC4:AC39=AC15)*(Y4:Y39=Y15)*(W4:W39=W15)*(O4:O39=O15)*(T4:T39=T15)*(L4:L39>L15)) -> 0 | AJ15: =SUMIFS(Z4:Z39,B4:B39,Teams!I16)+SUMIFS(Z4:Z39,B4:B39,Teams!J16)+SUMIFS(Z4:Z39,B4:B39,Teams!K16)+SUMIFS(Z4:Z39,B4:B39,Teams!L16)+SUMIFS(Z4:Z39,B4:B39,Teams!M16)+SUMIFS(Z4:Z39,B4:B39,Teams!N16)+SUMIFS(Z4:Z39,B4:B39,Teams!O16)+SUMIFS(Z4:Z39,B4:B39,Teams!P16) -> 10 | AK15: =SUMIFS(Y4:Y39,B4:B39,Teams!I16)+SUMIFS(Y4:Y39,B4:B39,Teams!J16)+SUMIFS(Y4:Y39,B4:B39,Teams!K16)+SUMIFS(Y4:Y39,B4:B39,Teams!L16)+SUMIFS(Y4:Y39,B4:B39,Teams!M16)+SUMIFS(Y4:Y39,B4:B39,Teams!N16)+SUMIFS(Y4:Y39,B4:B39,Teams!O16)+SUMIFS(Y4:Y39,B4:B39,Teams!P16) -> 2 | AL15: =SUMIFS(W4:W39,B4:B39,Teams!I16)+SUMIFS(W4:W39,B4:B39,Teams!J16)+SUMIFS(W4:W39,B4:B39,Teams!K16)+SUMIFS(W4:W39,B4:B39,Teams!L16)+SUMIFS(W4:W39,B4:B39,Teams!M16)+SUMIFS(W4:W39,B4:B39,Teams!N16)+SUMIFS(W4:W39,B4:B39,Teams!O16)+SUMIFS(W4:W39,B4:B39,Teams!P16) -> 13 | AM15: =IFERROR(VALUE(IFERROR(INDEX(AI:AI,MATCH(B26,AQ:AQ,0),0),"")),"") | AN15: =SUMPRODUCT((AC4:AC39=AC15)*(Y4:Y39=Y15)*(W4:W39=W15)*(O4:O39=O15)*(T4:T39=T15)*(L4:L39=L15)*(AJ4:AJ39>AJ15)) -> 1 | AO15: =SUMPRODUCT((AC4:AC39=AC15)*(Y4:Y39=Y15)*(W4:W39=W15)*(O4:O39=O15)*(T4:T39=T15)*(L4:L39=L15)*(AJ4:AJ39=AJ15)*(AK4:AK39>AK15)) -> 0 | AP15: =SUMPRODUCT((AC4:AC39=AC15)*(Y4:Y39=Y15)*(W4:W39=W15)*(O4:O39=O15)*(T4:T39=T15)*(L4:L39=L15)*(AJ4:AJ39=AJ15)*(AK4:AK39=AK15)*(AL4:AL39>AL15)) -> 0 | AR15: =SUMPRODUCT((AC4:AC39=AC15)*(Y4:Y39=Y15)*(W4:W39=W15)*(O4:O39=O15)*(T4:T39=T15)*(L4:L39=L15)*(AJ4:AJ39=AJ15)*(AK4:AK39=AK15)*(AL4:AL39=AL15)*(AB4:AB39>AB15)) -> 0 | AS15: =SUMPRODUCT((AC4:AC39=AC15)*(Y4:Y39=Y15)*(W4:W39=W15)*(O4:O39=O15)*(T4:T39=T15)*(L4:L39=L15)*(AJ4:AJ39=AJ15)*(AK4:AK39=AK15)*(AL4:AL39=AL15)*(AB4:AB39=AB15)*(AA4:AA39>AA15)) -> 0
A16: =SUM(AC16:AH16)+SUM(AN16:AP16)+SUM(AR16:AS16) -> 2 | B16: =Teams!C17 -> Celtic | C16: =SUM(D16:F16) -> 1 | D16: =SUMPRODUCT(('Group Stages'!E6:E149<>"")*('Group Stages'!F6:F149<>"")*('Group Stages'!D6:D149='Dummy Table'!B16)*('Group Stages'!E6:E149>'Group Stages'!F6:F149)) -> 1 | E16: =SUMPRODUCT(('Group Stages'!E6:E149<>"")*('Group Stages'!F6:F149<>"")*('Group Stages'!D6:D149='Dummy Table'!B16)*('Group Stages'!E6:E149='Group Stages'!F6:F149)) -> 0 | F16: =SUMPRODUCT(('Group Stages'!E6:E149<>"")*('Group Stages'!F6:F149<>"")*('Group Stages'!D6:D149='Dummy Table'!B16)*('Group Stages'!E6:E149<'Group Stages'!F6:F149)) -> 0 | G16: =SUMIF('Group Stages'!D6:D149,'Dummy Table'!B16,'Group Stages'!E6:E149) -> 5 | H16: =SUMIF('Group Stages'!D6:D149,'Dummy Table'!B16,'Group Stages'!F6:F149) -> 1 | I16: =G16-H16 -> 4 | J16: =D16*3+E16*1 -> 3 | K16: =SUM(L16:N16) -> 0 | L16: =SUMPRODUCT(('Group Stages'!E6:E149<>"")*('Group Stages'!F6:F149<>"")*('Group Stages'!G6:G149='Dummy Table'!B16)*('Group Stages'!E6:E149<'Group Stages'!F6:F149)) -> 0 | M16: =SUMPRODUCT(('Group Stages'!E6:E149<>"")*('Group Stages'!F6:F149<>"")*('Group Stages'!G6:G149='Dummy Table'!B16)*('Group Stages'!E6:E149='Group Stages'!F6:F149)) -> 0 | N16: =SUMPRODUCT(('Group Stages'!E6:E149<>"")*('Group Stages'!F6:F149<>"")*('Group Stages'!G6:G149='Dummy Table'!B16)*('Group Stages'!E6:E149>'Group Stages'!F6:F149)) -> 0 | O16: =IF(AM16="",VALUE(SUMIF('Group Stages'!G6:G149,'Dummy Table'!B16,'Group Stages'!F6:F149)),0) -> 0 | P16: =SUMIF('Group Stages'!G6:G149,'Dummy Table'!B16,'Group Stages'!E6:E149) -> 0 | Q16: =O16-P16 -> 0 | R16: =L16*3+M16*1 -> 0 | S16: =C16+K16 -> 1 | T16: =IF(AM16="",D16+L16,0) -> 1 | U16: =E16+M16 -> 0 | V16: =F16+N16 -> 0 | W16: =G16+O16 -> 5 | X16: =H16+P16 -> 1 | Y16: =I16+Q16 -> 4 | Z16: =J16+R16 -> 3 | AA16: =IF(LEFT('Group Stages'!B151,6)="© 2024",Teams!F17,96000) -> 22000 | AB16: =Teams!G17 -> 0 | AC16: =RANK(Z16,Z4:Z39) -> 1 | AD16: =SUMPRODUCT((AC4:AC39=AC16)*(Y4:Y39>Y16)) -> 1 | AE16: =SUMPRODUCT((AC4:AC39=AC16)*(Y4:Y39=Y16)*(W4:W39>W16)) -> 0 | AF16: =SUMPRODUCT((AC4:AC39=AC16)*(Y4:Y39=Y16)*(W4:W39=W16)*(O4:O39>O16)) -> 0 | AG16: =SUMPRODUCT((AC4:AC39=AC16)*(Y4:Y39=Y16)*(W4:W39=W16)*(O4:O39=O16)*(T4:T39>T16)) -> 0 | AH16: =SUMPRODUCT((AC4:AC39=AC16)*(Y4:Y39=Y16)*(W4:W39=W16)*(O4:O39=O16)*(T4:T39=T16)*(L4:L39>L16)) -> 0 | AJ16: =SUMIFS(Z4:Z39,B4:B39,Teams!I17)+SUMIFS(Z4:Z39,B4:B39,Teams!J17)+SUMIFS(Z4:Z39,B4:B39,Teams!K17)+SUMIFS(Z4:Z39,B4:B39,Teams!L17)+SUMIFS(Z4:Z39,B4:B39,Teams!M17)+SUMIFS(Z4:Z39,B4:B39,Teams!N17)+SUMIFS(Z4:Z39,B4:B39,Teams!O17)+SUMIFS(Z4:Z39,B4:B39,Teams!P17) -> 7 | AK16: =SUMIFS(Y4:Y39,B4:B39,Teams!I17)+SUMIFS(Y4:Y39,B4:B39,Teams!J17)+SUMIFS(Y4:Y39,B4:B39,Teams!K17)+SUMIFS(Y4:Y39,B4:B39,Teams!L17)+SUMIFS(Y4:Y39,B4:B39,Teams!M17)+SUMIFS(Y4:Y39,B4:B39,Teams!N17)+SUMIFS(Y4:Y39,B4:B39,Teams!O17)+SUMIFS(Y4:Y39,B4:B39,Teams!P17) -> -12 | AL16: =SUMIFS(W4:W39,B4:B39,Teams!I17)+SUMIFS(W4:W39,B4:B39,Teams!J17)+SUMIFS(W4:W39,B4:B39,Teams!K17)+SUMIFS(W4:W39,B4:B39,Teams!L17)+SUMIFS(W4:W39,B4:B39,Teams!M17)+SUMIFS(W4:W39,B4:B39,Teams!N17)+SUMIFS(W4:W39,B4:B39,Teams!O17)+SUMIFS(W4:W39,B4:B39,Teams!P17) -> 10 | AM16: =IFERROR(VALUE(IFERROR(INDEX(AI:AI,MATCH(B27,AQ:AQ,0),0),"")),"") | AN16: =SUMPRODUCT((AC4:AC39=AC16)*(Y4:Y39=Y16)*(W4:W39=W16)*(O4:O39=O16)*(T4:T39=T16)*(L4:L39=L16)*(AJ4:AJ39>AJ16)) -> 0 | AO16: =SUMPRODUCT((AC4:AC39=AC16)*(Y4:Y39=Y16)*(W4:W39=W16)*(O4:O39=O16)*(T4:T39=T16)*(L4:L39=L16)*(AJ4:AJ39=AJ16)*(AK4:AK39>AK16)) -> 0 | AP16: =SUMPRODUCT((AC4:AC39=AC16)*(Y4:Y39=Y16)*(W4:W39=W16)*(O4:O39=O16)*(T4:T39=T16)*(L4:L39=L16)*(AJ4:AJ39=AJ16)*(AK4:AK39=AK16)*(AL4:AL39>AL16)) -> 0 | AR16: =SUMPRODUCT((AC4:AC39=AC16)*(Y4:Y39=Y16)*(W4:W39=W16)*(O4:O39=O16)*(T4:T39=T16)*(L4:L39=L16)*(AJ4:AJ39=AJ16)*(AK4:AK39=AK16)*(AL4:AL39=AL16)*(AB4:AB39>AB16)) -> 0 | AS16: =SUMPRODUCT((AC4:AC39=AC16)*(Y4:Y39=Y16)*(W4:W39=W16)*(O4:O39=O16)*(T4:T39=T16)*(L4:L39=L16)*(AJ4:AJ39=AJ16)*(AK4:AK39=AK16)*(AL4:AL39=AL16)*(AB4:AB39=AB16)*(AA4:AA39>AA16)) -> 0
A17: =SUM(AC17:AH17)+SUM(AN17:AP17)+SUM(AR17:AS17) -> 32 | B17: =Teams!C18 -> Club Brugge | C17: =SUM(D17:F17) -> 1 | D17: =SUMPRODUCT(('Group Stages'!E6:E149<>"")*('Group Stages'!F6:F149<>"")*('Group Stages'!D6:D149='Dummy Table'!B17)*('Group Stages'!E6:E149>'Group Stages'!F6:F149)) -> 0 | E17: =SUMPRODUCT(('Group Stages'!E6:E149<>"")*('Group Stages'!F6:F149<>"")*('Group Stages'!D6:D149='Dummy Table'!B17)*('Group Stages'!E6:E149='Group Stages'!F6:F149)) -> 0 | F17: =SUMPRODUCT(('Group Stages'!E6:E149<>"")*('Group Stages'!F6:F149<>"")*('Group Stages'!D6:D149='Dummy Table'!B17)*('Group Stages'!E6:E149<'Group Stages'!F6:F149)) -> 1 | G17: =SUMIF('Group Stages'!D6:D149,'Dummy Table'!B17,'Group Stages'!E6:E149) -> 0 | H17: =SUMIF('Group Stages'!D6:D149,'Dummy Table'!B17,'Group Stages'!F6:F149) -> 3 | I17: =G17-H17 -> -3 | J17: =D17*3+E17*1 -> 0 | K17: =SUM(L17:N17) -> 0 | L17: =SUMPRODUCT(('Group Stages'!E6:E149<>"")*('Group Stages'!F6:F149<>"")*('Group Stages'!G6:G149='Dummy Table'!B17)*('Group Stages'!E6:E149<'Group Stages'!F6:F149)) -> 0 | M17: =SUMPRODUCT(('Group Stages'!E6:E149<>"")*('Group Stages'!F6:F149<>"")*('Group Stages'!G6:G149='Dummy Table'!B17)*('Group Stages'!E6:E149='Group Stages'!F6:F149)) -> 0 | N17: =SUMPRODUCT(('Group Stages'!E6:E149<>"")*('Group Stages'!F6:F149<>"")*('Group Stages'!G6:G149='Dummy Table'!B17)*('Group Stages'!E6:E149>'Group Stages'!F6:F149)) -> 0 | O17: =IF(AM17="",VALUE(SUMIF('Group Stages'!G6:G149,'Dummy Table'!B17,'Group Stages'!F6:F149)),0) -> 0 | P17: =SUMIF('Group Stages'!G6:G149,'Dummy Table'!B17,'Group Stages'!E6:E149) -> 0 | Q17: =O17-P17 -> 0 | R17: =L17*3+M17*1 -> 0 | S17: =C17+K17 -> 1 | T17: =IF(AM17="",D17+L17,0) -> 0 | U17: =E17+M17 -> 0 | V17: =F17+N17 -> 1 | W17: =G17+O17 -> 0 | X17: =H17+P17 -> 3 | Y17: =I17+Q17 -> -3 | Z17: =J17+R17 -> 0 | AA17: =IF(LEFT('Group Stages'!B151,6)="© 2024",Teams!F18,96000) -> 56000 | AB17: =Teams!G18 -> 0 | AC17: =RANK(Z17,Z4:Z39) -> 22 | AD17: =SUMPRODUCT((AC4:AC39=AC17)*(Y4:Y39>Y17)) -> 9 | AE17: =SUMPRODUCT((AC4:AC39=AC17)*(Y4:Y39=Y17)*(W4:W39>W17)) -> 0 | AF17: =SUMPRODUCT((AC4:AC39=AC17)*(Y4:Y39=Y17)*(W4:W39=W17)*(O4:O39>O17)) -> 0 | AG17: =SUMPRODUCT((AC4:AC39=AC17)*(Y4:Y39=Y17)*(W4:W39=W17)*(O4:O39=O17)*(T4:T39>T17)) -> 0 | AH17: =SUMPRODUCT((AC4:AC39=AC17)*(Y4:Y39=Y17)*(W4:W39=W17)*(O4:O39=O17)*(T4:T39=T17)*(L4:L39>L17)) -> 0 | AJ17: =SUMIFS(Z4:Z39,B4:B39,Teams!I18)+SUMIFS(Z4:Z39,B4:B39,Teams!J18)+SUMIFS(Z4:Z39,B4:B39,Teams!K18)+SUMIFS(Z4:Z39,B4:B39,Teams!L18)+SUMIFS(Z4:Z39,B4:B39,Teams!M18)+SUMIFS(Z4:Z39,B4:B39,Teams!N18)+SUMIFS(Z4:Z39,B4:B39,Teams!O18)+SUMIFS(Z4:Z39,B4:B39,Teams!P18) -> 16 | AK17: =SUMIFS(Y4:Y39,B4:B39,Teams!I18)+SUMIFS(Y4:Y39,B4:B39,Teams!J18)+SUMIFS(Y4:Y39,B4:B39,Teams!K18)+SUMIFS(Y4:Y39,B4:B39,Teams!L18)+SUMIFS(Y4:Y39,B4:B39,Teams!M18)+SUMIFS(Y4:Y39,B4:B39,Teams!N18)+SUMIFS(Y4:Y39,B4:B39,Teams!O18)+SUMIFS(Y4:Y39,B4:B39,Teams!P18) -> 11 | AL17: =SUMIFS(W4:W39,B4:B39,Teams!I18)+SUMIFS(W4:W39,B4:B39,Teams!J18)+SUMIFS(W4:W39,B4:B39,Teams!K18)+SUMIFS(W4:W39,B4:B39,Teams!L18)+SUMIFS(W4:W39,B4:B39,Teams!M18)+SUMIFS(W4:W39,B4:B39,Teams!N18)+SUMIFS(W4:W39,B4:B39,Teams!O18)+SUMIFS(W4:W39,B4:B39,Teams!P18) -> 18 | AM17: =IFERROR(VALUE(IFERROR(INDEX(AI:AI,MATCH(B28,AQ:AQ,0),0),"")),"") | AN17: =SUMPRODUCT((AC4:AC39=AC17)*(Y4:Y39=Y17)*(W4:W39=W17)*(O4:O39=O17)*(T4:T39=T17)*(L4:L39=L17)*(AJ4:AJ39>AJ17)) -> 1 | AO17: =SUMPRODUCT((AC4:AC39=AC17)*(Y4:Y39=Y17)*(W4:W39=W17)*(O4:O39=O17)*(T4:T39=T17)*(L4:L39=L17)*(AJ4:AJ39=AJ17)*(AK4:AK39>AK17)) -> 0 | AP17: =SUMPRODUCT((AC4:AC39=AC17)*(Y4:Y39=Y17)*(W4:W39=W17)*(O4:O39=O17)*(T4:T39=T17)*(L4:L39=L17)*(AJ4:AJ39=AJ17)*(AK4:AK39=AK17)*(AL4:AL39>AL17)) -> 0 | AR17: =SUMPRODUCT((AC4:AC39=AC17)*(Y4:Y39=Y17)*(W4:W39=W17)*(O4:O39=O17)*(T4:T39=T17)*(L4:L39=L17)*(AJ4:AJ39=AJ17)*(AK4:AK39=AK17)*(AL4:AL39=AL17)*(AB4:AB39>AB17)) -> 0 | AS17: =SUMPRODUCT((AC4:AC39=AC17)*(Y4:Y39=Y17)*(W4:W39=W17)*(O4:O39=O17)*(T4:T39=T17)*(L4:L39=L17)*(AJ4:AJ39=AJ17)*(AK4:AK39=AK17)*(AL4:AL39=AL17)*(AB4:AB39=AB17)*(AA4:AA39>AA17)) -> 0
A18: =SUM(AC18:AH18)+SUM(AN18:AP18)+SUM(AR18:AS18) -> 25 | B18: =Teams!C19 -> Crvena Zvezda | C18: =SUM(D18:F18) -> 1 | D18: =SUMPRODUCT(('Group Stages'!E6:E149<>"")*('Group Stages'!F6:F149<>"")*('Group Stages'!D6:D149='Dummy Table'!B18)*('Group Stages'!E6:E149>'Group Stages'!F6:F149)) -> 0 | E18: =SUMPRODUCT(('Group Stages'!E6:E149<>"")*('Group Stages'!F6:F149<>"")*('Group Stages'!D6:D149='Dummy Table'!B18)*('Group Stages'!E6:E149='Group Stages'!F6:F149)) -> 0 | F18: =SUMPRODUCT(('Group Stages'!E6:E149<>"")*('Group Stages'!F6:F149<>"")*('Group Stages'!D6:D149='Dummy Table'!B18)*('Group Stages'!E6:E149<'Group Stages'!F6:F149)) -> 1 | G18: =SUMIF('Group Stages'!D6:D149,'Dummy Table'!B18,'Group Stages'!E6:E149) -> 1 | H18: =SUMIF('Group Stages'!D6:D149,'Dummy Table'!B18,'Group Stages'!F6:F149) -> 2 | I18: =G18-H18 -> -1 | J18: =D18*3+E18*1 -> 0 | K18: =SUM(L18:N18) -> 0 | L18: =SUMPRODUCT(('Group Stages'!E6:E149<>"")*('Group Stages'!F6:F149<>"")*('Group Stages'!G6:G149='Dummy Table'!B18)*('Group Stages'!E6:E149<'Group Stages'!F6:F149)) -> 0 | M18: =SUMPRODUCT(('Group Stages'!E6:E149<>"")*('Group Stages'!F6:F149<>"")*('Group Stages'!G6:G149='Dummy Table'!B18)*('Group Stages'!E6:E149='Group Stages'!F6:F149)) -> 0 | N18: =SUMPRODUCT(('Group Stages'!E6:E149<>"")*('Group Stages'!F6:F149<>"")*('Group Stages'!G6:G149='Dummy Table'!B18)*('Group Stages'!E6:E149>'Group Stages'!F6:F149)) -> 0 | O18: =IF(AM18="",VALUE(SUMIF('Group Stages'!G6:G149,'Dummy Table'!B18,'Group Stages'!F6:F149)),0) -> 0 | P18: =SUMIF('Group Stages'!G6:G149,'Dummy Table'!B18,'Group Stages'!E6:E149) -> 0 | Q18: =O18-P18 -> 0 | R18: =L18*3+M18*1 -> 0 | S18: =C18+K18 -> 1 | T18: =IF(AM18="",D18+L18,0) -> 0 | U18: =E18+M18 -> 0 | V18: =F18+N18 -> 1 | W18: =G18+O18 -> 1 | X18: =H18+P18 -> 2 | Y18: =I18+Q18 -> -1 | Z18: =J18+R18 -> 0 | AA18: =IF(LEFT('Group Stages'!B151,6)="© 2024",Teams!F19,96000) -> 34000 | AB18: =Teams!G19 -> 0 | AC18: =RANK(Z18,Z4:Z39) -> 22 | AD18: =SUMPRODUCT((AC4:AC39=AC18)*(Y4:Y39>Y18)) -> 0 | AE18: =SUMPRODUCT((AC4:AC39=AC18)*(Y4:Y39=Y18)*(W4:W39>W18)) -> 0 | AF18: =SUMPRODUCT((AC4:AC39=AC18)*(Y4:Y39=Y18)*(W4:W39=W18)*(O4:O39>O18)) -> 3 | AG18: =SUMPRODUCT((AC4:AC39=AC18)*(Y4:Y39=Y18)*(W4:W39=W18)*(O4:O39=O18)*(T4:T39>T18)) -> 0 | AH18: =SUMPRODUCT((AC4:AC39=AC18)*(Y4:Y39=Y18)*(W4:W39=W18)*(O4:O39=O18)*(T4:T39=T18)*(L4:L39>L18)) -> 0 | AJ18: =SUMIFS(Z4:Z39,B4:B39,Teams!I19)+SUMIFS(Z4:Z39,B4:B39,Teams!J19)+SUMIFS(Z4:Z39,B4:B39,Teams!K19)+SUMIFS(Z4:Z39,B4:B39,Teams!L19)+SUMIFS(Z4:Z39,B4:B39,Teams!M19)+SUMIFS(Z4:Z39,B4:B39,Teams!N19)+SUMIFS(Z4:Z39,B4:B39,Teams!O19)+SUMIFS(Z4:Z39,B4:B39,Teams!P19) -> 7 | AK18: =SUMIFS(Y4:Y39,B4:B39,Teams!I19)+SUMIFS(Y4:Y39,B4:B39,Teams!J19)+SUMIFS(Y4:Y39,B4:B39,Teams!K19)+SUMIFS(Y4:Y39,B4:B39,Teams!L19)+SUMIFS(Y4:Y39,B4:B39,Teams!M19)+SUMIFS(Y4:Y39,B4:B39,Teams!N19)+SUMIFS(Y4:Y39,B4:B39,Teams!O19)+SUMIFS(Y4:Y39,B4:B39,Teams!P19) -> -8 | AL18: =SUMIFS(W4:W39,B4:B39,Teams!I19)+SUMIFS(W4:W39,B4:B39,Teams!J19)+SUMIFS(W4:W39,B4:B39,Teams!K19)+SUMIFS(W4:W39,B4:B39,Teams!L19)+SUMIFS(W4:W39,B4:B39,Teams!M19)+SUMIFS(W4:W39,B4:B39,Teams!N19)+SUMIFS(W4:W39,B4:B39,Teams!O19)+SUMIFS(W4:W39,B4:B39,Teams!P19) -> 8 | AM18: =IFERROR(VALUE(IFERROR(INDEX(AI:AI,MATCH(B29,AQ:AQ,0),0),"")),"") | AN18: =SUMPRODUCT((AC4:AC39=AC18)*(Y4:Y39=Y18)*(W4:W39=W18)*(O4:O39=O18)*(T4:T39=T18)*(L4:L39=L18)*(AJ4:AJ39>AJ18)) -> 0 | AO18: =SUMPRODUCT((AC4:AC39=AC18)*(Y4:Y39=Y18)*(W4:W39=W18)*(O4:O39=O18)*(T4:T39=T18)*(L4:L39=L18)*(AJ4:AJ39=AJ18)*(AK4:AK39>AK18)) -> 0 | AP18: =SUMPRODUCT((AC4:AC39=AC18)*(Y4:Y39=Y18)*(W4:W39=W18)*(O4:O39=O18)*(T4:T39=T18)*(L4:L39=L18)*(AJ4:AJ39=AJ18)*(AK4:AK39=AK18)*(AL4:AL39>AL18)) -> 0 | AR18: =SUMPRODUCT((AC4:AC39=AC18)*(Y4:Y39=Y18)*(W4:W39=W18)*(O4:O39=O18)*(T4:T39=T18)*(L4:L39=L18)*(AJ4:AJ39=AJ18)*(AK4:AK39=AK18)*(AL4:AL39=AL18)*(AB4:AB39>AB18)) -> 0 | AS18: =SUMPRODUCT((AC4:AC39=AC18)*(Y4:Y39=Y18)*(W4:W39=W18)*(O4:O39=O18)*(T4:T39=T18)*(L4:L39=L18)*(AJ4:AJ39=AJ18)*(AK4:AK39=AK18)*(AL4:AL39=AL18)*(AB4:AB39=AB18)*(AA4:AA39>AA18)) -> 0
A19: =SUM(AC19:AH19)+SUM(AN19:AP19)+SUM(AR19:AS19) -> 36 | B19: =Teams!C20 -> Dinamo Zagreb | C19: =SUM(D19:F19) -> 0 | D19: =SUMPRODUCT(('Group Stages'!E6:E149<>"")*('Group Stages'!F6:F149<>"")*('Group Stages'!D6:D149='Dummy Table'!B19)*('Group Stages'!E6:E149>'Group Stages'!F6:F149)) -> 0 | E19: =SUMPRODUCT(('Group Stages'!E6:E149<>"")*('Group Stages'!F6:F149<>"")*('Group Stages'!D6:D149='Dummy Table'!B19)*('Group Stages'!E6:E149='Group Stages'!F6:F149)) -> 0 | F19: =SUMPRODUCT(('Group Stages'!E6:E149<>"")*('Group Stages'!F6:F149<>"")*('Group Stages'!D6:D149='Dummy Table'!B19)*('Group Stages'!E6:E149<'Group Stages'!F6:F149)) -> 0 | G19: =SUMIF('Group Stages'!D6:D149,'Dummy Table'!B19,'Group Stages'!E6:E149) -> 0 | H19: =SUMIF('Group Stages'!D6:D149,'Dummy Table'!B19,'Group Stages'!F6:F149) -> 0 | I19: =G19-H19 -> 0 | J19: =D19*3+E19*1 -> 0 | K19: =SUM(L19:N19) -> 1 | L19: =SUMPRODUCT(('Group Stages'!E6:E149<>"")*('Group Stages'!F6:F149<>"")*('Group Stages'!G6:G149='Dummy Table'!B19)*('Group Stages'!E6:E149<'Group Stages'!F6:F149)) -> 0 | M19: =SUMPRODUCT(('Group Stages'!E6:E149<>"")*('Group Stages'!F6:F149<>"")*('Group Stages'!G6:G149='Dummy Table'!B19)*('Group Stages'!E6:E149='Group Stages'!F6:F149)) -> 0 | N19: =SUMPRODUCT(('Group Stages'!E6:E149<>"")*('Group Stages'!F6:F149<>"")*('Group Stages'!G6:G149='Dummy Table'!B19)*('Group Stages'!E6:E149>'Group Stages'!F6:F149)) -> 1 | O19: =IF(AM19="",VALUE(SUMIF('Group Stages'!G6:G149,'Dummy Table'!B19,'Group Stages'!F6:F149)),0) -> 2 | P19: =SUMIF('Group Stages'!G6:G149,'Dummy Table'!B19,'Group Stages'!E6:E149) -> 9 | Q19: =O19-P19 -> -7 | R19: =L19*3+M19*1 -> 0 | S19: =C19+K19 -> 1 | T19: =IF(AM19="",D19+L19,0) -> 0 | U19: =E19+M19 -> 0 | V19: =F19+N19 -> 1 | W19: =G19+O19 -> 2 | X19: =H19+P19 -> 9 | Y19: =I19+Q19 -> -7 | Z19: =J19+R19 -> 0 | AA19: =IF(LEFT('Group Stages'!B151,6)="© 2024",Teams!F20,96000) -> 42000 | AB19: =Teams!G20 -> 0 | AC19: =RANK(Z19,Z4:Z39) -> 22 | AD19: =SUMPRODUCT((AC4:AC39=AC19)*(Y4:Y39>Y19)) -> 14 | AE19: =SUMPRODUCT((AC4:AC39=AC19)*(Y4:Y39=Y19)*(W4:W39>W19)) -> 0 | AF19: =SUMPRODUCT((AC4:AC39=AC19)*(Y4:Y39=Y19)*(W4:W39=W19)*(O4:O39>O19)) -> 0 | AG19: =SUMPRODUCT((AC4:AC39=AC19)*(Y4:Y39=Y19)*(W4:W39=W19)*(O4:O39=O19)*(T4:T39>T19)) -> 0 | AH19: =SUMPRODUCT((AC4:AC39=AC19)*(Y4:Y39=Y19)*(W4:W39=W19)*(O4:O39=O19)*(T4:T39=T19)*(L4:L39>L19)) -> 0 | AJ19: =SUMIFS(Z4:Z39,B4:B39,Teams!I20)+SUMIFS(Z4:Z39,B4:B39,Teams!J20)+SUMIFS(Z4:Z39,B4:B39,Teams!K20)+SUMIFS(Z4:Z39,B4:B39,Teams!L20)+SUMIFS(Z4:Z39,B4:B39,Teams!M20)+SUMIFS(Z4:Z39,B4:B39,Teams!N20)+SUMIFS(Z4:Z39,B4:B39,Teams!O20)+SUMIFS(Z4:Z39,B4:B39,Teams!P20) -> 13 | AK19: =SUMIFS(Y4:Y39,B4:B39,Teams!I20)+SUMIFS(Y4:Y39,B4:B39,Teams!J20)+SUMIFS(Y4:Y39,B4:B39,Teams!K20)+SUMIFS(Y4:Y39,B4:B39,Teams!L20)+SUMIFS(Y4:Y39,B4:B39,Teams!M20)+SUMIFS(Y4:Y39,B4:B39,Teams!N20)+SUMIFS(Y4:Y39,B4:B39,Teams!O20)+SUMIFS(Y4:Y39,B4:B39,Teams!P20) -> 6 | AL19: =SUMIFS(W4:W39,B4:B39,Teams!I20)+SUMIFS(W4:W39,B4:B39,Teams!J20)+SUMIFS(W4:W39,B4:B39,Teams!K20)+SUMIFS(W4:W39,B4:B39,Teams!L20)+SUMIFS(W4:W39,B4:B39,Teams!M20)+SUMIFS(W4:W39,B4:B39,Teams!N20)+SUMIFS(W4:W39,B4:B39,Teams!O20)+SUMIFS(W4:W39,B4:B39,Teams!P20) -> 21 | AM19: =IFERROR(VALUE(IFERROR(INDEX(AI:AI,MATCH(B30,AQ:AQ,0),0),"")),"") | AN19: =SUMPRODUCT((AC4:AC39=AC19)*(Y4:Y39=Y19)*(W4:W39=W19)*(O4:O39=O19)*(T4:T39=T19)*(L4:L39=L19)*(AJ4:AJ39>AJ19)) -> 0 | AO19: =SUMPRODUCT((AC4:AC39=AC19)*(Y4:Y39=Y19)*(W4:W39=W19)*(O4:O39=O19)*(T4:T39=T19)*(L4:L39=L19)*(AJ4:AJ39=AJ19)*(AK4:AK39>AK19)) -> 0 | AP19: =SUMPRODUCT((AC4:AC39=AC19)*(Y4:Y39=Y19)*(W4:W39=W19)*(O4:O39=O19)*(T4:T39=T19)*(L4:L39=L19)*(AJ4:AJ39=AJ19)*(AK4:AK39=AK19)*(AL4:AL39>AL19)) -> 0 | AR19: =SUMPRODUCT((AC4:AC39=AC19)*(Y4:Y39=Y19)*(W4:W39=W19)*(O4:O39=O19)*(T4:T39=T19)*(L4:L39=L19)*(AJ4:AJ39=AJ19)*(AK4:AK39=AK19)*(AL4:AL39=AL19)*(AB4:AB39>AB19)) -> 0 | AS19: =SUMPRODUCT((AC4:AC39=AC19)*(Y4:Y39=Y19)*(W4:W39=W19)*(O4:O39=O19)*(T4:T39=T19)*(L4:L39=L19)*(AJ4:AJ39=AJ19)*(AK4:AK39=AK19)*(AL4:AL39=AL19)*(AB4:AB39=AB19)*(AA4:AA39>AA19)) -> 0
A20: =SUM(AC20:AH20)+SUM(AN20:AP20)+SUM(AR20:AS20) -> 35 | B20: =Teams!C21 -> Feyenoord | C20: =SUM(D20:F20) -> 1 | D20: =SUMPRODUCT(('Group Stages'!E6:E149<>"")*('Group Stages'!F6:F149<>"")*('Group Stages'!D6:D149='Dummy Table'!B20)*('Group Stages'!E6:E149>'Group Stages'!F6:F149)) -> 0 | E20: =SUMPRODUCT(('Group Stages'!E6:E149<>"")*('Group Stages'!F6:F149<>"")*('Group Stages'!D6:D149='Dummy Table'!B20)*('Group Stages'!E6:E149='Group Stages'!F6:F149)) -> 0 | F20: =SUMPRODUCT(('Group Stages'!E6:E149<>"")*('Group Stages'!F6:F149<>"")*('Group Stages'!D6:D149='Dummy Table'!B20)*('Group Stages'!E6:E149<'Group Stages'!F6:F149)) -> 1 | G20: =SUMIF('Group Stages'!D6:D149,'Dummy Table'!B20,'Group Stages'!E6:E149) -> 0 | H20: =SUMIF('Group Stages'!D6:D149,'Dummy Table'!B20,'Group Stages'!F6:F149) -> 4 | I20: =G20-H20 -> -4 | J20: =D20*3+E20*1 -> 0 | K20: =SUM(L20:N20) -> 0 | L20: =SUMPRODUCT(('Group Stages'!E6:E149<>"")*('Group Stages'!F6:F149<>"")*('Group Stages'!G6:G149='Dummy Table'!B20)*('Group Stages'!E6:E149<'Group Stages'!F6:F149)) -> 0 | M20: =SUMPRODUCT(('Group Stages'!E6:E149<>"")*('Group Stages'!F6:F149<>"")*('Group Stages'!G6:G149='Dummy Table'!B20)*('Group Stages'!E6:E149='Group Stages'!F6:F149)) -> 0 | N20: =SUMPRODUCT(('Group Stages'!E6:E149<>"")*('Group Stages'!F6:F149<>"")*('Group Stages'!G6:G149='Dummy Table'!B20)*('Group Stages'!E6:E149>'Group Stages'!F6:F149)) -> 0 | O20: =IF(AM20="",VALUE(SUMIF('Group Stages'!G6:G149,'Dummy Table'!B20,'Group Stages'!F6:F149)),0) -> 0 | P20: =SUMIF('Group Stages'!G6:G149,'Dummy Table'!B20,'Group Stages'!E6:E149) -> 0 | Q20: =O20-P20 -> 0 | R20: =L20*3+M20*1 -> 0 | S20: =C20+K20 -> 1 | T20: =IF(AM20="",D20+L20,0) -> 0 | U20: =E20+M20 -> 0 | V20: =F20+N20 -> 1 | W20: =G20+O20 -> 0 | X20: =H20+P20 -> 4 | Y20: =I20+Q20 -> -4 | Z20: =J20+R20 -> 0 | AA20: =IF(LEFT('Group Stages'!B151,6)="© 2024",Teams!F21,96000) -> 53000 | AB20: =Teams!G21 -> 0 | AC20: =RANK(Z20,Z4:Z39) -> 22 | AD20: =SUMPRODUCT((AC4:AC39=AC20)*(Y4:Y39>Y20)) -> 12 | AE20: =SUMPRODUCT((AC4:AC39=AC20)*(Y4:Y39=Y20)*(W4:W39>W20)) -> 1 | AF20: =SUMPRODUCT((AC4:AC39=AC20)*(Y4:Y39=Y20)*(W4:W39=W20)*(O4:O39>O20)) -> 0 | AG20: =SUMPRODUCT((AC4:AC39=AC20)*(Y4:Y39=Y20)*(W4:W39=W20)*(O4:O39=O20)*(T4:T39>T20)) -> 0 | AH20: =SUMPRODUCT((AC4:AC39=AC20)*(Y4:Y39=Y20)*(W4:W39=W20)*(O4:O39=O20)*(T4:T39=T20)*(L4:L39>L20)) -> 0 | AJ20: =SUMIFS(Z4:Z39,B4:B39,Teams!I21)+SUMIFS(Z4:Z39,B4:B39,Teams!J21)+SUMIFS(Z4:Z39,B4:B39,Teams!K21)+SUMIFS(Z4:Z39,B4:B39,Teams!L21)+SUMIFS(Z4:Z39,B4:B39,Teams!M21)+SUMIFS(Z4:Z39,B4:B39,Teams!N21)+SUMIFS(Z4:Z39,B4:B39,Teams!O21)+SUMIFS(Z4:Z39,B4:B39,Teams!P21) -> 13 | AK20: =SUMIFS(Y4:Y39,B4:B39,Teams!I21)+SUMIFS(Y4:Y39,B4:B39,Teams!J21)+SUMIFS(Y4:Y39,B4:B39,Teams!K21)+SUMIFS(Y4:Y39,B4:B39,Teams!L21)+SUMIFS(Y4:Y39,B4:B39,Teams!M21)+SUMIFS(Y4:Y39,B4:B39,Teams!N21)+SUMIFS(Y4:Y39,B4:B39,Teams!O21)+SUMIFS(Y4:Y39,B4:B39,Teams!P21) -> 9 | AL20: =SUMIFS(W4:W39,B4:B39,Teams!I21)+SUMIFS(W4:W39,B4:B39,Teams!J21)+SUMIFS(W4:W39,B4:B39,Teams!K21)+SUMIFS(W4:W39,B4:B39,Teams!L21)+SUMIFS(W4:W39,B4:B39,Teams!M21)+SUMIFS(W4:W39,B4:B39,Teams!N21)+SUMIFS(W4:W39,B4:B39,Teams!O21)+SUMIFS(W4:W39,B4:B39,Teams!P21) -> 18 | AM20: =IFERROR(VALUE(IFERROR(INDEX(AI:AI,MATCH(B31,AQ:AQ,0),0),"")),"") | AN20: =SUMPRODUCT((AC4:AC39=AC20)*(Y4:Y39=Y20)*(W4:W39=W20)*(O4:O39=O20)*(T4:T39=T20)*(L4:L39=L20)*(AJ4:AJ39>AJ20)) -> 0 | AO20: =SUMPRODUCT((AC4:AC39=AC20)*(Y4:Y39=Y20)*(W4:W39=W20)*(O4:O39=O20)*(T4:T39=T20)*(L4:L39=L20)*(AJ4:AJ39=AJ20)*(AK4:AK39>AK20)) -> 0 | AP20: =SUMPRODUCT((AC4:AC39=AC20)*(Y4:Y39=Y20)*(W4:W39=W20)*(O4:O39=O20)*(T4:T39=T20)*(L4:L39=L20)*(AJ4:AJ39=AJ20)*(AK4:AK39=AK20)*(AL4:AL39>AL20)) -> 0 | AR20: =SUMPRODUCT((AC4:AC39=AC20)*(Y4:Y39=Y20)*(W4:W39=W20)*(O4:O39=O20)*(T4:T39=T20)*(L4:L39=L20)*(AJ4:AJ39=AJ20)*(AK4:AK39=AK20)*(AL4:AL39=AL20)*(AB4:AB39>AB20)) -> 0 | AS20: =SUMPRODUCT((AC4:AC39=AC20)*(Y4:Y39=Y20)*(W4:W39=W20)*(O4:O39=O20)*(T4:T39=T20)*(L4:L39=L20)*(AJ4:AJ39=AJ20)*(AK4:AK39=AK20)*(AL4:AL39=AL20)*(AB4:AB39=AB20)*(AA4:AA39>AA20)) -> 0
A21: =SUM(AC21:AH21)+SUM(AN21:AP21)+SUM(AR21:AS21) -> 26 | B21: =Teams!C22 -> Girona | C21: =SUM(D21:F21) -> 0 | D21: =SUMPRODUCT(('Group Stages'!E6:E149<>"")*('Group Stages'!F6:F149<>"")*('Group Stages'!D6:D149='Dummy Table'!B21)*('Group Stages'!E6:E149>'Group Stages'!F6:F149)) -> 0 | E21: =SUMPRODUCT(('Group Stages'!E6:E149<>"")*('Group Stages'!F6:F149<>"")*('Group Stages'!D6:D149='Dummy Table'!B21)*('Group Stages'!E6:E149='Group Stages'!F6:F149)) -> 0 | F21: =SUMPRODUCT(('Group Stages'!E6:E149<>"")*('Group Stages'!F6:F149<>"")*('Group Stages'!D6:D149='Dummy Table'!B21)*('Group Stages'!E6:E149<'Group Stages'!F6:F149)) -> 0 | G21: =SUMIF('Group Stages'!D6:D149,'Dummy Table'!B21,'Group Stages'!E6:E149) -> 0 | H21: =SUMIF('Group Stages'!D6:D149,'Dummy Table'!B21,'Group Stages'!F6:F149) -> 0 | I21: =G21-H21 -> 0 | J21: =D21*3+E21*1 -> 0 | K21: =SUM(L21:N21) -> 1 | L21: =SUMPRODUCT(('Group Stages'!E6:E149<>"")*('Group Stages'!F6:F149<>"")*('Group Stages'!G6:G149='Dummy Table'!B21)*('Group Stages'!E6:E149<'Group Stages'!F6:F149)) -> 0 | M21: =SUMPRODUCT(('Group Stages'!E6:E149<>"")*('Group Stages'!F6:F149<>"")*('Group Stages'!G6:G149='Dummy Table'!B21)*('Group Stages'!E6:E149='Group Stages'!F6:F149)) -> 0 | N21: =SUMPRODUCT(('Group Stages'!E6:E149<>"")*('Group Stages'!F6:F149<>"")*('Group Stages'!G6:G149='Dummy Table'!B21)*('Group Stages'!E6:E149>'Group Stages'!F6:F149)) -> 1 | O21: =IF(AM21="",VALUE(SUMIF('Group Stages'!G6:G149,'Dummy Table'!B21,'Group Stages'!F6:F149)),0) -> 0 | P21: =SUMIF('Group Stages'!G6:G149,'Dummy Table'!B21,'Group Stages'!E6:E149) -> 1 | Q21: =O21-P21 -> -1 | R21: =L21*3+M21*1 -> 0 | S21: =C21+K21 -> 1 | T21: =IF(AM21="",D21+L21,0) -> 0 | U21: =E21+M21 -> 0 | V21: =F21+N21 -> 1 | W21: =G21+O21 -> 0 | X21: =H21+P21 -> 1 | Y21: =I21+Q21 -> -1 | Z21: =J21+R21 -> 0 | AA21: =IF(LEFT('Group Stages'!B151,6)="© 2024",Teams!F22,96000) -> 2 | AB21: =Teams!G22 -> 0 | AC21: =RANK(Z21,Z4:Z39) -> 22 | AD21: =SUMPRODUCT((AC4:AC39=AC21)*(Y4:Y39>Y21)) -> 0 | AE21: =SUMPRODUCT((AC4:AC39=AC21)*(Y4:Y39=Y21)*(W4:W39>W21)) -> 4 | AF21: =SUMPRODUCT((AC4:AC39=AC21)*(Y4:Y39=Y21)*(W4:W39=W21)*(O4:O39>O21)) -> 0 | AG21: =SUMPRODUCT((AC4:AC39=AC21)*(Y4:Y39=Y21)*(W4:W39=W21)*(O4:O39=O21)*(T4:T39>T21)) -> 0 | AH21: =SUMPRODUCT((AC4:AC39=AC21)*(Y4:Y39=Y21)*(W4:W39=W21)*(O4:O39=O21)*(T4:T39=T21)*(L4:L39>L21)) -> 0 | AJ21: =SUMIFS(Z4:Z39,B4:B39,Teams!I22)+SUMIFS(Z4:Z39,B4:B39,Teams!J22)+SUMIFS(Z4:Z39,B4:B39,Teams!K22)+SUMIFS(Z4:Z39,B4:B39,Teams!L22)+SUMIFS(Z4:Z39,B4:B39,Teams!M22)+SUMIFS(Z4:Z39,B4:B39,Teams!N22)+SUMIFS(Z4:Z39,B4:B39,Teams!O22)+SUMIFS(Z4:Z39,B4:B39,Teams!P22) -> 7 | AK21: =SUMIFS(Y4:Y39,B4:B39,Teams!I22)+SUMIFS(Y4:Y39,B4:B39,Teams!J22)+SUMIFS(Y4:Y39,B4:B39,Teams!K22)+SUMIFS(Y4:Y39,B4:B39,Teams!L22)+SUMIFS(Y4:Y39,B4:B39,Teams!M22)+SUMIFS(Y4:Y39,B4:B39,Teams!N22)+SUMIFS(Y4:Y39,B4:B39,Teams!O22)+SUMIFS(Y4:Y39,B4:B39,Teams!P22) -> -10 | AL21: =SUMIFS(W4:W39,B4:B39,Teams!I22)+SUMIFS(W4:W39,B4:B39,Teams!J22)+SUMIFS(W4:W39,B4:B39,Teams!K22)+SUMIFS(W4:W39,B4:B39,Teams!L22)+SUMIFS(W4:W39,B4:B39,Teams!M22)+SUMIFS(W4:W39,B4:B39,Teams!N22)+SUMIFS(W4:W39,B4:B39,Teams!O22)+SUMIFS(W4:W39,B4:B39,Teams!P22) -> 8 | AM21: =IFERROR(VALUE(IFERROR(INDEX(AI:AI,MATCH(B32,AQ:AQ,0),0),"")),"") | AN21: =SUMPRODUCT((AC4:AC39=AC21)*(Y4:Y39=Y21)*(W4:W39=W21)*(O4:O39=O21)*(T4:T39=T21)*(L4:L39=L21)*(AJ4:AJ39>AJ21)) -> 0 | AO21: =SUMPRODUCT((AC4:AC39=AC21)*(Y4:Y39=Y21)*(W4:W39=W21)*(O4:O39=O21)*(T4:T39=T21)*(L4:L39=L21)*(AJ4:AJ39=AJ21)*(AK4:AK39>AK21)) -> 0 | AP21: =SUMPRODUCT((AC4:AC39=AC21)*(Y4:Y39=Y21)*(W4:W39=W21)*(O4:O39=O21)*(T4:T39=T21)*(L4:L39=L21)*(AJ4:AJ39=AJ21)*(AK4:AK39=AK21)*(AL4:AL39>AL21)) -> 0 | AR21: =SUMPRODUCT((AC4:AC39=AC21)*(Y4:Y39=Y21)*(W4:W39=W21)*(O4:O39=O21)*(T4:T39=T21)*(L4:L39=L21)*(AJ4:AJ39=AJ21)*(AK4:AK39=AK21)*(AL4:AL39=AL21)*(AB4:AB39>AB21)) -> 0 | AS21: =SUMPRODUCT((AC4:AC39=AC21)*(Y4:Y39=Y21)*(W4:W39=W21)*(O4:O39=O21)*(T4:T39=T21)*(L4:L39=L21)*(AJ4:AJ39=AJ21)*(AK4:AK39=AK21)*(AL4:AL39=AL21)*(AB4:AB39=AB21)*(AA4:AA39>AA21)) -> 0
A22: =SUM(AC22:AH22)+SUM(AN22:AP22)+SUM(AR22:AS22) -> 20 | B22: =Teams!C23 -> Inter | C22: =SUM(D22:F22) -> 0 | D22: =SUMPRODUCT(('Group Stages'!E6:E149<>"")*('Group Stages'!F6:F149<>"")*('Group Stages'!D6:D149='Dummy Table'!B22)*('Group Stages'!E6:E149>'Group Stages'!F6:F149)) -> 0 | E22: =SUMPRODUCT(('Group Stages'!E6:E149<>"")*('Group Stages'!F6:F149<>"")*('Group Stages'!D6:D149='Dummy Table'!B22)*('Group Stages'!E6:E149='Group Stages'!F6:F149)) -> 0 | F22: =SUMPRODUCT(('Group Stages'!E6:E149<>"")*('Group Stages'!F6:F149<>"")*('Group Stages'!D6:D149='Dummy Table'!B22)*('Group Stages'!E6:E149<'Group Stages'!F6:F149)) -> 0 | G22: =SUMIF('Group Stages'!D6:D149,'Dummy Table'!B22,'Group Stages'!E6:E149) -> 0 | H22: =SUMIF('Group Stages'!D6:D149,'Dummy Table'!B22,'Group Stages'!F6:F149) -> 0 | I22: =G22-H22 -> 0 | J22: =D22*3+E22*1 -> 0 | K22: =SUM(L22:N22) -> 1 | L22: =SUMPRODUCT(('Group Stages'!E6:E149<>"")*('Group Stages'!F6:F149<>"")*('Group Stages'!G6:G149='Dummy Table'!B22)*('Group Stages'!E6:E149<'Group Stages'!F6:F149)) -> 0 | M22: =SUMPRODUCT(('Group Stages'!E6:E149<>"")*('Group Stages'!F6:F149<>"")*('Group Stages'!G6:G149='Dummy Table'!B22)*('Group Stages'!E6:E149='Group Stages'!F6:F149)) -> 1 | N22: =SUMPRODUCT(('Group Stages'!E6:E149<>"")*('Group Stages'!F6:F149<>"")*('Group Stages'!G6:G149='Dummy Table'!B22)*('Group Stages'!E6:E149>'Group Stages'!F6:F149)) -> 0 | O22: =IF(AM22="",VALUE(SUMIF('Group Stages'!G6:G149,'Dummy Table'!B22,'Group Stages'!F6:F149)),0) -> 0 | P22: =SUMIF('Group Stages'!G6:G149,'Dummy Table'!B22,'Group Stages'!E6:E149) -> 0 | Q22: =O22-P22 -> 0 | R22: =L22*3+M22*1 -> 1 | S22: =C22+K22 -> 1 | T22: =IF(AM22="",D22+L22,0) -> 0 | U22: =E22+M22 -> 1 | V22: =F22+N22 -> 0 | W22: =G22+O22 -> 0 | X22: =H22+P22 -> 0 | Y22: =I22+Q22 -> 0 | Z22: =J22+R22 -> 1 | AA22: =Teams!F23 -> 76999 | AB22: =Teams!G23 -> 0 | AC22: =RANK(Z22,Z4:Z39) -> 16 | AD22: =SUMPRODUCT((AC4:AC39=AC22)*(Y4:Y39>Y22)) -> 0 | AE22: =SUMPRODUCT((AC4:AC39=AC22)*(Y4:Y39=Y22)*(W4:W39>W22)) -> 0 | AF22: =SUMPRODUCT((AC4:AC39=AC22)*(Y4:Y39=Y22)*(W4:W39=W22)*(O4:O39>O22)) -> 0 | AG22: =SUMPRODUCT((AC4:AC39=AC22)*(Y4:Y39=Y22)*(W4:W39=W22)*(O4:O39=O22)*(T4:T39>T22)) -> 0 | AH22: =SUMPRODUCT((AC4:AC39=AC22)*(Y4:Y39=Y22)*(W4:W39=W22)*(O4:O39=O22)*(T4:T39=T22)*(L4:L39>L22)) -> 0 | AJ22: =SUMIFS(Z4:Z39,B4:B39,Teams!I23)+SUMIFS(Z4:Z39,B4:B39,Teams!J23)+SUMIFS(Z4:Z39,B4:B39,Teams!K23)+SUMIFS(Z4:Z39,B4:B39,Teams!L23)+SUMIFS(Z4:Z39,B4:B39,Teams!M23)+SUMIFS(Z4:Z39,B4:B39,Teams!N23)+SUMIFS(Z4:Z39,B4:B39,Teams!O23)+SUMIFS(Z4:Z39,B4:B39,Teams!P23) -> 11 | AK22: =SUMIFS(Y4:Y39,B4:B39,Teams!I23)+SUMIFS(Y4:Y39,B4:B39,Teams!J23)+SUMIFS(Y4:Y39,B4:B39,Teams!K23)+SUMIFS(Y4:Y39,B4:B39,Teams!L23)+SUMIFS(Y4:Y39,B4:B39,Teams!M23)+SUMIFS(Y4:Y39,B4:B39,Teams!N23)+SUMIFS(Y4:Y39,B4:B39,Teams!O23)+SUMIFS(Y4:Y39,B4:B39,Teams!P23) -> 3 | AL22: =SUMIFS(W4:W39,B4:B39,Teams!I23)+SUMIFS(W4:W39,B4:B39,Teams!J23)+SUMIFS(W4:W39,B4:B39,Teams!K23)+SUMIFS(W4:W39,B4:B39,Teams!L23)+SUMIFS(W4:W39,B4:B39,Teams!M23)+SUMIFS(W4:W39,B4:B39,Teams!N23)+SUMIFS(W4:W39,B4:B39,Teams!O23)+SUMIFS(W4:W39,B4:B39,Teams!P23) -> 11 | AM22: =IFERROR(VALUE(IFERROR(INDEX(AI:AI,MATCH(B33,AQ:AQ,0),0),"")),"") | AN22: =SUMPRODUCT((AC4:AC39=AC22)*(Y4:Y39=Y22)*(W4:W39=W22)*(O4:O39=O22)*(T4:T39=T22)*(L4:L39=L22)*(AJ4:AJ39>AJ22)) -> 4 | AO22: =SUMPRODUCT((AC4:AC39=AC22)*(Y4:Y39=Y22)*(W4:W39=W22)*(O4:O39=O22)*(T4:T39=T22)*(L4:L39=L22)*(AJ4:AJ39=AJ22)*(AK4:AK39>AK22)) -> 0 | AP22: =SUMPRODUCT((AC4:AC39=AC22)*(Y4:Y39=Y22)*(W4:W39=W22)*(O4:O39=O22)*(T4:T39=T22)*(L4:L39=L22)*(AJ4:AJ39=AJ22)*(AK4:AK39=AK22)*(AL4:AL39>AL22)) -> 0 | AR22: =SUMPRODUCT((AC4:AC39=AC22)*(Y4:Y39=Y22)*(W4:W39=W22)*(O4:O39=O22)*(T4:T39=T22)*(L4:L39=L22)*(AJ4:AJ39=AJ22)*(AK4:AK39=AK22)*(AL4:AL39=AL22)*(AB4:AB39>AB22)) -> 0 | AS22: =SUMPRODUCT((AC4:AC39=AC22)*(Y4:Y39=Y22)*(W4:W39=W22)*(O4:O39=O22)*(T4:T39=T22)*(L4:L39=L22)*(AJ4:AJ39=AJ22)*(AK4:AK39=AK22)*(AL4:AL39=AL22)*(AB4:AB39=AB22)*(AA4:AA39>AA22)) -> 0
A23: =SUM(AC23:AH23)+SUM(AN23:AP23)+SUM(AR23:AS23) -> 9 | B23: =Teams!C24 -> Juventus | C23: =SUM(D23:F23) -> 1 | D23: =SUMPRODUCT(('Group Stages'!E6:E149<>"")*('Group Stages'!F6:F149<>"")*('Group Stages'!D6:D149='Dummy Table'!B23)*('Group Stages'!E6:E149>'Group Stages'!F6:F149)) -> 1 | E23: =SUMPRODUCT(('Group Stages'!E6:E149<>"")*('Group Stages'!F6:F149<>"")*('Group Stages'!D6:D149='Dummy Table'!B23)*('Group Stages'!E6:E149='Group Stages'!F6:F149)) -> 0 | F23: =SUMPRODUCT(('Group Stages'!E6:E149<>"")*('Group Stages'!F6:F149<>"")*('Group Stages'!D6:D149='Dummy Table'!B23)*('Group Stages'!E6:E149<'Group Stages'!F6:F149)) -> 0 | G23: =SUMIF('Group Stages'!D6:D149,'Dummy Table'!B23,'Group Stages'!E6:E149) -> 3 | H23: =SUMIF('Group Stages'!D6:D149,'Dummy Table'!B23,'Group Stages'!F6:F149) -> 1 | I23: =G23-H23 -> 2 | J23: =D23*3+E23*1 -> 3 | K23: =SUM(L23:N23) -> 0 | L23: =SUMPRODUCT(('Group Stages'!E6:E149<>"")*('Group Stages'!F6:F149<>"")*('Group Stages'!G6:G149='Dummy Table'!B23)*('Group Stages'!E6:E149<'Group Stages'!F6:F149)) -> 0 | M23: =SUMPRODUCT(('Group Stages'!E6:E149<>"")*('Group Stages'!F6:F149<>"")*('Group Stages'!G6:G149='Dummy Table'!B23)*('Group Stages'!E6:E149='Group Stages'!F6:F149)) -> 0 | N23: =SUMPRODUCT(('Group Stages'!E6:E149<>"")*('Group Stages'!F6:F149<>"")*('Group Stages'!G6:G149='Dummy Table'!B23)*('Group Stages'!E6:E149>'Group Stages'!F6:F149)) -> 0 | O23: =IF(AM23="",VALUE(SUMIF('Group Stages'!G6:G149,'Dummy Table'!B23,'Group Stages'!F6:F149)),0) -> 0 | P23: =SUMIF('Group Stages'!G6:G149,'Dummy Table'!B23,'Group Stages'!E6:E149) -> 0 | Q23: =O23-P23 -> 0 | R23: =L23*3+M23*1 -> 0 | S23: =C23+K23 -> 1 | T23: =IF(AM23="",D23+L23,0) -> 1 | U23: =E23+M23 -> 0 | V23: =F23+N23 -> 0 | W23: =G23+O23 -> 3 | X23: =H23+P23 -> 1 | Y23: =I23+Q23 -> 2 | Z23: =J23+R23 -> 3 | AA23: =Teams!F24 -> 58000 | AB23: =Teams!G24 -> 0 | AC23: =RANK(Z23,Z4:Z39) -> 1 | AD23: =SUMPRODUCT((AC4:AC39=AC23)*(Y4:Y39>Y23)) -> 6 | AE23: =SUMPRODUCT((AC4:AC39=AC23)*(Y4:Y39=Y23)*(W4:W39>W23)) -> 0 | AF23: =SUMPRODUCT((AC4:AC39=AC23)*(Y4:Y39=Y23)*(W4:W39=W23)*(O4:O39>O23)) -> 1 | AG23: =SUMPRODUCT((AC4:AC39=AC23)*(Y4:Y39=Y23)*(W4:W39=W23)*(O4:O39=O23)*(T4:T39>T23)) -> 0 | AH23: =SUMPRODUCT((AC4:AC39=AC23)*(Y4:Y39=Y23)*(W4:W39=W23)*(O4:O39=O23)*(T4:T39=T23)*(L4:L39>L23)) -> 0 | AJ23: =SUMIFS(Z4:Z39,B4:B39,Teams!I24)+SUMIFS(Z4:Z39,B4:B39,Teams!J24)+SUMIFS(Z4:Z39,B4:B39,Teams!K24)+SUMIFS(Z4:Z39,B4:B39,Teams!L24)+SUMIFS(Z4:Z39,B4:B39,Teams!M24)+SUMIFS(Z4:Z39,B4:B39,Teams!N24)+SUMIFS(Z4:Z39,B4:B39,Teams!O24)+SUMIFS(Z4:Z39,B4:B39,Teams!P24) -> 7 | AK23: =SUMIFS(Y4:Y39,B4:B39,Teams!I24)+SUMIFS(Y4:Y39,B4:B39,Teams!J24)+SUMIFS(Y4:Y39,B4:B39,Teams!K24)+SUMIFS(Y4:Y39,B4:B39,Teams!L24)+SUMIFS(Y4:Y39,B4:B39,Teams!M24)+SUMIFS(Y4:Y39,B4:B39,Teams!N24)+SUMIFS(Y4:Y39,B4:B39,Teams!O24)+SUMIFS(Y4:Y39,B4:B39,Teams!P24) -> -6 | AL23: =SUMIFS(W4:W39,B4:B39,Teams!I24)+SUMIFS(W4:W39,B4:B39,Teams!J24)+SUMIFS(W4:W39,B4:B39,Teams!K24)+SUMIFS(W4:W39,B4:B39,Teams!L24)+SUMIFS(W4:W39,B4:B39,Teams!M24)+SUMIFS(W4:W39,B4:B39,Teams!N24)+SUMIFS(W4:W39,B4:B39,Teams!O24)+SUMIFS(W4:W39,B4:B39,Teams!P24) -> 8 | AM23: =IFERROR(VALUE(IFERROR(INDEX(AI:AI,MATCH(B34,AQ:AQ,0),0),"")),"") | AN23: =SUMPRODUCT((AC4:AC39=AC23)*(Y4:Y39=Y23)*(W4:W39=W23)*(O4:O39=O23)*(T4:T39=T23)*(L4:L39=L23)*(AJ4:AJ39>AJ23)) -> 1 | AO23: =SUMPRODUCT((AC4:AC39=AC23)*(Y4:Y39=Y23)*(W4:W39=W23)*(O4:O39=O23)*(T4:T39=T23)*(L4:L39=L23)*(AJ4:AJ39=AJ23)*(AK4:AK39>AK23)) -> 0 | AP23: =SUMPRODUCT((AC4:AC39=AC23)*(Y4:Y39=Y23)*(W4:W39=W23)*(O4:O39=O23)*(T4:T39=T23)*(L4:L39=L23)*(AJ4:AJ39=AJ23)*(AK4:AK39=AK23)*(AL4:AL39>AL23)) -> 0 | AR23: =SUMPRODUCT((AC4:AC39=AC23)*(Y4:Y39=Y23)*(W4:W39=W23)*(O4:O39=O23)*(T4:T39=T23)*(L4:L39=L23)*(AJ4:AJ39=AJ23)*(AK4:AK39=AK23)*(AL4:AL39=AL23)*(AB4:AB39>AB23)) -> 0 | AS23: =SUMPRODUCT((AC4:AC39=AC23)*(Y4:Y39=Y23)*(W4:W39=W23)*(O4:O39=O23)*(T4:T39=T23)*(L4:L39=L23)*(AJ4:AJ39=AJ23)*(AK4:AK39=AK23)*(AL4:AL39=AL23)*(AB4:AB39=AB23)*(AA4:AA39>AA23)) -> 0
A24: =SUM(AC24:AH24)+SUM(AN24:AP24)+SUM(AR24:AS24) -> 30 | B24: =Teams!C25 -> Lille | C24: =SUM(D24:F24) -> 0 | D24: =SUMPRODUCT(('Group Stages'!E6:E149<>"")*('Group Stages'!F6:F149<>"")*('Group Stages'!D6:D149='Dummy Table'!B24)*('Group Stages'!E6:E149>'Group Stages'!F6:F149)) -> 0 | E24: =SUMPRODUCT(('Group Stages'!E6:E149<>"")*('Group Stages'!F6:F149<>"")*('Group Stages'!D6:D149='Dummy Table'!B24)*('Group Stages'!E6:E149='Group Stages'!F6:F149)) -> 0 | F24: =SUMPRODUCT(('Group Stages'!E6:E149<>"")*('Group Stages'!F6:F149<>"")*('Group Stages'!D6:D149='Dummy Table'!B24)*('Group Stages'!E6:E149<'Group Stages'!F6:F149)) -> 0 | G24: =SUMIF('Group Stages'!D6:D149,'Dummy Table'!B24,'Group Stages'!E6:E149) -> 0 | H24: =SUMIF('Group Stages'!D6:D149,'Dummy Table'!B24,'Group Stages'!F6:F149) -> 0 | I24: =G24-H24 -> 0 | J24: =D24*3+E24*1 -> 0 | K24: =SUM(L24:N24) -> 1 | L24: =SUMPRODUCT(('Group Stages'!E6:E149<>"")*('Group Stages'!F6:F149<>"")*('Group Stages'!G6:G149='Dummy Table'!B24)*('Group Stages'!E6:E149<'Group Stages'!F6:F149)) -> 0 | M24: =SUMPRODUCT(('Group Stages'!E6:E149<>"")*('Group Stages'!F6:F149<>"")*('Group Stages'!G6:G149='Dummy Table'!B24)*('Group Stages'!E6:E149='Group Stages'!F6:F149)) -> 0 | N24: =SUMPRODUCT(('Group Stages'!E6:E149<>"")*('Group Stages'!F6:F149<>"")*('Group Stages'!G6:G149='Dummy Table'!B24)*('Group Stages'!E6:E149>'Group Stages'!F6:F149)) -> 1 | O24: =IF(AM24="",VALUE(SUMIF('Group Stages'!G6:G149,'Dummy Table'!B24,'Group Stages'!F6:F149)),0) -> 0 | P24: =SUMIF('Group Stages'!G6:G149,'Dummy Table'!B24,'Group Stages'!E6:E149) -> 2 | Q24: =O24-P24 -> -2 | R24: =L24*3+M24*1 -> 0 | S24: =C24+K24 -> 1 | T24: =IF(AM24="",D24+L24,0) -> 0 | U24: =E24+M24 -> 0 | V24: =F24+N24 -> 1 | W24: =G24+O24 -> 0 | X24: =H24+P24 -> 2 | Y24: =I24+Q24 -> -2 | Z24: =J24+R24 -> 0 | AA24: =Teams!F25 -> 42001 | AB24: =Teams!G25 -> 0 | AC24: =RANK(Z24,Z4:Z39) -> 22 | AD24: =SUMPRODUCT((AC4:AC39=AC24)*(Y4:Y39>Y24)) -> 5 | AE24: =SUMPRODUCT((AC4:AC39=AC24)*(Y4:Y39=Y24)*(W4:W39>W24)) -> 3 | AF24: =SUMPRODUCT((AC4:AC39=AC24)*(Y4:Y39=Y24)*(W4:W39=W24)*(O4:O39>O24)) -> 0 | AG24: =SUMPRODUCT((AC4:AC39=AC24)*(Y4:Y39=Y24)*(W4:W39=W24)*(O4:O39=O24)*(T4:T39>T24)) -> 0 | AH24: =SUMPRODUCT((AC4:AC39=AC24)*(Y4:Y39=Y24)*(W4:W39=W24)*(O4:O39=O24)*(T4:T39=T24)*(L4:L39>L24)) -> 0 | AJ24: =SUMIFS(Z4:Z39,B4:B39,Teams!I25)+SUMIFS(Z4:Z39,B4:B39,Teams!J25)+SUMIFS(Z4:Z39,B4:B39,Teams!K25)+SUMIFS(Z4:Z39,B4:B39,Teams!L25)+SUMIFS(Z4:Z39,B4:B39,Teams!M25)+SUMIFS(Z4:Z39,B4:B39,Teams!N25)+SUMIFS(Z4:Z39,B4:B39,Teams!O25)+SUMIFS(Z4:Z39,B4:B39,Teams!P25) -> 16 | AK24: =SUMIFS(Y4:Y39,B4:B39,Teams!I25)+SUMIFS(Y4:Y39,B4:B39,Teams!J25)+SUMIFS(Y4:Y39,B4:B39,Teams!K25)+SUMIFS(Y4:Y39,B4:B39,Teams!L25)+SUMIFS(Y4:Y39,B4:B39,Teams!M25)+SUMIFS(Y4:Y39,B4:B39,Teams!N25)+SUMIFS(Y4:Y39,B4:B39,Teams!O25)+SUMIFS(Y4:Y39,B4:B39,Teams!P25) -> 4 | AL24: =SUMIFS(W4:W39,B4:B39,Teams!I25)+SUMIFS(W4:W39,B4:B39,Teams!J25)+SUMIFS(W4:W39,B4:B39,Teams!K25)+SUMIFS(W4:W39,B4:B39,Teams!L25)+SUMIFS(W4:W39,B4:B39,Teams!M25)+SUMIFS(W4:W39,B4:B39,Teams!N25)+SUMIFS(W4:W39,B4:B39,Teams!O25)+SUMIFS(W4:W39,B4:B39,Teams!P25) -> 14 | AM24: =IFERROR(VALUE(IFERROR(INDEX(AI:AI,MATCH(B35,AQ:AQ,0),0),"")),"") | AN24: =SUMPRODUCT((AC4:AC39=AC24)*(Y4:Y39=Y24)*(W4:W39=W24)*(O4:O39=O24)*(T4:T39=T24)*(L4:L39=L24)*(AJ4:AJ39>AJ24)) -> 0 | AO24: =SUMPRODUCT((AC4:AC39=AC24)*(Y4:Y39=Y24)*(W4:W39=W24)*(O4:O39=O24)*(T4:T39=T24)*(L4:L39=L24)*(AJ4:AJ39=AJ24)*(AK4:AK39>AK24)) -> 0 | AP24: =SUMPRODUCT((AC4:AC39=AC24)*(Y4:Y39=Y24)*(W4:W39=W24)*(O4:O39=O24)*(T4:T39=T24)*(L4:L39=L24)*(AJ4:AJ39=AJ24)*(AK4:AK39=AK24)*(AL4:AL39>AL24)) -> 0 | AR24: =SUMPRODUCT((AC4:AC39=AC24)*(Y4:Y39=Y24)*(W4:W39=W24)*(O4:O39=O24)*(T4:T39=T24)*(L4:L39=L24)*(AJ4:AJ39=AJ24)*(AK4:AK39=AK24)*(AL4:AL39=AL24)*(AB4:AB39>AB24)) -> 0 | AS24: =SUMPRODUCT((AC4:AC39=AC24)*(Y4:Y39=Y24)*(W4:W39=W24)*(O4:O39=O24)*(T4:T39=T24)*(L4:L39=L24)*(AJ4:AJ39=AJ24)*(AK4:AK39=AK24)*(AL4:AL39=AL24)*(AB4:AB39=AB24)*(AA4:AA39>AA24)) -> 0
A25: =SUM(AC25:AH25)+SUM(AN25:AP25)+SUM(AR25:AS25) -> 7 | B25: =Teams!C26 -> Liverpool | C25: =SUM(D25:F25) -> 0 | D25: =SUMPRODUCT(('Group Stages'!E6:E149<>"")*('Group Stages'!F6:F149<>"")*('Group Stages'!D6:D149='Dummy Table'!B25)*('Group Stages'!E6:E149>'Group Stages'!F6:F149)) -> 0 | E25: =SUMPRODUCT(('Group Stages'!E6:E149<>"")*('Group Stages'!F6:F149<>"")*('Group Stages'!D6:D149='Dummy Table'!B25)*('Group Stages'!E6:E149='Group Stages'!F6:F149)) -> 0 | F25: =SUMPRODUCT(('Group Stages'!E6:E149<>"")*('Group Stages'!F6:F149<>"")*('Group Stages'!D6:D149='Dummy Table'!B25)*('Group Stages'!E6:E149<'Group Stages'!F6:F149)) -> 0 | G25: =SUMIF('Group Stages'!D6:D149,'Dummy Table'!B25,'Group Stages'!E6:E149) -> 0 | H25: =SUMIF('Group Stages'!D6:D149,'Dummy Table'!B25,'Group Stages'!F6:F149) -> 0 | I25: =G25-H25 -> 0 | J25: =D25*3+E25*1 -> 0 | K25: =SUM(L25:N25) -> 1 | L25: =SUMPRODUCT(('Group Stages'!E6:E149<>"")*('Group Stages'!F6:F149<>"")*('Group Stages'!G6:G149='Dummy Table'!B25)*('Group Stages'!E6:E149<'Group Stages'!F6:F149)) -> 1 | M25: =SUMPRODUCT(('Group Stages'!E6:E149<>"")*('Group Stages'!F6:F149<>"")*('Group Stages'!G6:G149='Dummy Table'!B25)*('Group Stages'!E6:E149='Group Stages'!F6:F149)) -> 0 | N25: =SUMPRODUCT(('Group Stages'!E6:E149<>"")*('Group Stages'!F6:F149<>"")*('Group Stages'!G6:G149='Dummy Table'!B25)*('Group Stages'!E6:E149>'Group Stages'!F6:F149)) -> 0 | O25: =IF(AM25="",VALUE(SUMIF('Group Stages'!G6:G149,'Dummy Table'!B25,'Group Stages'!F6:F149)),0) -> 3 | P25: =SUMIF('Group Stages'!G6:G149,'Dummy Table'!B25,'Group Stages'!E6:E149) -> 1 | Q25: =O25-P25 -> 2 | R25: =L25*3+M25*1 -> 3 | S25: =C25+K25 -> 1 | T25: =IF(AM25="",D25+L25,0) -> 1 | U25: =E25+M25 -> 0 | V25: =F25+N25 -> 0 | W25: =G25+O25 -> 3 | X25: =H25+P25 -> 1 | Y25: =I25+Q25 -> 2 | Z25: =J25+R25 -> 3 | AA25: =Teams!F26 -> 96000 | AB25: =Teams!G26 -> 0 | AC25: =RANK(Z25,Z4:Z39) -> 1 | AD25: =SUMPRODUCT((AC4:AC39=AC25)*(Y4:Y39>Y25)) -> 6 | AE25: =SUMPRODUCT((AC4:AC39=AC25)*(Y4:Y39=Y25)*(W4:W39>W25)) -> 0 | AF25: =SUMPRODUCT((AC4:AC39=AC25)*(Y4:Y39=Y25)*(W4:W39=W25)*(O4:O39>O25)) -> 0 | AG25: =SUMPRODUCT((AC4:AC39=AC25)*(Y4:Y39=Y25)*(W4:W39=W25)*(O4:O39=O25)*(T4:T39>T25)) -> 0 | AH25: =SUMPRODUCT((AC4:AC39=AC25)*(Y4:Y39=Y25)*(W4:W39=W25)*(O4:O39=O25)*(T4:T39=T25)*(L4:L39>L25)) -> 0 | AJ25: =SUMIFS(Z4:Z39,B4:B39,Teams!I26)+SUMIFS(Z4:Z39,B4:B39,Teams!J26)+SUMIFS(Z4:Z39,B4:B39,Teams!K26)+SUMIFS(Z4:Z39,B4:B39,Teams!L26)+SUMIFS(Z4:Z39,B4:B39,Teams!M26)+SUMIFS(Z4:Z39,B4:B39,Teams!N26)+SUMIFS(Z4:Z39,B4:B39,Teams!O26)+SUMIFS(Z4:Z39,B4:B39,Teams!P26) -> 7 | AK25: =SUMIFS(Y4:Y39,B4:B39,Teams!I26)+SUMIFS(Y4:Y39,B4:B39,Teams!J26)+SUMIFS(Y4:Y39,B4:B39,Teams!K26)+SUMIFS(Y4:Y39,B4:B39,Teams!L26)+SUMIFS(Y4:Y39,B4:B39,Teams!M26)+SUMIFS(Y4:Y39,B4:B39,Teams!N26)+SUMIFS(Y4:Y39,B4:B39,Teams!O26)+SUMIFS(Y4:Y39,B4:B39,Teams!P26) -> -2 | AL25: =SUMIFS(W4:W39,B4:B39,Teams!I26)+SUMIFS(W4:W39,B4:B39,Teams!J26)+SUMIFS(W4:W39,B4:B39,Teams!K26)+SUMIFS(W4:W39,B4:B39,Teams!L26)+SUMIFS(W4:W39,B4:B39,Teams!M26)+SUMIFS(W4:W39,B4:B39,Teams!N26)+SUMIFS(W4:W39,B4:B39,Teams!O26)+SUMIFS(W4:W39,B4:B39,Teams!P26) -> 10 | AM25: =IFERROR(VALUE(IFERROR(INDEX(AI:AI,MATCH(B36,AQ:AQ,0),0),"")),"") | AN25: =SUMPRODUCT((AC4:AC39=AC25)*(Y4:Y39=Y25)*(W4:W39=W25)*(O4:O39=O25)*(T4:T39=T25)*(L4:L39=L25)*(AJ4:AJ39>AJ25)) -> 0 | AO25: =SUMPRODUCT((AC4:AC39=AC25)*(Y4:Y39=Y25)*(W4:W39=W25)*(O4:O39=O25)*(T4:T39=T25)*(L4:L39=L25)*(AJ4:AJ39=AJ25)*(AK4:AK39>AK25)) -> 0 | AP25: =SUMPRODUCT((AC4:AC39=AC25)*(Y4:Y39=Y25)*(W4:W39=W25)*(O4:O39=O25)*(T4:T39=T25)*(L4:L39=L25)*(AJ4:AJ39=AJ25)*(AK4:AK39=AK25)*(AL4:AL39>AL25)) -> 0 | AR25: =SUMPRODUCT((AC4:AC39=AC25)*(Y4:Y39=Y25)*(W4:W39=W25)*(O4:O39=O25)*(T4:T39=T25)*(L4:L39=L25)*(AJ4:AJ39=AJ25)*(AK4:AK39=AK25)*(AL4:AL39=AL25)*(AB4:AB39>AB25)) -> 0 | AS25: =SUMPRODUCT((AC4:AC39=AC25)*(Y4:Y39=Y25)*(W4:W39=W25)*(O4:O39=O25)*(T4:T39=T25)*(L4:L39=L25)*(AJ4:AJ39=AJ25)*(AK4:AK39=AK25)*(AL4:AL39=AL25)*(AB4:AB39=AB25)*(AA4:AA39>AA25)) -> 0
A26: =SUM(AC26:AH26)+SUM(AN26:AP26)+SUM(AR26:AS26) -> 17 | B26: =Teams!C27 -> Manchester City | C26: =SUM(D26:F26) -> 1 | D26: =SUMPRODUCT(('Group Stages'!E6:E149<>"")*('Group Stages'!F6:F149<>"")*('Group Stages'!D6:D149='Dummy Table'!B26)*('Group Stages'!E6:E149>'Group Stages'!F6:F149)) -> 0 | E26: =SUMPRODUCT(('Group Stages'!E6:E149<>"")*('Group Stages'!F6:F149<>"")*('Group Stages'!D6:D149='Dummy Table'!B26)*('Group Stages'!E6:E149='Group Stages'!F6:F149)) -> 1 | F26: =SUMPRODUCT(('Group Stages'!E6:E149<>"")*('Group Stages'!F6:F149<>"")*('Group Stages'!D6:D149='Dummy Table'!B26)*('Group Stages'!E6:E149<'Group Stages'!F6:F149)) -> 0 | G26: =SUMIF('Group Stages'!D6:D149,'Dummy Table'!B26,'Group Stages'!E6:E149) -> 0 | H26: =SUMIF('Group Stages'!D6:D149,'Dummy Table'!B26,'Group Stages'!F6:F149) -> 0 | I26: =G26-H26 -> 0 | J26: =D26*3+E26*1 -> 1 | K26: =SUM(L26:N26) -> 0 | L26: =SUMPRODUCT(('Group Stages'!E6:E149<>"")*('Group Stages'!F6:F149<>"")*('Group Stages'!G6:G149='Dummy Table'!B26)*('Group Stages'!E6:E149<'Group Stages'!F6:F149)) -> 0 | M26: =SUMPRODUCT(('Group Stages'!E6:E149<>"")*('Group Stages'!F6:F149<>"")*('Group Stages'!G6:G149='Dummy Table'!B26)*('Group Stages'!E6:E149='Group Stages'!F6:F149)) -> 0 | N26: =SUMPRODUCT(('Group Stages'!E6:E149<>"")*('Group Stages'!F6:F149<>"")*('Group Stages'!G6:G149='Dummy Table'!B26)*('Group Stages'!E6:E149>'Group Stages'!F6:F149)) -> 0 | O26: =IF(AM26="",VALUE(SUMIF('Group Stages'!G6:G149,'Dummy Table'!B26,'Group Stages'!F6:F149)),0) -> 0 | P26: =SUMIF('Group Stages'!G6:G149,'Dummy Table'!B26,'Group Stages'!E6:E149) -> 0 | Q26: =O26-P26 -> 0 | R26: =L26*3+M26*1 -> 0 | S26: =C26+K26 -> 1 | T26: =IF(AM26="",D26+L26,0) -> 0 | U26: =E26+M26 -> 1 | V26: =F26+N26 -> 0 | W26: =G26+O26 -> 0 | X26: =H26+P26 -> 0 | Y26: =I26+Q26 -> 0 | Z26: =J26+R26 -> 1 | AA26: =Teams!F27 -> 123000 | AB26: =Teams!G27 -> 0 | AC26: =RANK(Z26,Z4:Z39) -> 16 | AD26: =SUMPRODUCT((AC4:AC39=AC26)*(Y4:Y39>Y26)) -> 0 | AE26: =SUMPRODUCT((AC4:AC39=AC26)*(Y4:Y39=Y26)*(W4:W39>W26)) -> 0 | AF26: =SUMPRODUCT((AC4:AC39=AC26)*(Y4:Y39=Y26)*(W4:W39=W26)*(O4:O39>O26)) -> 0 | AG26: =SUMPRODUCT((AC4:AC39=AC26)*(Y4:Y39=Y26)*(W4:W39=W26)*(O4:O39=O26)*(T4:T39>T26)) -> 0 | AH26: =SUMPRODUCT((AC4:AC39=AC26)*(Y4:Y39=Y26)*(W4:W39=W26)*(O4:O39=O26)*(T4:T39=T26)*(L4:L39>L26)) -> 0 | AJ26: =SUMIFS(Z4:Z39,B4:B39,Teams!I27)+SUMIFS(Z4:Z39,B4:B39,Teams!J27)+SUMIFS(Z4:Z39,B4:B39,Teams!K27)+SUMIFS(Z4:Z39,B4:B39,Teams!L27)+SUMIFS(Z4:Z39,B4:B39,Teams!M27)+SUMIFS(Z4:Z39,B4:B39,Teams!N27)+SUMIFS(Z4:Z39,B4:B39,Teams!O27)+SUMIFS(Z4:Z39,B4:B39,Teams!P27) -> 13 | AK26: =SUMIFS(Y4:Y39,B4:B39,Teams!I27)+SUMIFS(Y4:Y39,B4:B39,Teams!J27)+SUMIFS(Y4:Y39,B4:B39,Teams!K27)+SUMIFS(Y4:Y39,B4:B39,Teams!L27)+SUMIFS(Y4:Y39,B4:B39,Teams!M27)+SUMIFS(Y4:Y39,B4:B39,Teams!N27)+SUMIFS(Y4:Y39,B4:B39,Teams!O27)+SUMIFS(Y4:Y39,B4:B39,Teams!P27) -> -3 | AL26: =SUMIFS(W4:W39,B4:B39,Teams!I27)+SUMIFS(W4:W39,B4:B39,Teams!J27)+SUMIFS(W4:W39,B4:B39,Teams!K27)+SUMIFS(W4:W39,B4:B39,Teams!L27)+SUMIFS(W4:W39,B4:B39,Teams!M27)+SUMIFS(W4:W39,B4:B39,Teams!N27)+SUMIFS(W4:W39,B4:B39,Teams!O27)+SUMIFS(W4:W39,B4:B39,Teams!P27) -> 10 | AM26: =IFERROR(VALUE(IFERROR(INDEX(AI:AI,MATCH(B37,AQ:AQ,0),0),"")),"") | AN26: =SUMPRODUCT((AC4:AC39=AC26)*(Y4:Y39=Y26)*(W4:W39=W26)*(O4:O39=O26)*(T4:T39=T26)*(L4:L39=L26)*(AJ4:AJ39>AJ26)) -> 1 | AO26: =SUMPRODUCT((AC4:AC39=AC26)*(Y4:Y39=Y26)*(W4:W39=W26)*(O4:O39=O26)*(T4:T39=T26)*(L4:L39=L26)*(AJ4:AJ39=AJ26)*(AK4:AK39>AK26)) -> 0 | AP26: =SUMPRODUCT((AC4:AC39=AC26)*(Y4:Y39=Y26)*(W4:W39=W26)*(O4:O39=O26)*(T4:T39=T26)*(L4:L39=L26)*(AJ4:AJ39=AJ26)*(AK4:AK39=AK26)*(AL4:AL39>AL26)) -> 0 | AR26: =SUMPRODUCT((AC4:AC39=AC26)*(Y4:Y39=Y26)*(W4:W39=W26)*(O4:O39=O26)*(T4:T39=T26)*(L4:L39=L26)*(AJ4:AJ39=AJ26)*(AK4:AK39=AK26)*(AL4:AL39=AL26)*(AB4:AB39>AB26)) -> 0 | AS26: =SUMPRODUCT((AC4:AC39=AC26)*(Y4:Y39=Y26)*(W4:W39=W26)*(O4:O39=O26)*(T4:T39=T26)*(L4:L39=L26)*(AJ4:AJ39=AJ26)*(AK4:AK39=AK26)*(AL4:AL39=AL26)*(AB4:AB39=AB26)*(AA4:AA39>AA26)) -> 0
A27: =SUM(AC27:AH27)+SUM(AN27:AP27)+SUM(AR27:AS27) -> 14 | B27: =Teams!C28 -> Monaco | C27: =SUM(D27:F27) -> 1 | D27: =SUMPRODUCT(('Group Stages'!E6:E149<>"")*('Group Stages'!F6:F149<>"")*('Group Stages'!D6:D149='Dummy Table'!B27)*('Group Stages'!E6:E149>'Group Stages'!F6:F149)) -> 1 | E27: =SUMPRODUCT(('Group Stages'!E6:E149<>"")*('Group Stages'!F6:F149<>"")*('Group Stages'!D6:D149='Dummy Table'!B27)*('Group Stages'!E6:E149='Group Stages'!F6:F149)) -> 0 | F27: =SUMPRODUCT(('Group Stages'!E6:E149<>"")*('Group Stages'!F6:F149<>"")*('Group Stages'!D6:D149='Dummy Table'!B27)*('Group Stages'!E6:E149<'Group Stages'!F6:F149)) -> 0 | G27: =SUMIF('Group Stages'!D6:D149,'Dummy Table'!B27,'Group Stages'!E6:E149) -> 2 | H27: =SUMIF('Group Stages'!D6:D149,'Dummy Table'!B27,'Group Stages'!F6:F149) -> 1 | I27: =G27-H27 -> 1 | J27: =D27*3+E27*1 -> 3 | K27: =SUM(L27:N27) -> 0 | L27: =SUMPRODUCT(('Group Stages'!E6:E149<>"")*('Group Stages'!F6:F149<>"")*('Group Stages'!G6:G149='Dummy Table'!B27)*('Group Stages'!E6:E149<'Group Stages'!F6:F149)) -> 0 | M27: =SUMPRODUCT(('Group Stages'!E6:E149<>"")*('Group Stages'!F6:F149<>"")*('Group Stages'!G6:G149='Dummy Table'!B27)*('Group Stages'!E6:E149='Group Stages'!F6:F149)) -> 0 | N27: =SUMPRODUCT(('Group Stages'!E6:E149<>"")*('Group Stages'!F6:F149<>"")*('Group Stages'!G6:G149='Dummy Table'!B27)*('Group Stages'!E6:E149>'Group Stages'!F6:F149)) -> 0 | O27: =IF(AM27="",VALUE(SUMIF('Group Stages'!G6:G149,'Dummy Table'!B27,'Group Stages'!F6:F149)),0) -> 0 | P27: =SUMIF('Group Stages'!G6:G149,'Dummy Table'!B27,'Group Stages'!E6:E149) -> 0 | Q27: =O27-P27 -> 0 | R27: =L27*3+M27*1 -> 0 | S27: =C27+K27 -> 1 | T27: =IF(AM27="",D27+L27,0) -> 1 | U27: =E27+M27 -> 0 | V27: =F27+N27 -> 0 | W27: =G27+O27 -> 2 | X27: =H27+P27 -> 1 | Y27: =I27+Q27 -> 1 | Z27: =J27+R27 -> 3 | AA27: =Teams!F28 -> 24000 | AB27: =Teams!G28 -> 0 | AC27: =RANK(Z27,Z4:Z39) -> 1 | AD27: =SUMPRODUCT((AC4:AC39=AC27)*(Y4:Y39>Y27)) -> 10 | AE27: =SUMPRODUCT((AC4:AC39=AC27)*(Y4:Y39=Y27)*(W4:W39>W27)) -> 0 | AF27: =SUMPRODUCT((AC4:AC39=AC27)*(Y4:Y39=Y27)*(W4:W39=W27)*(O4:O39>O27)) -> 1 | AG27: =SUMPRODUCT((AC4:AC39=AC27)*(Y4:Y39=Y27)*(W4:W39=W27)*(O4:O39=O27)*(T4:T39>T27)) -> 0 | AH27: =SUMPRODUCT((AC4:AC39=AC27)*(Y4:Y39=Y27)*(W4:W39=W27)*(O4:O39=O27)*(T4:T39=T27)*(L4:L39>L27)) -> 0 | AJ27: =SUMIFS(Z4:Z39,B4:B39,Teams!I28)+SUMIFS(Z4:Z39,B4:B39,Teams!J28)+SUMIFS(Z4:Z39,B4:B39,Teams!K28)+SUMIFS(Z4:Z39,B4:B39,Teams!L28)+SUMIFS(Z4:Z39,B4:B39,Teams!M28)+SUMIFS(Z4:Z39,B4:B39,Teams!N28)+SUMIFS(Z4:Z39,B4:B39,Teams!O28)+SUMIFS(Z4:Z39,B4:B39,Teams!P28) -> 9 | AK27: =SUMIFS(Y4:Y39,B4:B39,Teams!I28)+SUMIFS(Y4:Y39,B4:B39,Teams!J28)+SUMIFS(Y4:Y39,B4:B39,Teams!K28)+SUMIFS(Y4:Y39,B4:B39,Teams!L28)+SUMIFS(Y4:Y39,B4:B39,Teams!M28)+SUMIFS(Y4:Y39,B4:B39,Teams!N28)+SUMIFS(Y4:Y39,B4:B39,Teams!O28)+SUMIFS(Y4:Y39,B4:B39,Teams!P28) -> -5 | AL27: =SUMIFS(W4:W39,B4:B39,Teams!I28)+SUMIFS(W4:W39,B4:B39,Teams!J28)+SUMIFS(W4:W39,B4:B39,Teams!K28)+SUMIFS(W4:W39,B4:B39,Teams!L28)+SUMIFS(W4:W39,B4:B39,Teams!M28)+SUMIFS(W4:W39,B4:B39,Teams!N28)+SUMIFS(W4:W39,B4:B39,Teams!O28)+SUMIFS(W4:W39,B4:B39,Teams!P28) -> 9 | AM27: =IFERROR(VALUE(IFERROR(INDEX(AI:AI,MATCH(B38,AQ:AQ,0),0),"")),"") | AN27: =SUMPRODUCT((AC4:AC39=AC27)*(Y4:Y39=Y27)*(W4:W39=W27)*(O4:O39=O27)*(T4:T39=T27)*(L4:L39=L27)*(AJ4:AJ39>AJ27)) -> 2 | AO27: =SUMPRODUCT((AC4:AC39=AC27)*(Y4:Y39=Y27)*(W4:W39=W27)*(O4:O39=O27)*(T4:T39=T27)*(L4:L39=L27)*(AJ4:AJ39=AJ27)*(AK4:AK39>AK27)) -> 0 | AP27: =SUMPRODUCT((AC4:AC39=AC27)*(Y4:Y39=Y27)*(W4:W39=W27)*(O4:O39=O27)*(T4:T39=T27)*(L4:L39=L27)*(AJ4:AJ39=AJ27)*(AK4:AK39=AK27)*(AL4:AL39>AL27)) -> 0 | AR27: =SUMPRODUCT((AC4:AC39=AC27)*(Y4:Y39=Y27)*(W4:W39=W27)*(O4:O39=O27)*(T4:T39=T27)*(L4:L39=L27)*(AJ4:AJ39=AJ27)*(AK4:AK39=AK27)*(AL4:AL39=AL27)*(AB4:AB39>AB27)) -> 0 | AS27: =SUMPRODUCT((AC4:AC39=AC27)*(Y4:Y39=Y27)*(W4:W39=W27)*(O4:O39=O27)*(T4:T39=T27)*(L4:L39=L27)*(AJ4:AJ39=AJ27)*(AK4:AK39=AK27)*(AL4:AL39=AL27)*(AB4:AB39=AB27)*(AA4:AA39>AA27)) -> 0
A28: =SUM(AC28:AH28)+SUM(AN28:AP28)+SUM(AR28:AS28) -> 15 | B28: =Teams!C29 -> Paris Saint-Germain | C28: =SUM(D28:F28) -> 1 | D28: =SUMPRODUCT(('Group Stages'!E6:E149<>"")*('Group Stages'!F6:F149<>"")*('Group Stages'!D6:D149='Dummy Table'!B28)*('Group Stages'!E6:E149>'Group Stages'!F6:F149)) -> 1 | E28: =SUMPRODUCT(('Group Stages'!E6:E149<>"")*('Group Stages'!F6:F149<>"")*('Group Stages'!D6:D149='Dummy Table'!B28)*('Group Stages'!E6:E149='Group Stages'!F6:F149)) -> 0 | F28: =SUMPRODUCT(('Group Stages'!E6:E149<>"")*('Group Stages'!F6:F149<>"")*('Group Stages'!D6:D149='Dummy Table'!B28)*('Group Stages'!E6:E149<'Group Stages'!F6:F149)) -> 0 | G28: =SUMIF('Group Stages'!D6:D149,'Dummy Table'!B28,'Group Stages'!E6:E149) -> 1 | H28: =SUMIF('Group Stages'!D6:D149,'Dummy Table'!B28,'Group Stages'!F6:F149) -> 0 | I28: =G28-H28 -> 1 | J28: =D28*3+E28*1 -> 3 | K28: =SUM(L28:N28) -> 0 | L28: =SUMPRODUCT(('Group Stages'!E6:E149<>"")*('Group Stages'!F6:F149<>"")*('Group Stages'!G6:G149='Dummy Table'!B28)*('Group Stages'!E6:E149<'Group Stages'!F6:F149)) -> 0 | M28: =SUMPRODUCT(('Group Stages'!E6:E149<>"")*('Group Stages'!F6:F149<>"")*('Group Stages'!G6:G149='Dummy Table'!B28)*('Group Stages'!E6:E149='Group Stages'!F6:F149)) -> 0 | N28: =SUMPRODUCT(('Group Stages'!E6:E149<>"")*('Group Stages'!F6:F149<>"")*('Group Stages'!G6:G149='Dummy Table'!B28)*('Group Stages'!E6:E149>'Group Stages'!F6:F149)) -> 0 | O28: =IF(AM28="",VALUE(SUMIF('Group Stages'!G6:G149,'Dummy Table'!B28,'Group Stages'!F6:F149)),0) -> 0 | P28: =SUMIF('Group Stages'!G6:G149,'Dummy Table'!B28,'Group Stages'!E6:E149) -> 0 | Q28: =O28-P28 -> 0 | R28: =L28*3+M28*1 -> 0 | S28: =C28+K28 -> 1 | T28: =IF(AM28="",D28+L28,0) -> 1 | U28: =E28+M28 -> 0 | V28: =F28+N28 -> 0 | W28: =G28+O28 -> 1 | X28: =H28+P28 -> 0 | Y28: =I28+Q28 -> 1 | Z28: =J28+R28 -> 3 | AA28: =Teams!F29 -> 85000 | AB28: =Teams!G29 -> 0 | AC28: =RANK(Z28,Z4:Z39) -> 1 | AD28: =SUMPRODUCT((AC4:AC39=AC28)*(Y4:Y39>Y28)) -> 10 | AE28: =SUMPRODUCT((AC4:AC39=AC28)*(Y4:Y39=Y28)*(W4:W39>W28)) -> 4 | AF28: =SUMPRODUCT((AC4:AC39=AC28)*(Y4:Y39=Y28)*(W4:W39=W28)*(O4:O39>O28)) -> 0 | AG28: =SUMPRODUCT((AC4:AC39=AC28)*(Y4:Y39=Y28)*(W4:W39=W28)*(O4:O39=O28)*(T4:T39>T28)) -> 0 | AH28: =SUMPRODUCT((AC4:AC39=AC28)*(Y4:Y39=Y28)*(W4:W39=W28)*(O4:O39=O28)*(T4:T39=T28)*(L4:L39>L28)) -> 0 | AJ28: =SUMIFS(Z4:Z39,B4:B39,Teams!I29)+SUMIFS(Z4:Z39,B4:B39,Teams!J29)+SUMIFS(Z4:Z39,B4:B39,Teams!K29)+SUMIFS(Z4:Z39,B4:B39,Teams!L29)+SUMIFS(Z4:Z39,B4:B39,Teams!M29)+SUMIFS(Z4:Z39,B4:B39,Teams!N29)+SUMIFS(Z4:Z39,B4:B39,Teams!O29)+SUMIFS(Z4:Z39,B4:B39,Teams!P29) -> 8 | AK28: =SUMIFS(Y4:Y39,B4:B39,Teams!I29)+SUMIFS(Y4:Y39,B4:B39,Teams!J29)+SUMIFS(Y4:Y39,B4:B39,Teams!K29)+SUMIFS(Y4:Y39,B4:B39,Teams!L29)+SUMIFS(Y4:Y39,B4:B39,Teams!M29)+SUMIFS(Y4:Y39,B4:B39,Teams!N29)+SUMIFS(Y4:Y39,B4:B39,Teams!O29)+SUMIFS(Y4:Y39,B4:B39,Teams!P29) -> 0 | AL28: =SUMIFS(W4:W39,B4:B39,Teams!I29)+SUMIFS(W4:W39,B4:B39,Teams!J29)+SUMIFS(W4:W39,B4:B39,Teams!K29)+SUMIFS(W4:W39,B4:B39,Teams!L29)+SUMIFS(W4:W39,B4:B39,Teams!M29)+SUMIFS(W4:W39,B4:B39,Teams!N29)+SUMIFS(W4:W39,B4:B39,Teams!O29)+SUMIFS(W4:W39,B4:B39,Teams!P29) -> 13 | AM28: =IFERROR(VALUE(IFERROR(INDEX(AI:AI,MATCH(B39,AQ:AQ,0),0),"")),"") | AN28: =SUMPRODUCT((AC4:AC39=AC28)*(Y4:Y39=Y28)*(W4:W39=W28)*(O4:O39=O28)*(T4:T39=T28)*(L4:L39=L28)*(AJ4:AJ39>AJ28)) -> 0 | AO28: =SUMPRODUCT((AC4:AC39=AC28)*(Y4:Y39=Y28)*(W4:W39=W28)*(O4:O39=O28)*(T4:T39=T28)*(L4:L39=L28)*(AJ4:AJ39=AJ28)*(AK4:AK39>AK28)) -> 0 | AP28: =SUMPRODUCT((AC4:AC39=AC28)*(Y4:Y39=Y28)*(W4:W39=W28)*(O4:O39=O28)*(T4:T39=T28)*(L4:L39=L28)*(AJ4:AJ39=AJ28)*(AK4:AK39=AK28)*(AL4:AL39>AL28)) -> 0 | AR28: =SUMPRODUCT((AC4:AC39=AC28)*(Y4:Y39=Y28)*(W4:W39=W28)*(O4:O39=O28)*(T4:T39=T28)*(L4:L39=L28)*(AJ4:AJ39=AJ28)*(AK4:AK39=AK28)*(AL4:AL39=AL28)*(AB4:AB39>AB28)) -> 0 | AS28: =SUMPRODUCT((AC4:AC39=AC28)*(Y4:Y39=Y28)*(W4:W39=W28)*(O4:O39=O28)*(T4:T39=T28)*(L4:L39=L28)*(AJ4:AJ39=AJ28)*(AK4:AK39=AK28)*(AL4:AL39=AL28)*(AB4:AB39=AB28)*(AA4:AA39>AA28)) -> 0
A29: =SUM(AC29:AH29)+SUM(AN29:AP29)+SUM(AR29:AS29) -> 27 | B29: =Teams!C30 -> PSV Eindhoven | C29: =SUM(D29:F29) -> 0 | D29: =SUMPRODUCT(('Group Stages'!E6:E149<>"")*('Group Stages'!F6:F149<>"")*('Group Stages'!D6:D149='Dummy Table'!B29)*('Group Stages'!E6:E149>'Group Stages'!F6:F149)) -> 0 | E29: =SUMPRODUCT(('Group Stages'!E6:E149<>"")*('Group Stages'!F6:F149<>"")*('Group Stages'!D6:D149='Dummy Table'!B29)*('Group Stages'!E6:E149='Group Stages'!F6:F149)) -> 0 | F29: =SUMPRODUCT(('Group Stages'!E6:E149<>"")*('Group Stages'!F6:F149<>"")*('Group Stages'!D6:D149='Dummy Table'!B29)*('Group Stages'!E6:E149<'Group Stages'!F6:F149)) -> 0 | G29: =SUMIF('Group Stages'!D6:D149,'Dummy Table'!B29,'Group Stages'!E6:E149) -> 0 | H29: =SUMIF('Group Stages'!D6:D149,'Dummy Table'!B29,'Group Stages'!F6:F149) -> 0 | I29: =G29-H29 -> 0 | J29: =D29*3+E29*1 -> 0 | K29: =SUM(L29:N29) -> 1 | L29: =SUMPRODUCT(('Group Stages'!E6:E149<>"")*('Group Stages'!F6:F149<>"")*('Group Stages'!G6:G149='Dummy Table'!B29)*('Group Stages'!E6:E149<'Group Stages'!F6:F149)) -> 0 | M29: =SUMPRODUCT(('Group Stages'!E6:E149<>"")*('Group Stages'!F6:F149<>"")*('Group Stages'!G6:G149='Dummy Table'!B29)*('Group Stages'!E6:E149='Group Stages'!F6:F149)) -> 0 | N29: =SUMPRODUCT(('Group Stages'!E6:E149<>"")*('Group Stages'!F6:F149<>"")*('Group Stages'!G6:G149='Dummy Table'!B29)*('Group Stages'!E6:E149>'Group Stages'!F6:F149)) -> 1 | O29: =IF(AM29="",VALUE(SUMIF('Group Stages'!G6:G149,'Dummy Table'!B29,'Group Stages'!F6:F149)),0) -> 1 | P29: =SUMIF('Group Stages'!G6:G149,'Dummy Table'!B29,'Group Stages'!E6:E149) -> 3 | Q29: =O29-P29 -> -2 | R29: =L29*3+M29*1 -> 0 | S29: =C29+K29 -> 1 | T29: =IF(AM29="",D29+L29,0) -> 0 | U29: =E29+M29 -> 0 | V29: =F29+N29 -> 1 | W29: =G29+O29 -> 1 | X29: =H29+P29 -> 3 | Y29: =I29+Q29 -> -2 | Z29: =J29+R29 -> 0 | AA29: =Teams!F30 -> 48000 | AB29: =Teams!G30 -> 0 | AC29: =RANK(Z29,Z4:Z39) -> 22 | AD29: =SUMPRODUCT((AC4:AC39=AC29)*(Y4:Y39>Y29)) -> 5 | AE29: =SUMPRODUCT((AC4:AC39=AC29)*(Y4:Y39=Y29)*(W4:W39>W29)) -> 0 | AF29: =SUMPRODUCT((AC4:AC39=AC29)*(Y4:Y39=Y29)*(W4:W39=W29)*(O4:O39>O29)) -> 0 | AG29: =SUMPRODUCT((AC4:AC39=AC29)*(Y4:Y39=Y29)*(W4:W39=W29)*(O4:O39=O29)*(T4:T39>T29)) -> 0 | AH29: =SUMPRODUCT((AC4:AC39=AC29)*(Y4:Y39=Y29)*(W4:W39=W29)*(O4:O39=O29)*(T4:T39=T29)*(L4:L39>L29)) -> 0 | AJ29: =SUMIFS(Z4:Z39,B4:B39,Teams!I30)+SUMIFS(Z4:Z39,B4:B39,Teams!J30)+SUMIFS(Z4:Z39,B4:B39,Teams!K30)+SUMIFS(Z4:Z39,B4:B39,Teams!L30)+SUMIFS(Z4:Z39,B4:B39,Teams!M30)+SUMIFS(Z4:Z39,B4:B39,Teams!N30)+SUMIFS(Z4:Z39,B4:B39,Teams!O30)+SUMIFS(Z4:Z39,B4:B39,Teams!P30) -> 16 | AK29: =SUMIFS(Y4:Y39,B4:B39,Teams!I30)+SUMIFS(Y4:Y39,B4:B39,Teams!J30)+SUMIFS(Y4:Y39,B4:B39,Teams!K30)+SUMIFS(Y4:Y39,B4:B39,Teams!L30)+SUMIFS(Y4:Y39,B4:B39,Teams!M30)+SUMIFS(Y4:Y39,B4:B39,Teams!N30)+SUMIFS(Y4:Y39,B4:B39,Teams!O30)+SUMIFS(Y4:Y39,B4:B39,Teams!P30) -> 6 | AL29: =SUMIFS(W4:W39,B4:B39,Teams!I30)+SUMIFS(W4:W39,B4:B39,Teams!J30)+SUMIFS(W4:W39,B4:B39,Teams!K30)+SUMIFS(W4:W39,B4:B39,Teams!L30)+SUMIFS(W4:W39,B4:B39,Teams!M30)+SUMIFS(W4:W39,B4:B39,Teams!N30)+SUMIFS(W4:W39,B4:B39,Teams!O30)+SUMIFS(W4:W39,B4:B39,Teams!P30) -> 12 | AM29: =IFERROR(VALUE(IFERROR(INDEX(AI:AI,MATCH(B40,AQ:AQ,0),0),"")),"") | AN29: =SUMPRODUCT((AC4:AC39=AC29)*(Y4:Y39=Y29)*(W4:W39=W29)*(O4:O39=O29)*(T4:T39=T29)*(L4:L39=L29)*(AJ4:AJ39>AJ29)) -> 0 | AO29: =SUMPRODUCT((AC4:AC39=AC29)*(Y4:Y39=Y29)*(W4:W39=W29)*(O4:O39=O29)*(T4:T39=T29)*(L4:L39=L29)*(AJ4:AJ39=AJ29)*(AK4:AK39>AK29)) -> 0 | AP29: =SUMPRODUCT((AC4:AC39=AC29)*(Y4:Y39=Y29)*(W4:W39=W29)*(O4:O39=O29)*(T4:T39=T29)*(L4:L39=L29)*(AJ4:AJ39=AJ29)*(AK4:AK39=AK29)*(AL4:AL39>AL29)) -> 0 | AR29: =SUMPRODUCT((AC4:AC39=AC29)*(Y4:Y39=Y29)*(W4:W39=W29)*(O4:O39=O29)*(T4:T39=T29)*(L4:L39=L29)*(AJ4:AJ39=AJ29)*(AK4:AK39=AK29)*(AL4:AL39=AL29)*(AB4:AB39>AB29)) -> 0 | AS29: =SUMPRODUCT((AC4:AC39=AC29)*(Y4:Y39=Y29)*(W4:W39=W29)*(O4:O39=O29)*(T4:T39=T29)*(L4:L39=L29)*(AJ4:AJ39=AJ29)*(AK4:AK39=AK29)*(AL4:AL39=AL29)*(AB4:AB39=AB29)*(AA4:AA39>AA29)) -> 0
A30: =SUM(AC30:AH30)+SUM(AN30:AP30)+SUM(AR30:AS30) -> 22 | B30: =Teams!C31 -> RB Leipzig | C30: =SUM(D30:F30) -> 0 | D30: =SUMPRODUCT(('Group Stages'!E6:E149<>"")*('Group Stages'!F6:F149<>"")*('Group Stages'!D6:D149='Dummy Table'!B30)*('Group Stages'!E6:E149>'Group Stages'!F6:F149)) -> 0 | E30: =SUMPRODUCT(('Group Stages'!E6:E149<>"")*('Group Stages'!F6:F149<>"")*('Group Stages'!D6:D149='Dummy Table'!B30)*('Group Stages'!E6:E149='Group Stages'!F6:F149)) -> 0 | F30: =SUMPRODUCT(('Group Stages'!E6:E149<>"")*('Group Stages'!F6:F149<>"")*('Group Stages'!D6:D149='Dummy Table'!B30)*('Group Stages'!E6:E149<'Group Stages'!F6:F149)) -> 0 | G30: =SUMIF('Group Stages'!D6:D149,'Dummy Table'!B30,'Group Stages'!E6:E149) -> 0 | H30: =SUMIF('Group Stages'!D6:D149,'Dummy Table'!B30,'Group Stages'!F6:F149) -> 0 | I30: =G30-H30 -> 0 | J30: =D30*3+E30*1 -> 0 | K30: =SUM(L30:N30) -> 1 | L30: =SUMPRODUCT(('Group Stages'!E6:E149<>"")*('Group Stages'!F6:F149<>"")*('Group Stages'!G6:G149='Dummy Table'!B30)*('Group Stages'!E6:E149<'Group Stages'!F6:F149)) -> 0 | M30: =SUMPRODUCT(('Group Stages'!E6:E149<>"")*('Group Stages'!F6:F149<>"")*('Group Stages'!G6:G149='Dummy Table'!B30)*('Group Stages'!E6:E149='Group Stages'!F6:F149)) -> 0 | N30: =SUMPRODUCT(('Group Stages'!E6:E149<>"")*('Group Stages'!F6:F149<>"")*('Group Stages'!G6:G149='Dummy Table'!B30)*('Group Stages'!E6:E149>'Group Stages'!F6:F149)) -> 1 | O30: =IF(AM30="",VALUE(SUMIF('Group Stages'!G6:G149,'Dummy Table'!B30,'Group Stages'!F6:F149)),0) -> 1 | P30: =SUMIF('Group Stages'!G6:G149,'Dummy Table'!B30,'Group Stages'!E6:E149) -> 2 | Q30: =O30-P30 -> -1 | R30: =L30*3+M30*1 -> 0 | S30: =C30+K30 -> 1 | T30: =IF(AM30="",D30+L30,0) -> 0 | U30: =E30+M30 -> 0 | V30: =F30+N30 -> 1 | W30: =G30+O30 -> 1 | X30: =H30+P30 -> 2 | Y30: =I30+Q30 -> -1 | Z30: =J30+R30 -> 0 | AA30: =Teams!F31 -> 70000 | AB30: =Teams!G31 -> 0 | AC30: =RANK(Z30,Z4:Z39) -> 22 | AD30: =SUMPRODUCT((AC4:AC39=AC30)*(Y4:Y39>Y30)) -> 0 | AE30: =SUMPRODUCT((AC4:AC39=AC30)*(Y4:Y39=Y30)*(W4:W39>W30)) -> 0 | AF30: =SUMPRODUCT((AC4:AC39=AC30)*(Y4:Y39=Y30)*(W4:W39=W30)*(O4:O39>O30)) -> 0 | AG30: =SUMPRODUCT((AC4:AC39=AC30)*(Y4:Y39=Y30)*(W4:W39=W30)*(O4:O39=O30)*(T4:T39>T30)) -> 0 | AH30: =SUMPRODUCT((AC4:AC39=AC30)*(Y4:Y39=Y30)*(W4:W39=W30)*(O4:O39=O30)*(T4:T39=T30)*(L4:L39>L30)) -> 0 | AJ30: =SUMIFS(Z4:Z39,B4:B39,Teams!I31)+SUMIFS(Z4:Z39,B4:B39,Teams!J31)+SUMIFS(Z4:Z39,B4:B39,Teams!K31)+SUMIFS(Z4:Z39,B4:B39,Teams!L31)+SUMIFS(Z4:Z39,B4:B39,Teams!M31)+SUMIFS(Z4:Z39,B4:B39,Teams!N31)+SUMIFS(Z4:Z39,B4:B39,Teams!O31)+SUMIFS(Z4:Z39,B4:B39,Teams!P31) -> 19 | AK30: =SUMIFS(Y4:Y39,B4:B39,Teams!I31)+SUMIFS(Y4:Y39,B4:B39,Teams!J31)+SUMIFS(Y4:Y39,B4:B39,Teams!K31)+SUMIFS(Y4:Y39,B4:B39,Teams!L31)+SUMIFS(Y4:Y39,B4:B39,Teams!M31)+SUMIFS(Y4:Y39,B4:B39,Teams!N31)+SUMIFS(Y4:Y39,B4:B39,Teams!O31)+SUMIFS(Y4:Y39,B4:B39,Teams!P31) -> 13 | AL30: =SUMIFS(W4:W39,B4:B39,Teams!I31)+SUMIFS(W4:W39,B4:B39,Teams!J31)+SUMIFS(W4:W39,B4:B39,Teams!K31)+SUMIFS(W4:W39,B4:B39,Teams!L31)+SUMIFS(W4:W39,B4:B39,Teams!M31)+SUMIFS(W4:W39,B4:B39,Teams!N31)+SUMIFS(W4:W39,B4:B39,Teams!O31)+SUMIFS(W4:W39,B4:B39,Teams!P31) -> 19 | AM30: =IFERROR(VALUE(IFERROR(INDEX(AI:AI,MATCH(B41,AQ:AQ,0),0),"")),"") | AN30: =SUMPRODUCT((AC4:AC39=AC30)*(Y4:Y39=Y30)*(W4:W39=W30)*(O4:O39=O30)*(T4:T39=T30)*(L4:L39=L30)*(AJ4:AJ39>AJ30)) -> 0 | AO30: =SUMPRODUCT((AC4:AC39=AC30)*(Y4:Y39=Y30)*(W4:W39=W30)*(O4:O39=O30)*(T4:T39=T30)*(L4:L39=L30)*(AJ4:AJ39=AJ30)*(AK4:AK39>AK30)) -> 0 | AP30: =SUMPRODUCT((AC4:AC39=AC30)*(Y4:Y39=Y30)*(W4:W39=W30)*(O4:O39=O30)*(T4:T39=T30)*(L4:L39=L30)*(AJ4:AJ39=AJ30)*(AK4:AK39=AK30)*(AL4:AL39>AL30)) -> 0 | AR30: =SUMPRODUCT((AC4:AC39=AC30)*(Y4:Y39=Y30)*(W4:W39=W30)*(O4:O39=O30)*(T4:T39=T30)*(L4:L39=L30)*(AJ4:AJ39=AJ30)*(AK4:AK39=AK30)*(AL4:AL39=AL30)*(AB4:AB39>AB30)) -> 0 | AS30: =SUMPRODUCT((AC4:AC39=AC30)*(Y4:Y39=Y30)*(W4:W39=W30)*(O4:O39=O30)*(T4:T39=T30)*(L4:L39=L30)*(AJ4:AJ39=AJ30)*(AK4:AK39=AK30)*(AL4:AL39=AL30)*(AB4:AB39=AB30)*(AA4:AA39>AA30)) -> 0
A31: =SUM(AC31:AH31)+SUM(AN31:AP31)+SUM(AR31:AS31) -> 31 | B31: =Teams!C32 -> RB Salzburg | C31: =SUM(D31:F31) -> 0 | D31: =SUMPRODUCT(('Group Stages'!E6:E149<>"")*('Group Stages'!F6:F149<>"")*('Group Stages'!D6:D149='Dummy Table'!B31)*('Group Stages'!E6:E149>'Group Stages'!F6:F149)) -> 0 | E31: =SUMPRODUCT(('Group Stages'!E6:E149<>"")*('Group Stages'!F6:F149<>"")*('Group Stages'!D6:D149='Dummy Table'!B31)*('Group Stages'!E6:E149='Group Stages'!F6:F149)) -> 0 | F31: =SUMPRODUCT(('Group Stages'!E6:E149<>"")*('Group Stages'!F6:F149<>"")*('Group Stages'!D6:D149='Dummy Table'!B31)*('Group Stages'!E6:E149<'Group Stages'!F6:F149)) -> 0 | G31: =SUMIF('Group Stages'!D6:D149,'Dummy Table'!B31,'Group Stages'!E6:E149) -> 0 | H31: =SUMIF('Group Stages'!D6:D149,'Dummy Table'!B31,'Group Stages'!F6:F149) -> 0 | I31: =G31-H31 -> 0 | J31: =D31*3+E31*1 -> 0 | K31: =SUM(L31:N31) -> 1 | L31: =SUMPRODUCT(('Group Stages'!E6:E149<>"")*('Group Stages'!F6:F149<>"")*('Group Stages'!G6:G149='Dummy Table'!B31)*('Group Stages'!E6:E149<'Group Stages'!F6:F149)) -> 0 | M31: =SUMPRODUCT(('Group Stages'!E6:E149<>"")*('Group Stages'!F6:F149<>"")*('Group Stages'!G6:G149='Dummy Table'!B31)*('Group Stages'!E6:E149='Group Stages'!F6:F149)) -> 0 | N31: =SUMPRODUCT(('Group Stages'!E6:E149<>"")*('Group Stages'!F6:F149<>"")*('Group Stages'!G6:G149='Dummy Table'!B31)*('Group Stages'!E6:E149>'Group Stages'!F6:F149)) -> 1 | O31: =IF(AM31="",VALUE(SUMIF('Group Stages'!G6:G149,'Dummy Table'!B31,'Group Stages'!F6:F149)),0) -> 0 | P31: =SUMIF('Group Stages'!G6:G149,'Dummy Table'!B31,'Group Stages'!E6:E149) -> 3 | Q31: =O31-P31 -> -3 | R31: =L31*3+M31*1 -> 0 | S31: =C31+K31 -> 1 | T31: =IF(AM31="",D31+L31,0) -> 0 | U31: =E31+M31 -> 0 | V31: =F31+N31 -> 1 | W31: =G31+O31 -> 0 | X31: =H31+P31 -> 3 | Y31: =I31+Q31 -> -3 | Z31: =J31+R31 -> 0 | AA31: =Teams!F32 -> 40000 | AB31: =Teams!G32 -> 0 | AC31: =RANK(Z31,Z4:Z39) -> 22 | AD31: =SUMPRODUCT((AC4:AC39=AC31)*(Y4:Y39>Y31)) -> 9 | AE31: =SUMPRODUCT((AC4:AC39=AC31)*(Y4:Y39=Y31)*(W4:W39>W31)) -> 0 | AF31: =SUMPRODUCT((AC4:AC39=AC31)*(Y4:Y39=Y31)*(W4:W39=W31)*(O4:O39>O31)) -> 0 | AG31: =SUMPRODUCT((AC4:AC39=AC31)*(Y4:Y39=Y31)*(W4:W39=W31)*(O4:O39=O31)*(T4:T39>T31)) -> 0 | AH31: =SUMPRODUCT((AC4:AC39=AC31)*(Y4:Y39=Y31)*(W4:W39=W31)*(O4:O39=O31)*(T4:T39=T31)*(L4:L39>L31)) -> 0 | AJ31: =SUMIFS(Z4:Z39,B4:B39,Teams!I32)+SUMIFS(Z4:Z39,B4:B39,Teams!J32)+SUMIFS(Z4:Z39,B4:B39,Teams!K32)+SUMIFS(Z4:Z39,B4:B39,Teams!L32)+SUMIFS(Z4:Z39,B4:B39,Teams!M32)+SUMIFS(Z4:Z39,B4:B39,Teams!N32)+SUMIFS(Z4:Z39,B4:B39,Teams!O32)+SUMIFS(Z4:Z39,B4:B39,Teams!P32) -> 18 | AK31: =SUMIFS(Y4:Y39,B4:B39,Teams!I32)+SUMIFS(Y4:Y39,B4:B39,Teams!J32)+SUMIFS(Y4:Y39,B4:B39,Teams!K32)+SUMIFS(Y4:Y39,B4:B39,Teams!L32)+SUMIFS(Y4:Y39,B4:B39,Teams!M32)+SUMIFS(Y4:Y39,B4:B39,Teams!N32)+SUMIFS(Y4:Y39,B4:B39,Teams!O32)+SUMIFS(Y4:Y39,B4:B39,Teams!P32) -> 1 | AL31: =SUMIFS(W4:W39,B4:B39,Teams!I32)+SUMIFS(W4:W39,B4:B39,Teams!J32)+SUMIFS(W4:W39,B4:B39,Teams!K32)+SUMIFS(W4:W39,B4:B39,Teams!L32)+SUMIFS(W4:W39,B4:B39,Teams!M32)+SUMIFS(W4:W39,B4:B39,Teams!N32)+SUMIFS(W4:W39,B4:B39,Teams!O32)+SUMIFS(W4:W39,B4:B39,Teams!P32) -> 17 | AM31: =IFERROR(VALUE(IFERROR(INDEX(AI:AI,MATCH(B42,AQ:AQ,0),0),"")),"") | AN31: =SUMPRODUCT((AC4:AC39=AC31)*(Y4:Y39=Y31)*(W4:W39=W31)*(O4:O39=O31)*(T4:T39=T31)*(L4:L39=L31)*(AJ4:AJ39>AJ31)) -> 0 | AO31: =SUMPRODUCT((AC4:AC39=AC31)*(Y4:Y39=Y31)*(W4:W39=W31)*(O4:O39=O31)*(T4:T39=T31)*(L4:L39=L31)*(AJ4:AJ39=AJ31)*(AK4:AK39>AK31)) -> 0 | AP31: =SUMPRODUCT((AC4:AC39=AC31)*(Y4:Y39=Y31)*(W4:W39=W31)*(O4:O39=O31)*(T4:T39=T31)*(L4:L39=L31)*(AJ4:AJ39=AJ31)*(AK4:AK39=AK31)*(AL4:AL39>AL31)) -> 0 | AR31: =SUMPRODUCT((AC4:AC39=AC31)*(Y4:Y39=Y31)*(W4:W39=W31)*(O4:O39=O31)*(T4:T39=T31)*(L4:L39=L31)*(AJ4:AJ39=AJ31)*(AK4:AK39=AK31)*(AL4:AL39=AL31)*(AB4:AB39>AB31)) -> 0 | AS31: =SUMPRODUCT((AC4:AC39=AC31)*(Y4:Y39=Y31)*(W4:W39=W31)*(O4:O39=O31)*(T4:T39=T31)*(L4:L39=L31)*(AJ4:AJ39=AJ31)*(AK4:AK39=AK31)*(AL4:AL39=AL31)*(AB4:AB39=AB31)*(AA4:AA39>AA31)) -> 0
A32: =SUM(AC32:AH32)+SUM(AN32:AP32)+SUM(AR32:AS32) -> 8 | B32: =Teams!C33 -> Real Madrid | C32: =SUM(D32:F32) -> 1 | D32: =SUMPRODUCT(('Group Stages'!E6:E149<>"")*('Group Stages'!F6:F149<>"")*('Group Stages'!D6:D149='Dummy Table'!B32)*('Group Stages'!E6:E149>'Group Stages'!F6:F149)) -> 1 | E32: =SUMPRODUCT(('Group Stages'!E6:E149<>"")*('Group Stages'!F6:F149<>"")*('Group Stages'!D6:D149='Dummy Table'!B32)*('Group Stages'!E6:E149='Group Stages'!F6:F149)) -> 0 | F32: =SUMPRODUCT(('Group Stages'!E6:E149<>"")*('Group Stages'!F6:F149<>"")*('Group Stages'!D6:D149='Dummy Table'!B32)*('Group Stages'!E6:E149<'Group Stages'!F6:F149)) -> 0 | G32: =SUMIF('Group Stages'!D6:D149,'Dummy Table'!B32,'Group Stages'!E6:E149) -> 3 | H32: =SUMIF('Group Stages'!D6:D149,'Dummy Table'!B32,'Group Stages'!F6:F149) -> 1 | I32: =G32-H32 -> 2 | J32: =D32*3+E32*1 -> 3 | K32: =SUM(L32:N32) -> 0 | L32: =SUMPRODUCT(('Group Stages'!E6:E149<>"")*('Group Stages'!F6:F149<>"")*('Group Stages'!G6:G149='Dummy Table'!B32)*('Group Stages'!E6:E149<'Group Stages'!F6:F149)) -> 0 | M32: =SUMPRODUCT(('Group Stages'!E6:E149<>"")*('Group Stages'!F6:F149<>"")*('Group Stages'!G6:G149='Dummy Table'!B32)*('Group Stages'!E6:E149='Group Stages'!F6:F149)) -> 0 | N32: =SUMPRODUCT(('Group Stages'!E6:E149<>"")*('Group Stages'!F6:F149<>"")*('Group Stages'!G6:G149='Dummy Table'!B32)*('Group Stages'!E6:E149>'Group Stages'!F6:F149)) -> 0 | O32: =IF(AM32="",VALUE(SUMIF('Group Stages'!G6:G149,'Dummy Table'!B32,'Group Stages'!F6:F149)),0) -> 0 | P32: =SUMIF('Group Stages'!G6:G149,'Dummy Table'!B32,'Group Stages'!E6:E149) -> 0 | Q32: =O32-P32 -> 0 | R32: =L32*3+M32*1 -> 0 | S32: =C32+K32 -> 1 | T32: =IF(AM32="",D32+L32,0) -> 1 | U32: =E32+M32 -> 0 | V32: =F32+N32 -> 0 | W32: =G32+O32 -> 3 | X32: =H32+P32 -> 1 | Y32: =I32+Q32 -> 2 | Z32: =J32+R32 -> 3 | AA32: =Teams!F33 -> 119000 | AB32: =Teams!G33 -> 0 | AC32: =RANK(Z32,Z4:Z39) -> 1 | AD32: =SUMPRODUCT((AC4:AC39=AC32)*(Y4:Y39>Y32)) -> 6 | AE32: =SUMPRODUCT((AC4:AC39=AC32)*(Y4:Y39=Y32)*(W4:W39>W32)) -> 0 | AF32: =SUMPRODUCT((AC4:AC39=AC32)*(Y4:Y39=Y32)*(W4:W39=W32)*(O4:O39>O32)) -> 1 | AG32: =SUMPRODUCT((AC4:AC39=AC32)*(Y4:Y39=Y32)*(W4:W39=W32)*(O4:O39=O32)*(T4:T39>T32)) -> 0 | AH32: =SUMPRODUCT((AC4:AC39=AC32)*(Y4:Y39=Y32)*(W4:W39=W32)*(O4:O39=O32)*(T4:T39=T32)*(L4:L39>L32)) -> 0 | AJ32: =SUMIFS(Z4:Z39,B4:B39,Teams!I33)+SUMIFS(Z4:Z39,B4:B39,Teams!J33)+SUMIFS(Z4:Z39,B4:B39,Teams!K33)+SUMIFS(Z4:Z39,B4:B39,Teams!L33)+SUMIFS(Z4:Z39,B4:B39,Teams!M33)+SUMIFS(Z4:Z39,B4:B39,Teams!N33)+SUMIFS(Z4:Z39,B4:B39,Teams!O33)+SUMIFS(Z4:Z39,B4:B39,Teams!P33) -> 10 | AK32: =SUMIFS(Y4:Y39,B4:B39,Teams!I33)+SUMIFS(Y4:Y39,B4:B39,Teams!J33)+SUMIFS(Y4:Y39,B4:B39,Teams!K33)+SUMIFS(Y4:Y39,B4:B39,Teams!L33)+SUMIFS(Y4:Y39,B4:B39,Teams!M33)+SUMIFS(Y4:Y39,B4:B39,Teams!N33)+SUMIFS(Y4:Y39,B4:B39,Teams!O33)+SUMIFS(Y4:Y39,B4:B39,Teams!P33) -> -3 | AL32: =SUMIFS(W4:W39,B4:B39,Teams!I33)+SUMIFS(W4:W39,B4:B39,Teams!J33)+SUMIFS(W4:W39,B4:B39,Teams!K33)+SUMIFS(W4:W39,B4:B39,Teams!L33)+SUMIFS(W4:W39,B4:B39,Teams!M33)+SUMIFS(W4:W39,B4:B39,Teams!N33)+SUMIFS(W4:W39,B4:B39,Teams!O33)+SUMIFS(W4:W39,B4:B39,Teams!P33) -> 10 | AM32: =IFERROR(VALUE(IFERROR(INDEX(AI:AI,MATCH(B43,AQ:AQ,0),0),"")),"") | AN32: =SUMPRODUCT((AC4:AC39=AC32)*(Y4:Y39=Y32)*(W4:W39=W32)*(O4:O39=O32)*(T4:T39=T32)*(L4:L39=L32)*(AJ4:AJ39>AJ32)) -> 0 | AO32: =SUMPRODUCT((AC4:AC39=AC32)*(Y4:Y39=Y32)*(W4:W39=W32)*(O4:O39=O32)*(T4:T39=T32)*(L4:L39=L32)*(AJ4:AJ39=AJ32)*(AK4:AK39>AK32)) -> 0 | AP32: =SUMPRODUCT((AC4:AC39=AC32)*(Y4:Y39=Y32)*(W4:W39=W32)*(O4:O39=O32)*(T4:T39=T32)*(L4:L39=L32)*(AJ4:AJ39=AJ32)*(AK4:AK39=AK32)*(AL4:AL39>AL32)) -> 0 | AR32: =SUMPRODUCT((AC4:AC39=AC32)*(Y4:Y39=Y32)*(W4:W39=W32)*(O4:O39=O32)*(T4:T39=T32)*(L4:L39=L32)*(AJ4:AJ39=AJ32)*(AK4:AK39=AK32)*(AL4:AL39=AL32)*(AB4:AB39>AB32)) -> 0 | AS32: =SUMPRODUCT((AC4:AC39=AC32)*(Y4:Y39=Y32)*(W4:W39=W32)*(O4:O39=O32)*(T4:T39=T32)*(L4:L39=L32)*(AJ4:AJ39=AJ32)*(AK4:AK39=AK32)*(AL4:AL39=AL32)*(AB4:AB39=AB32)*(AA4:AA39>AA32)) -> 0
A33: =SUM(AC33:AH33)+SUM(AN33:AP33)+SUM(AR33:AS33) -> 18 | B33: =Teams!C34 -> Shakhtar Donetsk | C33: =SUM(D33:F33) -> 0 | D33: =SUMPRODUCT(('Group Stages'!E6:E149<>"")*('Group Stages'!F6:F149<>"")*('Group Stages'!D6:D149='Dummy Table'!B33)*('Group Stages'!E6:E149>'Group Stages'!F6:F149)) -> 0 | E33: =SUMPRODUCT(('Group Stages'!E6:E149<>"")*('Group Stages'!F6:F149<>"")*('Group Stages'!D6:D149='Dummy Table'!B33)*('Group Stages'!E6:E149='Group Stages'!F6:F149)) -> 0 | F33: =SUMPRODUCT(('Group Stages'!E6:E149<>"")*('Group Stages'!F6:F149<>"")*('Group Stages'!D6:D149='Dummy Table'!B33)*('Group Stages'!E6:E149<'Group Stages'!F6:F149)) -> 0 | G33: =SUMIF('Group Stages'!D6:D149,'Dummy Table'!B33,'Group Stages'!E6:E149) -> 0 | H33: =SUMIF('Group Stages'!D6:D149,'Dummy Table'!B33,'Group Stages'!F6:F149) -> 0 | I33: =G33-H33 -> 0 | J33: =D33*3+E33*1 -> 0 | K33: =SUM(L33:N33) -> 1 | L33: =SUMPRODUCT(('Group Stages'!E6:E149<>"")*('Group Stages'!F6:F149<>"")*('Group Stages'!G6:G149='Dummy Table'!B33)*('Group Stages'!E6:E149<'Group Stages'!F6:F149)) -> 0 | M33: =SUMPRODUCT(('Group Stages'!E6:E149<>"")*('Group Stages'!F6:F149<>"")*('Group Stages'!G6:G149='Dummy Table'!B33)*('Group Stages'!E6:E149='Group Stages'!F6:F149)) -> 1 | N33: =SUMPRODUCT(('Group Stages'!E6:E149<>"")*('Group Stages'!F6:F149<>"")*('Group Stages'!G6:G149='Dummy Table'!B33)*('Group Stages'!E6:E149>'Group Stages'!F6:F149)) -> 0 | O33: =IF(AM33="",VALUE(SUMIF('Group Stages'!G6:G149,'Dummy Table'!B33,'Group Stages'!F6:F149)),0) -> 0 | P33: =SUMIF('Group Stages'!G6:G149,'Dummy Table'!B33,'Group Stages'!E6:E149) -> 0 | Q33: =O33-P33 -> 0 | R33: =L33*3+M33*1 -> 1 | S33: =C33+K33 -> 1 | T33: =IF(AM33="",D33+L33,0) -> 0 | U33: =E33+M33 -> 1 | V33: =F33+N33 -> 0 | W33: =G33+O33 -> 0 | X33: =H33+P33 -> 0 | Y33: =I33+Q33 -> 0 | Z33: =J33+R33 -> 1 | AA33: =Teams!F34 -> 41000 | AB33: =Teams!G34 -> 0 | AC33: =RANK(Z33,Z4:Z39) -> 16 | AD33: =SUMPRODUCT((AC4:AC39=AC33)*(Y4:Y39>Y33)) -> 0 | AE33: =SUMPRODUCT((AC4:AC39=AC33)*(Y4:Y39=Y33)*(W4:W39>W33)) -> 0 | AF33: =SUMPRODUCT((AC4:AC39=AC33)*(Y4:Y39=Y33)*(W4:W39=W33)*(O4:O39>O33)) -> 0 | AG33: =SUMPRODUCT((AC4:AC39=AC33)*(Y4:Y39=Y33)*(W4:W39=W33)*(O4:O39=O33)*(T4:T39>T33)) -> 0 | AH33: =SUMPRODUCT((AC4:AC39=AC33)*(Y4:Y39=Y33)*(W4:W39=W33)*(O4:O39=O33)*(T4:T39=T33)*(L4:L39>L33)) -> 0 | AJ33: =SUMIFS(Z4:Z39,B4:B39,Teams!I34)+SUMIFS(Z4:Z39,B4:B39,Teams!J34)+SUMIFS(Z4:Z39,B4:B39,Teams!K34)+SUMIFS(Z4:Z39,B4:B39,Teams!L34)+SUMIFS(Z4:Z39,B4:B39,Teams!M34)+SUMIFS(Z4:Z39,B4:B39,Teams!N34)+SUMIFS(Z4:Z39,B4:B39,Teams!O34)+SUMIFS(Z4:Z39,B4:B39,Teams!P34) -> 12 | AK33: =SUMIFS(Y4:Y39,B4:B39,Teams!I34)+SUMIFS(Y4:Y39,B4:B39,Teams!J34)+SUMIFS(Y4:Y39,B4:B39,Teams!K34)+SUMIFS(Y4:Y39,B4:B39,Teams!L34)+SUMIFS(Y4:Y39,B4:B39,Teams!M34)+SUMIFS(Y4:Y39,B4:B39,Teams!N34)+SUMIFS(Y4:Y39,B4:B39,Teams!O34)+SUMIFS(Y4:Y39,B4:B39,Teams!P34) -> 6 | AL33: =SUMIFS(W4:W39,B4:B39,Teams!I34)+SUMIFS(W4:W39,B4:B39,Teams!J34)+SUMIFS(W4:W39,B4:B39,Teams!K34)+SUMIFS(W4:W39,B4:B39,Teams!L34)+SUMIFS(W4:W39,B4:B39,Teams!M34)+SUMIFS(W4:W39,B4:B39,Teams!N34)+SUMIFS(W4:W39,B4:B39,Teams!O34)+SUMIFS(W4:W39,B4:B39,Teams!P34) -> 15 | AM33: =IFERROR(VALUE(IFERROR(INDEX(AI:AI,MATCH(B44,AQ:AQ,0),0),"")),"") | AN33: =SUMPRODUCT((AC4:AC39=AC33)*(Y4:Y39=Y33)*(W4:W39=W33)*(O4:O39=O33)*(T4:T39=T33)*(L4:L39=L33)*(AJ4:AJ39>AJ33)) -> 2 | AO33: =SUMPRODUCT((AC4:AC39=AC33)*(Y4:Y39=Y33)*(W4:W39=W33)*(O4:O39=O33)*(T4:T39=T33)*(L4:L39=L33)*(AJ4:AJ39=AJ33)*(AK4:AK39>AK33)) -> 0 | AP33: =SUMPRODUCT((AC4:AC39=AC33)*(Y4:Y39=Y33)*(W4:W39=W33)*(O4:O39=O33)*(T4:T39=T33)*(L4:L39=L33)*(AJ4:AJ39=AJ33)*(AK4:AK39=AK33)*(AL4:AL39>AL33)) -> 0 | AR33: =SUMPRODUCT((AC4:AC39=AC33)*(Y4:Y39=Y33)*(W4:W39=W33)*(O4:O39=O33)*(T4:T39=T33)*(L4:L39=L33)*(AJ4:AJ39=AJ33)*(AK4:AK39=AK33)*(AL4:AL39=AL33)*(AB4:AB39>AB33)) -> 0 | AS33: =SUMPRODUCT((AC4:AC39=AC33)*(Y4:Y39=Y33)*(W4:W39=W33)*(O4:O39=O33)*(T4:T39=T33)*(L4:L39=L33)*(AJ4:AJ39=AJ33)*(AK4:AK39=AK33)*(AL4:AL39=AL33)*(AB4:AB39=AB33)*(AA4:AA39>AA33)) -> 0
A34: =SUM(AC34:AH34)+SUM(AN34:AP34)+SUM(AR34:AS34) -> 34 | B34: =Teams!C35 -> Slovan Bratislava | C34: =SUM(D34:F34) -> 0 | D34: =SUMPRODUCT(('Group Stages'!E6:E149<>"")*('Group Stages'!F6:F149<>"")*('Group Stages'!D6:D149='Dummy Table'!B34)*('Group Stages'!E6:E149>'Group Stages'!F6:F149)) -> 0 | E34: =SUMPRODUCT(('Group Stages'!E6:E149<>"")*('Group Stages'!F6:F149<>"")*('Group Stages'!D6:D149='Dummy Table'!B34)*('Group Stages'!E6:E149='Group Stages'!F6:F149)) -> 0 | F34: =SUMPRODUCT(('Group Stages'!E6:E149<>"")*('Group Stages'!F6:F149<>"")*('Group Stages'!D6:D149='Dummy Table'!B34)*('Group Stages'!E6:E149<'Group Stages'!F6:F149)) -> 0 | G34: =SUMIF('Group Stages'!D6:D149,'Dummy Table'!B34,'Group Stages'!E6:E149) -> 0 | H34: =SUMIF('Group Stages'!D6:D149,'Dummy Table'!B34,'Group Stages'!F6:F149) -> 0 | I34: =G34-H34 -> 0 | J34: =D34*3+E34*1 -> 0 | K34: =SUM(L34:N34) -> 1 | L34: =SUMPRODUCT(('Group Stages'!E6:E149<>"")*('Group Stages'!F6:F149<>"")*('Group Stages'!G6:G149='Dummy Table'!B34)*('Group Stages'!E6:E149<'Group Stages'!F6:F149)) -> 0 | M34: =SUMPRODUCT(('Group Stages'!E6:E149<>"")*('Group Stages'!F6:F149<>"")*('Group Stages'!G6:G149='Dummy Table'!B34)*('Group Stages'!E6:E149='Group Stages'!F6:F149)) -> 0 | N34: =SUMPRODUCT(('Group Stages'!E6:E149<>"")*('Group Stages'!F6:F149<>"")*('Group Stages'!G6:G149='Dummy Table'!B34)*('Group Stages'!E6:E149>'Group Stages'!F6:F149)) -> 1 | O34: =IF(AM34="",VALUE(SUMIF('Group Stages'!G6:G149,'Dummy Table'!B34,'Group Stages'!F6:F149)),0) -> 1 | P34: =IF(licen="journalsheet.com",SUMIF('Group Stages'!G6:G149,'Dummy Table'!B34,'Group Stages'!E6:E149),0) -> 5 | Q34: =O34-P34 -> -4 | R34: =L34*3+M34*1 -> 0 | S34: =C34+K34 -> 1 | T34: =IF(AM34="",D34+L34,0) -> 0 | U34: =E34+M34 -> 0 | V34: =F34+N34 -> 1 | W34: =G34+O34 -> 1 | X34: =H34+P34 -> 5 | Y34: =I34+Q34 -> -4 | Z34: =J34+R34 -> 0 | AA34: =Teams!F35 -> 27500 | AB34: =Teams!G35 -> 0 | AC34: =RANK(Z34,Z4:Z39) -> 22 | AD34: =SUMPRODUCT((AC4:AC39=AC34)*(Y4:Y39>Y34)) -> 12 | AE34: =SUMPRODUCT((AC4:AC39=AC34)*(Y4:Y39=Y34)*(W4:W39>W34)) -> 0 | AF34: =SUMPRODUCT((AC4:AC39=AC34)*(Y4:Y39=Y34)*(W4:W39=W34)*(O4:O39>O34)) -> 0 | AG34: =SUMPRODUCT((AC4:AC39=AC34)*(Y4:Y39=Y34)*(W4:W39=W34)*(O4:O39=O34)*(T4:T39>T34)) -> 0 | AH34: =SUMPRODUCT((AC4:AC39=AC34)*(Y4:Y39=Y34)*(W4:W39=W34)*(O4:O39=O34)*(T4:T39=T34)*(L4:L39>L34)) -> 0 | AJ34: =SUMIFS(Z4:Z39,B4:B39,Teams!I35)+SUMIFS(Z4:Z39,B4:B39,Teams!J35)+SUMIFS(Z4:Z39,B4:B39,Teams!K35)+SUMIFS(Z4:Z39,B4:B39,Teams!L35)+SUMIFS(Z4:Z39,B4:B39,Teams!M35)+SUMIFS(Z4:Z39,B4:B39,Teams!N35)+SUMIFS(Z4:Z39,B4:B39,Teams!O35)+SUMIFS(Z4:Z39,B4:B39,Teams!P35) -> 10 | AK34: =SUMIFS(Y4:Y39,B4:B39,Teams!I35)+SUMIFS(Y4:Y39,B4:B39,Teams!J35)+SUMIFS(Y4:Y39,B4:B39,Teams!K35)+SUMIFS(Y4:Y39,B4:B39,Teams!L35)+SUMIFS(Y4:Y39,B4:B39,Teams!M35)+SUMIFS(Y4:Y39,B4:B39,Teams!N35)+SUMIFS(Y4:Y39,B4:B39,Teams!O35)+SUMIFS(Y4:Y39,B4:B39,Teams!P35) -> 0 | AL34: =SUMIFS(W4:W39,B4:B39,Teams!I35)+SUMIFS(W4:W39,B4:B39,Teams!J35)+SUMIFS(W4:W39,B4:B39,Teams!K35)+SUMIFS(W4:W39,B4:B39,Teams!L35)+SUMIFS(W4:W39,B4:B39,Teams!M35)+SUMIFS(W4:W39,B4:B39,Teams!N35)+SUMIFS(W4:W39,B4:B39,Teams!O35)+SUMIFS(W4:W39,B4:B39,Teams!P35) -> 20 | AM34: =IFERROR(VALUE(IFERROR(INDEX(AI:AI,MATCH(B45,AQ:AQ,0),0),"")),"") | AN34: =SUMPRODUCT((AC4:AC39=AC34)*(Y4:Y39=Y34)*(W4:W39=W34)*(O4:O39=O34)*(T4:T39=T34)*(L4:L39=L34)*(AJ4:AJ39>AJ34)) -> 0 | AO34: =SUMPRODUCT((AC4:AC39=AC34)*(Y4:Y39=Y34)*(W4:W39=W34)*(O4:O39=O34)*(T4:T39=T34)*(L4:L39=L34)*(AJ4:AJ39=AJ34)*(AK4:AK39>AK34)) -> 0 | AP34: =SUMPRODUCT((AC4:AC39=AC34)*(Y4:Y39=Y34)*(W4:W39=W34)*(O4:O39=O34)*(T4:T39=T34)*(L4:L39=L34)*(AJ4:AJ39=AJ34)*(AK4:AK39=AK34)*(AL4:AL39>AL34)) -> 0 | AR34: =SUMPRODUCT((AC4:AC39=AC34)*(Y4:Y39=Y34)*(W4:W39=W34)*(O4:O39=O34)*(T4:T39=T34)*(L4:L39=L34)*(AJ4:AJ39=AJ34)*(AK4:AK39=AK34)*(AL4:AL39=AL34)*(AB4:AB39>AB34)) -> 0 | AS34: =SUMPRODUCT((AC4:AC39=AC34)*(Y4:Y39=Y34)*(W4:W39=W34)*(O4:O39=O34)*(T4:T39=T34)*(L4:L39=L34)*(AJ4:AJ39=AJ34)*(AK4:AK39=AK34)*(AL4:AL39=AL34)*(AB4:AB39=AB34)*(AA4:AA39>AA34)) -> 0
A35: =SUM(AC35:AH35)+SUM(AN35:AP35)+SUM(AR35:AS35) -> 6 | B35: =Teams!C36 -> Sparta Praha | C35: =SUM(D35:F35) -> 1 | D35: =SUMPRODUCT(('Group Stages'!E6:E149<>"")*('Group Stages'!F6:F149<>"")*('Group Stages'!D6:D149='Dummy Table'!B35)*('Group Stages'!E6:E149>'Group Stages'!F6:F149)) -> 1 | E35: =SUMPRODUCT(('Group Stages'!E6:E149<>"")*('Group Stages'!F6:F149<>"")*('Group Stages'!D6:D149='Dummy Table'!B35)*('Group Stages'!E6:E149='Group Stages'!F6:F149)) -> 0 | F35: =SUMPRODUCT(('Group Stages'!E6:E149<>"")*('Group Stages'!F6:F149<>"")*('Group Stages'!D6:D149='Dummy Table'!B35)*('Group Stages'!E6:E149<'Group Stages'!F6:F149)) -> 0 | G35: =SUMIF('Group Stages'!D6:D149,'Dummy Table'!B35,'Group Stages'!E6:E149) -> 3 | H35: =SUMIF('Group Stages'!D6:D149,'Dummy Table'!B35,'Group Stages'!F6:F149) -> 0 | I35: =G35-H35 -> 3 | J35: =D35*3+E35*1 -> 3 | K35: =SUM(L35:N35) -> 0 | L35: =SUMPRODUCT(('Group Stages'!E6:E149<>"")*('Group Stages'!F6:F149<>"")*('Group Stages'!G6:G149='Dummy Table'!B35)*('Group Stages'!E6:E149<'Group Stages'!F6:F149)) -> 0 | M35: =SUMPRODUCT(('Group Stages'!E6:E149<>"")*('Group Stages'!F6:F149<>"")*('Group Stages'!G6:G149='Dummy Table'!B35)*('Group Stages'!E6:E149='Group Stages'!F6:F149)) -> 0 | N35: =SUMPRODUCT(('Group Stages'!E6:E149<>"")*('Group Stages'!F6:F149<>"")*('Group Stages'!G6:G149='Dummy Table'!B35)*('Group Stages'!E6:E149>'Group Stages'!F6:F149)) -> 0 | O35: =IF(AM35="",VALUE(SUMIF('Group Stages'!G6:G149,'Dummy Table'!B35,'Group Stages'!F6:F149)),0) -> 0 | P35: =IF(licen="journalsheet.com",SUMIF('Group Stages'!G6:G149,'Dummy Table'!B35,'Group Stages'!E6:E149),0) -> 0 | Q35: =O35-P35 -> 0 | R35: =L35*3+M35*1 -> 0 | S35: =C35+K35 -> 1 | T35: =IF(AM35="",D35+L35,0) -> 1 | U35: =E35+M35 -> 0 | V35: =F35+N35 -> 0 | W35: =G35+O35 -> 3 | X35: =H35+P35 -> 0 | Y35: =I35+Q35 -> 3 | Z35: =J35+R35 -> 3 | AA35: =Teams!F36 -> 20500 | AB35: =Teams!G36 -> 0 | AC35: =RANK(Z35,Z4:Z39) -> 1 | AD35: =SUMPRODUCT((AC4:AC39=AC35)*(Y4:Y39>Y35)) -> 3 | AE35: =SUMPRODUCT((AC4:AC39=AC35)*(Y4:Y39=Y35)*(W4:W39>W35)) -> 0 | AF35: =SUMPRODUCT((AC4:AC39=AC35)*(Y4:Y39=Y35)*(W4:W39=W35)*(O4:O39>O35)) -> 2 | AG35: =SUMPRODUCT((AC4:AC39=AC35)*(Y4:Y39=Y35)*(W4:W39=W35)*(O4:O39=O35)*(T4:T39>T35)) -> 0 | AH35: =SUMPRODUCT((AC4:AC39=AC35)*(Y4:Y39=Y35)*(W4:W39=W35)*(O4:O39=O35)*(T4:T39=T35)*(L4:L39>L35)) -> 0 | AJ35: =SUMIFS(Z4:Z39,B4:B39,Teams!I36)+SUMIFS(Z4:Z39,B4:B39,Teams!J36)+SUMIFS(Z4:Z39,B4:B39,Teams!K36)+SUMIFS(Z4:Z39,B4:B39,Teams!L36)+SUMIFS(Z4:Z39,B4:B39,Teams!M36)+SUMIFS(Z4:Z39,B4:B39,Teams!N36)+SUMIFS(Z4:Z39,B4:B39,Teams!O36)+SUMIFS(Z4:Z39,B4:B39,Teams!P36) -> 11 | AK35: =SUMIFS(Y4:Y39,B4:B39,Teams!I36)+SUMIFS(Y4:Y39,B4:B39,Teams!J36)+SUMIFS(Y4:Y39,B4:B39,Teams!K36)+SUMIFS(Y4:Y39,B4:B39,Teams!L36)+SUMIFS(Y4:Y39,B4:B39,Teams!M36)+SUMIFS(Y4:Y39,B4:B39,Teams!N36)+SUMIFS(Y4:Y39,B4:B39,Teams!O36)+SUMIFS(Y4:Y39,B4:B39,Teams!P36) -> -3 | AL35: =SUMIFS(W4:W39,B4:B39,Teams!I36)+SUMIFS(W4:W39,B4:B39,Teams!J36)+SUMIFS(W4:W39,B4:B39,Teams!K36)+SUMIFS(W4:W39,B4:B39,Teams!L36)+SUMIFS(W4:W39,B4:B39,Teams!M36)+SUMIFS(W4:W39,B4:B39,Teams!N36)+SUMIFS(W4:W39,B4:B39,Teams!O36)+SUMIFS(W4:W39,B4:B39,Teams!P36) -> 9 | AM35: =IFERROR(VALUE(IFERROR(INDEX(AI:AI,MATCH(B46,AQ:AQ,0),0),"")),"") | AN35: =SUMPRODUCT((AC4:AC39=AC35)*(Y4:Y39=Y35)*(W4:W39=W35)*(O4:O39=O35)*(T4:T39=T35)*(L4:L39=L35)*(AJ4:AJ39>AJ35)) -> 0 | AO35: =SUMPRODUCT((AC4:AC39=AC35)*(Y4:Y39=Y35)*(W4:W39=W35)*(O4:O39=O35)*(T4:T39=T35)*(L4:L39=L35)*(AJ4:AJ39=AJ35)*(AK4:AK39>AK35)) -> 0 | AP35: =SUMPRODUCT((AC4:AC39=AC35)*(Y4:Y39=Y35)*(W4:W39=W35)*(O4:O39=O35)*(T4:T39=T35)*(L4:L39=L35)*(AJ4:AJ39=AJ35)*(AK4:AK39=AK35)*(AL4:AL39>AL35)) -> 0 | AR35: =SUMPRODUCT((AC4:AC39=AC35)*(Y4:Y39=Y35)*(W4:W39=W35)*(O4:O39=O35)*(T4:T39=T35)*(L4:L39=L35)*(AJ4:AJ39=AJ35)*(AK4:AK39=AK35)*(AL4:AL39=AL35)*(AB4:AB39>AB35)) -> 0 | AS35: =SUMPRODUCT((AC4:AC39=AC35)*(Y4:Y39=Y35)*(W4:W39=W35)*(O4:O39=O35)*(T4:T39=T35)*(L4:L39=L35)*(AJ4:AJ39=AJ35)*(AK4:AK39=AK35)*(AL4:AL39=AL35)*(AB4:AB39=AB35)*(AA4:AA39>AA35)) -> 0
A36: =SUM(AC36:AH36)+SUM(AN36:AP36)+SUM(AR36:AS36) -> 10 | B36: =Teams!C37 -> Sporting CP | C36: =SUM(D36:F36) -> 1 | D36: =SUMPRODUCT(('Group Stages'!E6:E149<>"")*('Group Stages'!F6:F149<>"")*('Group Stages'!D6:D149='Dummy Table'!B36)*('Group Stages'!E6:E149>'Group Stages'!F6:F149)) -> 1 | E36: =SUMPRODUCT(('Group Stages'!E6:E149<>"")*('Group Stages'!F6:F149<>"")*('Group Stages'!D6:D149='Dummy Table'!B36)*('Group Stages'!E6:E149='Group Stages'!F6:F149)) -> 0 | F36: =SUMPRODUCT(('Group Stages'!E6:E149<>"")*('Group Stages'!F6:F149<>"")*('Group Stages'!D6:D149='Dummy Table'!B36)*('Group Stages'!E6:E149<'Group Stages'!F6:F149)) -> 0 | G36: =SUMIF('Group Stages'!D6:D149,'Dummy Table'!B36,'Group Stages'!E6:E149) -> 2 | H36: =SUMIF('Group Stages'!D6:D149,'Dummy Table'!B36,'Group Stages'!F6:F149) -> 0 | I36: =G36-H36 -> 2 | J36: =D36*3+E36*1 -> 3 | K36: =SUM(L36:N36) -> 0 | L36: =SUMPRODUCT(('Group Stages'!E6:E149<>"")*('Group Stages'!F6:F149<>"")*('Group Stages'!G6:G149='Dummy Table'!B36)*('Group Stages'!E6:E149<'Group Stages'!F6:F149)) -> 0 | M36: =SUMPRODUCT(('Group Stages'!E6:E149<>"")*('Group Stages'!F6:F149<>"")*('Group Stages'!G6:G149='Dummy Table'!B36)*('Group Stages'!E6:E149='Group Stages'!F6:F149)) -> 0 | N36: =SUMPRODUCT(('Group Stages'!E6:E149<>"")*('Group Stages'!F6:F149<>"")*('Group Stages'!G6:G149='Dummy Table'!B36)*('Group Stages'!E6:E149>'Group Stages'!F6:F149)) -> 0 | O36: =IF(AM36="",VALUE(SUMIF('Group Stages'!G6:G149,'Dummy Table'!B36,'Group Stages'!F6:F149)),0) -> 0 | P36: =IF(licen="journalsheet.com",SUMIF('Group Stages'!G6:G149,'Dummy Table'!B36,'Group Stages'!E6:E149),0) -> 0 | Q36: =O36-P36 -> 0 | R36: =L36*3+M36*1 -> 0 | S36: =C36+K36 -> 1 | T36: =IF(AM36="",D36+L36,0) -> 1 | U36: =E36+M36 -> 0 | V36: =F36+N36 -> 0 | W36: =G36+O36 -> 2 | X36: =H36+P36 -> 0 | Y36: =I36+Q36 -> 2 | Z36: =J36+R36 -> 3 | AA36: =Teams!F37 -> 44500 | AB36: =Teams!G37 -> 0 | AC36: =RANK(Z36,Z4:Z39) -> 1 | AD36: =SUMPRODUCT((AC4:AC39=AC36)*(Y4:Y39>Y36)) -> 6 | AE36: =SUMPRODUCT((AC4:AC39=AC36)*(Y4:Y39=Y36)*(W4:W39>W36)) -> 3 | AF36: =SUMPRODUCT((AC4:AC39=AC36)*(Y4:Y39=Y36)*(W4:W39=W36)*(O4:O39>O36)) -> 0 | AG36: =SUMPRODUCT((AC4:AC39=AC36)*(Y4:Y39=Y36)*(W4:W39=W36)*(O4:O39=O36)*(T4:T39>T36)) -> 0 | AH36: =SUMPRODUCT((AC4:AC39=AC36)*(Y4:Y39=Y36)*(W4:W39=W36)*(O4:O39=O36)*(T4:T39=T36)*(L4:L39>L36)) -> 0 | AJ36: =SUMIFS(Z4:Z39,B4:B39,Teams!I37)+SUMIFS(Z4:Z39,B4:B39,Teams!J37)+SUMIFS(Z4:Z39,B4:B39,Teams!K37)+SUMIFS(Z4:Z39,B4:B39,Teams!L37)+SUMIFS(Z4:Z39,B4:B39,Teams!M37)+SUMIFS(Z4:Z39,B4:B39,Teams!N37)+SUMIFS(Z4:Z39,B4:B39,Teams!O37)+SUMIFS(Z4:Z39,B4:B39,Teams!P37) -> 3 | AK36: =SUMIFS(Y4:Y39,B4:B39,Teams!I37)+SUMIFS(Y4:Y39,B4:B39,Teams!J37)+SUMIFS(Y4:Y39,B4:B39,Teams!K37)+SUMIFS(Y4:Y39,B4:B39,Teams!L37)+SUMIFS(Y4:Y39,B4:B39,Teams!M37)+SUMIFS(Y4:Y39,B4:B39,Teams!N37)+SUMIFS(Y4:Y39,B4:B39,Teams!O37)+SUMIFS(Y4:Y39,B4:B39,Teams!P37) -> -9 | AL36: =SUMIFS(W4:W39,B4:B39,Teams!I37)+SUMIFS(W4:W39,B4:B39,Teams!J37)+SUMIFS(W4:W39,B4:B39,Teams!K37)+SUMIFS(W4:W39,B4:B39,Teams!L37)+SUMIFS(W4:W39,B4:B39,Teams!M37)+SUMIFS(W4:W39,B4:B39,Teams!N37)+SUMIFS(W4:W39,B4:B39,Teams!O37)+SUMIFS(W4:W39,B4:B39,Teams!P37) -> 3 | AM36: =IFERROR(VALUE(IFERROR(INDEX(AI:AI,MATCH(B47,AQ:AQ,0),0),"")),"") | AN36: =SUMPRODUCT((AC4:AC39=AC36)*(Y4:Y39=Y36)*(W4:W39=W36)*(O4:O39=O36)*(T4:T39=T36)*(L4:L39=L36)*(AJ4:AJ39>AJ36)) -> 0 | AO36: =SUMPRODUCT((AC4:AC39=AC36)*(Y4:Y39=Y36)*(W4:W39=W36)*(O4:O39=O36)*(T4:T39=T36)*(L4:L39=L36)*(AJ4:AJ39=AJ36)*(AK4:AK39>AK36)) -> 0 | AP36: =SUMPRODUCT((AC4:AC39=AC36)*(Y4:Y39=Y36)*(W4:W39=W36)*(O4:O39=O36)*(T4:T39=T36)*(L4:L39=L36)*(AJ4:AJ39=AJ36)*(AK4:AK39=AK36)*(AL4:AL39>AL36)) -> 0 | AR36: =SUMPRODUCT((AC4:AC39=AC36)*(Y4:Y39=Y36)*(W4:W39=W36)*(O4:O39=O36)*(T4:T39=T36)*(L4:L39=L36)*(AJ4:AJ39=AJ36)*(AK4:AK39=AK36)*(AL4:AL39=AL36)*(AB4:AB39>AB36)) -> 0 | AS36: =SUMPRODUCT((AC4:AC39=AC36)*(Y4:Y39=Y36)*(W4:W39=W36)*(O4:O39=O36)*(T4:T39=T36)*(L4:L39=L36)*(AJ4:AJ39=AJ36)*(AK4:AK39=AK36)*(AL4:AL39=AL36)*(AB4:AB39=AB36)*(AA4:AA39>AA36)) -> 0
A37: =SUM(AC37:AH37)+SUM(AN37:AP37)+SUM(AR37:AS37) -> 24 | B37: =Teams!C38 -> Sturm Graz | C37: =SUM(D37:F37) -> 0 | D37: =SUMPRODUCT(('Group Stages'!E6:E149<>"")*('Group Stages'!F6:F149<>"")*('Group Stages'!D6:D149='Dummy Table'!B37)*('Group Stages'!E6:E149>'Group Stages'!F6:F149)) -> 0 | E37: =SUMPRODUCT(('Group Stages'!E6:E149<>"")*('Group Stages'!F6:F149<>"")*('Group Stages'!D6:D149='Dummy Table'!B37)*('Group Stages'!E6:E149='Group Stages'!F6:F149)) -> 0 | F37: =SUMPRODUCT(('Group Stages'!E6:E149<>"")*('Group Stages'!F6:F149<>"")*('Group Stages'!D6:D149='Dummy Table'!B37)*('Group Stages'!E6:E149<'Group Stages'!F6:F149)) -> 0 | G37: =SUMIF('Group Stages'!D6:D149,'Dummy Table'!B37,'Group Stages'!E6:E149) -> 0 | H37: =SUMIF('Group Stages'!D6:D149,'Dummy Table'!B37,'Group Stages'!F6:F149) -> 0 | I37: =G37-H37 -> 0 | J37: =D37*3+E37*1 -> 0 | K37: =SUM(L37:N37) -> 1 | L37: =SUMPRODUCT(('Group Stages'!E6:E149<>"")*('Group Stages'!F6:F149<>"")*('Group Stages'!G6:G149='Dummy Table'!B37)*('Group Stages'!E6:E149<'Group Stages'!F6:F149)) -> 0 | M37: =SUMPRODUCT(('Group Stages'!E6:E149<>"")*('Group Stages'!F6:F149<>"")*('Group Stages'!G6:G149='Dummy Table'!B37)*('Group Stages'!E6:E149='Group Stages'!F6:F149)) -> 0 | N37: =SUMPRODUCT(('Group Stages'!E6:E149<>"")*('Group Stages'!F6:F149<>"")*('Group Stages'!G6:G149='Dummy Table'!B37)*('Group Stages'!E6:E149>'Group Stages'!F6:F149)) -> 1 | O37: =IF(AM37="",VALUE(SUMIF('Group Stages'!G6:G149,'Dummy Table'!B37,'Group Stages'!F6:F149)),0) -> 1 | P37: =IF(licen="journalsheet.com",SUMIF('Group Stages'!G6:G149,'Dummy Table'!B37,'Group Stages'!E6:E149),0) -> 2 | Q37: =O37-P37 -> -1 | R37: =L37*3+M37*1 -> 0 | S37: =C37+K37 -> 1 | T37: =IF(AM37="",D37+L37,0) -> 0 | U37: =E37+M37 -> 0 | V37: =F37+N37 -> 1 | W37: =G37+O37 -> 1 | X37: =H37+P37 -> 2 | Y37: =I37+Q37 -> -1 | Z37: =J37+R37 -> 0 | AA37: =Teams!F38 -> 13000 | AB37: =Teams!G38 -> 0 | AC37: =RANK(Z37,Z4:Z39) -> 22 | AD37: =SUMPRODUCT((AC4:AC39=AC37)*(Y4:Y39>Y37)) -> 0 | AE37: =SUMPRODUCT((AC4:AC39=AC37)*(Y4:Y39=Y37)*(W4:W39>W37)) -> 0 | AF37: =SUMPRODUCT((AC4:AC39=AC37)*(Y4:Y39=Y37)*(W4:W39=W37)*(O4:O39>O37)) -> 0 | AG37: =SUMPRODUCT((AC4:AC39=AC37)*(Y4:Y39=Y37)*(W4:W39=W37)*(O4:O39=O37)*(T4:T39>T37)) -> 0 | AH37: =SUMPRODUCT((AC4:AC39=AC37)*(Y4:Y39=Y37)*(W4:W39=W37)*(O4:O39=O37)*(T4:T39=T37)*(L4:L39>L37)) -> 0 | AJ37: =SUMIFS(Z4:Z39,B4:B39,Teams!I38)+SUMIFS(Z4:Z39,B4:B39,Teams!J38)+SUMIFS(Z4:Z39,B4:B39,Teams!K38)+SUMIFS(Z4:Z39,B4:B39,Teams!L38)+SUMIFS(Z4:Z39,B4:B39,Teams!M38)+SUMIFS(Z4:Z39,B4:B39,Teams!N38)+SUMIFS(Z4:Z39,B4:B39,Teams!O38)+SUMIFS(Z4:Z39,B4:B39,Teams!P38) -> 10 | AK37: =SUMIFS(Y4:Y39,B4:B39,Teams!I38)+SUMIFS(Y4:Y39,B4:B39,Teams!J38)+SUMIFS(Y4:Y39,B4:B39,Teams!K38)+SUMIFS(Y4:Y39,B4:B39,Teams!L38)+SUMIFS(Y4:Y39,B4:B39,Teams!M38)+SUMIFS(Y4:Y39,B4:B39,Teams!N38)+SUMIFS(Y4:Y39,B4:B39,Teams!O38)+SUMIFS(Y4:Y39,B4:B39,Teams!P38) -> -1 | AL37: =SUMIFS(W4:W39,B4:B39,Teams!I38)+SUMIFS(W4:W39,B4:B39,Teams!J38)+SUMIFS(W4:W39,B4:B39,Teams!K38)+SUMIFS(W4:W39,B4:B39,Teams!L38)+SUMIFS(W4:W39,B4:B39,Teams!M38)+SUMIFS(W4:W39,B4:B39,Teams!N38)+SUMIFS(W4:W39,B4:B39,Teams!O38)+SUMIFS(W4:W39,B4:B39,Teams!P38) -> 8 | AM37: =IFERROR(VALUE(IFERROR(INDEX(AI:AI,MATCH(B48,AQ:AQ,0),0),"")),"") | AN37: =SUMPRODUCT((AC4:AC39=AC37)*(Y4:Y39=Y37)*(W4:W39=W37)*(O4:O39=O37)*(T4:T39=T37)*(L4:L39=L37)*(AJ4:AJ39>AJ37)) -> 2 | AO37: =SUMPRODUCT((AC4:AC39=AC37)*(Y4:Y39=Y37)*(W4:W39=W37)*(O4:O39=O37)*(T4:T39=T37)*(L4:L39=L37)*(AJ4:AJ39=AJ37)*(AK4:AK39>AK37)) -> 0 | AP37: =SUMPRODUCT((AC4:AC39=AC37)*(Y4:Y39=Y37)*(W4:W39=W37)*(O4:O39=O37)*(T4:T39=T37)*(L4:L39=L37)*(AJ4:AJ39=AJ37)*(AK4:AK39=AK37)*(AL4:AL39>AL37)) -> 0 | AR37: =SUMPRODUCT((AC4:AC39=AC37)*(Y4:Y39=Y37)*(W4:W39=W37)*(O4:O39=O37)*(T4:T39=T37)*(L4:L39=L37)*(AJ4:AJ39=AJ37)*(AK4:AK39=AK37)*(AL4:AL39=AL37)*(AB4:AB39>AB37)) -> 0 | AS37: =SUMPRODUCT((AC4:AC39=AC37)*(Y4:Y39=Y37)*(W4:W39=W37)*(O4:O39=O37)*(T4:T39=T37)*(L4:L39=L37)*(AJ4:AJ39=AJ37)*(AK4:AK39=AK37)*(AL4:AL39=AL37)*(AB4:AB39=AB37)*(AA4:AA39>AA37)) -> 0
A38: =SUM(AC38:AH38)+SUM(AN38:AP38)+SUM(AR38:AS38) -> 28 | B38: =Teams!C39 -> VfB Stuttgart | C38: =SUM(D38:F38) -> 0 | D38: =SUMPRODUCT(('Group Stages'!E6:E149<>"")*('Group Stages'!F6:F149<>"")*('Group Stages'!D6:D149='Dummy Table'!B38)*('Group Stages'!E6:E149>'Group Stages'!F6:F149)) -> 0 | E38: =SUMPRODUCT(('Group Stages'!E6:E149<>"")*('Group Stages'!F6:F149<>"")*('Group Stages'!D6:D149='Dummy Table'!B38)*('Group Stages'!E6:E149='Group Stages'!F6:F149)) -> 0 | F38: =SUMPRODUCT(('Group Stages'!E6:E149<>"")*('Group Stages'!F6:F149<>"")*('Group Stages'!D6:D149='Dummy Table'!B38)*('Group Stages'!E6:E149<'Group Stages'!F6:F149)) -> 0 | G38: =SUMIF('Group Stages'!D6:D149,'Dummy Table'!B38,'Group Stages'!E6:E149) -> 0 | H38: =SUMIF('Group Stages'!D6:D149,'Dummy Table'!B38,'Group Stages'!F6:F149) -> 0 | I38: =G38-H38 -> 0 | J38: =D38*3+E38*1 -> 0 | K38: =SUM(L38:N38) -> 1 | L38: =SUMPRODUCT(('Group Stages'!E6:E149<>"")*('Group Stages'!F6:F149<>"")*('Group Stages'!G6:G149='Dummy Table'!B38)*('Group Stages'!E6:E149<'Group Stages'!F6:F149)) -> 0 | M38: =SUMPRODUCT(('Group Stages'!E6:E149<>"")*('Group Stages'!F6:F149<>"")*('Group Stages'!G6:G149='Dummy Table'!B38)*('Group Stages'!E6:E149='Group Stages'!F6:F149)) -> 0 | N38: =SUMPRODUCT(('Group Stages'!E6:E149<>"")*('Group Stages'!F6:F149<>"")*('Group Stages'!G6:G149='Dummy Table'!B38)*('Group Stages'!E6:E149>'Group Stages'!F6:F149)) -> 1 | O38: =IF(AM38="",VALUE(SUMIF('Group Stages'!G6:G149,'Dummy Table'!B38,'Group Stages'!F6:F149)),0) -> 1 | P38: =SUMIF('Group Stages'!G6:G149,'Dummy Table'!B38,'Group Stages'!E6:E149) -> 3 | Q38: =O38-P38 -> -2 | R38: =L38*3+M38*1 -> 0 | S38: =C38+K38 -> 1 | T38: =IF(AM38="",D38+L38,0) -> 0 | U38: =E38+M38 -> 0 | V38: =F38+N38 -> 1 | W38: =G38+O38 -> 1 | X38: =H38+P38 -> 3 | Y38: =I38+Q38 -> -2 | Z38: =J38+R38 -> 0 | AA38: =Teams!F39 -> 3 | AB38: =Teams!G39 -> 0 | AC38: =RANK(Z38,Z4:Z39) -> 22 | AD38: =SUMPRODUCT((AC4:AC39=AC38)*(Y4:Y39>Y38)) -> 5 | AE38: =SUMPRODUCT((AC4:AC39=AC38)*(Y4:Y39=Y38)*(W4:W39>W38)) -> 0 | AF38: =SUMPRODUCT((AC4:AC39=AC38)*(Y4:Y39=Y38)*(W4:W39=W38)*(O4:O39>O38)) -> 0 | AG38: =SUMPRODUCT((AC4:AC39=AC38)*(Y4:Y39=Y38)*(W4:W39=W38)*(O4:O39=O38)*(T4:T39>T38)) -> 0 | AH38: =SUMPRODUCT((AC4:AC39=AC38)*(Y4:Y39=Y38)*(W4:W39=W38)*(O4:O39=O38)*(T4:T39=T38)*(L4:L39>L38)) -> 0 | AJ38: =SUMIFS(Z4:Z39,B4:B39,Teams!I39)+SUMIFS(Z4:Z39,B4:B39,Teams!J39)+SUMIFS(Z4:Z39,B4:B39,Teams!K39)+SUMIFS(Z4:Z39,B4:B39,Teams!L39)+SUMIFS(Z4:Z39,B4:B39,Teams!M39)+SUMIFS(Z4:Z39,B4:B39,Teams!N39)+SUMIFS(Z4:Z39,B4:B39,Teams!O39)+SUMIFS(Z4:Z39,B4:B39,Teams!P39) -> 13 | AK38: =SUMIFS(Y4:Y39,B4:B39,Teams!I39)+SUMIFS(Y4:Y39,B4:B39,Teams!J39)+SUMIFS(Y4:Y39,B4:B39,Teams!K39)+SUMIFS(Y4:Y39,B4:B39,Teams!L39)+SUMIFS(Y4:Y39,B4:B39,Teams!M39)+SUMIFS(Y4:Y39,B4:B39,Teams!N39)+SUMIFS(Y4:Y39,B4:B39,Teams!O39)+SUMIFS(Y4:Y39,B4:B39,Teams!P39) -> 0 | AL38: =SUMIFS(W4:W39,B4:B39,Teams!I39)+SUMIFS(W4:W39,B4:B39,Teams!J39)+SUMIFS(W4:W39,B4:B39,Teams!K39)+SUMIFS(W4:W39,B4:B39,Teams!L39)+SUMIFS(W4:W39,B4:B39,Teams!M39)+SUMIFS(W4:W39,B4:B39,Teams!N39)+SUMIFS(W4:W39,B4:B39,Teams!O39)+SUMIFS(W4:W39,B4:B39,Teams!P39) -> 12 | AM38: =IFERROR(VALUE(IFERROR(INDEX(AI:AI,MATCH(B49,AQ:AQ,0),0),"")),"") | AN38: =SUMPRODUCT((AC4:AC39=AC38)*(Y4:Y39=Y38)*(W4:W39=W38)*(O4:O39=O38)*(T4:T39=T38)*(L4:L39=L38)*(AJ4:AJ39>AJ38)) -> 1 | AO38: =SUMPRODUCT((AC4:AC39=AC38)*(Y4:Y39=Y38)*(W4:W39=W38)*(O4:O39=O38)*(T4:T39=T38)*(L4:L39=L38)*(AJ4:AJ39=AJ38)*(AK4:AK39>AK38)) -> 0 | AP38: =SUMPRODUCT((AC4:AC39=AC38)*(Y4:Y39=Y38)*(W4:W39=W38)*(O4:O39=O38)*(T4:T39=T38)*(L4:L39=L38)*(AJ4:AJ39=AJ38)*(AK4:AK39=AK38)*(AL4:AL39>AL38)) -> 0 | AR38: =SUMPRODUCT((AC4:AC39=AC38)*(Y4:Y39=Y38)*(W4:W39=W38)*(O4:O39=O38)*(T4:T39=T38)*(L4:L39=L38)*(AJ4:AJ39=AJ38)*(AK4:AK39=AK38)*(AL4:AL39=AL38)*(AB4:AB39>AB38)) -> 0 | AS38: =SUMPRODUCT((AC4:AC39=AC38)*(Y4:Y39=Y38)*(W4:W39=W38)*(O4:O39=O38)*(T4:T39=T38)*(L4:L39=L38)*(AJ4:AJ39=AJ38)*(AK4:AK39=AK38)*(AL4:AL39=AL38)*(AB4:AB39=AB38)*(AA4:AA39>AA38)) -> 0
A39: =SUM(AC39:AH39)+SUM(AN39:AP39)+SUM(AR39:AS39) -> 33 | B39: =Teams!C40 -> Young Boys | C39: =SUM(D39:F39) -> 1 | D39: =SUMPRODUCT(('Group Stages'!E6:E149<>"")*('Group Stages'!F6:F149<>"")*('Group Stages'!D6:D149='Dummy Table'!B39)*('Group Stages'!E6:E149>'Group Stages'!F6:F149)) -> 0 | E39: =SUMPRODUCT(('Group Stages'!E6:E149<>"")*('Group Stages'!F6:F149<>"")*('Group Stages'!D6:D149='Dummy Table'!B39)*('Group Stages'!E6:E149='Group Stages'!F6:F149)) -> 0 | F39: =SUMPRODUCT(('Group Stages'!E6:E149<>"")*('Group Stages'!F6:F149<>"")*('Group Stages'!D6:D149='Dummy Table'!B39)*('Group Stages'!E6:E149<'Group Stages'!F6:F149)) -> 1 | G39: =SUMIF('Group Stages'!D6:D149,'Dummy Table'!B39,'Group Stages'!E6:E149) -> 0 | H39: =SUMIF('Group Stages'!D6:D149,'Dummy Table'!B39,'Group Stages'!F6:F149) -> 3 | I39: =G39-H39 -> -3 | J39: =D39*3+E39*1 -> 0 | K39: =SUM(L39:N39) -> 0 | L39: =SUMPRODUCT(('Group Stages'!E6:E149<>"")*('Group Stages'!F6:F149<>"")*('Group Stages'!G6:G149='Dummy Table'!B39)*('Group Stages'!E6:E149<'Group Stages'!F6:F149)) -> 0 | M39: =SUMPRODUCT(('Group Stages'!E6:E149<>"")*('Group Stages'!F6:F149<>"")*('Group Stages'!G6:G149='Dummy Table'!B39)*('Group Stages'!E6:E149='Group Stages'!F6:F149)) -> 0 | N39: =SUMPRODUCT(('Group Stages'!E6:E149<>"")*('Group Stages'!F6:F149<>"")*('Group Stages'!G6:G149='Dummy Table'!B39)*('Group Stages'!E6:E149>'Group Stages'!F6:F149)) -> 0 | O39: =IF(AM39="",VALUE(SUMIF('Group Stages'!G6:G149,'Dummy Table'!B39,'Group Stages'!F6:F149)),0) -> 0 | P39: =SUMIF('Group Stages'!G6:G149,'Dummy Table'!B39,'Group Stages'!E6:E149) -> 0 | Q39: =O39-P39 -> 0 | R39: =L39*3+M39*1 -> 0 | S39: =C39+K39 -> 1 | T39: =IF(AM39="",D39+L39,0) -> 0 | U39: =E39+M39 -> 0 | V39: =F39+N39 -> 1 | W39: =G39+O39 -> 0 | X39: =H39+P39 -> 3 | Y39: =I39+Q39 -> -3 | Z39: =J39+R39 -> 0 | AA39: =Teams!F40 -> 28500 | AB39: =Teams!G40 -> 0 | AC39: =RANK(Z39,Z4:Z39) -> 22 | AD39: =SUMPRODUCT((AC4:AC39=AC39)*(Y4:Y39>Y39)) -> 9 | AE39: =SUMPRODUCT((AC4:AC39=AC39)*(Y4:Y39=Y39)*(W4:W39>W39)) -> 0 | AF39: =SUMPRODUCT((AC4:AC39=AC39)*(Y4:Y39=Y39)*(W4:W39=W39)*(O4:O39>O39)) -> 0 | AG39: =SUMPRODUCT((AC4:AC39=AC39)*(Y4:Y39=Y39)*(W4:W39=W39)*(O4:O39=O39)*(T4:T39>T39)) -> 0 | AH39: =SUMPRODUCT((AC4:AC39=AC39)*(Y4:Y39=Y39)*(W4:W39=W39)*(O4:O39=O39)*(T4:T39=T39)*(L4:L39>L39)) -> 0 | AJ39: =SUMIFS(Z4:Z39,B4:B39,Teams!I40)+SUMIFS(Z4:Z39,B4:B39,Teams!J40)+SUMIFS(Z4:Z39,B4:B39,Teams!K40)+SUMIFS(Z4:Z39,B4:B39,Teams!L40)+SUMIFS(Z4:Z39,B4:B39,Teams!M40)+SUMIFS(Z4:Z39,B4:B39,Teams!N40)+SUMIFS(Z4:Z39,B4:B39,Teams!O40)+SUMIFS(Z4:Z39,B4:B39,Teams!P40) -> 9 | AK39: =SUMIFS(Y4:Y39,B4:B39,Teams!I40)+SUMIFS(Y4:Y39,B4:B39,Teams!J40)+SUMIFS(Y4:Y39,B4:B39,Teams!K40)+SUMIFS(Y4:Y39,B4:B39,Teams!L40)+SUMIFS(Y4:Y39,B4:B39,Teams!M40)+SUMIFS(Y4:Y39,B4:B39,Teams!N40)+SUMIFS(Y4:Y39,B4:B39,Teams!O40)+SUMIFS(Y4:Y39,B4:B39,Teams!P40) -> 3 | AL39: =SUMIFS(W4:W39,B4:B39,Teams!I40)+SUMIFS(W4:W39,B4:B39,Teams!J40)+SUMIFS(W4:W39,B4:B39,Teams!K40)+SUMIFS(W4:W39,B4:B39,Teams!L40)+SUMIFS(W4:W39,B4:B39,Teams!M40)+SUMIFS(W4:W39,B4:B39,Teams!N40)+SUMIFS(W4:W39,B4:B39,Teams!O40)+SUMIFS(W4:W39,B4:B39,Teams!P40) -> 11 | AM39: =IFERROR(VALUE(IFERROR(INDEX(AI:AI,MATCH(B50,AQ:AQ,0),0),"")),"") | AN39: =SUMPRODUCT((AC4:AC39=AC39)*(Y4:Y39=Y39)*(W4:W39=W39)*(O4:O39=O39)*(T4:T39=T39)*(L4:L39=L39)*(AJ4:AJ39>AJ39)) -> 2 | AO39: =SUMPRODUCT((AC4:AC39=AC39)*(Y4:Y39=Y39)*(W4:W39=W39)*(O4:O39=O39)*(T4:T39=T39)*(L4:L39=L39)*(AJ4:AJ39=AJ39)*(AK4:AK39>AK39)) -> 0 | AP39: =SUMPRODUCT((AC4:AC39=AC39)*(Y4:Y39=Y39)*(W4:W39=W39)*(O4:O39=O39)*(T4:T39=T39)*(L4:L39=L39)*(AJ4:AJ39=AJ39)*(AK4:AK39=AK39)*(AL4:AL39>AL39)) -> 0 | AR39: =SUMPRODUCT((AC4:AC39=AC39)*(Y4:Y39=Y39)*(W4:W39=W39)*(O4:O39=O39)*(T4:T39=T39)*(L4:L39=L39)*(AJ4:AJ39=AJ39)*(AK4:AK39=AK39)*(AL4:AL39=AL39)*(AB4:AB39>AB39)) -> 0 | AS39: =SUMPRODUCT((AC4:AC39=AC39)*(Y4:Y39=Y39)*(W4:W39=W39)*(O4:O39=O39)*(T4:T39=T39)*(L4:L39=L39)*(AJ4:AJ39=AJ39)*(AK4:AK39=AK39)*(AL4:AL39=AL39)*(AB4:AB39=AB39)*(AA4:AA39>AA39)) -> 0

Sheet How to Use
B2: HOW TO USE
B4: 1 | C4: SETUP TEAM > TEAMS worksheet (Fully Editable Version)
C5: 1 | D5: Type team name in Team Name column
C6: 2 | D6: Type home stadium in Home Stadium column
C7: 3 | D7: Type country in Country column
C8: 4 | D8: Type UEFA coefficient in Coef column
C9: 5 | D9: Type Disciplinary Points in Current Season
C10: 6 | D10: Type Opponents in Opponent table (1 - 8)
D11: Ref : | E11: https://www.uefa.com/memberassociations/uefarankings/club/#/yr/2021
D12: R | E12: Number of times that the team selected in Group Matches (should be 8)
B15: 2 | C15: SELECT TEAMS > MATCHES worksheet (Fully Editable Version)
C16: 1 | D16: Type Group # in GR column
C17: 2 | D17: Type Date in Date column
C18: 3 | D18: Select Home Team in Home column
C19: 4 | D19: Select Away Team in Away column
D20: Venue will pull home stadium automatically. Type directly into Venue column if venue is not in Home Stadium
B25: 3 | C25: FILL SCORES > MATCHES worksheet
C26: 1 | D26: Type Scores in Score column
D27: Group standings will be adjusted automatically
C29: PROTECTED VERSION wil allow you to only typing scores in Group Matches and Set Teams and Typing Scores in KO rounds
B36: 3 | C36: SETUP KNOCK OUT ROUND PAIRING TEAMS > MATCHES worksheet
C37: After all matches are completed, 16 teams will be placed in Play Off table and 8 teams will be placed in Round of 16 table automatically
C39: 1 | D39: Select pairing teams in Home column. Select first leg home team in the first row
D40: Select second leg home team in the second row on respective match number
D41: Away team will be revealed automatically
C42: DO SIMILAR STEPS FOR ROUND of 16, QUARTERFINALS and SEMIFINALS
C46: 2 | D46: Type date iin Date column
B49: 3 | C49: FILL KNOCK OUT SCORES > MATCHES worksheet
C50: 1 | D50: Type FULL TIME (Normal + Extra Time) Scores in Score column
D51: Penalty Shoot Out Box will be shown automatically in second leg row, if matches have to be decided by penalty shoot out
D53: Team | F53: Advance to Round of 16
D54: Team | F54: Advance to Quarter finals
D55: Team | F55: Advance to Semi finals
D56: Team | F56: Advance to Final

Sheet License
B2: LICENSE
G22: journalsheet.com

Sheet About
B2: ABOUT
C7: Editiion | D7: : | E7: Champions League Fixtures
C8: Version | D8: : | E8: 2.21
C9: License | D9: : | E9: Single User
C10: Product Info | D10: : | E10: https://journalsheet.com
C11: Support | D11: : | E11: support@journalsheet.com | J11: CHAMPIONS LEAGUE FIXTURES | FULLY EDITABLE
C12: Copyrights © | D12: : | E12: 2024 | journalSHEET.com | K12: US$ 11
B15: You can purchase the Unprotected Version if you plan to learn the formula or used it for your commercial business (put your own logo, place it in your coffee shop etc) | J15: You will get
J16: > 1 Excel Spreadsheet
J17: > 1 txt file with link to copy Google Spreadsheet to your account
B18: Go to journalSHEET.com for other sport spreadsheets | J18: All files are fully editable where you can edit and select team names by your own languages
