Workbook
Name licen: License!$G$22
Name QualifiedTeams: 'Knock Out Rounds'!$M$25:$M$40
Name Quarterfinalist: 'Knock Out Rounds'!$M$43:$M$50
Name Semifinalist: 'Knock Out Rounds'!$M$53:$M$56
Name Team: Teams!$C$5:$C$40

Sheet Teams
C2: 2024/2025 CHAMPIONS LEAGUE PARTICIPANTS
B4: No | C4: Team Name | D4: Home Stadium | E4: Country | F4: Coef | G4: Disciplinary Points | H4: R | I4: Opponent 1 | J4: Opponent 2 | K4: Opponent 3 | L4: Opponent 4 | M4: Opponent 5 | N4: Opponent 6 | O4: Opponent 7 | P4: Opponent 8 | R4: Group Tie Breaker Regulation :
B5: 1 | C5: AC Milan | D5: San Siro | E5: Italy | F5: 59000 | H5: =COUNTIF('Group Stages'!D:G,Teams!C5) -> 8 | I5: Liverpool | J5: Club Brugge | K5: Crvena Zvezda | L5: Girona | M5: Bayer Leverkusen | N5: Real Madrid | O5: Slovan Bratislava | P5: Dinamo Zagreb | R5: If two or more teams are equal on points on completion of the group
B6: 2 | C6: Arsenal | D6: Emirates | E6: England | F6: 62000 | H6: =COUNTIF('Group Stages'!D:G,Teams!C6) -> 8 | I6: Paris Saint-Germain | J6: Shakhtar Donetsk | K6: Monaco | L6: Dinamo Zagreb | M6: Atalanta | N6: Inter | O6: Sporting CP | P6: Girona | R6: matches, the following criteria are applied to determine the rankings:
B7: 3 | C7: Aston Villa | D7: Villa Park | E7: England | F7: 17000 | H7: =COUNTIF('Group Stages'!D:G,Teams!C7) -> 8 | I7: Bayern München | J7: Bologna | K7: Juventus | L7: Celtic | M7: Young Boys | N7: Club Brugge | O7: RB Leipzig | P7: Monaco | R7: 1 | S7: Goal difference
B8: 4 | C8: Atalanta | D8: Gewiss | E8: Italy | F8: 61000 | H8: =COUNTIF('Group Stages'!D:G,Teams!C8) -> 8 | I8: Arsenal | J8: Celtic | K8: Real Madrid | L8: Sturm Graz | M8: Shakhtar Donetsk | N8: VfB Stuttgart | O8: Young Boys | P8: Barcelona | R8: 2 | S8: Goals scored
B9: 5 | C9: Atlético Madrid | D9: Vicente Calderon | E9: Spain | F9: 67000 | H9: =COUNTIF('Group Stages'!D:G,Teams!C9) -> 8 | I9: RB Leipzig | J9: Lille | K9: Slovan Bratislava | L9: Bayer Leverkusen | M9: Benfica | N9: Paris Saint-Germain | O9: Sparta Praha | P9: RB Salzburg | R9: 3 | S9: Away goals scored
B10: 6 | C10: Barcelona | D10: Nou Camp | E10: Spain | F10: 67001 | H10: =COUNTIF('Group Stages'!D:G,Teams!C10) -> 8 | I10: Young Boys | J10: Bayern München | K10: Brest | L10: Atalanta | M10: Monaco | N10: Crvena Zvezda | O10: Borussia Dortmund | P10: Benfica | R10: 4 | S10: Wins
B11: 7 | C11: Bayer Leverkusen | D11: Bay Arena | E11: Germany | F11: 72000 | H11: =COUNTIF('Group Stages'!D:G,Teams!C11) -> 8 | I11: AC Milan | J11: RB Salzburg | K11: Inter | L11: Sparta Praha | M11: Feyenoord | N11: Brest | O11: Liverpool | P11: Atlético Madrid | R11: 5 | S11: Away wins
B12: 8 | C12: Bayern München | D12: Allianz Arena | E12: Germany | F12: 108000 | H12: =COUNTIF('Group Stages'!D:G,Teams!C12) -> 8 | I12: Dinamo Zagreb | J12: Benfica | K12: Paris Saint-Germain | L12: Slovan Bratislava | M12: Aston Villa | N12: Barcelona | O12: Shakhtar Donetsk | P12: Feyenoord | R12: 6 | S12: Combined points of opponents
B13: 9 | C13: Benfica | D13: Stadion da Luz | E13: Portugal | F13: 69000 | H13: =COUNTIF('Group Stages'!D:G,Teams!C13) -> 8 | I13: Atlético Madrid | J13: Feyenoord | K13: Bologna | L13: Barcelona | M13: Crvena Zvezda | N13: Bayern München | O13: Monaco | P13: Juventus | R13: 7 | S13: Overall goal difference of opponents
B14: 10 | C14: Bologna | D14: Renato Dall'Ara | E14: Italy | F14: 0 | H14: =COUNTIF('Group Stages'!D:G,Teams!C14) -> 8 | I14: Shakhtar Donetsk | J14: Monaco | K14: Lille | L14: Borussia Dortmund | M14: Liverpool | N14: Aston Villa | O14: Benfica | P14: Sporting CP | R14: 8 | S14: Combined goals scored by opponents
B15: 11 | C15: Borussia Dortmund | D15: Signal Iduna Park | E15: Germany | F15: 79000 | H15: =COUNTIF('Group Stages'!D:G,Teams!C15) -> 8 | I15: Celtic | J15: Sturm Graz | K15: Barcelona | L15: Shakhtar Donetsk | M15: Club Brugge | N15: Real Madrid | O15: Dinamo Zagreb | P15: Bologna | R15: 9 | S15: Disciplinary record
B16: 12 | C16: Brest | D16: Francis-Le Blé | E16: France | F16: 1 | H16: =COUNTIF('Group Stages'!D:G,Teams!C16) -> 8 | I16: Sturm Graz | J16: Bayer Leverkusen | K16: PSV Eindhoven | L16: Real Madrid | M16: RB Salzburg | N16: Sparta Praha | O16: Barcelona | P16: Shakhtar Donetsk | R16: 10 | S16: UEFA club coefficient
B17: 13 | C17: Celtic | D17: Celtic Park | E17: Scotland | F17: 22000 | H17: =COUNTIF('Group Stages'!D:G,Teams!C17) -> 8 | I17: Slovan Bratislava | J17: RB Leipzig | K17: Club Brugge | L17: Young Boys | M17: Borussia Dortmund | N17: Atalanta | O17: Dinamo Zagreb | P17: Aston Villa
B18: 14 | C18: Club Brugge | D18: Jan Breydel | E18: Belgium | F18: 56000 | H18: =COUNTIF('Group Stages'!D:G,Teams!C18) -> 8 | I18: Borussia Dortmund | J18: Aston Villa | K18: Sporting CP | L18: Juventus | M18: Sturm Graz | N18: AC Milan | O18: Celtic | P18: Manchester City | R18: Type disciplinary points in column G if positions or particular teams are needed to be decided by tie-breaker no 9
B19: 15 | C19: Crvena Zvezda | D19: Rajko Mitic Stadium | E19: Serbia | F19: 34000 | H19: =COUNTIF('Group Stages'!D:G,Teams!C19) -> 8 | I19: Benfica | J19: Barcelona | K19: VfB Stuttgart | L19: PSV Eindhoven | M19: Inter | N19: Monaco | O19: AC Milan | P19: Young Boys
B20: 16 | C20: Dinamo Zagreb | D20: Maksimir Stadium | E20: Croatia | F20: 42000 | H20: =COUNTIF('Group Stages'!D:G,Teams!C20) -> 8 | I20: Monaco | J20: Borussia Dortmund | K20: Celtic | L20: AC Milan | M20: Bayern München | N20: RB Salzburg | O20: Slovan Bratislava | P20: Arsenal
B21: 17 | C21: Feyenoord | D21: De Kuip | E21: Netherlands | F21: 53000 | H21: =COUNTIF('Group Stages'!D:G,Teams!C21) -> 8 | I21: Bayer Leverkusen | J21: RB Salzburg | K21: Sparta Praha | L21: Bayern München | M21: Girona | N21: Benfica | O21: Manchester City | P21: Lille
B22: 18 | C22: Girona | D22: Montilivi | E22: Spain | F22: 2 | H22: =COUNTIF('Group Stages'!D:G,Teams!C22) -> 8 | I22: Feyenoord | J22: Slovan Bratislava | K22: Liverpool | L22: Arsenal | M22: Paris Saint-Germain | N22: PSV Eindhoven | O22: Sturm Graz | P22: AC Milan
B23: 19 | C23: Inter | D23: San Siro | E23: Italy | F23: 76999 | H23: =COUNTIF('Group Stages'!D:G,Teams!C23) -> 8 | I23: Crvena Zvezda | J23: Arsenal | K23: RB Leipzig | L23: Monaco | M23: Manchester City | N23: Young Boys | O23: Bayer Leverkusen | P23: Sparta Praha
B24: 20 | C24: Juventus | D24: Juventus Stadium | E24: Italy | F24: 58000 | H24: =COUNTIF('Group Stages'!D:G,Teams!C24) -> 8 | I24: PSV Eindhoven | J24: VfB Stuttgart | K24: Manchester City | L24: Benfica | M24: RB Leipzig | N24: Lille | O24: Aston Villa | P24: Club Brugge
B25: 21 | C25: Lille | D25: Pierre Mauroy Stadium | E25: France | F25: 42001 | H25: =COUNTIF('Group Stages'!D:G,Teams!C25) -> 8 | I25: Real Madrid | J25: Juventus | K25: Sturm Graz | L25: Feyenoord | M25: Sporting CP | N25: Atlético Madrid | O25: Bologna | P25: Liverpool
B26: 22 | C26: Liverpool | D26: Anfield | E26: England | F26: 96000 | H26: =COUNTIF('Group Stages'!D:G,Teams!C26) -> 8 | I26: Bologna | J26: Bayer Leverkusen | K26: Real Madrid | L26: Lille | M26: AC Milan | N26: RB Leipzig | O26: Girona | P26: PSV Eindhoven
B27: 23 | C27: Manchester City | D27: Etihad | E27: England | F27: 123000 | H27: =COUNTIF('Group Stages'!D:G,Teams!C27) -> 8 | I27: Inter | J27: Sparta Praha | K27: Feyenoord | L27: Club Brugge | M27: Slovan Bratislava | N27: Sporting CP | O27: Juventus | P27: Paris Saint-Germain
B28: 24 | C28: Monaco | D28: Louis II | E28: France | F28: 24000 | H28: =COUNTIF('Group Stages'!D:G,Teams!C28) -> 8 | I28: Barcelona | J28: Crvena Zvezda | K28: Benfica | L28: Aston Villa | M28: Dinamo Zagreb | N28: Bologna | O28: Arsenal | P28: Inter
B29: 25 | C29: Paris Saint-Germain | D29: Parc des Princes | E29: France | F29: 85000 | H29: =COUNTIF('Group Stages'!D:G,Teams!C29) -> 8 | I29: Girona | J29: PSV Eindhoven | K29: Atlético Madrid | L29: Manchester City | M29: Arsenal | N29: Bayern München | O29: RB Salzburg | P29: VfB Stuttgart
B30: 26 | C30: PSV Eindhoven | D30: Philips Stadion | E30: Netherlands | F30: 48000 | H30: =COUNTIF('Group Stages'!D:G,Teams!C30) -> 8 | I30: Sporting CP | J30: Girona | K30: Shakhtar Donetsk | L30: Liverpool | M30: Juventus | N30: Paris Saint-Germain | O30: Brest | P30: Crvena Zvezda
... B40: 36 | C40: Young Boys | D40: Wankdorf Stadium | E40: Switzerland | F40: 28500 | H40: =COUNTIF('Group Stages'!D:G,Teams!C40) -> 8 | I40: Aston Villa | J40: Inter | K40: Atalanta | L40: Crvena Zvezda | M40: Barcelona | N40: Shakhtar Donetsk | O40: VfB Stuttgart | P40: Celtic
C42: © 2024 | journalsheet.com

Sheet Group Stages
B2: 2024/2025 CHAMPIONS LEAGUE FIXTURES | L2: Click Here to Purchase Editable Version
B4: GROUP STAGES | L4: GROUP STANDINGS | CH4: Arabic | CI4: Adelaide
B5: MD | C5: DATE | D5: HOME | E5: SCORE | G5: AWAY | J5: VENUE | N5: P | O5: W | P5: D | Q5: L | R5: GF | S5: GA | T5: GD | U5: Pts | CH5: Albanian | CI5: Addis Ababa
B6: 1 | C6: 45552 | D6: Juventus | E6: 3 | F6: 1 | G6: PSV Eindhoven | J6: =IFERROR(INDEX(Teams!D$5:D$40,MATCH(D6,Team,0),0),"") -> Juventus Stadium | L6: 1 | M6: =INDEX('Dummy Table'!B:B,MATCH($L6,'Dummy Table'!$A:$A,0),0) -> Bayern München | N6: =INDEX('Dummy Table'!S:S,MATCH($L6,'Dummy Table'!$A:$A,0),0) -> 1 | O6: =INDEX('Dummy Table'!T:T,MATCH($L6,'Dummy Table'!$A:$A,0),0) -> 1 | P6: =INDEX('Dummy Table'!U:U,MATCH($L6,'Dummy Table'!$A:$A,0),0) -> 0 | Q6: =INDEX('Dummy Table'!V:V,MATCH($L6,'Dummy Table'!$A:$A,0),0) -> 0 | R6: =INDEX('Dummy Table'!W:W,MATCH($L6,'Dummy Table'!$A:$A,0),0) -> 9 | S6: =INDEX('Dummy Table'!X:X,MATCH($L6,'Dummy Table'!$A:$A,0),0) -> 2 | T6: =INDEX('Dummy Table'!Y:Y,MATCH($L6,'Dummy Table'!$A:$A,0),0) -> 7 | U6: =INDEX('Dummy Table'!Z:Z,MATCH($L6,'Dummy Table'!$A:$A,0),0) -> 3 | CH6: Bahasa | CI6: Aden
B7: 1 | C7: 45552 | D7: Young Boys | E7: 0 | F7: 3 | G7: Aston Villa | J7: =IFERROR(INDEX(Teams!D$5:D$40,MATCH(D7,Team,0),0),"") -> Wankdorf Stadium | L7: 2 | M7: =INDEX('Dummy Table'!B:B,MATCH($L7,'Dummy Table'!$A:$A,0),0) -> Celtic | N7: =INDEX('Dummy Table'!S:S,MATCH($L7,'Dummy Table'!$A:$A,0),0) -> 1 | O7: =INDEX('Dummy Table'!T:T,MATCH($L7,'Dummy Table'!$A:$A,0),0) -> 1 | P7: =INDEX('Dummy Table'!U:U,MATCH($L7,'Dummy Table'!$A:$A,0),0) -> 0 | Q7: =INDEX('Dummy Table'!V:V,MATCH($L7,'Dummy Table'!$A:$A,0),0) -> 0 | R7: =INDEX('Dummy Table'!W:W,MATCH($L7,'Dummy Table'!$A:$A,0),0) -> 5 | S7: =INDEX('Dummy Table'!X:X,MATCH($L7,'Dummy Table'!$A:$A,0),0) -> 1 | T7: =INDEX('Dummy Table'!Y:Y,MATCH($L7,'Dummy Table'!$A:$A,0),0) -> 4 | U7: =INDEX('Dummy Table'!Z:Z,MATCH($L7,'Dummy Table'!$A:$A,0),0) -> 3 | CH7: Bulgarian | CI7: Algiers
B8: 1 | C8: 45552 | D8: Bayern München | E8: 9 | F8: 2 | G8: Dinamo Zagreb | J8: =IFERROR(INDEX(Teams!D$5:D$40,MATCH(D8,Team,0),0),"") -> Allianz Arena | L8: 3 | M8: =INDEX('Dummy Table'!B:B,MATCH($L8,'Dummy Table'!$A:$A,0),0) -> Bayer Leverkusen | N8: =INDEX('Dummy Table'!S:S,MATCH($L8,'Dummy Table'!$A:$A,0),0) -> 1 | O8: =INDEX('Dummy Table'!T:T,MATCH($L8,'Dummy Table'!$A:$A,0),0) -> 1 | P8: =INDEX('Dummy Table'!U:U,MATCH($L8,'Dummy Table'!$A:$A,0),0) -> 0 | Q8: =INDEX('Dummy Table'!V:V,MATCH($L8,'Dummy Table'!$A:$A,0),0) -> 0 | R8: =INDEX('Dummy Table'!W:W,MATCH($L8,'Dummy Table'!$A:$A,0),0) -> 4 | S8: =INDEX('Dummy Table'!X:X,MATCH($L8,'Dummy Table'!$A:$A,0),0) -> 0 | T8: =INDEX('Dummy Table'!Y:Y,MATCH($L8,'Dummy Table'!$A:$A,0),0) -> 4 | U8: =INDEX('Dummy Table'!Z:Z,MATCH($L8,'Dummy Table'!$A:$A,0),0) -> 3 | CH8: Chinese | CI8: Almaty
B9: 1 | C9: 45552 | D9: Real Madrid | E9: 3 | F9: 1 | G9: VfB Stuttgart | J9: =IFERROR(INDEX(Teams!D$5:D$40,MATCH(D9,Team,0),0),"") -> Santiago Bernabeu | L9: 4 | M9: =INDEX('Dummy Table'!B:B,MATCH($L9,'Dummy Table'!$A:$A,0),0) -> Aston Villa | N9: =INDEX('Dummy Table'!S:S,MATCH($L9,'Dummy Table'!$A:$A,0),0) -> 1 | O9: =INDEX('Dummy Table'!T:T,MATCH($L9,'Dummy Table'!$A:$A,0),0) -> 1 | P9: =INDEX('Dummy Table'!U:U,MATCH($L9,'Dummy Table'!$A:$A,0),0) -> 0 | Q9: =INDEX('Dummy Table'!V:V,MATCH($L9,'Dummy Table'!$A:$A,0),0) -> 0 | R9: =INDEX('Dummy Table'!W:W,MATCH($L9,'Dummy Table'!$A:$A,0),0) -> 3 | S9: =INDEX('Dummy Table'!X:X,MATCH($L9,'Dummy Table'!$A:$A,0),0) -> 0 | T9: =INDEX('Dummy Table'!Y:Y,MATCH($L9,'Dummy Table'!$A:$A,0),0) -> 3 | U9: =INDEX('Dummy Table'!Z:Z,MATCH($L9,'Dummy Table'!$A:$A,0),0) -> 3 | CH9: Croatian | CI9: Amman
B10: 1 | C10: 45552 | D10: AC Milan | E10: 1 | F10: 3 | G10: Liverpool | J10: =IFERROR(INDEX(Teams!D$5:D$40,MATCH(D10,Team,0),0),"") -> San Siro | L10: 5 | M10: =INDEX('Dummy Table'!B:B,MATCH($L10,'Dummy Table'!$A:$A,0),0) -> Borussia Dortmund | N10: =INDEX('Dummy Table'!S:S,MATCH($L10,'Dummy Table'!$A:$A,0),0) -> 1 | O10: =INDEX('Dummy Table'!T:T,MATCH($L10,'Dummy Table'!$A:$A,0),0) -> 1 | P10: =INDEX('Dummy Table'!U:U,MATCH($L10,'Dummy Table'!$A:$A,0),0) -> 0 | Q10: =INDEX('Dummy Table'!V:V,MATCH($L10,'Dummy Table'!$A:$A,0),0) -> 0 | R10: =INDEX('Dummy Table'!W:W,MATCH($L10,'Dummy Table'!$A:$A,0),0) -> 3 | S10: =INDEX('Dummy Table'!X:X,MATCH($L10,'Dummy Table'!$A:$A,0),0) -> 0 | T10: =INDEX('Dummy Table'!Y:Y,MATCH($L10,'Dummy Table'!$A:$A,0),0) -> 3 | U10: =INDEX('Dummy Table'!Z:Z,MATCH($L10,'Dummy Table'!$A:$A,0),0) -> 3 | CH10: Danish | CI10: Amsterdam
B11: 1 | C11: 45552 | D11: Sporting CP | E11: 2 | F11: 0 | G11: Lille | J11: =IFERROR(INDEX(Teams!D$5:D$40,MATCH(D11,Team,0),0),"") -> José Alvalade | L11: 6 | M11: =INDEX('Dummy Table'!B:B,MATCH($L11,'Dummy Table'!$A:$A,0),0) -> Sparta Praha | N11: =INDEX('Dummy Table'!S:S,MATCH($L11,'Dummy Table'!$A:$A,0),0) -> 1 | O11: =INDEX('Dummy Table'!T:T,MATCH($L11,'Dummy Table'!$A:$A,0),0) -> 1 | P11: =INDEX('Dummy Table'!U:U,MATCH($L11,'Dummy Table'!$A:$A,0),0) -> 0 | Q11: =INDEX('Dummy Table'!V:V,MATCH($L11,'Dummy Table'!$A:$A,0),0) -> 0 | R11: =INDEX('Dummy Table'!W:W,MATCH($L11,'Dummy Table'!$A:$A,0),0) -> 3 | S11: =INDEX('Dummy Table'!X:X,MATCH($L11,'Dummy Table'!$A:$A,0),0) -> 0 | T11: =INDEX('Dummy Table'!Y:Y,MATCH($L11,'Dummy Table'!$A:$A,0),0) -> 3 | U11: =INDEX('Dummy Table'!Z:Z,MATCH($L11,'Dummy Table'!$A:$A,0),0) -> 3 | CH11: Dutch | CI11: Anadyr
B12: 1 | C12: 45553 | D12: Bologna | E12: 0 | F12: 0 | G12: Shakhtar Donetsk | J12: =IFERROR(INDEX(Teams!D$5:D$40,MATCH(D12,Team,0),0),"") -> Renato Dall'Ara | L12: 7 | M12: =INDEX('Dummy Table'!B:B,MATCH($L12,'Dummy Table'!$A:$A,0),0) -> Liverpool | N12: =INDEX('Dummy Table'!S:S,MATCH($L12,'Dummy Table'!$A:$A,0),0) -> 1 | O12: =INDEX('Dummy Table'!T:T,MATCH($L12,'Dummy Table'!$A:$A,0),0) -> 1 | P12: =INDEX('Dummy Table'!U:U,MATCH($L12,'Dummy Table'!$A:$A,0),0) -> 0 | Q12: =INDEX('Dummy Table'!V:V,MATCH($L12,'Dummy Table'!$A:$A,0),0) -> 0 | R12: =INDEX('Dummy Table'!W:W,MATCH($L12,'Dummy Table'!$A:$A,0),0) -> 3 | S12: =INDEX('Dummy Table'!X:X,MATCH($L12,'Dummy Table'!$A:$A,0),0) -> 1 | T12: =INDEX('Dummy Table'!Y:Y,MATCH($L12,'Dummy Table'!$A:$A,0),0) -> 2 | U12: =INDEX('Dummy Table'!Z:Z,MATCH($L12,'Dummy Table'!$A:$A,0),0) -> 3 | CH12: English | CI12: Anchorage
B13: 1 | C13: 45553 | D13: Sparta Praha | E13: 3 | F13: 0 | G13: RB Salzburg | J13: =IFERROR(INDEX(Teams!D$5:D$40,MATCH(D13,Team,0),0),"") -> epet ARENA | L13: 8 | M13: =INDEX('Dummy Table'!B:B,MATCH($L13,'Dummy Table'!$A:$A,0),0) -> Real Madrid | N13: =INDEX('Dummy Table'!S:S,MATCH($L13,'Dummy Table'!$A:$A,0),0) -> 1 | O13: =INDEX('Dummy Table'!T:T,MATCH($L13,'Dummy Table'!$A:$A,0),0) -> 1 | P13: =INDEX('Dummy Table'!U:U,MATCH($L13,'Dummy Table'!$A:$A,0),0) -> 0 | Q13: =INDEX('Dummy Table'!V:V,MATCH($L13,'Dummy Table'!$A:$A,0),0) -> 0 | R13: =INDEX('Dummy Table'!W:W,MATCH($L13,'Dummy Table'!$A:$A,0),0) -> 3 | S13: =INDEX('Dummy Table'!X:X,MATCH($L13,'Dummy Table'!$A:$A,0),0) -> 1 | T13: =INDEX('Dummy Table'!Y:Y,MATCH($L13,'Dummy Table'!$A:$A,0),0) -> 2 | U13: =INDEX('Dummy Table'!Z:Z,MATCH($L13,'Dummy Table'!$A:$A,0),0) -> 3 | CH13: Finnish | CI13: Ankara
B14: 1 | C14: 45553 | D14: Manchester City | E14: 0 | F14: 0 | G14: Inter | J14: =IFERROR(INDEX(Teams!D$5:D$40,MATCH(D14,Team,0),0),"") -> Etihad | L14: 9 | M14: =INDEX('Dummy Table'!B:B,MATCH($L14,'Dummy Table'!$A:$A,0),0) -> Juventus | N14: =INDEX('Dummy Table'!S:S,MATCH($L14,'Dummy Table'!$A:$A,0),0) -> 1 | O14: =INDEX('Dummy Table'!T:T,MATCH($L14,'Dummy Table'!$A:$A,0),0) -> 1 | P14: =INDEX('Dummy Table'!U:U,MATCH($L14,'Dummy Table'!$A:$A,0),0) -> 0 | Q14: =INDEX('Dummy Table'!V:V,MATCH($L14,'Dummy Table'!$A:$A,0),0) -> 0 | R14: =INDEX('Dummy Table'!W:W,MATCH($L14,'Dummy Table'!$A:$A,0),0) -> 3 | S14: =INDEX('Dummy Table'!X:X,MATCH($L14,'Dummy Table'!$A:$A,0),0) -> 1 | T14: =INDEX('Dummy Table'!Y:Y,MATCH($L14,'Dummy Table'!$A:$A,0),0) -> 2 | U14: =INDEX('Dummy Table'!Z:Z,MATCH($L14,'Dummy Table'!$A:$A,0),0) -> 3 | CH14: France | CI14: Antananarivo
B15: 1 | C15: 45553 | D15: Paris Saint-Germain | E15: 1 | F15: 0 | G15: Girona | J15: =IFERROR(INDEX(Teams!D$5:D$40,MATCH(D15,Team,0),0),"") -> Parc des Princes | L15: 10 | M15: =INDEX('Dummy Table'!B:B,MATCH($L15,'Dummy Table'!$A:$A,0),0) -> Sporting CP | N15: =INDEX('Dummy Table'!S:S,MATCH($L15,'Dummy Table'!$A:$A,0),0) -> 1 | O15: =INDEX('Dummy Table'!T:T,MATCH($L15,'Dummy Table'!$A:$A,0),0) -> 1 | P15: =INDEX('Dummy Table'!U:U,MATCH($L15,'Dummy Table'!$A:$A,0),0) -> 0 | Q15: =INDEX('Dummy Table'!V:V,MATCH($L15,'Dummy Table'!$A:$A,0),0) -> 0 | R15: =INDEX('Dummy Table'!W:W,MATCH($L15,'Dummy Table'!$A:$A,0),0) -> 2 | S15: =INDEX('Dummy Table'!X:X,MATCH($L15,'Dummy Table'!$A:$A,0),0) -> 0 | T15: =INDEX('Dummy Table'!Y:Y,MATCH($L15,'Dummy Table'!$A:$A,0),0) -> 2 | U15: =INDEX('Dummy Table'!Z:Z,MATCH($L15,'Dummy Table'!$A:$A,0),0) -> 3 | CH15: German | CI15: Asuncion
B16: 1 | C16: 45553 | D16: Club Brugge | E16: 0 | F16: 3 | G16: Borussia Dortmund | J16: =IFERROR(INDEX(Teams!D$5:D$40,MATCH(D16,Team,0),0),"") -> Jan Breydel | L16: 11 | M16: =INDEX('Dummy Table'!B:B,MATCH($L16,'Dummy Table'!$A:$A,0),0) -> Benfica | N16: =INDEX('Dummy Table'!S:S,MATCH($L16,'Dummy Table'!$A:$A,0),0) -> 1 | O16: =INDEX('Dummy Table'!T:T,MATCH($L16,'Dummy Table'!$A:$A,0),0) -> 1 | P16: =INDEX('Dummy Table'!U:U,MATCH($L16,'Dummy Table'!$A:$A,0),0) -> 0 | Q16: =INDEX('Dummy Table'!V:V,MATCH($L16,'Dummy Table'!$A:$A,0),0) -> 0 | R16: =INDEX('Dummy Table'!W:W,MATCH($L16,'Dummy Table'!$A:$A,0),0) -> 2 | S16: =INDEX('Dummy Table'!X:X,MATCH($L16,'Dummy Table'!$A:$A,0),0) -> 1 | T16: =INDEX('Dummy Table'!Y:Y,MATCH($L16,'Dummy Table'!$A:$A,0),0) -> 1 | U16: =INDEX('Dummy Table'!Z:Z,MATCH($L16,'Dummy Table'!$A:$A,0),0) -> 3 | CH16: Greek | CI16: Athens
B17: 1 | C17: 45553 | D17: Celtic | E17: 5 | F17: 1 | G17: Slovan Bratislava | J17: =IFERROR(INDEX(Teams!D$5:D$40,MATCH(D17,Team,0),0),"") -> Celtic Park | L17: 12 | M17: =INDEX('Dummy Table'!B:B,MATCH($L17,'Dummy Table'!$A:$A,0),0) -> Atlético Madrid | N17: =INDEX('Dummy Table'!S:S,MATCH($L17,'Dummy Table'!$A:$A,0),0) -> 1 | O17: =INDEX('Dummy Table'!T:T,MATCH($L17,'Dummy Table'!$A:$A,0),0) -> 1 | P17: =INDEX('Dummy Table'!U:U,MATCH($L17,'Dummy Table'!$A:$A,0),0) -> 0 | Q17: =INDEX('Dummy Table'!V:V,MATCH($L17,'Dummy Table'!$A:$A,0),0) -> 0 | R17: =INDEX('Dummy Table'!W:W,MATCH($L17,'Dummy Table'!$A:$A,0),0) -> 2 | S17: =INDEX('Dummy Table'!X:X,MATCH($L17,'Dummy Table'!$A:$A,0),0) -> 1 | T17: =INDEX('Dummy Table'!Y:Y,MATCH($L17,'Dummy Table'!$A:$A,0),0) -> 1 | U17: =INDEX('Dummy Table'!Z:Z,MATCH($L17,'Dummy Table'!$A:$A,0),0) -> 3 | CH17: Hungarian | CI17: Atlanta
... B23: 1 | C23: 45554 | D23: Brest | E23: 2 | F23: 1 | G23: Sturm Graz | J23: =IFERROR(INDEX(Teams!D$5:D$40,MATCH(D23,Team,0),0),"") -> Francis-Le Blé | L23: 18 | M23: =INDEX('Dummy Table'!B:B,MATCH($L23,'Dummy Table'!$A:$A,0),0) -> Shakhtar Donetsk | N23: =INDEX('Dummy Table'!S:S,MATCH($L23,'Dummy Table'!$A:$A,0),0) -> 1 | O23: =INDEX('Dummy Table'!T:T,MATCH($L23,'Dummy Table'!$A:$A,0),0) -> 0 | P23: =INDEX('Dummy Table'!U:U,MATCH($L23,'Dummy Table'!$A:$A,0),0) -> 1 | Q23: =INDEX('Dummy Table'!V:V,MATCH($L23,'Dummy Table'!$A:$A,0),0) -> 0 | R23: =INDEX('Dummy Table'!W:W,MATCH($L23,'Dummy Table'!$A:$A,0),0) -> 0 | S23: =INDEX('Dummy Table'!X:X,MATCH($L23,'Dummy Table'!$A:$A,0),0) -> 0 | T23: =INDEX('Dummy Table'!Y:Y,MATCH($L23,'Dummy Table'!$A:$A,0),0) -> 0 | U23: =INDEX('Dummy Table'!Z:Z,MATCH($L23,'Dummy Table'!$A:$A,0),0) -> 1 | CH23: Portuguese | CI23: Beirut
B24: =B6+1 -> 2 | C24: 45566 | D24: RB Salzburg | G24: Brest | J24: =IFERROR(INDEX(Teams!D$5:D$40,MATCH(D24,Team,0),0),"") -> Red Bull Arena | L24: 19 | M24: =INDEX('Dummy Table'!B:B,MATCH($L24,'Dummy Table'!$A:$A,0),0) -> Arsenal | N24: =INDEX('Dummy Table'!S:S,MATCH($L24,'Dummy Table'!$A:$A,0),0) -> 1 | O24: =INDEX('Dummy Table'!T:T,MATCH($L24,'Dummy Table'!$A:$A,0),0) -> 0 | P24: =INDEX('Dummy Table'!U:U,MATCH($L24,'Dummy Table'!$A:$A,0),0) -> 1 | Q24: =INDEX('Dummy Table'!V:V,MATCH($L24,'Dummy Table'!$A:$A,0),0) -> 0 | R24: =INDEX('Dummy Table'!W:W,MATCH($L24,'Dummy Table'!$A:$A,0),0) -> 0 | S24: =INDEX('Dummy Table'!X:X,MATCH($L24,'Dummy Table'!$A:$A,0),0) -> 0 | T24: =INDEX('Dummy Table'!Y:Y,MATCH($L24,'Dummy Table'!$A:$A,0),0) -> 0 | U24: =INDEX('Dummy Table'!Z:Z,MATCH($L24,'Dummy Table'!$A:$A,0),0) -> 1 | CH24: Romanian | CI24: Belgrade
B25: =B7+1 -> 2 | C25: 45566 | D25: VfB Stuttgart | G25: Sparta Praha | J25: =IFERROR(INDEX(Teams!D$5:D$40,MATCH(D25,Team,0),0),"") -> MHP Arena | L25: 20 | M25: =INDEX('Dummy Table'!B:B,MATCH($L25,'Dummy Table'!$A:$A,0),0) -> Inter | N25: =INDEX('Dummy Table'!S:S,MATCH($L25,'Dummy Table'!$A:$A,0),0) -> 1 | O25: =INDEX('Dummy Table'!T:T,MATCH($L25,'Dummy Table'!$A:$A,0),0) -> 0 | P25: =INDEX('Dummy Table'!U:U,MATCH($L25,'Dummy Table'!$A:$A,0),0) -> 1 | Q25: =INDEX('Dummy Table'!V:V,MATCH($L25,'Dummy Table'!$A:$A,0),0) -> 0 | R25: =INDEX('Dummy Table'!W:W,MATCH($L25,'Dummy Table'!$A:$A,0),0) -> 0 | S25: =INDEX('Dummy Table'!X:X,MATCH($L25,'Dummy Table'!$A:$A,0),0) -> 0 | T25: =INDEX('Dummy Table'!Y:Y,MATCH($L25,'Dummy Table'!$A:$A,0),0) -> 0 | U25: =INDEX('Dummy Table'!Z:Z,MATCH($L25,'Dummy Table'!$A:$A,0),0) -> 1 | CH25: Russian | CI25: Berlin
B26: =B8+1 -> 2 | C26: 45566 | D26: Borussia Dortmund | G26: Celtic | J26: =IFERROR(INDEX(Teams!D$5:D$40,MATCH(D26,Team,0),0),"") -> Signal Iduna Park | L26: 21 | M26: =INDEX('Dummy Table'!B:B,MATCH($L26,'Dummy Table'!$A:$A,0),0) -> Atalanta | N26: =INDEX('Dummy Table'!S:S,MATCH($L26,'Dummy Table'!$A:$A,0),0) -> 1 | O26: =INDEX('Dummy Table'!T:T,MATCH($L26,'Dummy Table'!$A:$A,0),0) -> 0 | P26: =INDEX('Dummy Table'!U:U,MATCH($L26,'Dummy Table'!$A:$A,0),0) -> 1 | Q26: =INDEX('Dummy Table'!V:V,MATCH($L26,'Dummy Table'!$A:$A,0),0) -> 0 | R26: =INDEX('Dummy Table'!W:W,MATCH($L26,'Dummy Table'!$A:$A,0),0) -> 0 | S26: =INDEX('Dummy Table'!X:X,MATCH($L26,'Dummy Table'!$A:$A,0),0) -> 0 | T26: =INDEX('Dummy Table'!Y:Y,MATCH($L26,'Dummy Table'!$A:$A,0),0) -> 0 | U26: =INDEX('Dummy Table'!Z:Z,MATCH($L26,'Dummy Table'!$A:$A,0),0) -> 1 | CH26: Serbian | CI26: Bogota
B27: =B9+1 -> 2 | C27: 45566 | D27: Barcelona | G27: Young Boys | J27: =IFERROR(INDEX(Teams!D$5:D$40,MATCH(D27,Team,0),0),"") -> Nou Camp | L27: 22 | M27: =INDEX('Dummy Table'!B:B,MATCH($L27,'Dummy Table'!$A:$A,0),0) -> RB Leipzig | N27: =INDEX('Dummy Table'!S:S,MATCH($L27,'Dummy Table'!$A:$A,0),0) -> 1 | O27: =INDEX('Dummy Table'!T:T,MATCH($L27,'Dummy Table'!$A:$A,0),0) -> 0 | P27: =INDEX('Dummy Table'!U:U,MATCH($L27,'Dummy Table'!$A:$A,0),0) -> 0 | Q27: =INDEX('Dummy Table'!V:V,MATCH($L27,'Dummy Table'!$A:$A,0),0) -> 1 | R27: =INDEX('Dummy Table'!W:W,MATCH($L27,'Dummy Table'!$A:$A,0),0) -> 1 | S27: =INDEX('Dummy Table'!X:X,MATCH($L27,'Dummy Table'!$A:$A,0),0) -> 2 | T27: =INDEX('Dummy Table'!Y:Y,MATCH($L27,'Dummy Table'!$A:$A,0),0) -> -1 | U27: =INDEX('Dummy Table'!Z:Z,MATCH($L27,'Dummy Table'!$A:$A,0),0) -> 0 | CH27: Slovenian | CI27: Boston
B28: =B10+1 -> 2 | C28: 45566 | D28: Inter | G28: Crvena Zvezda | J28: =IFERROR(INDEX(Teams!D$5:D$40,MATCH(D28,Team,0),0),"") -> San Siro | L28: 23 | M28: =INDEX('Dummy Table'!B:B,MATCH($L28,'Dummy Table'!$A:$A,0),0) -> Barcelona | N28: =INDEX('Dummy Table'!S:S,MATCH($L28,'Dummy Table'!$A:$A,0),0) -> 1 | O28: =INDEX('Dummy Table'!T:T,MATCH($L28,'Dummy Table'!$A:$A,0),0) -> 0 | P28: =INDEX('Dummy Table'!U:U,MATCH($L28,'Dummy Table'!$A:$A,0),0) -> 0 | Q28: =INDEX('Dummy Table'!V:V,MATCH($L28,'Dummy Table'!$A:$A,0),0) -> 1 | R28: =INDEX('Dummy Table'!W:W,MATCH($L28,'Dummy Table'!$A:$A,0),0) -> 1 | S28: =INDEX('Dummy Table'!X:X,MATCH($L28,'Dummy Table'!$A:$A,0),0) -> 2 | T28: =INDEX('Dummy Table'!Y:Y,MATCH($L28,'Dummy Table'!$A:$A,0),0) -> -1 | U28: =INDEX('Dummy Table'!Z:Z,MATCH($L28,'Dummy Table'!$A:$A,0),0) -> 0 | CH28: Spanish | CI28: Brasilia
B29: =B11+1 -> 2 | C29: 45566 | D29: Bayer Leverkusen | G29: AC Milan | J29: =IFERROR(INDEX(Teams!D$5:D$40,MATCH(D29,Team,0),0),"") -> Bay Arena | L29: 24 | M29: =INDEX('Dummy Table'!B:B,MATCH($L29,'Dummy Table'!$A:$A,0),0) -> Sturm Graz | N29: =INDEX('Dummy Table'!S:S,MATCH($L29,'Dummy Table'!$A:$A,0),0) -> 1 | O29: =INDEX('Dummy Table'!T:T,MATCH($L29,'Dummy Table'!$A:$A,0),0) -> 0 | P29: =INDEX('Dummy Table'!U:U,MATCH($L29,'Dummy Table'!$A:$A,0),0) -> 0 | Q29: =INDEX('Dummy Table'!V:V,MATCH($L29,'Dummy Table'!$A:$A,0),0) -> 1 | R29: =INDEX('Dummy Table'!W:W,MATCH($L29,'Dummy Table'!$A:$A,0),0) -> 1 | S29: =INDEX('Dummy Table'!X:X,MATCH($L29,'Dummy Table'!$A:$A,0),0) -> 2 | T29: =INDEX('Dummy Table'!Y:Y,MATCH($L29,'Dummy Table'!$A:$A,0),0) -> -1 | U29: =INDEX('Dummy Table'!Z:Z,MATCH($L29,'Dummy Table'!$A:$A,0),0) -> 0 | CH29: Turkish | CI29: Brisbane
B30: =B12+1 -> 2 | C30: 45566 | D30: Arsenal | G30: Paris Saint-Germain | J30: =IFERROR(INDEX(Teams!D$5:D$40,MATCH(D30,Team,0),0),"") -> Emirates | L30: 25 | M30: =INDEX('Dummy Table'!B:B,MATCH($L30,'Dummy Table'!$A:$A,0),0) -> Crvena Zvezda | N30: =INDEX('Dummy Table'!S:S,MATCH($L30,'Dummy Table'!$A:$A,0),0) -> 1 | O30: =INDEX('Dummy Table'!T:T,MATCH($L30,'Dummy Table'!$A:$A,0),0) -> 0 | P30: =INDEX('Dummy Table'!U:U,MATCH($L30,'Dummy Table'!$A:$A,0),0) -> 0 | Q30: =INDEX('Dummy Table'!V:V,MATCH($L30,'Dummy Table'!$A:$A,0),0) -> 1 | R30: =INDEX('Dummy Table'!W:W,MATCH($L30,'Dummy Table'!$A:$A,0),0) -> 1 | S30: =INDEX('Dummy Table'!X:X,MATCH($L30,'Dummy Table'!$A:$A,0),0) -> 2 | T30: =INDEX('Dummy Table'!Y:Y,MATCH($L30,'Dummy Table'!$A:$A,0),0) -> -1 | U30: =INDEX('Dummy Table'!Z:Z,MATCH($L30,'Dummy Table'!$A:$A,0),0) -> 0 | CH30: Vietnamese | CI30: Brussels
B31: =B13+1 -> 2 | C31: 45566 | D31: PSV Eindhoven | G31: Sporting CP | J31: =IFERROR(INDEX(Teams!D$5:D$40,MATCH(D31,Team,0),0),"") -> Philips Stadion | L31: 26 | M31: =INDEX('Dummy Table'!B:B,MATCH($L31,'Dummy Table'!$A:$A,0),0) -> Girona | N31: =INDEX('Dummy Table'!S:S,MATCH($L31,'Dummy Table'!$A:$A,0),0) -> 1 | O31: =INDEX('Dummy Table'!T:T,MATCH($L31,'Dummy Table'!$A:$A,0),0) -> 0 | P31: =INDEX('Dummy Table'!U:U,MATCH($L31,'Dummy Table'!$A:$A,0),0) -> 0 | Q31: =INDEX('Dummy Table'!V:V,MATCH($L31,'Dummy Table'!$A:$A,0),0) -> 1 | R31: =INDEX('Dummy Table'!W:W,MATCH($L31,'Dummy Table'!$A:$A,0),0) -> 0 | S31: =INDEX('Dummy Table'!X:X,MATCH($L31,'Dummy Table'!$A:$A,0),0) -> 1 | T31: =INDEX('Dummy Table'!Y:Y,MATCH($L31,'Dummy Table'!$A:$A,0),0) -> -1 | U31: =INDEX('Dummy Table'!Z:Z,MATCH($L31,'Dummy Table'!$A:$A,0),0) -> 0 | CI31: Bucharest
B32: =B14+1 -> 2 | C32: 45566 | D32: Slovan Bratislava | G32: Manchester City | J32: =IFERROR(INDEX(Teams!D$5:D$40,MATCH(D32,Team,0),0),"") -> Tehelné pole | L32: 27 | M32: =INDEX('Dummy Table'!B:B,MATCH($L32,'Dummy Table'!$A:$A,0),0) -> PSV Eindhoven | N32: =INDEX('Dummy Table'!S:S,MATCH($L32,'Dummy Table'!$A:$A,0),0) -> 1 | O32: =INDEX('Dummy Table'!T:T,MATCH($L32,'Dummy Table'!$A:$A,0),0) -> 0 | P32: =INDEX('Dummy Table'!U:U,MATCH($L32,'Dummy Table'!$A:$A,0),0) -> 0 | Q32: =INDEX('Dummy Table'!V:V,MATCH($L32,'Dummy Table'!$A:$A,0),0) -> 1 | R32: =INDEX('Dummy Table'!W:W,MATCH($L32,'Dummy Table'!$A:$A,0),0) -> 1 | S32: =INDEX('Dummy Table'!X:X,MATCH($L32,'Dummy Table'!$A:$A,0),0) -> 3 | T32: =INDEX('Dummy Table'!Y:Y,MATCH($L32,'Dummy Table'!$A:$A,0),0) -> -2 | U32: =INDEX('Dummy Table'!Z:Z,MATCH($L32,'Dummy Table'!$A:$A,0),0) -> 0 | CI32: Budapest
B33: =B15+1 -> 2 | C33: 45567 | D33: Shakhtar Donetsk | G33: Atalanta | J33: =IFERROR(INDEX(Teams!D$5:D$40,MATCH(D33,Team,0),0),"") -> Donbass Arena | L33: 28 | M33: =INDEX('Dummy Table'!B:B,MATCH($L33,'Dummy Table'!$A:$A,0),0) -> VfB Stuttgart | N33: =INDEX('Dummy Table'!S:S,MATCH($L33,'Dummy Table'!$A:$A,0),0) -> 1 | O33: =INDEX('Dummy Table'!T:T,MATCH($L33,'Dummy Table'!$A:$A,0),0) -> 0 | P33: =INDEX('Dummy Table'!U:U,MATCH($L33,'Dummy Table'!$A:$A,0),0) -> 0 | Q33: =INDEX('Dummy Table'!V:V,MATCH($L33,'Dummy Table'!$A:$A,0),0) -> 1 | R33: =INDEX('Dummy Table'!W:W,MATCH($L33,'Dummy Table'!$A:$A,0),0) -> 1 | S33: =INDEX('Dummy Table'!X:X,MATCH($L33,'Dummy Table'!$A:$A,0),0) -> 3 | T33: =INDEX('Dummy Table'!Y:Y,MATCH($L33,'Dummy Table'!$A:$A,0),0) -> -2 | U33: =INDEX('Dummy Table'!Z:Z,MATCH($L33,'Dummy Table'!$A:$A,0),0) -> 0 | CI33: Buenos Aires
B34: =B16+1 -> 2 | C34: 45567 | D34: Girona | G34: Feyenoord | J34: =IFERROR(INDEX(Teams!D$5:D$40,MATCH(D34,Team,0),0),"") -> Montilivi | L34: 29 | M34: =INDEX('Dummy Table'!B:B,MATCH($L34,'Dummy Table'!$A:$A,0),0) -> AC Milan | N34: =INDEX('Dummy Table'!S:S,MATCH($L34,'Dummy Table'!$A:$A,0),0) -> 1 | O34: =INDEX('Dummy Table'!T:T,MATCH($L34,'Dummy Table'!$A:$A,0),0) -> 0 | P34: =INDEX('Dummy Table'!U:U,MATCH($L34,'Dummy Table'!$A:$A,0),0) -> 0 | Q34: =INDEX('Dummy Table'!V:V,MATCH($L34,'Dummy Table'!$A:$A,0),0) -> 1 | R34: =INDEX('Dummy Table'!W:W,MATCH($L34,'Dummy Table'!$A:$A,0),0) -> 1 | S34: =INDEX('Dummy Table'!X:X,MATCH($L34,'Dummy Table'!$A:$A,0),0) -> 3 | T34: =INDEX('Dummy Table'!Y:Y,MATCH($L34,'Dummy Table'!$A:$A,0),0) -> -2 | U34: =INDEX('Dummy Table'!Z:Z,MATCH($L34,'Dummy Table'!$A:$A,0),0) -> 0 | CI34: Cairo
B35: =B17+1 -> 2 | C35: 45567 | D35: Liverpool | G35: Bologna | J35: =IFERROR(INDEX(Teams!D$5:D$40,MATCH(D35,Team,0),0),"") -> Anfield | L35: 30 | M35: =INDEX('Dummy Table'!B:B,MATCH($L35,'Dummy Table'!$A:$A,0),0) -> Lille | N35: =INDEX('Dummy Table'!S:S,MATCH($L35,'Dummy Table'!$A:$A,0),0) -> 1 | O35: =INDEX('Dummy Table'!T:T,MATCH($L35,'Dummy Table'!$A:$A,0),0) -> 0 | P35: =INDEX('Dummy Table'!U:U,MATCH($L35,'Dummy Table'!$A:$A,0),0) -> 0 | Q35: =INDEX('Dummy Table'!V:V,MATCH($L35,'Dummy Table'!$A:$A,0),0) -> 1 | R35: =INDEX('Dummy Table'!W:W,MATCH($L35,'Dummy Table'!$A:$A,0),0) -> 0 | S35: =INDEX('Dummy Table'!X:X,MATCH($L35,'Dummy Table'!$A:$A,0),0) -> 2 | T35: =INDEX('Dummy Table'!Y:Y,MATCH($L35,'Dummy Table'!$A:$A,0),0) -> -2 | U35: =INDEX('Dummy Table'!Z:Z,MATCH($L35,'Dummy Table'!$A:$A,0),0) -> 0 | CI35: Canberra
B36: =B18+1 -> 2 | C36: 45567 | D36: RB Leipzig | G36: Juventus | J36: =IFERROR(INDEX(Teams!D$5:D$40,MATCH(D36,Team,0),0),"") -> Red Bull Arena | L36: 31 | M36: =INDEX('Dummy Table'!B:B,MATCH($L36,'Dummy Table'!$A:$A,0),0) -> RB Salzburg | N36: =INDEX('Dummy Table'!S:S,MATCH($L36,'Dummy Table'!$A:$A,0),0) -> 1 | O36: =INDEX('Dummy Table'!T:T,MATCH($L36,'Dummy Table'!$A:$A,0),0) -> 0 | P36: =INDEX('Dummy Table'!U:U,MATCH($L36,'Dummy Table'!$A:$A,0),0) -> 0 | Q36: =INDEX('Dummy Table'!V:V,MATCH($L36,'Dummy Table'!$A:$A,0),0) -> 1 | R36: =INDEX('Dummy Table'!W:W,MATCH($L36,'Dummy Table'!$A:$A,0),0) -> 0 | S36: =INDEX('Dummy Table'!X:X,MATCH($L36,'Dummy Table'!$A:$A,0),0) -> 3 | T36: =INDEX('Dummy Table'!Y:Y,MATCH($L36,'Dummy Table'!$A:$A,0),0) -> -3 | U36: =INDEX('Dummy Table'!Z:Z,MATCH($L36,'Dummy Table'!$A:$A,0),0) -> 0 | CI36: Cape Town
B37: =B19+1 -> 2 | C37: 45567 | D37: Benfica | G37: Atlético Madrid | J37: =IFERROR(INDEX(Teams!D$5:D$40,MATCH(D37,Team,0),0),"") -> Stadion da Luz | L37: 32 | M37: =INDEX('Dummy Table'!B:B,MATCH($L37,'Dummy Table'!$A:$A,0),0) -> Club Brugge | N37: =INDEX('Dummy Table'!S:S,MATCH($L37,'Dummy Table'!$A:$A,0),0) -> 1 | O37: =INDEX('Dummy Table'!T:T,MATCH($L37,'Dummy Table'!$A:$A,0),0) -> 0 | P37: =INDEX('Dummy Table'!U:U,MATCH($L37,'Dummy Table'!$A:$A,0),0) -> 0 | Q37: =INDEX('Dummy Table'!V:V,MATCH($L37,'Dummy Table'!$A:$A,0),0) -> 1 | R37: =INDEX('Dummy Table'!W:W,MATCH($L37,'Dummy Table'!$A:$A,0),0) -> 0 | S37: =INDEX('Dummy Table'!X:X,MATCH($L37,'Dummy Table'!$A:$A,0),0) -> 3 | T37: =INDEX('Dummy Table'!Y:Y,MATCH($L37,'Dummy Table'!$A:$A,0),0) -> -3 | U37: =INDEX('Dummy Table'!Z:Z,MATCH($L37,'Dummy Table'!$A:$A,0),0) -> 0 | CI37: Caracas
B38: =B20+1 -> 2 | C38: 45567 | D38: Dinamo Zagreb | G38: Monaco | J38: =IFERROR(INDEX(Teams!D$5:D$40,MATCH(D38,Team,0),0),"") -> Maksimir Stadium | L38: 33 | M38: =INDEX('Dummy Table'!B:B,MATCH($L38,'Dummy Table'!$A:$A,0),0) -> Young Boys | N38: =INDEX('Dummy Table'!S:S,MATCH($L38,'Dummy Table'!$A:$A,0),0) -> 1 | O38: =INDEX('Dummy Table'!T:T,MATCH($L38,'Dummy Table'!$A:$A,0),0) -> 0 | P38: =INDEX('Dummy Table'!U:U,MATCH($L38,'Dummy Table'!$A:$A,0),0) -> 0 | Q38: =INDEX('Dummy Table'!V:V,MATCH($L38,'Dummy Table'!$A:$A,0),0) -> 1 | R38: =INDEX('Dummy Table'!W:W,MATCH($L38,'Dummy Table'!$A:$A,0),0) -> 0 | S38: =INDEX('Dummy Table'!X:X,MATCH($L38,'Dummy Table'!$A:$A,0),0) -> 3 | T38: =INDEX('Dummy Table'!Y:Y,MATCH($L38,'Dummy Table'!$A:$A,0),0) -> -3 | U38: =INDEX('Dummy Table'!Z:Z,MATCH($L38,'Dummy Table'!$A:$A,0),0) -> 0 | CI38: Casablanca
B39: =B21+1 -> 2 | C39: 45567 | D39: Lille | G39: Real Madrid | J39: =IFERROR(INDEX(Teams!D$5:D$40,MATCH(D39,Team,0),0),"") -> Pierre Mauroy Stadium | L39: 34 | M39: =INDEX('Dummy Table'!B:B,MATCH($L39,'Dummy Table'!$A:$A,0),0) -> Slovan Bratislava | N39: =INDEX('Dummy Table'!S:S,MATCH($L39,'Dummy Table'!$A:$A,0),0) -> 1 | O39: =INDEX('Dummy Table'!T:T,MATCH($L39,'Dummy Table'!$A:$A,0),0) -> 0 | P39: =INDEX('Dummy Table'!U:U,MATCH($L39,'Dummy Table'!$A:$A,0),0) -> 0 | Q39: =INDEX('Dummy Table'!V:V,MATCH($L39,'Dummy Table'!$A:$A,0),0) -> 1 | R39: =INDEX('Dummy Table'!W:W,MATCH($L39,'Dummy Table'!$A:$A,0),0) -> 1 | S39: =INDEX('Dummy Table'!X:X,MATCH($L39,'Dummy Table'!$A:$A,0),0) -> 5 | T39: =INDEX('Dummy Table'!Y:Y,MATCH($L39,'Dummy Table'!$A:$A,0),0) -> -4 | U39: =INDEX('Dummy Table'!Z:Z,MATCH($L39,'Dummy Table'!$A:$A,0),0) -> 0 | CI39: Chicago
B40: =B22+1 -> 2 | C40: 45567 | D40: Aston Villa | G40: Bayern München | J40: =IFERROR(INDEX(Teams!D$5:D$40,MATCH(D40,Team,0),0),"") -> Villa Park | L40: 35 | M40: =INDEX('Dummy Table'!B:B,MATCH($L40,'Dummy Table'!$A:$A,0),0) -> Feyenoord | N40: =INDEX('Dummy Table'!S:S,MATCH($L40,'Dummy Table'!$A:$A,0),0) -> 1 | O40: =INDEX('Dummy Table'!T:T,MATCH($L40,'Dummy Table'!$A:$A,0),0) -> 0 | P40: =INDEX('Dummy Table'!U:U,MATCH($L40,'Dummy Table'!$A:$A,0),0) -> 0 | Q40: =INDEX('Dummy Table'!V:V,MATCH($L40,'Dummy Table'!$A:$A,0),0) -> 1 | R40: =INDEX('Dummy Table'!W:W,MATCH($L40,'Dummy Table'!$A:$A,0),0) -> 0 | S40: =INDEX('Dummy Table'!X:X,MATCH($L40,'Dummy Table'!$A:$A,0),0) -> 4 | T40: =INDEX('Dummy Table'!Y:Y,MATCH($L40,'Dummy Table'!$A:$A,0),0) -> -4 | U40: =INDEX('Dummy Table'!Z:Z,MATCH($L40,'Dummy Table'!$A:$A,0),0) -> 0 | CI40: Copenhagen
B41: =B23+1 -> 2 | C41: 45567 | D41: Sturm Graz | G41: Club Brugge | J41: =IFERROR(INDEX(Teams!D$5:D$40,MATCH(D41,Team,0),0),"") -> Merkur Arena | L41: 36 | M41: =INDEX('Dummy Table'!B:B,MATCH($L41,'Dummy Table'!$A:$A,0),0) -> Dinamo Zagreb | N41: =INDEX('Dummy Table'!S:S,MATCH($L41,'Dummy Table'!$A:$A,0),0) -> 1 | O41: =INDEX('Dummy Table'!T:T,MATCH($L41,'Dummy Table'!$A:$A,0),0) -> 0 | P41: =INDEX('Dummy Table'!U:U,MATCH($L41,'Dummy Table'!$A:$A,0),0) -> 0 | Q41: =INDEX('Dummy Table'!V:V,MATCH($L41,'Dummy Table'!$A:$A,0),0) -> 1 | R41: =INDEX('Dummy Table'!W:W,MATCH($L41,'Dummy Table'!$A:$A,0),0) -> 2 | S41: =INDEX('Dummy Table'!X:X,MATCH($L41,'Dummy Table'!$A:$A,0),0) -> 9 | T41: =INDEX('Dummy Table'!Y:Y,MATCH($L41,'Dummy Table'!$A:$A,0),0) -> -7 | U41: =INDEX('Dummy Table'!Z:Z,MATCH($L41,'Dummy Table'!$A:$A,0),0) -> 0 | CI41: Darwin
B42: =B24+1 -> 3 | C42: 45587 | D42: AC Milan | G42: Club Brugge | J42: =IFERROR(INDEX(Teams!D$5:D$40,MATCH(D42,Team,0),0),"") -> San Siro | CI42: Denver
B43: =B25+1 -> 3 | C43: 45587 | D43: Monaco | G43: Crvena Zvezda | J43: =IFERROR(INDEX(Teams!D$5:D$40,MATCH(D43,Team,0),0),"") -> Louis II | M43: Qualified to Round of 16 | CI43: Detroit
B44: =B26+1 -> 3 | C44: 45587 | D44: Paris Saint-Germain | G44: PSV Eindhoven | J44: =IFERROR(INDEX(Teams!D$5:D$40,MATCH(D44,Team,0),0),"") -> Parc des Princes | CI44: Dhaka
B45: =B27+1 -> 3 | C45: 45587 | D45: Real Madrid | G45: Borussia Dortmund | J45: =IFERROR(INDEX(Teams!D$5:D$40,MATCH(D45,Team,0),0),"") -> Santiago Bernabeu | M45: Qualified to Play Off Rounds for Place in Round of 16 | CI45: Dubai
B46: =B28+1 -> 3 | C46: 45587 | D46: Arsenal | G46: Shakhtar Donetsk | J46: =IFERROR(INDEX(Teams!D$5:D$40,MATCH(D46,Team,0),0),"") -> Emirates | CI46: Dublin
B47: =B29+1 -> 3 | C47: 45587 | D47: Juventus | G47: VfB Stuttgart | J47: =IFERROR(INDEX(Teams!D$5:D$40,MATCH(D47,Team,0),0),"") -> Juventus Stadium | M47: Eliminated | CI47: Edmonton
...

Sheet Knock Out Rounds
B2: 2024/2025 CHAMPIONS LEAGUE FIXTURES | L2: Click Here to Purchase Editable Version
B4: KNOCK OUT ROUNDS | L4: KNOCK OUT TEAMS
B5: M# | C5: DATE/TIME | D5: HOME | E5: SCORE | G5: AWAY | H5: PSO | J5: VENUE
B6: PLAY OFF | L6: GROUP RANK 9 - 24
B7: Match | G7: =IF(D8<>"",D8,"") | J7: =IFERROR(INDEX(Teams!D$5:D$40,MATCH(D7,Team,0),0),"") | L7: 9 | M7: ='Group Stages'!M14 -> Juventus | N7: =IFERROR(INDEX(Teams!E$5:E$40,MATCH(M7,Teams!C$5:C$40,0),0),"") -> Italy
B8: 1 | G8: =IF(D7<>"",D7,"") | J8: =IFERROR(INDEX(Teams!D$5:D$40,MATCH(D8,Team,0),0),"") | L8: 10 | M8: ='Group Stages'!M15 -> Sporting CP | N8: =IFERROR(INDEX(Teams!E$5:E$40,MATCH(M8,Teams!C$5:C$40,0),0),"") -> Portugal
B9: Match | G9: =IF(D10<>"",D10,"") | J9: =IFERROR(INDEX(Teams!D$5:D$40,MATCH(D9,Team,0),0),"") | L9: 11 | M9: ='Group Stages'!M16 -> Benfica | N9: =IFERROR(INDEX(Teams!E$5:E$40,MATCH(M9,Teams!C$5:C$40,0),0),"") -> Portugal
B10: 2 | G10: =IF(D9<>"",D9,"") | J10: =IFERROR(INDEX(Teams!D$5:D$40,MATCH(D10,Team,0),0),"") | L10: 12 | M10: ='Group Stages'!M17 -> Atlético Madrid | N10: =IFERROR(INDEX(Teams!E$5:E$40,MATCH(M10,Teams!C$5:C$40,0),0),"") -> Spain
B11: Match | G11: =IF(D12<>"",D12,"") | J11: =IFERROR(INDEX(Teams!D$5:D$40,MATCH(D11,Team,0),0),"") | L11: 13 | M11: ='Group Stages'!M18 -> Brest | N11: =IFERROR(INDEX(Teams!E$5:E$40,MATCH(M11,Teams!C$5:C$40,0),0),"") -> France
B12: 3 | G12: =IF(D11<>"",D11,"") | J12: =IFERROR(INDEX(Teams!D$5:D$40,MATCH(D12,Team,0),0),"") | L12: 14 | M12: ='Group Stages'!M19 -> Monaco | N12: =IFERROR(INDEX(Teams!E$5:E$40,MATCH(M12,Teams!C$5:C$40,0),0),"") -> France
B13: Match | G13: =IF(D14<>"",D14,"") | J13: =IFERROR(INDEX(Teams!D$5:D$40,MATCH(D13,Team,0),0),"") | L13: 15 | M13: ='Group Stages'!M20 -> Paris Saint-Germain | N13: =IFERROR(INDEX(Teams!E$5:E$40,MATCH(M13,Teams!C$5:C$40,0),0),"") -> France
B14: 4 | G14: =IF(D13<>"",D13,"") | J14: =IFERROR(INDEX(Teams!D$5:D$40,MATCH(D14,Team,0),0),"") | L14: 16 | M14: ='Group Stages'!M21 -> Bologna | N14: =IFERROR(INDEX(Teams!E$5:E$40,MATCH(M14,Teams!C$5:C$40,0),0),"") -> Italy
B15: Match | G15: =IF(D16<>"",D16,"") | J15: =IFERROR(INDEX(Teams!D$5:D$40,MATCH(D15,Team,0),0),"") | L15: 17 | M15: ='Group Stages'!M22 -> Manchester City | N15: =IFERROR(INDEX(Teams!E$5:E$40,MATCH(M15,Teams!C$5:C$40,0),0),"") -> England
B16: 5 | G16: =IF(D15<>"",D15,"") | J16: =IFERROR(INDEX(Teams!D$5:D$40,MATCH(D16,Team,0),0),"") | L16: 18 | M16: ='Group Stages'!M23 -> Shakhtar Donetsk | N16: =IFERROR(INDEX(Teams!E$5:E$40,MATCH(M16,Teams!C$5:C$40,0),0),"") -> Ukraine
B17: Match | G17: =IF(D18<>"",D18,"") | J17: =IFERROR(INDEX(Teams!D$5:D$40,MATCH(D17,Team,0),0),"") | L17: 19 | M17: ='Group Stages'!M24 -> Arsenal | N17: =IFERROR(INDEX(Teams!E$5:E$40,MATCH(M17,Teams!C$5:C$40,0),0),"") -> England
B18: 6 | G18: =IF(D17<>"",D17,"") | J18: =IFERROR(INDEX(Teams!D$5:D$40,MATCH(D18,Team,0),0),"") | L18: 20 | M18: ='Group Stages'!M25 -> Inter | N18: =IFERROR(INDEX(Teams!E$5:E$40,MATCH(M18,Teams!C$5:C$40,0),0),"") -> Italy
B19: Match | G19: =IF(D20<>"",D20,"") | J19: =IFERROR(INDEX(Teams!D$5:D$40,MATCH(D19,Team,0),0),"") | L19: 21 | M19: ='Group Stages'!M26 -> Atalanta | N19: =IFERROR(INDEX(Teams!E$5:E$40,MATCH(M19,Teams!C$5:C$40,0),0),"") -> Italy
B20: 7 | G20: =IF(D19<>"",D19,"") | J20: =IFERROR(INDEX(Teams!D$5:D$40,MATCH(D20,Team,0),0),"") | L20: 22 | M20: ='Group Stages'!M27 -> RB Leipzig | N20: =IFERROR(INDEX(Teams!E$5:E$40,MATCH(M20,Teams!C$5:C$40,0),0),"") -> Germany
B21: Match | G21: =IF(D22<>"",D22,"") | J21: =IFERROR(INDEX(Teams!D$5:D$40,MATCH(D21,Team,0),0),"") | L21: 23 | M21: ='Group Stages'!M28 -> Barcelona | N21: =IFERROR(INDEX(Teams!E$5:E$40,MATCH(M21,Teams!C$5:C$40,0),0),"") -> Spain
B22: 8 | G22: =IF(D21<>"",D21,"") | J22: =IFERROR(INDEX(Teams!D$5:D$40,MATCH(D22,Team,0),0),"") | L22: 24 | M22: ='Group Stages'!M29 -> Sturm Graz | N22: =IFERROR(INDEX(Teams!E$5:E$40,MATCH(M22,Teams!C$5:C$40,0),0),"") -> Austria
B24: ROUND of 16 | L24: GROUP RANK 1 - 8 & PLAY OFF WINNER
B25: Match | G25: =IF(D26<>"",D26,"") | J25: =IFERROR(INDEX(Teams!D$5:D$40,MATCH(D25,Team,0),0),"") | L25: 1 | M25: ='Group Stages'!M6 -> Bayern München | N25: =IFERROR(INDEX(Teams!E$5:E$40,MATCH(M25,Teams!C$5:C$40,0),0),"") -> Germany
B26: 1 | G26: =IF(D25<>"",D25,"") | J26: =IFERROR(INDEX(Teams!D$5:D$40,MATCH(D26,Team,0),0),"") | L26: 2 | M26: ='Group Stages'!M7 -> Celtic | N26: =IFERROR(INDEX(Teams!E$5:E$40,MATCH(M26,Teams!C$5:C$40,0),0),"") -> Scotland
B27: Match | G27: =IF(D28<>"",D28,"") | J27: =IFERROR(INDEX(Teams!D$5:D$40,MATCH(D27,Team,0),0),"") | L27: 3 | M27: ='Group Stages'!M8 -> Bayer Leverkusen | N27: =IFERROR(INDEX(Teams!E$5:E$40,MATCH(M27,Teams!C$5:C$40,0),0),"") -> Germany
B28: 2 | G28: =IF(D27<>"",D27,"") | J28: =IFERROR(INDEX(Teams!D$5:D$40,MATCH(D28,Team,0),0),"") | L28: 4 | M28: ='Group Stages'!M9 -> Aston Villa | N28: =IFERROR(INDEX(Teams!E$5:E$40,MATCH(M28,Teams!C$5:C$40,0),0),"") -> England
B29: Match | G29: =IF(D30<>"",D30,"") | J29: =IFERROR(INDEX(Teams!D$5:D$40,MATCH(D29,Team,0),0),"") | L29: 5 | M29: ='Group Stages'!M10 -> Borussia Dortmund | N29: =IFERROR(INDEX(Teams!E$5:E$40,MATCH(M29,Teams!C$5:C$40,0),0),"") -> Germany
B30: 3 | G30: =IF(D29<>"",D29,"") | J30: =IFERROR(INDEX(Teams!D$5:D$40,MATCH(D30,Team,0),0),"") | L30: 6 | M30: ='Group Stages'!M11 -> Sparta Praha | N30: =IFERROR(INDEX(Teams!E$5:E$40,MATCH(M30,Teams!C$5:C$40,0),0),"") -> Czech
B31: Match | G31: =IF(D32<>"",D32,"") | J31: =IFERROR(INDEX(Teams!D$5:D$40,MATCH(D31,Team,0),0),"") | L31: 7 | M31: ='Group Stages'!M12 -> Liverpool | N31: =IFERROR(INDEX(Teams!E$5:E$40,MATCH(M31,Teams!C$5:C$40,0),0),"") -> England
B32: 4 | G32: =IF(D31<>"",D31,"") | J32: =IFERROR(INDEX(Teams!D$5:D$40,MATCH(D32,Team,0),0),"") | L32: 8 | M32: ='Group Stages'!M13 -> Real Madrid | N32: =IFERROR(INDEX(Teams!E$5:E$40,MATCH(M32,Teams!C$5:C$40,0),0),"") -> Spain
B33: Match | G33: =IF(D34<>"",D34,"") | J33: =IFERROR(INDEX(Teams!D$5:D$40,MATCH(D33,Team,0),0),"") | L33: PO1 | M33: =IF(E8<>"",IF(H8<>"",IF(H8>I8,D8,G8),IF(F7+E8>E7+F8,D8,G8)),"") | N33: =IFERROR(INDEX(Teams!E$5:E$40,MATCH(M33,Teams!C$5:C$40,0),0),"")
B34: 5 | G34: =IF(D33<>"",D33,"") | J34: =IFERROR(INDEX(Teams!D$5:D$40,MATCH(D34,Team,0),0),"") | L34: PO2 | M34: =IF(E10<>"",IF(H10<>"",IF(H10>I10,D10,G10),IF(F9+E10>E9+F10,D10,G10)),"") | N34: =IFERROR(INDEX(Teams!E$5:E$40,MATCH(M34,Teams!C$5:C$40,0),0),"")
B35: Match | G35: =IF(D36<>"",D36,"") | J35: =IFERROR(INDEX(Teams!D$5:D$40,MATCH(D35,Team,0),0),"") | L35: PO3 | M35: =IF(E12<>"",IF(H12<>"",IF(H12>I12,D12,G12),IF(F11+E12>E11+F12,D12,G12)),"") | N35: =IFERROR(INDEX(Teams!E$5:E$40,MATCH(M35,Teams!C$5:C$40,0),0),"")
B36: 6 | G36: =IF(D35<>"",D35,"") | J36: =IFERROR(INDEX(Teams!D$5:D$40,MATCH(D36,Team,0),0),"") | L36: PO4 | M36: =IF(E14<>"",IF(H14<>"",IF(H14>I14,D14,G14),IF(F13+E14>E13+F14,D14,G14)),"") | N36: =IFERROR(INDEX(Teams!E$5:E$40,MATCH(M36,Teams!C$5:C$40,0),0),"")
B37: Match | G37: =IF(D38<>"",D38,"") | J37: =IFERROR(INDEX(Teams!D$5:D$40,MATCH(D37,Team,0),0),"") | L37: PO5 | M37: =IF(E16<>"",IF(H16<>"",IF(H16>I16,D16,G16),IF(F15+E16>E15+F16,D16,G16)),"") | N37: =IFERROR(INDEX(Teams!E$5:E$40,MATCH(M37,Teams!C$5:C$40,0),0),"")
B38: 7 | G38: =IF(D37<>"",D37,"") | J38: =IFERROR(INDEX(Teams!D$5:D$40,MATCH(D38,Team,0),0),"") | L38: PO6 | M38: =IF(E18<>"",IF(H18<>"",IF(H18>I18,D18,G18),IF(F17+E18>E17+F18,D18,G18)),"") | N38: =IFERROR(INDEX(Teams!E$5:E$40,MATCH(M38,Teams!C$5:C$40,0),0),"")
B39: Match | G39: =IF(D40<>"",D40,"") | J39: =IFERROR(INDEX(Teams!D$5:D$40,MATCH(D39,Team,0),0),"") | L39: PO7 | M39: =IF(E20<>"",IF(H20<>"",IF(H20>I20,D20,G20),IF(F19+E20>E19+F20,D20,G20)),"") | N39: =IFERROR(INDEX(Teams!E$5:E$40,MATCH(M39,Teams!C$5:C$40,0),0),"")
B40: 8 | G40: =IF(D39<>"",D39,"") | J40: =IFERROR(INDEX(Teams!D$5:D$40,MATCH(D40,Team,0),0),"") | L40: PO8 | M40: =IF(E22<>"",IF(H22<>"",IF(H22>I22,D22,G22),IF(F21+E22>E21+F22,D22,G22)),"") | N40: =IFERROR(INDEX(Teams!E$5:E$40,MATCH(M40,Teams!C$5:C$40,0),0),"")
B42: QUARTER FINALS | L42: QUARTERFINALISTS
B43: Match | G43: =IF(D44<>"",D44,"") | J43: =IFERROR(INDEX(Teams!D$5:D$40,MATCH(D43,Team,0),0),"") | L43: R16-1 | M43: =IF(E26<>"",IF(H26<>"",IF(H26>I26,D26,G26),IF(F25+E26>E25+F26,D26,G26)),"") | N43: =IFERROR(INDEX(Teams!E$5:E$40,MATCH(M43,Teams!C$5:C$40,0),0),"")
B44: 1 | G44: =IF(D43<>"",D43,"") | J44: =IFERROR(INDEX(Teams!D$5:D$40,MATCH(D44,Team,0),0),"") | L44: R16-2 | M44: =IF(E28<>"",IF(H28<>"",IF(H28>I28,D28,G28),IF(F27+E28>E27+F28,D28,G28)),"") | N44: =IFERROR(INDEX(Teams!E$5:E$40,MATCH(M44,Teams!C$5:C$40,0),0),"")
...

Sheet Dummy Table
A4: =SUM(AC4:AH4)+SUM(AN4:AP4)+SUM(AR4:AS4) -> 29 | B4: =Teams!C5 -> AC Milan | C4: =SUM(D4:F4) -> 1 | D4: =SUMPRODUCT(('Group Stages'!E6:E149<>"")*('Group Stages'!F6:F149<>"")*('Group Stages'!D6:D149='Dummy Table'!B4)*('Group Stages'!E6:E149>'Group Stages'!F6:F149)) -> 0 | E4: =SUMPRODUCT(('Group Stages'!E6:E149<>"")*('Group Stages'!F6:F149<>"")*('Group Stages'!D6:D149='Dummy Table'!B4)*('Group Stages'!E6:E149='Group Stages'!F6:F149)) -> 0 | F4: =SUMPRODUCT(('Group Stages'!E6:E149<>"")*('Group Stages'!F6:F149<>"")*('Group Stages'!D6:D149='Dummy Table'!B4)*('Group Stages'!E6:E149<'Group Stages'!F6:F149)) -> 1 | G4: =SUMIF('Group Stages'!D6:D149,'Dummy Table'!B4,'Group Stages'!E6:E149) -> 1 | H4: =SUMIF('Group Stages'!D6:D149,'Dummy Table'!B4,'Group Stages'!F6:F149) -> 3 | I4: =G4-H4 -> -2 | J4: =D4*3+E4*1 -> 0 | K4: =SUM(L4:N4) -> 0 | L4: =SUMPRODUCT(('Group Stages'!E6:E149<>"")*('Group Stages'!F6:F149<>"")*('Group Stages'!G6:G149='Dummy Table'!B4)*('Group Stages'!E6:E149<'Group Stages'!F6:F149)) -> 0 | M4: =SUMPRODUCT(('Group Stages'!E6:E149<>"")*('Group Stages'!F6:F149<>"")*('Group Stages'!G6:G149='Dummy Table'!B4)*('Group Stages'!E6:E149='Group Stages'!F6:F149)) -> 0 | N4: =SUMPRODUCT(('Group Stages'!E6:E149<>"")*('Group Stages'!F6:F149<>"")*('Group Stages'!G6:G149='Dummy Table'!B4)*('Group Stages'!E6:E149>'Group Stages'!F6:F149)) -> 0 | O4: =IF(AM4="",VALUE(SUMIF('Group Stages'!G6:G149,'Dummy Table'!B4,'Group Stages'!F6:F149)),0) -> 0 | P4: =SUMIF('Group Stages'!G6:G149,'Dummy Table'!B4,'Group Stages'!E6:E149) -> 0 | Q4: =O4-P4 -> 0 | R4: =L4*3+M4*1 -> 0 | S4: =C4+K4 -> 1 | T4: =IF(AM4="",D4+L4,0) -> 0 | U4: =E4+M4 -> 0 | V4: =F4+N4 -> 1 | W4: =G4+O4 -> 1 | X4: =H4+P4 -> 3 | Y4: =I4+Q4 -> -2 | Z4: =J4+R4 -> 0 | AA4: =Teams!F5 -> 59000 | AB4: =Teams!G5 -> 0 | AC4: =RANK(Z4,Z4:Z39) -> 22 | AD4: =SUMPRODUCT((AC4:AC39=AC4)*(Y4:Y39>Y4)) -> 5 | AE4: =SUMPRODUCT((AC4:AC39=AC4)*(Y4:Y39=Y4)*(W4:W39>W4)) -> 0 | AF4: =SUMPRODUCT((AC4:AC39=AC4)*(Y4:Y39=Y4)*(W4:W39=W4)*(O4:O39>O4)) -> 2 | AG4: =SUMPRODUCT((AC4:AC39=AC4)*(Y4:Y39=Y4)*(W4:W39=W4)*(O4:O39=O4)*(T4:T39>T4)) -> 0 | AH4: =SUMPRODUCT((AC4:AC39=AC4)*(Y4:Y39=Y4)*(W4:W39=W4)*(O4:O39=O4)*(T4:T39=T4)*(L4:L39>L4)) -> 0 | AI4: 45296 | AJ4: =SUMIFS(Z4:Z39,B4:B39,Teams!I5)+SUMIFS(Z4:Z39,B4:B39,Teams!J5)+SUMIFS(Z4:Z39,B4:B39,Teams!K5)+SUMIFS(Z4:Z39,B4:B39,Teams!L5)+SUMIFS(Z4:Z39,B4:B39,Teams!M5)+SUMIFS(Z4:Z39,B4:B39,Teams!N5)+SUMIFS(Z4:Z39,B4:B39,Teams!O5)+SUMIFS(Z4:Z39,B4:B39,Teams!P5) -> 9 | AK4: =SUMIFS(Y4:Y39,B4:B39,Teams!I5)+SUMIFS(Y4:Y39,B4:B39,Teams!J5)+SUMIFS(Y4:Y39,B4:B39,Teams!K5)+SUMIFS(Y4:Y39,B4:B39,Teams!L5)+SUMIFS(Y4:Y39,B4:B39,Teams!M5)+SUMIFS(Y4:Y39,B4:B39,Teams!N5)+SUMIFS(Y4:Y39,B4:B39,Teams!O5)+SUMIFS(Y4:Y39,B4:B39,Teams!P5) -> -8 | AL4: =SUMIFS(W4:W39,B4:B39,Teams!I5)+SUMIFS(W4:W39,B4:B39,Teams!J5)+SUMIFS(W4:W39,B4:B39,Teams!K5)+SUMIFS(W4:W39,B4:B39,Teams!L5)+SUMIFS(W4:W39,B4:B39,Teams!M5)+SUMIFS(W4:W39,B4:B39,Teams!N5)+SUMIFS(W4:W39,B4:B39,Teams!O5)+SUMIFS(W4:W39,B4:B39,Teams!P5) -> 14 | AM4: =IFERROR(VALUE(IFERROR(INDEX(AI:AI,MATCH(B15,AQ:AQ,0),0),"")),"") | AN4: =SUMPRODUCT((AC4:AC39=AC4)*(Y4:Y39=Y4)*(W4:W39=W4)*(O4:O39=O4)*(T4:T39=T4)*(L4:L39=L4)*(AJ4:AJ39>AJ4)) -> 0 | AO4: =SUMPRODUCT((AC4:AC39=AC4)*(Y4:Y39=Y4)*(W4:W39=W4)*(O4:O39=O4)*(T4:T39=T4)*(L4:L39=L4)*(AJ4:AJ39=AJ4)*(AK4:AK39>AK4)) -> 0 | AP4: =SUMPRODUCT((AC4:AC39=AC4)*(Y4:Y39=Y4)*(W4:W39=W4)*(O4:O39=O4)*(T4:T39=T4)*(L4:L39=L4)*(AJ4:AJ39=AJ4)*(AK4:AK39=AK4)*(AL4:AL39>AL4)) -> 0 | AR4: =SUMPRODUCT((AC4:AC39=AC4)*(Y4:Y39=Y4)*(W4:W39=W4)*(O4:O39=O4)*(T4:T39=T4)*(L4:L39=L4)*(AJ4:AJ39=AJ4)*(AK4:AK39=AK4)*(AL4:AL39=AL4)*(AB4:AB39>AB4)) -> 0 | AS4: =SUMPRODUCT((AC4:AC39=AC4)*(Y4:Y39=Y4)*(W4:W39=W4)*(O4:O39=O4)*(T4:T39=T4)*(L4:L39=L4)*(AJ4:AJ39=AJ4)*(AK4:AK39=AK4)*(AL4:AL39=AL4)*(AB4:AB39=AB4)*(AA4:AA39>AA4)) -> 0
A5: =SUM(AC5:AH5)+SUM(AN5:AP5)+SUM(AR5:AS5) -> 19 | B5: =Teams!C6 -> Arsenal | C5: =SUM(D5:F5) -> 0 | D5: =SUMPRODUCT(('Group Stages'!E6:E149<>"")*('Group Stages'!F6:F149<>"")*('Group Stages'!D6:D149='Dummy Table'!B5)*('Group Stages'!E6:E149>'Group Stages'!F6:F149)) -> 0 | E5: =SUMPRODUCT(('Group Stages'!E6:E149<>"")*('Group Stages'!F6:F149<>"")*('Group Stages'!D6:D149='Dummy Table'!B5)*('Group Stages'!E6:E149='Group Stages'!F6:F149)) -> 0 | F5: =SUMPRODUCT(('Group Stages'!E6:E149<>"")*('Group Stages'!F6:F149<>"")*('Group Stages'!D6:D149='Dummy Table'!B5)*('Group Stages'!E6:E149<'Group Stages'!F6:F149)) -> 0 | G5: =SUMIF('Group Stages'!D6:D149,'Dummy Table'!B5,'Group Stages'!E6:E149) -> 0 | H5: =SUMIF('Group Stages'!D6:D149,'Dummy Table'!B5,'Group Stages'!F6:F149) -> 0 | I5: =G5-H5 -> 0 | J5: =D5*3+E5*1 -> 0 | K5: =SUM(L5:N5) -> 1 | L5: =SUMPRODUCT(('Group Stages'!E6:E149<>"")*('Group Stages'!F6:F149<>"")*('Group Stages'!G6:G149='Dummy Table'!B5)*('Group Stages'!E6:E149<'Group Stages'!F6:F149)) -> 0 | M5: =SUMPRODUCT(('Group Stages'!E6:E149<>"")*('Group Stages'!F6:F149<>"")*('Group Stages'!G6:G149='Dummy Table'!B5)*('Group Stages'!E6:E149='Group Stages'!F6:F149)) -> 1 | N5: =SUMPRODUCT(('Group Stages'!E6:E149<>"")*('Group Stages'!F6:F149<>"")*('Group Stages'!G6:G149='Dummy Table'!B5)*('Group Stages'!E6:E149>'Group Stages'!F6:F149)) -> 0 | O5: =IF(AM5="",VALUE(SUMIF('Group Stages'!G6:G149,'Dummy Table'!B5,'Group Stages'!F6:F149)),0) -> 0 | P5: =SUMIF('Group Stages'!G6:G149,'Dummy Table'!B5,'Group Stages'!E6:E149) -> 0 | Q5: =O5-P5 -> 0 | R5: =L5*3+M5*1 -> 1 | S5: =C5+K5 -> 1 | T5: =IF(AM5="",D5+L5,0) -> 0 | U5: =E5+M5 -> 1 | V5: =F5+N5 -> 0 | W5: =G5+O5 -> 0 | X5: =H5+P5 -> 0 | Y5: =I5+Q5 -> 0 | Z5: =J5+R5 -> 1 | AA5: =Teams!F6 -> 62000 | AB5: =Teams!G6 -> 0 | AC5: =RANK(Z5,Z4:Z39) -> 16 | AD5: =SUMPRODUCT((AC4:AC39=AC5)*(Y4:Y39>Y5)) -> 0 | AE5: =SUMPRODUCT((AC4:AC39=AC5)*(Y4:Y39=Y5)*(W4:W39>W5)) -> 0 | AF5: =SUMPRODUCT((AC4:AC39=AC5)*(Y4:Y39=Y5)*(W4:W39=W5)*(O4:O39>O5)) -> 0 | AG5: =SUMPRODUCT((AC4:AC39=AC5)*(Y4:Y39=Y5)*(W4:W39=W5)*(O4:O39=O5)*(T4:T39>T5)) -> 0 | AH5: =SUMPRODUCT((AC4:AC39=AC5)*(Y4:Y39=Y5)*(W4:W39=W5)*(O4:O39=O5)*(T4:T39=T5)*(L4:L39>L5)) -> 0 | AI5: 45297 | AJ5: =SUMIFS(Z4:Z39,B4:B39,Teams!I6)+SUMIFS(Z4:Z39,B4:B39,Teams!J6)+SUMIFS(Z4:Z39,B4:B39,Teams!K6)+SUMIFS(Z4:Z39,B4:B39,Teams!L6)+SUMIFS(Z4:Z39,B4:B39,Teams!M6)+SUMIFS(Z4:Z39,B4:B39,Teams!N6)+SUMIFS(Z4:Z39,B4:B39,Teams!O6)+SUMIFS(Z4:Z39,B4:B39,Teams!P6) -> 12 | AK5: =SUMIFS(Y4:Y39,B4:B39,Teams!I6)+SUMIFS(Y4:Y39,B4:B39,Teams!J6)+SUMIFS(Y4:Y39,B4:B39,Teams!K6)+SUMIFS(Y4:Y39,B4:B39,Teams!L6)+SUMIFS(Y4:Y39,B4:B39,Teams!M6)+SUMIFS(Y4:Y39,B4:B39,Teams!N6)+SUMIFS(Y4:Y39,B4:B39,Teams!O6)+SUMIFS(Y4:Y39,B4:B39,Teams!P6) -> -4 | AL5: =SUMIFS(W4:W39,B4:B39,Teams!I6)+SUMIFS(W4:W39,B4:B39,Teams!J6)+SUMIFS(W4:W39,B4:B39,Teams!K6)+SUMIFS(W4:W39,B4:B39,Teams!L6)+SUMIFS(W4:W39,B4:B39,Teams!M6)+SUMIFS(W4:W39,B4:B39,Teams!N6)+SUMIFS(W4:W39,B4:B39,Teams!O6)+SUMIFS(W4:W39,B4:B39,Teams!P6) -> 7 | AM5: =IFERROR(VALUE(IFERROR(INDEX(AI:AI,MATCH(B16,AQ:AQ,0),0),"")),"") | AN5: =SUMPRODUCT((AC4:AC39=AC5)*(Y4:Y39=Y5)*(W4:W39=W5)*(O4:O39=O5)*(T4:T39=T5)*(L4:L39=L5)*(AJ4:AJ39>AJ5)) -> 2 | AO5: =SUMPRODUCT((AC4:AC39=AC5)*(Y4:Y39=Y5)*(W4:W39=W5)*(O4:O39=O5)*(T4:T39=T5)*(L4:L39=L5)*(AJ4:AJ39=AJ5)*(AK4:AK39>AK5)) -> 1 | AP5: =SUMPRODUCT((AC4:AC39=AC5)*(Y4:Y39=Y5)*(W4:W39=W5)*(O4:O39=O5)*(T4:T39=T5)*(L4:L39=L5)*(AJ4:AJ39=AJ5)*(AK4:AK39=AK5)*(AL4:AL39>AL5)) -> 0 | AR5: =SUMPRODUCT((AC4:AC39=AC5)*(Y4:Y39=Y5)*(W4:W39=W5)*(O4:O39=O5)*(T4:T39=T5)*(L4:L39=L5)*(AJ4:AJ39=AJ5)*(AK4:AK39=AK5)*(AL4:AL39=AL5)*(AB4:AB39>AB5)) -> 0 | AS5: =SUMPRODUCT((AC4:AC39=AC5)*(Y4:Y39=Y5)*(W4:W39=W5)*(O4:O39=O5)*(T4:T39=T5)*(L4:L39=L5)*(AJ4:AJ39=AJ5)*(AK4:AK39=AK5)*(AL4:AL39=AL5)*(AB4:AB39=AB5)*(AA4:AA39>AA5)) -> 0
A6: =SUM(AC6:AH6)+SUM(AN6:AP6)+SUM(AR6:AS6) -> 4 | B6: =Teams!C7 -> Aston Villa | C6: =SUM(D6:F6) -> 0 | D6: =SUMPRODUCT(('Group Stages'!E6:E149<>"")*('Group Stages'!F6:F149<>"")*('Group Stages'!D6:D149='Dummy Table'!B6)*('Group Stages'!E6:E149>'Group Stages'!F6:F149)) -> 0 | E6: =SUMPRODUCT(('Group Stages'!E6:E149<>"")*('Group Stages'!F6:F149<>"")*('Group Stages'!D6:D149='Dummy Table'!B6)*('Group Stages'!E6:E149='Group Stages'!F6:F149)) -> 0 | F6: =SUMPRODUCT(('Group Stages'!E6:E149<>"")*('Group Stages'!F6:F149<>"")*('Group Stages'!D6:D149='Dummy Table'!B6)*('Group Stages'!E6:E149<'Group Stages'!F6:F149)) -> 0 | G6: =SUMIF('Group Stages'!D6:D149,'Dummy Table'!B6,'Group Stages'!E6:E149) -> 0 | H6: =SUMIF('Group Stages'!D6:D149,'Dummy Table'!B6,'Group Stages'!F6:F149) -> 0 | I6: =G6-H6 -> 0 | J6: =D6*3+E6*1 -> 0 | K6: =SUM(L6:N6) -> 1 | L6: =SUMPRODUCT(('Group Stages'!E6:E149<>"")*('Group Stages'!F6:F149<>"")*('Group Stages'!G6:G149='Dummy Table'!B6)*('Group Stages'!E6:E149<'Group Stages'!F6:F149)) -> 1 | M6: =SUMPRODUCT(('Group Stages'!E6:E149<>"")*('Group Stages'!F6:F149<>"")*('Group Stages'!G6:G149='Dummy Table'!B6)*('Group Stages'!E6:E149='Group Stages'!F6:F149)) -> 0 | N6: =SUMPRODUCT(('Group Stages'!E6:E149<>"")*('Group Stages'!F6:F149<>"")*('Group Stages'!G6:G149='Dummy Table'!B6)*('Group Stages'!E6:E149>'Group Stages'!F6:F149)) -> 0 | O6: =IF(AM6="",VALUE(SUMIF('Group Stages'!G6:G149,'Dummy Table'!B6,'Group Stages'!F6:F149)),0) -> 3 | P6: =SUMIF('Group Stages'!G6:G149,'Dummy Table'!B6,'Group Stages'!E6:E149) -> 0 | Q6: =O6-P6 -> 3 | R6: =L6*3+M6*1 -> 3 | S6: =C6+K6 -> 1 | T6: =IF(AM6="",D6+L6,0) -> 1 | U6: =E6+M6 -> 0 | V6: =F6+N6 -> 0 | W6: =G6+O6 -> 3 | X6: =H6+P6 -> 0 | Y6: =I6+Q6 -> 3 | Z6: =J6+R6 -> 3 | AA6: =Teams!F7 -> 17000 | AB6: =Teams!G7 -> 0 | AC6: =RANK(Z6,Z4:Z39) -> 1 | AD6: =SUMPRODUCT((AC4:AC39=AC6)*(Y4:Y39>Y6)) -> 3 | AE6: =SUMPRODUCT((AC4:AC39=AC6)*(Y4:Y39=Y6)*(W4:W39>W6)) -> 0 | AF6: =SUMPRODUCT((AC4:AC39=AC6)*(Y4:Y39=Y6)*(W4:W39=W6)*(O4:O39>O6)) -> 0 | AG6: =SUMPRODUCT((AC4:AC39=AC6)*(Y4:Y39=Y6)*(W4:W39=W6)*(O4:O39=O6)*(T4:T39>T6)) -> 0 | AH6: =SUMPRODUCT((AC4:AC39=AC6)*(Y4:Y39=Y6)*(W4:W39=W6)*(O4:O39=O6)*(T4:T39=T6)*(L4:L39>L6)) -> 0 | AI6: 45298 | AJ6: =SUMIFS(Z4:Z39,B4:B39,Teams!I7)+SUMIFS(Z4:Z39,B4:B39,Teams!J7)+SUMIFS(Z4:Z39,B4:B39,Teams!K7)+SUMIFS(Z4:Z39,B4:B39,Teams!L7)+SUMIFS(Z4:Z39,B4:B39,Teams!M7)+SUMIFS(Z4:Z39,B4:B39,Teams!N7)+SUMIFS(Z4:Z39,B4:B39,Teams!O7)+SUMIFS(Z4:Z39,B4:B39,Teams!P7) -> 13 | AK6: =SUMIFS(Y4:Y39,B4:B39,Teams!I7)+SUMIFS(Y4:Y39,B4:B39,Teams!J7)+SUMIFS(Y4:Y39,B4:B39,Teams!K7)+SUMIFS(Y4:Y39,B4:B39,Teams!L7)+SUMIFS(Y4:Y39,B4:B39,Teams!M7)+SUMIFS(Y4:Y39,B4:B39,Teams!N7)+SUMIFS(Y4:Y39,B4:B39,Teams!O7)+SUMIFS(Y4:Y39,B4:B39,Teams!P7) -> 7 | AL6: =SUMIFS(W4:W39,B4:B39,Teams!I7)+SUMIFS(W4:W39,B4:B39,Teams!J7)+SUMIFS(W4:W39,B4:B39,Teams!K7)+SUMIFS(W4:W39,B4:B39,Teams!L7)+SUMIFS(W4:W39,B4:B39,Teams!M7)+SUMIFS(W4:W39,B4:B39,Teams!N7)+SUMIFS(W4:W39,B4:B39,Teams!O7)+SUMIFS(W4:W39,B4:B39,Teams!P7) -> 20 | AM6: =IFERROR(VALUE(IFERROR(INDEX(AI:AI,MATCH(B17,AQ:AQ,0),0),"")),"") | AN6: =SUMPRODUCT((AC4:AC39=AC6)*(Y4:Y39=Y6)*(W4:W39=W6)*(O4:O39=O6)*(T4:T39=T6)*(L4:L39=L6)*(AJ4:AJ39>AJ6)) -> 0 | AO6: =SUMPRODUCT((AC4:AC39=AC6)*(Y4:Y39=Y6)*(W4:W39=W6)*(O4:O39=O6)*(T4:T39=T6)*(L4:L39=L6)*(AJ4:AJ39=AJ6)*(AK4:AK39>AK6)) -> 0 | AP6: =SUMPRODUCT((AC4:AC39=AC6)*(Y4:Y39=Y6)*(W4:W39=W6)*(O4:O39=O6)*(T4:T39=T6)*(L4:L39=L6)*(AJ4:AJ39=AJ6)*(AK4:AK39=AK6)*(AL4:AL39>AL6)) -> 0 | AR6: =SUMPRODUCT((AC4:AC39=AC6)*(Y4:Y39=Y6)*(W4:W39=W6)*(O4:O39=O6)*(T4:T39=T6)*(L4:L39=L6)*(AJ4:AJ39=AJ6)*(AK4:AK39=AK6)*(AL4:AL39=AL6)*(AB4:AB39>AB6)) -> 0 | AS6: =SUMPRODUCT((AC4:AC39=AC6)*(Y4:Y39=Y6)*(W4:W39=W6)*(O4:O39=O6)*(T4:T39=T6)*(L4:L39=L6)*(AJ4:AJ39=AJ6)*(AK4:AK39=AK6)*(AL4:AL39=AL6)*(AB4:AB39=AB6)*(AA4:AA39>AA6)) -> 0
