Workbook
Name BestPlayer: #REF!
Name Bonu1: 'Game Setup'!$E$31
Name Bonu10: 'Game Setup'!#REF!
Name Bonu10: 'Game Setup'!#REF!
Name Bonu11: 'Game Setup'!$E$40
Name Bonu12: 'Game Setup'!$E$44
Name Bonu13: 'Game Setup'!$E$47
Name Bonu14: 'Game Setup'!#REF!
Name Bonu15: 'Game Setup'!#REF!
Name Bonu16: 'Game Setup'!$E$50
Name Bonu2: 'Game Setup'!$E$32
Name Bonu3: 'Game Setup'!$E$33
Name Bonu4: 'Game Setup'!$E$34
Name Bonu5: 'Game Setup'!$E$35
Name Bonu6: 'Game Setup'!$E$36
Name Bonu7: 'Game Setup'!$E$37
Name Bonu8: 'Game Setup'!$E$38
Name Bonu9: 'Game Setup'!$E$39
Name BonuC1: 'Game Setup'!#REF!
Name BonuC2: 'Game Setup'!$E$41
Name BonuC3: 'Game Setup'!$E$42
Name BonuC4: 'Game Setup'!$E$43
Name BonuRU1: 'Game Setup'!#REF!
Name BonuRU2: 'Game Setup'!$E$45
Name BonuRU3: 'Game Setup'!$E$46
Name BonuRU4: 'Game Setup'!#REF!
Name BonuRU4: 'Game Setup'!#REF!
Name BonusTH3: 'Game Setup'!#REF!
Name BonusTH3: 'Game Setup'!#REF!
Name BonusTH4: 'Game Setup'!#REF!
Name BonusTH4: 'Game Setup'!#REF!
Name BonuTH1: 'Game Setup'!#REF!
Name BonuTH2: 'Game Setup'!$E$48
Name BonuTH3: 'Game Setup'!$E$49
Name Champ: 'Game Board'!$G$53
Name Fina1: 'Game Setup'!$H$20
Name Fina2: 'Game Setup'!$H$21
Name Fina3: 'Game Setup'!$H$22
Name KOMatchRule: 'Game Setup'!$A$15
Name KOPSO: 'Game Setup'!$A$16
Name KOTeam3: 'Game Board'!$F$44:$I$50
Name KOTeams: 'Game Board'!$F$44:$I$51
Name KOTHP: 'Game Board'!$F$50:$I$50
Name Last5List: Scoreboard!$N$1:$AS$1
Name last5max: 'Game Board'!$A$6
Name ParticipantList: 'Participant Setup'!$C$6:$C$15
Name Pena1: 'Game Setup'!$E$25
Name Pena2: 'Game Setup'!$E$26
Name Pena3: 'Game Setup'!$E$27
Name Pool1: 'Game Setup'!$E$8
Name Pool2: 'Game Setup'!$E$9
Name Pool3: 'Game Setup'!$E$10
Name Qualified: 'Game Board'!$B$44:$B$51
Name Quar1: 'Game Setup'!$E$20
Name Quar2: 'Game Setup'!$E$21
Name Quar3: 'Game Setup'!$E$22
Name Round1: 'Game Setup'!#REF!
Name Round2: 'Game Setup'!#REF!
Name Round3: 'Game Setup'!#REF!
Name RunnerUp: 'Game Board'!$G$54

Sheet Game Setup
B3: MEN'S OLYMPIC FOOTBALL 2024 POOL | N3: DO NOT REMOVE COPYRIGHT NOTICE. SPREADSHEET WON'T WORK PROPERLY
B5: ⚫ GROUP STAGES Point System | N5: This Spreadsheet uses similar platform with World Cup 2022 Predictor Game. You can follow World Cup 2022 instructions below to set up your Copa America Predictor Game
B7: PREDICTED CORRECTLY | E7: POINT
B8: 1 | C8: Match Result and Goal Scores | D8: ▶ | E8: 6 | N8: Setup Video
B9: 2 | C9: Match Result and Goal Differences | D9: ▶ | E9: 4 | N9: https://youtu.be/we2Ez3aBDEM
B10: 3 | C10: Match Result Only | D10: ▶ | E10: 2 | N10: Group Stages Point Illustration (written illustration is also available in attached pdf file included in file package)
N11: https://youtu.be/MIx_CFNWDYI
B12: ⚫ KNOCK OUT ROUNDS Game Scenario and Point System
B14: ● KNOCK OUT ROUNDS Game Scenario
A15: =IF(E15="Tournament's Actual Results",1,0) -> 0 | B15: SELECT Knock Out Rounds Pairing Team Scenario (ACTUAL or PREDICTION MATCHES) | D15: ▶ | E15: Player's Prediction Matches | M15: ◄ | N15: Make sure you select the right game scenario for your game
A16: =IF(E16="Included",1,0) -> 1 | B16: SELECT Penalty Shoot Out Point System (INCLUDED or NOT INCLUDED) | D16: ▶ | E16: Included
B18: ● KNOCK OUT ROUNDS Point System
B19: PREDICTED CORRECTLY in FULL TIME (NORMAL TIME + EXTRA TIME) | E19: QF | F19: SF | G19: 3RD | H19: FINAL | N19: KO Rounds Point Illustration (written illustration is also available in attached pdf file included in file package)
B20: 1 | C20: Match Result and Goal Scores | D20: ▶ | E20: 24 | F20: 48 | G20: 48 | H20: 96 | N20: https://youtu.be/LCA6g7GNXMs
B21: 2 | C21: Match Result and Goal Differences | D21: ▶ | E21: 16 | F21: 32 | G21: 32 | H21: 64
B22: 3 | C22: Match Result Only | D22: ▶ | E22: 12 | F22: 24 | G22: 24 | H22: 48
B24: PREDICTED CORRECTLY (PENALTY SHOOT OUT in ALL KNOCK OUT ROUNDS) | E24: POINT
B25: 1 | C25: Match Result and Goal Scores | D25: ▶ | E25: 6 | F25: =IF(KOPSO=0,"◄ Not Applied in Your Selected Game Scenario","")
B26: 2 | C26: Match Result and Goal Differences | D26: ▶ | E26: 4 | F26: =IF(KOPSO=0,"◄ Not Applied in Your Selected Game Scenario","")
B27: 3 | C27: Match Result Only | D27: ▶ | E27: 2 | F27: =IF(KOPSO=0,"◄ Not Applied in Your Selected Game Scenario","")
B29: ⚫ BONUS Point System
B30: PREDICTED CORRECTLY | E30: POINT | N30: Bonus Point Illustration (written illustration is also available in attached pdf file included in file package)
B31: 1 | C31: Group Winner and Runner Up | D31: ▶ | E31: 24 | N31: https://youtu.be/vbGfXFC3rLk
B32: 2 | C32: Group Winner only | D32: ▶ | E32: 12
B33: 3 | C33: Group Runner Up only | D33: ▶ | E33: 12
B34: 4 | C34: Qualified 2 teams (swapped group position) | D34: ▶ | E34: 8
B35: 5 | C35: Qualified 1 team only (incorrect group position) | D35: ▶ | E35: 6
B36: 6 | C36: 8 qualified teams | D36: ▶ | E36: 24
B37: 7 | C37: 6 - 7 qualified teams | D37: ▶ | E37: 16
B38: 8 | C38: 4 - 5 qualified teams | D38: ▶ | E38: 8
B39: 9 | C39: Bracket Pairing Matches | D39: ▶ | E39: 16 | F39: =IF(KOMatchRule=1,"◄ Not Applied in Your Selected Game Scenario","")
B40: 10 | C40: Tournament Champion | E40: =SUM(E41:E43) -> 84 | F40: Available in Fully Editable/Paid Version Only
C41: Win at Quarter Finals | D41: ▶ | E41: 12
C42: Win at Semi Finals | D42: ▶ | E42: 24
C43: Win at Final | D43: ▶ | E43: 48
B44: 11 | C44: Tournament Runner Up | E44: =SUM(E45:E46) -> 36
C45: Win at Quarter Finals | D45: ▶ | E45: 12
C46: Win at Semi Finals | D46: ▶ | E46: 24
B47: 12 | C47: Tournament 3rd Place | E47: =SUM(E48:E49) -> 36
C48: Win at Quarter Finals | D48: ▶ | E48: 12
C49: Win at Match for 3rd Place | D49: ▶ | E49: 24
B50: 13 | C50: Match Winner (Based on Full Time + Penalty Shoot Out Result) | D50: ▶ | E50: 0
B52: ⚫ LEADERBOARD REGULATION
B54: All players will be ranked by
B55: ❶ | C55: Higher total points (match + bonus points)
B56: ❷ | C56: Higher total correct prediction
B57: ❸ | C57: Higher total match points
B58: ❹ | C58: Entry order in player scoreboard table
B60: © 2022 | journalSHEET.com

Sheet Tournament Setup
B3: TOURNAMENT SETUP | K3: DO NOT REMOVE COPYRIGHT NOTICE. SPREADSHEET WON'T WORK PROPERLY
B5: G | C5: No | D5: Country Name | E5: Coefficient | F5: Fair Play Points | J5: ● | K5: You may translate team name to your language in column D. Retype other texts in Game Board worksheet to translate it to your language
B6: A | C6: 1 | D6: France | E6: 16 | J6: Tiebreaker Policy
B7: A | C7: 2 | D7: United States | E7: 15
B8: A | C8: 3 | D8: Guinea | E8: 14 | L8: OFFICIAL | M8: GAME ACTUAL RESULTS | N8: GAME PREDICTION RESULTS
B9: A | C9: 4 | D9: New Zealand | E9: 13 | J9: The ranking of teams in the group stage is determined as follows:
B10: B | C10: =C6 -> 1 | D10: Argentina | E10: 12 | J10: 1 | K10: Points obtained in all group matches; | L10: v | M10: v | N10: v
B11: B | C11: =C7 -> 2 | D11: Morocco | E11: 11 | J11: 2 | K11: Goal difference in all group matches; | L11: v | M11: v | N11: v
B12: B | C12: =C8 -> 3 | D12: Iraq | E12: 10 | J12: 3 | K12: Number of goals scored in all group matches; | L12: v | M12: v | N12: v
B13: B | C13: =C9 -> 4 | D13: Ukraine | E13: 9 | J13: 4 | K13: Points obtained in the matches played between the teams in question; | L13: v | M13: v | N13: v
B14: C | C14: =C10 -> 1 | D14: Uzbekistan | E14: 8 | J14: 5 | K14: Goal difference in the matches played between the teams in question; | L14: v | M14: v | N14: v
B15: C | C15: =C11 -> 2 | D15: Spain | E15: 7 | J15: 6 | K15: Number of goals scored in the matches played between the teams in question; | L15: v | M15: v | N15: v
B16: C | C16: =C12 -> 3 | D16: Egypt | E16: 6 | J16: 7 | K16: Fair Play Points | L16: v | M16: v* | N16: x***
B17: C | C17: =C13 -> 4 | D17: Dominican Republic | E17: 5 | J17: 8 | K17: Drawing of lots. | L17: v | M17: x** | N17: x****
B18: D | C18: =C14 -> 1 | D18: Japan | E18: 4
B19: D | C19: =C15 -> 2 | D19: Paraguay | E19: 3
B20: D | C20: =C16 -> 3 | D20: Mali | E20: 2 | J20: NOTES
B21: D | C21: =C17 -> 4 | D21: Israel | E21: 1
J22: * | K22: FILLTOTAL RED CARDS or YELLOW CARDS between the teams concerned in COLUMN F to differentiate their standings. If it is leaved empty, they will be ranked based on FIFA World Ranking points
B23: © 2022 | journalSHEET.com | J23: ** | K23: If, it has to go through tie-breaker No 9 to decide group winner and runner up, you change it by overwriting it in Player Game Board table in cell F36:I39
J24: *** | K24: There is no needs to differentiate team standings based on red/yellow cards. Players can adjust their prediction scores to get one team rank upper than the other.
J25: **** | K25: There is no needs to differentiate team standings based on drawing of lots. Players can adjust their prediction scores to get one team rank upper than the other.

Sheet Participant Setup
B3: PARTICIPANT LIST | M3: DO NOT REMOVE COPYRIGHT NOTICE. SPREADSHEET WON'T WORK PROPERLY
B5: No | C5: Player Name | D5: Starting Point | E5: Entry Fee | F5: Notes 1 | G5: Notes 2
B6: 1 | C6: Player 1 | K6: ● | L6: Type participant name in Player Name column in column C. This name will be used as name references in all worksheets.
B7: 2 | C7: Player 2 | L7: You DO NOT NEED TO TYPE PLAYER NAME IN OTHER WORKSHEET
B8: 3 | C8: Player 3 | K8: ● | L8: No column in column B is used as THE FINAL TIE-BREAKER if respective players are tied and their ranks have to be decided by ENTRY ORDER. See TIE BREAKER regulation
B9: 4 | C9: Player 4 | K9: ● | L9: You may fill STARTING POINT with your own point. IT IS OPTIONAL
B10: 5 | C10: Player 5 | L10: This point will be used as additional point and will be included in Player Score calculation
B11: 6 | C11: Player 6 | L11: You can put DEDUCTION POINT by typing "-" (minus) sign in front of the point
B12: 7 | C12: Player 7 | L12: Starting Point can be filled because many reasons. Some of examples :
B13: 8 | C13: Player 8 | L13: > | M13: Amount of Entry Fee
B14: 9 | C14: Player 9 | L14: > | M14: Late prediction submission
B15: 10 | C15: Player 10 | L15: > | M15: Join the game in the middle of tournament
K16: ● | L16: If you need more columns to put other information, you may INSERT MORE COLUMNS AT THE RIGHT OF STARTING POINT COLUMN
B17: © 2022 | journalSHEET.com
K18: ● | L18: YOU CANNOT INSERT/DELETE ROW or CUT/PASTE. IT WILL BREAK THE FORMULA in other worksheets

Sheet Game Board
B3: ACTUAL RESULTS | M3: PLAYER PREDICTION BOARD | YOUR KNOCK OUT ROUNDS GAME SCENARIO IS BASED ON ► | Z3: =UPPER('Game Setup'!E15) -> PLAYER'S PREDICTION MATCHES
M4: 1 | N4: Player | O4: =IF(VLOOKUP(M4,Scoreboard!B8:C17,2,FALSE)<>"",VLOOKUP(M4,Scoreboard!B8:C17,2,FALSE),"") -> Player 1 | R4: Total | U4: Point | V4: Bonus | X4: =M4+1 -> 2 | Y4: Player | Z4: =IF(VLOOKUP(X4,Scoreboard!B8:C17,2,FALSE)<>"",VLOOKUP(X4,Scoreboard!B8:C17,2,FALSE),"") -> Player 2 | AC4: Total | AF4: Point | AG4: Bonus | AI4: =X4+1 -> 3 | AJ4: Player | AK4: =IF(VLOOKUP(AI4,Scoreboard!B8:C17,2,FALSE)<>"",VLOOKUP(AI4,Scoreboard!B8:C17,2,FALSE),"") -> Player 3 | AN4: Total | AQ4: Point | AR4: Bonus | AT4: =AI4+1 -> 4 | AU4: Player | AV4: =IF(VLOOKUP(AT4,Scoreboard!B8:C17,2,FALSE)<>"",VLOOKUP(AT4,Scoreboard!B8:C17,2,FALSE),"") -> Player 4 | AY4: Total | BB4: Point | BC4: Bonus | BE4: =AT4+1 -> 5 | BF4: Player | BG4: =IF(VLOOKUP(BE4,Scoreboard!B8:C17,2,FALSE)<>"",VLOOKUP(BE4,Scoreboard!B8:C17,2,FALSE),"") -> Player 5 | BJ4: Total | BM4: Point | BN4: Bonus | BP4: =BE4+1 -> 6 | BQ4: Player | BR4: =IF(VLOOKUP(BP4,Scoreboard!B8:C17,2,FALSE)<>"",VLOOKUP(BP4,Scoreboard!B8:C17,2,FALSE),"") -> Player 6 | BU4: Total | BX4: Point | BY4: Bonus | CA4: =BP4+1 -> 7 | CB4: Player | CC4: =IF(VLOOKUP(CA4,Scoreboard!B8:C17,2,FALSE)<>"",VLOOKUP(CA4,Scoreboard!B8:C17,2,FALSE),"") -> Player 7 | CF4: Total | CI4: Point | CJ4: Bonus | CL4: =CA4+1 -> 8 | CM4: Player | CN4: =IF(VLOOKUP(CL4,Scoreboard!B8:C17,2,FALSE)<>"",VLOOKUP(CL4,Scoreboard!B8:C17,2,FALSE),"") -> Player 8 | CQ4: Total | CT4: Point | CU4: Bonus | CW4: =CL4+1 -> 9 | CX4: Player | CY4: =IF(VLOOKUP(CW4,Scoreboard!B8:C17,2,FALSE)<>"",VLOOKUP(CW4,Scoreboard!B8:C17,2,FALSE),"") -> Player 9 | DB4: Total | DE4: Point | DF4: Bonus | DH4: =CW4+1 -> 10 | DI4: Player | DJ4: =IF(VLOOKUP(DH4,Scoreboard!B8:C17,2,FALSE)<>"",VLOOKUP(DH4,Scoreboard!B8:C17,2,FALSE),"") -> Player 10 | DM4: Total | DP4: Point | DQ4: Bonus
C5: M# | D5: Group | E5: Date | F5: Country | G5: Score | I5: Country | N5: Rank | O5: =IF(O4<>"",INDEX('Dummy Rank'!F5:F14,MATCH(M4,'Dummy Rank'!A5:A14,0),0),"") -> 1 | R5: =U5+V5 -> 0 | U5: =SUM(U8:U31)+SUM(U44:U51) -> 0 | V5: =SUM(V36:V41)+SUM(V44:V51)+SUM(V53:V55)+SUM(V57:V58) -> 0 | Y5: Current Rank | Z5: =IF(Z4<>"",INDEX('Dummy Rank'!F5:F14,MATCH(X4,'Dummy Rank'!A5:A14,0),0),"") -> 2 | AC5: =AF5+AG5 -> 0 | AF5: =SUM(AF8:AF31)+SUM(AF44:AF51) -> 0 | AG5: =SUM(AG36:AG41)+SUM(AG44:AG51)+SUM(AG53:AG55)+SUM(AG57:AG58) -> 0 | AJ5: Current Rank | AK5: =IF(AK4<>"",INDEX('Dummy Rank'!F5:F14,MATCH(AI4,'Dummy Rank'!A5:A14,0),0),"") -> 3 | AN5: =AQ5+AR5 -> 0 | AQ5: =SUM(AQ8:AQ31)+SUM(AQ44:AQ51) -> 0 | AR5: =SUM(AR36:AR41)+SUM(AR44:AR51)+SUM(AR53:AR55)+SUM(AR57:AR58) -> 0 | AU5: Current Rank | AV5: =IF(AV4<>"",INDEX('Dummy Rank'!F5:F14,MATCH(AT4,'Dummy Rank'!A5:A14,0),0),"") -> 4 | AY5: =BB5+BC5 -> 0 | BB5: =SUM(BB8:BB31)+SUM(BB44:BB51) -> 0 | BC5: =SUM(BC36:BC41)+SUM(BC44:BC51)+SUM(BC53:BC55)+SUM(BC57:BC58) -> 0 | BF5: Current Rank | BG5: =IF(BG4<>"",INDEX('Dummy Rank'!F5:F14,MATCH(BE4,'Dummy Rank'!A5:A14,0),0),"") -> 5 | BJ5: =BM5+BN5 -> 0 | BM5: =SUM(BM8:BM31)+SUM(BM44:BM51) -> 0 | BN5: =SUM(BN36:BN41)+SUM(BN44:BN51)+SUM(BN53:BN55)+SUM(BN57:BN58) -> 0 | BQ5: Current Rank | BR5: =IF(BR4<>"",INDEX('Dummy Rank'!F5:F14,MATCH(BP4,'Dummy Rank'!A5:A14,0),0),"") -> 6 | BU5: =BX5+BY5 -> 0 | BX5: =SUM(BX8:BX31)+SUM(BX44:BX51) -> 0 | BY5: =SUM(BY36:BY41)+SUM(BY44:BY51)+SUM(BY53:BY55)+SUM(BY57:BY58) -> 0 | CB5: Current Rank | CC5: =IF(CC4<>"",INDEX('Dummy Rank'!F5:F14,MATCH(CA4,'Dummy Rank'!A5:A14,0),0),"") -> 7 | CF5: =CI5+CJ5 -> 0 | CI5: =SUM(CI8:CI31)+SUM(CI44:CI51) -> 0 | CJ5: =SUM(CJ36:CJ41)+SUM(CJ44:CJ51)+SUM(CJ53:CJ55)+SUM(CJ57:CJ58) -> 0 | CM5: Current Rank | CN5: =IF(CN4<>"",INDEX('Dummy Rank'!F5:F14,MATCH(CL4,'Dummy Rank'!A5:A14,0),0),"") -> 8 | CQ5: =CT5+CU5 -> 0 | CT5: =SUM(CT8:CT31)+SUM(CT44:CT51) -> 0 | CU5: =SUM(CU36:CU41)+SUM(CU44:CU51)+SUM(CU53:CU55)+SUM(CU57:CU58) -> 0 | CX5: Current Rank | CY5: =IF(CY4<>"",INDEX('Dummy Rank'!F5:F14,MATCH(CW4,'Dummy Rank'!A5:A14,0),0),"") -> 9 | DB5: =DE5+DF5 -> 0 | DE5: =SUM(DE8:DE31)+SUM(DE44:DE51) -> 0 | DF5: =SUM(DF36:DF41)+SUM(DF44:DF51)+SUM(DF53:DF55)+SUM(DF57:DF58) -> 0 | DI5: Current Rank | DJ5: =IF(DJ4<>"",INDEX('Dummy Rank'!F5:F14,MATCH(DH4,'Dummy Rank'!A5:A14,0),0),"") -> 10 | DM5: =DP5+DQ5 -> 0 | DP5: =SUM(DP8:DP31)+SUM(DP44:DP51) -> 0 | DQ5: =SUM(DQ36:DQ41)+SUM(DQ44:DQ51)+SUM(DQ53:DQ55)+SUM(DQ57:DQ58) -> 0
A6: =IF(Leaderboard!B19="© 2022 | journalSHEET.com",MAX(A7:A51),0) -> 0 | B6: Group Stages | M6: DO NOT REMOVE COPYRIGHT NOTICE. SPREADSHEET WON'T WORK PROPERLY
A7: 0 | M7: =COUNTIF(U8:U31,Pool1) -> 0 | X7: =COUNTIF(AF8:AF31,Pool1) -> 0 | AI7: =COUNTIF(AQ8:AQ31,Pool1) -> 0 | AT7: =COUNTIF(BB8:BB31,Pool1) -> 0 | BE7: =COUNTIF(BM8:BM31,Pool1) -> 0 | BP7: =COUNTIF(BX8:BX31,Pool1) -> 0 | CA7: =COUNTIF(CI8:CI31,Pool1) -> 0 | CL7: =COUNTIF(CT8:CT31,Pool1) -> 0 | CW7: =COUNTIF(DE8:DE31,Pool1) -> 0 | DH7: =COUNTIF(DP8:DP31,Pool1) -> 0
A8: =IF(G8<>"",A7+1,A7) -> 0 | C8: 1 | D8: A | E8: 45497.875 | F8: ='Tournament Setup'!D6 -> France | I8: ='Tournament Setup'!D7 -> United States | N8: =F8 -> France | Q8: =I8 -> United States | U8: =IF(AND(G8<>"",H8<>"",O8<>"",P8<>""),IF(AND(G8=O8,H8=P8),Pool1,IF((G8-H8)=(O8-P8),Pool2,IF(AND((G8>H8),(O8>P8)),Pool3,IF(AND((H8>G8),(P8>O8)),Pool3,0)))),0) -> 0 | Y8: =F8 -> France | AB8: =I8 -> United States | AF8: =IF(AND(G8<>"",H8<>"",Z8<>"",AA8<>""),IF(AND(G8=Z8,H8=AA8),Pool1,IF((G8-H8)=(Z8-AA8),Pool2,IF(AND((G8>H8),(Z8>AA8)),Pool3,IF(AND((H8>G8),(AA8>Z8)),Pool3,0)))),0) -> 0 | AJ8: =F8 -> France | AM8: =I8 -> United States | AQ8: =IF(AND(G8<>"",H8<>"",AK8<>"",AL8<>""),IF(AND(G8=AK8,H8=AL8),Pool1,IF((G8-H8)=(AK8-AL8),Pool2,IF(AND((G8>H8),(AK8>AL8)),Pool3,IF(AND((H8>G8),(AL8>AK8)),Pool3,0)))),0) -> 0 | AU8: =F8 -> France | AX8: =I8 -> United States | BB8: =IF(AND(G8<>"",H8<>"",AV8<>"",AW8<>""),IF(AND(G8=AV8,H8=AW8),Pool1,IF((G8-H8)=(AV8-AW8),Pool2,IF(AND((G8>H8),(AV8>AW8)),Pool3,IF(AND((H8>G8),(AW8>AV8)),Pool3,0)))),0) -> 0 | BF8: =F8 -> France | BI8: =I8 -> United States | BM8: =IF(AND(G8<>"",H8<>"",BG8<>"",BH8<>""),IF(AND(G8=BG8,H8=BH8),Pool1,IF((G8-H8)=(BG8-BH8),Pool2,IF(AND((G8>H8),(BG8>BH8)),Pool3,IF(AND((H8>G8),(BH8>BG8)),Pool3,0)))),0) -> 0 | BQ8: =F8 -> France | BT8: =I8 -> United States | BX8: =IF(AND(G8<>"",H8<>"",BR8<>"",BS8<>""),IF(AND(G8=BR8,H8=BS8),Pool1,IF((G8-H8)=(BR8-BS8),Pool2,IF(AND((G8>H8),(BR8>BS8)),Pool3,IF(AND((H8>G8),(BS8>BR8)),Pool3,0)))),0) -> 0 | CB8: =F8 -> France | CE8: =I8 -> United States | CI8: =IF(AND(G8<>"",H8<>"",CC8<>"",CD8<>""),IF(AND(G8=CC8,H8=CD8),Pool1,IF((G8-H8)=(CC8-CD8),Pool2,IF(AND((G8>H8),(CC8>CD8)),Pool3,IF(AND((H8>G8),(CD8>CC8)),Pool3,0)))),0) -> 0 | CM8: =F8 -> France | CP8: =I8 -> United States | CT8: =IF(AND(G8<>"",H8<>"",CN8<>"",CO8<>""),IF(AND(G8=CN8,H8=CO8),Pool1,IF((G8-H8)=(CN8-CO8),Pool2,IF(AND((G8>H8),(CN8>CO8)),Pool3,IF(AND((H8>G8),(CO8>CN8)),Pool3,0)))),0) -> 0 | CX8: =F8 -> France | DA8: =I8 -> United States | DE8: =IF(AND(G8<>"",H8<>"",CY8<>"",CZ8<>""),IF(AND(G8=CY8,H8=CZ8),Pool1,IF((G8-H8)=(CY8-CZ8),Pool2,IF(AND((G8>H8),(CY8>CZ8)),Pool3,IF(AND((H8>G8),(CZ8>CY8)),Pool3,0)))),0) -> 0 | DI8: =F8 -> France | DL8: =I8 -> United States | DP8: =IF(AND(G8<>"",H8<>"",DJ8<>"",DK8<>""),IF(AND(G8=DJ8,H8=DK8),Pool1,IF((G8-H8)=(DJ8-DK8),Pool2,IF(AND((G8>H8),(DJ8>DK8)),Pool3,IF(AND((H8>G8),(DK8>DJ8)),Pool3,0)))),0) -> 0
A9: =IF(G9<>"",A8+1,A8) -> 0 | C9: 2 | D9: A | E9: 45497.708 | F9: ='Tournament Setup'!D8 -> Guinea | I9: ='Tournament Setup'!D9 -> New Zealand | N9: =F9 -> Guinea | Q9: =I9 -> New Zealand | U9: =IF(AND(G9<>"",H9<>"",O9<>"",P9<>""),IF(AND(G9=O9,H9=P9),Pool1,IF((G9-H9)=(O9-P9),Pool2,IF(AND((G9>H9),(O9>P9)),Pool3,IF(AND((H9>G9),(P9>O9)),Pool3,0)))),0) -> 0 | Y9: =F9 -> Guinea | AB9: =I9 -> New Zealand | AF9: =IF(AND(G9<>"",H9<>"",Z9<>"",AA9<>""),IF(AND(G9=Z9,H9=AA9),Pool1,IF((G9-H9)=(Z9-AA9),Pool2,IF(AND((G9>H9),(Z9>AA9)),Pool3,IF(AND((H9>G9),(AA9>Z9)),Pool3,0)))),0) -> 0 | AJ9: =F9 -> Guinea | AM9: =I9 -> New Zealand | AQ9: =IF(AND(G9<>"",H9<>"",AK9<>"",AL9<>""),IF(AND(G9=AK9,H9=AL9),Pool1,IF((G9-H9)=(AK9-AL9),Pool2,IF(AND((G9>H9),(AK9>AL9)),Pool3,IF(AND((H9>G9),(AL9>AK9)),Pool3,0)))),0) -> 0 | AU9: =F9 -> Guinea | AX9: =I9 -> New Zealand | BB9: =IF(AND(G9<>"",H9<>"",AV9<>"",AW9<>""),IF(AND(G9=AV9,H9=AW9),Pool1,IF((G9-H9)=(AV9-AW9),Pool2,IF(AND((G9>H9),(AV9>AW9)),Pool3,IF(AND((H9>G9),(AW9>AV9)),Pool3,0)))),0) -> 0 | BF9: =F9 -> Guinea | BI9: =I9 -> New Zealand | BM9: =IF(AND(G9<>"",H9<>"",BG9<>"",BH9<>""),IF(AND(G9=BG9,H9=BH9),Pool1,IF((G9-H9)=(BG9-BH9),Pool2,IF(AND((G9>H9),(BG9>BH9)),Pool3,IF(AND((H9>G9),(BH9>BG9)),Pool3,0)))),0) -> 0 | BQ9: =F9 -> Guinea | BT9: =I9 -> New Zealand | BX9: =IF(AND(G9<>"",H9<>"",BR9<>"",BS9<>""),IF(AND(G9=BR9,H9=BS9),Pool1,IF((G9-H9)=(BR9-BS9),Pool2,IF(AND((G9>H9),(BR9>BS9)),Pool3,IF(AND((H9>G9),(BS9>BR9)),Pool3,0)))),0) -> 0 | CB9: =F9 -> Guinea | CE9: =I9 -> New Zealand | CI9: =IF(AND(G9<>"",H9<>"",CC9<>"",CD9<>""),IF(AND(G9=CC9,H9=CD9),Pool1,IF((G9-H9)=(CC9-CD9),Pool2,IF(AND((G9>H9),(CC9>CD9)),Pool3,IF(AND((H9>G9),(CD9>CC9)),Pool3,0)))),0) -> 0 | CM9: =F9 -> Guinea | CP9: =I9 -> New Zealand | CT9: =IF(AND(G9<>"",H9<>"",CN9<>"",CO9<>""),IF(AND(G9=CN9,H9=CO9),Pool1,IF((G9-H9)=(CN9-CO9),Pool2,IF(AND((G9>H9),(CN9>CO9)),Pool3,IF(AND((H9>G9),(CO9>CN9)),Pool3,0)))),0) -> 0 | CX9: =F9 -> Guinea | DA9: =I9 -> New Zealand | DE9: =IF(AND(G9<>"",H9<>"",CY9<>"",CZ9<>""),IF(AND(G9=CY9,H9=CZ9),Pool1,IF((G9-H9)=(CY9-CZ9),Pool2,IF(AND((G9>H9),(CY9>CZ9)),Pool3,IF(AND((H9>G9),(CZ9>CY9)),Pool3,0)))),0) -> 0 | DI9: =F9 -> Guinea | DL9: =I9 -> New Zealand | DP9: =IF(AND(G9<>"",H9<>"",DJ9<>"",DK9<>""),IF(AND(G9=DJ9,H9=DK9),Pool1,IF((G9-H9)=(DJ9-DK9),Pool2,IF(AND((G9>H9),(DJ9>DK9)),Pool3,IF(AND((H9>G9),(DK9>DJ9)),Pool3,0)))),0) -> 0
A10: =IF(G10<>"",A9+1,A9) -> 0 | C10: 3 | D10: B | E10: 45497.625 | F10: ='Tournament Setup'!D10 -> Argentina | I10: ='Tournament Setup'!D11 -> Morocco | N10: =F10 -> Argentina | Q10: =I10 -> Morocco | U10: =IF(AND(G10<>"",H10<>"",O10<>"",P10<>""),IF(AND(G10=O10,H10=P10),Pool1,IF((G10-H10)=(O10-P10),Pool2,IF(AND((G10>H10),(O10>P10)),Pool3,IF(AND((H10>G10),(P10>O10)),Pool3,0)))),0) -> 0 | Y10: =F10 -> Argentina | AB10: =I10 -> Morocco | AF10: =IF(AND(G10<>"",H10<>"",Z10<>"",AA10<>""),IF(AND(G10=Z10,H10=AA10),Pool1,IF((G10-H10)=(Z10-AA10),Pool2,IF(AND((G10>H10),(Z10>AA10)),Pool3,IF(AND((H10>G10),(AA10>Z10)),Pool3,0)))),0) -> 0 | AJ10: =F10 -> Argentina | AM10: =I10 -> Morocco | AQ10: =IF(AND(G10<>"",H10<>"",AK10<>"",AL10<>""),IF(AND(G10=AK10,H10=AL10),Pool1,IF((G10-H10)=(AK10-AL10),Pool2,IF(AND((G10>H10),(AK10>AL10)),Pool3,IF(AND((H10>G10),(AL10>AK10)),Pool3,0)))),0) -> 0 | AU10: =F10 -> Argentina | AX10: =I10 -> Morocco | BB10: =IF(AND(G10<>"",H10<>"",AV10<>"",AW10<>""),IF(AND(G10=AV10,H10=AW10),Pool1,IF((G10-H10)=(AV10-AW10),Pool2,IF(AND((G10>H10),(AV10>AW10)),Pool3,IF(AND((H10>G10),(AW10>AV10)),Pool3,0)))),0) -> 0 | BF10: =F10 -> Argentina | BI10: =I10 -> Morocco | BM10: =IF(AND(G10<>"",H10<>"",BG10<>"",BH10<>""),IF(AND(G10=BG10,H10=BH10),Pool1,IF((G10-H10)=(BG10-BH10),Pool2,IF(AND((G10>H10),(BG10>BH10)),Pool3,IF(AND((H10>G10),(BH10>BG10)),Pool3,0)))),0) -> 0 | BQ10: =F10 -> Argentina | BT10: =I10 -> Morocco | BX10: =IF(AND(G10<>"",H10<>"",BR10<>"",BS10<>""),IF(AND(G10=BR10,H10=BS10),Pool1,IF((G10-H10)=(BR10-BS10),Pool2,IF(AND((G10>H10),(BR10>BS10)),Pool3,IF(AND((H10>G10),(BS10>BR10)),Pool3,0)))),0) -> 0 | CB10: =F10 -> Argentina | CE10: =I10 -> Morocco | CI10: =IF(AND(G10<>"",H10<>"",CC10<>"",CD10<>""),IF(AND(G10=CC10,H10=CD10),Pool1,IF((G10-H10)=(CC10-CD10),Pool2,IF(AND((G10>H10),(CC10>CD10)),Pool3,IF(AND((H10>G10),(CD10>CC10)),Pool3,0)))),0) -> 0 | CM10: =F10 -> Argentina | CP10: =I10 -> Morocco | CT10: =IF(AND(G10<>"",H10<>"",CN10<>"",CO10<>""),IF(AND(G10=CN10,H10=CO10),Pool1,IF((G10-H10)=(CN10-CO10),Pool2,IF(AND((G10>H10),(CN10>CO10)),Pool3,IF(AND((H10>G10),(CO10>CN10)),Pool3,0)))),0) -> 0 | CX10: =F10 -> Argentina | DA10: =I10 -> Morocco | DE10: =IF(AND(G10<>"",H10<>"",CY10<>"",CZ10<>""),IF(AND(G10=CY10,H10=CZ10),Pool1,IF((G10-H10)=(CY10-CZ10),Pool2,IF(AND((G10>H10),(CY10>CZ10)),Pool3,IF(AND((H10>G10),(CZ10>CY10)),Pool3,0)))),0) -> 0 | DI10: =F10 -> Argentina | DL10: =I10 -> Morocco | DP10: =IF(AND(G10<>"",H10<>"",DJ10<>"",DK10<>""),IF(AND(G10=DJ10,H10=DK10),Pool1,IF((G10-H10)=(DJ10-DK10),Pool2,IF(AND((G10>H10),(DJ10>DK10)),Pool3,IF(AND((H10>G10),(DK10>DJ10)),Pool3,0)))),0) -> 0
A11: =IF(G11<>"",A10+1,A10) -> 0 | C11: 4 | D11: B | E11: 45497.792 | F11: ='Tournament Setup'!D12 -> Iraq | I11: ='Tournament Setup'!D13 -> Ukraine | N11: =F11 -> Iraq | Q11: =I11 -> Ukraine | U11: =IF(AND(G11<>"",H11<>"",O11<>"",P11<>""),IF(AND(G11=O11,H11=P11),Pool1,IF((G11-H11)=(O11-P11),Pool2,IF(AND((G11>H11),(O11>P11)),Pool3,IF(AND((H11>G11),(P11>O11)),Pool3,0)))),0) -> 0 | Y11: =F11 -> Iraq | AB11: =I11 -> Ukraine | AF11: =IF(AND(G11<>"",H11<>"",Z11<>"",AA11<>""),IF(AND(G11=Z11,H11=AA11),Pool1,IF((G11-H11)=(Z11-AA11),Pool2,IF(AND((G11>H11),(Z11>AA11)),Pool3,IF(AND((H11>G11),(AA11>Z11)),Pool3,0)))),0) -> 0 | AJ11: =F11 -> Iraq | AM11: =I11 -> Ukraine | AQ11: =IF(AND(G11<>"",H11<>"",AK11<>"",AL11<>""),IF(AND(G11=AK11,H11=AL11),Pool1,IF((G11-H11)=(AK11-AL11),Pool2,IF(AND((G11>H11),(AK11>AL11)),Pool3,IF(AND((H11>G11),(AL11>AK11)),Pool3,0)))),0) -> 0 | AU11: =F11 -> Iraq | AX11: =I11 -> Ukraine | BB11: =IF(AND(G11<>"",H11<>"",AV11<>"",AW11<>""),IF(AND(G11=AV11,H11=AW11),Pool1,IF((G11-H11)=(AV11-AW11),Pool2,IF(AND((G11>H11),(AV11>AW11)),Pool3,IF(AND((H11>G11),(AW11>AV11)),Pool3,0)))),0) -> 0 | BF11: =F11 -> Iraq | BI11: =I11 -> Ukraine | BM11: =IF(AND(G11<>"",H11<>"",BG11<>"",BH11<>""),IF(AND(G11=BG11,H11=BH11),Pool1,IF((G11-H11)=(BG11-BH11),Pool2,IF(AND((G11>H11),(BG11>BH11)),Pool3,IF(AND((H11>G11),(BH11>BG11)),Pool3,0)))),0) -> 0 | BQ11: =F11 -> Iraq | BT11: =I11 -> Ukraine | BX11: =IF(AND(G11<>"",H11<>"",BR11<>"",BS11<>""),IF(AND(G11=BR11,H11=BS11),Pool1,IF((G11-H11)=(BR11-BS11),Pool2,IF(AND((G11>H11),(BR11>BS11)),Pool3,IF(AND((H11>G11),(BS11>BR11)),Pool3,0)))),0) -> 0 | CB11: =F11 -> Iraq | CE11: =I11 -> Ukraine | CI11: =IF(AND(G11<>"",H11<>"",CC11<>"",CD11<>""),IF(AND(G11=CC11,H11=CD11),Pool1,IF((G11-H11)=(CC11-CD11),Pool2,IF(AND((G11>H11),(CC11>CD11)),Pool3,IF(AND((H11>G11),(CD11>CC11)),Pool3,0)))),0) -> 0 | CM11: =F11 -> Iraq | CP11: =I11 -> Ukraine | CT11: =IF(AND(G11<>"",H11<>"",CN11<>"",CO11<>""),IF(AND(G11=CN11,H11=CO11),Pool1,IF((G11-H11)=(CN11-CO11),Pool2,IF(AND((G11>H11),(CN11>CO11)),Pool3,IF(AND((H11>G11),(CO11>CN11)),Pool3,0)))),0) -> 0 | CX11: =F11 -> Iraq | DA11: =I11 -> Ukraine | DE11: =IF(AND(G11<>"",H11<>"",CY11<>"",CZ11<>""),IF(AND(G11=CY11,H11=CZ11),Pool1,IF((G11-H11)=(CY11-CZ11),Pool2,IF(AND((G11>H11),(CY11>CZ11)),Pool3,IF(AND((H11>G11),(CZ11>CY11)),Pool3,0)))),0) -> 0 | DI11: =F11 -> Iraq | DL11: =I11 -> Ukraine | DP11: =IF(AND(G11<>"",H11<>"",DJ11<>"",DK11<>""),IF(AND(G11=DJ11,H11=DK11),Pool1,IF((G11-H11)=(DJ11-DK11),Pool2,IF(AND((G11>H11),(DJ11>DK11)),Pool3,IF(AND((H11>G11),(DK11>DJ11)),Pool3,0)))),0) -> 0
A12: =IF(G12<>"",A11+1,A11) -> 0 | C12: 5 | D12: C | E12: 45497.625 | F12: ='Tournament Setup'!D14 -> Uzbekistan | I12: ='Tournament Setup'!D15 -> Spain | N12: =F12 -> Uzbekistan | Q12: =I12 -> Spain | U12: =IF(AND(G12<>"",H12<>"",O12<>"",P12<>""),IF(AND(G12=O12,H12=P12),Pool1,IF((G12-H12)=(O12-P12),Pool2,IF(AND((G12>H12),(O12>P12)),Pool3,IF(AND((H12>G12),(P12>O12)),Pool3,0)))),0) -> 0 | Y12: =F12 -> Uzbekistan | AB12: =I12 -> Spain | AF12: =IF(AND(G12<>"",H12<>"",Z12<>"",AA12<>""),IF(AND(G12=Z12,H12=AA12),Pool1,IF((G12-H12)=(Z12-AA12),Pool2,IF(AND((G12>H12),(Z12>AA12)),Pool3,IF(AND((H12>G12),(AA12>Z12)),Pool3,0)))),0) -> 0 | AJ12: =F12 -> Uzbekistan | AM12: =I12 -> Spain | AQ12: =IF(AND(G12<>"",H12<>"",AK12<>"",AL12<>""),IF(AND(G12=AK12,H12=AL12),Pool1,IF((G12-H12)=(AK12-AL12),Pool2,IF(AND((G12>H12),(AK12>AL12)),Pool3,IF(AND((H12>G12),(AL12>AK12)),Pool3,0)))),0) -> 0 | AU12: =F12 -> Uzbekistan | AX12: =I12 -> Spain | BB12: =IF(AND(G12<>"",H12<>"",AV12<>"",AW12<>""),IF(AND(G12=AV12,H12=AW12),Pool1,IF((G12-H12)=(AV12-AW12),Pool2,IF(AND((G12>H12),(AV12>AW12)),Pool3,IF(AND((H12>G12),(AW12>AV12)),Pool3,0)))),0) -> 0 | BF12: =F12 -> Uzbekistan | BI12: =I12 -> Spain | BM12: =IF(AND(G12<>"",H12<>"",BG12<>"",BH12<>""),IF(AND(G12=BG12,H12=BH12),Pool1,IF((G12-H12)=(BG12-BH12),Pool2,IF(AND((G12>H12),(BG12>BH12)),Pool3,IF(AND((H12>G12),(BH12>BG12)),Pool3,0)))),0) -> 0 | BQ12: =F12 -> Uzbekistan | BT12: =I12 -> Spain | BX12: =IF(AND(G12<>"",H12<>"",BR12<>"",BS12<>""),IF(AND(G12=BR12,H12=BS12),Pool1,IF((G12-H12)=(BR12-BS12),Pool2,IF(AND((G12>H12),(BR12>BS12)),Pool3,IF(AND((H12>G12),(BS12>BR12)),Pool3,0)))),0) -> 0 | CB12: =F12 -> Uzbekistan | CE12: =I12 -> Spain | CI12: =IF(AND(G12<>"",H12<>"",CC12<>"",CD12<>""),IF(AND(G12=CC12,H12=CD12),Pool1,IF((G12-H12)=(CC12-CD12),Pool2,IF(AND((G12>H12),(CC12>CD12)),Pool3,IF(AND((H12>G12),(CD12>CC12)),Pool3,0)))),0) -> 0 | CM12: =F12 -> Uzbekistan | CP12: =I12 -> Spain | CT12: =IF(AND(G12<>"",H12<>"",CN12<>"",CO12<>""),IF(AND(G12=CN12,H12=CO12),Pool1,IF((G12-H12)=(CN12-CO12),Pool2,IF(AND((G12>H12),(CN12>CO12)),Pool3,IF(AND((H12>G12),(CO12>CN12)),Pool3,0)))),0) -> 0 | CX12: =F12 -> Uzbekistan | DA12: =I12 -> Spain | DE12: =IF(AND(G12<>"",H12<>"",CY12<>"",CZ12<>""),IF(AND(G12=CY12,H12=CZ12),Pool1,IF((G12-H12)=(CY12-CZ12),Pool2,IF(AND((G12>H12),(CY12>CZ12)),Pool3,IF(AND((H12>G12),(CZ12>CY12)),Pool3,0)))),0) -> 0 | DI12: =F12 -> Uzbekistan | DL12: =I12 -> Spain | DP12: =IF(AND(G12<>"",H12<>"",DJ12<>"",DK12<>""),IF(AND(G12=DJ12,H12=DK12),Pool1,IF((G12-H12)=(DJ12-DK12),Pool2,IF(AND((G12>H12),(DJ12>DK12)),Pool3,IF(AND((H12>G12),(DK12>DJ12)),Pool3,0)))),0) -> 0
A13: =IF(G13<>"",A12+1,A12) -> 0 | C13: 6 | D13: C | E13: 45497.708 | F13: ='Tournament Setup'!D16 -> Egypt | I13: ='Tournament Setup'!D17 -> Dominican Republic | N13: =F13 -> Egypt | Q13: =I13 -> Dominican Republic | U13: =IF(AND(G13<>"",H13<>"",O13<>"",P13<>""),IF(AND(G13=O13,H13=P13),Pool1,IF((G13-H13)=(O13-P13),Pool2,IF(AND((G13>H13),(O13>P13)),Pool3,IF(AND((H13>G13),(P13>O13)),Pool3,0)))),0) -> 0 | Y13: =F13 -> Egypt | AB13: =I13 -> Dominican Republic | AF13: =IF(AND(G13<>"",H13<>"",Z13<>"",AA13<>""),IF(AND(G13=Z13,H13=AA13),Pool1,IF((G13-H13)=(Z13-AA13),Pool2,IF(AND((G13>H13),(Z13>AA13)),Pool3,IF(AND((H13>G13),(AA13>Z13)),Pool3,0)))),0) -> 0 | AJ13: =F13 -> Egypt | AM13: =I13 -> Dominican Republic | AQ13: =IF(AND(G13<>"",H13<>"",AK13<>"",AL13<>""),IF(AND(G13=AK13,H13=AL13),Pool1,IF((G13-H13)=(AK13-AL13),Pool2,IF(AND((G13>H13),(AK13>AL13)),Pool3,IF(AND((H13>G13),(AL13>AK13)),Pool3,0)))),0) -> 0 | AU13: =F13 -> Egypt | AX13: =I13 -> Dominican Republic | BB13: =IF(AND(G13<>"",H13<>"",AV13<>"",AW13<>""),IF(AND(G13=AV13,H13=AW13),Pool1,IF((G13-H13)=(AV13-AW13),Pool2,IF(AND((G13>H13),(AV13>AW13)),Pool3,IF(AND((H13>G13),(AW13>AV13)),Pool3,0)))),0) -> 0 | BF13: =F13 -> Egypt | BI13: =I13 -> Dominican Republic | BM13: =IF(AND(G13<>"",H13<>"",BG13<>"",BH13<>""),IF(AND(G13=BG13,H13=BH13),Pool1,IF((G13-H13)=(BG13-BH13),Pool2,IF(AND((G13>H13),(BG13>BH13)),Pool3,IF(AND((H13>G13),(BH13>BG13)),Pool3,0)))),0) -> 0 | BQ13: =F13 -> Egypt | BT13: =I13 -> Dominican Republic | BX13: =IF(AND(G13<>"",H13<>"",BR13<>"",BS13<>""),IF(AND(G13=BR13,H13=BS13),Pool1,IF((G13-H13)=(BR13-BS13),Pool2,IF(AND((G13>H13),(BR13>BS13)),Pool3,IF(AND((H13>G13),(BS13>BR13)),Pool3,0)))),0) -> 0 | CB13: =F13 -> Egypt | CE13: =I13 -> Dominican Republic | CI13: =IF(AND(G13<>"",H13<>"",CC13<>"",CD13<>""),IF(AND(G13=CC13,H13=CD13),Pool1,IF((G13-H13)=(CC13-CD13),Pool2,IF(AND((G13>H13),(CC13>CD13)),Pool3,IF(AND((H13>G13),(CD13>CC13)),Pool3,0)))),0) -> 0 | CM13: =F13 -> Egypt | CP13: =I13 -> Dominican Republic | CT13: =IF(AND(G13<>"",H13<>"",CN13<>"",CO13<>""),IF(AND(G13=CN13,H13=CO13),Pool1,IF((G13-H13)=(CN13-CO13),Pool2,IF(AND((G13>H13),(CN13>CO13)),Pool3,IF(AND((H13>G13),(CO13>CN13)),Pool3,0)))),0) -> 0 | CX13: =F13 -> Egypt | DA13: =I13 -> Dominican Republic | DE13: =IF(AND(G13<>"",H13<>"",CY13<>"",CZ13<>""),IF(AND(G13=CY13,H13=CZ13),Pool1,IF((G13-H13)=(CY13-CZ13),Pool2,IF(AND((G13>H13),(CY13>CZ13)),Pool3,IF(AND((H13>G13),(CZ13>CY13)),Pool3,0)))),0) -> 0 | DI13: =F13 -> Egypt | DL13: =I13 -> Dominican Republic | DP13: =IF(AND(G13<>"",H13<>"",DJ13<>"",DK13<>""),IF(AND(G13=DJ13,H13=DK13),Pool1,IF((G13-H13)=(DJ13-DK13),Pool2,IF(AND((G13>H13),(DJ13>DK13)),Pool3,IF(AND((H13>G13),(DK13>DJ13)),Pool3,0)))),0) -> 0
A14: =IF(G14<>"",A13+1,A13) -> 0 | C14: 7 | D14: D | E14: 45497.792 | F14: ='Tournament Setup'!D20 -> Mali | I14: ='Tournament Setup'!D21 -> Israel | N14: =F14 -> Mali | Q14: =I14 -> Israel | U14: =IF(AND(G14<>"",H14<>"",O14<>"",P14<>""),IF(AND(G14=O14,H14=P14),Pool1,IF((G14-H14)=(O14-P14),Pool2,IF(AND((G14>H14),(O14>P14)),Pool3,IF(AND((H14>G14),(P14>O14)),Pool3,0)))),0) -> 0 | Y14: =F14 -> Mali | AB14: =I14 -> Israel | AF14: =IF(AND(G14<>"",H14<>"",Z14<>"",AA14<>""),IF(AND(G14=Z14,H14=AA14),Pool1,IF((G14-H14)=(Z14-AA14),Pool2,IF(AND((G14>H14),(Z14>AA14)),Pool3,IF(AND((H14>G14),(AA14>Z14)),Pool3,0)))),0) -> 0 | AJ14: =F14 -> Mali | AM14: =I14 -> Israel | AQ14: =IF(AND(G14<>"",H14<>"",AK14<>"",AL14<>""),IF(AND(G14=AK14,H14=AL14),Pool1,IF((G14-H14)=(AK14-AL14),Pool2,IF(AND((G14>H14),(AK14>AL14)),Pool3,IF(AND((H14>G14),(AL14>AK14)),Pool3,0)))),0) -> 0 | AU14: =F14 -> Mali | AX14: =I14 -> Israel | BB14: =IF(AND(G14<>"",H14<>"",AV14<>"",AW14<>""),IF(AND(G14=AV14,H14=AW14),Pool1,IF((G14-H14)=(AV14-AW14),Pool2,IF(AND((G14>H14),(AV14>AW14)),Pool3,IF(AND((H14>G14),(AW14>AV14)),Pool3,0)))),0) -> 0 | BF14: =F14 -> Mali | BI14: =I14 -> Israel | BM14: =IF(AND(G14<>"",H14<>"",BG14<>"",BH14<>""),IF(AND(G14=BG14,H14=BH14),Pool1,IF((G14-H14)=(BG14-BH14),Pool2,IF(AND((G14>H14),(BG14>BH14)),Pool3,IF(AND((H14>G14),(BH14>BG14)),Pool3,0)))),0) -> 0 | BQ14: =F14 -> Mali | BT14: =I14 -> Israel | BX14: =IF(AND(G14<>"",H14<>"",BR14<>"",BS14<>""),IF(AND(G14=BR14,H14=BS14),Pool1,IF((G14-H14)=(BR14-BS14),Pool2,IF(AND((G14>H14),(BR14>BS14)),Pool3,IF(AND((H14>G14),(BS14>BR14)),Pool3,0)))),0) -> 0 | CB14: =F14 -> Mali | CE14: =I14 -> Israel | CI14: =IF(AND(G14<>"",H14<>"",CC14<>"",CD14<>""),IF(AND(G14=CC14,H14=CD14),Pool1,IF((G14-H14)=(CC14-CD14),Pool2,IF(AND((G14>H14),(CC14>CD14)),Pool3,IF(AND((H14>G14),(CD14>CC14)),Pool3,0)))),0) -> 0 | CM14: =F14 -> Mali | CP14: =I14 -> Israel | CT14: =IF(AND(G14<>"",H14<>"",CN14<>"",CO14<>""),IF(AND(G14=CN14,H14=CO14),Pool1,IF((G14-H14)=(CN14-CO14),Pool2,IF(AND((G14>H14),(CN14>CO14)),Pool3,IF(AND((H14>G14),(CO14>CN14)),Pool3,0)))),0) -> 0 | CX14: =F14 -> Mali | DA14: =I14 -> Israel | DE14: =IF(AND(G14<>"",H14<>"",CY14<>"",CZ14<>""),IF(AND(G14=CY14,H14=CZ14),Pool1,IF((G14-H14)=(CY14-CZ14),Pool2,IF(AND((G14>H14),(CY14>CZ14)),Pool3,IF(AND((H14>G14),(CZ14>CY14)),Pool3,0)))),0) -> 0 | DI14: =F14 -> Mali | DL14: =I14 -> Israel | DP14: =IF(AND(G14<>"",H14<>"",DJ14<>"",DK14<>""),IF(AND(G14=DJ14,H14=DK14),Pool1,IF((G14-H14)=(DJ14-DK14),Pool2,IF(AND((G14>H14),(DJ14>DK14)),Pool3,IF(AND((H14>G14),(DK14>DJ14)),Pool3,0)))),0) -> 0
A15: =IF(G15<>"",A14+1,A14) -> 0 | C15: 8 | D15: D | E15: 45497.875 | F15: ='Tournament Setup'!D18 -> Japan | I15: ='Tournament Setup'!D19 -> Paraguay | N15: =F15 -> Japan | Q15: =I15 -> Paraguay | U15: =IF(AND(G15<>"",H15<>"",O15<>"",P15<>""),IF(AND(G15=O15,H15=P15),Pool1,IF((G15-H15)=(O15-P15),Pool2,IF(AND((G15>H15),(O15>P15)),Pool3,IF(AND((H15>G15),(P15>O15)),Pool3,0)))),0) -> 0 | Y15: =F15 -> Japan | AB15: =I15 -> Paraguay | AF15: =IF(AND(G15<>"",H15<>"",Z15<>"",AA15<>""),IF(AND(G15=Z15,H15=AA15),Pool1,IF((G15-H15)=(Z15-AA15),Pool2,IF(AND((G15>H15),(Z15>AA15)),Pool3,IF(AND((H15>G15),(AA15>Z15)),Pool3,0)))),0) -> 0 | AJ15: =F15 -> Japan | AM15: =I15 -> Paraguay | AQ15: =IF(AND(G15<>"",H15<>"",AK15<>"",AL15<>""),IF(AND(G15=AK15,H15=AL15),Pool1,IF((G15-H15)=(AK15-AL15),Pool2,IF(AND((G15>H15),(AK15>AL15)),Pool3,IF(AND((H15>G15),(AL15>AK15)),Pool3,0)))),0) -> 0 | AU15: =F15 -> Japan | AX15: =I15 -> Paraguay | BB15: =IF(AND(G15<>"",H15<>"",AV15<>"",AW15<>""),IF(AND(G15=AV15,H15=AW15),Pool1,IF((G15-H15)=(AV15-AW15),Pool2,IF(AND((G15>H15),(AV15>AW15)),Pool3,IF(AND((H15>G15),(AW15>AV15)),Pool3,0)))),0) -> 0 | BF15: =F15 -> Japan | BI15: =I15 -> Paraguay | BM15: =IF(AND(G15<>"",H15<>"",BG15<>"",BH15<>""),IF(AND(G15=BG15,H15=BH15),Pool1,IF((G15-H15)=(BG15-BH15),Pool2,IF(AND((G15>H15),(BG15>BH15)),Pool3,IF(AND((H15>G15),(BH15>BG15)),Pool3,0)))),0) -> 0 | BQ15: =F15 -> Japan | BT15: =I15 -> Paraguay | BX15: =IF(AND(G15<>"",H15<>"",BR15<>"",BS15<>""),IF(AND(G15=BR15,H15=BS15),Pool1,IF((G15-H15)=(BR15-BS15),Pool2,IF(AND((G15>H15),(BR15>BS15)),Pool3,IF(AND((H15>G15),(BS15>BR15)),Pool3,0)))),0) -> 0 | CB15: =F15 -> Japan | CE15: =I15 -> Paraguay | CI15: =IF(AND(G15<>"",H15<>"",CC15<>"",CD15<>""),IF(AND(G15=CC15,H15=CD15),Pool1,IF((G15-H15)=(CC15-CD15),Pool2,IF(AND((G15>H15),(CC15>CD15)),Pool3,IF(AND((H15>G15),(CD15>CC15)),Pool3,0)))),0) -> 0 | CM15: =F15 -> Japan | CP15: =I15 -> Paraguay | CT15: =IF(AND(G15<>"",H15<>"",CN15<>"",CO15<>""),IF(AND(G15=CN15,H15=CO15),Pool1,IF((G15-H15)=(CN15-CO15),Pool2,IF(AND((G15>H15),(CN15>CO15)),Pool3,IF(AND((H15>G15),(CO15>CN15)),Pool3,0)))),0) -> 0 | CX15: =F15 -> Japan | DA15: =I15 -> Paraguay | DE15: =IF(AND(G15<>"",H15<>"",CY15<>"",CZ15<>""),IF(AND(G15=CY15,H15=CZ15),Pool1,IF((G15-H15)=(CY15-CZ15),Pool2,IF(AND((G15>H15),(CY15>CZ15)),Pool3,IF(AND((H15>G15),(CZ15>CY15)),Pool3,0)))),0) -> 0 | DI15: =F15 -> Japan | DL15: =I15 -> Paraguay | DP15: =IF(AND(G15<>"",H15<>"",DJ15<>"",DK15<>""),IF(AND(G15=DJ15,H15=DK15),Pool1,IF((G15-H15)=(DJ15-DK15),Pool2,IF(AND((G15>H15),(DJ15>DK15)),Pool3,IF(AND((H15>G15),(DK15>DJ15)),Pool3,0)))),0) -> 0
A16: =IF(G16<>"",A15+1,A15) -> 0 | C16: 9 | D16: A | E16: 45500.792 | F16: =F8 -> France | I16: =F9 -> Guinea | N16: =F16 -> France | Q16: =I16 -> Guinea | U16: =IF(AND(G16<>"",H16<>"",O16<>"",P16<>""),IF(AND(G16=O16,H16=P16),Pool1,IF((G16-H16)=(O16-P16),Pool2,IF(AND((G16>H16),(O16>P16)),Pool3,IF(AND((H16>G16),(P16>O16)),Pool3,0)))),0) -> 0 | Y16: =F16 -> France | AB16: =I16 -> Guinea | AF16: =IF(AND(G16<>"",H16<>"",Z16<>"",AA16<>""),IF(AND(G16=Z16,H16=AA16),Pool1,IF((G16-H16)=(Z16-AA16),Pool2,IF(AND((G16>H16),(Z16>AA16)),Pool3,IF(AND((H16>G16),(AA16>Z16)),Pool3,0)))),0) -> 0 | AJ16: =F16 -> France | AM16: =I16 -> Guinea | AQ16: =IF(AND(G16<>"",H16<>"",AK16<>"",AL16<>""),IF(AND(G16=AK16,H16=AL16),Pool1,IF((G16-H16)=(AK16-AL16),Pool2,IF(AND((G16>H16),(AK16>AL16)),Pool3,IF(AND((H16>G16),(AL16>AK16)),Pool3,0)))),0) -> 0 | AU16: =F16 -> France | AX16: =I16 -> Guinea | BB16: =IF(AND(G16<>"",H16<>"",AV16<>"",AW16<>""),IF(AND(G16=AV16,H16=AW16),Pool1,IF((G16-H16)=(AV16-AW16),Pool2,IF(AND((G16>H16),(AV16>AW16)),Pool3,IF(AND((H16>G16),(AW16>AV16)),Pool3,0)))),0) -> 0 | BF16: =F16 -> France | BI16: =I16 -> Guinea | BM16: =IF(AND(G16<>"",H16<>"",BG16<>"",BH16<>""),IF(AND(G16=BG16,H16=BH16),Pool1,IF((G16-H16)=(BG16-BH16),Pool2,IF(AND((G16>H16),(BG16>BH16)),Pool3,IF(AND((H16>G16),(BH16>BG16)),Pool3,0)))),0) -> 0 | BQ16: =F16 -> France | BT16: =I16 -> Guinea | BX16: =IF(AND(G16<>"",H16<>"",BR16<>"",BS16<>""),IF(AND(G16=BR16,H16=BS16),Pool1,IF((G16-H16)=(BR16-BS16),Pool2,IF(AND((G16>H16),(BR16>BS16)),Pool3,IF(AND((H16>G16),(BS16>BR16)),Pool3,0)))),0) -> 0 | CB16: =F16 -> France | CE16: =I16 -> Guinea | CI16: =IF(AND(G16<>"",H16<>"",CC16<>"",CD16<>""),IF(AND(G16=CC16,H16=CD16),Pool1,IF((G16-H16)=(CC16-CD16),Pool2,IF(AND((G16>H16),(CC16>CD16)),Pool3,IF(AND((H16>G16),(CD16>CC16)),Pool3,0)))),0) -> 0 | CM16: =F16 -> France | CP16: =I16 -> Guinea | CT16: =IF(AND(G16<>"",H16<>"",CN16<>"",CO16<>""),IF(AND(G16=CN16,H16=CO16),Pool1,IF((G16-H16)=(CN16-CO16),Pool2,IF(AND((G16>H16),(CN16>CO16)),Pool3,IF(AND((H16>G16),(CO16>CN16)),Pool3,0)))),0) -> 0 | CX16: =F16 -> France | DA16: =I16 -> Guinea | DE16: =IF(AND(G16<>"",H16<>"",CY16<>"",CZ16<>""),IF(AND(G16=CY16,H16=CZ16),Pool1,IF((G16-H16)=(CY16-CZ16),Pool2,IF(AND((G16>H16),(CY16>CZ16)),Pool3,IF(AND((H16>G16),(CZ16>CY16)),Pool3,0)))),0) -> 0 | DI16: =F16 -> France | DL16: =I16 -> Guinea | DP16: =IF(AND(G16<>"",H16<>"",DJ16<>"",DK16<>""),IF(AND(G16=DJ16,H16=DK16),Pool1,IF((G16-H16)=(DJ16-DK16),Pool2,IF(AND((G16>H16),(DJ16>DK16)),Pool3,IF(AND((H16>G16),(DK16>DJ16)),Pool3,0)))),0) -> 0
A17: =IF(G17<>"",A16+1,A16) -> 0 | C17: 10 | D17: A | E17: 45500.792 | F17: =I9 -> New Zealand | I17: =I8 -> United States | N17: =F17 -> New Zealand | Q17: =I17 -> United States | U17: =IF(AND(G17<>"",H17<>"",O17<>"",P17<>""),IF(AND(G17=O17,H17=P17),Pool1,IF((G17-H17)=(O17-P17),Pool2,IF(AND((G17>H17),(O17>P17)),Pool3,IF(AND((H17>G17),(P17>O17)),Pool3,0)))),0) -> 0 | Y17: =F17 -> New Zealand | AB17: =I17 -> United States | AF17: =IF(AND(G17<>"",H17<>"",Z17<>"",AA17<>""),IF(AND(G17=Z17,H17=AA17),Pool1,IF((G17-H17)=(Z17-AA17),Pool2,IF(AND((G17>H17),(Z17>AA17)),Pool3,IF(AND((H17>G17),(AA17>Z17)),Pool3,0)))),0) -> 0 | AJ17: =F17 -> New Zealand | AM17: =I17 -> United States | AQ17: =IF(AND(G17<>"",H17<>"",AK17<>"",AL17<>""),IF(AND(G17=AK17,H17=AL17),Pool1,IF((G17-H17)=(AK17-AL17),Pool2,IF(AND((G17>H17),(AK17>AL17)),Pool3,IF(AND((H17>G17),(AL17>AK17)),Pool3,0)))),0) -> 0 | AU17: =F17 -> New Zealand | AX17: =I17 -> United States | BB17: =IF(AND(G17<>"",H17<>"",AV17<>"",AW17<>""),IF(AND(G17=AV17,H17=AW17),Pool1,IF((G17-H17)=(AV17-AW17),Pool2,IF(AND((G17>H17),(AV17>AW17)),Pool3,IF(AND((H17>G17),(AW17>AV17)),Pool3,0)))),0) -> 0 | BF17: =F17 -> New Zealand | BI17: =I17 -> United States | BM17: =IF(AND(G17<>"",H17<>"",BG17<>"",BH17<>""),IF(AND(G17=BG17,H17=BH17),Pool1,IF((G17-H17)=(BG17-BH17),Pool2,IF(AND((G17>H17),(BG17>BH17)),Pool3,IF(AND((H17>G17),(BH17>BG17)),Pool3,0)))),0) -> 0 | BQ17: =F17 -> New Zealand | BT17: =I17 -> United States | BX17: =IF(AND(G17<>"",H17<>"",BR17<>"",BS17<>""),IF(AND(G17=BR17,H17=BS17),Pool1,IF((G17-H17)=(BR17-BS17),Pool2,IF(AND((G17>H17),(BR17>BS17)),Pool3,IF(AND((H17>G17),(BS17>BR17)),Pool3,0)))),0) -> 0 | CB17: =F17 -> New Zealand | CE17: =I17 -> United States | CI17: =IF(AND(G17<>"",H17<>"",CC17<>"",CD17<>""),IF(AND(G17=CC17,H17=CD17),Pool1,IF((G17-H17)=(CC17-CD17),Pool2,IF(AND((G17>H17),(CC17>CD17)),Pool3,IF(AND((H17>G17),(CD17>CC17)),Pool3,0)))),0) -> 0 | CM17: =F17 -> New Zealand | CP17: =I17 -> United States | CT17: =IF(AND(G17<>"",H17<>"",CN17<>"",CO17<>""),IF(AND(G17=CN17,H17=CO17),Pool1,IF((G17-H17)=(CN17-CO17),Pool2,IF(AND((G17>H17),(CN17>CO17)),Pool3,IF(AND((H17>G17),(CO17>CN17)),Pool3,0)))),0) -> 0 | CX17: =F17 -> New Zealand | DA17: =I17 -> United States | DE17: =IF(AND(G17<>"",H17<>"",CY17<>"",CZ17<>""),IF(AND(G17=CY17,H17=CZ17),Pool1,IF((G17-H17)=(CY17-CZ17),Pool2,IF(AND((G17>H17),(CY17>CZ17)),Pool3,IF(AND((H17>G17),(CZ17>CY17)),Pool3,0)))),0) -> 0 | DI17: =F17 -> New Zealand | DL17: =I17 -> United States | DP17: =IF(AND(G17<>"",H17<>"",DJ17<>"",DK17<>""),IF(AND(G17=DJ17,H17=DK17),Pool1,IF((G17-H17)=(DJ17-DK17),Pool2,IF(AND((G17>H17),(DJ17>DK17)),Pool3,IF(AND((H17>G17),(DK17>DJ17)),Pool3,0)))),0) -> 0
A18: =IF(G18<>"",A17+1,A17) -> 0 | C18: 11 | D18: B | E18: 45500.625 | F18: =F10 -> Argentina | I18: =F11 -> Iraq | N18: =F18 -> Argentina | Q18: =I18 -> Iraq | U18: =IF(AND(G18<>"",H18<>"",O18<>"",P18<>""),IF(AND(G18=O18,H18=P18),Pool1,IF((G18-H18)=(O18-P18),Pool2,IF(AND((G18>H18),(O18>P18)),Pool3,IF(AND((H18>G18),(P18>O18)),Pool3,0)))),0) -> 0 | Y18: =F18 -> Argentina | AB18: =I18 -> Iraq | AF18: =IF(AND(G18<>"",H18<>"",Z18<>"",AA18<>""),IF(AND(G18=Z18,H18=AA18),Pool1,IF((G18-H18)=(Z18-AA18),Pool2,IF(AND((G18>H18),(Z18>AA18)),Pool3,IF(AND((H18>G18),(AA18>Z18)),Pool3,0)))),0) -> 0 | AJ18: =F18 -> Argentina | AM18: =I18 -> Iraq | AQ18: =IF(AND(G18<>"",H18<>"",AK18<>"",AL18<>""),IF(AND(G18=AK18,H18=AL18),Pool1,IF((G18-H18)=(AK18-AL18),Pool2,IF(AND((G18>H18),(AK18>AL18)),Pool3,IF(AND((H18>G18),(AL18>AK18)),Pool3,0)))),0) -> 0 | AU18: =F18 -> Argentina | AX18: =I18 -> Iraq | BB18: =IF(AND(G18<>"",H18<>"",AV18<>"",AW18<>""),IF(AND(G18=AV18,H18=AW18),Pool1,IF((G18-H18)=(AV18-AW18),Pool2,IF(AND((G18>H18),(AV18>AW18)),Pool3,IF(AND((H18>G18),(AW18>AV18)),Pool3,0)))),0) -> 0 | BF18: =F18 -> Argentina | BI18: =I18 -> Iraq | BM18: =IF(AND(G18<>"",H18<>"",BG18<>"",BH18<>""),IF(AND(G18=BG18,H18=BH18),Pool1,IF((G18-H18)=(BG18-BH18),Pool2,IF(AND((G18>H18),(BG18>BH18)),Pool3,IF(AND((H18>G18),(BH18>BG18)),Pool3,0)))),0) -> 0 | BQ18: =F18 -> Argentina | BT18: =I18 -> Iraq | BX18: =IF(AND(G18<>"",H18<>"",BR18<>"",BS18<>""),IF(AND(G18=BR18,H18=BS18),Pool1,IF((G18-H18)=(BR18-BS18),Pool2,IF(AND((G18>H18),(BR18>BS18)),Pool3,IF(AND((H18>G18),(BS18>BR18)),Pool3,0)))),0) -> 0 | CB18: =F18 -> Argentina | CE18: =I18 -> Iraq | CI18: =IF(AND(G18<>"",H18<>"",CC18<>"",CD18<>""),IF(AND(G18=CC18,H18=CD18),Pool1,IF((G18-H18)=(CC18-CD18),Pool2,IF(AND((G18>H18),(CC18>CD18)),Pool3,IF(AND((H18>G18),(CD18>CC18)),Pool3,0)))),0) -> 0 | CM18: =F18 -> Argentina | CP18: =I18 -> Iraq | CT18: =IF(AND(G18<>"",H18<>"",CN18<>"",CO18<>""),IF(AND(G18=CN18,H18=CO18),Pool1,IF((G18-H18)=(CN18-CO18),Pool2,IF(AND((G18>H18),(CN18>CO18)),Pool3,IF(AND((H18>G18),(CO18>CN18)),Pool3,0)))),0) -> 0 | CX18: =F18 -> Argentina | DA18: =I18 -> Iraq | DE18: =IF(AND(G18<>"",H18<>"",CY18<>"",CZ18<>""),IF(AND(G18=CY18,H18=CZ18),Pool1,IF((G18-H18)=(CY18-CZ18),Pool2,IF(AND((G18>H18),(CY18>CZ18)),Pool3,IF(AND((H18>G18),(CZ18>CY18)),Pool3,0)))),0) -> 0 | DI18: =F18 -> Argentina | DL18: =I18 -> Iraq | DP18: =IF(AND(G18<>"",H18<>"",DJ18<>"",DK18<>""),IF(AND(G18=DJ18,H18=DK18),Pool1,IF((G18-H18)=(DJ18-DK18),Pool2,IF(AND((G18>H18),(DJ18>DK18)),Pool3,IF(AND((H18>G18),(DK18>DJ18)),Pool3,0)))),0) -> 0
A19: =IF(G19<>"",A18+1,A18) -> 0 | C19: 12 | D19: B | E19: 45500.708 | F19: =I11 -> Ukraine | I19: =I10 -> Morocco | N19: =F19 -> Ukraine | Q19: =I19 -> Morocco | U19: =IF(AND(G19<>"",H19<>"",O19<>"",P19<>""),IF(AND(G19=O19,H19=P19),Pool1,IF((G19-H19)=(O19-P19),Pool2,IF(AND((G19>H19),(O19>P19)),Pool3,IF(AND((H19>G19),(P19>O19)),Pool3,0)))),0) -> 0 | Y19: =F19 -> Ukraine | AB19: =I19 -> Morocco | AF19: =IF(AND(G19<>"",H19<>"",Z19<>"",AA19<>""),IF(AND(G19=Z19,H19=AA19),Pool1,IF((G19-H19)=(Z19-AA19),Pool2,IF(AND((G19>H19),(Z19>AA19)),Pool3,IF(AND((H19>G19),(AA19>Z19)),Pool3,0)))),0) -> 0 | AJ19: =F19 -> Ukraine | AM19: =I19 -> Morocco | AQ19: =IF(AND(G19<>"",H19<>"",AK19<>"",AL19<>""),IF(AND(G19=AK19,H19=AL19),Pool1,IF((G19-H19)=(AK19-AL19),Pool2,IF(AND((G19>H19),(AK19>AL19)),Pool3,IF(AND((H19>G19),(AL19>AK19)),Pool3,0)))),0) -> 0 | AU19: =F19 -> Ukraine | AX19: =I19 -> Morocco | BB19: =IF(AND(G19<>"",H19<>"",AV19<>"",AW19<>""),IF(AND(G19=AV19,H19=AW19),Pool1,IF((G19-H19)=(AV19-AW19),Pool2,IF(AND((G19>H19),(AV19>AW19)),Pool3,IF(AND((H19>G19),(AW19>AV19)),Pool3,0)))),0) -> 0 | BF19: =F19 -> Ukraine | BI19: =I19 -> Morocco | BM19: =IF(AND(G19<>"",H19<>"",BG19<>"",BH19<>""),IF(AND(G19=BG19,H19=BH19),Pool1,IF((G19-H19)=(BG19-BH19),Pool2,IF(AND((G19>H19),(BG19>BH19)),Pool3,IF(AND((H19>G19),(BH19>BG19)),Pool3,0)))),0) -> 0 | BQ19: =F19 -> Ukraine | BT19: =I19 -> Morocco | BX19: =IF(AND(G19<>"",H19<>"",BR19<>"",BS19<>""),IF(AND(G19=BR19,H19=BS19),Pool1,IF((G19-H19)=(BR19-BS19),Pool2,IF(AND((G19>H19),(BR19>BS19)),Pool3,IF(AND((H19>G19),(BS19>BR19)),Pool3,0)))),0) -> 0 | CB19: =F19 -> Ukraine | CE19: =I19 -> Morocco | CI19: =IF(AND(G19<>"",H19<>"",CC19<>"",CD19<>""),IF(AND(G19=CC19,H19=CD19),Pool1,IF((G19-H19)=(CC19-CD19),Pool2,IF(AND((G19>H19),(CC19>CD19)),Pool3,IF(AND((H19>G19),(CD19>CC19)),Pool3,0)))),0) -> 0 | CM19: =F19 -> Ukraine | CP19: =I19 -> Morocco | CT19: =IF(AND(G19<>"",H19<>"",CN19<>"",CO19<>""),IF(AND(G19=CN19,H19=CO19),Pool1,IF((G19-H19)=(CN19-CO19),Pool2,IF(AND((G19>H19),(CN19>CO19)),Pool3,IF(AND((H19>G19),(CO19>CN19)),Pool3,0)))),0) -> 0 | CX19: =F19 -> Ukraine | DA19: =I19 -> Morocco | DE19: =IF(AND(G19<>"",H19<>"",CY19<>"",CZ19<>""),IF(AND(G19=CY19,H19=CZ19),Pool1,IF((G19-H19)=(CY19-CZ19),Pool2,IF(AND((G19>H19),(CY19>CZ19)),Pool3,IF(AND((H19>G19),(CZ19>CY19)),Pool3,0)))),0) -> 0 | DI19: =F19 -> Ukraine | DL19: =I19 -> Morocco | DP19: =IF(AND(G19<>"",H19<>"",DJ19<>"",DK19<>""),IF(AND(G19=DJ19,H19=DK19),Pool1,IF((G19-H19)=(DJ19-DK19),Pool2,IF(AND((G19>H19),(DJ19>DK19)),Pool3,IF(AND((H19>G19),(DK19>DJ19)),Pool3,0)))),0) -> 0
A20: =IF(G20<>"",A19+1,A19) -> 0 | C20: 13 | D20: C | E20: 45500.792 | F20: =F12 -> Uzbekistan | I20: =F13 -> Egypt | N20: =F20 -> Uzbekistan | Q20: =I20 -> Egypt | U20: =IF(AND(G20<>"",H20<>"",O20<>"",P20<>""),IF(AND(G20=O20,H20=P20),Pool1,IF((G20-H20)=(O20-P20),Pool2,IF(AND((G20>H20),(O20>P20)),Pool3,IF(AND((H20>G20),(P20>O20)),Pool3,0)))),0) -> 0 | Y20: =F20 -> Uzbekistan | AB20: =I20 -> Egypt | AF20: =IF(AND(G20<>"",H20<>"",Z20<>"",AA20<>""),IF(AND(G20=Z20,H20=AA20),Pool1,IF((G20-H20)=(Z20-AA20),Pool2,IF(AND((G20>H20),(Z20>AA20)),Pool3,IF(AND((H20>G20),(AA20>Z20)),Pool3,0)))),0) -> 0 | AJ20: =F20 -> Uzbekistan | AM20: =I20 -> Egypt | AQ20: =IF(AND(G20<>"",H20<>"",AK20<>"",AL20<>""),IF(AND(G20=AK20,H20=AL20),Pool1,IF((G20-H20)=(AK20-AL20),Pool2,IF(AND((G20>H20),(AK20>AL20)),Pool3,IF(AND((H20>G20),(AL20>AK20)),Pool3,0)))),0) -> 0 | AU20: =F20 -> Uzbekistan | AX20: =I20 -> Egypt | BB20: =IF(AND(G20<>"",H20<>"",AV20<>"",AW20<>""),IF(AND(G20=AV20,H20=AW20),Pool1,IF((G20-H20)=(AV20-AW20),Pool2,IF(AND((G20>H20),(AV20>AW20)),Pool3,IF(AND((H20>G20),(AW20>AV20)),Pool3,0)))),0) -> 0 | BF20: =F20 -> Uzbekistan | BI20: =I20 -> Egypt | BM20: =IF(AND(G20<>"",H20<>"",BG20<>"",BH20<>""),IF(AND(G20=BG20,H20=BH20),Pool1,IF((G20-H20)=(BG20-BH20),Pool2,IF(AND((G20>H20),(BG20>BH20)),Pool3,IF(AND((H20>G20),(BH20>BG20)),Pool3,0)))),0) -> 0 | BQ20: =F20 -> Uzbekistan | BT20: =I20 -> Egypt | BX20: =IF(AND(G20<>"",H20<>"",BR20<>"",BS20<>""),IF(AND(G20=BR20,H20=BS20),Pool1,IF((G20-H20)=(BR20-BS20),Pool2,IF(AND((G20>H20),(BR20>BS20)),Pool3,IF(AND((H20>G20),(BS20>BR20)),Pool3,0)))),0) -> 0 | CB20: =F20 -> Uzbekistan | CE20: =I20 -> Egypt | CI20: =IF(AND(G20<>"",H20<>"",CC20<>"",CD20<>""),IF(AND(G20=CC20,H20=CD20),Pool1,IF((G20-H20)=(CC20-CD20),Pool2,IF(AND((G20>H20),(CC20>CD20)),Pool3,IF(AND((H20>G20),(CD20>CC20)),Pool3,0)))),0) -> 0 | CM20: =F20 -> Uzbekistan | CP20: =I20 -> Egypt | CT20: =IF(AND(G20<>"",H20<>"",CN20<>"",CO20<>""),IF(AND(G20=CN20,H20=CO20),Pool1,IF((G20-H20)=(CN20-CO20),Pool2,IF(AND((G20>H20),(CN20>CO20)),Pool3,IF(AND((H20>G20),(CO20>CN20)),Pool3,0)))),0) -> 0 | CX20: =F20 -> Uzbekistan | DA20: =I20 -> Egypt | DE20: =IF(AND(G20<>"",H20<>"",CY20<>"",CZ20<>""),IF(AND(G20=CY20,H20=CZ20),Pool1,IF((G20-H20)=(CY20-CZ20),Pool2,IF(AND((G20>H20),(CY20>CZ20)),Pool3,IF(AND((H20>G20),(CZ20>CY20)),Pool3,0)))),0) -> 0 | DI20: =F20 -> Uzbekistan | DL20: =I20 -> Egypt | DP20: =IF(AND(G20<>"",H20<>"",DJ20<>"",DK20<>""),IF(AND(G20=DJ20,H20=DK20),Pool1,IF((G20-H20)=(DJ20-DK20),Pool2,IF(AND((G20>H20),(DJ20>DK20)),Pool3,IF(AND((H20>G20),(DK20>DJ20)),Pool3,0)))),0) -> 0
A21: =IF(G21<>"",A20+1,A20) -> 0 | C21: 14 | D21: C | E21: 45500.625 | F21: =I13 -> Dominican Republic | I21: =I12 -> Spain | N21: =F21 -> Dominican Republic | Q21: =I21 -> Spain | U21: =IF(AND(G21<>"",H21<>"",O21<>"",P21<>""),IF(AND(G21=O21,H21=P21),Pool1,IF((G21-H21)=(O21-P21),Pool2,IF(AND((G21>H21),(O21>P21)),Pool3,IF(AND((H21>G21),(P21>O21)),Pool3,0)))),0) -> 0 | Y21: =F21 -> Dominican Republic | AB21: =I21 -> Spain | AF21: =IF(AND(G21<>"",H21<>"",Z21<>"",AA21<>""),IF(AND(G21=Z21,H21=AA21),Pool1,IF((G21-H21)=(Z21-AA21),Pool2,IF(AND((G21>H21),(Z21>AA21)),Pool3,IF(AND((H21>G21),(AA21>Z21)),Pool3,0)))),0) -> 0 | AJ21: =F21 -> Dominican Republic | AM21: =I21 -> Spain | AQ21: =IF(AND(G21<>"",H21<>"",AK21<>"",AL21<>""),IF(AND(G21=AK21,H21=AL21),Pool1,IF((G21-H21)=(AK21-AL21),Pool2,IF(AND((G21>H21),(AK21>AL21)),Pool3,IF(AND((H21>G21),(AL21>AK21)),Pool3,0)))),0) -> 0 | AU21: =F21 -> Dominican Republic | AX21: =I21 -> Spain | BB21: =IF(AND(G21<>"",H21<>"",AV21<>"",AW21<>""),IF(AND(G21=AV21,H21=AW21),Pool1,IF((G21-H21)=(AV21-AW21),Pool2,IF(AND((G21>H21),(AV21>AW21)),Pool3,IF(AND((H21>G21),(AW21>AV21)),Pool3,0)))),0) -> 0 | BF21: =F21 -> Dominican Republic | BI21: =I21 -> Spain | BM21: =IF(AND(G21<>"",H21<>"",BG21<>"",BH21<>""),IF(AND(G21=BG21,H21=BH21),Pool1,IF((G21-H21)=(BG21-BH21),Pool2,IF(AND((G21>H21),(BG21>BH21)),Pool3,IF(AND((H21>G21),(BH21>BG21)),Pool3,0)))),0) -> 0 | BQ21: =F21 -> Dominican Republic | BT21: =I21 -> Spain | BX21: =IF(AND(G21<>"",H21<>"",BR21<>"",BS21<>""),IF(AND(G21=BR21,H21=BS21),Pool1,IF((G21-H21)=(BR21-BS21),Pool2,IF(AND((G21>H21),(BR21>BS21)),Pool3,IF(AND((H21>G21),(BS21>BR21)),Pool3,0)))),0) -> 0 | CB21: =F21 -> Dominican Republic | CE21: =I21 -> Spain | CI21: =IF(AND(G21<>"",H21<>"",CC21<>"",CD21<>""),IF(AND(G21=CC21,H21=CD21),Pool1,IF((G21-H21)=(CC21-CD21),Pool2,IF(AND((G21>H21),(CC21>CD21)),Pool3,IF(AND((H21>G21),(CD21>CC21)),Pool3,0)))),0) -> 0 | CM21: =F21 -> Dominican Republic | CP21: =I21 -> Spain | CT21: =IF(AND(G21<>"",H21<>"",CN21<>"",CO21<>""),IF(AND(G21=CN21,H21=CO21),Pool1,IF((G21-H21)=(CN21-CO21),Pool2,IF(AND((G21>H21),(CN21>CO21)),Pool3,IF(AND((H21>G21),(CO21>CN21)),Pool3,0)))),0) -> 0 | CX21: =F21 -> Dominican Republic | DA21: =I21 -> Spain | DE21: =IF(AND(G21<>"",H21<>"",CY21<>"",CZ21<>""),IF(AND(G21=CY21,H21=CZ21),Pool1,IF((G21-H21)=(CY21-CZ21),Pool2,IF(AND((G21>H21),(CY21>CZ21)),Pool3,IF(AND((H21>G21),(CZ21>CY21)),Pool3,0)))),0) -> 0 | DI21: =F21 -> Dominican Republic | DL21: =I21 -> Spain | DP21: =IF(AND(G21<>"",H21<>"",DJ21<>"",DK21<>""),IF(AND(G21=DJ21,H21=DK21),Pool1,IF((G21-H21)=(DJ21-DK21),Pool2,IF(AND((G21>H21),(DJ21>DK21)),Pool3,IF(AND((H21>G21),(DK21>DJ21)),Pool3,0)))),0) -> 0
A22: =IF(G22<>"",A21+1,A21) -> 0 | C22: 15 | D22: D | E22: 45500.708 | F22: =I14 -> Israel | I22: =I15 -> Paraguay | N22: =F22 -> Israel | Q22: =I22 -> Paraguay | U22: =IF(AND(G22<>"",H22<>"",O22<>"",P22<>""),IF(AND(G22=O22,H22=P22),Pool1,IF((G22-H22)=(O22-P22),Pool2,IF(AND((G22>H22),(O22>P22)),Pool3,IF(AND((H22>G22),(P22>O22)),Pool3,0)))),0) -> 0 | Y22: =F22 -> Israel | AB22: =I22 -> Paraguay | AF22: =IF(AND(G22<>"",H22<>"",Z22<>"",AA22<>""),IF(AND(G22=Z22,H22=AA22),Pool1,IF((G22-H22)=(Z22-AA22),Pool2,IF(AND((G22>H22),(Z22>AA22)),Pool3,IF(AND((H22>G22),(AA22>Z22)),Pool3,0)))),0) -> 0 | AJ22: =F22 -> Israel | AM22: =I22 -> Paraguay | AQ22: =IF(AND(G22<>"",H22<>"",AK22<>"",AL22<>""),IF(AND(G22=AK22,H22=AL22),Pool1,IF((G22-H22)=(AK22-AL22),Pool2,IF(AND((G22>H22),(AK22>AL22)),Pool3,IF(AND((H22>G22),(AL22>AK22)),Pool3,0)))),0) -> 0 | AU22: =F22 -> Israel | AX22: =I22 -> Paraguay | BB22: =IF(AND(G22<>"",H22<>"",AV22<>"",AW22<>""),IF(AND(G22=AV22,H22=AW22),Pool1,IF((G22-H22)=(AV22-AW22),Pool2,IF(AND((G22>H22),(AV22>AW22)),Pool3,IF(AND((H22>G22),(AW22>AV22)),Pool3,0)))),0) -> 0 | BF22: =F22 -> Israel | BI22: =I22 -> Paraguay | BM22: =IF(AND(G22<>"",H22<>"",BG22<>"",BH22<>""),IF(AND(G22=BG22,H22=BH22),Pool1,IF((G22-H22)=(BG22-BH22),Pool2,IF(AND((G22>H22),(BG22>BH22)),Pool3,IF(AND((H22>G22),(BH22>BG22)),Pool3,0)))),0) -> 0 | BQ22: =F22 -> Israel | BT22: =I22 -> Paraguay | BX22: =IF(AND(G22<>"",H22<>"",BR22<>"",BS22<>""),IF(AND(G22=BR22,H22=BS22),Pool1,IF((G22-H22)=(BR22-BS22),Pool2,IF(AND((G22>H22),(BR22>BS22)),Pool3,IF(AND((H22>G22),(BS22>BR22)),Pool3,0)))),0) -> 0 | CB22: =F22 -> Israel | CE22: =I22 -> Paraguay | CI22: =IF(AND(G22<>"",H22<>"",CC22<>"",CD22<>""),IF(AND(G22=CC22,H22=CD22),Pool1,IF((G22-H22)=(CC22-CD22),Pool2,IF(AND((G22>H22),(CC22>CD22)),Pool3,IF(AND((H22>G22),(CD22>CC22)),Pool3,0)))),0) -> 0 | CM22: =F22 -> Israel | CP22: =I22 -> Paraguay | CT22: =IF(AND(G22<>"",H22<>"",CN22<>"",CO22<>""),IF(AND(G22=CN22,H22=CO22),Pool1,IF((G22-H22)=(CN22-CO22),Pool2,IF(AND((G22>H22),(CN22>CO22)),Pool3,IF(AND((H22>G22),(CO22>CN22)),Pool3,0)))),0) -> 0 | CX22: =F22 -> Israel | DA22: =I22 -> Paraguay | DE22: =IF(AND(G22<>"",H22<>"",CY22<>"",CZ22<>""),IF(AND(G22=CY22,H22=CZ22),Pool1,IF((G22-H22)=(CY22-CZ22),Pool2,IF(AND((G22>H22),(CY22>CZ22)),Pool3,IF(AND((H22>G22),(CZ22>CY22)),Pool3,0)))),0) -> 0 | DI22: =F22 -> Israel | DL22: =I22 -> Paraguay | DP22: =IF(AND(G22<>"",H22<>"",DJ22<>"",DK22<>""),IF(AND(G22=DJ22,H22=DK22),Pool1,IF((G22-H22)=(DJ22-DK22),Pool2,IF(AND((G22>H22),(DJ22>DK22)),Pool3,IF(AND((H22>G22),(DK22>DJ22)),Pool3,0)))),0) -> 0
A23: =IF(G23<>"",A22+1,A22) -> 0 | C23: 16 | D23: D | E23: 45500.375 | F23: =F15 -> Japan | I23: =F14 -> Mali | N23: =F23 -> Japan | Q23: =I23 -> Mali | U23: =IF(AND(G23<>"",H23<>"",O23<>"",P23<>""),IF(AND(G23=O23,H23=P23),Pool1,IF((G23-H23)=(O23-P23),Pool2,IF(AND((G23>H23),(O23>P23)),Pool3,IF(AND((H23>G23),(P23>O23)),Pool3,0)))),0) -> 0 | Y23: =F23 -> Japan | AB23: =I23 -> Mali | AF23: =IF(AND(G23<>"",H23<>"",Z23<>"",AA23<>""),IF(AND(G23=Z23,H23=AA23),Pool1,IF((G23-H23)=(Z23-AA23),Pool2,IF(AND((G23>H23),(Z23>AA23)),Pool3,IF(AND((H23>G23),(AA23>Z23)),Pool3,0)))),0) -> 0 | AJ23: =F23 -> Japan | AM23: =I23 -> Mali | AQ23: =IF(AND(G23<>"",H23<>"",AK23<>"",AL23<>""),IF(AND(G23=AK23,H23=AL23),Pool1,IF((G23-H23)=(AK23-AL23),Pool2,IF(AND((G23>H23),(AK23>AL23)),Pool3,IF(AND((H23>G23),(AL23>AK23)),Pool3,0)))),0) -> 0 | AU23: =F23 -> Japan | AX23: =I23 -> Mali | BB23: =IF(AND(G23<>"",H23<>"",AV23<>"",AW23<>""),IF(AND(G23=AV23,H23=AW23),Pool1,IF((G23-H23)=(AV23-AW23),Pool2,IF(AND((G23>H23),(AV23>AW23)),Pool3,IF(AND((H23>G23),(AW23>AV23)),Pool3,0)))),0) -> 0 | BF23: =F23 -> Japan | BI23: =I23 -> Mali | BM23: =IF(AND(G23<>"",H23<>"",BG23<>"",BH23<>""),IF(AND(G23=BG23,H23=BH23),Pool1,IF((G23-H23)=(BG23-BH23),Pool2,IF(AND((G23>H23),(BG23>BH23)),Pool3,IF(AND((H23>G23),(BH23>BG23)),Pool3,0)))),0) -> 0 | BQ23: =F23 -> Japan | BT23: =I23 -> Mali | BX23: =IF(AND(G23<>"",H23<>"",BR23<>"",BS23<>""),IF(AND(G23=BR23,H23=BS23),Pool1,IF((G23-H23)=(BR23-BS23),Pool2,IF(AND((G23>H23),(BR23>BS23)),Pool3,IF(AND((H23>G23),(BS23>BR23)),Pool3,0)))),0) -> 0 | CB23: =F23 -> Japan | CE23: =I23 -> Mali | CI23: =IF(AND(G23<>"",H23<>"",CC23<>"",CD23<>""),IF(AND(G23=CC23,H23=CD23),Pool1,IF((G23-H23)=(CC23-CD23),Pool2,IF(AND((G23>H23),(CC23>CD23)),Pool3,IF(AND((H23>G23),(CD23>CC23)),Pool3,0)))),0) -> 0 | CM23: =F23 -> Japan | CP23: =I23 -> Mali | CT23: =IF(AND(G23<>"",H23<>"",CN23<>"",CO23<>""),IF(AND(G23=CN23,H23=CO23),Pool1,IF((G23-H23)=(CN23-CO23),Pool2,IF(AND((G23>H23),(CN23>CO23)),Pool3,IF(AND((H23>G23),(CO23>CN23)),Pool3,0)))),0) -> 0 | CX23: =F23 -> Japan | DA23: =I23 -> Mali | DE23: =IF(AND(G23<>"",H23<>"",CY23<>"",CZ23<>""),IF(AND(G23=CY23,H23=CZ23),Pool1,IF((G23-H23)=(CY23-CZ23),Pool2,IF(AND((G23>H23),(CY23>CZ23)),Pool3,IF(AND((H23>G23),(CZ23>CY23)),Pool3,0)))),0) -> 0 | DI23: =F23 -> Japan | DL23: =I23 -> Mali | DP23: =IF(AND(G23<>"",H23<>"",DJ23<>"",DK23<>""),IF(AND(G23=DJ23,H23=DK23),Pool1,IF((G23-H23)=(DJ23-DK23),Pool2,IF(AND((G23>H23),(DJ23>DK23)),Pool3,IF(AND((H23>G23),(DK23>DJ23)),Pool3,0)))),0) -> 0
A24: =IF(G24<>"",A23+1,A23) -> 0 | C24: 17 | D24: A | E24: 45503.292 | F24: =I9 -> New Zealand | I24: =F8 -> France | N24: =F24 -> New Zealand | Q24: =I24 -> France | U24: =IF(AND(G24<>"",H24<>"",O24<>"",P24<>""),IF(AND(G24=O24,H24=P24),Pool1,IF((G24-H24)=(O24-P24),Pool2,IF(AND((G24>H24),(O24>P24)),Pool3,IF(AND((H24>G24),(P24>O24)),Pool3,0)))),0) -> 0 | Y24: =F24 -> New Zealand | AB24: =I24 -> France | AF24: =IF(AND(G24<>"",H24<>"",Z24<>"",AA24<>""),IF(AND(G24=Z24,H24=AA24),Pool1,IF((G24-H24)=(Z24-AA24),Pool2,IF(AND((G24>H24),(Z24>AA24)),Pool3,IF(AND((H24>G24),(AA24>Z24)),Pool3,0)))),0) -> 0 | AJ24: =F24 -> New Zealand | AM24: =I24 -> France | AQ24: =IF(AND(G24<>"",H24<>"",AK24<>"",AL24<>""),IF(AND(G24=AK24,H24=AL24),Pool1,IF((G24-H24)=(AK24-AL24),Pool2,IF(AND((G24>H24),(AK24>AL24)),Pool3,IF(AND((H24>G24),(AL24>AK24)),Pool3,0)))),0) -> 0 | AU24: =F24 -> New Zealand | AX24: =I24 -> France | BB24: =IF(AND(G24<>"",H24<>"",AV24<>"",AW24<>""),IF(AND(G24=AV24,H24=AW24),Pool1,IF((G24-H24)=(AV24-AW24),Pool2,IF(AND((G24>H24),(AV24>AW24)),Pool3,IF(AND((H24>G24),(AW24>AV24)),Pool3,0)))),0) -> 0 | BF24: =F24 -> New Zealand | BI24: =I24 -> France | BM24: =IF(AND(G24<>"",H24<>"",BG24<>"",BH24<>""),IF(AND(G24=BG24,H24=BH24),Pool1,IF((G24-H24)=(BG24-BH24),Pool2,IF(AND((G24>H24),(BG24>BH24)),Pool3,IF(AND((H24>G24),(BH24>BG24)),Pool3,0)))),0) -> 0 | BQ24: =F24 -> New Zealand | BT24: =I24 -> France | BX24: =IF(AND(G24<>"",H24<>"",BR24<>"",BS24<>""),IF(AND(G24=BR24,H24=BS24),Pool1,IF((G24-H24)=(BR24-BS24),Pool2,IF(AND((G24>H24),(BR24>BS24)),Pool3,IF(AND((H24>G24),(BS24>BR24)),Pool3,0)))),0) -> 0 | CB24: =F24 -> New Zealand | CE24: =I24 -> France | CI24: =IF(AND(G24<>"",H24<>"",CC24<>"",CD24<>""),IF(AND(G24=CC24,H24=CD24),Pool1,IF((G24-H24)=(CC24-CD24),Pool2,IF(AND((G24>H24),(CC24>CD24)),Pool3,IF(AND((H24>G24),(CD24>CC24)),Pool3,0)))),0) -> 0 | CM24: =F24 -> New Zealand | CP24: =I24 -> France | CT24: =IF(AND(G24<>"",H24<>"",CN24<>"",CO24<>""),IF(AND(G24=CN24,H24=CO24),Pool1,IF((G24-H24)=(CN24-CO24),Pool2,IF(AND((G24>H24),(CN24>CO24)),Pool3,IF(AND((H24>G24),(CO24>CN24)),Pool3,0)))),0) -> 0 | CX24: =F24 -> New Zealand | DA24: =I24 -> France | DE24: =IF(AND(G24<>"",H24<>"",CY24<>"",CZ24<>""),IF(AND(G24=CY24,H24=CZ24),Pool1,IF((G24-H24)=(CY24-CZ24),Pool2,IF(AND((G24>H24),(CY24>CZ24)),Pool3,IF(AND((H24>G24),(CZ24>CY24)),Pool3,0)))),0) -> 0 | DI24: =F24 -> New Zealand | DL24: =I24 -> France | DP24: =IF(AND(G24<>"",H24<>"",DJ24<>"",DK24<>""),IF(AND(G24=DJ24,H24=DK24),Pool1,IF((G24-H24)=(DJ24-DK24),Pool2,IF(AND((G24>H24),(DJ24>DK24)),Pool3,IF(AND((H24>G24),(DK24>DJ24)),Pool3,0)))),0) -> 0
A25: =IF(G25<>"",A24+1,A24) -> 0 | C25: 18 | D25: A | E25: 45503.292 | F25: =I8 -> United States | I25: =F9 -> Guinea | N25: =F25 -> United States | Q25: =I25 -> Guinea | U25: =IF(AND(G25<>"",H25<>"",O25<>"",P25<>""),IF(AND(G25=O25,H25=P25),Pool1,IF((G25-H25)=(O25-P25),Pool2,IF(AND((G25>H25),(O25>P25)),Pool3,IF(AND((H25>G25),(P25>O25)),Pool3,0)))),0) -> 0 | Y25: =F25 -> United States | AB25: =I25 -> Guinea | AF25: =IF(AND(G25<>"",H25<>"",Z25<>"",AA25<>""),IF(AND(G25=Z25,H25=AA25),Pool1,IF((G25-H25)=(Z25-AA25),Pool2,IF(AND((G25>H25),(Z25>AA25)),Pool3,IF(AND((H25>G25),(AA25>Z25)),Pool3,0)))),0) -> 0 | AJ25: =F25 -> United States | AM25: =I25 -> Guinea | AQ25: =IF(AND(G25<>"",H25<>"",AK25<>"",AL25<>""),IF(AND(G25=AK25,H25=AL25),Pool1,IF((G25-H25)=(AK25-AL25),Pool2,IF(AND((G25>H25),(AK25>AL25)),Pool3,IF(AND((H25>G25),(AL25>AK25)),Pool3,0)))),0) -> 0 | AU25: =F25 -> United States | AX25: =I25 -> Guinea | BB25: =IF(AND(G25<>"",H25<>"",AV25<>"",AW25<>""),IF(AND(G25=AV25,H25=AW25),Pool1,IF((G25-H25)=(AV25-AW25),Pool2,IF(AND((G25>H25),(AV25>AW25)),Pool3,IF(AND((H25>G25),(AW25>AV25)),Pool3,0)))),0) -> 0 | BF25: =F25 -> United States | BI25: =I25 -> Guinea | BM25: =IF(AND(G25<>"",H25<>"",BG25<>"",BH25<>""),IF(AND(G25=BG25,H25=BH25),Pool1,IF((G25-H25)=(BG25-BH25),Pool2,IF(AND((G25>H25),(BG25>BH25)),Pool3,IF(AND((H25>G25),(BH25>BG25)),Pool3,0)))),0) -> 0 | BQ25: =F25 -> United States | BT25: =I25 -> Guinea | BX25: =IF(AND(G25<>"",H25<>"",BR25<>"",BS25<>""),IF(AND(G25=BR25,H25=BS25),Pool1,IF((G25-H25)=(BR25-BS25),Pool2,IF(AND((G25>H25),(BR25>BS25)),Pool3,IF(AND((H25>G25),(BS25>BR25)),Pool3,0)))),0) -> 0 | CB25: =F25 -> United States | CE25: =I25 -> Guinea | CI25: =IF(AND(G25<>"",H25<>"",CC25<>"",CD25<>""),IF(AND(G25=CC25,H25=CD25),Pool1,IF((G25-H25)=(CC25-CD25),Pool2,IF(AND((G25>H25),(CC25>CD25)),Pool3,IF(AND((H25>G25),(CD25>CC25)),Pool3,0)))),0) -> 0 | CM25: =F25 -> United States | CP25: =I25 -> Guinea | CT25: =IF(AND(G25<>"",H25<>"",CN25<>"",CO25<>""),IF(AND(G25=CN25,H25=CO25),Pool1,IF((G25-H25)=(CN25-CO25),Pool2,IF(AND((G25>H25),(CN25>CO25)),Pool3,IF(AND((H25>G25),(CO25>CN25)),Pool3,0)))),0) -> 0 | CX25: =F25 -> United States | DA25: =I25 -> Guinea | DE25: =IF(AND(G25<>"",H25<>"",CY25<>"",CZ25<>""),IF(AND(G25=CY25,H25=CZ25),Pool1,IF((G25-H25)=(CY25-CZ25),Pool2,IF(AND((G25>H25),(CY25>CZ25)),Pool3,IF(AND((H25>G25),(CZ25>CY25)),Pool3,0)))),0) -> 0 | DI25: =F25 -> United States | DL25: =I25 -> Guinea | DP25: =IF(AND(G25<>"",H25<>"",DJ25<>"",DK25<>""),IF(AND(G25=DJ25,H25=DK25),Pool1,IF((G25-H25)=(DJ25-DK25),Pool2,IF(AND((G25>H25),(DJ25>DK25)),Pool3,IF(AND((H25>G25),(DK25>DJ25)),Pool3,0)))),0) -> 0
A26: =IF(G26<>"",A25+1,A25) -> 0 | C26: 19 | D26: B | E26: 45503.708 | F26: =I11 -> Ukraine | I26: =F10 -> Argentina | N26: =F26 -> Ukraine | Q26: =I26 -> Argentina | U26: =IF(AND(G26<>"",H26<>"",O26<>"",P26<>""),IF(AND(G26=O26,H26=P26),Pool1,IF((G26-H26)=(O26-P26),Pool2,IF(AND((G26>H26),(O26>P26)),Pool3,IF(AND((H26>G26),(P26>O26)),Pool3,0)))),0) -> 0 | Y26: =F26 -> Ukraine | AB26: =I26 -> Argentina | AF26: =IF(AND(G26<>"",H26<>"",Z26<>"",AA26<>""),IF(AND(G26=Z26,H26=AA26),Pool1,IF((G26-H26)=(Z26-AA26),Pool2,IF(AND((G26>H26),(Z26>AA26)),Pool3,IF(AND((H26>G26),(AA26>Z26)),Pool3,0)))),0) -> 0 | AJ26: =F26 -> Ukraine | AM26: =I26 -> Argentina | AQ26: =IF(AND(G26<>"",H26<>"",AK26<>"",AL26<>""),IF(AND(G26=AK26,H26=AL26),Pool1,IF((G26-H26)=(AK26-AL26),Pool2,IF(AND((G26>H26),(AK26>AL26)),Pool3,IF(AND((H26>G26),(AL26>AK26)),Pool3,0)))),0) -> 0 | AU26: =F26 -> Ukraine | AX26: =I26 -> Argentina | BB26: =IF(AND(G26<>"",H26<>"",AV26<>"",AW26<>""),IF(AND(G26=AV26,H26=AW26),Pool1,IF((G26-H26)=(AV26-AW26),Pool2,IF(AND((G26>H26),(AV26>AW26)),Pool3,IF(AND((H26>G26),(AW26>AV26)),Pool3,0)))),0) -> 0 | BF26: =F26 -> Ukraine | BI26: =I26 -> Argentina | BM26: =IF(AND(G26<>"",H26<>"",BG26<>"",BH26<>""),IF(AND(G26=BG26,H26=BH26),Pool1,IF((G26-H26)=(BG26-BH26),Pool2,IF(AND((G26>H26),(BG26>BH26)),Pool3,IF(AND((H26>G26),(BH26>BG26)),Pool3,0)))),0) -> 0 | BQ26: =F26 -> Ukraine | BT26: =I26 -> Argentina | BX26: =IF(AND(G26<>"",H26<>"",BR26<>"",BS26<>""),IF(AND(G26=BR26,H26=BS26),Pool1,IF((G26-H26)=(BR26-BS26),Pool2,IF(AND((G26>H26),(BR26>BS26)),Pool3,IF(AND((H26>G26),(BS26>BR26)),Pool3,0)))),0) -> 0 | CB26: =F26 -> Ukraine | CE26: =I26 -> Argentina | CI26: =IF(AND(G26<>"",H26<>"",CC26<>"",CD26<>""),IF(AND(G26=CC26,H26=CD26),Pool1,IF((G26-H26)=(CC26-CD26),Pool2,IF(AND((G26>H26),(CC26>CD26)),Pool3,IF(AND((H26>G26),(CD26>CC26)),Pool3,0)))),0) -> 0 | CM26: =F26 -> Ukraine | CP26: =I26 -> Argentina | CT26: =IF(AND(G26<>"",H26<>"",CN26<>"",CO26<>""),IF(AND(G26=CN26,H26=CO26),Pool1,IF((G26-H26)=(CN26-CO26),Pool2,IF(AND((G26>H26),(CN26>CO26)),Pool3,IF(AND((H26>G26),(CO26>CN26)),Pool3,0)))),0) -> 0 | CX26: =F26 -> Ukraine | DA26: =I26 -> Argentina | DE26: =IF(AND(G26<>"",H26<>"",CY26<>"",CZ26<>""),IF(AND(G26=CY26,H26=CZ26),Pool1,IF((G26-H26)=(CY26-CZ26),Pool2,IF(AND((G26>H26),(CY26>CZ26)),Pool3,IF(AND((H26>G26),(CZ26>CY26)),Pool3,0)))),0) -> 0 | DI26: =F26 -> Ukraine | DL26: =I26 -> Argentina | DP26: =IF(AND(G26<>"",H26<>"",DJ26<>"",DK26<>""),IF(AND(G26=DJ26,H26=DK26),Pool1,IF((G26-H26)=(DJ26-DK26),Pool2,IF(AND((G26>H26),(DJ26>DK26)),Pool3,IF(AND((H26>G26),(DK26>DJ26)),Pool3,0)))),0) -> 0
A27: =IF(G27<>"",A26+1,A26) -> 0 | C27: 20 | D27: B | E27: 45503.708 | F27: =I10 -> Morocco | I27: =F11 -> Iraq | N27: =F27 -> Morocco | Q27: =I27 -> Iraq | U27: =IF(AND(G27<>"",H27<>"",O27<>"",P27<>""),IF(AND(G27=O27,H27=P27),Pool1,IF((G27-H27)=(O27-P27),Pool2,IF(AND((G27>H27),(O27>P27)),Pool3,IF(AND((H27>G27),(P27>O27)),Pool3,0)))),0) -> 0 | Y27: =F27 -> Morocco | AB27: =I27 -> Iraq | AF27: =IF(AND(G27<>"",H27<>"",Z27<>"",AA27<>""),IF(AND(G27=Z27,H27=AA27),Pool1,IF((G27-H27)=(Z27-AA27),Pool2,IF(AND((G27>H27),(Z27>AA27)),Pool3,IF(AND((H27>G27),(AA27>Z27)),Pool3,0)))),0) -> 0 | AJ27: =F27 -> Morocco | AM27: =I27 -> Iraq | AQ27: =IF(AND(G27<>"",H27<>"",AK27<>"",AL27<>""),IF(AND(G27=AK27,H27=AL27),Pool1,IF((G27-H27)=(AK27-AL27),Pool2,IF(AND((G27>H27),(AK27>AL27)),Pool3,IF(AND((H27>G27),(AL27>AK27)),Pool3,0)))),0) -> 0 | AU27: =F27 -> Morocco | AX27: =I27 -> Iraq | BB27: =IF(AND(G27<>"",H27<>"",AV27<>"",AW27<>""),IF(AND(G27=AV27,H27=AW27),Pool1,IF((G27-H27)=(AV27-AW27),Pool2,IF(AND((G27>H27),(AV27>AW27)),Pool3,IF(AND((H27>G27),(AW27>AV27)),Pool3,0)))),0) -> 0 | BF27: =F27 -> Morocco | BI27: =I27 -> Iraq | BM27: =IF(AND(G27<>"",H27<>"",BG27<>"",BH27<>""),IF(AND(G27=BG27,H27=BH27),Pool1,IF((G27-H27)=(BG27-BH27),Pool2,IF(AND((G27>H27),(BG27>BH27)),Pool3,IF(AND((H27>G27),(BH27>BG27)),Pool3,0)))),0) -> 0 | BQ27: =F27 -> Morocco | BT27: =I27 -> Iraq | BX27: =IF(AND(G27<>"",H27<>"",BR27<>"",BS27<>""),IF(AND(G27=BR27,H27=BS27),Pool1,IF((G27-H27)=(BR27-BS27),Pool2,IF(AND((G27>H27),(BR27>BS27)),Pool3,IF(AND((H27>G27),(BS27>BR27)),Pool3,0)))),0) -> 0 | CB27: =F27 -> Morocco | CE27: =I27 -> Iraq | CI27: =IF(AND(G27<>"",H27<>"",CC27<>"",CD27<>""),IF(AND(G27=CC27,H27=CD27),Pool1,IF((G27-H27)=(CC27-CD27),Pool2,IF(AND((G27>H27),(CC27>CD27)),Pool3,IF(AND((H27>G27),(CD27>CC27)),Pool3,0)))),0) -> 0 | CM27: =F27 -> Morocco | CP27: =I27 -> Iraq | CT27: =IF(AND(G27<>"",H27<>"",CN27<>"",CO27<>""),IF(AND(G27=CN27,H27=CO27),Pool1,IF((G27-H27)=(CN27-CO27),Pool2,IF(AND((G27>H27),(CN27>CO27)),Pool3,IF(AND((H27>G27),(CO27>CN27)),Pool3,0)))),0) -> 0 | CX27: =F27 -> Morocco | DA27: =I27 -> Iraq | DE27: =IF(AND(G27<>"",H27<>"",CY27<>"",CZ27<>""),IF(AND(G27=CY27,H27=CZ27),Pool1,IF((G27-H27)=(CY27-CZ27),Pool2,IF(AND((G27>H27),(CY27>CZ27)),Pool3,IF(AND((H27>G27),(CZ27>CY27)),Pool3,0)))),0) -> 0 | DI27: =F27 -> Morocco | DL27: =I27 -> Iraq | DP27: =IF(AND(G27<>"",H27<>"",DJ27<>"",DK27<>""),IF(AND(G27=DJ27,H27=DK27),Pool1,IF((G27-H27)=(DJ27-DK27),Pool2,IF(AND((G27>H27),(DJ27>DK27)),Pool3,IF(AND((H27>G27),(DK27>DJ27)),Pool3,0)))),0) -> 0
A28: =IF(G28<>"",A27+1,A27) -> 0 | C28: 21 | D28: C | E28: 45503.625 | F28: =I13 -> Dominican Republic | I28: =F12 -> Uzbekistan | N28: =F28 -> Dominican Republic | Q28: =I28 -> Uzbekistan | U28: =IF(AND(G28<>"",H28<>"",O28<>"",P28<>""),IF(AND(G28=O28,H28=P28),Pool1,IF((G28-H28)=(O28-P28),Pool2,IF(AND((G28>H28),(O28>P28)),Pool3,IF(AND((H28>G28),(P28>O28)),Pool3,0)))),0) -> 0 | Y28: =F28 -> Dominican Republic | AB28: =I28 -> Uzbekistan | AF28: =IF(AND(G28<>"",H28<>"",Z28<>"",AA28<>""),IF(AND(G28=Z28,H28=AA28),Pool1,IF((G28-H28)=(Z28-AA28),Pool2,IF(AND((G28>H28),(Z28>AA28)),Pool3,IF(AND((H28>G28),(AA28>Z28)),Pool3,0)))),0) -> 0 | AJ28: =F28 -> Dominican Republic | AM28: =I28 -> Uzbekistan | AQ28: =IF(AND(G28<>"",H28<>"",AK28<>"",AL28<>""),IF(AND(G28=AK28,H28=AL28),Pool1,IF((G28-H28)=(AK28-AL28),Pool2,IF(AND((G28>H28),(AK28>AL28)),Pool3,IF(AND((H28>G28),(AL28>AK28)),Pool3,0)))),0) -> 0 | AU28: =F28 -> Dominican Republic | AX28: =I28 -> Uzbekistan | BB28: =IF(AND(G28<>"",H28<>"",AV28<>"",AW28<>""),IF(AND(G28=AV28,H28=AW28),Pool1,IF((G28-H28)=(AV28-AW28),Pool2,IF(AND((G28>H28),(AV28>AW28)),Pool3,IF(AND((H28>G28),(AW28>AV28)),Pool3,0)))),0) -> 0 | BF28: =F28 -> Dominican Republic | BI28: =I28 -> Uzbekistan | BM28: =IF(AND(G28<>"",H28<>"",BG28<>"",BH28<>""),IF(AND(G28=BG28,H28=BH28),Pool1,IF((G28-H28)=(BG28-BH28),Pool2,IF(AND((G28>H28),(BG28>BH28)),Pool3,IF(AND((H28>G28),(BH28>BG28)),Pool3,0)))),0) -> 0 | BQ28: =F28 -> Dominican Republic | BT28: =I28 -> Uzbekistan | BX28: =IF(AND(G28<>"",H28<>"",BR28<>"",BS28<>""),IF(AND(G28=BR28,H28=BS28),Pool1,IF((G28-H28)=(BR28-BS28),Pool2,IF(AND((G28>H28),(BR28>BS28)),Pool3,IF(AND((H28>G28),(BS28>BR28)),Pool3,0)))),0) -> 0 | CB28: =F28 -> Dominican Republic | CE28: =I28 -> Uzbekistan | CI28: =IF(AND(G28<>"",H28<>"",CC28<>"",CD28<>""),IF(AND(G28=CC28,H28=CD28),Pool1,IF((G28-H28)=(CC28-CD28),Pool2,IF(AND((G28>H28),(CC28>CD28)),Pool3,IF(AND((H28>G28),(CD28>CC28)),Pool3,0)))),0) -> 0 | CM28: =F28 -> Dominican Republic | CP28: =I28 -> Uzbekistan | CT28: =IF(AND(G28<>"",H28<>"",CN28<>"",CO28<>""),IF(AND(G28=CN28,H28=CO28),Pool1,IF((G28-H28)=(CN28-CO28),Pool2,IF(AND((G28>H28),(CN28>CO28)),Pool3,IF(AND((H28>G28),(CO28>CN28)),Pool3,0)))),0) -> 0 | CX28: =F28 -> Dominican Republic | DA28: =I28 -> Uzbekistan | DE28: =IF(AND(G28<>"",H28<>"",CY28<>"",CZ28<>""),IF(AND(G28=CY28,H28=CZ28),Pool1,IF((G28-H28)=(CY28-CZ28),Pool2,IF(AND((G28>H28),(CY28>CZ28)),Pool3,IF(AND((H28>G28),(CZ28>CY28)),Pool3,0)))),0) -> 0 | DI28: =F28 -> Dominican Republic | DL28: =I28 -> Uzbekistan | DP28: =IF(AND(G28<>"",H28<>"",DJ28<>"",DK28<>""),IF(AND(G28=DJ28,H28=DK28),Pool1,IF((G28-H28)=(DJ28-DK28),Pool2,IF(AND((G28>H28),(DJ28>DK28)),Pool3,IF(AND((H28>G28),(DK28>DJ28)),Pool3,0)))),0) -> 0
A29: =IF(G29<>"",A28+1,A28) -> 0 | C29: 22 | D29: C | E29: 45503.625 | F29: =I12 -> Spain | I29: =F13 -> Egypt | N29: =F29 -> Spain | Q29: =I29 -> Egypt | U29: =IF(AND(G29<>"",H29<>"",O29<>"",P29<>""),IF(AND(G29=O29,H29=P29),Pool1,IF((G29-H29)=(O29-P29),Pool2,IF(AND((G29>H29),(O29>P29)),Pool3,IF(AND((H29>G29),(P29>O29)),Pool3,0)))),0) -> 0 | Y29: =F29 -> Spain | AB29: =I29 -> Egypt | AF29: =IF(AND(G29<>"",H29<>"",Z29<>"",AA29<>""),IF(AND(G29=Z29,H29=AA29),Pool1,IF((G29-H29)=(Z29-AA29),Pool2,IF(AND((G29>H29),(Z29>AA29)),Pool3,IF(AND((H29>G29),(AA29>Z29)),Pool3,0)))),0) -> 0 | AJ29: =F29 -> Spain | AM29: =I29 -> Egypt | AQ29: =IF(AND(G29<>"",H29<>"",AK29<>"",AL29<>""),IF(AND(G29=AK29,H29=AL29),Pool1,IF((G29-H29)=(AK29-AL29),Pool2,IF(AND((G29>H29),(AK29>AL29)),Pool3,IF(AND((H29>G29),(AL29>AK29)),Pool3,0)))),0) -> 0 | AU29: =F29 -> Spain | AX29: =I29 -> Egypt | BB29: =IF(AND(G29<>"",H29<>"",AV29<>"",AW29<>""),IF(AND(G29=AV29,H29=AW29),Pool1,IF((G29-H29)=(AV29-AW29),Pool2,IF(AND((G29>H29),(AV29>AW29)),Pool3,IF(AND((H29>G29),(AW29>AV29)),Pool3,0)))),0) -> 0 | BF29: =F29 -> Spain | BI29: =I29 -> Egypt | BM29: =IF(AND(G29<>"",H29<>"",BG29<>"",BH29<>""),IF(AND(G29=BG29,H29=BH29),Pool1,IF((G29-H29)=(BG29-BH29),Pool2,IF(AND((G29>H29),(BG29>BH29)),Pool3,IF(AND((H29>G29),(BH29>BG29)),Pool3,0)))),0) -> 0 | BQ29: =F29 -> Spain | BT29: =I29 -> Egypt | BX29: =IF(AND(G29<>"",H29<>"",BR29<>"",BS29<>""),IF(AND(G29=BR29,H29=BS29),Pool1,IF((G29-H29)=(BR29-BS29),Pool2,IF(AND((G29>H29),(BR29>BS29)),Pool3,IF(AND((H29>G29),(BS29>BR29)),Pool3,0)))),0) -> 0 | CB29: =F29 -> Spain | CE29: =I29 -> Egypt | CI29: =IF(AND(G29<>"",H29<>"",CC29<>"",CD29<>""),IF(AND(G29=CC29,H29=CD29),Pool1,IF((G29-H29)=(CC29-CD29),Pool2,IF(AND((G29>H29),(CC29>CD29)),Pool3,IF(AND((H29>G29),(CD29>CC29)),Pool3,0)))),0) -> 0 | CM29: =F29 -> Spain | CP29: =I29 -> Egypt | CT29: =IF(AND(G29<>"",H29<>"",CN29<>"",CO29<>""),IF(AND(G29=CN29,H29=CO29),Pool1,IF((G29-H29)=(CN29-CO29),Pool2,IF(AND((G29>H29),(CN29>CO29)),Pool3,IF(AND((H29>G29),(CO29>CN29)),Pool3,0)))),0) -> 0 | CX29: =F29 -> Spain | DA29: =I29 -> Egypt | DE29: =IF(AND(G29<>"",H29<>"",CY29<>"",CZ29<>""),IF(AND(G29=CY29,H29=CZ29),Pool1,IF((G29-H29)=(CY29-CZ29),Pool2,IF(AND((G29>H29),(CY29>CZ29)),Pool3,IF(AND((H29>G29),(CZ29>CY29)),Pool3,0)))),0) -> 0 | DI29: =F29 -> Spain | DL29: =I29 -> Egypt | DP29: =IF(AND(G29<>"",H29<>"",DJ29<>"",DK29<>""),IF(AND(G29=DJ29,H29=DK29),Pool1,IF((G29-H29)=(DJ29-DK29),Pool2,IF(AND((G29>H29),(DJ29>DK29)),Pool3,IF(AND((H29>G29),(DK29>DJ29)),Pool3,0)))),0) -> 0
A30: =IF(G30<>"",A29+1,A29) -> 0 | C30: 23 | D30: D | E30: 45503.875 | F30: =I14 -> Israel | I30: =F15 -> Japan | N30: =F30 -> Israel | Q30: =I30 -> Japan | U30: =IF(AND(G30<>"",H30<>"",O30<>"",P30<>""),IF(AND(G30=O30,H30=P30),Pool1,IF((G30-H30)=(O30-P30),Pool2,IF(AND((G30>H30),(O30>P30)),Pool3,IF(AND((H30>G30),(P30>O30)),Pool3,0)))),0) -> 0 | Y30: =F30 -> Israel | AB30: =I30 -> Japan | AF30: =IF(AND(G30<>"",H30<>"",Z30<>"",AA30<>""),IF(AND(G30=Z30,H30=AA30),Pool1,IF((G30-H30)=(Z30-AA30),Pool2,IF(AND((G30>H30),(Z30>AA30)),Pool3,IF(AND((H30>G30),(AA30>Z30)),Pool3,0)))),0) -> 0 | AJ30: =F30 -> Israel | AM30: =I30 -> Japan | AQ30: =IF(AND(G30<>"",H30<>"",AK30<>"",AL30<>""),IF(AND(G30=AK30,H30=AL30),Pool1,IF((G30-H30)=(AK30-AL30),Pool2,IF(AND((G30>H30),(AK30>AL30)),Pool3,IF(AND((H30>G30),(AL30>AK30)),Pool3,0)))),0) -> 0 | AU30: =F30 -> Israel | AX30: =I30 -> Japan | BB30: =IF(AND(G30<>"",H30<>"",AV30<>"",AW30<>""),IF(AND(G30=AV30,H30=AW30),Pool1,IF((G30-H30)=(AV30-AW30),Pool2,IF(AND((G30>H30),(AV30>AW30)),Pool3,IF(AND((H30>G30),(AW30>AV30)),Pool3,0)))),0) -> 0 | BF30: =F30 -> Israel | BI30: =I30 -> Japan | BM30: =IF(AND(G30<>"",H30<>"",BG30<>"",BH30<>""),IF(AND(G30=BG30,H30=BH30),Pool1,IF((G30-H30)=(BG30-BH30),Pool2,IF(AND((G30>H30),(BG30>BH30)),Pool3,IF(AND((H30>G30),(BH30>BG30)),Pool3,0)))),0) -> 0 | BQ30: =F30 -> Israel | BT30: =I30 -> Japan | BX30: =IF(AND(G30<>"",H30<>"",BR30<>"",BS30<>""),IF(AND(G30=BR30,H30=BS30),Pool1,IF((G30-H30)=(BR30-BS30),Pool2,IF(AND((G30>H30),(BR30>BS30)),Pool3,IF(AND((H30>G30),(BS30>BR30)),Pool3,0)))),0) -> 0 | CB30: =F30 -> Israel | CE30: =I30 -> Japan | CI30: =IF(AND(G30<>"",H30<>"",CC30<>"",CD30<>""),IF(AND(G30=CC30,H30=CD30),Pool1,IF((G30-H30)=(CC30-CD30),Pool2,IF(AND((G30>H30),(CC30>CD30)),Pool3,IF(AND((H30>G30),(CD30>CC30)),Pool3,0)))),0) -> 0 | CM30: =F30 -> Israel | CP30: =I30 -> Japan | CT30: =IF(AND(G30<>"",H30<>"",CN30<>"",CO30<>""),IF(AND(G30=CN30,H30=CO30),Pool1,IF((G30-H30)=(CN30-CO30),Pool2,IF(AND((G30>H30),(CN30>CO30)),Pool3,IF(AND((H30>G30),(CO30>CN30)),Pool3,0)))),0) -> 0 | CX30: =F30 -> Israel | DA30: =I30 -> Japan | DE30: =IF(AND(G30<>"",H30<>"",CY30<>"",CZ30<>""),IF(AND(G30=CY30,H30=CZ30),Pool1,IF((G30-H30)=(CY30-CZ30),Pool2,IF(AND((G30>H30),(CY30>CZ30)),Pool3,IF(AND((H30>G30),(CZ30>CY30)),Pool3,0)))),0) -> 0 | DI30: =F30 -> Israel | DL30: =I30 -> Japan | DP30: =IF(AND(G30<>"",H30<>"",DJ30<>"",DK30<>""),IF(AND(G30=DJ30,H30=DK30),Pool1,IF((G30-H30)=(DJ30-DK30),Pool2,IF(AND((G30>H30),(DJ30>DK30)),Pool3,IF(AND((H30>G30),(DK30>DJ30)),Pool3,0)))),0) -> 0
A31: =IF(G31<>"",A30+1,A30) -> 0 | C31: 24 | D31: D | E31: 45503.875 | F31: =I15 -> Paraguay | I31: =F14 -> Mali | N31: =F31 -> Paraguay | Q31: =I31 -> Mali | U31: =IF(AND(G31<>"",H31<>"",O31<>"",P31<>""),IF(AND(G31=O31,H31=P31),Pool1,IF((G31-H31)=(O31-P31),Pool2,IF(AND((G31>H31),(O31>P31)),Pool3,IF(AND((H31>G31),(P31>O31)),Pool3,0)))),0) -> 0 | Y31: =F31 -> Paraguay | AB31: =I31 -> Mali | AF31: =IF(AND(G31<>"",H31<>"",Z31<>"",AA31<>""),IF(AND(G31=Z31,H31=AA31),Pool1,IF((G31-H31)=(Z31-AA31),Pool2,IF(AND((G31>H31),(Z31>AA31)),Pool3,IF(AND((H31>G31),(AA31>Z31)),Pool3,0)))),0) -> 0 | AJ31: =F31 -> Paraguay | AM31: =I31 -> Mali | AQ31: =IF(AND(G31<>"",H31<>"",AK31<>"",AL31<>""),IF(AND(G31=AK31,H31=AL31),Pool1,IF((G31-H31)=(AK31-AL31),Pool2,IF(AND((G31>H31),(AK31>AL31)),Pool3,IF(AND((H31>G31),(AL31>AK31)),Pool3,0)))),0) -> 0 | AU31: =F31 -> Paraguay | AX31: =I31 -> Mali | BB31: =IF(AND(G31<>"",H31<>"",AV31<>"",AW31<>""),IF(AND(G31=AV31,H31=AW31),Pool1,IF((G31-H31)=(AV31-AW31),Pool2,IF(AND((G31>H31),(AV31>AW31)),Pool3,IF(AND((H31>G31),(AW31>AV31)),Pool3,0)))),0) -> 0 | BF31: =F31 -> Paraguay | BI31: =I31 -> Mali | BM31: =IF(AND(G31<>"",H31<>"",BG31<>"",BH31<>""),IF(AND(G31=BG31,H31=BH31),Pool1,IF((G31-H31)=(BG31-BH31),Pool2,IF(AND((G31>H31),(BG31>BH31)),Pool3,IF(AND((H31>G31),(BH31>BG31)),Pool3,0)))),0) -> 0 | BQ31: =F31 -> Paraguay | BT31: =I31 -> Mali | BX31: =IF(AND(G31<>"",H31<>"",BR31<>"",BS31<>""),IF(AND(G31=BR31,H31=BS31),Pool1,IF((G31-H31)=(BR31-BS31),Pool2,IF(AND((G31>H31),(BR31>BS31)),Pool3,IF(AND((H31>G31),(BS31>BR31)),Pool3,0)))),0) -> 0 | CB31: =F31 -> Paraguay | CE31: =I31 -> Mali | CI31: =IF(AND(G31<>"",H31<>"",CC31<>"",CD31<>""),IF(AND(G31=CC31,H31=CD31),Pool1,IF((G31-H31)=(CC31-CD31),Pool2,IF(AND((G31>H31),(CC31>CD31)),Pool3,IF(AND((H31>G31),(CD31>CC31)),Pool3,0)))),0) -> 0 | CM31: =F31 -> Paraguay | CP31: =I31 -> Mali | CT31: =IF(AND(G31<>"",H31<>"",CN31<>"",CO31<>""),IF(AND(G31=CN31,H31=CO31),Pool1,IF((G31-H31)=(CN31-CO31),Pool2,IF(AND((G31>H31),(CN31>CO31)),Pool3,IF(AND((H31>G31),(CO31>CN31)),Pool3,0)))),0) -> 0 | CX31: =F31 -> Paraguay | DA31: =I31 -> Mali | DE31: =IF(AND(G31<>"",H31<>"",CY31<>"",CZ31<>""),IF(AND(G31=CY31,H31=CZ31),Pool1,IF((G31-H31)=(CY31-CZ31),Pool2,IF(AND((G31>H31),(CY31>CZ31)),Pool3,IF(AND((H31>G31),(CZ31>CY31)),Pool3,0)))),0) -> 0 | DI31: =F31 -> Paraguay | DL31: =I31 -> Mali | DP31: =IF(AND(G31<>"",H31<>"",DJ31<>"",DK31<>""),IF(AND(G31=DJ31,H31=DK31),Pool1,IF((G31-H31)=(DJ31-DK31),Pool2,IF(AND((G31>H31),(DJ31>DK31)),Pool3,IF(AND((H31>G31),(DK31>DJ31)),Pool3,0)))),0) -> 0
B33: Knock Out Stages | M33: =IF(SUM(B36:B39)<24,"Bonus Point Will be Calculated after Group Matches are completed","") -> Bonus Point Will be Calculated after Group Matches are completed
F35: Winner | G35: Group | I35: Runner Up | N35: Winner | O35: Group | Q35: Runner Up | V35: Bonus | Y35: Winner | Z35: Group | AB35: Runner Up | AG35: Bonus | AJ35: Winner | AK35: Group | AM35: Runner Up | AR35: Bonus | AU35: Winner | AV35: Group | AX35: Runner Up | BC35: Bonus | BF35: Winner | BG35: Group | BI35: Runner Up | BN35: Bonus | BQ35: Winner | BR35: Group | BT35: Runner Up | BY35: Bonus | CB35: Winner | CC35: Group | CE35: Runner Up | CJ35: Bonus | CM35: Winner | CN35: Group | CP35: Runner Up | CU35: Bonus | CX35: Winner | CY35: Group | DA35: Runner Up | DF35: Bonus | DI35: Winner | DJ35: Group | DL35: Runner Up | DQ35: Bonus
B36: =COUNTIFS($G$8:$G$31,">=0",$D$8:$D$31,"A") -> 0 | F36: =INDEX(Dummy!U4:U7,MATCH(1,Dummy!BK4:BK7,0),0) -> France | G36: A | I36: =INDEX(Dummy!U4:U7,MATCH(2,Dummy!BK4:BK7,0),0) -> United States | N36: =IF(O4<>"",INDEX(OFFSET(Dummy!U4:U7,0,M43),MATCH(1,OFFSET(Dummy!BK4:BK7,0,M43),0),0),"") -> France | O36: A | Q36: =IF(O4<>"",INDEX(OFFSET(Dummy!U4:U7,0,M43),MATCH(2,OFFSET(Dummy!BK4:BK7,0,M43),0),0),"") -> United States | V36: =IF(B36=6,IF(AND(N36=F36,Q36=I36),Bonu1,IF(AND(N36=F36,Q36<>I36),Bonu2,IF(AND(N36<>I36,Q36=I36),Bonu3,IF(AND(Q36=F36,N36=I36),Bonu4,IF(OR(Q36=F36,N36=I36),Bonu5,0))))),0) -> 0 | Y36: =IF(Z4<>"",INDEX(OFFSET(Dummy!U4:U7,0,X43),MATCH(1,OFFSET(Dummy!BK4:BK7,0,X43),0),0),"") -> France | Z36: A | AB36: =IF(Z4<>"",INDEX(OFFSET(Dummy!U4:U7,0,X43),MATCH(2,OFFSET(Dummy!BK4:BK7,0,X43),0),0),"") -> United States | AG36: =IF(B36=6,IF(AND(Y36=F36,AB36=I36),Bonu1,IF(AND(Y36=F36,AB36<>I36),Bonu2,IF(AND(Y36<>I36,AB36=I36),Bonu3,IF(AND(AB36=F36,Y36=I36),Bonu4,IF(OR(AB36=F36,Y36=I36),Bonu5,0))))),0) -> 0 | AJ36: =IF(AK4<>"",INDEX(OFFSET(Dummy!U4:U7,0,AI43),MATCH(1,OFFSET(Dummy!BK4:BK7,0,AI43),0),0),"") -> France | AK36: A | AM36: =IF(AK4<>"",INDEX(OFFSET(Dummy!U4:U7,0,AI43),MATCH(2,OFFSET(Dummy!BK4:BK7,0,AI43),0),0),"") -> United States | AR36: =IF(B36=6,IF(AND(AJ36=F36,AM36=I36),Bonu1,IF(AND(AJ36=F36,AM36<>I36),Bonu2,IF(AND(AJ36<>I36,AM36=I36),Bonu3,IF(AND(AM36=F36,AJ36=I36),Bonu4,IF(OR(AM36=F36,AJ36=I36),Bonu5,0))))),0) -> 0 | AU36: =IF(AV4<>"",INDEX(OFFSET(Dummy!U4:U7,0,AT43),MATCH(1,OFFSET(Dummy!BK4:BK7,0,AT43),0),0),"") -> France | AV36: A | AX36: =IF(AV4<>"",INDEX(OFFSET(Dummy!U4:U7,0,AT43),MATCH(2,OFFSET(Dummy!BK4:BK7,0,AT43),0),0),"") -> United States | BC36: =IF(B36=6,IF(AND(AU36=F36,AX36=I36),Bonu1,IF(AND(AU36=F36,AX36<>I36),Bonu2,IF(AND(AU36<>I36,AX36=I36),Bonu3,IF(AND(AX36=F36,AU36=I36),Bonu4,IF(OR(AX36=F36,AU36=I36),Bonu5,0))))),0) -> 0 | BF36: =IF(BG4<>"",INDEX(OFFSET(Dummy!U4:U7,0,BE43),MATCH(1,OFFSET(Dummy!BK4:BK7,0,BE43),0),0),"") -> France | BG36: A | BI36: =IF(BG4<>"",INDEX(OFFSET(Dummy!U4:U7,0,BE43),MATCH(2,OFFSET(Dummy!BK4:BK7,0,BE43),0),0),"") -> United States | BN36: =IF(B36=6,IF(AND(BF36=F36,BI36=I36),Bonu1,IF(AND(BF36=F36,BI36<>I36),Bonu2,IF(AND(BF36<>I36,BI36=I36),Bonu3,IF(AND(BI36=F36,BF36=I36),Bonu4,IF(OR(BI36=F36,BF36=I36),Bonu5,0))))),0) -> 0 | BQ36: =IF(BR4<>"",INDEX(OFFSET(Dummy!U4:U7,0,BP43),MATCH(1,OFFSET(Dummy!BK4:BK7,0,BP43),0),0),"") -> France | BR36: A | BT36: =IF(BR4<>"",INDEX(OFFSET(Dummy!U4:U7,0,BP43),MATCH(2,OFFSET(Dummy!BK4:BK7,0,BP43),0),0),"") -> United States | BY36: =IF(B36=6,IF(AND(BQ36=F36,BT36=I36),Bonu1,IF(AND(BQ36=F36,BT36<>I36),Bonu2,IF(AND(BQ36<>I36,BT36=I36),Bonu3,IF(AND(BT36=F36,BQ36=I36),Bonu4,IF(OR(BT36=F36,BQ36=I36),Bonu5,0))))),0) -> 0 | CB36: =IF(CC4<>"",INDEX(OFFSET(Dummy!U4:U7,0,CA43),MATCH(1,OFFSET(Dummy!BK4:BK7,0,CA43),0),0),"") -> France | CC36: A | CE36: =IF(CC4<>"",INDEX(OFFSET(Dummy!U4:U7,0,CA43),MATCH(2,OFFSET(Dummy!BK4:BK7,0,CA43),0),0),"") -> United States | CJ36: =IF(B36=6,IF(AND(CB36=F36,CE36=I36),Bonu1,IF(AND(CB36=F36,CE36<>I36),Bonu2,IF(AND(CB36<>I36,CE36=I36),Bonu3,IF(AND(CE36=F36,CB36=I36),Bonu4,IF(OR(CE36=F36,CB36=I36),Bonu5,0))))),0) -> 0 | CM36: =IF(CN4<>"",INDEX(OFFSET(Dummy!U4:U7,0,CL43),MATCH(1,OFFSET(Dummy!BK4:BK7,0,CL43),0),0),"") -> France | CN36: A | CP36: =IF(CN4<>"",INDEX(OFFSET(Dummy!U4:U7,0,CL43),MATCH(2,OFFSET(Dummy!BK4:BK7,0,CL43),0),0),"") -> United States | CU36: =IF(B36=6,IF(AND(CM36=F36,CP36=I36),Bonu1,IF(AND(CM36=F36,CP36<>I36),Bonu2,IF(AND(CM36<>I36,CP36=I36),Bonu3,IF(AND(CP36=F36,CM36=I36),Bonu4,IF(OR(CP36=F36,CM36=I36),Bonu5,0))))),0) -> 0 | CX36: =IF(CY4<>"",INDEX(OFFSET(Dummy!U4:U7,0,CW43),MATCH(1,OFFSET(Dummy!BK4:BK7,0,CW43),0),0),"") -> France | CY36: A | DA36: =IF(CY4<>"",INDEX(OFFSET(Dummy!U4:U7,0,CW43),MATCH(2,OFFSET(Dummy!BK4:BK7,0,CW43),0),0),"") -> United States | DF36: =IF(B36=6,IF(AND(CX36=F36,DA36=I36),Bonu1,IF(AND(CX36=F36,DA36<>I36),Bonu2,IF(AND(CX36<>I36,DA36=I36),Bonu3,IF(AND(DA36=F36,CX36=I36),Bonu4,IF(OR(DA36=F36,CX36=I36),Bonu5,0))))),0) -> 0 | DI36: =IF(DJ4<>"",INDEX(OFFSET(Dummy!U4:U7,0,DH43),MATCH(1,OFFSET(Dummy!BK4:BK7,0,DH43),0),0),"") -> France | DJ36: A | DL36: =IF(DJ4<>"",INDEX(OFFSET(Dummy!U4:U7,0,DH43),MATCH(2,OFFSET(Dummy!BK4:BK7,0,DH43),0),0),"") -> United States | DQ36: =IF(B36=6,IF(AND(DI36=F36,DL36=I36),Bonu1,IF(AND(DI36=F36,DL36<>I36),Bonu2,IF(AND(DI36<>I36,DL36=I36),Bonu3,IF(AND(DL36=F36,DI36=I36),Bonu4,IF(OR(DL36=F36,DI36=I36),Bonu5,0))))),0) -> 0
B37: =COUNTIFS($G$8:$G$31,">=0",$D$8:$D$31,"B") -> 0 | F37: =INDEX(Dummy!U8:U11,MATCH(1,Dummy!BK8:BK11,0),0) -> Argentina | G37: B | I37: =INDEX(Dummy!U8:U11,MATCH(2,Dummy!BK8:BK11,0),0) -> Morocco | N37: =IF(O4<>"",INDEX(OFFSET(Dummy!U8:U11,0,M43),MATCH(1,OFFSET(Dummy!BK8:BK11,0,M43),0),0),"") -> Argentina | O37: B | Q37: =IF(O4<>"",INDEX(OFFSET(Dummy!U8:U11,0,M43),MATCH(2,OFFSET(Dummy!BK8:BK11,0,M43),0),0),"") -> Morocco | V37: =IF(B37=6,IF(AND(N37=F37,Q37=I37),Bonu1,IF(AND(N37=F37,Q37<>I37),Bonu2,IF(AND(N37<>I37,Q37=I37),Bonu3,IF(AND(Q37=F37,N37=I37),Bonu4,IF(OR(Q37=F37,N37=I37),Bonu5,0))))),0) -> 0 | Y37: =IF(Z4<>"",INDEX(OFFSET(Dummy!U8:U11,0,X43),MATCH(1,OFFSET(Dummy!BK8:BK11,0,X43),0),0),"") -> Argentina | Z37: B | AB37: =IF(Z4<>"",INDEX(OFFSET(Dummy!U8:U11,0,X43),MATCH(2,OFFSET(Dummy!BK8:BK11,0,X43),0),0),"") -> Morocco | AG37: =IF(B37=6,IF(AND(Y37=F37,AB37=I37),Bonu1,IF(AND(Y37=F37,AB37<>I37),Bonu2,IF(AND(Y37<>I37,AB37=I37),Bonu3,IF(AND(AB37=F37,Y37=I37),Bonu4,IF(OR(AB37=F37,Y37=I37),Bonu5,0))))),0) -> 0 | AJ37: =IF(AK4<>"",INDEX(OFFSET(Dummy!U8:U11,0,AI43),MATCH(1,OFFSET(Dummy!BK8:BK11,0,AI43),0),0),"") -> Argentina | AK37: B | AM37: =IF(AK4<>"",INDEX(OFFSET(Dummy!U8:U11,0,AI43),MATCH(2,OFFSET(Dummy!BK8:BK11,0,AI43),0),0),"") -> Morocco | AR37: =IF(B37=6,IF(AND(AJ37=F37,AM37=I37),Bonu1,IF(AND(AJ37=F37,AM37<>I37),Bonu2,IF(AND(AJ37<>I37,AM37=I37),Bonu3,IF(AND(AM37=F37,AJ37=I37),Bonu4,IF(OR(AM37=F37,AJ37=I37),Bonu5,0))))),0) -> 0 | AU37: =IF(AV4<>"",INDEX(OFFSET(Dummy!U8:U11,0,AT43),MATCH(1,OFFSET(Dummy!BK8:BK11,0,AT43),0),0),"") -> Argentina | AV37: B | AX37: =IF(AV4<>"",INDEX(OFFSET(Dummy!U8:U11,0,AT43),MATCH(2,OFFSET(Dummy!BK8:BK11,0,AT43),0),0),"") -> Morocco | BC37: =IF(B37=6,IF(AND(AU37=F37,AX37=I37),Bonu1,IF(AND(AU37=F37,AX37<>I37),Bonu2,IF(AND(AU37<>I37,AX37=I37),Bonu3,IF(AND(AX37=F37,AU37=I37),Bonu4,IF(OR(AX37=F37,AU37=I37),Bonu5,0))))),0) -> 0 | BF37: =IF(BG4<>"",INDEX(OFFSET(Dummy!U8:U11,0,BE43),MATCH(1,OFFSET(Dummy!BK8:BK11,0,BE43),0),0),"") -> Argentina | BG37: B | BI37: =IF(BG4<>"",INDEX(OFFSET(Dummy!U8:U11,0,BE43),MATCH(2,OFFSET(Dummy!BK8:BK11,0,BE43),0),0),"") -> Morocco | BN37: =IF(B37=6,IF(AND(BF37=F37,BI37=I37),Bonu1,IF(AND(BF37=F37,BI37<>I37),Bonu2,IF(AND(BF37<>I37,BI37=I37),Bonu3,IF(AND(BI37=F37,BF37=I37),Bonu4,IF(OR(BI37=F37,BF37=I37),Bonu5,0))))),0) -> 0 | BQ37: =IF(BR4<>"",INDEX(OFFSET(Dummy!U8:U11,0,BP43),MATCH(1,OFFSET(Dummy!BK8:BK11,0,BP43),0),0),"") -> Argentina | BR37: B | BT37: =IF(BR4<>"",INDEX(OFFSET(Dummy!U8:U11,0,BP43),MATCH(2,OFFSET(Dummy!BK8:BK11,0,BP43),0),0),"") -> Morocco | BY37: =IF(B37=6,IF(AND(BQ37=F37,BT37=I37),Bonu1,IF(AND(BQ37=F37,BT37<>I37),Bonu2,IF(AND(BQ37<>I37,BT37=I37),Bonu3,IF(AND(BT37=F37,BQ37=I37),Bonu4,IF(OR(BT37=F37,BQ37=I37),Bonu5,0))))),0) -> 0 | CB37: =IF(CC4<>"",INDEX(OFFSET(Dummy!U8:U11,0,CA43),MATCH(1,OFFSET(Dummy!BK8:BK11,0,CA43),0),0),"") -> Argentina | CC37: B | CE37: =IF(CC4<>"",INDEX(OFFSET(Dummy!U8:U11,0,CA43),MATCH(2,OFFSET(Dummy!BK8:BK11,0,CA43),0),0),"") -> Morocco | CJ37: =IF(B37=6,IF(AND(CB37=F37,CE37=I37),Bonu1,IF(AND(CB37=F37,CE37<>I37),Bonu2,IF(AND(CB37<>I37,CE37=I37),Bonu3,IF(AND(CE37=F37,CB37=I37),Bonu4,IF(OR(CE37=F37,CB37=I37),Bonu5,0))))),0) -> 0 | CM37: =IF(CN4<>"",INDEX(OFFSET(Dummy!U8:U11,0,CL43),MATCH(1,OFFSET(Dummy!BK8:BK11,0,CL43),0),0),"") -> Argentina | CN37: B | CP37: =IF(CN4<>"",INDEX(OFFSET(Dummy!U8:U11,0,CL43),MATCH(2,OFFSET(Dummy!BK8:BK11,0,CL43),0),0),"") -> Morocco | CU37: =IF(B37=6,IF(AND(CM37=F37,CP37=I37),Bonu1,IF(AND(CM37=F37,CP37<>I37),Bonu2,IF(AND(CM37<>I37,CP37=I37),Bonu3,IF(AND(CP37=F37,CM37=I37),Bonu4,IF(OR(CP37=F37,CM37=I37),Bonu5,0))))),0) -> 0 | CX37: =IF(CY4<>"",INDEX(OFFSET(Dummy!U8:U11,0,CW43),MATCH(1,OFFSET(Dummy!BK8:BK11,0,CW43),0),0),"") -> Argentina | CY37: B | DA37: =IF(CY4<>"",INDEX(OFFSET(Dummy!U8:U11,0,CW43),MATCH(2,OFFSET(Dummy!BK8:BK11,0,CW43),0),0),"") -> Morocco | DF37: =IF(B37=6,IF(AND(CX37=F37,DA37=I37),Bonu1,IF(AND(CX37=F37,DA37<>I37),Bonu2,IF(AND(CX37<>I37,DA37=I37),Bonu3,IF(AND(DA37=F37,CX37=I37),Bonu4,IF(OR(DA37=F37,CX37=I37),Bonu5,0))))),0) -> 0 | DI37: =IF(DJ4<>"",INDEX(OFFSET(Dummy!U8:U11,0,DH43),MATCH(1,OFFSET(Dummy!BK8:BK11,0,DH43),0),0),"") -> Argentina | DJ37: B | DL37: =IF(DJ4<>"",INDEX(OFFSET(Dummy!U8:U11,0,DH43),MATCH(2,OFFSET(Dummy!BK8:BK11,0,DH43),0),0),"") -> Morocco | DQ37: =IF(B37=6,IF(AND(DI37=F37,DL37=I37),Bonu1,IF(AND(DI37=F37,DL37<>I37),Bonu2,IF(AND(DI37<>I37,DL37=I37),Bonu3,IF(AND(DL37=F37,DI37=I37),Bonu4,IF(OR(DL37=F37,DI37=I37),Bonu5,0))))),0) -> 0
B38: =COUNTIFS($G$8:$G$31,">=0",$D$8:$D$31,"C") -> 0 | F38: =INDEX(Dummy!U12:U15,MATCH(1,Dummy!BK12:BK15,0),0) -> Uzbekistan | G38: C | I38: =INDEX(Dummy!U12:U15,MATCH(2,Dummy!BK12:BK15,0),0) -> Spain | N38: =IF(O4<>"",INDEX(OFFSET(Dummy!U12:U15,0,M43),MATCH(1,OFFSET(Dummy!BK12:BK15,0,M43),0),0),"") -> Uzbekistan | O38: C | Q38: =IF(O4<>"",INDEX(OFFSET(Dummy!U12:U15,0,M43),MATCH(2,OFFSET(Dummy!BK12:BK15,0,M43),0),0),"") -> Spain | V38: =IF(B38=6,IF(AND(N38=F38,Q38=I38),Bonu1,IF(AND(N38=F38,Q38<>I38),Bonu2,IF(AND(N38<>I38,Q38=I38),Bonu3,IF(AND(Q38=F38,N38=I38),Bonu4,IF(OR(Q38=F38,N38=I38),Bonu5,0))))),0) -> 0 | Y38: =IF(Z4<>"",INDEX(OFFSET(Dummy!U12:U15,0,X43),MATCH(1,OFFSET(Dummy!BK12:BK15,0,X43),0),0),"") -> Uzbekistan | Z38: C | AB38: =IF(Z4<>"",INDEX(OFFSET(Dummy!U12:U15,0,X43),MATCH(2,OFFSET(Dummy!BK12:BK15,0,X43),0),0),"") -> Spain | AG38: =IF(B38=6,IF(AND(Y38=F38,AB38=I38),Bonu1,IF(AND(Y38=F38,AB38<>I38),Bonu2,IF(AND(Y38<>I38,AB38=I38),Bonu3,IF(AND(AB38=F38,Y38=I38),Bonu4,IF(OR(AB38=F38,Y38=I38),Bonu5,0))))),0) -> 0 | AJ38: =IF(AK4<>"",INDEX(OFFSET(Dummy!U12:U15,0,AI43),MATCH(1,OFFSET(Dummy!BK12:BK15,0,AI43),0),0),"") -> Uzbekistan | AK38: C | AM38: =IF(AK4<>"",INDEX(OFFSET(Dummy!U12:U15,0,AI43),MATCH(2,OFFSET(Dummy!BK12:BK15,0,AI43),0),0),"") -> Spain | AR38: =IF(B38=6,IF(AND(AJ38=F38,AM38=I38),Bonu1,IF(AND(AJ38=F38,AM38<>I38),Bonu2,IF(AND(AJ38<>I38,AM38=I38),Bonu3,IF(AND(AM38=F38,AJ38=I38),Bonu4,IF(OR(AM38=F38,AJ38=I38),Bonu5,0))))),0) -> 0 | AU38: =IF(AV4<>"",INDEX(OFFSET(Dummy!U12:U15,0,AT43),MATCH(1,OFFSET(Dummy!BK12:BK15,0,AT43),0),0),"") -> Uzbekistan | AV38: C | AX38: =IF(AV4<>"",INDEX(OFFSET(Dummy!U12:U15,0,AT43),MATCH(2,OFFSET(Dummy!BK12:BK15,0,AT43),0),0),"") -> Spain | BC38: =IF(B38=6,IF(AND(AU38=F38,AX38=I38),Bonu1,IF(AND(AU38=F38,AX38<>I38),Bonu2,IF(AND(AU38<>I38,AX38=I38),Bonu3,IF(AND(AX38=F38,AU38=I38),Bonu4,IF(OR(AX38=F38,AU38=I38),Bonu5,0))))),0) -> 0 | BF38: =IF(BG4<>"",INDEX(OFFSET(Dummy!U12:U15,0,BE43),MATCH(1,OFFSET(Dummy!BK12:BK15,0,BE43),0),0),"") -> Uzbekistan | BG38: C | BI38: =IF(BG4<>"",INDEX(OFFSET(Dummy!U12:U15,0,BE43),MATCH(2,OFFSET(Dummy!BK12:BK15,0,BE43),0),0),"") -> Spain | BN38: =IF(B38=6,IF(AND(BF38=F38,BI38=I38),Bonu1,IF(AND(BF38=F38,BI38<>I38),Bonu2,IF(AND(BF38<>I38,BI38=I38),Bonu3,IF(AND(BI38=F38,BF38=I38),Bonu4,IF(OR(BI38=F38,BF38=I38),Bonu5,0))))),0) -> 0 | BQ38: =IF(BR4<>"",INDEX(OFFSET(Dummy!U12:U15,0,BP43),MATCH(1,OFFSET(Dummy!BK12:BK15,0,BP43),0),0),"") -> Uzbekistan | BR38: C | BT38: =IF(BR4<>"",INDEX(OFFSET(Dummy!U12:U15,0,BP43),MATCH(2,OFFSET(Dummy!BK12:BK15,0,BP43),0),0),"") -> Spain | BY38: =IF(B38=6,IF(AND(BQ38=F38,BT38=I38),Bonu1,IF(AND(BQ38=F38,BT38<>I38),Bonu2,IF(AND(BQ38<>I38,BT38=I38),Bonu3,IF(AND(BT38=F38,BQ38=I38),Bonu4,IF(OR(BT38=F38,BQ38=I38),Bonu5,0))))),0) -> 0 | CB38: =IF(CC4<>"",INDEX(OFFSET(Dummy!U12:U15,0,CA43),MATCH(1,OFFSET(Dummy!BK12:BK15,0,CA43),0),0),"") -> Uzbekistan | CC38: C | CE38: =IF(CC4<>"",INDEX(OFFSET(Dummy!U12:U15,0,CA43),MATCH(2,OFFSET(Dummy!BK12:BK15,0,CA43),0),0),"") -> Spain | CJ38: =IF(B38=6,IF(AND(CB38=F38,CE38=I38),Bonu1,IF(AND(CB38=F38,CE38<>I38),Bonu2,IF(AND(CB38<>I38,CE38=I38),Bonu3,IF(AND(CE38=F38,CB38=I38),Bonu4,IF(OR(CE38=F38,CB38=I38),Bonu5,0))))),0) -> 0 | CM38: =IF(CN4<>"",INDEX(OFFSET(Dummy!U12:U15,0,CL43),MATCH(1,OFFSET(Dummy!BK12:BK15,0,CL43),0),0),"") -> Uzbekistan | CN38: C | CP38: =IF(CN4<>"",INDEX(OFFSET(Dummy!U12:U15,0,CL43),MATCH(2,OFFSET(Dummy!BK12:BK15,0,CL43),0),0),"") -> Spain | CU38: =IF(B38=6,IF(AND(CM38=F38,CP38=I38),Bonu1,IF(AND(CM38=F38,CP38<>I38),Bonu2,IF(AND(CM38<>I38,CP38=I38),Bonu3,IF(AND(CP38=F38,CM38=I38),Bonu4,IF(OR(CP38=F38,CM38=I38),Bonu5,0))))),0) -> 0 | CX38: =IF(CY4<>"",INDEX(OFFSET(Dummy!U12:U15,0,CW43),MATCH(1,OFFSET(Dummy!BK12:BK15,0,CW43),0),0),"") -> Uzbekistan | CY38: C | DA38: =IF(CY4<>"",INDEX(OFFSET(Dummy!U12:U15,0,CW43),MATCH(2,OFFSET(Dummy!BK12:BK15,0,CW43),0),0),"") -> Spain | DF38: =IF(B38=6,IF(AND(CX38=F38,DA38=I38),Bonu1,IF(AND(CX38=F38,DA38<>I38),Bonu2,IF(AND(CX38<>I38,DA38=I38),Bonu3,IF(AND(DA38=F38,CX38=I38),Bonu4,IF(OR(DA38=F38,CX38=I38),Bonu5,0))))),0) -> 0 | DI38: =IF(DJ4<>"",INDEX(OFFSET(Dummy!U12:U15,0,DH43),MATCH(1,OFFSET(Dummy!BK12:BK15,0,DH43),0),0),"") -> Uzbekistan | DJ38: C | DL38: =IF(DJ4<>"",INDEX(OFFSET(Dummy!U12:U15,0,DH43),MATCH(2,OFFSET(Dummy!BK12:BK15,0,DH43),0),0),"") -> Spain | DQ38: =IF(B38=6,IF(AND(DI38=F38,DL38=I38),Bonu1,IF(AND(DI38=F38,DL38<>I38),Bonu2,IF(AND(DI38<>I38,DL38=I38),Bonu3,IF(AND(DL38=F38,DI38=I38),Bonu4,IF(OR(DL38=F38,DI38=I38),Bonu5,0))))),0) -> 0
B39: =COUNTIFS($G$8:$G$31,">=0",$D$8:$D$31,"D") -> 0 | F39: =INDEX(Dummy!U16:U19,MATCH(1,Dummy!BK16:BK19,0),0) -> Japan | G39: D | I39: =INDEX(Dummy!U16:U19,MATCH(2,Dummy!BK16:BK19,0),0) -> Paraguay | N39: =IF(O4<>"",INDEX(OFFSET(Dummy!U16:U19,0,M43),MATCH(1,OFFSET(Dummy!BK16:BK19,0,M43),0),0),"") -> Japan | O39: D | Q39: =IF(O4<>"",INDEX(OFFSET(Dummy!U16:U19,0,M43),MATCH(2,OFFSET(Dummy!BK16:BK19,0,M43),0),0),"") -> Paraguay | V39: =IF(B39=6,IF(AND(N39=F39,Q39=I39),Bonu1,IF(AND(N39=F39,Q39<>I39),Bonu2,IF(AND(N39<>I39,Q39=I39),Bonu3,IF(AND(Q39=F39,N39=I39),Bonu4,IF(OR(Q39=F39,N39=I39),Bonu5,0))))),0) -> 0 | Y39: =IF(Z4<>"",INDEX(OFFSET(Dummy!U16:U19,0,X43),MATCH(1,OFFSET(Dummy!BK16:BK19,0,X43),0),0),"") -> Japan | Z39: D | AB39: =IF(Z4<>"",INDEX(OFFSET(Dummy!U16:U19,0,X43),MATCH(2,OFFSET(Dummy!BK16:BK19,0,X43),0),0),"") -> Paraguay | AG39: =IF(B39=6,IF(AND(Y39=F39,AB39=I39),Bonu1,IF(AND(Y39=F39,AB39<>I39),Bonu2,IF(AND(Y39<>I39,AB39=I39),Bonu3,IF(AND(AB39=F39,Y39=I39),Bonu4,IF(OR(AB39=F39,Y39=I39),Bonu5,0))))),0) -> 0 | AJ39: =IF(AK4<>"",INDEX(OFFSET(Dummy!U16:U19,0,AI43),MATCH(1,OFFSET(Dummy!BK16:BK19,0,AI43),0),0),"") -> Japan | AK39: D | AM39: =IF(AK4<>"",INDEX(OFFSET(Dummy!U16:U19,0,AI43),MATCH(2,OFFSET(Dummy!BK16:BK19,0,AI43),0),0),"") -> Paraguay | AR39: =IF(B39=6,IF(AND(AJ39=F39,AM39=I39),Bonu1,IF(AND(AJ39=F39,AM39<>I39),Bonu2,IF(AND(AJ39<>I39,AM39=I39),Bonu3,IF(AND(AM39=F39,AJ39=I39),Bonu4,IF(OR(AM39=F39,AJ39=I39),Bonu5,0))))),0) -> 0 | AU39: =IF(AV4<>"",INDEX(OFFSET(Dummy!U16:U19,0,AT43),MATCH(1,OFFSET(Dummy!BK16:BK19,0,AT43),0),0),"") -> Japan | AV39: D | AX39: =IF(AV4<>"",INDEX(OFFSET(Dummy!U16:U19,0,AT43),MATCH(2,OFFSET(Dummy!BK16:BK19,0,AT43),0),0),"") -> Paraguay | BC39: =IF(B39=6,IF(AND(AU39=F39,AX39=I39),Bonu1,IF(AND(AU39=F39,AX39<>I39),Bonu2,IF(AND(AU39<>I39,AX39=I39),Bonu3,IF(AND(AX39=F39,AU39=I39),Bonu4,IF(OR(AX39=F39,AU39=I39),Bonu5,0))))),0) -> 0 | BF39: =IF(BG4<>"",INDEX(OFFSET(Dummy!U16:U19,0,BE43),MATCH(1,OFFSET(Dummy!BK16:BK19,0,BE43),0),0),"") -> Japan | BG39: D | BI39: =IF(BG4<>"",INDEX(OFFSET(Dummy!U16:U19,0,BE43),MATCH(2,OFFSET(Dummy!BK16:BK19,0,BE43),0),0),"") -> Paraguay | BN39: =IF(B39=6,IF(AND(BF39=F39,BI39=I39),Bonu1,IF(AND(BF39=F39,BI39<>I39),Bonu2,IF(AND(BF39<>I39,BI39=I39),Bonu3,IF(AND(BI39=F39,BF39=I39),Bonu4,IF(OR(BI39=F39,BF39=I39),Bonu5,0))))),0) -> 0 | BQ39: =IF(BR4<>"",INDEX(OFFSET(Dummy!U16:U19,0,BP43),MATCH(1,OFFSET(Dummy!BK16:BK19,0,BP43),0),0),"") -> Japan | BR39: D | BT39: =IF(BR4<>"",INDEX(OFFSET(Dummy!U16:U19,0,BP43),MATCH(2,OFFSET(Dummy!BK16:BK19,0,BP43),0),0),"") -> Paraguay | BY39: =IF(B39=6,IF(AND(BQ39=F39,BT39=I39),Bonu1,IF(AND(BQ39=F39,BT39<>I39),Bonu2,IF(AND(BQ39<>I39,BT39=I39),Bonu3,IF(AND(BT39=F39,BQ39=I39),Bonu4,IF(OR(BT39=F39,BQ39=I39),Bonu5,0))))),0) -> 0 | CB39: =IF(CC4<>"",INDEX(OFFSET(Dummy!U16:U19,0,CA43),MATCH(1,OFFSET(Dummy!BK16:BK19,0,CA43),0),0),"") -> Japan | CC39: D | CE39: =IF(CC4<>"",INDEX(OFFSET(Dummy!U16:U19,0,CA43),MATCH(2,OFFSET(Dummy!BK16:BK19,0,CA43),0),0),"") -> Paraguay | CJ39: =IF(B39=6,IF(AND(CB39=F39,CE39=I39),Bonu1,IF(AND(CB39=F39,CE39<>I39),Bonu2,IF(AND(CB39<>I39,CE39=I39),Bonu3,IF(AND(CE39=F39,CB39=I39),Bonu4,IF(OR(CE39=F39,CB39=I39),Bonu5,0))))),0) -> 0 | CM39: =IF(CN4<>"",INDEX(OFFSET(Dummy!U16:U19,0,CL43),MATCH(1,OFFSET(Dummy!BK16:BK19,0,CL43),0),0),"") -> Japan | CN39: D | CP39: =IF(CN4<>"",INDEX(OFFSET(Dummy!U16:U19,0,CL43),MATCH(2,OFFSET(Dummy!BK16:BK19,0,CL43),0),0),"") -> Paraguay | CU39: =IF(B39=6,IF(AND(CM39=F39,CP39=I39),Bonu1,IF(AND(CM39=F39,CP39<>I39),Bonu2,IF(AND(CM39<>I39,CP39=I39),Bonu3,IF(AND(CP39=F39,CM39=I39),Bonu4,IF(OR(CP39=F39,CM39=I39),Bonu5,0))))),0) -> 0 | CX39: =IF(CY4<>"",INDEX(OFFSET(Dummy!U16:U19,0,CW43),MATCH(1,OFFSET(Dummy!BK16:BK19,0,CW43),0),0),"") -> Japan | CY39: D | DA39: =IF(CY4<>"",INDEX(OFFSET(Dummy!U16:U19,0,CW43),MATCH(2,OFFSET(Dummy!BK16:BK19,0,CW43),0),0),"") -> Paraguay | DF39: =IF(B39=6,IF(AND(CX39=F39,DA39=I39),Bonu1,IF(AND(CX39=F39,DA39<>I39),Bonu2,IF(AND(CX39<>I39,DA39=I39),Bonu3,IF(AND(DA39=F39,CX39=I39),Bonu4,IF(OR(DA39=F39,CX39=I39),Bonu5,0))))),0) -> 0 | DI39: =IF(DJ4<>"",INDEX(OFFSET(Dummy!U16:U19,0,DH43),MATCH(1,OFFSET(Dummy!BK16:BK19,0,DH43),0),0),"") -> Japan | DJ39: D | DL39: =IF(DJ4<>"",INDEX(OFFSET(Dummy!U16:U19,0,DH43),MATCH(2,OFFSET(Dummy!BK16:BK19,0,DH43),0),0),"") -> Paraguay | DQ39: =IF(B39=6,IF(AND(DI39=F39,DL39=I39),Bonu1,IF(AND(DI39=F39,DL39<>I39),Bonu2,IF(AND(DI39<>I39,DL39=I39),Bonu3,IF(AND(DL39=F39,DI39=I39),Bonu4,IF(OR(DL39=F39,DI39=I39),Bonu5,0))))),0) -> 0
N40: Qualified Countries | O40: ► | Q40: =IF(O4<>"",IF(SUM(B36:B39)=24,SUMPRODUCT(COUNTIF(M44:M51,Qualified)),0),"") -> 0 | V40: =IF(SUM(B36:B39)=24,IF(Q40=8,Bonu6,IF(Q40>5,Bonu7,IF(Q40>3,Bonu8,0))),0) -> 0 | Y40: Qualified Countries | Z40: ► | AB40: =IF(Z4<>"",IF(SUM(B36:B39)=24,SUMPRODUCT(COUNTIF(X44:X51,Qualified)),0),"") -> 0 | AG40: =IF(SUM(B36:B39)=24,IF(AB40=8,Bonu6,IF(AB40>5,Bonu7,IF(AB40>3,Bonu8,0))),0) -> 0 | AJ40: Qualified Countries | AK40: ► | AM40: =IF(AK4<>"",IF(SUM(B36:B39)=24,SUMPRODUCT(COUNTIF(AI44:AI51,Qualified)),0),"") -> 0 | AR40: =IF(SUM(B36:B39)=24,IF(AM40=8,Bonu6,IF(AM40>5,Bonu7,IF(AM40>3,Bonu8,0))),0) -> 0 | AU40: Qualified Countries | AV40: ► | AX40: =IF(AV4<>"",IF(SUM(B36:B39)=24,SUMPRODUCT(COUNTIF(AT44:AT51,Qualified)),0),"") -> 0 | BC40: =IF(SUM(B36:B39)=24,IF(AX40=8,Bonu6,IF(AX40>5,Bonu7,IF(AX40>3,Bonu8,0))),0) -> 0 | BF40: Qualified Countries | BG40: ► | BI40: =IF(BG4<>"",IF(SUM(B36:B39)=24,SUMPRODUCT(COUNTIF(BE44:BE51,Qualified)),0),"") -> 0 | BN40: =IF(SUM(B36:B39)=24,IF(BI40=8,Bonu6,IF(BI40>5,Bonu7,IF(BI40>3,Bonu8,0))),0) -> 0 | BQ40: Qualified Countries | BR40: ► | BT40: =IF(BR4<>"",IF(SUM(B36:B39)=24,SUMPRODUCT(COUNTIF(BP44:BP51,Qualified)),0),"") -> 0 | BY40: =IF(SUM(B36:B39)=24,IF(BT40=8,Bonu6,IF(BT40>5,Bonu7,IF(BT40>3,Bonu8,0))),0) -> 0 | CB40: Qualified Countries | CC40: ► | CE40: =IF(CC4<>"",IF(SUM(B36:B39)=24,SUMPRODUCT(COUNTIF(CA44:CA51,Qualified)),0),"") -> 0 | CJ40: =IF(SUM(B36:B39)=24,IF(CE40=8,Bonu6,IF(CE40>5,Bonu7,IF(CE40>3,Bonu8,0))),0) -> 0 | CM40: Qualified Countries | CN40: ► | CP40: =IF(CN4<>"",IF(SUM(B36:B39)=24,SUMPRODUCT(COUNTIF(CL44:CL51,Qualified)),0),"") -> 0 | CU40: =IF(SUM(B36:B39)=24,IF(CP40=8,Bonu6,IF(CP40>5,Bonu7,IF(CP40>3,Bonu8,0))),0) -> 0 | CX40: Qualified Countries | CY40: ► | DA40: =IF(CY4<>"",IF(SUM(B36:B39)=24,SUMPRODUCT(COUNTIF(CW44:CW51,Qualified)),0),"") -> 0 | DF40: =IF(SUM(B36:B39)=24,IF(DA40=8,Bonu6,IF(DA40>5,Bonu7,IF(DA40>3,Bonu8,0))),0) -> 0 | DI40: Qualified Countries | DJ40: ► | DL40: =IF(DJ4<>"",IF(SUM(B36:B39)=24,SUMPRODUCT(COUNTIF(DH44:DH51,Qualified)),0),"") -> 0 | DQ40: =IF(SUM(B36:B39)=24,IF(DL40=8,Bonu6,IF(DL40>5,Bonu7,IF(DL40>3,Bonu8,0))),0) -> 0
G43: FT | J43: PSO | M43: 61 | O43: FT | R43: PSO | V43: Bonus | X43: =IF(RIGHT(Scoreboard!B19,6)="ET.com",M43+61,M43+60) -> 122 | Z43: FT | AC43: PSO | AG43: Bonus | AI43: =X43+61 -> 183 | AK43: FT | AN43: PSO | AR43: Bonus | AT43: =AI43+61 -> 244 | AV43: FT | AY43: PSO | BC43: Bonus | BE43: =AT43+61 -> 305 | BG43: FT | BJ43: PSO | BN43: Bonus | BP43: =BE43+61 -> 366 | BR43: FT | BU43: PSO | BY43: Bonus | CA43: =BP43+61 -> 427 | CC43: FT | CF43: PSO | CJ43: Bonus | CL43: =CA43+61 -> 488 | CN43: FT | CQ43: PSO | CU43: Bonus | CW43: =CL43+61 -> 549 | CY43: FT | DB43: PSO | DF43: Bonus | DH43: =CW43+61 -> 610 | DJ43: FT | DM43: PSO | DQ43: Bonus
A44: =IF(G44<>"",A31+1,A31) -> 0 | B44: =F36 -> France | C44: 25 | D44: QF | E44: 45506.875 | F44: =F36 -> France | I44: =I37 -> Morocco | M44: =N36 -> France | N44: =IF(KOMatchRule=1,F44,N36) -> France | Q44: =IF(KOMatchRule=1,I44,Q37) -> Morocco | U44: =IF(KOMatchRule=1,IFERROR(IF(AND(G44<>"",H44<>"",O44<>"",P44<>""),IF(AND(G44=O44,H44=P44),Quar1,IF((G44-H44)=(O44-P44),Quar2,IF(AND((G44>H44),(O44>P44)),Quar3,IF(AND((H44>G44),(P44>O44)),Quar3,0)))),0),0)+IFERROR(IF(KOPSO=1,IF(AND(J44<>"",K44<>"",R44<>"",S44<>"",(G44-H44)=(O44-P44)),IF(AND(J44=R44,K44=S44),Pena1,IF((J44-K44)=(R44-S44),Pena2,IF(AND((J44>K44),(R44>S44)),Pena3,IF(AND((J44<K44),(S44>R44)),Pena3,0)))),0),0),0),IFERROR(IF(AND(F44=N44,I44=Q44,G44<>"",H44<>"",O44<>"",P44<>""),IF(AND(G44=O44,H44=P44),Quar1,IF((G44-H44)=(O44-P44),Quar2,IF(AND((G44>H44),(O44>P44)),Quar3,IF(AND((H44>G44),(P44>O44)),Quar3,0)))),0),0)+IFERROR(IF(KOPSO=1,IF(AND(F44=N44,I44=Q44,J44<>"",K44<>"",R44<>"",S44<>"",(G44-H44)=(O44-P44)),IF(AND(J44=R44,K44=S44),Pena1,IF((J44-K44)=(R44-S44),Pena2,IF(AND((J44>K44),(R44>S44)),Pena3,IF(AND((J44<K44),(S44>R44)),Pena3,0)))),0),0),0)) -> 0 | V44: =IF(SUM(B36:B39)=24,IF(KOMatchRule=0,IF(AND(SUM(B36:B39)=24,N44=F44,Q44=I44),IF(OR(AND((G44+J44)>(H44+K44),(O44+R44)>(P44+S44)),AND((G44+J44)<(H44+K44),(O44+R44)<(P44+S44))),Bonu16+Bonu9,Bonu9),0),IF(OR(AND((G44+J44)>(H44+K44),(O44+R44)>(P44+S44)),AND((G44+J44)<(H44+K44),(O44+R44)<(P44+S44))),Bonu16,0)),0) -> 0 | X44: =Y36 -> France | Y44: =IF(KOMatchRule=1,F44,Y36) -> France | AB44: =IF(KOMatchRule=1,I44,AB37) -> Morocco | AF44: =IF(KOMatchRule=1,IFERROR(IF(AND(G44<>"",H44<>"",Z44<>"",AA44<>""),IF(AND(G44=Z44,H44=AA44),Quar1,IF((G44-H44)=(Z44-AA44),Quar2,IF(AND((G44>H44),(Z44>AA44)),Quar3,IF(AND((H44>G44),(AA44>Z44)),Quar3,0)))),0),0)+IFERROR(IF(KOPSO=1,IF(AND(J44<>"",K44<>"",AC44<>"",AD44<>"",(G44-H44)=(Z44-AA44)),IF(AND(J44=AC44,K44=AD44),Pena1,IF((J44-K44)=(AC44-AD44),Pena2,IF(AND((J44>K44),(AC44>AD44)),Pena3,IF(AND((J44<K44),(AD44>AC44)),Pena3,0)))),0),0),0),IFERROR(IF(AND(F44=Y44,I44=AB44,G44<>"",H44<>"",Z44<>"",AA44<>""),IF(AND(G44=Z44,H44=AA44),Quar1,IF((G44-H44)=(Z44-AA44),Quar2,IF(AND((G44>H44),(Z44>AA44)),Quar3,IF(AND((H44>G44),(AA44>Z44)),Quar3,0)))),0),0)+IFERROR(IF(KOPSO=1,IF(AND(F44=Y44,I44=AB44,J44<>"",K44<>"",AC44<>"",AD44<>"",(G44-H44)=(Z44-AA44)),IF(AND(J44=AC44,K44=AD44),Pena1,IF((J44-K44)=(AC44-AD44),Pena2,IF(AND((J44>K44),(AC44>AD44)),Pena3,IF(AND((J44<K44),(AD44>AC44)),Pena3,0)))),0),0),0)) -> 0 | AG44: =IF(SUM(B36:B39)=24,IF(KOMatchRule=0,IF(AND(SUM(B36:B39)=24,Y44=F44,AB44=I44),IF(OR(AND((G44+J44)>(H44+K44),(Z44+AC44)>(AA44+AD44)),AND((G44+J44)<(H44+K44),(Z44+AC44)<(AA44+AD44))),Bonu16+Bonu9,Bonu9),0),IF(OR(AND((G44+J44)>(H44+K44),(Z44+AC44)>(AA44+AD44)),AND((G44+J44)<(H44+K44),(Z44+AC44)<(AA44+AD44))),Bonu16,0)),0) -> 0 | AI44: =AJ36 -> France | AJ44: =IF(KOMatchRule=1,F44,AJ36) -> France | AM44: =IF(KOMatchRule=1,I44,AM37) -> Morocco | AQ44: =IF(KOMatchRule=1,IFERROR(IF(AND(G44<>"",H44<>"",AK44<>"",AL44<>""),IF(AND(G44=AK44,H44=AL44),Quar1,IF((G44-H44)=(AK44-AL44),Quar2,IF(AND((G44>H44),(AK44>AL44)),Quar3,IF(AND((H44>G44),(AL44>AK44)),Quar3,0)))),0),0)+IFERROR(IF(KOPSO=1,IF(AND(J44<>"",K44<>"",AN44<>"",AO44<>"",(G44-H44)=(AK44-AL44)),IF(AND(J44=AN44,K44=AO44),Pena1,IF((J44-K44)=(AN44-AO44),Pena2,IF(AND((J44>K44),(AN44>AO44)),Pena3,IF(AND((J44<K44),(AO44>AN44)),Pena3,0)))),0),0),0),IFERROR(IF(AND(F44=AJ44,I44=AM44,G44<>"",H44<>"",AK44<>"",AL44<>""),IF(AND(G44=AK44,H44=AL44),Quar1,IF((G44-H44)=(AK44-AL44),Quar2,IF(AND((G44>H44),(AK44>AL44)),Quar3,IF(AND((H44>G44),(AL44>AK44)),Quar3,0)))),0),0)+IFERROR(IF(KOPSO=1,IF(AND(F44=AJ44,I44=AM44,J44<>"",K44<>"",AN44<>"",AO44<>"",(G44-H44)=(AK44-AL44)),IF(AND(J44=AN44,K44=AO44),Pena1,IF((J44-K44)=(AN44-AO44),Pena2,IF(AND((J44>K44),(AN44>AO44)),Pena3,IF(AND((J44<K44),(AO44>AN44)),Pena3,0)))),0),0),0)) -> 0 | AR44: =IF(SUM(B36:B39)=24,IF(KOMatchRule=0,IF(AND(SUM(B36:B39)=24,AJ44=F44,AM44=I44),IF(OR(AND((G44+J44)>(H44+K44),(AK44+AN44)>(AL44+AO44)),AND((G44+J44)<(H44+K44),(AK44+AN44)<(AL44+AO44))),Bonu16+Bonu9,Bonu9),0),IF(OR(AND((G44+J44)>(H44+K44),(AK44+AN44)>(AL44+AO44)),AND((G44+J44)<(H44+K44),(AK44+AN44)<(AL44+AO44))),Bonu16,0)),0) -> 0 | AT44: =AU36 -> France | AU44: =IF(KOMatchRule=1,F44,AU36) -> France | AX44: =IF(KOMatchRule=1,I44,AX37) -> Morocco | BB44: =IF(KOMatchRule=1,IFERROR(IF(AND(G44<>"",H44<>"",AV44<>"",AW44<>""),IF(AND(G44=AV44,H44=AW44),Quar1,IF((G44-H44)=(AV44-AW44),Quar2,IF(AND((G44>H44),(AV44>AW44)),Quar3,IF(AND((H44>G44),(AW44>AV44)),Quar3,0)))),0),0)+IFERROR(IF(KOPSO=1,IF(AND(J44<>"",K44<>"",AY44<>"",AZ44<>"",(G44-H44)=(AV44-AW44)),IF(AND(J44=AY44,K44=AZ44),Pena1,IF((J44-K44)=(AY44-AZ44),Pena2,IF(AND((J44>K44),(AY44>AZ44)),Pena3,IF(AND((J44<K44),(AZ44>AY44)),Pena3,0)))),0),0),0),IFERROR(IF(AND(F44=AU44,I44=AX44,G44<>"",H44<>"",AV44<>"",AW44<>""),IF(AND(G44=AV44,H44=AW44),Quar1,IF((G44-H44)=(AV44-AW44),Quar2,IF(AND((G44>H44),(AV44>AW44)),Quar3,IF(AND((H44>G44),(AW44>AV44)),Quar3,0)))),0),0)+IFERROR(IF(KOPSO=1,IF(AND(F44=AU44,I44=AX44,J44<>"",K44<>"",AY44<>"",AZ44<>"",(G44-H44)=(AV44-AW44)),IF(AND(J44=AY44,K44=AZ44),Pena1,IF((J44-K44)=(AY44-AZ44),Pena2,IF(AND((J44>K44),(AY44>AZ44)),Pena3,IF(AND((J44<K44),(AZ44>AY44)),Pena3,0)))),0),0),0)) -> 0 | BC44: =IF(SUM(B36:B39)=24,IF(KOMatchRule=0,IF(AND(SUM(B36:B39)=24,AU44=F44,AX44=I44),IF(OR(AND((G44+J44)>(H44+K44),(AV44+AY44)>(AW44+AZ44)),AND((G44+J44)<(H44+K44),(AV44+AY44)<(AW44+AZ44))),Bonu16+Bonu9,Bonu9),0),IF(OR(AND((G44+J44)>(H44+K44),(AV44+AY44)>(AW44+AZ44)),AND((G44+J44)<(H44+K44),(AV44+AY44)<(AW44+AZ44))),Bonu16,0)),0) -> 0 | BE44: =BF36 -> France | BF44: =IF(KOMatchRule=1,F44,BF36) -> France | BI44: =IF(KOMatchRule=1,I44,BI37) -> Morocco | BM44: =IF(KOMatchRule=1,IFERROR(IF(AND(G44<>"",H44<>"",BG44<>"",BH44<>""),IF(AND(G44=BG44,H44=BH44),Quar1,IF((G44-H44)=(BG44-BH44),Quar2,IF(AND((G44>H44),(BG44>BH44)),Quar3,IF(AND((H44>G44),(BH44>BG44)),Quar3,0)))),0),0)+IFERROR(IF(KOPSO=1,IF(AND(J44<>"",K44<>"",BJ44<>"",BK44<>"",(G44-H44)=(BG44-BH44)),IF(AND(J44=BJ44,K44=BK44),Pena1,IF((J44-K44)=(BJ44-BK44),Pena2,IF(AND((J44>K44),(BJ44>BK44)),Pena3,IF(AND((J44<K44),(BK44>BJ44)),Pena3,0)))),0),0),0),IFERROR(IF(AND(F44=BF44,I44=BI44,G44<>"",H44<>"",BG44<>"",BH44<>""),IF(AND(G44=BG44,H44=BH44),Quar1,IF((G44-H44)=(BG44-BH44),Quar2,IF(AND((G44>H44),(BG44>BH44)),Quar3,IF(AND((H44>G44),(BH44>BG44)),Quar3,0)))),0),0)+IFERROR(IF(KOPSO=1,IF(AND(F44=BF44,I44=BI44,J44<>"",K44<>"",BJ44<>"",BK44<>"",(G44-H44)=(BG44-BH44)),IF(AND(J44=BJ44,K44=BK44),Pena1,IF((J44-K44)=(BJ44-BK44),Pena2,IF(AND((J44>K44),(BJ44>BK44)),Pena3,IF(AND((J44<K44),(BK44>BJ44)),Pena3,0)))),0),0),0)) -> 0 | BN44: =IF(SUM(B36:B39)=24,IF(KOMatchRule=0,IF(AND(SUM(B36:B39)=24,BF44=F44,BI44=I44),IF(OR(AND((G44+J44)>(H44+K44),(BG44+BJ44)>(BH44+BK44)),AND((G44+J44)<(H44+K44),(BG44+BJ44)<(BH44+BK44))),Bonu16+Bonu9,Bonu9),0),IF(OR(AND((G44+J44)>(H44+K44),(BG44+BJ44)>(BH44+BK44)),AND((G44+J44)<(H44+K44),(BG44+BJ44)<(BH44+BK44))),Bonu16,0)),0) -> 0 | BP44: =BQ36 -> France | BQ44: =IF(KOMatchRule=1,F44,BQ36) -> France | BT44: =IF(KOMatchRule=1,I44,BT37) -> Morocco | BX44: =IF(KOMatchRule=1,IFERROR(IF(AND(G44<>"",H44<>"",BR44<>"",BS44<>""),IF(AND(G44=BR44,H44=BS44),Quar1,IF((G44-H44)=(BR44-BS44),Quar2,IF(AND((G44>H44),(BR44>BS44)),Quar3,IF(AND((H44>G44),(BS44>BR44)),Quar3,0)))),0),0)+IFERROR(IF(KOPSO=1,IF(AND(J44<>"",K44<>"",BU44<>"",BV44<>"",(G44-H44)=(BR44-BS44)),IF(AND(J44=BU44,K44=BV44),Pena1,IF((J44-K44)=(BU44-BV44),Pena2,IF(AND((J44>K44),(BU44>BV44)),Pena3,IF(AND((J44<K44),(BV44>BU44)),Pena3,0)))),0),0),0),IFERROR(IF(AND(F44=BQ44,I44=BT44,G44<>"",H44<>"",BR44<>"",BS44<>""),IF(AND(G44=BR44,H44=BS44),Quar1,IF((G44-H44)=(BR44-BS44),Quar2,IF(AND((G44>H44),(BR44>BS44)),Quar3,IF(AND((H44>G44),(BS44>BR44)),Quar3,0)))),0),0)+IFERROR(IF(KOPSO=1,IF(AND(F44=BQ44,I44=BT44,J44<>"",K44<>"",BU44<>"",BV44<>"",(G44-H44)=(BR44-BS44)),IF(AND(J44=BU44,K44=BV44),Pena1,IF((J44-K44)=(BU44-BV44),Pena2,IF(AND((J44>K44),(BU44>BV44)),Pena3,IF(AND((J44<K44),(BV44>BU44)),Pena3,0)))),0),0),0)) -> 0 | BY44: =IF(SUM(B36:B39)=24,IF(KOMatchRule=0,IF(AND(SUM(B36:B39)=24,BQ44=F44,BT44=I44),IF(OR(AND((G44+J44)>(H44+K44),(BR44+BU44)>(BS44+BV44)),AND((G44+J44)<(H44+K44),(BR44+BU44)<(BS44+BV44))),Bonu16+Bonu9,Bonu9),0),IF(OR(AND((G44+J44)>(H44+K44),(BR44+BU44)>(BS44+BV44)),AND((G44+J44)<(H44+K44),(BR44+BU44)<(BS44+BV44))),Bonu16,0)),0) -> 0 | CA44: =CB36 -> France | CB44: =IF(KOMatchRule=1,F44,CB36) -> France | CE44: =IF(KOMatchRule=1,I44,CE37) -> Morocco | CI44: =IF(KOMatchRule=1,IFERROR(IF(AND(G44<>"",H44<>"",CC44<>"",CD44<>""),IF(AND(G44=CC44,H44=CD44),Quar1,IF((G44-H44)=(CC44-CD44),Quar2,IF(AND((G44>H44),(CC44>CD44)),Quar3,IF(AND((H44>G44),(CD44>CC44)),Quar3,0)))),0),0)+IFERROR(IF(KOPSO=1,IF(AND(J44<>"",K44<>"",CF44<>"",CG44<>"",(G44-H44)=(CC44-CD44)),IF(AND(J44=CF44,K44=CG44),Pena1,IF((J44-K44)=(CF44-CG44),Pena2,IF(AND((J44>K44),(CF44>CG44)),Pena3,IF(AND((J44<K44),(CG44>CF44)),Pena3,0)))),0),0),0),IFERROR(IF(AND(F44=CB44,I44=CE44,G44<>"",H44<>"",CC44<>"",CD44<>""),IF(AND(G44=CC44,H44=CD44),Quar1,IF((G44-H44)=(CC44-CD44),Quar2,IF(AND((G44>H44),(CC44>CD44)),Quar3,IF(AND((H44>G44),(CD44>CC44)),Quar3,0)))),0),0)+IFERROR(IF(KOPSO=1,IF(AND(F44=CB44,I44=CE44,J44<>"",K44<>"",CF44<>"",CG44<>"",(G44-H44)=(CC44-CD44)),IF(AND(J44=CF44,K44=CG44),Pena1,IF((J44-K44)=(CF44-CG44),Pena2,IF(AND((J44>K44),(CF44>CG44)),Pena3,IF(AND((J44<K44),(CG44>CF44)),Pena3,0)))),0),0),0)) -> 0 | CJ44: =IF(SUM(B36:B39)=24,IF(KOMatchRule=0,IF(AND(SUM(B36:B39)=24,CB44=F44,CE44=I44),IF(OR(AND((G44+J44)>(H44+K44),(CC44+CF44)>(CD44+CG44)),AND((G44+J44)<(H44+K44),(CC44+CF44)<(CD44+CG44))),Bonu16+Bonu9,Bonu9),0),IF(OR(AND((G44+J44)>(H44+K44),(CC44+CF44)>(CD44+CG44)),AND((G44+J44)<(H44+K44),(CC44+CF44)<(CD44+CG44))),Bonu16,0)),0) -> 0 | CL44: =CM36 -> France | CM44: =IF(KOMatchRule=1,F44,CM36) -> France | CP44: =IF(KOMatchRule=1,I44,CP37) -> Morocco | CT44: =IF(KOMatchRule=1,IFERROR(IF(AND(G44<>"",H44<>"",CN44<>"",CO44<>""),IF(AND(G44=CN44,H44=CO44),Quar1,IF((G44-H44)=(CN44-CO44),Quar2,IF(AND((G44>H44),(CN44>CO44)),Quar3,IF(AND((H44>G44),(CO44>CN44)),Quar3,0)))),0),0)+IFERROR(IF(KOPSO=1,IF(AND(J44<>"",K44<>"",CQ44<>"",CR44<>"",(G44-H44)=(CN44-CO44)),IF(AND(J44=CQ44,K44=CR44),Pena1,IF((J44-K44)=(CQ44-CR44),Pena2,IF(AND((J44>K44),(CQ44>CR44)),Pena3,IF(AND((J44<K44),(CR44>CQ44)),Pena3,0)))),0),0),0),IFERROR(IF(AND(F44=CM44,I44=CP44,G44<>"",H44<>"",CN44<>"",CO44<>""),IF(AND(G44=CN44,H44=CO44),Quar1,IF((G44-H44)=(CN44-CO44),Quar2,IF(AND((G44>H44),(CN44>CO44)),Quar3,IF(AND((H44>G44),(CO44>CN44)),Quar3,0)))),0),0)+IFERROR(IF(KOPSO=1,IF(AND(F44=CM44,I44=CP44,J44<>"",K44<>"",CQ44<>"",CR44<>"",(G44-H44)=(CN44-CO44)),IF(AND(J44=CQ44,K44=CR44),Pena1,IF((J44-K44)=(CQ44-CR44),Pena2,IF(AND((J44>K44),(CQ44>CR44)),Pena3,IF(AND((J44<K44),(CR44>CQ44)),Pena3,0)))),0),0),0)) -> 0 | CU44: =IF(SUM(B36:B39)=24,IF(KOMatchRule=0,IF(AND(SUM(B36:B39)=24,CM44=F44,CP44=I44),IF(OR(AND((G44+J44)>(H44+K44),(CN44+CQ44)>(CO44+CR44)),AND((G44+J44)<(H44+K44),(CN44+CQ44)<(CO44+CR44))),Bonu16+Bonu9,Bonu9),0),IF(OR(AND((G44+J44)>(H44+K44),(CN44+CQ44)>(CO44+CR44)),AND((G44+J44)<(H44+K44),(CN44+CQ44)<(CO44+CR44))),Bonu16,0)),0) -> 0 | CW44: =CX36 -> France | CX44: =IF(KOMatchRule=1,F44,CX36) -> France | DA44: =IF(KOMatchRule=1,I44,DA37) -> Morocco | DE44: =IF(KOMatchRule=1,IFERROR(IF(AND(G44<>"",H44<>"",CY44<>"",CZ44<>""),IF(AND(G44=CY44,H44=CZ44),Quar1,IF((G44-H44)=(CY44-CZ44),Quar2,IF(AND((G44>H44),(CY44>CZ44)),Quar3,IF(AND((H44>G44),(CZ44>CY44)),Quar3,0)))),0),0)+IFERROR(IF(KOPSO=1,IF(AND(J44<>"",K44<>"",DB44<>"",DC44<>"",(G44-H44)=(CY44-CZ44)),IF(AND(J44=DB44,K44=DC44),Pena1,IF((J44-K44)=(DB44-DC44),Pena2,IF(AND((J44>K44),(DB44>DC44)),Pena3,IF(AND((J44<K44),(DC44>DB44)),Pena3,0)))),0),0),0),IFERROR(IF(AND(F44=CX44,I44=DA44,G44<>"",H44<>"",CY44<>"",CZ44<>""),IF(AND(G44=CY44,H44=CZ44),Quar1,IF((G44-H44)=(CY44-CZ44),Quar2,IF(AND((G44>H44),(CY44>CZ44)),Quar3,IF(AND((H44>G44),(CZ44>CY44)),Quar3,0)))),0),0)+IFERROR(IF(KOPSO=1,IF(AND(F44=CX44,I44=DA44,J44<>"",K44<>"",DB44<>"",DC44<>"",(G44-H44)=(CY44-CZ44)),IF(AND(J44=DB44,K44=DC44),Pena1,IF((J44-K44)=(DB44-DC44),Pena2,IF(AND((J44>K44),(DB44>DC44)),Pena3,IF(AND((J44<K44),(DC44>DB44)),Pena3,0)))),0),0),0)) -> 0 | DF44: =IF(SUM(B36:B39)=24,IF(KOMatchRule=0,IF(AND(SUM(B36:B39)=24,CX44=F44,DA44=I44),IF(OR(AND((G44+J44)>(H44+K44),(CY44+DB44)>(CZ44+DC44)),AND((G44+J44)<(H44+K44),(CY44+DB44)<(CZ44+DC44))),Bonu16+Bonu9,Bonu9),0),IF(OR(AND((G44+J44)>(H44+K44),(CY44+DB44)>(CZ44+DC44)),AND((G44+J44)<(H44+K44),(CY44+DB44)<(CZ44+DC44))),Bonu16,0)),0) -> 0 | DH44: =DI36 -> France | DI44: =IF(KOMatchRule=1,F44,DI36) -> France | DL44: =IF(KOMatchRule=1,I44,DL37) -> Morocco | DP44: =IF(KOMatchRule=1,IFERROR(IF(AND(G44<>"",H44<>"",DJ44<>"",DK44<>""),IF(AND(G44=DJ44,H44=DK44),Quar1,IF((G44-H44)=(DJ44-DK44),Quar2,IF(AND((G44>H44),(DJ44>DK44)),Quar3,IF(AND((H44>G44),(DK44>DJ44)),Quar3,0)))),0),0)+IFERROR(IF(KOPSO=1,IF(AND(J44<>"",K44<>"",DM44<>"",DN44<>"",(G44-H44)=(DJ44-DK44)),IF(AND(J44=DM44,K44=DN44),Pena1,IF((J44-K44)=(DM44-DN44),Pena2,IF(AND((J44>K44),(DM44>DN44)),Pena3,IF(AND((J44<K44),(DN44>DM44)),Pena3,0)))),0),0),0),IFERROR(IF(AND(F44=DI44,I44=DL44,G44<>"",H44<>"",DJ44<>"",DK44<>""),IF(AND(G44=DJ44,H44=DK44),Quar1,IF((G44-H44)=(DJ44-DK44),Quar2,IF(AND((G44>H44),(DJ44>DK44)),Quar3,IF(AND((H44>G44),(DK44>DJ44)),Quar3,0)))),0),0)+IFERROR(IF(KOPSO=1,IF(AND(F44=DI44,I44=DL44,J44<>"",K44<>"",DM44<>"",DN44<>"",(G44-H44)=(DJ44-DK44)),IF(AND(J44=DM44,K44=DN44),Pena1,IF((J44-K44)=(DM44-DN44),Pena2,IF(AND((J44>K44),(DM44>DN44)),Pena3,IF(AND((J44<K44),(DN44>DM44)),Pena3,0)))),0),0),0)) -> 0 | DQ44: =IF(SUM(B36:B39)=24,IF(KOMatchRule=0,IF(AND(SUM(B36:B39)=24,DI44=F44,DL44=I44),IF(OR(AND((G44+J44)>(H44+K44),(DJ44+DM44)>(DK44+DN44)),AND((G44+J44)<(H44+K44),(DJ44+DM44)<(DK44+DN44))),Bonu16+Bonu9,Bonu9),0),IF(OR(AND((G44+J44)>(H44+K44),(DJ44+DM44)>(DK44+DN44)),AND((G44+J44)<(H44+K44),(DJ44+DM44)<(DK44+DN44))),Bonu16,0)),0) -> 0
A45: =IF(G45<>"",A44+1,A44) -> 0 | B45: =F37 -> Argentina | C45: 26 | D45: QF | E45: 45506.625 | F45: =F37 -> Argentina | I45: =I36 -> United States | M45: =N37 -> Argentina | N45: =IF(KOMatchRule=1,F45,N37) -> Argentina | Q45: =IF(KOMatchRule=1,I45,Q36) -> United States | U45: =IF(KOMatchRule=1,IFERROR(IF(AND(G45<>"",H45<>"",O45<>"",P45<>""),IF(AND(G45=O45,H45=P45),Quar1,IF((G45-H45)=(O45-P45),Quar2,IF(AND((G45>H45),(O45>P45)),Quar3,IF(AND((H45>G45),(P45>O45)),Quar3,0)))),0),0)+IFERROR(IF(KOPSO=1,IF(AND(J45<>"",K45<>"",R45<>"",S45<>"",(G45-H45)=(O45-P45)),IF(AND(J45=R45,K45=S45),Pena1,IF((J45-K45)=(R45-S45),Pena2,IF(AND((J45>K45),(R45>S45)),Pena3,IF(AND((J45<K45),(S45>R45)),Pena3,0)))),0),0),0),IFERROR(IF(AND(F45=N45,I45=Q45,G45<>"",H45<>"",O45<>"",P45<>""),IF(AND(G45=O45,H45=P45),Quar1,IF((G45-H45)=(O45-P45),Quar2,IF(AND((G45>H45),(O45>P45)),Quar3,IF(AND((H45>G45),(P45>O45)),Quar3,0)))),0),0)+IFERROR(IF(KOPSO=1,IF(AND(F45=N45,I45=Q45,J45<>"",K45<>"",R45<>"",S45<>"",(G45-H45)=(O45-P45)),IF(AND(J45=R45,K45=S45),Pena1,IF((J45-K45)=(R45-S45),Pena2,IF(AND((J45>K45),(R45>S45)),Pena3,IF(AND((J45<K45),(S45>R45)),Pena3,0)))),0),0),0)) -> 0 | V45: =IF(SUM(B36:B39)=24,IF(KOMatchRule=0,IF(AND(SUM(B36:B39)=24,N45=F45,Q45=I45),IF(OR(AND((G45+J45)>(H45+K45),(O45+R45)>(P45+S45)),AND((G45+J45)<(H45+K45),(O45+R45)<(P45+S45))),Bonu16+Bonu9,Bonu9),0),IF(OR(AND((G45+J45)>(H45+K45),(O45+R45)>(P45+S45)),AND((G45+J45)<(H45+K45),(O45+R45)<(P45+S45))),Bonu16,0)),0) -> 0 | X45: =Y37 -> Argentina | Y45: =IF(KOMatchRule=1,F45,Y37) -> Argentina | AB45: =IF(KOMatchRule=1,I45,AB36) -> United States | AF45: =IF(KOMatchRule=1,IFERROR(IF(AND(G45<>"",H45<>"",Z45<>"",AA45<>""),IF(AND(G45=Z45,H45=AA45),Quar1,IF((G45-H45)=(Z45-AA45),Quar2,IF(AND((G45>H45),(Z45>AA45)),Quar3,IF(AND((H45>G45),(AA45>Z45)),Quar3,0)))),0),0)+IFERROR(IF(KOPSO=1,IF(AND(J45<>"",K45<>"",AC45<>"",AD45<>"",(G45-H45)=(Z45-AA45)),IF(AND(J45=AC45,K45=AD45),Pena1,IF((J45-K45)=(AC45-AD45),Pena2,IF(AND((J45>K45),(AC45>AD45)),Pena3,IF(AND((J45<K45),(AD45>AC45)),Pena3,0)))),0),0),0),IFERROR(IF(AND(F45=Y45,I45=AB45,G45<>"",H45<>"",Z45<>"",AA45<>""),IF(AND(G45=Z45,H45=AA45),Quar1,IF((G45-H45)=(Z45-AA45),Quar2,IF(AND((G45>H45),(Z45>AA45)),Quar3,IF(AND((H45>G45),(AA45>Z45)),Quar3,0)))),0),0)+IFERROR(IF(KOPSO=1,IF(AND(F45=Y45,I45=AB45,J45<>"",K45<>"",AC45<>"",AD45<>"",(G45-H45)=(Z45-AA45)),IF(AND(J45=AC45,K45=AD45),Pena1,IF((J45-K45)=(AC45-AD45),Pena2,IF(AND((J45>K45),(AC45>AD45)),Pena3,IF(AND((J45<K45),(AD45>AC45)),Pena3,0)))),0),0),0)) -> 0 | AG45: =IF(SUM(B36:B39)=24,IF(KOMatchRule=0,IF(AND(SUM(B36:B39)=24,Y45=F45,AB45=I45),IF(OR(AND((G45+J45)>(H45+K45),(Z45+AC45)>(AA45+AD45)),AND((G45+J45)<(H45+K45),(Z45+AC45)<(AA45+AD45))),Bonu16+Bonu9,Bonu9),0),IF(OR(AND((G45+J45)>(H45+K45),(Z45+AC45)>(AA45+AD45)),AND((G45+J45)<(H45+K45),(Z45+AC45)<(AA45+AD45))),Bonu16,0)),0) -> 0 | AI45: =AJ37 -> Argentina | AJ45: =IF(KOMatchRule=1,F45,AJ37) -> Argentina | AM45: =IF(KOMatchRule=1,I45,AM36) -> United States | AQ45: =IF(KOMatchRule=1,IFERROR(IF(AND(G45<>"",H45<>"",AK45<>"",AL45<>""),IF(AND(G45=AK45,H45=AL45),Quar1,IF((G45-H45)=(AK45-AL45),Quar2,IF(AND((G45>H45),(AK45>AL45)),Quar3,IF(AND((H45>G45),(AL45>AK45)),Quar3,0)))),0),0)+IFERROR(IF(KOPSO=1,IF(AND(J45<>"",K45<>"",AN45<>"",AO45<>"",(G45-H45)=(AK45-AL45)),IF(AND(J45=AN45,K45=AO45),Pena1,IF((J45-K45)=(AN45-AO45),Pena2,IF(AND((J45>K45),(AN45>AO45)),Pena3,IF(AND((J45<K45),(AO45>AN45)),Pena3,0)))),0),0),0),IFERROR(IF(AND(F45=AJ45,I45=AM45,G45<>"",H45<>"",AK45<>"",AL45<>""),IF(AND(G45=AK45,H45=AL45),Quar1,IF((G45-H45)=(AK45-AL45),Quar2,IF(AND((G45>H45),(AK45>AL45)),Quar3,IF(AND((H45>G45),(AL45>AK45)),Quar3,0)))),0),0)+IFERROR(IF(KOPSO=1,IF(AND(F45=AJ45,I45=AM45,J45<>"",K45<>"",AN45<>"",AO45<>"",(G45-H45)=(AK45-AL45)),IF(AND(J45=AN45,K45=AO45),Pena1,IF((J45-K45)=(AN45-AO45),Pena2,IF(AND((J45>K45),(AN45>AO45)),Pena3,IF(AND((J45<K45),(AO45>AN45)),Pena3,0)))),0),0),0)) -> 0 | AR45: =IF(SUM(B36:B39)=24,IF(KOMatchRule=0,IF(AND(SUM(B36:B39)=24,AJ45=F45,AM45=I45),IF(OR(AND((G45+J45)>(H45+K45),(AK45+AN45)>(AL45+AO45)),AND((G45+J45)<(H45+K45),(AK45+AN45)<(AL45+AO45))),Bonu16+Bonu9,Bonu9),0),IF(OR(AND((G45+J45)>(H45+K45),(AK45+AN45)>(AL45+AO45)),AND((G45+J45)<(H45+K45),(AK45+AN45)<(AL45+AO45))),Bonu16,0)),0) -> 0 | AT45: =AU37 -> Argentina | AU45: =IF(KOMatchRule=1,F45,AU37) -> Argentina | AX45: =IF(KOMatchRule=1,I45,AX36) -> United States | BB45: =IF(KOMatchRule=1,IFERROR(IF(AND(G45<>"",H45<>"",AV45<>"",AW45<>""),IF(AND(G45=AV45,H45=AW45),Quar1,IF((G45-H45)=(AV45-AW45),Quar2,IF(AND((G45>H45),(AV45>AW45)),Quar3,IF(AND((H45>G45),(AW45>AV45)),Quar3,0)))),0),0)+IFERROR(IF(KOPSO=1,IF(AND(J45<>"",K45<>"",AY45<>"",AZ45<>"",(G45-H45)=(AV45-AW45)),IF(AND(J45=AY45,K45=AZ45),Pena1,IF((J45-K45)=(AY45-AZ45),Pena2,IF(AND((J45>K45),(AY45>AZ45)),Pena3,IF(AND((J45<K45),(AZ45>AY45)),Pena3,0)))),0),0),0),IFERROR(IF(AND(F45=AU45,I45=AX45,G45<>"",H45<>"",AV45<>"",AW45<>""),IF(AND(G45=AV45,H45=AW45),Quar1,IF((G45-H45)=(AV45-AW45),Quar2,IF(AND((G45>H45),(AV45>AW45)),Quar3,IF(AND((H45>G45),(AW45>AV45)),Quar3,0)))),0),0)+IFERROR(IF(KOPSO=1,IF(AND(F45=AU45,I45=AX45,J45<>"",K45<>"",AY45<>"",AZ45<>"",(G45-H45)=(AV45-AW45)),IF(AND(J45=AY45,K45=AZ45),Pena1,IF((J45-K45)=(AY45-AZ45),Pena2,IF(AND((J45>K45),(AY45>AZ45)),Pena3,IF(AND((J45<K45),(AZ45>AY45)),Pena3,0)))),0),0),0)) -> 0 | BC45: =IF(SUM(B36:B39)=24,IF(KOMatchRule=0,IF(AND(SUM(B36:B39)=24,AU45=F45,AX45=I45),IF(OR(AND((G45+J45)>(H45+K45),(AV45+AY45)>(AW45+AZ45)),AND((G45+J45)<(H45+K45),(AV45+AY45)<(AW45+AZ45))),Bonu16+Bonu9,Bonu9),0),IF(OR(AND((G45+J45)>(H45+K45),(AV45+AY45)>(AW45+AZ45)),AND((G45+J45)<(H45+K45),(AV45+AY45)<(AW45+AZ45))),Bonu16,0)),0) -> 0 | BE45: =BF37 -> Argentina | BF45: =IF(KOMatchRule=1,F45,BF37) -> Argentina | BI45: =IF(KOMatchRule=1,I45,BI36) -> United States | BM45: =IF(KOMatchRule=1,IFERROR(IF(AND(G45<>"",H45<>"",BG45<>"",BH45<>""),IF(AND(G45=BG45,H45=BH45),Quar1,IF((G45-H45)=(BG45-BH45),Quar2,IF(AND((G45>H45),(BG45>BH45)),Quar3,IF(AND((H45>G45),(BH45>BG45)),Quar3,0)))),0),0)+IFERROR(IF(KOPSO=1,IF(AND(J45<>"",K45<>"",BJ45<>"",BK45<>"",(G45-H45)=(BG45-BH45)),IF(AND(J45=BJ45,K45=BK45),Pena1,IF((J45-K45)=(BJ45-BK45),Pena2,IF(AND((J45>K45),(BJ45>BK45)),Pena3,IF(AND((J45<K45),(BK45>BJ45)),Pena3,0)))),0),0),0),IFERROR(IF(AND(F45=BF45,I45=BI45,G45<>"",H45<>"",BG45<>"",BH45<>""),IF(AND(G45=BG45,H45=BH45),Quar1,IF((G45-H45)=(BG45-BH45),Quar2,IF(AND((G45>H45),(BG45>BH45)),Quar3,IF(AND((H45>G45),(BH45>BG45)),Quar3,0)))),0),0)+IFERROR(IF(KOPSO=1,IF(AND(F45=BF45,I45=BI45,J45<>"",K45<>"",BJ45<>"",BK45<>"",(G45-H45)=(BG45-BH45)),IF(AND(J45=BJ45,K45=BK45),Pena1,IF((J45-K45)=(BJ45-BK45),Pena2,IF(AND((J45>K45),(BJ45>BK45)),Pena3,IF(AND((J45<K45),(BK45>BJ45)),Pena3,0)))),0),0),0)) -> 0 | BN45: =IF(SUM(B36:B39)=24,IF(KOMatchRule=0,IF(AND(SUM(B36:B39)=24,BF45=F45,BI45=I45),IF(OR(AND((G45+J45)>(H45+K45),(BG45+BJ45)>(BH45+BK45)),AND((G45+J45)<(H45+K45),(BG45+BJ45)<(BH45+BK45))),Bonu16+Bonu9,Bonu9),0),IF(OR(AND((G45+J45)>(H45+K45),(BG45+BJ45)>(BH45+BK45)),AND((G45+J45)<(H45+K45),(BG45+BJ45)<(BH45+BK45))),Bonu16,0)),0) -> 0 | BP45: =BQ37 -> Argentina | BQ45: =IF(KOMatchRule=1,F45,BQ37) -> Argentina | BT45: =IF(KOMatchRule=1,I45,BT36) -> United States | BX45: =IF(KOMatchRule=1,IFERROR(IF(AND(G45<>"",H45<>"",BR45<>"",BS45<>""),IF(AND(G45=BR45,H45=BS45),Quar1,IF((G45-H45)=(BR45-BS45),Quar2,IF(AND((G45>H45),(BR45>BS45)),Quar3,IF(AND((H45>G45),(BS45>BR45)),Quar3,0)))),0),0)+IFERROR(IF(KOPSO=1,IF(AND(J45<>"",K45<>"",BU45<>"",BV45<>"",(G45-H45)=(BR45-BS45)),IF(AND(J45=BU45,K45=BV45),Pena1,IF((J45-K45)=(BU45-BV45),Pena2,IF(AND((J45>K45),(BU45>BV45)),Pena3,IF(AND((J45<K45),(BV45>BU45)),Pena3,0)))),0),0),0),IFERROR(IF(AND(F45=BQ45,I45=BT45,G45<>"",H45<>"",BR45<>"",BS45<>""),IF(AND(G45=BR45,H45=BS45),Quar1,IF((G45-H45)=(BR45-BS45),Quar2,IF(AND((G45>H45),(BR45>BS45)),Quar3,IF(AND((H45>G45),(BS45>BR45)),Quar3,0)))),0),0)+IFERROR(IF(KOPSO=1,IF(AND(F45=BQ45,I45=BT45,J45<>"",K45<>"",BU45<>"",BV45<>"",(G45-H45)=(BR45-BS45)),IF(AND(J45=BU45,K45=BV45),Pena1,IF((J45-K45)=(BU45-BV45),Pena2,IF(AND((J45>K45),(BU45>BV45)),Pena3,IF(AND((J45<K45),(BV45>BU45)),Pena3,0)))),0),0),0)) -> 0 | BY45: =IF(SUM(B36:B39)=24,IF(KOMatchRule=0,IF(AND(SUM(B36:B39)=24,BQ45=F45,BT45=I45),IF(OR(AND((G45+J45)>(H45+K45),(BR45+BU45)>(BS45+BV45)),AND((G45+J45)<(H45+K45),(BR45+BU45)<(BS45+BV45))),Bonu16+Bonu9,Bonu9),0),IF(OR(AND((G45+J45)>(H45+K45),(BR45+BU45)>(BS45+BV45)),AND((G45+J45)<(H45+K45),(BR45+BU45)<(BS45+BV45))),Bonu16,0)),0) -> 0 | CA45: =CB37 -> Argentina | CB45: =IF(KOMatchRule=1,F45,CB37) -> Argentina | CE45: =IF(KOMatchRule=1,I45,CE36) -> United States | CI45: =IF(KOMatchRule=1,IFERROR(IF(AND(G45<>"",H45<>"",CC45<>"",CD45<>""),IF(AND(G45=CC45,H45=CD45),Quar1,IF((G45-H45)=(CC45-CD45),Quar2,IF(AND((G45>H45),(CC45>CD45)),Quar3,IF(AND((H45>G45),(CD45>CC45)),Quar3,0)))),0),0)+IFERROR(IF(KOPSO=1,IF(AND(J45<>"",K45<>"",CF45<>"",CG45<>"",(G45-H45)=(CC45-CD45)),IF(AND(J45=CF45,K45=CG45),Pena1,IF((J45-K45)=(CF45-CG45),Pena2,IF(AND((J45>K45),(CF45>CG45)),Pena3,IF(AND((J45<K45),(CG45>CF45)),Pena3,0)))),0),0),0),IFERROR(IF(AND(F45=CB45,I45=CE45,G45<>"",H45<>"",CC45<>"",CD45<>""),IF(AND(G45=CC45,H45=CD45),Quar1,IF((G45-H45)=(CC45-CD45),Quar2,IF(AND((G45>H45),(CC45>CD45)),Quar3,IF(AND((H45>G45),(CD45>CC45)),Quar3,0)))),0),0)+IFERROR(IF(KOPSO=1,IF(AND(F45=CB45,I45=CE45,J45<>"",K45<>"",CF45<>"",CG45<>"",(G45-H45)=(CC45-CD45)),IF(AND(J45=CF45,K45=CG45),Pena1,IF((J45-K45)=(CF45-CG45),Pena2,IF(AND((J45>K45),(CF45>CG45)),Pena3,IF(AND((J45<K45),(CG45>CF45)),Pena3,0)))),0),0),0)) -> 0 | CJ45: =IF(SUM(B36:B39)=24,IF(KOMatchRule=0,IF(AND(SUM(B36:B39)=24,CB45=F45,CE45=I45),IF(OR(AND((G45+J45)>(H45+K45),(CC45+CF45)>(CD45+CG45)),AND((G45+J45)<(H45+K45),(CC45+CF45)<(CD45+CG45))),Bonu16+Bonu9,Bonu9),0),IF(OR(AND((G45+J45)>(H45+K45),(CC45+CF45)>(CD45+CG45)),AND((G45+J45)<(H45+K45),(CC45+CF45)<(CD45+CG45))),Bonu16,0)),0) -> 0 | CL45: =CM37 -> Argentina | CM45: =IF(KOMatchRule=1,F45,CM37) -> Argentina | CP45: =IF(KOMatchRule=1,I45,CP36) -> United States | CT45: =IF(KOMatchRule=1,IFERROR(IF(AND(G45<>"",H45<>"",CN45<>"",CO45<>""),IF(AND(G45=CN45,H45=CO45),Quar1,IF((G45-H45)=(CN45-CO45),Quar2,IF(AND((G45>H45),(CN45>CO45)),Quar3,IF(AND((H45>G45),(CO45>CN45)),Quar3,0)))),0),0)+IFERROR(IF(KOPSO=1,IF(AND(J45<>"",K45<>"",CQ45<>"",CR45<>"",(G45-H45)=(CN45-CO45)),IF(AND(J45=CQ45,K45=CR45),Pena1,IF((J45-K45)=(CQ45-CR45),Pena2,IF(AND((J45>K45),(CQ45>CR45)),Pena3,IF(AND((J45<K45),(CR45>CQ45)),Pena3,0)))),0),0),0),IFERROR(IF(AND(F45=CM45,I45=CP45,G45<>"",H45<>"",CN45<>"",CO45<>""),IF(AND(G45=CN45,H45=CO45),Quar1,IF((G45-H45)=(CN45-CO45),Quar2,IF(AND((G45>H45),(CN45>CO45)),Quar3,IF(AND((H45>G45),(CO45>CN45)),Quar3,0)))),0),0)+IFERROR(IF(KOPSO=1,IF(AND(F45=CM45,I45=CP45,J45<>"",K45<>"",CQ45<>"",CR45<>"",(G45-H45)=(CN45-CO45)),IF(AND(J45=CQ45,K45=CR45),Pena1,IF((J45-K45)=(CQ45-CR45),Pena2,IF(AND((J45>K45),(CQ45>CR45)),Pena3,IF(AND((J45<K45),(CR45>CQ45)),Pena3,0)))),0),0),0)) -> 0 | CU45: =IF(SUM(B36:B39)=24,IF(KOMatchRule=0,IF(AND(SUM(B36:B39)=24,CM45=F45,CP45=I45),IF(OR(AND((G45+J45)>(H45+K45),(CN45+CQ45)>(CO45+CR45)),AND((G45+J45)<(H45+K45),(CN45+CQ45)<(CO45+CR45))),Bonu16+Bonu9,Bonu9),0),IF(OR(AND((G45+J45)>(H45+K45),(CN45+CQ45)>(CO45+CR45)),AND((G45+J45)<(H45+K45),(CN45+CQ45)<(CO45+CR45))),Bonu16,0)),0) -> 0 | CW45: =CX37 -> Argentina | CX45: =IF(KOMatchRule=1,F45,CX37) -> Argentina | DA45: =IF(KOMatchRule=1,I45,DA36) -> United States | DE45: =IF(KOMatchRule=1,IFERROR(IF(AND(G45<>"",H45<>"",CY45<>"",CZ45<>""),IF(AND(G45=CY45,H45=CZ45),Quar1,IF((G45-H45)=(CY45-CZ45),Quar2,IF(AND((G45>H45),(CY45>CZ45)),Quar3,IF(AND((H45>G45),(CZ45>CY45)),Quar3,0)))),0),0)+IFERROR(IF(KOPSO=1,IF(AND(J45<>"",K45<>"",DB45<>"",DC45<>"",(G45-H45)=(CY45-CZ45)),IF(AND(J45=DB45,K45=DC45),Pena1,IF((J45-K45)=(DB45-DC45),Pena2,IF(AND((J45>K45),(DB45>DC45)),Pena3,IF(AND((J45<K45),(DC45>DB45)),Pena3,0)))),0),0),0),IFERROR(IF(AND(F45=CX45,I45=DA45,G45<>"",H45<>"",CY45<>"",CZ45<>""),IF(AND(G45=CY45,H45=CZ45),Quar1,IF((G45-H45)=(CY45-CZ45),Quar2,IF(AND((G45>H45),(CY45>CZ45)),Quar3,IF(AND((H45>G45),(CZ45>CY45)),Quar3,0)))),0),0)+IFERROR(IF(KOPSO=1,IF(AND(F45=CX45,I45=DA45,J45<>"",K45<>"",DB45<>"",DC45<>"",(G45-H45)=(CY45-CZ45)),IF(AND(J45=DB45,K45=DC45),Pena1,IF((J45-K45)=(DB45-DC45),Pena2,IF(AND((J45>K45),(DB45>DC45)),Pena3,IF(AND((J45<K45),(DC45>DB45)),Pena3,0)))),0),0),0)) -> 0 | DF45: =IF(SUM(B36:B39)=24,IF(KOMatchRule=0,IF(AND(SUM(B36:B39)=24,CX45=F45,DA45=I45),IF(OR(AND((G45+J45)>(H45+K45),(CY45+DB45)>(CZ45+DC45)),AND((G45+J45)<(H45+K45),(CY45+DB45)<(CZ45+DC45))),Bonu16+Bonu9,Bonu9),0),IF(OR(AND((G45+J45)>(H45+K45),(CY45+DB45)>(CZ45+DC45)),AND((G45+J45)<(H45+K45),(CY45+DB45)<(CZ45+DC45))),Bonu16,0)),0) -> 0 | DH45: =DI37 -> Argentina | DI45: =IF(KOMatchRule=1,F45,DI37) -> Argentina | DL45: =IF(KOMatchRule=1,I45,DL36) -> United States | DP45: =IF(KOMatchRule=1,IFERROR(IF(AND(G45<>"",H45<>"",DJ45<>"",DK45<>""),IF(AND(G45=DJ45,H45=DK45),Quar1,IF((G45-H45)=(DJ45-DK45),Quar2,IF(AND((G45>H45),(DJ45>DK45)),Quar3,IF(AND((H45>G45),(DK45>DJ45)),Quar3,0)))),0),0)+IFERROR(IF(KOPSO=1,IF(AND(J45<>"",K45<>"",DM45<>"",DN45<>"",(G45-H45)=(DJ45-DK45)),IF(AND(J45=DM45,K45=DN45),Pena1,IF((J45-K45)=(DM45-DN45),Pena2,IF(AND((J45>K45),(DM45>DN45)),Pena3,IF(AND((J45<K45),(DN45>DM45)),Pena3,0)))),0),0),0),IFERROR(IF(AND(F45=DI45,I45=DL45,G45<>"",H45<>"",DJ45<>"",DK45<>""),IF(AND(G45=DJ45,H45=DK45),Quar1,IF((G45-H45)=(DJ45-DK45),Quar2,IF(AND((G45>H45),(DJ45>DK45)),Quar3,IF(AND((H45>G45),(DK45>DJ45)),Quar3,0)))),0),0)+IFERROR(IF(KOPSO=1,IF(AND(F45=DI45,I45=DL45,J45<>"",K45<>"",DM45<>"",DN45<>"",(G45-H45)=(DJ45-DK45)),IF(AND(J45=DM45,K45=DN45),Pena1,IF((J45-K45)=(DM45-DN45),Pena2,IF(AND((J45>K45),(DM45>DN45)),Pena3,IF(AND((J45<K45),(DN45>DM45)),Pena3,0)))),0),0),0)) -> 0 | DQ45: =IF(SUM(B36:B39)=24,IF(KOMatchRule=0,IF(AND(SUM(B36:B39)=24,DI45=F45,DL45=I45),IF(OR(AND((G45+J45)>(H45+K45),(DJ45+DM45)>(DK45+DN45)),AND((G45+J45)<(H45+K45),(DJ45+DM45)<(DK45+DN45))),Bonu16+Bonu9,Bonu9),0),IF(OR(AND((G45+J45)>(H45+K45),(DJ45+DM45)>(DK45+DN45)),AND((G45+J45)<(H45+K45),(DJ45+DM45)<(DK45+DN45))),Bonu16,0)),0) -> 0
A46: =IF(G46<>"",A45+1,A45) -> 0 | B46: =F38 -> Uzbekistan | C46: 27 | D46: QF | E46: 45506.792 | F46: =F38 -> Uzbekistan | I46: =I39 -> Paraguay | M46: =N38 -> Uzbekistan | N46: =IF(KOMatchRule=1,F46,N38) -> Uzbekistan | Q46: =IF(KOMatchRule=1,I46,Q39) -> Paraguay | U46: =IF(KOMatchRule=1,IFERROR(IF(AND(G46<>"",H46<>"",O46<>"",P46<>""),IF(AND(G46=O46,H46=P46),Quar1,IF((G46-H46)=(O46-P46),Quar2,IF(AND((G46>H46),(O46>P46)),Quar3,IF(AND((H46>G46),(P46>O46)),Quar3,0)))),0),0)+IFERROR(IF(KOPSO=1,IF(AND(J46<>"",K46<>"",R46<>"",S46<>"",(G46-H46)=(O46-P46)),IF(AND(J46=R46,K46=S46),Pena1,IF((J46-K46)=(R46-S46),Pena2,IF(AND((J46>K46),(R46>S46)),Pena3,IF(AND((J46<K46),(S46>R46)),Pena3,0)))),0),0),0),IFERROR(IF(AND(F46=N46,I46=Q46,G46<>"",H46<>"",O46<>"",P46<>""),IF(AND(G46=O46,H46=P46),Quar1,IF((G46-H46)=(O46-P46),Quar2,IF(AND((G46>H46),(O46>P46)),Quar3,IF(AND((H46>G46),(P46>O46)),Quar3,0)))),0),0)+IFERROR(IF(KOPSO=1,IF(AND(F46=N46,I46=Q46,J46<>"",K46<>"",R46<>"",S46<>"",(G46-H46)=(O46-P46)),IF(AND(J46=R46,K46=S46),Pena1,IF((J46-K46)=(R46-S46),Pena2,IF(AND((J46>K46),(R46>S46)),Pena3,IF(AND((J46<K46),(S46>R46)),Pena3,0)))),0),0),0)) -> 0 | V46: =IF(SUM(B36:B39)=24,IF(KOMatchRule=0,IF(AND(SUM(B36:B39)=24,N46=F46,Q46=I46),IF(OR(AND((G46+J46)>(H46+K46),(O46+R46)>(P46+S46)),AND((G46+J46)<(H46+K46),(O46+R46)<(P46+S46))),Bonu16+Bonu9,Bonu9),0),IF(OR(AND((G46+J46)>(H46+K46),(O46+R46)>(P46+S46)),AND((G46+J46)<(H46+K46),(O46+R46)<(P46+S46))),Bonu16,0)),0) -> 0 | X46: =Y38 -> Uzbekistan | Y46: =IF(KOMatchRule=1,F46,Y38) -> Uzbekistan | AB46: =IF(KOMatchRule=1,I46,AB39) -> Paraguay | AF46: =IF(KOMatchRule=1,IFERROR(IF(AND(G46<>"",H46<>"",Z46<>"",AA46<>""),IF(AND(G46=Z46,H46=AA46),Quar1,IF((G46-H46)=(Z46-AA46),Quar2,IF(AND((G46>H46),(Z46>AA46)),Quar3,IF(AND((H46>G46),(AA46>Z46)),Quar3,0)))),0),0)+IFERROR(IF(KOPSO=1,IF(AND(J46<>"",K46<>"",AC46<>"",AD46<>"",(G46-H46)=(Z46-AA46)),IF(AND(J46=AC46,K46=AD46),Pena1,IF((J46-K46)=(AC46-AD46),Pena2,IF(AND((J46>K46),(AC46>AD46)),Pena3,IF(AND((J46<K46),(AD46>AC46)),Pena3,0)))),0),0),0),IFERROR(IF(AND(F46=Y46,I46=AB46,G46<>"",H46<>"",Z46<>"",AA46<>""),IF(AND(G46=Z46,H46=AA46),Quar1,IF((G46-H46)=(Z46-AA46),Quar2,IF(AND((G46>H46),(Z46>AA46)),Quar3,IF(AND((H46>G46),(AA46>Z46)),Quar3,0)))),0),0)+IFERROR(IF(KOPSO=1,IF(AND(F46=Y46,I46=AB46,J46<>"",K46<>"",AC46<>"",AD46<>"",(G46-H46)=(Z46-AA46)),IF(AND(J46=AC46,K46=AD46),Pena1,IF((J46-K46)=(AC46-AD46),Pena2,IF(AND((J46>K46),(AC46>AD46)),Pena3,IF(AND((J46<K46),(AD46>AC46)),Pena3,0)))),0),0),0)) -> 0 | AG46: =IF(SUM(B36:B39)=24,IF(KOMatchRule=0,IF(AND(SUM(B36:B39)=24,Y46=F46,AB46=I46),IF(OR(AND((G46+J46)>(H46+K46),(Z46+AC46)>(AA46+AD46)),AND((G46+J46)<(H46+K46),(Z46+AC46)<(AA46+AD46))),Bonu16+Bonu9,Bonu9),0),IF(OR(AND((G46+J46)>(H46+K46),(Z46+AC46)>(AA46+AD46)),AND((G46+J46)<(H46+K46),(Z46+AC46)<(AA46+AD46))),Bonu16,0)),0) -> 0 | AI46: =AJ38 -> Uzbekistan | AJ46: =IF(KOMatchRule=1,F46,AJ38) -> Uzbekistan | AM46: =IF(KOMatchRule=1,I46,AM39) -> Paraguay | AQ46: =IF(KOMatchRule=1,IFERROR(IF(AND(G46<>"",H46<>"",AK46<>"",AL46<>""),IF(AND(G46=AK46,H46=AL46),Quar1,IF((G46-H46)=(AK46-AL46),Quar2,IF(AND((G46>H46),(AK46>AL46)),Quar3,IF(AND((H46>G46),(AL46>AK46)),Quar3,0)))),0),0)+IFERROR(IF(KOPSO=1,IF(AND(J46<>"",K46<>"",AN46<>"",AO46<>"",(G46-H46)=(AK46-AL46)),IF(AND(J46=AN46,K46=AO46),Pena1,IF((J46-K46)=(AN46-AO46),Pena2,IF(AND((J46>K46),(AN46>AO46)),Pena3,IF(AND((J46<K46),(AO46>AN46)),Pena3,0)))),0),0),0),IFERROR(IF(AND(F46=AJ46,I46=AM46,G46<>"",H46<>"",AK46<>"",AL46<>""),IF(AND(G46=AK46,H46=AL46),Quar1,IF((G46-H46)=(AK46-AL46),Quar2,IF(AND((G46>H46),(AK46>AL46)),Quar3,IF(AND((H46>G46),(AL46>AK46)),Quar3,0)))),0),0)+IFERROR(IF(KOPSO=1,IF(AND(F46=AJ46,I46=AM46,J46<>"",K46<>"",AN46<>"",AO46<>"",(G46-H46)=(AK46-AL46)),IF(AND(J46=AN46,K46=AO46),Pena1,IF((J46-K46)=(AN46-AO46),Pena2,IF(AND((J46>K46),(AN46>AO46)),Pena3,IF(AND((J46<K46),(AO46>AN46)),Pena3,0)))),0),0),0)) -> 0 | AR46: =IF(SUM(B36:B39)=24,IF(KOMatchRule=0,IF(AND(SUM(B36:B39)=24,AJ46=F46,AM46=I46),IF(OR(AND((G46+J46)>(H46+K46),(AK46+AN46)>(AL46+AO46)),AND((G46+J46)<(H46+K46),(AK46+AN46)<(AL46+AO46))),Bonu16+Bonu9,Bonu9),0),IF(OR(AND((G46+J46)>(H46+K46),(AK46+AN46)>(AL46+AO46)),AND((G46+J46)<(H46+K46),(AK46+AN46)<(AL46+AO46))),Bonu16,0)),0) -> 0 | AT46: =AU38 -> Uzbekistan | AU46: =IF(KOMatchRule=1,F46,AU38) -> Uzbekistan | AX46: =IF(KOMatchRule=1,I46,AX39) -> Paraguay | BB46: =IF(KOMatchRule=1,IFERROR(IF(AND(G46<>"",H46<>"",AV46<>"",AW46<>""),IF(AND(G46=AV46,H46=AW46),Quar1,IF((G46-H46)=(AV46-AW46),Quar2,IF(AND((G46>H46),(AV46>AW46)),Quar3,IF(AND((H46>G46),(AW46>AV46)),Quar3,0)))),0),0)+IFERROR(IF(KOPSO=1,IF(AND(J46<>"",K46<>"",AY46<>"",AZ46<>"",(G46-H46)=(AV46-AW46)),IF(AND(J46=AY46,K46=AZ46),Pena1,IF((J46-K46)=(AY46-AZ46),Pena2,IF(AND((J46>K46),(AY46>AZ46)),Pena3,IF(AND((J46<K46),(AZ46>AY46)),Pena3,0)))),0),0),0),IFERROR(IF(AND(F46=AU46,I46=AX46,G46<>"",H46<>"",AV46<>"",AW46<>""),IF(AND(G46=AV46,H46=AW46),Quar1,IF((G46-H46)=(AV46-AW46),Quar2,IF(AND((G46>H46),(AV46>AW46)),Quar3,IF(AND((H46>G46),(AW46>AV46)),Quar3,0)))),0),0)+IFERROR(IF(KOPSO=1,IF(AND(F46=AU46,I46=AX46,J46<>"",K46<>"",AY46<>"",AZ46<>"",(G46-H46)=(AV46-AW46)),IF(AND(J46=AY46,K46=AZ46),Pena1,IF((J46-K46)=(AY46-AZ46),Pena2,IF(AND((J46>K46),(AY46>AZ46)),Pena3,IF(AND((J46<K46),(AZ46>AY46)),Pena3,0)))),0),0),0)) -> 0 | BC46: =IF(SUM(B36:B39)=24,IF(KOMatchRule=0,IF(AND(SUM(B36:B39)=24,AU46=F46,AX46=I46),IF(OR(AND((G46+J46)>(H46+K46),(AV46+AY46)>(AW46+AZ46)),AND((G46+J46)<(H46+K46),(AV46+AY46)<(AW46+AZ46))),Bonu16+Bonu9,Bonu9),0),IF(OR(AND((G46+J46)>(H46+K46),(AV46+AY46)>(AW46+AZ46)),AND((G46+J46)<(H46+K46),(AV46+AY46)<(AW46+AZ46))),Bonu16,0)),0) -> 0 | BE46: =BF38 -> Uzbekistan | BF46: =IF(KOMatchRule=1,F46,BF38) -> Uzbekistan | BI46: =IF(KOMatchRule=1,I46,BI39) -> Paraguay | BM46: =IF(KOMatchRule=1,IFERROR(IF(AND(G46<>"",H46<>"",BG46<>"",BH46<>""),IF(AND(G46=BG46,H46=BH46),Quar1,IF((G46-H46)=(BG46-BH46),Quar2,IF(AND((G46>H46),(BG46>BH46)),Quar3,IF(AND((H46>G46),(BH46>BG46)),Quar3,0)))),0),0)+IFERROR(IF(KOPSO=1,IF(AND(J46<>"",K46<>"",BJ46<>"",BK46<>"",(G46-H46)=(BG46-BH46)),IF(AND(J46=BJ46,K46=BK46),Pena1,IF((J46-K46)=(BJ46-BK46),Pena2,IF(AND((J46>K46),(BJ46>BK46)),Pena3,IF(AND((J46<K46),(BK46>BJ46)),Pena3,0)))),0),0),0),IFERROR(IF(AND(F46=BF46,I46=BI46,G46<>"",H46<>"",BG46<>"",BH46<>""),IF(AND(G46=BG46,H46=BH46),Quar1,IF((G46-H46)=(BG46-BH46),Quar2,IF(AND((G46>H46),(BG46>BH46)),Quar3,IF(AND((H46>G46),(BH46>BG46)),Quar3,0)))),0),0)+IFERROR(IF(KOPSO=1,IF(AND(F46=BF46,I46=BI46,J46<>"",K46<>"",BJ46<>"",BK46<>"",(G46-H46)=(BG46-BH46)),IF(AND(J46=BJ46,K46=BK46),Pena1,IF((J46-K46)=(BJ46-BK46),Pena2,IF(AND((J46>K46),(BJ46>BK46)),Pena3,IF(AND((J46<K46),(BK46>BJ46)),Pena3,0)))),0),0),0)) -> 0 | BN46: =IF(SUM(B36:B39)=24,IF(KOMatchRule=0,IF(AND(SUM(B36:B39)=24,BF46=F46,BI46=I46),IF(OR(AND((G46+J46)>(H46+K46),(BG46+BJ46)>(BH46+BK46)),AND((G46+J46)<(H46+K46),(BG46+BJ46)<(BH46+BK46))),Bonu16+Bonu9,Bonu9),0),IF(OR(AND((G46+J46)>(H46+K46),(BG46+BJ46)>(BH46+BK46)),AND((G46+J46)<(H46+K46),(BG46+BJ46)<(BH46+BK46))),Bonu16,0)),0) -> 0 | BP46: =BQ38 -> Uzbekistan | BQ46: =IF(KOMatchRule=1,F46,BQ38) -> Uzbekistan | BT46: =IF(KOMatchRule=1,I46,BT39) -> Paraguay | BX46: =IF(KOMatchRule=1,IFERROR(IF(AND(G46<>"",H46<>"",BR46<>"",BS46<>""),IF(AND(G46=BR46,H46=BS46),Quar1,IF((G46-H46)=(BR46-BS46),Quar2,IF(AND((G46>H46),(BR46>BS46)),Quar3,IF(AND((H46>G46),(BS46>BR46)),Quar3,0)))),0),0)+IFERROR(IF(KOPSO=1,IF(AND(J46<>"",K46<>"",BU46<>"",BV46<>"",(G46-H46)=(BR46-BS46)),IF(AND(J46=BU46,K46=BV46),Pena1,IF((J46-K46)=(BU46-BV46),Pena2,IF(AND((J46>K46),(BU46>BV46)),Pena3,IF(AND((J46<K46),(BV46>BU46)),Pena3,0)))),0),0),0),IFERROR(IF(AND(F46=BQ46,I46=BT46,G46<>"",H46<>"",BR46<>"",BS46<>""),IF(AND(G46=BR46,H46=BS46),Quar1,IF((G46-H46)=(BR46-BS46),Quar2,IF(AND((G46>H46),(BR46>BS46)),Quar3,IF(AND((H46>G46),(BS46>BR46)),Quar3,0)))),0),0)+IFERROR(IF(KOPSO=1,IF(AND(F46=BQ46,I46=BT46,J46<>"",K46<>"",BU46<>"",BV46<>"",(G46-H46)=(BR46-BS46)),IF(AND(J46=BU46,K46=BV46),Pena1,IF((J46-K46)=(BU46-BV46),Pena2,IF(AND((J46>K46),(BU46>BV46)),Pena3,IF(AND((J46<K46),(BV46>BU46)),Pena3,0)))),0),0),0)) -> 0 | BY46: =IF(SUM(B36:B39)=24,IF(KOMatchRule=0,IF(AND(SUM(B36:B39)=24,BQ46=F46,BT46=I46),IF(OR(AND((G46+J46)>(H46+K46),(BR46+BU46)>(BS46+BV46)),AND((G46+J46)<(H46+K46),(BR46+BU46)<(BS46+BV46))),Bonu16+Bonu9,Bonu9),0),IF(OR(AND((G46+J46)>(H46+K46),(BR46+BU46)>(BS46+BV46)),AND((G46+J46)<(H46+K46),(BR46+BU46)<(BS46+BV46))),Bonu16,0)),0) -> 0 | CA46: =CB38 -> Uzbekistan | CB46: =IF(KOMatchRule=1,F46,CB38) -> Uzbekistan | CE46: =IF(KOMatchRule=1,I46,CE39) -> Paraguay | CI46: =IF(KOMatchRule=1,IFERROR(IF(AND(G46<>"",H46<>"",CC46<>"",CD46<>""),IF(AND(G46=CC46,H46=CD46),Quar1,IF((G46-H46)=(CC46-CD46),Quar2,IF(AND((G46>H46),(CC46>CD46)),Quar3,IF(AND((H46>G46),(CD46>CC46)),Quar3,0)))),0),0)+IFERROR(IF(KOPSO=1,IF(AND(J46<>"",K46<>"",CF46<>"",CG46<>"",(G46-H46)=(CC46-CD46)),IF(AND(J46=CF46,K46=CG46),Pena1,IF((J46-K46)=(CF46-CG46),Pena2,IF(AND((J46>K46),(CF46>CG46)),Pena3,IF(AND((J46<K46),(CG46>CF46)),Pena3,0)))),0),0),0),IFERROR(IF(AND(F46=CB46,I46=CE46,G46<>"",H46<>"",CC46<>"",CD46<>""),IF(AND(G46=CC46,H46=CD46),Quar1,IF((G46-H46)=(CC46-CD46),Quar2,IF(AND((G46>H46),(CC46>CD46)),Quar3,IF(AND((H46>G46),(CD46>CC46)),Quar3,0)))),0),0)+IFERROR(IF(KOPSO=1,IF(AND(F46=CB46,I46=CE46,J46<>"",K46<>"",CF46<>"",CG46<>"",(G46-H46)=(CC46-CD46)),IF(AND(J46=CF46,K46=CG46),Pena1,IF((J46-K46)=(CF46-CG46),Pena2,IF(AND((J46>K46),(CF46>CG46)),Pena3,IF(AND((J46<K46),(CG46>CF46)),Pena3,0)))),0),0),0)) -> 0 | CJ46: =IF(SUM(B36:B39)=24,IF(KOMatchRule=0,IF(AND(SUM(B36:B39)=24,CB46=F46,CE46=I46),IF(OR(AND((G46+J46)>(H46+K46),(CC46+CF46)>(CD46+CG46)),AND((G46+J46)<(H46+K46),(CC46+CF46)<(CD46+CG46))),Bonu16+Bonu9,Bonu9),0),IF(OR(AND((G46+J46)>(H46+K46),(CC46+CF46)>(CD46+CG46)),AND((G46+J46)<(H46+K46),(CC46+CF46)<(CD46+CG46))),Bonu16,0)),0) -> 0 | CL46: =CM38 -> Uzbekistan | CM46: =IF(KOMatchRule=1,F46,CM38) -> Uzbekistan | CP46: =IF(KOMatchRule=1,I46,CP39) -> Paraguay | CT46: =IF(KOMatchRule=1,IFERROR(IF(AND(G46<>"",H46<>"",CN46<>"",CO46<>""),IF(AND(G46=CN46,H46=CO46),Quar1,IF((G46-H46)=(CN46-CO46),Quar2,IF(AND((G46>H46),(CN46>CO46)),Quar3,IF(AND((H46>G46),(CO46>CN46)),Quar3,0)))),0),0)+IFERROR(IF(KOPSO=1,IF(AND(J46<>"",K46<>"",CQ46<>"",CR46<>"",(G46-H46)=(CN46-CO46)),IF(AND(J46=CQ46,K46=CR46),Pena1,IF((J46-K46)=(CQ46-CR46),Pena2,IF(AND((J46>K46),(CQ46>CR46)),Pena3,IF(AND((J46<K46),(CR46>CQ46)),Pena3,0)))),0),0),0),IFERROR(IF(AND(F46=CM46,I46=CP46,G46<>"",H46<>"",CN46<>"",CO46<>""),IF(AND(G46=CN46,H46=CO46),Quar1,IF((G46-H46)=(CN46-CO46),Quar2,IF(AND((G46>H46),(CN46>CO46)),Quar3,IF(AND((H46>G46),(CO46>CN46)),Quar3,0)))),0),0)+IFERROR(IF(KOPSO=1,IF(AND(F46=CM46,I46=CP46,J46<>"",K46<>"",CQ46<>"",CR46<>"",(G46-H46)=(CN46-CO46)),IF(AND(J46=CQ46,K46=CR46),Pena1,IF((J46-K46)=(CQ46-CR46),Pena2,IF(AND((J46>K46),(CQ46>CR46)),Pena3,IF(AND((J46<K46),(CR46>CQ46)),Pena3,0)))),0),0),0)) -> 0 | CU46: =IF(SUM(B36:B39)=24,IF(KOMatchRule=0,IF(AND(SUM(B36:B39)=24,CM46=F46,CP46=I46),IF(OR(AND((G46+J46)>(H46+K46),(CN46+CQ46)>(CO46+CR46)),AND((G46+J46)<(H46+K46),(CN46+CQ46)<(CO46+CR46))),Bonu16+Bonu9,Bonu9),0),IF(OR(AND((G46+J46)>(H46+K46),(CN46+CQ46)>(CO46+CR46)),AND((G46+J46)<(H46+K46),(CN46+CQ46)<(CO46+CR46))),Bonu16,0)),0) -> 0 | CW46: =CX38 -> Uzbekistan | CX46: =IF(KOMatchRule=1,F46,CX38) -> Uzbekistan | DA46: =IF(KOMatchRule=1,I46,DA39) -> Paraguay | DE46: =IF(KOMatchRule=1,IFERROR(IF(AND(G46<>"",H46<>"",CY46<>"",CZ46<>""),IF(AND(G46=CY46,H46=CZ46),Quar1,IF((G46-H46)=(CY46-CZ46),Quar2,IF(AND((G46>H46),(CY46>CZ46)),Quar3,IF(AND((H46>G46),(CZ46>CY46)),Quar3,0)))),0),0)+IFERROR(IF(KOPSO=1,IF(AND(J46<>"",K46<>"",DB46<>"",DC46<>"",(G46-H46)=(CY46-CZ46)),IF(AND(J46=DB46,K46=DC46),Pena1,IF((J46-K46)=(DB46-DC46),Pena2,IF(AND((J46>K46),(DB46>DC46)),Pena3,IF(AND((J46<K46),(DC46>DB46)),Pena3,0)))),0),0),0),IFERROR(IF(AND(F46=CX46,I46=DA46,G46<>"",H46<>"",CY46<>"",CZ46<>""),IF(AND(G46=CY46,H46=CZ46),Quar1,IF((G46-H46)=(CY46-CZ46),Quar2,IF(AND((G46>H46),(CY46>CZ46)),Quar3,IF(AND((H46>G46),(CZ46>CY46)),Quar3,0)))),0),0)+IFERROR(IF(KOPSO=1,IF(AND(F46=CX46,I46=DA46,J46<>"",K46<>"",DB46<>"",DC46<>"",(G46-H46)=(CY46-CZ46)),IF(AND(J46=DB46,K46=DC46),Pena1,IF((J46-K46)=(DB46-DC46),Pena2,IF(AND((J46>K46),(DB46>DC46)),Pena3,IF(AND((J46<K46),(DC46>DB46)),Pena3,0)))),0),0),0)) -> 0 | DF46: =IF(SUM(B36:B39)=24,IF(KOMatchRule=0,IF(AND(SUM(B36:B39)=24,CX46=F46,DA46=I46),IF(OR(AND((G46+J46)>(H46+K46),(CY46+DB46)>(CZ46+DC46)),AND((G46+J46)<(H46+K46),(CY46+DB46)<(CZ46+DC46))),Bonu16+Bonu9,Bonu9),0),IF(OR(AND((G46+J46)>(H46+K46),(CY46+DB46)>(CZ46+DC46)),AND((G46+J46)<(H46+K46),(CY46+DB46)<(CZ46+DC46))),Bonu16,0)),0) -> 0 | DH46: =DI38 -> Uzbekistan | DI46: =IF(KOMatchRule=1,F46,DI38) -> Uzbekistan | DL46: =IF(KOMatchRule=1,I46,DL39) -> Paraguay | DP46: =IF(KOMatchRule=1,IFERROR(IF(AND(G46<>"",H46<>"",DJ46<>"",DK46<>""),IF(AND(G46=DJ46,H46=DK46),Quar1,IF((G46-H46)=(DJ46-DK46),Quar2,IF(AND((G46>H46),(DJ46>DK46)),Quar3,IF(AND((H46>G46),(DK46>DJ46)),Quar3,0)))),0),0)+IFERROR(IF(KOPSO=1,IF(AND(J46<>"",K46<>"",DM46<>"",DN46<>"",(G46-H46)=(DJ46-DK46)),IF(AND(J46=DM46,K46=DN46),Pena1,IF((J46-K46)=(DM46-DN46),Pena2,IF(AND((J46>K46),(DM46>DN46)),Pena3,IF(AND((J46<K46),(DN46>DM46)),Pena3,0)))),0),0),0),IFERROR(IF(AND(F46=DI46,I46=DL46,G46<>"",H46<>"",DJ46<>"",DK46<>""),IF(AND(G46=DJ46,H46=DK46),Quar1,IF((G46-H46)=(DJ46-DK46),Quar2,IF(AND((G46>H46),(DJ46>DK46)),Quar3,IF(AND((H46>G46),(DK46>DJ46)),Quar3,0)))),0),0)+IFERROR(IF(KOPSO=1,IF(AND(F46=DI46,I46=DL46,J46<>"",K46<>"",DM46<>"",DN46<>"",(G46-H46)=(DJ46-DK46)),IF(AND(J46=DM46,K46=DN46),Pena1,IF((J46-K46)=(DM46-DN46),Pena2,IF(AND((J46>K46),(DM46>DN46)),Pena3,IF(AND((J46<K46),(DN46>DM46)),Pena3,0)))),0),0),0)) -> 0 | DQ46: =IF(SUM(B36:B39)=24,IF(KOMatchRule=0,IF(AND(SUM(B36:B39)=24,DI46=F46,DL46=I46),IF(OR(AND((G46+J46)>(H46+K46),(DJ46+DM46)>(DK46+DN46)),AND((G46+J46)<(H46+K46),(DJ46+DM46)<(DK46+DN46))),Bonu16+Bonu9,Bonu9),0),IF(OR(AND((G46+J46)>(H46+K46),(DJ46+DM46)>(DK46+DN46)),AND((G46+J46)<(H46+K46),(DJ46+DM46)<(DK46+DN46))),Bonu16,0)),0) -> 0
A47: =IF(G47<>"",A46+1,A46) -> 0 | B47: =F39 -> Japan | C47: 28 | D47: QF | E47: 45506.708 | F47: =F39 -> Japan | I47: =I38 -> Spain | M47: =N39 -> Japan | N47: =IF(KOMatchRule=1,F47,N39) -> Japan | Q47: =IF(KOMatchRule=1,I47,Q38) -> Spain | U47: =IF(KOMatchRule=1,IFERROR(IF(AND(G47<>"",H47<>"",O47<>"",P47<>""),IF(AND(G47=O47,H47=P47),Quar1,IF((G47-H47)=(O47-P47),Quar2,IF(AND((G47>H47),(O47>P47)),Quar3,IF(AND((H47>G47),(P47>O47)),Quar3,0)))),0),0)+IFERROR(IF(KOPSO=1,IF(AND(J47<>"",K47<>"",R47<>"",S47<>"",(G47-H47)=(O47-P47)),IF(AND(J47=R47,K47=S47),Pena1,IF((J47-K47)=(R47-S47),Pena2,IF(AND((J47>K47),(R47>S47)),Pena3,IF(AND((J47<K47),(S47>R47)),Pena3,0)))),0),0),0),IFERROR(IF(AND(F47=N47,I47=Q47,G47<>"",H47<>"",O47<>"",P47<>""),IF(AND(G47=O47,H47=P47),Quar1,IF((G47-H47)=(O47-P47),Quar2,IF(AND((G47>H47),(O47>P47)),Quar3,IF(AND((H47>G47),(P47>O47)),Quar3,0)))),0),0)+IFERROR(IF(KOPSO=1,IF(AND(F47=N47,I47=Q47,J47<>"",K47<>"",R47<>"",S47<>"",(G47-H47)=(O47-P47)),IF(AND(J47=R47,K47=S47),Pena1,IF((J47-K47)=(R47-S47),Pena2,IF(AND((J47>K47),(R47>S47)),Pena3,IF(AND((J47<K47),(S47>R47)),Pena3,0)))),0),0),0)) -> 0 | V47: =IF(SUM(B36:B39)=24,IF(KOMatchRule=0,IF(AND(SUM(B36:B39)=24,N47=F47,Q47=I47),IF(OR(AND((G47+J47)>(H47+K47),(O47+R47)>(P47+S47)),AND((G47+J47)<(H47+K47),(O47+R47)<(P47+S47))),Bonu16+Bonu9,Bonu9),0),IF(OR(AND((G47+J47)>(H47+K47),(O47+R47)>(P47+S47)),AND((G47+J47)<(H47+K47),(O47+R47)<(P47+S47))),Bonu16,0)),0) -> 0 | X47: =Y39 -> Japan | Y47: =IF(KOMatchRule=1,F47,Y39) -> Japan | AB47: =IF(KOMatchRule=1,I47,AB38) -> Spain | AF47: =IF(KOMatchRule=1,IFERROR(IF(AND(G47<>"",H47<>"",Z47<>"",AA47<>""),IF(AND(G47=Z47,H47=AA47),Quar1,IF((G47-H47)=(Z47-AA47),Quar2,IF(AND((G47>H47),(Z47>AA47)),Quar3,IF(AND((H47>G47),(AA47>Z47)),Quar3,0)))),0),0)+IFERROR(IF(KOPSO=1,IF(AND(J47<>"",K47<>"",AC47<>"",AD47<>"",(G47-H47)=(Z47-AA47)),IF(AND(J47=AC47,K47=AD47),Pena1,IF((J47-K47)=(AC47-AD47),Pena2,IF(AND((J47>K47),(AC47>AD47)),Pena3,IF(AND((J47<K47),(AD47>AC47)),Pena3,0)))),0),0),0),IFERROR(IF(AND(F47=Y47,I47=AB47,G47<>"",H47<>"",Z47<>"",AA47<>""),IF(AND(G47=Z47,H47=AA47),Quar1,IF((G47-H47)=(Z47-AA47),Quar2,IF(AND((G47>H47),(Z47>AA47)),Quar3,IF(AND((H47>G47),(AA47>Z47)),Quar3,0)))),0),0)+IFERROR(IF(KOPSO=1,IF(AND(F47=Y47,I47=AB47,J47<>"",K47<>"",AC47<>"",AD47<>"",(G47-H47)=(Z47-AA47)),IF(AND(J47=AC47,K47=AD47),Pena1,IF((J47-K47)=(AC47-AD47),Pena2,IF(AND((J47>K47),(AC47>AD47)),Pena3,IF(AND((J47<K47),(AD47>AC47)),Pena3,0)))),0),0),0)) -> 0 | AG47: =IF(SUM(B36:B39)=24,IF(KOMatchRule=0,IF(AND(SUM(B36:B39)=24,Y47=F47,AB47=I47),IF(OR(AND((G47+J47)>(H47+K47),(Z47+AC47)>(AA47+AD47)),AND((G47+J47)<(H47+K47),(Z47+AC47)<(AA47+AD47))),Bonu16+Bonu9,Bonu9),0),IF(OR(AND((G47+J47)>(H47+K47),(Z47+AC47)>(AA47+AD47)),AND((G47+J47)<(H47+K47),(Z47+AC47)<(AA47+AD47))),Bonu16,0)),0) -> 0 | AI47: =AJ39 -> Japan | AJ47: =IF(KOMatchRule=1,F47,AJ39) -> Japan | AM47: =IF(KOMatchRule=1,I47,AM38) -> Spain | AQ47: =IF(KOMatchRule=1,IFERROR(IF(AND(G47<>"",H47<>"",AK47<>"",AL47<>""),IF(AND(G47=AK47,H47=AL47),Quar1,IF((G47-H47)=(AK47-AL47),Quar2,IF(AND((G47>H47),(AK47>AL47)),Quar3,IF(AND((H47>G47),(AL47>AK47)),Quar3,0)))),0),0)+IFERROR(IF(KOPSO=1,IF(AND(J47<>"",K47<>"",AN47<>"",AO47<>"",(G47-H47)=(AK47-AL47)),IF(AND(J47=AN47,K47=AO47),Pena1,IF((J47-K47)=(AN47-AO47),Pena2,IF(AND((J47>K47),(AN47>AO47)),Pena3,IF(AND((J47<K47),(AO47>AN47)),Pena3,0)))),0),0),0),IFERROR(IF(AND(F47=AJ47,I47=AM47,G47<>"",H47<>"",AK47<>"",AL47<>""),IF(AND(G47=AK47,H47=AL47),Quar1,IF((G47-H47)=(AK47-AL47),Quar2,IF(AND((G47>H47),(AK47>AL47)),Quar3,IF(AND((H47>G47),(AL47>AK47)),Quar3,0)))),0),0)+IFERROR(IF(KOPSO=1,IF(AND(F47=AJ47,I47=AM47,J47<>"",K47<>"",AN47<>"",AO47<>"",(G47-H47)=(AK47-AL47)),IF(AND(J47=AN47,K47=AO47),Pena1,IF((J47-K47)=(AN47-AO47),Pena2,IF(AND((J47>K47),(AN47>AO47)),Pena3,IF(AND((J47<K47),(AO47>AN47)),Pena3,0)))),0),0),0)) -> 0 | AR47: =IF(SUM(B36:B39)=24,IF(KOMatchRule=0,IF(AND(SUM(B36:B39)=24,AJ47=F47,AM47=I47),IF(OR(AND((G47+J47)>(H47+K47),(AK47+AN47)>(AL47+AO47)),AND((G47+J47)<(H47+K47),(AK47+AN47)<(AL47+AO47))),Bonu16+Bonu9,Bonu9),0),IF(OR(AND((G47+J47)>(H47+K47),(AK47+AN47)>(AL47+AO47)),AND((G47+J47)<(H47+K47),(AK47+AN47)<(AL47+AO47))),Bonu16,0)),0) -> 0 | AT47: =AU39 -> Japan | AU47: =IF(KOMatchRule=1,F47,AU39) -> Japan | AX47: =IF(KOMatchRule=1,I47,AX38) -> Spain | BB47: =IF(KOMatchRule=1,IFERROR(IF(AND(G47<>"",H47<>"",AV47<>"",AW47<>""),IF(AND(G47=AV47,H47=AW47),Quar1,IF((G47-H47)=(AV47-AW47),Quar2,IF(AND((G47>H47),(AV47>AW47)),Quar3,IF(AND((H47>G47),(AW47>AV47)),Quar3,0)))),0),0)+IFERROR(IF(KOPSO=1,IF(AND(J47<>"",K47<>"",AY47<>"",AZ47<>"",(G47-H47)=(AV47-AW47)),IF(AND(J47=AY47,K47=AZ47),Pena1,IF((J47-K47)=(AY47-AZ47),Pena2,IF(AND((J47>K47),(AY47>AZ47)),Pena3,IF(AND((J47<K47),(AZ47>AY47)),Pena3,0)))),0),0),0),IFERROR(IF(AND(F47=AU47,I47=AX47,G47<>"",H47<>"",AV47<>"",AW47<>""),IF(AND(G47=AV47,H47=AW47),Quar1,IF((G47-H47)=(AV47-AW47),Quar2,IF(AND((G47>H47),(AV47>AW47)),Quar3,IF(AND((H47>G47),(AW47>AV47)),Quar3,0)))),0),0)+IFERROR(IF(KOPSO=1,IF(AND(F47=AU47,I47=AX47,J47<>"",K47<>"",AY47<>"",AZ47<>"",(G47-H47)=(AV47-AW47)),IF(AND(J47=AY47,K47=AZ47),Pena1,IF((J47-K47)=(AY47-AZ47),Pena2,IF(AND((J47>K47),(AY47>AZ47)),Pena3,IF(AND((J47<K47),(AZ47>AY47)),Pena3,0)))),0),0),0)) -> 0 | BC47: =IF(SUM(B36:B39)=24,IF(KOMatchRule=0,IF(AND(SUM(B36:B39)=24,AU47=F47,AX47=I47),IF(OR(AND((G47+J47)>(H47+K47),(AV47+AY47)>(AW47+AZ47)),AND((G47+J47)<(H47+K47),(AV47+AY47)<(AW47+AZ47))),Bonu16+Bonu9,Bonu9),0),IF(OR(AND((G47+J47)>(H47+K47),(AV47+AY47)>(AW47+AZ47)),AND((G47+J47)<(H47+K47),(AV47+AY47)<(AW47+AZ47))),Bonu16,0)),0) -> 0 | BE47: =BF39 -> Japan | BF47: =IF(KOMatchRule=1,F47,BF39) -> Japan | BI47: =IF(KOMatchRule=1,I47,BI38) -> Spain | BM47: =IF(KOMatchRule=1,IFERROR(IF(AND(G47<>"",H47<>"",BG47<>"",BH47<>""),IF(AND(G47=BG47,H47=BH47),Quar1,IF((G47-H47)=(BG47-BH47),Quar2,IF(AND((G47>H47),(BG47>BH47)),Quar3,IF(AND((H47>G47),(BH47>BG47)),Quar3,0)))),0),0)+IFERROR(IF(KOPSO=1,IF(AND(J47<>"",K47<>"",BJ47<>"",BK47<>"",(G47-H47)=(BG47-BH47)),IF(AND(J47=BJ47,K47=BK47),Pena1,IF((J47-K47)=(BJ47-BK47),Pena2,IF(AND((J47>K47),(BJ47>BK47)),Pena3,IF(AND((J47<K47),(BK47>BJ47)),Pena3,0)))),0),0),0),IFERROR(IF(AND(F47=BF47,I47=BI47,G47<>"",H47<>"",BG47<>"",BH47<>""),IF(AND(G47=BG47,H47=BH47),Quar1,IF((G47-H47)=(BG47-BH47),Quar2,IF(AND((G47>H47),(BG47>BH47)),Quar3,IF(AND((H47>G47),(BH47>BG47)),Quar3,0)))),0),0)+IFERROR(IF(KOPSO=1,IF(AND(F47=BF47,I47=BI47,J47<>"",K47<>"",BJ47<>"",BK47<>"",(G47-H47)=(BG47-BH47)),IF(AND(J47=BJ47,K47=BK47),Pena1,IF((J47-K47)=(BJ47-BK47),Pena2,IF(AND((J47>K47),(BJ47>BK47)),Pena3,IF(AND((J47<K47),(BK47>BJ47)),Pena3,0)))),0),0),0)) -> 0 | BN47: =IF(SUM(B36:B39)=24,IF(KOMatchRule=0,IF(AND(SUM(B36:B39)=24,BF47=F47,BI47=I47),IF(OR(AND((G47+J47)>(H47+K47),(BG47+BJ47)>(BH47+BK47)),AND((G47+J47)<(H47+K47),(BG47+BJ47)<(BH47+BK47))),Bonu16+Bonu9,Bonu9),0),IF(OR(AND((G47+J47)>(H47+K47),(BG47+BJ47)>(BH47+BK47)),AND((G47+J47)<(H47+K47),(BG47+BJ47)<(BH47+BK47))),Bonu16,0)),0) -> 0 | BP47: =BQ39 -> Japan | BQ47: =IF(KOMatchRule=1,F47,BQ39) -> Japan | BT47: =IF(KOMatchRule=1,I47,BT38) -> Spain | BX47: =IF(KOMatchRule=1,IFERROR(IF(AND(G47<>"",H47<>"",BR47<>"",BS47<>""),IF(AND(G47=BR47,H47=BS47),Quar1,IF((G47-H47)=(BR47-BS47),Quar2,IF(AND((G47>H47),(BR47>BS47)),Quar3,IF(AND((H47>G47),(BS47>BR47)),Quar3,0)))),0),0)+IFERROR(IF(KOPSO=1,IF(AND(J47<>"",K47<>"",BU47<>"",BV47<>"",(G47-H47)=(BR47-BS47)),IF(AND(J47=BU47,K47=BV47),Pena1,IF((J47-K47)=(BU47-BV47),Pena2,IF(AND((J47>K47),(BU47>BV47)),Pena3,IF(AND((J47<K47),(BV47>BU47)),Pena3,0)))),0),0),0),IFERROR(IF(AND(F47=BQ47,I47=BT47,G47<>"",H47<>"",BR47<>"",BS47<>""),IF(AND(G47=BR47,H47=BS47),Quar1,IF((G47-H47)=(BR47-BS47),Quar2,IF(AND((G47>H47),(BR47>BS47)),Quar3,IF(AND((H47>G47),(BS47>BR47)),Quar3,0)))),0),0)+IFERROR(IF(KOPSO=1,IF(AND(F47=BQ47,I47=BT47,J47<>"",K47<>"",BU47<>"",BV47<>"",(G47-H47)=(BR47-BS47)),IF(AND(J47=BU47,K47=BV47),Pena1,IF((J47-K47)=(BU47-BV47),Pena2,IF(AND((J47>K47),(BU47>BV47)),Pena3,IF(AND((J47<K47),(BV47>BU47)),Pena3,0)))),0),0),0)) -> 0 | BY47: =IF(SUM(B36:B39)=24,IF(KOMatchRule=0,IF(AND(SUM(B36:B39)=24,BQ47=F47,BT47=I47),IF(OR(AND((G47+J47)>(H47+K47),(BR47+BU47)>(BS47+BV47)),AND((G47+J47)<(H47+K47),(BR47+BU47)<(BS47+BV47))),Bonu16+Bonu9,Bonu9),0),IF(OR(AND((G47+J47)>(H47+K47),(BR47+BU47)>(BS47+BV47)),AND((G47+J47)<(H47+K47),(BR47+BU47)<(BS47+BV47))),Bonu16,0)),0) -> 0 | CA47: =CB39 -> Japan | CB47: =IF(KOMatchRule=1,F47,CB39) -> Japan | CE47: =IF(KOMatchRule=1,I47,CE38) -> Spain | CI47: =IF(KOMatchRule=1,IFERROR(IF(AND(G47<>"",H47<>"",CC47<>"",CD47<>""),IF(AND(G47=CC47,H47=CD47),Quar1,IF((G47-H47)=(CC47-CD47),Quar2,IF(AND((G47>H47),(CC47>CD47)),Quar3,IF(AND((H47>G47),(CD47>CC47)),Quar3,0)))),0),0)+IFERROR(IF(KOPSO=1,IF(AND(J47<>"",K47<>"",CF47<>"",CG47<>"",(G47-H47)=(CC47-CD47)),IF(AND(J47=CF47,K47=CG47),Pena1,IF((J47-K47)=(CF47-CG47),Pena2,IF(AND((J47>K47),(CF47>CG47)),Pena3,IF(AND((J47<K47),(CG47>CF47)),Pena3,0)))),0),0),0),IFERROR(IF(AND(F47=CB47,I47=CE47,G47<>"",H47<>"",CC47<>"",CD47<>""),IF(AND(G47=CC47,H47=CD47),Quar1,IF((G47-H47)=(CC47-CD47),Quar2,IF(AND((G47>H47),(CC47>CD47)),Quar3,IF(AND((H47>G47),(CD47>CC47)),Quar3,0)))),0),0)+IFERROR(IF(KOPSO=1,IF(AND(F47=CB47,I47=CE47,J47<>"",K47<>"",CF47<>"",CG47<>"",(G47-H47)=(CC47-CD47)),IF(AND(J47=CF47,K47=CG47),Pena1,IF((J47-K47)=(CF47-CG47),Pena2,IF(AND((J47>K47),(CF47>CG47)),Pena3,IF(AND((J47<K47),(CG47>CF47)),Pena3,0)))),0),0),0)) -> 0 | CJ47: =IF(SUM(B36:B39)=24,IF(KOMatchRule=0,IF(AND(SUM(B36:B39)=24,CB47=F47,CE47=I47),IF(OR(AND((G47+J47)>(H47+K47),(CC47+CF47)>(CD47+CG47)),AND((G47+J47)<(H47+K47),(CC47+CF47)<(CD47+CG47))),Bonu16+Bonu9,Bonu9),0),IF(OR(AND((G47+J47)>(H47+K47),(CC47+CF47)>(CD47+CG47)),AND((G47+J47)<(H47+K47),(CC47+CF47)<(CD47+CG47))),Bonu16,0)),0) -> 0 | CL47: =CM39 -> Japan | CM47: =IF(KOMatchRule=1,F47,CM39) -> Japan | CP47: =IF(KOMatchRule=1,I47,CP38) -> Spain | CT47: =IF(KOMatchRule=1,IFERROR(IF(AND(G47<>"",H47<>"",CN47<>"",CO47<>""),IF(AND(G47=CN47,H47=CO47),Quar1,IF((G47-H47)=(CN47-CO47),Quar2,IF(AND((G47>H47),(CN47>CO47)),Quar3,IF(AND((H47>G47),(CO47>CN47)),Quar3,0)))),0),0)+IFERROR(IF(KOPSO=1,IF(AND(J47<>"",K47<>"",CQ47<>"",CR47<>"",(G47-H47)=(CN47-CO47)),IF(AND(J47=CQ47,K47=CR47),Pena1,IF((J47-K47)=(CQ47-CR47),Pena2,IF(AND((J47>K47),(CQ47>CR47)),Pena3,IF(AND((J47<K47),(CR47>CQ47)),Pena3,0)))),0),0),0),IFERROR(IF(AND(F47=CM47,I47=CP47,G47<>"",H47<>"",CN47<>"",CO47<>""),IF(AND(G47=CN47,H47=CO47),Quar1,IF((G47-H47)=(CN47-CO47),Quar2,IF(AND((G47>H47),(CN47>CO47)),Quar3,IF(AND((H47>G47),(CO47>CN47)),Quar3,0)))),0),0)+IFERROR(IF(KOPSO=1,IF(AND(F47=CM47,I47=CP47,J47<>"",K47<>"",CQ47<>"",CR47<>"",(G47-H47)=(CN47-CO47)),IF(AND(J47=CQ47,K47=CR47),Pena1,IF((J47-K47)=(CQ47-CR47),Pena2,IF(AND((J47>K47),(CQ47>CR47)),Pena3,IF(AND((J47<K47),(CR47>CQ47)),Pena3,0)))),0),0),0)) -> 0 | CU47: =IF(SUM(B36:B39)=24,IF(KOMatchRule=0,IF(AND(SUM(B36:B39)=24,CM47=F47,CP47=I47),IF(OR(AND((G47+J47)>(H47+K47),(CN47+CQ47)>(CO47+CR47)),AND((G47+J47)<(H47+K47),(CN47+CQ47)<(CO47+CR47))),Bonu16+Bonu9,Bonu9),0),IF(OR(AND((G47+J47)>(H47+K47),(CN47+CQ47)>(CO47+CR47)),AND((G47+J47)<(H47+K47),(CN47+CQ47)<(CO47+CR47))),Bonu16,0)),0) -> 0 | CW47: =CX39 -> Japan | CX47: =IF(KOMatchRule=1,F47,CX39) -> Japan | DA47: =IF(KOMatchRule=1,I47,DA38) -> Spain | DE47: =IF(KOMatchRule=1,IFERROR(IF(AND(G47<>"",H47<>"",CY47<>"",CZ47<>""),IF(AND(G47=CY47,H47=CZ47),Quar1,IF((G47-H47)=(CY47-CZ47),Quar2,IF(AND((G47>H47),(CY47>CZ47)),Quar3,IF(AND((H47>G47),(CZ47>CY47)),Quar3,0)))),0),0)+IFERROR(IF(KOPSO=1,IF(AND(J47<>"",K47<>"",DB47<>"",DC47<>"",(G47-H47)=(CY47-CZ47)),IF(AND(J47=DB47,K47=DC47),Pena1,IF((J47-K47)=(DB47-DC47),Pena2,IF(AND((J47>K47),(DB47>DC47)),Pena3,IF(AND((J47<K47),(DC47>DB47)),Pena3,0)))),0),0),0),IFERROR(IF(AND(F47=CX47,I47=DA47,G47<>"",H47<>"",CY47<>"",CZ47<>""),IF(AND(G47=CY47,H47=CZ47),Quar1,IF((G47-H47)=(CY47-CZ47),Quar2,IF(AND((G47>H47),(CY47>CZ47)),Quar3,IF(AND((H47>G47),(CZ47>CY47)),Quar3,0)))),0),0)+IFERROR(IF(KOPSO=1,IF(AND(F47=CX47,I47=DA47,J47<>"",K47<>"",DB47<>"",DC47<>"",(G47-H47)=(CY47-CZ47)),IF(AND(J47=DB47,K47=DC47),Pena1,IF((J47-K47)=(DB47-DC47),Pena2,IF(AND((J47>K47),(DB47>DC47)),Pena3,IF(AND((J47<K47),(DC47>DB47)),Pena3,0)))),0),0),0)) -> 0 | DF47: =IF(SUM(B36:B39)=24,IF(KOMatchRule=0,IF(AND(SUM(B36:B39)=24,CX47=F47,DA47=I47),IF(OR(AND((G47+J47)>(H47+K47),(CY47+DB47)>(CZ47+DC47)),AND((G47+J47)<(H47+K47),(CY47+DB47)<(CZ47+DC47))),Bonu16+Bonu9,Bonu9),0),IF(OR(AND((G47+J47)>(H47+K47),(CY47+DB47)>(CZ47+DC47)),AND((G47+J47)<(H47+K47),(CY47+DB47)<(CZ47+DC47))),Bonu16,0)),0) -> 0 | DH47: =DI39 -> Japan | DI47: =IF(KOMatchRule=1,F47,DI39) -> Japan | DL47: =IF(KOMatchRule=1,I47,DL38) -> Spain | DP47: =IF(KOMatchRule=1,IFERROR(IF(AND(G47<>"",H47<>"",DJ47<>"",DK47<>""),IF(AND(G47=DJ47,H47=DK47),Quar1,IF((G47-H47)=(DJ47-DK47),Quar2,IF(AND((G47>H47),(DJ47>DK47)),Quar3,IF(AND((H47>G47),(DK47>DJ47)),Quar3,0)))),0),0)+IFERROR(IF(KOPSO=1,IF(AND(J47<>"",K47<>"",DM47<>"",DN47<>"",(G47-H47)=(DJ47-DK47)),IF(AND(J47=DM47,K47=DN47),Pena1,IF((J47-K47)=(DM47-DN47),Pena2,IF(AND((J47>K47),(DM47>DN47)),Pena3,IF(AND((J47<K47),(DN47>DM47)),Pena3,0)))),0),0),0),IFERROR(IF(AND(F47=DI47,I47=DL47,G47<>"",H47<>"",DJ47<>"",DK47<>""),IF(AND(G47=DJ47,H47=DK47),Quar1,IF((G47-H47)=(DJ47-DK47),Quar2,IF(AND((G47>H47),(DJ47>DK47)),Quar3,IF(AND((H47>G47),(DK47>DJ47)),Quar3,0)))),0),0)+IFERROR(IF(KOPSO=1,IF(AND(F47=DI47,I47=DL47,J47<>"",K47<>"",DM47<>"",DN47<>"",(G47-H47)=(DJ47-DK47)),IF(AND(J47=DM47,K47=DN47),Pena1,IF((J47-K47)=(DM47-DN47),Pena2,IF(AND((J47>K47),(DM47>DN47)),Pena3,IF(AND((J47<K47),(DN47>DM47)),Pena3,0)))),0),0),0)) -> 0 | DQ47: =IF(SUM(B36:B39)=24,IF(KOMatchRule=0,IF(AND(SUM(B36:B39)=24,DI47=F47,DL47=I47),IF(OR(AND((G47+J47)>(H47+K47),(DJ47+DM47)>(DK47+DN47)),AND((G47+J47)<(H47+K47),(DJ47+DM47)<(DK47+DN47))),Bonu16+Bonu9,Bonu9),0),IF(OR(AND((G47+J47)>(H47+K47),(DJ47+DM47)>(DK47+DN47)),AND((G47+J47)<(H47+K47),(DJ47+DM47)<(DK47+DN47))),Bonu16,0)),0) -> 0
A48: =IF(G48<>"",A47+1,A47) -> 0 | B48: =I36 -> United States | C48: 29 | D48: SF | E48: 45509.875 | F48: =IF(AND(G44<>"",H44<>""),IF((G44+J44)>(H44+K44),F44,IF((G44+J44)<(H44+K44),I44,"Match #25 Winner")),"Match #25 Winner") -> Match #25 Winner | I48: =IF(AND(G46<>"",H46<>""),IF((G46+J46)>(H46+K46),F46,IF((G46+J46)<(H46+K46),I46,"Match #27 Winner")),"Match #27 Winner") -> Match #27 Winner | M48: =Q36 -> United States | N48: =IF(O4<>"",IF(KOMatchRule=1,F48,IF(AND(O45<>"",P45<>""),IF((O45+R45)>(P45+S45),N45,IF((O45+R45)<(P45+S45),Q45,"Match 26 Winner")),"Match 26 Winner")),"") -> Match 26 Winner | Q48: =IF(O4<>"",IF(KOMatchRule=1,I48,IF(AND(O44<>"",P44<>""),IF((O44+R44)>(P44+S44),N44,IF((O44+R44)<(P44+S44),Q44,"Match 25 Winner")),"Match 25 Winner")),"") -> Match 25 Winner | U48: =IF(KOMatchRule=1,IFERROR(IF(AND(G48<>"",H48<>"",O48<>"",P48<>""),IF(AND(G48=O48,H48=P48),Semi1,IF((G48-H48)=(O48-P48),Semi2,IF(AND((G48>H48),(O48>P48)),Semi3,IF(AND((H48>G48),(P48>O48)),Semi3,0)))),0),0)+IFERROR(IF(KOPSO=1,IF(AND(J48<>"",K48<>"",R48<>"",S48<>"",(G48-H48)=(O48-P48)),IF(AND(J48=R48,K48=S48),Pena1,IF((J48-K48)=(R48-S48),Pena2,IF(AND((J48>K48),(R48>S48)),Pena3,IF(AND((J48<K48),(S48>R48)),Pena3,0)))),0),0),0),IFERROR(IF(AND(F48=N48,I48=Q48,G48<>"",H48<>"",O48<>"",P48<>""),IF(AND(G48=O48,H48=P48),Semi1,IF((G48-H48)=(O48-P48),Semi2,IF(AND((G48>H48),(O48>P48)),Semi3,IF(AND((H48>G48),(P48>O48)),Semi3,0)))),0),0)+IFERROR(IF(KOPSO=1,IF(AND(F48=N48,I48=Q48,J48<>"",K48<>"",R48<>"",S48<>"",(G48-H48)=(O48-P48)),IF(AND(J48=R48,K48=S48),Pena1,IF((J48-K48)=(R48-S48),Pena2,IF(AND((J48>K48),(R48>S48)),Pena3,IF(AND((J48<K48),(S48>R48)),Pena3,0)))),0),0),0)) -> 0 | V48: =IF(SUM(B36:B39)=24,IF(KOMatchRule=0,IF(AND(SUM(B36:B39)=24,N48=F48,Q48=I48),IF(OR(AND((G48+J48)>(H48+K48),(O48+R48)>(P48+S48)),AND((G48+J48)<(H48+K48),(O48+R48)<(P48+S48))),Bonu16+Bonu9,Bonu9),0),IF(OR(AND((G48+J48)>(H48+K48),(O48+R48)>(P48+S48)),AND((G48+J48)<(H48+K48),(O48+R48)<(P48+S48))),Bonu16,0)),0) -> 0 | X48: =AB36 -> United States | Y48: =IF(Z4<>"",IF(KOMatchRule=1,F48,IF(AND(Z45<>"",AA45<>""),IF((Z45+AC45)>(AA45+AD45),Y45,IF((Z45+AC45)<(AA45+AD45),AB45,"Match 26 Winner")),"Match 26 Winner")),"") -> Match 26 Winner | AB48: =IF(Z4<>"",IF(KOMatchRule=1,I48,IF(AND(Z44<>"",AA44<>""),IF((Z44+AC44)>(AA44+AD44),Y44,IF((Z44+AC44)<(AA44+AD44),AB44,"Match 25 Winner")),"Match 25 Winner")),"") -> Match 25 Winner | AF48: =IF(KOMatchRule=1,IFERROR(IF(AND(G48<>"",H48<>"",Z48<>"",AA48<>""),IF(AND(G48=Z48,H48=AA48),Semi1,IF((G48-H48)=(Z48-AA48),Semi2,IF(AND((G48>H48),(Z48>AA48)),Semi3,IF(AND((H48>G48),(AA48>Z48)),Semi3,0)))),0),0)+IFERROR(IF(KOPSO=1,IF(AND(J48<>"",K48<>"",AC48<>"",AD48<>"",(G48-H48)=(Z48-AA48)),IF(AND(J48=AC48,K48=AD48),Pena1,IF((J48-K48)=(AC48-AD48),Pena2,IF(AND((J48>K48),(AC48>AD48)),Pena3,IF(AND((J48<K48),(AD48>AC48)),Pena3,0)))),0),0),0),IFERROR(IF(AND(F48=Y48,I48=AB48,G48<>"",H48<>"",Z48<>"",AA48<>""),IF(AND(G48=Z48,H48=AA48),Semi1,IF((G48-H48)=(Z48-AA48),Semi2,IF(AND((G48>H48),(Z48>AA48)),Semi3,IF(AND((H48>G48),(AA48>Z48)),Semi3,0)))),0),0)+IFERROR(IF(KOPSO=1,IF(AND(F48=Y48,I48=AB48,J48<>"",K48<>"",AC48<>"",AD48<>"",(G48-H48)=(Z48-AA48)),IF(AND(J48=AC48,K48=AD48),Pena1,IF((J48-K48)=(AC48-AD48),Pena2,IF(AND((J48>K48),(AC48>AD48)),Pena3,IF(AND((J48<K48),(AD48>AC48)),Pena3,0)))),0),0),0)) -> 0 | AG48: =IF(SUM(B36:B39)=24,IF(KOMatchRule=0,IF(AND(SUM(B36:B39)=24,Y48=F48,AB48=I48),IF(OR(AND((G48+J48)>(H48+K48),(Z48+AC48)>(AA48+AD48)),AND((G48+J48)<(H48+K48),(Z48+AC48)<(AA48+AD48))),Bonu16+Bonu9,Bonu9),0),IF(OR(AND((G48+J48)>(H48+K48),(Z48+AC48)>(AA48+AD48)),AND((G48+J48)<(H48+K48),(Z48+AC48)<(AA48+AD48))),Bonu16,0)),0) -> 0 | AI48: =AM36 -> United States | AJ48: =IF(AK4<>"",IF(KOMatchRule=1,F48,IF(AND(AK45<>"",AL45<>""),IF((AK45+AN45)>(AL45+AO45),AJ45,IF((AK45+AN45)<(AL45+AO45),AM45,"Match 26 Winner")),"Match 26 Winner")),"") -> Match 26 Winner | AM48: =IF(AK4<>"",IF(KOMatchRule=1,I48,IF(AND(AK44<>"",AL44<>""),IF((AK44+AN44)>(AL44+AO44),AJ44,IF((AK44+AN44)<(AL44+AO44),AM44,"Match 25 Winner")),"Match 25 Winner")),"") -> Match 25 Winner | AQ48: =IF(KOMatchRule=1,IFERROR(IF(AND(G48<>"",H48<>"",AK48<>"",AL48<>""),IF(AND(G48=AK48,H48=AL48),Semi1,IF((G48-H48)=(AK48-AL48),Semi2,IF(AND((G48>H48),(AK48>AL48)),Semi3,IF(AND((H48>G48),(AL48>AK48)),Semi3,0)))),0),0)+IFERROR(IF(KOPSO=1,IF(AND(J48<>"",K48<>"",AN48<>"",AO48<>"",(G48-H48)=(AK48-AL48)),IF(AND(J48=AN48,K48=AO48),Pena1,IF((J48-K48)=(AN48-AO48),Pena2,IF(AND((J48>K48),(AN48>AO48)),Pena3,IF(AND((J48<K48),(AO48>AN48)),Pena3,0)))),0),0),0),IFERROR(IF(AND(F48=AJ48,I48=AM48,G48<>"",H48<>"",AK48<>"",AL48<>""),IF(AND(G48=AK48,H48=AL48),Semi1,IF((G48-H48)=(AK48-AL48),Semi2,IF(AND((G48>H48),(AK48>AL48)),Semi3,IF(AND((H48>G48),(AL48>AK48)),Semi3,0)))),0),0)+IFERROR(IF(KOPSO=1,IF(AND(F48=AJ48,I48=AM48,J48<>"",K48<>"",AN48<>"",AO48<>"",(G48-H48)=(AK48-AL48)),IF(AND(J48=AN48,K48=AO48),Pena1,IF((J48-K48)=(AN48-AO48),Pena2,IF(AND((J48>K48),(AN48>AO48)),Pena3,IF(AND((J48<K48),(AO48>AN48)),Pena3,0)))),0),0),0)) -> 0 | AR48: =IF(SUM(B36:B39)=24,IF(KOMatchRule=0,IF(AND(SUM(B36:B39)=24,AJ48=F48,AM48=I48),IF(OR(AND((G48+J48)>(H48+K48),(AK48+AN48)>(AL48+AO48)),AND((G48+J48)<(H48+K48),(AK48+AN48)<(AL48+AO48))),Bonu16+Bonu9,Bonu9),0),IF(OR(AND((G48+J48)>(H48+K48),(AK48+AN48)>(AL48+AO48)),AND((G48+J48)<(H48+K48),(AK48+AN48)<(AL48+AO48))),Bonu16,0)),0) -> 0 | AT48: =AX36 -> United States | AU48: =IF(AV4<>"",IF(KOMatchRule=1,F48,IF(AND(AV45<>"",AW45<>""),IF((AV45+AY45)>(AW45+AZ45),AU45,IF((AV45+AY45)<(AW45+AZ45),AX45,"Match 26 Winner")),"Match 26 Winner")),"") -> Match 26 Winner | AX48: =IF(AV4<>"",IF(KOMatchRule=1,I48,IF(AND(AV44<>"",AW44<>""),IF((AV44+AY44)>(AW44+AZ44),AU44,IF((AV44+AY44)<(AW44+AZ44),AX44,"Match 25 Winner")),"Match 25 Winner")),"") -> Match 25 Winner | BB48: =IF(KOMatchRule=1,IFERROR(IF(AND(G48<>"",H48<>"",AV48<>"",AW48<>""),IF(AND(G48=AV48,H48=AW48),Semi1,IF((G48-H48)=(AV48-AW48),Semi2,IF(AND((G48>H48),(AV48>AW48)),Semi3,IF(AND((H48>G48),(AW48>AV48)),Semi3,0)))),0),0)+IFERROR(IF(KOPSO=1,IF(AND(J48<>"",K48<>"",AY48<>"",AZ48<>"",(G48-H48)=(AV48-AW48)),IF(AND(J48=AY48,K48=AZ48),Pena1,IF((J48-K48)=(AY48-AZ48),Pena2,IF(AND((J48>K48),(AY48>AZ48)),Pena3,IF(AND((J48<K48),(AZ48>AY48)),Pena3,0)))),0),0),0),IFERROR(IF(AND(F48=AU48,I48=AX48,G48<>"",H48<>"",AV48<>"",AW48<>""),IF(AND(G48=AV48,H48=AW48),Semi1,IF((G48-H48)=(AV48-AW48),Semi2,IF(AND((G48>H48),(AV48>AW48)),Semi3,IF(AND((H48>G48),(AW48>AV48)),Semi3,0)))),0),0)+IFERROR(IF(KOPSO=1,IF(AND(F48=AU48,I48=AX48,J48<>"",K48<>"",AY48<>"",AZ48<>"",(G48-H48)=(AV48-AW48)),IF(AND(J48=AY48,K48=AZ48),Pena1,IF((J48-K48)=(AY48-AZ48),Pena2,IF(AND((J48>K48),(AY48>AZ48)),Pena3,IF(AND((J48<K48),(AZ48>AY48)),Pena3,0)))),0),0),0)) -> 0 | BC48: =IF(SUM(B36:B39)=24,IF(KOMatchRule=0,IF(AND(SUM(B36:B39)=24,AU48=F48,AX48=I48),IF(OR(AND((G48+J48)>(H48+K48),(AV48+AY48)>(AW48+AZ48)),AND((G48+J48)<(H48+K48),(AV48+AY48)<(AW48+AZ48))),Bonu16+Bonu9,Bonu9),0),IF(OR(AND((G48+J48)>(H48+K48),(AV48+AY48)>(AW48+AZ48)),AND((G48+J48)<(H48+K48),(AV48+AY48)<(AW48+AZ48))),Bonu16,0)),0) -> 0 | BE48: =BI36 -> United States | BF48: =IF(BG4<>"",IF(KOMatchRule=1,F48,IF(AND(BG45<>"",BH45<>""),IF((BG45+BJ45)>(BH45+BK45),BF45,IF((BG45+BJ45)<(BH45+BK45),BI45,"Match 26 Winner")),"Match 26 Winner")),"") -> Match 26 Winner | BI48: =IF(BG4<>"",IF(KOMatchRule=1,I48,IF(AND(BG44<>"",BH44<>""),IF((BG44+BJ44)>(BH44+BK44),BF44,IF((BG44+BJ44)<(BH44+BK44),BI44,"Match 25 Winner")),"Match 25 Winner")),"") -> Match 25 Winner | BM48: =IF(KOMatchRule=1,IFERROR(IF(AND(G48<>"",H48<>"",BG48<>"",BH48<>""),IF(AND(G48=BG48,H48=BH48),Semi1,IF((G48-H48)=(BG48-BH48),Semi2,IF(AND((G48>H48),(BG48>BH48)),Semi3,IF(AND((H48>G48),(BH48>BG48)),Semi3,0)))),0),0)+IFERROR(IF(KOPSO=1,IF(AND(J48<>"",K48<>"",BJ48<>"",BK48<>"",(G48-H48)=(BG48-BH48)),IF(AND(J48=BJ48,K48=BK48),Pena1,IF((J48-K48)=(BJ48-BK48),Pena2,IF(AND((J48>K48),(BJ48>BK48)),Pena3,IF(AND((J48<K48),(BK48>BJ48)),Pena3,0)))),0),0),0),IFERROR(IF(AND(F48=BF48,I48=BI48,G48<>"",H48<>"",BG48<>"",BH48<>""),IF(AND(G48=BG48,H48=BH48),Semi1,IF((G48-H48)=(BG48-BH48),Semi2,IF(AND((G48>H48),(BG48>BH48)),Semi3,IF(AND((H48>G48),(BH48>BG48)),Semi3,0)))),0),0)+IFERROR(IF(KOPSO=1,IF(AND(F48=BF48,I48=BI48,J48<>"",K48<>"",BJ48<>"",BK48<>"",(G48-H48)=(BG48-BH48)),IF(AND(J48=BJ48,K48=BK48),Pena1,IF((J48-K48)=(BJ48-BK48),Pena2,IF(AND((J48>K48),(BJ48>BK48)),Pena3,IF(AND((J48<K48),(BK48>BJ48)),Pena3,0)))),0),0),0)) -> 0 | BN48: =IF(SUM(B36:B39)=24,IF(KOMatchRule=0,IF(AND(SUM(B36:B39)=24,BF48=F48,BI48=I48),IF(OR(AND((G48+J48)>(H48+K48),(BG48+BJ48)>(BH48+BK48)),AND((G48+J48)<(H48+K48),(BG48+BJ48)<(BH48+BK48))),Bonu16+Bonu9,Bonu9),0),IF(OR(AND((G48+J48)>(H48+K48),(BG48+BJ48)>(BH48+BK48)),AND((G48+J48)<(H48+K48),(BG48+BJ48)<(BH48+BK48))),Bonu16,0)),0) -> 0 | BP48: =BT36 -> United States | BQ48: =IF(BR4<>"",IF(KOMatchRule=1,F48,IF(AND(BR45<>"",BS45<>""),IF((BR45+BU45)>(BS45+BV45),BQ45,IF((BR45+BU45)<(BS45+BV45),BT45,"Match 26 Winner")),"Match 26 Winner")),"") -> Match 26 Winner | BT48: =IF(BR4<>"",IF(KOMatchRule=1,I48,IF(AND(BR44<>"",BS44<>""),IF((BR44+BU44)>(BS44+BV44),BQ44,IF((BR44+BU44)<(BS44+BV44),BT44,"Match 25 Winner")),"Match 25 Winner")),"") -> Match 25 Winner | BX48: =IF(KOMatchRule=1,IFERROR(IF(AND(G48<>"",H48<>"",BR48<>"",BS48<>""),IF(AND(G48=BR48,H48=BS48),Semi1,IF((G48-H48)=(BR48-BS48),Semi2,IF(AND((G48>H48),(BR48>BS48)),Semi3,IF(AND((H48>G48),(BS48>BR48)),Semi3,0)))),0),0)+IFERROR(IF(KOPSO=1,IF(AND(J48<>"",K48<>"",BU48<>"",BV48<>"",(G48-H48)=(BR48-BS48)),IF(AND(J48=BU48,K48=BV48),Pena1,IF((J48-K48)=(BU48-BV48),Pena2,IF(AND((J48>K48),(BU48>BV48)),Pena3,IF(AND((J48<K48),(BV48>BU48)),Pena3,0)))),0),0),0),IFERROR(IF(AND(F48=BQ48,I48=BT48,G48<>"",H48<>"",BR48<>"",BS48<>""),IF(AND(G48=BR48,H48=BS48),Semi1,IF((G48-H48)=(BR48-BS48),Semi2,IF(AND((G48>H48),(BR48>BS48)),Semi3,IF(AND((H48>G48),(BS48>BR48)),Semi3,0)))),0),0)+IFERROR(IF(KOPSO=1,IF(AND(F48=BQ48,I48=BT48,J48<>"",K48<>"",BU48<>"",BV48<>"",(G48-H48)=(BR48-BS48)),IF(AND(J48=BU48,K48=BV48),Pena1,IF((J48-K48)=(BU48-BV48),Pena2,IF(AND((J48>K48),(BU48>BV48)),Pena3,IF(AND((J48<K48),(BV48>BU48)),Pena3,0)))),0),0),0)) -> 0 | BY48: =IF(SUM(B36:B39)=24,IF(KOMatchRule=0,IF(AND(SUM(B36:B39)=24,BQ48=F48,BT48=I48),IF(OR(AND((G48+J48)>(H48+K48),(BR48+BU48)>(BS48+BV48)),AND((G48+J48)<(H48+K48),(BR48+BU48)<(BS48+BV48))),Bonu16+Bonu9,Bonu9),0),IF(OR(AND((G48+J48)>(H48+K48),(BR48+BU48)>(BS48+BV48)),AND((G48+J48)<(H48+K48),(BR48+BU48)<(BS48+BV48))),Bonu16,0)),0) -> 0 | CA48: =CE36 -> United States | CB48: =IF(CC4<>"",IF(KOMatchRule=1,F48,IF(AND(CC45<>"",CD45<>""),IF((CC45+CF45)>(CD45+CG45),CB45,IF((CC45+CF45)<(CD45+CG45),CE45,"Match 26 Winner")),"Match 26 Winner")),"") -> Match 26 Winner | CE48: =IF(CC4<>"",IF(KOMatchRule=1,I48,IF(AND(CC44<>"",CD44<>""),IF((CC44+CF44)>(CD44+CG44),CB44,IF((CC44+CF44)<(CD44+CG44),CE44,"Match 25 Winner")),"Match 25 Winner")),"") -> Match 25 Winner | CI48: =IF(KOMatchRule=1,IFERROR(IF(AND(G48<>"",H48<>"",CC48<>"",CD48<>""),IF(AND(G48=CC48,H48=CD48),Semi1,IF((G48-H48)=(CC48-CD48),Semi2,IF(AND((G48>H48),(CC48>CD48)),Semi3,IF(AND((H48>G48),(CD48>CC48)),Semi3,0)))),0),0)+IFERROR(IF(KOPSO=1,IF(AND(J48<>"",K48<>"",CF48<>"",CG48<>"",(G48-H48)=(CC48-CD48)),IF(AND(J48=CF48,K48=CG48),Pena1,IF((J48-K48)=(CF48-CG48),Pena2,IF(AND((J48>K48),(CF48>CG48)),Pena3,IF(AND((J48<K48),(CG48>CF48)),Pena3,0)))),0),0),0),IFERROR(IF(AND(F48=CB48,I48=CE48,G48<>"",H48<>"",CC48<>"",CD48<>""),IF(AND(G48=CC48,H48=CD48),Semi1,IF((G48-H48)=(CC48-CD48),Semi2,IF(AND((G48>H48),(CC48>CD48)),Semi3,IF(AND((H48>G48),(CD48>CC48)),Semi3,0)))),0),0)+IFERROR(IF(KOPSO=1,IF(AND(F48=CB48,I48=CE48,J48<>"",K48<>"",CF48<>"",CG48<>"",(G48-H48)=(CC48-CD48)),IF(AND(J48=CF48,K48=CG48),Pena1,IF((J48-K48)=(CF48-CG48),Pena2,IF(AND((J48>K48),(CF48>CG48)),Pena3,IF(AND((J48<K48),(CG48>CF48)),Pena3,0)))),0),0),0)) -> 0 | CJ48: =IF(SUM(B36:B39)=24,IF(KOMatchRule=0,IF(AND(SUM(B36:B39)=24,CB48=F48,CE48=I48),IF(OR(AND((G48+J48)>(H48+K48),(CC48+CF48)>(CD48+CG48)),AND((G48+J48)<(H48+K48),(CC48+CF48)<(CD48+CG48))),Bonu16+Bonu9,Bonu9),0),IF(OR(AND((G48+J48)>(H48+K48),(CC48+CF48)>(CD48+CG48)),AND((G48+J48)<(H48+K48),(CC48+CF48)<(CD48+CG48))),Bonu16,0)),0) -> 0 | CL48: =CP36 -> United States | CM48: =IF(CN4<>"",IF(KOMatchRule=1,F48,IF(AND(CN45<>"",CO45<>""),IF((CN45+CQ45)>(CO45+CR45),CM45,IF((CN45+CQ45)<(CO45+CR45),CP45,"Match 26 Winner")),"Match 26 Winner")),"") -> Match 26 Winner | CP48: =IF(CN4<>"",IF(KOMatchRule=1,I48,IF(AND(CN44<>"",CO44<>""),IF((CN44+CQ44)>(CO44+CR44),CM44,IF((CN44+CQ44)<(CO44+CR44),CP44,"Match 25 Winner")),"Match 25 Winner")),"") -> Match 25 Winner | CT48: =IF(KOMatchRule=1,IFERROR(IF(AND(G48<>"",H48<>"",CN48<>"",CO48<>""),IF(AND(G48=CN48,H48=CO48),Semi1,IF((G48-H48)=(CN48-CO48),Semi2,IF(AND((G48>H48),(CN48>CO48)),Semi3,IF(AND((H48>G48),(CO48>CN48)),Semi3,0)))),0),0)+IFERROR(IF(KOPSO=1,IF(AND(J48<>"",K48<>"",CQ48<>"",CR48<>"",(G48-H48)=(CN48-CO48)),IF(AND(J48=CQ48,K48=CR48),Pena1,IF((J48-K48)=(CQ48-CR48),Pena2,IF(AND((J48>K48),(CQ48>CR48)),Pena3,IF(AND((J48<K48),(CR48>CQ48)),Pena3,0)))),0),0),0),IFERROR(IF(AND(F48=CM48,I48=CP48,G48<>"",H48<>"",CN48<>"",CO48<>""),IF(AND(G48=CN48,H48=CO48),Semi1,IF((G48-H48)=(CN48-CO48),Semi2,IF(AND((G48>H48),(CN48>CO48)),Semi3,IF(AND((H48>G48),(CO48>CN48)),Semi3,0)))),0),0)+IFERROR(IF(KOPSO=1,IF(AND(F48=CM48,I48=CP48,J48<>"",K48<>"",CQ48<>"",CR48<>"",(G48-H48)=(CN48-CO48)),IF(AND(J48=CQ48,K48=CR48),Pena1,IF((J48-K48)=(CQ48-CR48),Pena2,IF(AND((J48>K48),(CQ48>CR48)),Pena3,IF(AND((J48<K48),(CR48>CQ48)),Pena3,0)))),0),0),0)) -> 0 | CU48: =IF(SUM(B36:B39)=24,IF(KOMatchRule=0,IF(AND(SUM(B36:B39)=24,CM48=F48,CP48=I48),IF(OR(AND((G48+J48)>(H48+K48),(CN48+CQ48)>(CO48+CR48)),AND((G48+J48)<(H48+K48),(CN48+CQ48)<(CO48+CR48))),Bonu16+Bonu9,Bonu9),0),IF(OR(AND((G48+J48)>(H48+K48),(CN48+CQ48)>(CO48+CR48)),AND((G48+J48)<(H48+K48),(CN48+CQ48)<(CO48+CR48))),Bonu16,0)),0) -> 0 | CW48: =DA36 -> United States | CX48: =IF(CY4<>"",IF(KOMatchRule=1,F48,IF(AND(CY45<>"",CZ45<>""),IF((CY45+DB45)>(CZ45+DC45),CX45,IF((CY45+DB45)<(CZ45+DC45),DA45,"Match 26 Winner")),"Match 26 Winner")),"") -> Match 26 Winner | DA48: =IF(CY4<>"",IF(KOMatchRule=1,I48,IF(AND(CY44<>"",CZ44<>""),IF((CY44+DB44)>(CZ44+DC44),CX44,IF((CY44+DB44)<(CZ44+DC44),DA44,"Match 25 Winner")),"Match 25 Winner")),"") -> Match 25 Winner | DE48: =IF(KOMatchRule=1,IFERROR(IF(AND(G48<>"",H48<>"",CY48<>"",CZ48<>""),IF(AND(G48=CY48,H48=CZ48),Semi1,IF((G48-H48)=(CY48-CZ48),Semi2,IF(AND((G48>H48),(CY48>CZ48)),Semi3,IF(AND((H48>G48),(CZ48>CY48)),Semi3,0)))),0),0)+IFERROR(IF(KOPSO=1,IF(AND(J48<>"",K48<>"",DB48<>"",DC48<>"",(G48-H48)=(CY48-CZ48)),IF(AND(J48=DB48,K48=DC48),Pena1,IF((J48-K48)=(DB48-DC48),Pena2,IF(AND((J48>K48),(DB48>DC48)),Pena3,IF(AND((J48<K48),(DC48>DB48)),Pena3,0)))),0),0),0),IFERROR(IF(AND(F48=CX48,I48=DA48,G48<>"",H48<>"",CY48<>"",CZ48<>""),IF(AND(G48=CY48,H48=CZ48),Semi1,IF((G48-H48)=(CY48-CZ48),Semi2,IF(AND((G48>H48),(CY48>CZ48)),Semi3,IF(AND((H48>G48),(CZ48>CY48)),Semi3,0)))),0),0)+IFERROR(IF(KOPSO=1,IF(AND(F48=CX48,I48=DA48,J48<>"",K48<>"",DB48<>"",DC48<>"",(G48-H48)=(CY48-CZ48)),IF(AND(J48=DB48,K48=DC48),Pena1,IF((J48-K48)=(DB48-DC48),Pena2,IF(AND((J48>K48),(DB48>DC48)),Pena3,IF(AND((J48<K48),(DC48>DB48)),Pena3,0)))),0),0),0)) -> 0 | DF48: =IF(SUM(B36:B39)=24,IF(KOMatchRule=0,IF(AND(SUM(B36:B39)=24,CX48=F48,DA48=I48),IF(OR(AND((G48+J48)>(H48+K48),(CY48+DB48)>(CZ48+DC48)),AND((G48+J48)<(H48+K48),(CY48+DB48)<(CZ48+DC48))),Bonu16+Bonu9,Bonu9),0),IF(OR(AND((G48+J48)>(H48+K48),(CY48+DB48)>(CZ48+DC48)),AND((G48+J48)<(H48+K48),(CY48+DB48)<(CZ48+DC48))),Bonu16,0)),0) -> 0 | DH48: =DL36 -> United States | DI48: =IF(DJ4<>"",IF(KOMatchRule=1,F48,IF(AND(DJ45<>"",DK45<>""),IF((DJ45+DM45)>(DK45+DN45),DI45,IF((DJ45+DM45)<(DK45+DN45),DL45,"Match 26 Winner")),"Match 26 Winner")),"") -> Match 26 Winner | DL48: =IF(DJ4<>"",IF(KOMatchRule=1,I48,IF(AND(DJ44<>"",DK44<>""),IF((DJ44+DM44)>(DK44+DN44),DI44,IF((DJ44+DM44)<(DK44+DN44),DL44,"Match 25 Winner")),"Match 25 Winner")),"") -> Match 25 Winner | DP48: =IF(KOMatchRule=1,IFERROR(IF(AND(G48<>"",H48<>"",DJ48<>"",DK48<>""),IF(AND(G48=DJ48,H48=DK48),Semi1,IF((G48-H48)=(DJ48-DK48),Semi2,IF(AND((G48>H48),(DJ48>DK48)),Semi3,IF(AND((H48>G48),(DK48>DJ48)),Semi3,0)))),0),0)+IFERROR(IF(KOPSO=1,IF(AND(J48<>"",K48<>"",DM48<>"",DN48<>"",(G48-H48)=(DJ48-DK48)),IF(AND(J48=DM48,K48=DN48),Pena1,IF((J48-K48)=(DM48-DN48),Pena2,IF(AND((J48>K48),(DM48>DN48)),Pena3,IF(AND((J48<K48),(DN48>DM48)),Pena3,0)))),0),0),0),IFERROR(IF(AND(F48=DI48,I48=DL48,G48<>"",H48<>"",DJ48<>"",DK48<>""),IF(AND(G48=DJ48,H48=DK48),Semi1,IF((G48-H48)=(DJ48-DK48),Semi2,IF(AND((G48>H48),(DJ48>DK48)),Semi3,IF(AND((H48>G48),(DK48>DJ48)),Semi3,0)))),0),0)+IFERROR(IF(KOPSO=1,IF(AND(F48=DI48,I48=DL48,J48<>"",K48<>"",DM48<>"",DN48<>"",(G48-H48)=(DJ48-DK48)),IF(AND(J48=DM48,K48=DN48),Pena1,IF((J48-K48)=(DM48-DN48),Pena2,IF(AND((J48>K48),(DM48>DN48)),Pena3,IF(AND((J48<K48),(DN48>DM48)),Pena3,0)))),0),0),0)) -> 0 | DQ48: =IF(SUM(B36:B39)=24,IF(KOMatchRule=0,IF(AND(SUM(B36:B39)=24,DI48=F48,DL48=I48),IF(OR(AND((G48+J48)>(H48+K48),(DJ48+DM48)>(DK48+DN48)),AND((G48+J48)<(H48+K48),(DJ48+DM48)<(DK48+DN48))),Bonu16+Bonu9,Bonu9),0),IF(OR(AND((G48+J48)>(H48+K48),(DJ48+DM48)>(DK48+DN48)),AND((G48+J48)<(H48+K48),(DJ48+DM48)<(DK48+DN48))),Bonu16,0)),0) -> 0
A49: =IF(G49<>"",A48+1,A48) -> 0 | B49: =I37 -> Morocco | C49: 30 | D49: SF | E49: 45509.875 | F49: =IF(AND(G45<>"",H45<>""),IF((G45+J45)>(H45+K45),F45,IF((G45+J45)<(H45+K45),I45,"Match #26 Winner")),"Match #26 Winner") -> Match #26 Winner | I49: =IF(AND(G47<>"",H47<>""),IF((G47+J47)>(H47+K47),F47,IF((G47+J47)<(H47+K47),I47,"Match #28 Winner")),"Match #28 Winner") -> Match #28 Winner | M49: =Q37 -> Morocco | N49: =IF(O4<>"",IF(KOMatchRule=1,F49,IF(AND(O47<>"",P47<>""),IF((O47+R47)>(P47+S47),N47,IF((O47+R47)<(P47+S47),Q47,"Match 28 Winner")),"Match 28 Winner")),"") -> Match 28 Winner | Q49: =IF(O4<>"",IF(KOMatchRule=1,I49,IF(AND(O46<>"",P46<>""),IF((O46+R46)>(P46+S46),N46,IF((O46+R46)<(P46+S46),Q46,"Match 27 Winner")),"Match 27 Winner")),"") -> Match 27 Winner | U49: =IF(KOMatchRule=1,IFERROR(IF(AND(G49<>"",H49<>"",O49<>"",P49<>""),IF(AND(G49=O49,H49=P49),Semi1,IF((G49-H49)=(O49-P49),Semi2,IF(AND((G49>H49),(O49>P49)),Semi3,IF(AND((H49>G49),(P49>O49)),Semi3,0)))),0),0)+IFERROR(IF(KOPSO=1,IF(AND(J49<>"",K49<>"",R49<>"",S49<>"",(G49-H49)=(O49-P49)),IF(AND(J49=R49,K49=S49),Pena1,IF((J49-K49)=(R49-S49),Pena2,IF(AND((J49>K49),(R49>S49)),Pena3,IF(AND((J49<K49),(S49>R49)),Pena3,0)))),0),0),0),IFERROR(IF(AND(F49=N49,I49=Q49,G49<>"",H49<>"",O49<>"",P49<>""),IF(AND(G49=O49,H49=P49),Semi1,IF((G49-H49)=(O49-P49),Semi2,IF(AND((G49>H49),(O49>P49)),Semi3,IF(AND((H49>G49),(P49>O49)),Semi3,0)))),0),0)+IFERROR(IF(KOPSO=1,IF(AND(F49=N49,I49=Q49,J49<>"",K49<>"",R49<>"",S49<>"",(G49-H49)=(O49-P49)),IF(AND(J49=R49,K49=S49),Pena1,IF((J49-K49)=(R49-S49),Pena2,IF(AND((J49>K49),(R49>S49)),Pena3,IF(AND((J49<K49),(S49>R49)),Pena3,0)))),0),0),0)) -> 0 | V49: =IF(SUM(B36:B39)=24,IF(KOMatchRule=0,IF(AND(SUM(B36:B39)=24,N49=F49,Q49=I49),IF(OR(AND((G49+J49)>(H49+K49),(O49+R49)>(P49+S49)),AND((G49+J49)<(H49+K49),(O49+R49)<(P49+S49))),Bonu16+Bonu9,Bonu9),0),IF(OR(AND((G49+J49)>(H49+K49),(O49+R49)>(P49+S49)),AND((G49+J49)<(H49+K49),(O49+R49)<(P49+S49))),Bonu16,0)),0) -> 0 | X49: =AB37 -> Morocco | Y49: =IF(Z4<>"",IF(KOMatchRule=1,F49,IF(AND(Z47<>"",AA47<>""),IF((Z47+AC47)>(AA47+AD47),Y47,IF((Z47+AC47)<(AA47+AD47),AB47,"Match 28 Winner")),"Match 28 Winner")),"") -> Match 28 Winner | AB49: =IF(Z4<>"",IF(KOMatchRule=1,I49,IF(AND(Z46<>"",AA46<>""),IF((Z46+AC46)>(AA46+AD46),Y46,IF((Z46+AC46)<(AA46+AD46),AB46,"Match 27 Winner")),"Match 27 Winner")),"") -> Match 27 Winner | AF49: =IF(KOMatchRule=1,IFERROR(IF(AND(G49<>"",H49<>"",Z49<>"",AA49<>""),IF(AND(G49=Z49,H49=AA49),Semi1,IF((G49-H49)=(Z49-AA49),Semi2,IF(AND((G49>H49),(Z49>AA49)),Semi3,IF(AND((H49>G49),(AA49>Z49)),Semi3,0)))),0),0)+IFERROR(IF(KOPSO=1,IF(AND(J49<>"",K49<>"",AC49<>"",AD49<>"",(G49-H49)=(Z49-AA49)),IF(AND(J49=AC49,K49=AD49),Pena1,IF((J49-K49)=(AC49-AD49),Pena2,IF(AND((J49>K49),(AC49>AD49)),Pena3,IF(AND((J49<K49),(AD49>AC49)),Pena3,0)))),0),0),0),IFERROR(IF(AND(F49=Y49,I49=AB49,G49<>"",H49<>"",Z49<>"",AA49<>""),IF(AND(G49=Z49,H49=AA49),Semi1,IF((G49-H49)=(Z49-AA49),Semi2,IF(AND((G49>H49),(Z49>AA49)),Semi3,IF(AND((H49>G49),(AA49>Z49)),Semi3,0)))),0),0)+IFERROR(IF(KOPSO=1,IF(AND(F49=Y49,I49=AB49,J49<>"",K49<>"",AC49<>"",AD49<>"",(G49-H49)=(Z49-AA49)),IF(AND(J49=AC49,K49=AD49),Pena1,IF((J49-K49)=(AC49-AD49),Pena2,IF(AND((J49>K49),(AC49>AD49)),Pena3,IF(AND((J49<K49),(AD49>AC49)),Pena3,0)))),0),0),0)) -> 0 | AG49: =IF(SUM(B36:B39)=24,IF(KOMatchRule=0,IF(AND(SUM(B36:B39)=24,Y49=F49,AB49=I49),IF(OR(AND((G49+J49)>(H49+K49),(Z49+AC49)>(AA49+AD49)),AND((G49+J49)<(H49+K49),(Z49+AC49)<(AA49+AD49))),Bonu16+Bonu9,Bonu9),0),IF(OR(AND((G49+J49)>(H49+K49),(Z49+AC49)>(AA49+AD49)),AND((G49+J49)<(H49+K49),(Z49+AC49)<(AA49+AD49))),Bonu16,0)),0) -> 0 | AI49: =AM37 -> Morocco | AJ49: =IF(AK4<>"",IF(KOMatchRule=1,F49,IF(AND(AK47<>"",AL47<>""),IF((AK47+AN47)>(AL47+AO47),AJ47,IF((AK47+AN47)<(AL47+AO47),AM47,"Match 28 Winner")),"Match 28 Winner")),"") -> Match 28 Winner | AM49: =IF(AK4<>"",IF(KOMatchRule=1,I49,IF(AND(AK46<>"",AL46<>""),IF((AK46+AN46)>(AL46+AO46),AJ46,IF((AK46+AN46)<(AL46+AO46),AM46,"Match 27 Winner")),"Match 27 Winner")),"") -> Match 27 Winner | AQ49: =IF(KOMatchRule=1,IFERROR(IF(AND(G49<>"",H49<>"",AK49<>"",AL49<>""),IF(AND(G49=AK49,H49=AL49),Semi1,IF((G49-H49)=(AK49-AL49),Semi2,IF(AND((G49>H49),(AK49>AL49)),Semi3,IF(AND((H49>G49),(AL49>AK49)),Semi3,0)))),0),0)+IFERROR(IF(KOPSO=1,IF(AND(J49<>"",K49<>"",AN49<>"",AO49<>"",(G49-H49)=(AK49-AL49)),IF(AND(J49=AN49,K49=AO49),Pena1,IF((J49-K49)=(AN49-AO49),Pena2,IF(AND((J49>K49),(AN49>AO49)),Pena3,IF(AND((J49<K49),(AO49>AN49)),Pena3,0)))),0),0),0),IFERROR(IF(AND(F49=AJ49,I49=AM49,G49<>"",H49<>"",AK49<>"",AL49<>""),IF(AND(G49=AK49,H49=AL49),Semi1,IF((G49-H49)=(AK49-AL49),Semi2,IF(AND((G49>H49),(AK49>AL49)),Semi3,IF(AND((H49>G49),(AL49>AK49)),Semi3,0)))),0),0)+IFERROR(IF(KOPSO=1,IF(AND(F49=AJ49,I49=AM49,J49<>"",K49<>"",AN49<>"",AO49<>"",(G49-H49)=(AK49-AL49)),IF(AND(J49=AN49,K49=AO49),Pena1,IF((J49-K49)=(AN49-AO49),Pena2,IF(AND((J49>K49),(AN49>AO49)),Pena3,IF(AND((J49<K49),(AO49>AN49)),Pena3,0)))),0),0),0)) -> 0 | AR49: =IF(SUM(B36:B39)=24,IF(KOMatchRule=0,IF(AND(SUM(B36:B39)=24,AJ49=F49,AM49=I49),IF(OR(AND((G49+J49)>(H49+K49),(AK49+AN49)>(AL49+AO49)),AND((G49+J49)<(H49+K49),(AK49+AN49)<(AL49+AO49))),Bonu16+Bonu9,Bonu9),0),IF(OR(AND((G49+J49)>(H49+K49),(AK49+AN49)>(AL49+AO49)),AND((G49+J49)<(H49+K49),(AK49+AN49)<(AL49+AO49))),Bonu16,0)),0) -> 0 | AT49: =AX37 -> Morocco | AU49: =IF(AV4<>"",IF(KOMatchRule=1,F49,IF(AND(AV47<>"",AW47<>""),IF((AV47+AY47)>(AW47+AZ47),AU47,IF((AV47+AY47)<(AW47+AZ47),AX47,"Match 28 Winner")),"Match 28 Winner")),"") -> Match 28 Winner | AX49: =IF(AV4<>"",IF(KOMatchRule=1,I49,IF(AND(AV46<>"",AW46<>""),IF((AV46+AY46)>(AW46+AZ46),AU46,IF((AV46+AY46)<(AW46+AZ46),AX46,"Match 27 Winner")),"Match 27 Winner")),"") -> Match 27 Winner | BB49: =IF(KOMatchRule=1,IFERROR(IF(AND(G49<>"",H49<>"",AV49<>"",AW49<>""),IF(AND(G49=AV49,H49=AW49),Semi1,IF((G49-H49)=(AV49-AW49),Semi2,IF(AND((G49>H49),(AV49>AW49)),Semi3,IF(AND((H49>G49),(AW49>AV49)),Semi3,0)))),0),0)+IFERROR(IF(KOPSO=1,IF(AND(J49<>"",K49<>"",AY49<>"",AZ49<>"",(G49-H49)=(AV49-AW49)),IF(AND(J49=AY49,K49=AZ49),Pena1,IF((J49-K49)=(AY49-AZ49),Pena2,IF(AND((J49>K49),(AY49>AZ49)),Pena3,IF(AND((J49<K49),(AZ49>AY49)),Pena3,0)))),0),0),0),IFERROR(IF(AND(F49=AU49,I49=AX49,G49<>"",H49<>"",AV49<>"",AW49<>""),IF(AND(G49=AV49,H49=AW49),Semi1,IF((G49-H49)=(AV49-AW49),Semi2,IF(AND((G49>H49),(AV49>AW49)),Semi3,IF(AND((H49>G49),(AW49>AV49)),Semi3,0)))),0),0)+IFERROR(IF(KOPSO=1,IF(AND(F49=AU49,I49=AX49,J49<>"",K49<>"",AY49<>"",AZ49<>"",(G49-H49)=(AV49-AW49)),IF(AND(J49=AY49,K49=AZ49),Pena1,IF((J49-K49)=(AY49-AZ49),Pena2,IF(AND((J49>K49),(AY49>AZ49)),Pena3,IF(AND((J49<K49),(AZ49>AY49)),Pena3,0)))),0),0),0)) -> 0 | BC49: =IF(SUM(B36:B39)=24,IF(KOMatchRule=0,IF(AND(SUM(B36:B39)=24,AU49=F49,AX49=I49),IF(OR(AND((G49+J49)>(H49+K49),(AV49+AY49)>(AW49+AZ49)),AND((G49+J49)<(H49+K49),(AV49+AY49)<(AW49+AZ49))),Bonu16+Bonu9,Bonu9),0),IF(OR(AND((G49+J49)>(H49+K49),(AV49+AY49)>(AW49+AZ49)),AND((G49+J49)<(H49+K49),(AV49+AY49)<(AW49+AZ49))),Bonu16,0)),0) -> 0 | BE49: =BI37 -> Morocco | BF49: =IF(BG4<>"",IF(KOMatchRule=1,F49,IF(AND(BG47<>"",BH47<>""),IF((BG47+BJ47)>(BH47+BK47),BF47,IF((BG47+BJ47)<(BH47+BK47),BI47,"Match 28 Winner")),"Match 28 Winner")),"") -> Match 28 Winner | BI49: =IF(BG4<>"",IF(KOMatchRule=1,I49,IF(AND(BG46<>"",BH46<>""),IF((BG46+BJ46)>(BH46+BK46),BF46,IF((BG46+BJ46)<(BH46+BK46),BI46,"Match 27 Winner")),"Match 27 Winner")),"") -> Match 27 Winner | BM49: =IF(KOMatchRule=1,IFERROR(IF(AND(G49<>"",H49<>"",BG49<>"",BH49<>""),IF(AND(G49=BG49,H49=BH49),Semi1,IF((G49-H49)=(BG49-BH49),Semi2,IF(AND((G49>H49),(BG49>BH49)),Semi3,IF(AND((H49>G49),(BH49>BG49)),Semi3,0)))),0),0)+IFERROR(IF(KOPSO=1,IF(AND(J49<>"",K49<>"",BJ49<>"",BK49<>"",(G49-H49)=(BG49-BH49)),IF(AND(J49=BJ49,K49=BK49),Pena1,IF((J49-K49)=(BJ49-BK49),Pena2,IF(AND((J49>K49),(BJ49>BK49)),Pena3,IF(AND((J49<K49),(BK49>BJ49)),Pena3,0)))),0),0),0),IFERROR(IF(AND(F49=BF49,I49=BI49,G49<>"",H49<>"",BG49<>"",BH49<>""),IF(AND(G49=BG49,H49=BH49),Semi1,IF((G49-H49)=(BG49-BH49),Semi2,IF(AND((G49>H49),(BG49>BH49)),Semi3,IF(AND((H49>G49),(BH49>BG49)),Semi3,0)))),0),0)+IFERROR(IF(KOPSO=1,IF(AND(F49=BF49,I49=BI49,J49<>"",K49<>"",BJ49<>"",BK49<>"",(G49-H49)=(BG49-BH49)),IF(AND(J49=BJ49,K49=BK49),Pena1,IF((J49-K49)=(BJ49-BK49),Pena2,IF(AND((J49>K49),(BJ49>BK49)),Pena3,IF(AND((J49<K49),(BK49>BJ49)),Pena3,0)))),0),0),0)) -> 0 | BN49: =IF(SUM(B36:B39)=24,IF(KOMatchRule=0,IF(AND(SUM(B36:B39)=24,BF49=F49,BI49=I49),IF(OR(AND((G49+J49)>(H49+K49),(BG49+BJ49)>(BH49+BK49)),AND((G49+J49)<(H49+K49),(BG49+BJ49)<(BH49+BK49))),Bonu16+Bonu9,Bonu9),0),IF(OR(AND((G49+J49)>(H49+K49),(BG49+BJ49)>(BH49+BK49)),AND((G49+J49)<(H49+K49),(BG49+BJ49)<(BH49+BK49))),Bonu16,0)),0) -> 0 | BP49: =BT37 -> Morocco | BQ49: =IF(BR4<>"",IF(KOMatchRule=1,F49,IF(AND(BR47<>"",BS47<>""),IF((BR47+BU47)>(BS47+BV47),BQ47,IF((BR47+BU47)<(BS47+BV47),BT47,"Match 28 Winner")),"Match 28 Winner")),"") -> Match 28 Winner | BT49: =IF(BR4<>"",IF(KOMatchRule=1,I49,IF(AND(BR46<>"",BS46<>""),IF((BR46+BU46)>(BS46+BV46),BQ46,IF((BR46+BU46)<(BS46+BV46),BT46,"Match 27 Winner")),"Match 27 Winner")),"") -> Match 27 Winner | BX49: =IF(KOMatchRule=1,IFERROR(IF(AND(G49<>"",H49<>"",BR49<>"",BS49<>""),IF(AND(G49=BR49,H49=BS49),Semi1,IF((G49-H49)=(BR49-BS49),Semi2,IF(AND((G49>H49),(BR49>BS49)),Semi3,IF(AND((H49>G49),(BS49>BR49)),Semi3,0)))),0),0)+IFERROR(IF(KOPSO=1,IF(AND(J49<>"",K49<>"",BU49<>"",BV49<>"",(G49-H49)=(BR49-BS49)),IF(AND(J49=BU49,K49=BV49),Pena1,IF((J49-K49)=(BU49-BV49),Pena2,IF(AND((J49>K49),(BU49>BV49)),Pena3,IF(AND((J49<K49),(BV49>BU49)),Pena3,0)))),0),0),0),IFERROR(IF(AND(F49=BQ49,I49=BT49,G49<>"",H49<>"",BR49<>"",BS49<>""),IF(AND(G49=BR49,H49=BS49),Semi1,IF((G49-H49)=(BR49-BS49),Semi2,IF(AND((G49>H49),(BR49>BS49)),Semi3,IF(AND((H49>G49),(BS49>BR49)),Semi3,0)))),0),0)+IFERROR(IF(KOPSO=1,IF(AND(F49=BQ49,I49=BT49,J49<>"",K49<>"",BU49<>"",BV49<>"",(G49-H49)=(BR49-BS49)),IF(AND(J49=BU49,K49=BV49),Pena1,IF((J49-K49)=(BU49-BV49),Pena2,IF(AND((J49>K49),(BU49>BV49)),Pena3,IF(AND((J49<K49),(BV49>BU49)),Pena3,0)))),0),0),0)) -> 0 | BY49: =IF(SUM(B36:B39)=24,IF(KOMatchRule=0,IF(AND(SUM(B36:B39)=24,BQ49=F49,BT49=I49),IF(OR(AND((G49+J49)>(H49+K49),(BR49+BU49)>(BS49+BV49)),AND((G49+J49)<(H49+K49),(BR49+BU49)<(BS49+BV49))),Bonu16+Bonu9,Bonu9),0),IF(OR(AND((G49+J49)>(H49+K49),(BR49+BU49)>(BS49+BV49)),AND((G49+J49)<(H49+K49),(BR49+BU49)<(BS49+BV49))),Bonu16,0)),0) -> 0 | CA49: =CE37 -> Morocco | CB49: =IF(CC4<>"",IF(KOMatchRule=1,F49,IF(AND(CC47<>"",CD47<>""),IF((CC47+CF47)>(CD47+CG47),CB47,IF((CC47+CF47)<(CD47+CG47),CE47,"Match 28 Winner")),"Match 28 Winner")),"") -> Match 28 Winner | CE49: =IF(CC4<>"",IF(KOMatchRule=1,I49,IF(AND(CC46<>"",CD46<>""),IF((CC46+CF46)>(CD46+CG46),CB46,IF((CC46+CF46)<(CD46+CG46),CE46,"Match 27 Winner")),"Match 27 Winner")),"") -> Match 27 Winner | CI49: =IF(KOMatchRule=1,IFERROR(IF(AND(G49<>"",H49<>"",CC49<>"",CD49<>""),IF(AND(G49=CC49,H49=CD49),Semi1,IF((G49-H49)=(CC49-CD49),Semi2,IF(AND((G49>H49),(CC49>CD49)),Semi3,IF(AND((H49>G49),(CD49>CC49)),Semi3,0)))),0),0)+IFERROR(IF(KOPSO=1,IF(AND(J49<>"",K49<>"",CF49<>"",CG49<>"",(G49-H49)=(CC49-CD49)),IF(AND(J49=CF49,K49=CG49),Pena1,IF((J49-K49)=(CF49-CG49),Pena2,IF(AND((J49>K49),(CF49>CG49)),Pena3,IF(AND((J49<K49),(CG49>CF49)),Pena3,0)))),0),0),0),IFERROR(IF(AND(F49=CB49,I49=CE49,G49<>"",H49<>"",CC49<>"",CD49<>""),IF(AND(G49=CC49,H49=CD49),Semi1,IF((G49-H49)=(CC49-CD49),Semi2,IF(AND((G49>H49),(CC49>CD49)),Semi3,IF(AND((H49>G49),(CD49>CC49)),Semi3,0)))),0),0)+IFERROR(IF(KOPSO=1,IF(AND(F49=CB49,I49=CE49,J49<>"",K49<>"",CF49<>"",CG49<>"",(G49-H49)=(CC49-CD49)),IF(AND(J49=CF49,K49=CG49),Pena1,IF((J49-K49)=(CF49-CG49),Pena2,IF(AND((J49>K49),(CF49>CG49)),Pena3,IF(AND((J49<K49),(CG49>CF49)),Pena3,0)))),0),0),0)) -> 0 | CJ49: =IF(SUM(B36:B39)=24,IF(KOMatchRule=0,IF(AND(SUM(B36:B39)=24,CB49=F49,CE49=I49),IF(OR(AND((G49+J49)>(H49+K49),(CC49+CF49)>(CD49+CG49)),AND((G49+J49)<(H49+K49),(CC49+CF49)<(CD49+CG49))),Bonu16+Bonu9,Bonu9),0),IF(OR(AND((G49+J49)>(H49+K49),(CC49+CF49)>(CD49+CG49)),AND((G49+J49)<(H49+K49),(CC49+CF49)<(CD49+CG49))),Bonu16,0)),0) -> 0 | CL49: =CP37 -> Morocco | CM49: =IF(CN4<>"",IF(KOMatchRule=1,F49,IF(AND(CN47<>"",CO47<>""),IF((CN47+CQ47)>(CO47+CR47),CM47,IF((CN47+CQ47)<(CO47+CR47),CP47,"Match 28 Winner")),"Match 28 Winner")),"") -> Match 28 Winner | CP49: =IF(CN4<>"",IF(KOMatchRule=1,I49,IF(AND(CN46<>"",CO46<>""),IF((CN46+CQ46)>(CO46+CR46),CM46,IF((CN46+CQ46)<(CO46+CR46),CP46,"Match 27 Winner")),"Match 27 Winner")),"") -> Match 27 Winner | CT49: =IF(KOMatchRule=1,IFERROR(IF(AND(G49<>"",H49<>"",CN49<>"",CO49<>""),IF(AND(G49=CN49,H49=CO49),Semi1,IF((G49-H49)=(CN49-CO49),Semi2,IF(AND((G49>H49),(CN49>CO49)),Semi3,IF(AND((H49>G49),(CO49>CN49)),Semi3,0)))),0),0)+IFERROR(IF(KOPSO=1,IF(AND(J49<>"",K49<>"",CQ49<>"",CR49<>"",(G49-H49)=(CN49-CO49)),IF(AND(J49=CQ49,K49=CR49),Pena1,IF((J49-K49)=(CQ49-CR49),Pena2,IF(AND((J49>K49),(CQ49>CR49)),Pena3,IF(AND((J49<K49),(CR49>CQ49)),Pena3,0)))),0),0),0),IFERROR(IF(AND(F49=CM49,I49=CP49,G49<>"",H49<>"",CN49<>"",CO49<>""),IF(AND(G49=CN49,H49=CO49),Semi1,IF((G49-H49)=(CN49-CO49),Semi2,IF(AND((G49>H49),(CN49>CO49)),Semi3,IF(AND((H49>G49),(CO49>CN49)),Semi3,0)))),0),0)+IFERROR(IF(KOPSO=1,IF(AND(F49=CM49,I49=CP49,J49<>"",K49<>"",CQ49<>"",CR49<>"",(G49-H49)=(CN49-CO49)),IF(AND(J49=CQ49,K49=CR49),Pena1,IF((J49-K49)=(CQ49-CR49),Pena2,IF(AND((J49>K49),(CQ49>CR49)),Pena3,IF(AND((J49<K49),(CR49>CQ49)),Pena3,0)))),0),0),0)) -> 0 | CU49: =IF(SUM(B36:B39)=24,IF(KOMatchRule=0,IF(AND(SUM(B36:B39)=24,CM49=F49,CP49=I49),IF(OR(AND((G49+J49)>(H49+K49),(CN49+CQ49)>(CO49+CR49)),AND((G49+J49)<(H49+K49),(CN49+CQ49)<(CO49+CR49))),Bonu16+Bonu9,Bonu9),0),IF(OR(AND((G49+J49)>(H49+K49),(CN49+CQ49)>(CO49+CR49)),AND((G49+J49)<(H49+K49),(CN49+CQ49)<(CO49+CR49))),Bonu16,0)),0) -> 0 | CW49: =DA37 -> Morocco | CX49: =IF(CY4<>"",IF(KOMatchRule=1,F49,IF(AND(CY47<>"",CZ47<>""),IF((CY47+DB47)>(CZ47+DC47),CX47,IF((CY47+DB47)<(CZ47+DC47),DA47,"Match 28 Winner")),"Match 28 Winner")),"") -> Match 28 Winner | DA49: =IF(CY4<>"",IF(KOMatchRule=1,I49,IF(AND(CY46<>"",CZ46<>""),IF((CY46+DB46)>(CZ46+DC46),CX46,IF((CY46+DB46)<(CZ46+DC46),DA46,"Match 27 Winner")),"Match 27 Winner")),"") -> Match 27 Winner | DE49: =IF(KOMatchRule=1,IFERROR(IF(AND(G49<>"",H49<>"",CY49<>"",CZ49<>""),IF(AND(G49=CY49,H49=CZ49),Semi1,IF((G49-H49)=(CY49-CZ49),Semi2,IF(AND((G49>H49),(CY49>CZ49)),Semi3,IF(AND((H49>G49),(CZ49>CY49)),Semi3,0)))),0),0)+IFERROR(IF(KOPSO=1,IF(AND(J49<>"",K49<>"",DB49<>"",DC49<>"",(G49-H49)=(CY49-CZ49)),IF(AND(J49=DB49,K49=DC49),Pena1,IF((J49-K49)=(DB49-DC49),Pena2,IF(AND((J49>K49),(DB49>DC49)),Pena3,IF(AND((J49<K49),(DC49>DB49)),Pena3,0)))),0),0),0),IFERROR(IF(AND(F49=CX49,I49=DA49,G49<>"",H49<>"",CY49<>"",CZ49<>""),IF(AND(G49=CY49,H49=CZ49),Semi1,IF((G49-H49)=(CY49-CZ49),Semi2,IF(AND((G49>H49),(CY49>CZ49)),Semi3,IF(AND((H49>G49),(CZ49>CY49)),Semi3,0)))),0),0)+IFERROR(IF(KOPSO=1,IF(AND(F49=CX49,I49=DA49,J49<>"",K49<>"",DB49<>"",DC49<>"",(G49-H49)=(CY49-CZ49)),IF(AND(J49=DB49,K49=DC49),Pena1,IF((J49-K49)=(DB49-DC49),Pena2,IF(AND((J49>K49),(DB49>DC49)),Pena3,IF(AND((J49<K49),(DC49>DB49)),Pena3,0)))),0),0),0)) -> 0 | DF49: =IF(SUM(B36:B39)=24,IF(KOMatchRule=0,IF(AND(SUM(B36:B39)=24,CX49=F49,DA49=I49),IF(OR(AND((G49+J49)>(H49+K49),(CY49+DB49)>(CZ49+DC49)),AND((G49+J49)<(H49+K49),(CY49+DB49)<(CZ49+DC49))),Bonu16+Bonu9,Bonu9),0),IF(OR(AND((G49+J49)>(H49+K49),(CY49+DB49)>(CZ49+DC49)),AND((G49+J49)<(H49+K49),(CY49+DB49)<(CZ49+DC49))),Bonu16,0)),0) -> 0 | DH49: =DL37 -> Morocco | DI49: =IF(DJ4<>"",IF(KOMatchRule=1,F49,IF(AND(DJ47<>"",DK47<>""),IF((DJ47+DM47)>(DK47+DN47),DI47,IF((DJ47+DM47)<(DK47+DN47),DL47,"Match 28 Winner")),"Match 28 Winner")),"") -> Match 28 Winner | DL49: =IF(DJ4<>"",IF(KOMatchRule=1,I49,IF(AND(DJ46<>"",DK46<>""),IF((DJ46+DM46)>(DK46+DN46),DI46,IF((DJ46+DM46)<(DK46+DN46),DL46,"Match 27 Winner")),"Match 27 Winner")),"") -> Match 27 Winner | DP49: =IF(KOMatchRule=1,IFERROR(IF(AND(G49<>"",H49<>"",DJ49<>"",DK49<>""),IF(AND(G49=DJ49,H49=DK49),Semi1,IF((G49-H49)=(DJ49-DK49),Semi2,IF(AND((G49>H49),(DJ49>DK49)),Semi3,IF(AND((H49>G49),(DK49>DJ49)),Semi3,0)))),0),0)+IFERROR(IF(KOPSO=1,IF(AND(J49<>"",K49<>"",DM49<>"",DN49<>"",(G49-H49)=(DJ49-DK49)),IF(AND(J49=DM49,K49=DN49),Pena1,IF((J49-K49)=(DM49-DN49),Pena2,IF(AND((J49>K49),(DM49>DN49)),Pena3,IF(AND((J49<K49),(DN49>DM49)),Pena3,0)))),0),0),0),IFERROR(IF(AND(F49=DI49,I49=DL49,G49<>"",H49<>"",DJ49<>"",DK49<>""),IF(AND(G49=DJ49,H49=DK49),Semi1,IF((G49-H49)=(DJ49-DK49),Semi2,IF(AND((G49>H49),(DJ49>DK49)),Semi3,IF(AND((H49>G49),(DK49>DJ49)),Semi3,0)))),0),0)+IFERROR(IF(KOPSO=1,IF(AND(F49=DI49,I49=DL49,J49<>"",K49<>"",DM49<>"",DN49<>"",(G49-H49)=(DJ49-DK49)),IF(AND(J49=DM49,K49=DN49),Pena1,IF((J49-K49)=(DM49-DN49),Pena2,IF(AND((J49>K49),(DM49>DN49)),Pena3,IF(AND((J49<K49),(DN49>DM49)),Pena3,0)))),0),0),0)) -> 0 | DQ49: =IF(SUM(B36:B39)=24,IF(KOMatchRule=0,IF(AND(SUM(B36:B39)=24,DI49=F49,DL49=I49),IF(OR(AND((G49+J49)>(H49+K49),(DJ49+DM49)>(DK49+DN49)),AND((G49+J49)<(H49+K49),(DJ49+DM49)<(DK49+DN49))),Bonu16+Bonu9,Bonu9),0),IF(OR(AND((G49+J49)>(H49+K49),(DJ49+DM49)>(DK49+DN49)),AND((G49+J49)<(H49+K49),(DJ49+DM49)<(DK49+DN49))),Bonu16,0)),0) -> 0
