Workbook
Name BestPlayer: #REF!
Name Bonu1: 'Game Setup'!$E$31
Name Bonu10: 'Game Setup'!#REF!
Name Bonu10: 'Game Setup'!#REF!
Name Bonu11: 'Game Setup'!$E$40
Name Bonu12: 'Game Setup'!$E$44
Name Bonu13: 'Game Setup'!$E$47
Name Bonu14: 'Game Setup'!#REF!
Name Bonu15: 'Game Setup'!#REF!
Name Bonu16: 'Game Setup'!$E$50
Name Bonu2: 'Game Setup'!$E$32
Name Bonu3: 'Game Setup'!$E$33
Name Bonu4: 'Game Setup'!$E$34
Name Bonu5: 'Game Setup'!$E$35
Name Bonu6: 'Game Setup'!$E$36
Name Bonu7: 'Game Setup'!$E$37
Name Bonu8: 'Game Setup'!$E$38
Name Bonu9: 'Game Setup'!$E$39
Name BonuC1: 'Game Setup'!#REF!
Name BonuC2: 'Game Setup'!$E$41
Name BonuC3: 'Game Setup'!$E$42
Name BonuC4: 'Game Setup'!$E$43
Name BonuRU1: 'Game Setup'!#REF!
Name BonuRU2: 'Game Setup'!$E$45
Name BonuRU3: 'Game Setup'!$E$46
Name BonuRU4: 'Game Setup'!#REF!
Name BonuRU4: 'Game Setup'!#REF!
Name BonusTH3: 'Game Setup'!#REF!
Name BonusTH3: 'Game Setup'!#REF!
Name BonusTH4: 'Game Setup'!#REF!
Name BonusTH4: 'Game Setup'!#REF!
Name BonuTH1: 'Game Setup'!#REF!
Name BonuTH2: 'Game Setup'!$E$48
Name BonuTH3: 'Game Setup'!$E$49
Name Champ: 'Game Board'!$G$53
Name Fina1: 'Game Setup'!$H$20
Name Fina2: 'Game Setup'!$H$21
Name Fina3: 'Game Setup'!$H$22
Name KOMatchRule: 'Game Setup'!$A$15
Name KOPSO: 'Game Setup'!$A$16
Name KOTeam3: 'Game Board'!$F$44:$I$50
Name KOTeams: 'Game Board'!$F$44:$I$51
Name KOTHP: 'Game Board'!$F$50:$I$50
Name Last5List: Scoreboard!$N$1:$AS$1
Name last5max: 'Game Board'!$A$6
Name ParticipantList: 'Participant Setup'!$C$6:$C$15
Name Pena1: 'Game Setup'!$E$25
Name Pena2: 'Game Setup'!$E$26
Name Pena3: 'Game Setup'!$E$27
Name Pool1: 'Game Setup'!$E$8
Name Pool2: 'Game Setup'!$E$9
Name Pool3: 'Game Setup'!$E$10
Name Qualified: 'Game Board'!$B$44:$B$51
Name Quar1: 'Game Setup'!$E$20
Name Quar2: 'Game Setup'!$E$21
Name Quar3: 'Game Setup'!$E$22
Name Round1: 'Game Setup'!#REF!
Name Round2: 'Game Setup'!#REF!
Name Round3: 'Game Setup'!#REF!
Name RunnerUp: 'Game Board'!$G$54

Sheet Game Setup
B3: MEN'S OLYMPIC FOOTBALL 2024 POOL | N3: DO NOT REMOVE COPYRIGHT NOTICE. SPREADSHEET WON'T WORK PROPERLY
B5: ⚫ GROUP STAGES Point System | N5: This Spreadsheet uses similar platform with World Cup 2022 Predictor Game. You can follow World Cup 2022 instructions below to set up your Copa America Predictor Game
B7: PREDICTED CORRECTLY | E7: POINT
B8: 1 | C8: Match Result and Goal Scores | D8: ▶ | E8: 6 | N8: Setup Video
B9: 2 | C9: Match Result and Goal Differences | D9: ▶ | E9: 4 | N9: https://youtu.be/we2Ez3aBDEM
B10: 3 | C10: Match Result Only | D10: ▶ | E10: 2 | N10: Group Stages Point Illustration (written illustration is also available in attached pdf file included in file package)
N11: https://youtu.be/MIx_CFNWDYI
B12: ⚫ KNOCK OUT ROUNDS Game Scenario and Point System
B14: ● KNOCK OUT ROUNDS Game Scenario
A15: =IF(E15="Tournament's Actual Results",1,0) -> 0 | B15: SELECT Knock Out Rounds Pairing Team Scenario (ACTUAL or PREDICTION MATCHES) | D15: ▶ | E15: Player's Prediction Matches | M15: ◄ | N15: Make sure you select the right game scenario for your game
A16: =IF(E16="Included",1,0) -> 1 | B16: SELECT Penalty Shoot Out Point System (INCLUDED or NOT INCLUDED) | D16: ▶ | E16: Included
B18: ● KNOCK OUT ROUNDS Point System
B19: PREDICTED CORRECTLY in FULL TIME (NORMAL TIME + EXTRA TIME) | E19: QF | F19: SF | G19: 3RD | H19: FINAL | N19: KO Rounds Point Illustration (written illustration is also available in attached pdf file included in file package)
B20: 1 | C20: Match Result and Goal Scores | D20: ▶ | E20: 24 | F20: 48 | G20: 48 | H20: 96 | N20: https://youtu.be/LCA6g7GNXMs
B21: 2 | C21: Match Result and Goal Differences | D21: ▶ | E21: 16 | F21: 32 | G21: 32 | H21: 64
B22: 3 | C22: Match Result Only | D22: ▶ | E22: 12 | F22: 24 | G22: 24 | H22: 48
B24: PREDICTED CORRECTLY (PENALTY SHOOT OUT in ALL KNOCK OUT ROUNDS) | E24: POINT
B25: 1 | C25: Match Result and Goal Scores | D25: ▶ | E25: 6 | F25: =IF(KOPSO=0,"◄ Not Applied in Your Selected Game Scenario","")
B26: 2 | C26: Match Result and Goal Differences | D26: ▶ | E26: 4 | F26: =IF(KOPSO=0,"◄ Not Applied in Your Selected Game Scenario","")
B27: 3 | C27: Match Result Only | D27: ▶ | E27: 2 | F27: =IF(KOPSO=0,"◄ Not Applied in Your Selected Game Scenario","")
B29: ⚫ BONUS Point System
B30: PREDICTED CORRECTLY | E30: POINT | N30: Bonus Point Illustration (written illustration is also available in attached pdf file included in file package)
B31: 1 | C31: Group Winner and Runner Up | D31: ▶ | E31: 24 | N31: https://youtu.be/vbGfXFC3rLk
B32: 2 | C32: Group Winner only | D32: ▶ | E32: 12
B33: 3 | C33: Group Runner Up only | D33: ▶ | E33: 12
B34: 4 | C34: Qualified 2 teams (swapped group position) | D34: ▶ | E34: 8
B35: 5 | C35: Qualified 1 team only (incorrect group position) | D35: ▶ | E35: 6
B36: 6 | C36: 8 qualified teams | D36: ▶ | E36: 24
B37: 7 | C37: 6 - 7 qualified teams | D37: ▶ | E37: 16
B38: 8 | C38: 4 - 5 qualified teams | D38: ▶ | E38: 8
B39: 9 | C39: Bracket Pairing Matches | D39: ▶ | E39: 16 | F39: =IF(KOMatchRule=1,"◄ Not Applied in Your Selected Game Scenario","")
B40: 10 | C40: Tournament Champion | E40: =SUM(E41:E43) -> 84 | F40: Available in Fully Editable/Paid Version Only
C41: Win at Quarter Finals | D41: ▶ | E41: 12
C42: Win at Semi Finals | D42: ▶ | E42: 24
C43: Win at Final | D43: ▶ | E43: 48
B44: 11 | C44: Tournament Runner Up | E44: =SUM(E45:E46) -> 36
C45: Win at Quarter Finals | D45: ▶ | E45: 12
C46: Win at Semi Finals | D46: ▶ | E46: 24
B47: 12 | C47: Tournament 3rd Place | E47: =SUM(E48:E49) -> 36
C48: Win at Quarter Finals | D48: ▶ | E48: 12
...

Sheet Tournament Setup
B3: TOURNAMENT SETUP | K3: DO NOT REMOVE COPYRIGHT NOTICE. SPREADSHEET WON'T WORK PROPERLY
B5: G | C5: No | D5: Country Name | E5: Coefficient | F5: Fair Play Points | J5: ● | K5: You may translate team name to your language in column D. Retype other texts in Game Board worksheet to translate it to your language
B6: A | C6: 1 | D6: France | E6: 16 | J6: Tiebreaker Policy
B7: A | C7: 2 | D7: United States | E7: 15
B8: A | C8: 3 | D8: Guinea | E8: 14 | L8: OFFICIAL | M8: GAME ACTUAL RESULTS | N8: GAME PREDICTION RESULTS
B9: A | C9: 4 | D9: New Zealand | E9: 13 | J9: The ranking of teams in the group stage is determined as follows:
B10: B | C10: =C6 -> 1 | D10: Argentina | E10: 12 | J10: 1 | K10: Points obtained in all group matches; | L10: v | M10: v | N10: v
B11: B | C11: =C7 -> 2 | D11: Morocco | E11: 11 | J11: 2 | K11: Goal difference in all group matches; | L11: v | M11: v | N11: v
B12: B | C12: =C8 -> 3 | D12: Iraq | E12: 10 | J12: 3 | K12: Number of goals scored in all group matches; | L12: v | M12: v | N12: v
B13: B | C13: =C9 -> 4 | D13: Ukraine | E13: 9 | J13: 4 | K13: Points obtained in the matches played between the teams in question; | L13: v | M13: v | N13: v
B14: C | C14: =C10 -> 1 | D14: Uzbekistan | E14: 8 | J14: 5 | K14: Goal difference in the matches played between the teams in question; | L14: v | M14: v | N14: v
B15: C | C15: =C11 -> 2 | D15: Spain | E15: 7 | J15: 6 | K15: Number of goals scored in the matches played between the teams in question; | L15: v | M15: v | N15: v
B16: C | C16: =C12 -> 3 | D16: Egypt | E16: 6 | J16: 7 | K16: Fair Play Points | L16: v | M16: v* | N16: x***
B17: C | C17: =C13 -> 4 | D17: Dominican Republic | E17: 5 | J17: 8 | K17: Drawing of lots. | L17: v | M17: x** | N17: x****
B18: D | C18: =C14 -> 1 | D18: Japan | E18: 4
B19: D | C19: =C15 -> 2 | D19: Paraguay | E19: 3
B20: D | C20: =C16 -> 3 | D20: Mali | E20: 2 | J20: NOTES
B21: D | C21: =C17 -> 4 | D21: Israel | E21: 1
J22: * | K22: FILLTOTAL RED CARDS or YELLOW CARDS between the teams concerned in COLUMN F to differentiate their standings. If it is leaved empty, they will be ranked based on FIFA World Ranking points
B23: © 2022 | journalSHEET.com | J23: ** | K23: If, it has to go through tie-breaker No 9 to decide group winner and runner up, you change it by overwriting it in Player Game Board table in cell F36:I39
J24: *** | K24: There is no needs to differentiate team standings based on red/yellow cards. Players can adjust their prediction scores to get one team rank upper than the other.
J25: **** | K25: There is no needs to differentiate team standings based on drawing of lots. Players can adjust their prediction scores to get one team rank upper than the other.

Sheet Participant Setup
B3: PARTICIPANT LIST | M3: DO NOT REMOVE COPYRIGHT NOTICE. SPREADSHEET WON'T WORK PROPERLY
B5: No | C5: Player Name | D5: Starting Point | E5: Entry Fee | F5: Notes 1 | G5: Notes 2
B6: 1 | C6: Player 1 | K6: ● | L6: Type participant name in Player Name column in column C. This name will be used as name references in all worksheets.
B7: 2 | C7: Player 2 | L7: You DO NOT NEED TO TYPE PLAYER NAME IN OTHER WORKSHEET
B8: 3 | C8: Player 3 | K8: ● | L8: No column in column B is used as THE FINAL TIE-BREAKER if respective players are tied and their ranks have to be decided by ENTRY ORDER. See TIE BREAKER regulation
B9: 4 | C9: Player 4 | K9: ● | L9: You may fill STARTING POINT with your own point. IT IS OPTIONAL
B10: 5 | C10: Player 5 | L10: This point will be used as additional point and will be included in Player Score calculation
B11: 6 | C11: Player 6 | L11: You can put DEDUCTION POINT by typing "-" (minus) sign in front of the point
B12: 7 | C12: Player 7 | L12: Starting Point can be filled because many reasons. Some of examples :
B13: 8 | C13: Player 8 | L13: > | M13: Amount of Entry Fee
B14: 9 | C14: Player 9 | L14: > | M14: Late prediction submission
B15: 10 | C15: Player 10 | L15: > | M15: Join the game in the middle of tournament
K16: ● | L16: If you need more columns to put other information, you may INSERT MORE COLUMNS AT THE RIGHT OF STARTING POINT COLUMN
B17: © 2022 | journalSHEET.com
K18: ● | L18: YOU CANNOT INSERT/DELETE ROW or CUT/PASTE. IT WILL BREAK THE FORMULA in other worksheets

Sheet Game Board
B3: ACTUAL RESULTS | M3: PLAYER PREDICTION BOARD | YOUR KNOCK OUT ROUNDS GAME SCENARIO IS BASED ON ► | Z3: =UPPER('Game Setup'!E15) -> PLAYER'S PREDICTION MATCHES
M4: 1 | N4: Player | O4: =IF(VLOOKUP(M4,Scoreboard!B8:C17,2,FALSE)<>"",VLOOKUP(M4,Scoreboard!B8:C17,2,FALSE),"") -> Player 1 | R4: Total | U4: Point | V4: Bonus | X4: =M4+1 -> 2 | Y4: Player | Z4: =IF(VLOOKUP(X4,Scoreboard!B8:C17,2,FALSE)<>"",VLOOKUP(X4,Scoreboard!B8:C17,2,FALSE),"") -> Player 2 | AC4: Total | AF4: Point | AG4: Bonus | AI4: =X4+1 -> 3 | AJ4: Player | AK4: =IF(VLOOKUP(AI4,Scoreboard!B8:C17,2,FALSE)<>"",VLOOKUP(AI4,Scoreboard!B8:C17,2,FALSE),"") -> Player 3 | AN4: Total | AQ4: Point | AR4: Bonus | AT4: =AI4+1 -> 4 | AU4: Player | AV4: =IF(VLOOKUP(AT4,Scoreboard!B8:C17,2,FALSE)<>"",VLOOKUP(AT4,Scoreboard!B8:C17,2,FALSE),"") -> Player 4 | AY4: Total | BB4: Point | BC4: Bonus | BE4: =AT4+1 -> 5 | BF4: Player | BG4: =IF(VLOOKUP(BE4,Scoreboard!B8:C17,2,FALSE)<>"",VLOOKUP(BE4,Scoreboard!B8:C17,2,FALSE),"") -> Player 5 | BJ4: Total | BM4: Point | BN4: Bonus | BP4: =BE4+1 -> 6 | BQ4: Player | BR4: =IF(VLOOKUP(BP4,Scoreboard!B8:C17,2,FALSE)<>"",VLOOKUP(BP4,Scoreboard!B8:C17,2,FALSE),"") -> Player 6 | BU4: Total | BX4: Point | BY4: Bonus | CA4: =BP4+1 -> 7 | CB4: Player | CC4: =IF(VLOOKUP(CA4,Scoreboard!B8:C17,2,FALSE)<>"",VLOOKUP(CA4,Scoreboard!B8:C17,2,FALSE),"") -> Player 7 | CF4: Total | CI4: Point | CJ4: Bonus | CL4: =CA4+1 -> 8 | CM4: Player | CN4: =IF(VLOOKUP(CL4,Scoreboard!B8:C17,2,FALSE)<>"",VLOOKUP(CL4,Scoreboard!B8:C17,2,FALSE),"") -> Player 8 | CQ4: Total | CT4: Point | CU4: Bonus | CW4: =CL4+1 -> 9 | CX4: Player | CY4: =IF(VLOOKUP(CW4,Scoreboard!B8:C17,2,FALSE)<>"",VLOOKUP(CW4,Scoreboard!B8:C17,2,FALSE),"") -> Player 9 | DB4: Total | DE4: Point | DF4: Bonus | DH4: =CW4+1 -> 10 | DI4: Player | DJ4: =IF(VLOOKUP(DH4,Scoreboard!B8:C17,2,FALSE)<>"",VLOOKUP(DH4,Scoreboard!B8:C17,2,FALSE),"") -> Player 10 | DM4: Total | DP4: Point | DQ4: Bonus
C5: M# | D5: Group | E5: Date | F5: Country | G5: Score | I5: Country | N5: Rank | O5: =IF(O4<>"",INDEX('Dummy Rank'!F5:F14,MATCH(M4,'Dummy Rank'!A5:A14,0),0),"") -> 1 | R5: =U5+V5 -> 0 | U5: =SUM(U8:U31)+SUM(U44:U51) -> 0 | V5: =SUM(V36:V41)+SUM(V44:V51)+SUM(V53:V55)+SUM(V57:V58) -> 0 | Y5: Current Rank | Z5: =IF(Z4<>"",INDEX('Dummy Rank'!F5:F14,MATCH(X4,'Dummy Rank'!A5:A14,0),0),"") -> 2 | AC5: =AF5+AG5 -> 0 | AF5: =SUM(AF8:AF31)+SUM(AF44:AF51) -> 0 | AG5: =SUM(AG36:AG41)+SUM(AG44:AG51)+SUM(AG53:AG55)+SUM(AG57:AG58) -> 0 | AJ5: Current Rank | AK5: =IF(AK4<>"",INDEX('Dummy Rank'!F5:F14,MATCH(AI4,'Dummy Rank'!A5:A14,0),0),"") -> 3 | AN5: =AQ5+AR5 -> 0 | AQ5: =SUM(AQ8:AQ31)+SUM(AQ44:AQ51) -> 0 | AR5: =SUM(AR36:AR41)+SUM(AR44:AR51)+SUM(AR53:AR55)+SUM(AR57:AR58) -> 0 | AU5: Current Rank | AV5: =IF(AV4<>"",INDEX('Dummy Rank'!F5:F14,MATCH(AT4,'Dummy Rank'!A5:A14,0),0),"") -> 4 | AY5: =BB5+BC5 -> 0 | BB5: =SUM(BB8:BB31)+SUM(BB44:BB51) -> 0 | BC5: =SUM(BC36:BC41)+SUM(BC44:BC51)+SUM(BC53:BC55)+SUM(BC57:BC58) -> 0 | BF5: Current Rank | BG5: =IF(BG4<>"",INDEX('Dummy Rank'!F5:F14,MATCH(BE4,'Dummy Rank'!A5:A14,0),0),"") -> 5 | BJ5: =BM5+BN5 -> 0 | BM5: =SUM(BM8:BM31)+SUM(BM44:BM51) -> 0 | BN5: =SUM(BN36:BN41)+SUM(BN44:BN51)+SUM(BN53:BN55)+SUM(BN57:BN58) -> 0 | BQ5: Current Rank | BR5: =IF(BR4<>"",INDEX('Dummy Rank'!F5:F14,MATCH(BP4,'Dummy Rank'!A5:A14,0),0),"") -> 6 | BU5: =BX5+BY5 -> 0 | BX5: =SUM(BX8:BX31)+SUM(BX44:BX51) -> 0 | BY5: =SUM(BY36:BY41)+SUM(BY44:BY51)+SUM(BY53:BY55)+SUM(BY57:BY58) -> 0 | CB5: Current Rank | CC5: =IF(CC4<>"",INDEX('Dummy Rank'!F5:F14,MATCH(CA4,'Dummy Rank'!A5:A14,0),0),"") -> 7 | CF5: =CI5+CJ5 -> 0 | CI5: =SUM(CI8:CI31)+SUM(CI44:CI51) -> 0 | CJ5: =SUM(CJ36:CJ41)+SUM(CJ44:CJ51)+SUM(CJ53:CJ55)+SUM(CJ57:CJ58) -> 0 | CM5: Current Rank | CN5: =IF(CN4<>"",INDEX('Dummy Rank'!F5:F14,MATCH(CL4,'Dummy Rank'!A5:A14,0),0),"") -> 8 | CQ5: =CT5+CU5 -> 0 | CT5: =SUM(CT8:CT31)+SUM(CT44:CT51) -> 0 | CU5: =SUM(CU36:CU41)+SUM(CU44:CU51)+SUM(CU53:CU55)+SUM(CU57:CU58) -> 0 | CX5: Current Rank | CY5: =IF(CY4<>"",INDEX('Dummy Rank'!F5:F14,MATCH(CW4,'Dummy Rank'!A5:A14,0),0),"") -> 9 | DB5: =DE5+DF5 -> 0 | DE5: =SUM(DE8:DE31)+SUM(DE44:DE51) -> 0 | DF5: =SUM(DF36:DF41)+SUM(DF44:DF51)+SUM(DF53:DF55)+SUM(DF57:DF58) -> 0 | DI5: Current Rank | DJ5: =IF(DJ4<>"",INDEX('Dummy Rank'!F5:F14,MATCH(DH4,'Dummy Rank'!A5:A14,0),0),"") -> 10 | DM5: =DP5+DQ5 -> 0 | DP5: =SUM(DP8:DP31)+SUM(DP44:DP51) -> 0 | DQ5: =SUM(DQ36:DQ41)+SUM(DQ44:DQ51)+SUM(DQ53:DQ55)+SUM(DQ57:DQ58) -> 0
A6: =IF(Leaderboard!B19="© 2022 | journalSHEET.com",MAX(A7:A51),0) -> 0 | B6: Group Stages | M6: DO NOT REMOVE COPYRIGHT NOTICE. SPREADSHEET WON'T WORK PROPERLY
A7: 0 | M7: =COUNTIF(U8:U31,Pool1) -> 0 | X7: =COUNTIF(AF8:AF31,Pool1) -> 0 | AI7: =COUNTIF(AQ8:AQ31,Pool1) -> 0 | AT7: =COUNTIF(BB8:BB31,Pool1) -> 0 | BE7: =COUNTIF(BM8:BM31,Pool1) -> 0 | BP7: =COUNTIF(BX8:BX31,Pool1) -> 0 | CA7: =COUNTIF(CI8:CI31,Pool1) -> 0 | CL7: =COUNTIF(CT8:CT31,Pool1) -> 0 | CW7: =COUNTIF(DE8:DE31,Pool1) -> 0 | DH7: =COUNTIF(DP8:DP31,Pool1) -> 0
A8: =IF(G8<>"",A7+1,A7) -> 0 | C8: 1 | D8: A | E8: 45497.875 | F8: ='Tournament Setup'!D6 -> France | I8: ='Tournament Setup'!D7 -> United States | N8: =F8 -> France | Q8: =I8 -> United States | U8: =IF(AND(G8<>"",H8<>"",O8<>"",P8<>""),IF(AND(G8=O8,H8=P8),Pool1,IF((G8-H8)=(O8-P8),Pool2,IF(AND((G8>H8),(O8>P8)),Pool3,IF(AND((H8>G8),(P8>O8)),Pool3,0)))),0) -> 0 | Y8: =F8 -> France | AB8: =I8 -> United States | AF8: =IF(AND(G8<>"",H8<>"",Z8<>"",AA8<>""),IF(AND(G8=Z8,H8=AA8),Pool1,IF((G8-H8)=(Z8-AA8),Pool2,IF(AND((G8>H8),(Z8>AA8)),Pool3,IF(AND((H8>G8),(AA8>Z8)),Pool3,0)))),0) -> 0 | AJ8: =F8 -> France | AM8: =I8 -> United States | AQ8: =IF(AND(G8<>"",H8<>"",AK8<>"",AL8<>""),IF(AND(G8=AK8,H8=AL8),Pool1,IF((G8-H8)=(AK8-AL8),Pool2,IF(AND((G8>H8),(AK8>AL8)),Pool3,IF(AND((H8>G8),(AL8>AK8)),Pool3,0)))),0) -> 0 | AU8: =F8 -> France | AX8: =I8 -> United States | BB8: =IF(AND(G8<>"",H8<>"",AV8<>"",AW8<>""),IF(AND(G8=AV8,H8=AW8),Pool1,IF((G8-H8)=(AV8-AW8),Pool2,IF(AND((G8>H8),(AV8>AW8)),Pool3,IF(AND((H8>G8),(AW8>AV8)),Pool3,0)))),0) -> 0 | BF8: =F8 -> France | BI8: =I8 -> United States | BM8: =IF(AND(G8<>"",H8<>"",BG8<>"",BH8<>""),IF(AND(G8=BG8,H8=BH8),Pool1,IF((G8-H8)=(BG8-BH8),Pool2,IF(AND((G8>H8),(BG8>BH8)),Pool3,IF(AND((H8>G8),(BH8>BG8)),Pool3,0)))),0) -> 0 | BQ8: =F8 -> France | BT8: =I8 -> United States | BX8: =IF(AND(G8<>"",H8<>"",BR8<>"",BS8<>""),IF(AND(G8=BR8,H8=BS8),Pool1,IF((G8-H8)=(BR8-BS8),Pool2,IF(AND((G8>H8),(BR8>BS8)),Pool3,IF(AND((H8>G8),(BS8>BR8)),Pool3,0)))),0) -> 0 | CB8: =F8 -> France | CE8: =I8 -> United States | CI8: =IF(AND(G8<>"",H8<>"",CC8<>"",CD8<>""),IF(AND(G8=CC8,H8=CD8),Pool1,IF((G8-H8)=(CC8-CD8),Pool2,IF(AND((G8>H8),(CC8>CD8)),Pool3,IF(AND((H8>G8),(CD8>CC8)),Pool3,0)))),0) -> 0 | CM8: =F8 -> France | CP8: =I8 -> United States | CT8: =IF(AND(G8<>"",H8<>"",CN8<>"",CO8<>""),IF(AND(G8=CN8,H8=CO8),Pool1,IF((G8-H8)=(CN8-CO8),Pool2,IF(AND((G8>H8),(CN8>CO8)),Pool3,IF(AND((H8>G8),(CO8>CN8)),Pool3,0)))),0) -> 0 | CX8: =F8 -> France | DA8: =I8 -> United States | DE8: =IF(AND(G8<>"",H8<>"",CY8<>"",CZ8<>""),IF(AND(G8=CY8,H8=CZ8),Pool1,IF((G8-H8)=(CY8-CZ8),Pool2,IF(AND((G8>H8),(CY8>CZ8)),Pool3,IF(AND((H8>G8),(CZ8>CY8)),Pool3,0)))),0) -> 0 | DI8: =F8 -> France | DL8: =I8 -> United States | DP8: =IF(AND(G8<>"",H8<>"",DJ8<>"",DK8<>""),IF(AND(G8=DJ8,H8=DK8),Pool1,IF((G8-H8)=(DJ8-DK8),Pool2,IF(AND((G8>H8),(DJ8>DK8)),Pool3,IF(AND((H8>G8),(DK8>DJ8)),Pool3,0)))),0) -> 0
A9: =IF(G9<>"",A8+1,A8) -> 0 | C9: 2 | D9: A | E9: 45497.708 | F9: ='Tournament Setup'!D8 -> Guinea | I9: ='Tournament Setup'!D9 -> New Zealand | N9: =F9 -> Guinea | Q9: =I9 -> New Zealand | U9: =IF(AND(G9<>"",H9<>"",O9<>"",P9<>""),IF(AND(G9=O9,H9=P9),Pool1,IF((G9-H9)=(O9-P9),Pool2,IF(AND((G9>H9),(O9>P9)),Pool3,IF(AND((H9>G9),(P9>O9)),Pool3,0)))),0) -> 0 | Y9: =F9 -> Guinea | AB9: =I9 -> New Zealand | AF9: =IF(AND(G9<>"",H9<>"",Z9<>"",AA9<>""),IF(AND(G9=Z9,H9=AA9),Pool1,IF((G9-H9)=(Z9-AA9),Pool2,IF(AND((G9>H9),(Z9>AA9)),Pool3,IF(AND((H9>G9),(AA9>Z9)),Pool3,0)))),0) -> 0 | AJ9: =F9 -> Guinea | AM9: =I9 -> New Zealand | AQ9: =IF(AND(G9<>"",H9<>"",AK9<>"",AL9<>""),IF(AND(G9=AK9,H9=AL9),Pool1,IF((G9-H9)=(AK9-AL9),Pool2,IF(AND((G9>H9),(AK9>AL9)),Pool3,IF(AND((H9>G9),(AL9>AK9)),Pool3,0)))),0) -> 0 | AU9: =F9 -> Guinea | AX9: =I9 -> New Zealand | BB9: =IF(AND(G9<>"",H9<>"",AV9<>"",AW9<>""),IF(AND(G9=AV9,H9=AW9),Pool1,IF((G9-H9)=(AV9-AW9),Pool2,IF(AND((G9>H9),(AV9>AW9)),Pool3,IF(AND((H9>G9),(AW9>AV9)),Pool3,0)))),0) -> 0 | BF9: =F9 -> Guinea | BI9: =I9 -> New Zealand | BM9: =IF(AND(G9<>"",H9<>"",BG9<>"",BH9<>""),IF(AND(G9=BG9,H9=BH9),Pool1,IF((G9-H9)=(BG9-BH9),Pool2,IF(AND((G9>H9),(BG9>BH9)),Pool3,IF(AND((H9>G9),(BH9>BG9)),Pool3,0)))),0) -> 0 | BQ9: =F9 -> Guinea | BT9: =I9 -> New Zealand | BX9: =IF(AND(G9<>"",H9<>"",BR9<>"",BS9<>""),IF(AND(G9=BR9,H9=BS9),Pool1,IF((G9-H9)=(BR9-BS9),Pool2,IF(AND((G9>H9),(BR9>BS9)),Pool3,IF(AND((H9>G9),(BS9>BR9)),Pool3,0)))),0) -> 0 | CB9: =F9 -> Guinea | CE9: =I9 -> New Zealand | CI9: =IF(AND(G9<>"",H9<>"",CC9<>"",CD9<>""),IF(AND(G9=CC9,H9=CD9),Pool1,IF((G9-H9)=(CC9-CD9),Pool2,IF(AND((G9>H9),(CC9>CD9)),Pool3,IF(AND((H9>G9),(CD9>CC9)),Pool3,0)))),0) -> 0 | CM9: =F9 -> Guinea | CP9: =I9 -> New Zealand | CT9: =IF(AND(G9<>"",H9<>"",CN9<>"",CO9<>""),IF(AND(G9=CN9,H9=CO9),Pool1,IF((G9-H9)=(CN9-CO9),Pool2,IF(AND((G9>H9),(CN9>CO9)),Pool3,IF(AND((H9>G9),(CO9>CN9)),Pool3,0)))),0) -> 0 | CX9: =F9 -> Guinea | DA9: =I9 -> New Zealand | DE9: =IF(AND(G9<>"",H9<>"",CY9<>"",CZ9<>""),IF(AND(G9=CY9,H9=CZ9),Pool1,IF((G9-H9)=(CY9-CZ9),Pool2,IF(AND((G9>H9),(CY9>CZ9)),Pool3,IF(AND((H9>G9),(CZ9>CY9)),Pool3,0)))),0) -> 0 | DI9: =F9 -> Guinea | DL9: =I9 -> New Zealand | DP9: =IF(AND(G9<>"",H9<>"",DJ9<>"",DK9<>""),IF(AND(G9=DJ9,H9=DK9),Pool1,IF((G9-H9)=(DJ9-DK9),Pool2,IF(AND((G9>H9),(DJ9>DK9)),Pool3,IF(AND((H9>G9),(DK9>DJ9)),Pool3,0)))),0) -> 0
A10: =IF(G10<>"",A9+1,A9) -> 0 | C10: 3 | D10: B | E10: 45497.625 | F10: ='Tournament Setup'!D10 -> Argentina | I10: ='Tournament Setup'!D11 -> Morocco | N10: =F10 -> Argentina | Q10: =I10 -> Morocco | U10: =IF(AND(G10<>"",H10<>"",O10<>"",P10<>""),IF(AND(G10=O10,H10=P10),Pool1,IF((G10-H10)=(O10-P10),Pool2,IF(AND((G10>H10),(O10>P10)),Pool3,IF(AND((H10>G10),(P10>O10)),Pool3,0)))),0) -> 0 | Y10: =F10 -> Argentina | AB10: =I10 -> Morocco | AF10: =IF(AND(G10<>"",H10<>"",Z10<>"",AA10<>""),IF(AND(G10=Z10,H10=AA10),Pool1,IF((G10-H10)=(Z10-AA10),Pool2,IF(AND((G10>H10),(Z10>AA10)),Pool3,IF(AND((H10>G10),(AA10>Z10)),Pool3,0)))),0) -> 0 | AJ10: =F10 -> Argentina | AM10: =I10 -> Morocco | AQ10: =IF(AND(G10<>"",H10<>"",AK10<>"",AL10<>""),IF(AND(G10=AK10,H10=AL10),Pool1,IF((G10-H10)=(AK10-AL10),Pool2,IF(AND((G10>H10),(AK10>AL10)),Pool3,IF(AND((H10>G10),(AL10>AK10)),Pool3,0)))),0) -> 0 | AU10: =F10 -> Argentina | AX10: =I10 -> Morocco | BB10: =IF(AND(G10<>"",H10<>"",AV10<>"",AW10<>""),IF(AND(G10=AV10,H10=AW10),Pool1,IF((G10-H10)=(AV10-AW10),Pool2,IF(AND((G10>H10),(AV10>AW10)),Pool3,IF(AND((H10>G10),(AW10>AV10)),Pool3,0)))),0) -> 0 | BF10: =F10 -> Argentina | BI10: =I10 -> Morocco | BM10: =IF(AND(G10<>"",H10<>"",BG10<>"",BH10<>""),IF(AND(G10=BG10,H10=BH10),Pool1,IF((G10-H10)=(BG10-BH10),Pool2,IF(AND((G10>H10),(BG10>BH10)),Pool3,IF(AND((H10>G10),(BH10>BG10)),Pool3,0)))),0) -> 0 | BQ10: =F10 -> Argentina | BT10: =I10 -> Morocco | BX10: =IF(AND(G10<>"",H10<>"",BR10<>"",BS10<>""),IF(AND(G10=BR10,H10=BS10),Pool1,IF((G10-H10)=(BR10-BS10),Pool2,IF(AND((G10>H10),(BR10>BS10)),Pool3,IF(AND((H10>G10),(BS10>BR10)),Pool3,0)))),0) -> 0 | CB10: =F10 -> Argentina | CE10: =I10 -> Morocco | CI10: =IF(AND(G10<>"",H10<>"",CC10<>"",CD10<>""),IF(AND(G10=CC10,H10=CD10),Pool1,IF((G10-H10)=(CC10-CD10),Pool2,IF(AND((G10>H10),(CC10>CD10)),Pool3,IF(AND((H10>G10),(CD10>CC10)),Pool3,0)))),0) -> 0 | CM10: =F10 -> Argentina | CP10: =I10 -> Morocco | CT10: =IF(AND(G10<>"",H10<>"",CN10<>"",CO10<>""),IF(AND(G10=CN10,H10=CO10),Pool1,IF((G10-H10)=(CN10-CO10),Pool2,IF(AND((G10>H10),(CN10>CO10)),Pool3,IF(AND((H10>G10),(CO10>CN10)),Pool3,0)))),0) -> 0 | CX10: =F10 -> Argentina | DA10: =I10 -> Morocco | DE10: =IF(AND(G10<>"",H10<>"",CY10<>"",CZ10<>""),IF(AND(G10=CY10,H10=CZ10),Pool1,IF((G10-H10)=(CY10-CZ10),Pool2,IF(AND((G10>H10),(CY10>CZ10)),Pool3,IF(AND((H10>G10),(CZ10>CY10)),Pool3,0)))),0) -> 0 | DI10: =F10 -> Argentina | DL10: =I10 -> Morocco | DP10: =IF(AND(G10<>"",H10<>"",DJ10<>"",DK10<>""),IF(AND(G10=DJ10,H10=DK10),Pool1,IF((G10-H10)=(DJ10-DK10),Pool2,IF(AND((G10>H10),(DJ10>DK10)),Pool3,IF(AND((H10>G10),(DK10>DJ10)),Pool3,0)))),0) -> 0
A11: =IF(G11<>"",A10+1,A10) -> 0 | C11: 4 | D11: B | E11: 45497.792 | F11: ='Tournament Setup'!D12 -> Iraq | I11: ='Tournament Setup'!D13 -> Ukraine | N11: =F11 -> Iraq | Q11: =I11 -> Ukraine | U11: =IF(AND(G11<>"",H11<>"",O11<>"",P11<>""),IF(AND(G11=O11,H11=P11),Pool1,IF((G11-H11)=(O11-P11),Pool2,IF(AND((G11>H11),(O11>P11)),Pool3,IF(AND((H11>G11),(P11>O11)),Pool3,0)))),0) -> 0 | Y11: =F11 -> Iraq | AB11: =I11 -> Ukraine | AF11: =IF(AND(G11<>"",H11<>"",Z11<>"",AA11<>""),IF(AND(G11=Z11,H11=AA11),Pool1,IF((G11-H11)=(Z11-AA11),Pool2,IF(AND((G11>H11),(Z11>AA11)),Pool3,IF(AND((H11>G11),(AA11>Z11)),Pool3,0)))),0) -> 0 | AJ11: =F11 -> Iraq | AM11: =I11 -> Ukraine | AQ11: =IF(AND(G11<>"",H11<>"",AK11<>"",AL11<>""),IF(AND(G11=AK11,H11=AL11),Pool1,IF((G11-H11)=(AK11-AL11),Pool2,IF(AND((G11>H11),(AK11>AL11)),Pool3,IF(AND((H11>G11),(AL11>AK11)),Pool3,0)))),0) -> 0 | AU11: =F11 -> Iraq | AX11: =I11 -> Ukraine | BB11: =IF(AND(G11<>"",H11<>"",AV11<>"",AW11<>""),IF(AND(G11=AV11,H11=AW11),Pool1,IF((G11-H11)=(AV11-AW11),Pool2,IF(AND((G11>H11),(AV11>AW11)),Pool3,IF(AND((H11>G11),(AW11>AV11)),Pool3,0)))),0) -> 0 | BF11: =F11 -> Iraq | BI11: =I11 -> Ukraine | BM11: =IF(AND(G11<>"",H11<>"",BG11<>"",BH11<>""),IF(AND(G11=BG11,H11=BH11),Pool1,IF((G11-H11)=(BG11-BH11),Pool2,IF(AND((G11>H11),(BG11>BH11)),Pool3,IF(AND((H11>G11),(BH11>BG11)),Pool3,0)))),0) -> 0 | BQ11: =F11 -> Iraq | BT11: =I11 -> Ukraine | BX11: =IF(AND(G11<>"",H11<>"",BR11<>"",BS11<>""),IF(AND(G11=BR11,H11=BS11),Pool1,IF((G11-H11)=(BR11-BS11),Pool2,IF(AND((G11>H11),(BR11>BS11)),Pool3,IF(AND((H11>G11),(BS11>BR11)),Pool3,0)))),0) -> 0 | CB11: =F11 -> Iraq | CE11: =I11 -> Ukraine | CI11: =IF(AND(G11<>"",H11<>"",CC11<>"",CD11<>""),IF(AND(G11=CC11,H11=CD11),Pool1,IF((G11-H11)=(CC11-CD11),Pool2,IF(AND((G11>H11),(CC11>CD11)),Pool3,IF(AND((H11>G11),(CD11>CC11)),Pool3,0)))),0) -> 0 | CM11: =F11 -> Iraq | CP11: =I11 -> Ukraine | CT11: =IF(AND(G11<>"",H11<>"",CN11<>"",CO11<>""),IF(AND(G11=CN11,H11=CO11),Pool1,IF((G11-H11)=(CN11-CO11),Pool2,IF(AND((G11>H11),(CN11>CO11)),Pool3,IF(AND((H11>G11),(CO11>CN11)),Pool3,0)))),0) -> 0 | CX11: =F11 -> Iraq | DA11: =I11 -> Ukraine | DE11: =IF(AND(G11<>"",H11<>"",CY11<>"",CZ11<>""),IF(AND(G11=CY11,H11=CZ11),Pool1,IF((G11-H11)=(CY11-CZ11),Pool2,IF(AND((G11>H11),(CY11>CZ11)),Pool3,IF(AND((H11>G11),(CZ11>CY11)),Pool3,0)))),0) -> 0 | DI11: =F11 -> Iraq | DL11: =I11 -> Ukraine | DP11: =IF(AND(G11<>"",H11<>"",DJ11<>"",DK11<>""),IF(AND(G11=DJ11,H11=DK11),Pool1,IF((G11-H11)=(DJ11-DK11),Pool2,IF(AND((G11>H11),(DJ11>DK11)),Pool3,IF(AND((H11>G11),(DK11>DJ11)),Pool3,0)))),0) -> 0
A12: =IF(G12<>"",A11+1,A11) -> 0 | C12: 5 | D12: C | E12: 45497.625 | F12: ='Tournament Setup'!D14 -> Uzbekistan | I12: ='Tournament Setup'!D15 -> Spain | N12: =F12 -> Uzbekistan | Q12: =I12 -> Spain | U12: =IF(AND(G12<>"",H12<>"",O12<>"",P12<>""),IF(AND(G12=O12,H12=P12),Pool1,IF((G12-H12)=(O12-P12),Pool2,IF(AND((G12>H12),(O12>P12)),Pool3,IF(AND((H12>G12),(P12>O12)),Pool3,0)))),0) -> 0 | Y12: =F12 -> Uzbekistan | AB12: =I12 -> Spain | AF12: =IF(AND(G12<>"",H12<>"",Z12<>"",AA12<>""),IF(AND(G12=Z12,H12=AA12),Pool1,IF((G12-H12)=(Z12-AA12),Pool2,IF(AND((G12>H12),(Z12>AA12)),Pool3,IF(AND((H12>G12),(AA12>Z12)),Pool3,0)))),0) -> 0 | AJ12: =F12 -> Uzbekistan | AM12: =I12 -> Spain | AQ12: =IF(AND(G12<>"",H12<>"",AK12<>"",AL12<>""),IF(AND(G12=AK12,H12=AL12),Pool1,IF((G12-H12)=(AK12-AL12),Pool2,IF(AND((G12>H12),(AK12>AL12)),Pool3,IF(AND((H12>G12),(AL12>AK12)),Pool3,0)))),0) -> 0 | AU12: =F12 -> Uzbekistan | AX12: =I12 -> Spain | BB12: =IF(AND(G12<>"",H12<>"",AV12<>"",AW12<>""),IF(AND(G12=AV12,H12=AW12),Pool1,IF((G12-H12)=(AV12-AW12),Pool2,IF(AND((G12>H12),(AV12>AW12)),Pool3,IF(AND((H12>G12),(AW12>AV12)),Pool3,0)))),0) -> 0 | BF12: =F12 -> Uzbekistan | BI12: =I12 -> Spain | BM12: =IF(AND(G12<>"",H12<>"",BG12<>"",BH12<>""),IF(AND(G12=BG12,H12=BH12),Pool1,IF((G12-H12)=(BG12-BH12),Pool2,IF(AND((G12>H12),(BG12>BH12)),Pool3,IF(AND((H12>G12),(BH12>BG12)),Pool3,0)))),0) -> 0 | BQ12: =F12 -> Uzbekistan | BT12: =I12 -> Spain | BX12: =IF(AND(G12<>"",H12<>"",BR12<>"",BS12<>""),IF(AND(G12=BR12,H12=BS12),Pool1,IF((G12-H12)=(BR12-BS12),Pool2,IF(AND((G12>H12),(BR12>BS12)),Pool3,IF(AND((H12>G12),(BS12>BR12)),Pool3,0)))),0) -> 0 | CB12: =F12 -> Uzbekistan | CE12: =I12 -> Spain | CI12: =IF(AND(G12<>"",H12<>"",CC12<>"",CD12<>""),IF(AND(G12=CC12,H12=CD12),Pool1,IF((G12-H12)=(CC12-CD12),Pool2,IF(AND((G12>H12),(CC12>CD12)),Pool3,IF(AND((H12>G12),(CD12>CC12)),Pool3,0)))),0) -> 0 | CM12: =F12 -> Uzbekistan | CP12: =I12 -> Spain | CT12: =IF(AND(G12<>"",H12<>"",CN12<>"",CO12<>""),IF(AND(G12=CN12,H12=CO12),Pool1,IF((G12-H12)=(CN12-CO12),Pool2,IF(AND((G12>H12),(CN12>CO12)),Pool3,IF(AND((H12>G12),(CO12>CN12)),Pool3,0)))),0) -> 0 | CX12: =F12 -> Uzbekistan | DA12: =I12 -> Spain | DE12: =IF(AND(G12<>"",H12<>"",CY12<>"",CZ12<>""),IF(AND(G12=CY12,H12=CZ12),Pool1,IF((G12-H12)=(CY12-CZ12),Pool2,IF(AND((G12>H12),(CY12>CZ12)),Pool3,IF(AND((H12>G12),(CZ12>CY12)),Pool3,0)))),0) -> 0 | DI12: =F12 -> Uzbekistan | DL12: =I12 -> Spain | DP12: =IF(AND(G12<>"",H12<>"",DJ12<>"",DK12<>""),IF(AND(G12=DJ12,H12=DK12),Pool1,IF((G12-H12)=(DJ12-DK12),Pool2,IF(AND((G12>H12),(DJ12>DK12)),Pool3,IF(AND((H12>G12),(DK12>DJ12)),Pool3,0)))),0) -> 0
A13: =IF(G13<>"",A12+1,A12) -> 0 | C13: 6 | D13: C | E13: 45497.708 | F13: ='Tournament Setup'!D16 -> Egypt | I13: ='Tournament Setup'!D17 -> Dominican Republic | N13: =F13 -> Egypt | Q13: =I13 -> Dominican Republic | U13: =IF(AND(G13<>"",H13<>"",O13<>"",P13<>""),IF(AND(G13=O13,H13=P13),Pool1,IF((G13-H13)=(O13-P13),Pool2,IF(AND((G13>H13),(O13>P13)),Pool3,IF(AND((H13>G13),(P13>O13)),Pool3,0)))),0) -> 0 | Y13: =F13 -> Egypt | AB13: =I13 -> Dominican Republic | AF13: =IF(AND(G13<>"",H13<>"",Z13<>"",AA13<>""),IF(AND(G13=Z13,H13=AA13),Pool1,IF((G13-H13)=(Z13-AA13),Pool2,IF(AND((G13>H13),(Z13>AA13)),Pool3,IF(AND((H13>G13),(AA13>Z13)),Pool3,0)))),0) -> 0 | AJ13: =F13 -> Egypt | AM13: =I13 -> Dominican Republic | AQ13: =IF(AND(G13<>"",H13<>"",AK13<>"",AL13<>""),IF(AND(G13=AK13,H13=AL13),Pool1,IF((G13-H13)=(AK13-AL13),Pool2,IF(AND((G13>H13),(AK13>AL13)),Pool3,IF(AND((H13>G13),(AL13>AK13)),Pool3,0)))),0) -> 0 | AU13: =F13 -> Egypt | AX13: =I13 -> Dominican Republic | BB13: =IF(AND(G13<>"",H13<>"",AV13<>"",AW13<>""),IF(AND(G13=AV13,H13=AW13),Pool1,IF((G13-H13)=(AV13-AW13),Pool2,IF(AND((G13>H13),(AV13>AW13)),Pool3,IF(AND((H13>G13),(AW13>AV13)),Pool3,0)))),0) -> 0 | BF13: =F13 -> Egypt | BI13: =I13 -> Dominican Republic | BM13: =IF(AND(G13<>"",H13<>"",BG13<>"",BH13<>""),IF(AND(G13=BG13,H13=BH13),Pool1,IF((G13-H13)=(BG13-BH13),Pool2,IF(AND((G13>H13),(BG13>BH13)),Pool3,IF(AND((H13>G13),(BH13>BG13)),Pool3,0)))),0) -> 0 | BQ13: =F13 -> Egypt | BT13: =I13 -> Dominican Republic | BX13: =IF(AND(G13<>"",H13<>"",BR13<>"",BS13<>""),IF(AND(G13=BR13,H13=BS13),Pool1,IF((G13-H13)=(BR13-BS13),Pool2,IF(AND((G13>H13),(BR13>BS13)),Pool3,IF(AND((H13>G13),(BS13>BR13)),Pool3,0)))),0) -> 0 | CB13: =F13 -> Egypt | CE13: =I13 -> Dominican Republic | CI13: =IF(AND(G13<>"",H13<>"",CC13<>"",CD13<>""),IF(AND(G13=CC13,H13=CD13),Pool1,IF((G13-H13)=(CC13-CD13),Pool2,IF(AND((G13>H13),(CC13>CD13)),Pool3,IF(AND((H13>G13),(CD13>CC13)),Pool3,0)))),0) -> 0 | CM13: =F13 -> Egypt | CP13: =I13 -> Dominican Republic | CT13: =IF(AND(G13<>"",H13<>"",CN13<>"",CO13<>""),IF(AND(G13=CN13,H13=CO13),Pool1,IF((G13-H13)=(CN13-CO13),Pool2,IF(AND((G13>H13),(CN13>CO13)),Pool3,IF(AND((H13>G13),(CO13>CN13)),Pool3,0)))),0) -> 0 | CX13: =F13 -> Egypt | DA13: =I13 -> Dominican Republic | DE13: =IF(AND(G13<>"",H13<>"",CY13<>"",CZ13<>""),IF(AND(G13=CY13,H13=CZ13),Pool1,IF((G13-H13)=(CY13-CZ13),Pool2,IF(AND((G13>H13),(CY13>CZ13)),Pool3,IF(AND((H13>G13),(CZ13>CY13)),Pool3,0)))),0) -> 0 | DI13: =F13 -> Egypt | DL13: =I13 -> Dominican Republic | DP13: =IF(AND(G13<>"",H13<>"",DJ13<>"",DK13<>""),IF(AND(G13=DJ13,H13=DK13),Pool1,IF((G13-H13)=(DJ13-DK13),Pool2,IF(AND((G13>H13),(DJ13>DK13)),Pool3,IF(AND((H13>G13),(DK13>DJ13)),Pool3,0)))),0) -> 0
A14: =IF(G14<>"",A13+1,A13) -> 0 | C14: 7 | D14: D | E14: 45497.792 | F14: ='Tournament Setup'!D20 -> Mali | I14: ='Tournament Setup'!D21 -> Israel | N14: =F14 -> Mali | Q14: =I14 -> Israel | U14: =IF(AND(G14<>"",H14<>"",O14<>"",P14<>""),IF(AND(G14=O14,H14=P14),Pool1,IF((G14-H14)=(O14-P14),Pool2,IF(AND((G14>H14),(O14>P14)),Pool3,IF(AND((H14>G14),(P14>O14)),Pool3,0)))),0) -> 0 | Y14: =F14 -> Mali | AB14: =I14 -> Israel | AF14: =IF(AND(G14<>"",H14<>"",Z14<>"",AA14<>""),IF(AND(G14=Z14,H14=AA14),Pool1,IF((G14-H14)=(Z14-AA14),Pool2,IF(AND((G14>H14),(Z14>AA14)),Pool3,IF(AND((H14>G14),(AA14>Z14)),Pool3,0)))),0) -> 0 | AJ14: =F14 -> Mali | AM14: =I14 -> Israel | AQ14: =IF(AND(G14<>"",H14<>"",AK14<>"",AL14<>""),IF(AND(G14=AK14,H14=AL14),Pool1,IF((G14-H14)=(AK14-AL14),Pool2,IF(AND((G14>H14),(AK14>AL14)),Pool3,IF(AND((H14>G14),(AL14>AK14)),Pool3,0)))),0) -> 0 | AU14: =F14 -> Mali | AX14: =I14 -> Israel | BB14: =IF(AND(G14<>"",H14<>"",AV14<>"",AW14<>""),IF(AND(G14=AV14,H14=AW14),Pool1,IF((G14-H14)=(AV14-AW14),Pool2,IF(AND((G14>H14),(AV14>AW14)),Pool3,IF(AND((H14>G14),(AW14>AV14)),Pool3,0)))),0) -> 0 | BF14: =F14 -> Mali | BI14: =I14 -> Israel | BM14: =IF(AND(G14<>"",H14<>"",BG14<>"",BH14<>""),IF(AND(G14=BG14,H14=BH14),Pool1,IF((G14-H14)=(BG14-BH14),Pool2,IF(AND((G14>H14),(BG14>BH14)),Pool3,IF(AND((H14>G14),(BH14>BG14)),Pool3,0)))),0) -> 0 | BQ14: =F14 -> Mali | BT14: =I14 -> Israel | BX14: =IF(AND(G14<>"",H14<>"",BR14<>"",BS14<>""),IF(AND(G14=BR14,H14=BS14),Pool1,IF((G14-H14)=(BR14-BS14),Pool2,IF(AND((G14>H14),(BR14>BS14)),Pool3,IF(AND((H14>G14),(BS14>BR14)),Pool3,0)))),0) -> 0 | CB14: =F14 -> Mali | CE14: =I14 -> Israel | CI14: =IF(AND(G14<>"",H14<>"",CC14<>"",CD14<>""),IF(AND(G14=CC14,H14=CD14),Pool1,IF((G14-H14)=(CC14-CD14),Pool2,IF(AND((G14>H14),(CC14>CD14)),Pool3,IF(AND((H14>G14),(CD14>CC14)),Pool3,0)))),0) -> 0 | CM14: =F14 -> Mali | CP14: =I14 -> Israel | CT14: =IF(AND(G14<>"",H14<>"",CN14<>"",CO14<>""),IF(AND(G14=CN14,H14=CO14),Pool1,IF((G14-H14)=(CN14-CO14),Pool2,IF(AND((G14>H14),(CN14>CO14)),Pool3,IF(AND((H14>G14),(CO14>CN14)),Pool3,0)))),0) -> 0 | CX14: =F14 -> Mali | DA14: =I14 -> Israel | DE14: =IF(AND(G14<>"",H14<>"",CY14<>"",CZ14<>""),IF(AND(G14=CY14,H14=CZ14),Pool1,IF((G14-H14)=(CY14-CZ14),Pool2,IF(AND((G14>H14),(CY14>CZ14)),Pool3,IF(AND((H14>G14),(CZ14>CY14)),Pool3,0)))),0) -> 0 | DI14: =F14 -> Mali | DL14: =I14 -> Israel | DP14: =IF(AND(G14<>"",H14<>"",DJ14<>"",DK14<>""),IF(AND(G14=DJ14,H14=DK14),Pool1,IF((G14-H14)=(DJ14-DK14),Pool2,IF(AND((G14>H14),(DJ14>DK14)),Pool3,IF(AND((H14>G14),(DK14>DJ14)),Pool3,0)))),0) -> 0
A15: =IF(G15<>"",A14+1,A14) -> 0 | C15: 8 | D15: D | E15: 45497.875 | F15: ='Tournament Setup'!D18 -> Japan | I15: ='Tournament Setup'!D19 -> Paraguay | N15: =F15 -> Japan | Q15: =I15 -> Paraguay | U15: =IF(AND(G15<>"",H15<>"",O15<>"",P15<>""),IF(AND(G15=O15,H15=P15),Pool1,IF((G15-H15)=(O15-P15),Pool2,IF(AND((G15>H15),(O15>P15)),Pool3,IF(AND((H15>G15),(P15>O15)),Pool3,0)))),0) -> 0 | Y15: =F15 -> Japan | AB15: =I15 -> Paraguay | AF15: =IF(AND(G15<>"",H15<>"",Z15<>"",AA15<>""),IF(AND(G15=Z15,H15=AA15),Pool1,IF((G15-H15)=(Z15-AA15),Pool2,IF(AND((G15>H15),(Z15>AA15)),Pool3,IF(AND((H15>G15),(AA15>Z15)),Pool3,0)))),0) -> 0 | AJ15: =F15 -> Japan | AM15: =I15 -> Paraguay | AQ15: =IF(AND(G15<>"",H15<>"",AK15<>"",AL15<>""),IF(AND(G15=AK15,H15=AL15),Pool1,IF((G15-H15)=(AK15-AL15),Pool2,IF(AND((G15>H15),(AK15>AL15)),Pool3,IF(AND((H15>G15),(AL15>AK15)),Pool3,0)))),0) -> 0 | AU15: =F15 -> Japan | AX15: =I15 -> Paraguay | BB15: =IF(AND(G15<>"",H15<>"",AV15<>"",AW15<>""),IF(AND(G15=AV15,H15=AW15),Pool1,IF((G15-H15)=(AV15-AW15),Pool2,IF(AND((G15>H15),(AV15>AW15)),Pool3,IF(AND((H15>G15),(AW15>AV15)),Pool3,0)))),0) -> 0 | BF15: =F15 -> Japan | BI15: =I15 -> Paraguay | BM15: =IF(AND(G15<>"",H15<>"",BG15<>"",BH15<>""),IF(AND(G15=BG15,H15=BH15),Pool1,IF((G15-H15)=(BG15-BH15),Pool2,IF(AND((G15>H15),(BG15>BH15)),Pool3,IF(AND((H15>G15),(BH15>BG15)),Pool3,0)))),0) -> 0 | BQ15: =F15 -> Japan | BT15: =I15 -> Paraguay | BX15: =IF(AND(G15<>"",H15<>"",BR15<>"",BS15<>""),IF(AND(G15=BR15,H15=BS15),Pool1,IF((G15-H15)=(BR15-BS15),Pool2,IF(AND((G15>H15),(BR15>BS15)),Pool3,IF(AND((H15>G15),(BS15>BR15)),Pool3,0)))),0) -> 0 | CB15: =F15 -> Japan | CE15: =I15 -> Paraguay | CI15: =IF(AND(G15<>"",H15<>"",CC15<>"",CD15<>""),IF(AND(G15=CC15,H15=CD15),Pool1,IF((G15-H15)=(CC15-CD15),Pool2,IF(AND((G15>H15),(CC15>CD15)),Pool3,IF(AND((H15>G15),(CD15>CC15)),Pool3,0)))),0) -> 0 | CM15: =F15 -> Japan | CP15: =I15 -> Paraguay | CT15: =IF(AND(G15<>"",H15<>"",CN15<>"",CO15<>""),IF(AND(G15=CN15,H15=CO15),Pool1,IF((G15-H15)=(CN15-CO15),Pool2,IF(AND((G15>H15),(CN15>CO15)),Pool3,IF(AND((H15>G15),(CO15>CN15)),Pool3,0)))),0) -> 0 | CX15: =F15 -> Japan | DA15: =I15 -> Paraguay | DE15: =IF(AND(G15<>"",H15<>"",CY15<>"",CZ15<>""),IF(AND(G15=CY15,H15=CZ15),Pool1,IF((G15-H15)=(CY15-CZ15),Pool2,IF(AND((G15>H15),(CY15>CZ15)),Pool3,IF(AND((H15>G15),(CZ15>CY15)),Pool3,0)))),0) -> 0 | DI15: =F15 -> Japan | DL15: =I15 -> Paraguay | DP15: =IF(AND(G15<>"",H15<>"",DJ15<>"",DK15<>""),IF(AND(G15=DJ15,H15=DK15),Pool1,IF((G15-H15)=(DJ15-DK15),Pool2,IF(AND((G15>H15),(DJ15>DK15)),Pool3,IF(AND((H15>G15),(DK15>DJ15)),Pool3,0)))),0) -> 0
A16: =IF(G16<>"",A15+1,A15) -> 0 | C16: 9 | D16: A | E16: 45500.792 | F16: =F8 -> France | I16: =F9 -> Guinea | N16: =F16 -> France | Q16: =I16 -> Guinea | U16: =IF(AND(G16<>"",H16<>"",O16<>"",P16<>""),IF(AND(G16=O16,H16=P16),Pool1,IF((G16-H16)=(O16-P16),Pool2,IF(AND((G16>H16),(O16>P16)),Pool3,IF(AND((H16>G16),(P16>O16)),Pool3,0)))),0) -> 0 | Y16: =F16 -> France | AB16: =I16 -> Guinea | AF16: =IF(AND(G16<>"",H16<>"",Z16<>"",AA16<>""),IF(AND(G16=Z16,H16=AA16),Pool1,IF((G16-H16)=(Z16-AA16),Pool2,IF(AND((G16>H16),(Z16>AA16)),Pool3,IF(AND((H16>G16),(AA16>Z16)),Pool3,0)))),0) -> 0 | AJ16: =F16 -> France | AM16: =I16 -> Guinea | AQ16: =IF(AND(G16<>"",H16<>"",AK16<>"",AL16<>""),IF(AND(G16=AK16,H16=AL16),Pool1,IF((G16-H16)=(AK16-AL16),Pool2,IF(AND((G16>H16),(AK16>AL16)),Pool3,IF(AND((H16>G16),(AL16>AK16)),Pool3,0)))),0) -> 0 | AU16: =F16 -> France | AX16: =I16 -> Guinea | BB16: =IF(AND(G16<>"",H16<>"",AV16<>"",AW16<>""),IF(AND(G16=AV16,H16=AW16),Pool1,IF((G16-H16)=(AV16-AW16),Pool2,IF(AND((G16>H16),(AV16>AW16)),Pool3,IF(AND((H16>G16),(AW16>AV16)),Pool3,0)))),0) -> 0 | BF16: =F16 -> France | BI16: =I16 -> Guinea | BM16: =IF(AND(G16<>"",H16<>"",BG16<>"",BH16<>""),IF(AND(G16=BG16,H16=BH16),Pool1,IF((G16-H16)=(BG16-BH16),Pool2,IF(AND((G16>H16),(BG16>BH16)),Pool3,IF(AND((H16>G16),(BH16>BG16)),Pool3,0)))),0) -> 0 | BQ16: =F16 -> France | BT16: =I16 -> Guinea | BX16: =IF(AND(G16<>"",H16<>"",BR16<>"",BS16<>""),IF(AND(G16=BR16,H16=BS16),Pool1,IF((G16-H16)=(BR16-BS16),Pool2,IF(AND((G16>H16),(BR16>BS16)),Pool3,IF(AND((H16>G16),(BS16>BR16)),Pool3,0)))),0) -> 0 | CB16: =F16 -> France | CE16: =I16 -> Guinea | CI16: =IF(AND(G16<>"",H16<>"",CC16<>"",CD16<>""),IF(AND(G16=CC16,H16=CD16),Pool1,IF((G16-H16)=(CC16-CD16),Pool2,IF(AND((G16>H16),(CC16>CD16)),Pool3,IF(AND((H16>G16),(CD16>CC16)),Pool3,0)))),0) -> 0 | CM16: =F16 -> France | CP16: =I16 -> Guinea | CT16: =IF(AND(G16<>"",H16<>"",CN16<>"",CO16<>""),IF(AND(G16=CN16,H16=CO16),Pool1,IF((G16-H16)=(CN16-CO16),Pool2,IF(AND((G16>H16),(CN16>CO16)),Pool3,IF(AND((H16>G16),(CO16>CN16)),Pool3,0)))),0) -> 0 | CX16: =F16 -> France | DA16: =I16 -> Guinea | DE16: =IF(AND(G16<>"",H16<>"",CY16<>"",CZ16<>""),IF(AND(G16=CY16,H16=CZ16),Pool1,IF((G16-H16)=(CY16-CZ16),Pool2,IF(AND((G16>H16),(CY16>CZ16)),Pool3,IF(AND((H16>G16),(CZ16>CY16)),Pool3,0)))),0) -> 0 | DI16: =F16 -> France | DL16: =I16 -> Guinea | DP16: =IF(AND(G16<>"",H16<>"",DJ16<>"",DK16<>""),IF(AND(G16=DJ16,H16=DK16),Pool1,IF((G16-H16)=(DJ16-DK16),Pool2,IF(AND((G16>H16),(DJ16>DK16)),Pool3,IF(AND((H16>G16),(DK16>DJ16)),Pool3,0)))),0) -> 0
A17: =IF(G17<>"",A16+1,A16) -> 0 | C17: 10 | D17: A | E17: 45500.792 | F17: =I9 -> New Zealand | I17: =I8 -> United States | N17: =F17 -> New Zealand | Q17: =I17 -> United States | U17: =IF(AND(G17<>"",H17<>"",O17<>"",P17<>""),IF(AND(G17=O17,H17=P17),Pool1,IF((G17-H17)=(O17-P17),Pool2,IF(AND((G17>H17),(O17>P17)),Pool3,IF(AND((H17>G17),(P17>O17)),Pool3,0)))),0) -> 0 | Y17: =F17 -> New Zealand | AB17: =I17 -> United States | AF17: =IF(AND(G17<>"",H17<>"",Z17<>"",AA17<>""),IF(AND(G17=Z17,H17=AA17),Pool1,IF((G17-H17)=(Z17-AA17),Pool2,IF(AND((G17>H17),(Z17>AA17)),Pool3,IF(AND((H17>G17),(AA17>Z17)),Pool3,0)))),0) -> 0 | AJ17: =F17 -> New Zealand | AM17: =I17 -> United States | AQ17: =IF(AND(G17<>"",H17<>"",AK17<>"",AL17<>""),IF(AND(G17=AK17,H17=AL17),Pool1,IF((G17-H17)=(AK17-AL17),Pool2,IF(AND((G17>H17),(AK17>AL17)),Pool3,IF(AND((H17>G17),(AL17>AK17)),Pool3,0)))),0) -> 0 | AU17: =F17 -> New Zealand | AX17: =I17 -> United States | BB17: =IF(AND(G17<>"",H17<>"",AV17<>"",AW17<>""),IF(AND(G17=AV17,H17=AW17),Pool1,IF((G17-H17)=(AV17-AW17),Pool2,IF(AND((G17>H17),(AV17>AW17)),Pool3,IF(AND((H17>G17),(AW17>AV17)),Pool3,0)))),0) -> 0 | BF17: =F17 -> New Zealand | BI17: =I17 -> United States | BM17: =IF(AND(G17<>"",H17<>"",BG17<>"",BH17<>""),IF(AND(G17=BG17,H17=BH17),Pool1,IF((G17-H17)=(BG17-BH17),Pool2,IF(AND((G17>H17),(BG17>BH17)),Pool3,IF(AND((H17>G17),(BH17>BG17)),Pool3,0)))),0) -> 0 | BQ17: =F17 -> New Zealand | BT17: =I17 -> United States | BX17: =IF(AND(G17<>"",H17<>"",BR17<>"",BS17<>""),IF(AND(G17=BR17,H17=BS17),Pool1,IF((G17-H17)=(BR17-BS17),Pool2,IF(AND((G17>H17),(BR17>BS17)),Pool3,IF(AND((H17>G17),(BS17>BR17)),Pool3,0)))),0) -> 0 | CB17: =F17 -> New Zealand | CE17: =I17 -> United States | CI17: =IF(AND(G17<>"",H17<>"",CC17<>"",CD17<>""),IF(AND(G17=CC17,H17=CD17),Pool1,IF((G17-H17)=(CC17-CD17),Pool2,IF(AND((G17>H17),(CC17>CD17)),Pool3,IF(AND((H17>G17),(CD17>CC17)),Pool3,0)))),0) -> 0 | CM17: =F17 -> New Zealand | CP17: =I17 -> United States | CT17: =IF(AND(G17<>"",H17<>"",CN17<>"",CO17<>""),IF(AND(G17=CN17,H17=CO17),Pool1,IF((G17-H17)=(CN17-CO17),Pool2,IF(AND((G17>H17),(CN17>CO17)),Pool3,IF(AND((H17>G17),(CO17>CN17)),Pool3,0)))),0) -> 0 | CX17: =F17 -> New Zealand | DA17: =I17 -> United States | DE17: =IF(AND(G17<>"",H17<>"",CY17<>"",CZ17<>""),IF(AND(G17=CY17,H17=CZ17),Pool1,IF((G17-H17)=(CY17-CZ17),Pool2,IF(AND((G17>H17),(CY17>CZ17)),Pool3,IF(AND((H17>G17),(CZ17>CY17)),Pool3,0)))),0) -> 0 | DI17: =F17 -> New Zealand | DL17: =I17 -> United States | DP17: =IF(AND(G17<>"",H17<>"",DJ17<>"",DK17<>""),IF(AND(G17=DJ17,H17=DK17),Pool1,IF((G17-H17)=(DJ17-DK17),Pool2,IF(AND((G17>H17),(DJ17>DK17)),Pool3,IF(AND((H17>G17),(DK17>DJ17)),Pool3,0)))),0) -> 0
A18: =IF(G18<>"",A17+1,A17) -> 0 | C18: 11 | D18: B | E18: 45500.625 | F18: =F10 -> Argentina | I18: =F11 -> Iraq | N18: =F18 -> Argentina | Q18: =I18 -> Iraq | U18: =IF(AND(G18<>"",H18<>"",O18<>"",P18<>""),IF(AND(G18=O18,H18=P18),Pool1,IF((G18-H18)=(O18-P18),Pool2,IF(AND((G18>H18),(O18>P18)),Pool3,IF(AND((H18>G18),(P18>O18)),Pool3,0)))),0) -> 0 | Y18: =F18 -> Argentina | AB18: =I18 -> Iraq | AF18: =IF(AND(G18<>"",H18<>"",Z18<>"",AA18<>""),IF(AND(G18=Z18,H18=AA18),Pool1,IF((G18-H18)=(Z18-AA18),Pool2,IF(AND((G18>H18),(Z18>AA18)),Pool3,IF(AND((H18>G18),(AA18>Z18)),Pool3,0)))),0) -> 0 | AJ18: =F18 -> Argentina | AM18: =I18 -> Iraq | AQ18: =IF(AND(G18<>"",H18<>"",AK18<>"",AL18<>""),IF(AND(G18=AK18,H18=AL18),Pool1,IF((G18-H18)=(AK18-AL18),Pool2,IF(AND((G18>H18),(AK18>AL18)),Pool3,IF(AND((H18>G18),(AL18>AK18)),Pool3,0)))),0) -> 0 | AU18: =F18 -> Argentina | AX18: =I18 -> Iraq | BB18: =IF(AND(G18<>"",H18<>"",AV18<>"",AW18<>""),IF(AND(G18=AV18,H18=AW18),Pool1,IF((G18-H18)=(AV18-AW18),Pool2,IF(AND((G18>H18),(AV18>AW18)),Pool3,IF(AND((H18>G18),(AW18>AV18)),Pool3,0)))),0) -> 0 | BF18: =F18 -> Argentina | BI18: =I18 -> Iraq | BM18: =IF(AND(G18<>"",H18<>"",BG18<>"",BH18<>""),IF(AND(G18=BG18,H18=BH18),Pool1,IF((G18-H18)=(BG18-BH18),Pool2,IF(AND((G18>H18),(BG18>BH18)),Pool3,IF(AND((H18>G18),(BH18>BG18)),Pool3,0)))),0) -> 0 | BQ18: =F18 -> Argentina | BT18: =I18 -> Iraq | BX18: =IF(AND(G18<>"",H18<>"",BR18<>"",BS18<>""),IF(AND(G18=BR18,H18=BS18),Pool1,IF((G18-H18)=(BR18-BS18),Pool2,IF(AND((G18>H18),(BR18>BS18)),Pool3,IF(AND((H18>G18),(BS18>BR18)),Pool3,0)))),0) -> 0 | CB18: =F18 -> Argentina | CE18: =I18 -> Iraq | CI18: =IF(AND(G18<>"",H18<>"",CC18<>"",CD18<>""),IF(AND(G18=CC18,H18=CD18),Pool1,IF((G18-H18)=(CC18-CD18),Pool2,IF(AND((G18>H18),(CC18>CD18)),Pool3,IF(AND((H18>G18),(CD18>CC18)),Pool3,0)))),0) -> 0 | CM18: =F18 -> Argentina | CP18: =I18 -> Iraq | CT18: =IF(AND(G18<>"",H18<>"",CN18<>"",CO18<>""),IF(AND(G18=CN18,H18=CO18),Pool1,IF((G18-H18)=(CN18-CO18),Pool2,IF(AND((G18>H18),(CN18>CO18)),Pool3,IF(AND((H18>G18),(CO18>CN18)),Pool3,0)))),0) -> 0 | CX18: =F18 -> Argentina | DA18: =I18 -> Iraq | DE18: =IF(AND(G18<>"",H18<>"",CY18<>"",CZ18<>""),IF(AND(G18=CY18,H18=CZ18),Pool1,IF((G18-H18)=(CY18-CZ18),Pool2,IF(AND((G18>H18),(CY18>CZ18)),Pool3,IF(AND((H18>G18),(CZ18>CY18)),Pool3,0)))),0) -> 0 | DI18: =F18 -> Argentina | DL18: =I18 -> Iraq | DP18: =IF(AND(G18<>"",H18<>"",DJ18<>"",DK18<>""),IF(AND(G18=DJ18,H18=DK18),Pool1,IF((G18-H18)=(DJ18-DK18),Pool2,IF(AND((G18>H18),(DJ18>DK18)),Pool3,IF(AND((H18>G18),(DK18>DJ18)),Pool3,0)))),0) -> 0
A19: =IF(G19<>"",A18+1,A18) -> 0 | C19: 12 | D19: B | E19: 45500.708 | F19: =I11 -> Ukraine | I19: =I10 -> Morocco | N19: =F19 -> Ukraine | Q19: =I19 -> Morocco | U19: =IF(AND(G19<>"",H19<>"",O19<>"",P19<>""),IF(AND(G19=O19,H19=P19),Pool1,IF((G19-H19)=(O19-P19),Pool2,IF(AND((G19>H19),(O19>P19)),Pool3,IF(AND((H19>G19),(P19>O19)),Pool3,0)))),0) -> 0 | Y19: =F19 -> Ukraine | AB19: =I19 -> Morocco | AF19: =IF(AND(G19<>"",H19<>"",Z19<>"",AA19<>""),IF(AND(G19=Z19,H19=AA19),Pool1,IF((G19-H19)=(Z19-AA19),Pool2,IF(AND((G19>H19),(Z19>AA19)),Pool3,IF(AND((H19>G19),(AA19>Z19)),Pool3,0)))),0) -> 0 | AJ19: =F19 -> Ukraine | AM19: =I19 -> Morocco | AQ19: =IF(AND(G19<>"",H19<>"",AK19<>"",AL19<>""),IF(AND(G19=AK19,H19=AL19),Pool1,IF((G19-H19)=(AK19-AL19),Pool2,IF(AND((G19>H19),(AK19>AL19)),Pool3,IF(AND((H19>G19),(AL19>AK19)),Pool3,0)))),0) -> 0 | AU19: =F19 -> Ukraine | AX19: =I19 -> Morocco | BB19: =IF(AND(G19<>"",H19<>"",AV19<>"",AW19<>""),IF(AND(G19=AV19,H19=AW19),Pool1,IF((G19-H19)=(AV19-AW19),Pool2,IF(AND((G19>H19),(AV19>AW19)),Pool3,IF(AND((H19>G19),(AW19>AV19)),Pool3,0)))),0) -> 0 | BF19: =F19 -> Ukraine | BI19: =I19 -> Morocco | BM19: =IF(AND(G19<>"",H19<>"",BG19<>"",BH19<>""),IF(AND(G19=BG19,H19=BH19),Pool1,IF((G19-H19)=(BG19-BH19),Pool2,IF(AND((G19>H19),(BG19>BH19)),Pool3,IF(AND((H19>G19),(BH19>BG19)),Pool3,0)))),0) -> 0 | BQ19: =F19 -> Ukraine | BT19: =I19 -> Morocco | BX19: =IF(AND(G19<>"",H19<>"",BR19<>"",BS19<>""),IF(AND(G19=BR19,H19=BS19),Pool1,IF((G19-H19)=(BR19-BS19),Pool2,IF(AND((G19>H19),(BR19>BS19)),Pool3,IF(AND((H19>G19),(BS19>BR19)),Pool3,0)))),0) -> 0 | CB19: =F19 -> Ukraine | CE19: =I19 -> Morocco | CI19: =IF(AND(G19<>"",H19<>"",CC19<>"",CD19<>""),IF(AND(G19=CC19,H19=CD19),Pool1,IF((G19-H19)=(CC19-CD19),Pool2,IF(AND((G19>H19),(CC19>CD19)),Pool3,IF(AND((H19>G19),(CD19>CC19)),Pool3,0)))),0) -> 0 | CM19: =F19 -> Ukraine | CP19: =I19 -> Morocco | CT19: =IF(AND(G19<>"",H19<>"",CN19<>"",CO19<>""),IF(AND(G19=CN19,H19=CO19),Pool1,IF((G19-H19)=(CN19-CO19),Pool2,IF(AND((G19>H19),(CN19>CO19)),Pool3,IF(AND((H19>G19),(CO19>CN19)),Pool3,0)))),0) -> 0 | CX19: =F19 -> Ukraine | DA19: =I19 -> Morocco | DE19: =IF(AND(G19<>"",H19<>"",CY19<>"",CZ19<>""),IF(AND(G19=CY19,H19=CZ19),Pool1,IF((G19-H19)=(CY19-CZ19),Pool2,IF(AND((G19>H19),(CY19>CZ19)),Pool3,IF(AND((H19>G19),(CZ19>CY19)),Pool3,0)))),0) -> 0 | DI19: =F19 -> Ukraine | DL19: =I19 -> Morocco | DP19: =IF(AND(G19<>"",H19<>"",DJ19<>"",DK19<>""),IF(AND(G19=DJ19,H19=DK19),Pool1,IF((G19-H19)=(DJ19-DK19),Pool2,IF(AND((G19>H19),(DJ19>DK19)),Pool3,IF(AND((H19>G19),(DK19>DJ19)),Pool3,0)))),0) -> 0
A20: =IF(G20<>"",A19+1,A19) -> 0 | C20: 13 | D20: C | E20: 45500.792 | F20: =F12 -> Uzbekistan | I20: =F13 -> Egypt | N20: =F20 -> Uzbekistan | Q20: =I20 -> Egypt | U20: =IF(AND(G20<>"",H20<>"",O20<>"",P20<>""),IF(AND(G20=O20,H20=P20),Pool1,IF((G20-H20)=(O20-P20),Pool2,IF(AND((G20>H20),(O20>P20)),Pool3,IF(AND((H20>G20),(P20>O20)),Pool3,0)))),0) -> 0 | Y20: =F20 -> Uzbekistan | AB20: =I20 -> Egypt | AF20: =IF(AND(G20<>"",H20<>"",Z20<>"",AA20<>""),IF(AND(G20=Z20,H20=AA20),Pool1,IF((G20-H20)=(Z20-AA20),Pool2,IF(AND((G20>H20),(Z20>AA20)),Pool3,IF(AND((H20>G20),(AA20>Z20)),Pool3,0)))),0) -> 0 | AJ20: =F20 -> Uzbekistan | AM20: =I20 -> Egypt | AQ20: =IF(AND(G20<>"",H20<>"",AK20<>"",AL20<>""),IF(AND(G20=AK20,H20=AL20),Pool1,IF((G20-H20)=(AK20-AL20),Pool2,IF(AND((G20>H20),(AK20>AL20)),Pool3,IF(AND((H20>G20),(AL20>AK20)),Pool3,0)))),0) -> 0 | AU20: =F20 -> Uzbekistan | AX20: =I20 -> Egypt | BB20: =IF(AND(G20<>"",H20<>"",AV20<>"",AW20<>""),IF(AND(G20=AV20,H20=AW20),Pool1,IF((G20-H20)=(AV20-AW20),Pool2,IF(AND((G20>H20),(AV20>AW20)),Pool3,IF(AND((H20>G20),(AW20>AV20)),Pool3,0)))),0) -> 0 | BF20: =F20 -> Uzbekistan | BI20: =I20 -> Egypt | BM20: =IF(AND(G20<>"",H20<>"",BG20<>"",BH20<>""),IF(AND(G20=BG20,H20=BH20),Pool1,IF((G20-H20)=(BG20-BH20),Pool2,IF(AND((G20>H20),(BG20>BH20)),Pool3,IF(AND((H20>G20),(BH20>BG20)),Pool3,0)))),0) -> 0 | BQ20: =F20 -> Uzbekistan | BT20: =I20 -> Egypt | BX20: =IF(AND(G20<>"",H20<>"",BR20<>"",BS20<>""),IF(AND(G20=BR20,H20=BS20),Pool1,IF((G20-H20)=(BR20-BS20),Pool2,IF(AND((G20>H20),(BR20>BS20)),Pool3,IF(AND((H20>G20),(BS20>BR20)),Pool3,0)))),0) -> 0 | CB20: =F20 -> Uzbekistan | CE20: =I20 -> Egypt | CI20: =IF(AND(G20<>"",H20<>"",CC20<>"",CD20<>""),IF(AND(G20=CC20,H20=CD20),Pool1,IF((G20-H20)=(CC20-CD20),Pool2,IF(AND((G20>H20),(CC20>CD20)),Pool3,IF(AND((H20>G20),(CD20>CC20)),Pool3,0)))),0) -> 0 | CM20: =F20 -> Uzbekistan | CP20: =I20 -> Egypt | CT20: =IF(AND(G20<>"",H20<>"",CN20<>"",CO20<>""),IF(AND(G20=CN20,H20=CO20),Pool1,IF((G20-H20)=(CN20-CO20),Pool2,IF(AND((G20>H20),(CN20>CO20)),Pool3,IF(AND((H20>G20),(CO20>CN20)),Pool3,0)))),0) -> 0 | CX20: =F20 -> Uzbekistan | DA20: =I20 -> Egypt | DE20: =IF(AND(G20<>"",H20<>"",CY20<>"",CZ20<>""),IF(AND(G20=CY20,H20=CZ20),Pool1,IF((G20-H20)=(CY20-CZ20),Pool2,IF(AND((G20>H20),(CY20>CZ20)),Pool3,IF(AND((H20>G20),(CZ20>CY20)),Pool3,0)))),0) -> 0 | DI20: =F20 -> Uzbekistan | DL20: =I20 -> Egypt | DP20: =IF(AND(G20<>"",H20<>"",DJ20<>"",DK20<>""),IF(AND(G20=DJ20,H20=DK20),Pool1,IF((G20-H20)=(DJ20-DK20),Pool2,IF(AND((G20>H20),(DJ20>DK20)),Pool3,IF(AND((H20>G20),(DK20>DJ20)),Pool3,0)))),0) -> 0
A21: =IF(G21<>"",A20+1,A20) -> 0 | C21: 14 | D21: C | E21: 45500.625 | F21: =I13 -> Dominican Republic | I21: =I12 -> Spain | N21: =F21 -> Dominican Republic | Q21: =I21 -> Spain | U21: =IF(AND(G21<>"",H21<>"",O21<>"",P21<>""),IF(AND(G21=O21,H21=P21),Pool1,IF((G21-H21)=(O21-P21),Pool2,IF(AND((G21>H21),(O21>P21)),Pool3,IF(AND((H21>G21),(P21>O21)),Pool3,0)))),0) -> 0 | Y21: =F21 -> Dominican Republic | AB21: =I21 -> Spain | AF21: =IF(AND(G21<>"",H21<>"",Z21<>"",AA21<>""),IF(AND(G21=Z21,H21=AA21),Pool1,IF((G21-H21)=(Z21-AA21),Pool2,IF(AND((G21>H21),(Z21>AA21)),Pool3,IF(AND((H21>G21),(AA21>Z21)),Pool3,0)))),0) -> 0 | AJ21: =F21 -> Dominican Republic | AM21: =I21 -> Spain | AQ21: =IF(AND(G21<>"",H21<>"",AK21<>"",AL21<>""),IF(AND(G21=AK21,H21=AL21),Pool1,IF((G21-H21)=(AK21-AL21),Pool2,IF(AND((G21>H21),(AK21>AL21)),Pool3,IF(AND((H21>G21),(AL21>AK21)),Pool3,0)))),0) -> 0 | AU21: =F21 -> Dominican Republic | AX21: =I21 -> Spain | BB21: =IF(AND(G21<>"",H21<>"",AV21<>"",AW21<>""),IF(AND(G21=AV21,H21=AW21),Pool1,IF((G21-H21)=(AV21-AW21),Pool2,IF(AND((G21>H21),(AV21>AW21)),Pool3,IF(AND((H21>G21),(AW21>AV21)),Pool3,0)))),0) -> 0 | BF21: =F21 -> Dominican Republic | BI21: =I21 -> Spain | BM21: =IF(AND(G21<>"",H21<>"",BG21<>"",BH21<>""),IF(AND(G21=BG21,H21=BH21),Pool1,IF((G21-H21)=(BG21-BH21),Pool2,IF(AND((G21>H21),(BG21>BH21)),Pool3,IF(AND((H21>G21),(BH21>BG21)),Pool3,0)))),0) -> 0 | BQ21: =F21 -> Dominican Republic | BT21: =I21 -> Spain | BX21: =IF(AND(G21<>"",H21<>"",BR21<>"",BS21<>""),IF(AND(G21=BR21,H21=BS21),Pool1,IF((G21-H21)=(BR21-BS21),Pool2,IF(AND((G21>H21),(BR21>BS21)),Pool3,IF(AND((H21>G21),(BS21>BR21)),Pool3,0)))),0) -> 0 | CB21: =F21 -> Dominican Republic | CE21: =I21 -> Spain | CI21: =IF(AND(G21<>"",H21<>"",CC21<>"",CD21<>""),IF(AND(G21=CC21,H21=CD21),Pool1,IF((G21-H21)=(CC21-CD21),Pool2,IF(AND((G21>H21),(CC21>CD21)),Pool3,IF(AND((H21>G21),(CD21>CC21)),Pool3,0)))),0) -> 0 | CM21: =F21 -> Dominican Republic | CP21: =I21 -> Spain | CT21: =IF(AND(G21<>"",H21<>"",CN21<>"",CO21<>""),IF(AND(G21=CN21,H21=CO21),Pool1,IF((G21-H21)=(CN21-CO21),Pool2,IF(AND((G21>H21),(CN21>CO21)),Pool3,IF(AND((H21>G21),(CO21>CN21)),Pool3,0)))),0) -> 0 | CX21: =F21 -> Dominican Republic | DA21: =I21 -> Spain | DE21: =IF(AND(G21<>"",H21<>"",CY21<>"",CZ21<>""),IF(AND(G21=CY21,H21=CZ21),Pool1,IF((G21-H21)=(CY21-CZ21),Pool2,IF(AND((G21>H21),(CY21>CZ21)),Pool3,IF(AND((H21>G21),(CZ21>CY21)),Pool3,0)))),0) -> 0 | DI21: =F21 -> Dominican Republic | DL21: =I21 -> Spain | DP21: =IF(AND(G21<>"",H21<>"",DJ21<>"",DK21<>""),IF(AND(G21=DJ21,H21=DK21),Pool1,IF((G21-H21)=(DJ21-DK21),Pool2,IF(AND((G21>H21),(DJ21>DK21)),Pool3,IF(AND((H21>G21),(DK21>DJ21)),Pool3,0)))),0) -> 0
A22: =IF(G22<>"",A21+1,A21) -> 0 | C22: 15 | D22: D | E22: 45500.708 | F22: =I14 -> Israel | I22: =I15 -> Paraguay | N22: =F22 -> Israel | Q22: =I22 -> Paraguay | U22: =IF(AND(G22<>"",H22<>"",O22<>"",P22<>""),IF(AND(G22=O22,H22=P22),Pool1,IF((G22-H22)=(O22-P22),Pool2,IF(AND((G22>H22),(O22>P22)),Pool3,IF(AND((H22>G22),(P22>O22)),Pool3,0)))),0) -> 0 | Y22: =F22 -> Israel | AB22: =I22 -> Paraguay | AF22: =IF(AND(G22<>"",H22<>"",Z22<>"",AA22<>""),IF(AND(G22=Z22,H22=AA22),Pool1,IF((G22-H22)=(Z22-AA22),Pool2,IF(AND((G22>H22),(Z22>AA22)),Pool3,IF(AND((H22>G22),(AA22>Z22)),Pool3,0)))),0) -> 0 | AJ22: =F22 -> Israel | AM22: =I22 -> Paraguay | AQ22: =IF(AND(G22<>"",H22<>"",AK22<>"",AL22<>""),IF(AND(G22=AK22,H22=AL22),Pool1,IF((G22-H22)=(AK22-AL22),Pool2,IF(AND((G22>H22),(AK22>AL22)),Pool3,IF(AND((H22>G22),(AL22>AK22)),Pool3,0)))),0) -> 0 | AU22: =F22 -> Israel | AX22: =I22 -> Paraguay | BB22: =IF(AND(G22<>"",H22<>"",AV22<>"",AW22<>""),IF(AND(G22=AV22,H22=AW22),Pool1,IF((G22-H22)=(AV22-AW22),Pool2,IF(AND((G22>H22),(AV22>AW22)),Pool3,IF(AND((H22>G22),(AW22>AV22)),Pool3,0)))),0) -> 0 | BF22: =F22 -> Israel | BI22: =I22 -> Paraguay | BM22: =IF(AND(G22<>"",H22<>"",BG22<>"",BH22<>""),IF(AND(G22=BG22,H22=BH22),Pool1,IF((G22-H22)=(BG22-BH22),Pool2,IF(AND((G22>H22),(BG22>BH22)),Pool3,IF(AND((H22>G22),(BH22>BG22)),Pool3,0)))),0) -> 0 | BQ22: =F22 -> Israel | BT22: =I22 -> Paraguay | BX22: =IF(AND(G22<>"",H22<>"",BR22<>"",BS22<>""),IF(AND(G22=BR22,H22=BS22),Pool1,IF((G22-H22)=(BR22-BS22),Pool2,IF(AND((G22>H22),(BR22>BS22)),Pool3,IF(AND((H22>G22),(BS22>BR22)),Pool3,0)))),0) -> 0 | CB22: =F22 -> Israel | CE22: =I22 -> Paraguay | CI22: =IF(AND(G22<>"",H22<>"",CC22<>"",CD22<>""),IF(AND(G22=CC22,H22=CD22),Pool1,IF((G22-H22)=(CC22-CD22),Pool2,IF(AND((G22>H22),(CC22>CD22)),Pool3,IF(AND((H22>G22),(CD22>CC22)),Pool3,0)))),0) -> 0 | CM22: =F22 -> Israel | CP22: =I22 -> Paraguay | CT22: =IF(AND(G22<>"",H22<>"",CN22<>"",CO22<>""),IF(AND(G22=CN22,H22=CO22),Pool1,IF((G22-H22)=(CN22-CO22),Pool2,IF(AND((G22>H22),(CN22>CO22)),Pool3,IF(AND((H22>G22),(CO22>CN22)),Pool3,0)))),0) -> 0 | CX22: =F22 -> Israel | DA22: =I22 -> Paraguay | DE22: =IF(AND(G22<>"",H22<>"",CY22<>"",CZ22<>""),IF(AND(G22=CY22,H22=CZ22),Pool1,IF((G22-H22)=(CY22-CZ22),Pool2,IF(AND((G22>H22),(CY22>CZ22)),Pool3,IF(AND((H22>G22),(CZ22>CY22)),Pool3,0)))),0) -> 0 | DI22: =F22 -> Israel | DL22: =I22 -> Paraguay | DP22: =IF(AND(G22<>"",H22<>"",DJ22<>"",DK22<>""),IF(AND(G22=DJ22,H22=DK22),Pool1,IF((G22-H22)=(DJ22-DK22),Pool2,IF(AND((G22>H22),(DJ22>DK22)),Pool3,IF(AND((H22>G22),(DK22>DJ22)),Pool3,0)))),0) -> 0
A23: =IF(G23<>"",A22+1,A22) -> 0 | C23: 16 | D23: D | E23: 45500.375 | F23: =F15 -> Japan | I23: =F14 -> Mali | N23: =F23 -> Japan | Q23: =I23 -> Mali | U23: =IF(AND(G23<>"",H23<>"",O23<>"",P23<>""),IF(AND(G23=O23,H23=P23),Pool1,IF((G23-H23)=(O23-P23),Pool2,IF(AND((G23>H23),(O23>P23)),Pool3,IF(AND((H23>G23),(P23>O23)),Pool3,0)))),0) -> 0 | Y23: =F23 -> Japan | AB23: =I23 -> Mali | AF23: =IF(AND(G23<>"",H23<>"",Z23<>"",AA23<>""),IF(AND(G23=Z23,H23=AA23),Pool1,IF((G23-H23)=(Z23-AA23),Pool2,IF(AND((G23>H23),(Z23>AA23)),Pool3,IF(AND((H23>G23),(AA23>Z23)),Pool3,0)))),0) -> 0 | AJ23: =F23 -> Japan | AM23: =I23 -> Mali | AQ23: =IF(AND(G23<>"",H23<>"",AK23<>"",AL23<>""),IF(AND(G23=AK23,H23=AL23),Pool1,IF((G23-H23)=(AK23-AL23),Pool2,IF(AND((G23>H23),(AK23>AL23)),Pool3,IF(AND((H23>G23),(AL23>AK23)),Pool3,0)))),0) -> 0 | AU23: =F23 -> Japan | AX23: =I23 -> Mali | BB23: =IF(AND(G23<>"",H23<>"",AV23<>"",AW23<>""),IF(AND(G23=AV23,H23=AW23),Pool1,IF((G23-H23)=(AV23-AW23),Pool2,IF(AND((G23>H23),(AV23>AW23)),Pool3,IF(AND((H23>G23),(AW23>AV23)),Pool3,0)))),0) -> 0 | BF23: =F23 -> Japan | BI23: =I23 -> Mali | BM23: =IF(AND(G23<>"",H23<>"",BG23<>"",BH23<>""),IF(AND(G23=BG23,H23=BH23),Pool1,IF((G23-H23)=(BG23-BH23),Pool2,IF(AND((G23>H23),(BG23>BH23)),Pool3,IF(AND((H23>G23),(BH23>BG23)),Pool3,0)))),0) -> 0 | BQ23: =F23 -> Japan | BT23: =I23 -> Mali | BX23: =IF(AND(G23<>"",H23<>"",BR23<>"",BS23<>""),IF(AND(G23=BR23,H23=BS23),Pool1,IF((G23-H23)=(BR23-BS23),Pool2,IF(AND((G23>H23),(BR23>BS23)),Pool3,IF(AND((H23>G23),(BS23>BR23)),Pool3,0)))),0) -> 0 | CB23: =F23 -> Japan | CE23: =I23 -> Mali | CI23: =IF(AND(G23<>"",H23<>"",CC23<>"",CD23<>""),IF(AND(G23=CC23,H23=CD23),Pool1,IF((G23-H23)=(CC23-CD23),Pool2,IF(AND((G23>H23),(CC23>CD23)),Pool3,IF(AND((H23>G23),(CD23>CC23)),Pool3,0)))),0) -> 0 | CM23: =F23 -> Japan | CP23: =I23 -> Mali | CT23: =IF(AND(G23<>"",H23<>"",CN23<>"",CO23<>""),IF(AND(G23=CN23,H23=CO23),Pool1,IF((G23-H23)=(CN23-CO23),Pool2,IF(AND((G23>H23),(CN23>CO23)),Pool3,IF(AND((H23>G23),(CO23>CN23)),Pool3,0)))),0) -> 0 | CX23: =F23 -> Japan | DA23: =I23 -> Mali | DE23: =IF(AND(G23<>"",H23<>"",CY23<>"",CZ23<>""),IF(AND(G23=CY23,H23=CZ23),Pool1,IF((G23-H23)=(CY23-CZ23),Pool2,IF(AND((G23>H23),(CY23>CZ23)),Pool3,IF(AND((H23>G23),(CZ23>CY23)),Pool3,0)))),0) -> 0 | DI23: =F23 -> Japan | DL23: =I23 -> Mali | DP23: =IF(AND(G23<>"",H23<>"",DJ23<>"",DK23<>""),IF(AND(G23=DJ23,H23=DK23),Pool1,IF((G23-H23)=(DJ23-DK23),Pool2,IF(AND((G23>H23),(DJ23>DK23)),Pool3,IF(AND((H23>G23),(DK23>DJ23)),Pool3,0)))),0) -> 0
A24: =IF(G24<>"",A23+1,A23) -> 0 | C24: 17 | D24: A | E24: 45503.292 | F24: =I9 -> New Zealand | I24: =F8 -> France | N24: =F24 -> New Zealand | Q24: =I24 -> France | U24: =IF(AND(G24<>"",H24<>"",O24<>"",P24<>""),IF(AND(G24=O24,H24=P24),Pool1,IF((G24-H24)=(O24-P24),Pool2,IF(AND((G24>H24),(O24>P24)),Pool3,IF(AND((H24>G24),(P24>O24)),Pool3,0)))),0) -> 0 | Y24: =F24 -> New Zealand | AB24: =I24 -> France | AF24: =IF(AND(G24<>"",H24<>"",Z24<>"",AA24<>""),IF(AND(G24=Z24,H24=AA24),Pool1,IF((G24-H24)=(Z24-AA24),Pool2,IF(AND((G24>H24),(Z24>AA24)),Pool3,IF(AND((H24>G24),(AA24>Z24)),Pool3,0)))),0) -> 0 | AJ24: =F24 -> New Zealand | AM24: =I24 -> France | AQ24: =IF(AND(G24<>"",H24<>"",AK24<>"",AL24<>""),IF(AND(G24=AK24,H24=AL24),Pool1,IF((G24-H24)=(AK24-AL24),Pool2,IF(AND((G24>H24),(AK24>AL24)),Pool3,IF(AND((H24>G24),(AL24>AK24)),Pool3,0)))),0) -> 0 | AU24: =F24 -> New Zealand | AX24: =I24 -> France | BB24: =IF(AND(G24<>"",H24<>"",AV24<>"",AW24<>""),IF(AND(G24=AV24,H24=AW24),Pool1,IF((G24-H24)=(AV24-AW24),Pool2,IF(AND((G24>H24),(AV24>AW24)),Pool3,IF(AND((H24>G24),(AW24>AV24)),Pool3,0)))),0) -> 0 | BF24: =F24 -> New Zealand | BI24: =I24 -> France | BM24: =IF(AND(G24<>"",H24<>"",BG24<>"",BH24<>""),IF(AND(G24=BG24,H24=BH24),Pool1,IF((G24-H24)=(BG24-BH24),Pool2,IF(AND((G24>H24),(BG24>BH24)),Pool3,IF(AND((H24>G24),(BH24>BG24)),Pool3,0)))),0) -> 0 | BQ24: =F24 -> New Zealand | BT24: =I24 -> France | BX24: =IF(AND(G24<>"",H24<>"",BR24<>"",BS24<>""),IF(AND(G24=BR24,H24=BS24),Pool1,IF((G24-H24)=(BR24-BS24),Pool2,IF(AND((G24>H24),(BR24>BS24)),Pool3,IF(AND((H24>G24),(BS24>BR24)),Pool3,0)))),0) -> 0 | CB24: =F24 -> New Zealand | CE24: =I24 -> France | CI24: =IF(AND(G24<>"",H24<>"",CC24<>"",CD24<>""),IF(AND(G24=CC24,H24=CD24),Pool1,IF((G24-H24)=(CC24-CD24),Pool2,IF(AND((G24>H24),(CC24>CD24)),Pool3,IF(AND((H24>G24),(CD24>CC24)),Pool3,0)))),0) -> 0 | CM24: =F24 -> New Zealand | CP24: =I24 -> France | CT24: =IF(AND(G24<>"",H24<>"",CN24<>"",CO24<>""),IF(AND(G24=CN24,H24=CO24),Pool1,IF((G24-H24)=(CN24-CO24),Pool2,IF(AND((G24>H24),(CN24>CO24)),Pool3,IF(AND((H24>G24),(CO24>CN24)),Pool3,0)))),0) -> 0 | CX24: =F24 -> New Zealand | DA24: =I24 -> France | DE24: =IF(AND(G24<>"",H24<>"",CY24<>"",CZ24<>""),IF(AND(G24=CY24,H24=CZ24),Pool1,IF((G24-H24)=(CY24-CZ24),Pool2,IF(AND((G24>H24),(CY24>CZ24)),Pool3,IF(AND((H24>G24),(CZ24>CY24)),Pool3,0)))),0) -> 0 | DI24: =F24 -> New Zealand | DL24: =I24 -> France | DP24: =IF(AND(G24<>"",H24<>"",DJ24<>"",DK24<>""),IF(AND(G24=DJ24,H24=DK24),Pool1,IF((G24-H24)=(DJ24-DK24),Pool2,IF(AND((G24>H24),(DJ24>DK24)),Pool3,IF(AND((H24>G24),(DK24>DJ24)),Pool3,0)))),0) -> 0
