Workbook
Name A1A2: 'Dummy Top Scorer'!$B$3:$B$54
Name A1A3: 'Dummy Top Scorer'!$B$57:$B$108
Name A1A4: 'Dummy Top Scorer'!$B$111:$B$162
Name A2A1: 'Dummy Top Scorer'!$C$3:$C$54
Name A2A3: 'Dummy Top Scorer'!$C$57:$C$108
Name A2A4: 'Dummy Top Scorer'!$C$111:$C$162
Name A3A1: 'Dummy Top Scorer'!$D$3:$D$54
Name A3A2: 'Dummy Top Scorer'!$D$57:$D$108
Name A3A4: 'Dummy Top Scorer'!$D$111:$D$162
Name A4A1: 'Dummy Top Scorer'!$E$3:$E$54
Name A4A2: 'Dummy Top Scorer'!$E$57:$E$108
Name A4A3: 'Dummy Top Scorer'!$E$111:$E$162
Name AC1C2: 'Dummy Top Scorer'!$J$3:$J$54
Name AC1C3: 'Dummy Top Scorer'!$J$57:$J$108
Name AC1C4: 'Dummy Top Scorer'!$J$111:$J$162
Name AC2C1: 'Dummy Top Scorer'!$K$3:$K$54
Name AC2C3: 'Dummy Top Scorer'!$K$57:$K$108
Name AC2C4: 'Dummy Top Scorer'!$K$111:$K$162
Name AC3C1: 'Dummy Top Scorer'!$L$3:$L$54
Name AC3C2: 'Dummy Top Scorer'!$L$57:$L$108
Name AC3C4: 'Dummy Top Scorer'!$L$111:$L$162
Name AC4C1: 'Dummy Top Scorer'!$M$3:$M$54
Name AC4C2: 'Dummy Top Scorer'!$M$57:$M$108
Name AC4C3: 'Dummy Top Scorer'!$M$111:$M$162
Name B1B2: 'Dummy Top Scorer'!$F$3:$F$54
Name B1B3: 'Dummy Top Scorer'!$F$57:$F$108
Name B1B4: 'Dummy Top Scorer'!$F$111:$F$162
Name B2B1: 'Dummy Top Scorer'!$G$3:$G$54
Name B2B3: 'Dummy Top Scorer'!$G$57:$G$108
Name B2B4: 'Dummy Top Scorer'!$G$111:$G$162
Name B3B1: 'Dummy Top Scorer'!$H$3:$H$54
Name B3B2: 'Dummy Top Scorer'!$H$57:$H$108
Name B3B4: 'Dummy Top Scorer'!$H$112:$H$162
Name B4B1: 'Dummy Top Scorer'!$I$3:$I$54
Name B4B2: 'Dummy Top Scorer'!$I$57:$I$108
Name B4B3: 'Dummy Top Scorer'!$I$111:$I$162
Name BIGQ11: 'Dummy Top Scorer'!$AZ$3:$AZ$51
Name BIGQ12: 'Dummy Top Scorer'!$BA$3:$BA$51
Name BIGQ21: 'Dummy Top Scorer'!$BB$3:$BB$51
Name BIGQ22: 'Dummy Top Scorer'!$BC$3:$BC$51
Name BIGQ31: 'Dummy Top Scorer'!$BD$3:$BD$51
Name BIGQ32: 'Dummy Top Scorer'!$BE$3:$BE$51
Name BIGQ41: 'Dummy Top Scorer'!$BF$3:$BF$51
Name BIGQ42: 'Dummy Top Scorer'!$BG$3:$BG$51
Name Countries: Language!$C$1:$H$1
Name Country: Setup!$C$9:$C$32
Name D1D2: 'Dummy Top Scorer'!$N$3:$N$54
Name D1D3: 'Dummy Top Scorer'!$N$57:$N$108
Name D1D4: 'Dummy Top Scorer'!$N$111:$N$162
Name D2D1: 'Dummy Top Scorer'!$O$3:$O$54
Name D2D3: 'Dummy Top Scorer'!$O$57:$O$108
Name D2D4: 'Dummy Top Scorer'!$O$111:$O$162
Name D3D1: 'Dummy Top Scorer'!$P$3:$P$54
Name D3D2: 'Dummy Top Scorer'!$P$57:$P$108
Name D3D4: 'Dummy Top Scorer'!$P$111:$P$162
Name D4D1: 'Dummy Top Scorer'!$Q$3:$Q$54
Name D4D2: 'Dummy Top Scorer'!$Q$57:$Q$108
Name D4D3: 'Dummy Top Scorer'!$Q$111:$Q$162
Name E1E2: 'Dummy Top Scorer'!$R$3:$R$54
Name E1E3: 'Dummy Top Scorer'!$R$57:$R$108

Sheet Setup
B3: SETUP
C5: Select Your Time | D5: 0 | F5: t | G5: Select time difference between Match local time and your local time. Date and time in Matches worksheet will be adjusted accordingly
C6: Select Language | D6: English | F6: t | G6: Select your language. Language in Matches worksheet will be adjusted accordingly
C7: Language Name u | D7: NEW WORLD
C8: Original Language (English) | D8: Your Language Translation | F8: To set schedule language to your language do the following :
C9: Albania | D9: Albania | F9: 1 | G9: Set title of your language in cell D7 (Arabic, Chinese, Portuguese, etc)
C10: Austria | D10: Austria | F10: 2 | G10: Type your translation in column D (cell D9 : D99)
C11: Belgium | D11: Belgium | F11: 3 | G11: Change language selection in cell D6 to your language name title
C12: Croatia | D12: Croatia
C13: Czechia | D13: Czechia
C14: Denmark | D14: Denmark
C15: England | D15: England
C16: France | D16: France
C17: Germany | D17: Germany
C18: Hungary | D18: Hungary
C19: Italy | D19: Italy
C20: Netherlands | D20: Netherlands
C21: Portugal | D21: Portugal
C22: Romania | D22: Romania
C23: Scotland | D23: Scotland
... C99: Group A-F 3rd Place Standings | D99: Group A-F 3rd Place Standings
C100: © 2024 | journalSHEET.com

Sheet Top Scorer
H1: 1 | I1: 2 | J1: 3 | K1: 4 | L1: 5 | M1: 6 | N1: 7 | O1: 8
B3: EURO 2024 TOP SCORER
B5: Goals | C5: Player Name | E5: =IF(AND(B9="",'Knock Out Stages'!H44<>"",'Knock Out Stages'!H45<>""),"Reorder Rank","") | G5: Rank
B8: ='Dummy Top Scorer'!DB4 -> 1 | C8: =IFERROR(IF(E8="",IF('Dummy Top Scorer'!DC4<>"",'Dummy Top Scorer'!DC4&" ("&'Dummy Top Scorer'!DD4&")",""),VLOOKUP(G8,E8:F17,2,FALSE)),"") -> Kai Havertz (Germany) | F8: =IF(E5<>"",IF('Dummy Top Scorer'!DC4<>"",'Dummy Top Scorer'!DC4&" ("&'Dummy Top Scorer'!DD4&")",""),"") | G8: 1 | H8: Top scorer rankings will be adjusted automatically. If several players are tied in top position, new table for those players will be shown in column F. Re-adjust their position by input correct position in column E (will be shown automatically)
B9: =IF('Dummy Top Scorer'!DB5='Dummy Top Scorer'!DB4,"",'Dummy Top Scorer'!DB5) | C9: =IFERROR(IF(E9="",IF('Dummy Top Scorer'!DC5<>"",'Dummy Top Scorer'!DC5&" ("&'Dummy Top Scorer'!DD5&")",""),VLOOKUP(G9,E8:F17,2,FALSE)),"") -> Niclas Füllkrug (Germany) | F9: =IF(E5<>"",IF('Dummy Top Scorer'!DC5<>"",'Dummy Top Scorer'!DC5&" ("&'Dummy Top Scorer'!DD5&")",""),"") | G9: 2
B10: =IF('Dummy Top Scorer'!DB6='Dummy Top Scorer'!DB5,"",'Dummy Top Scorer'!DB6) | C10: =IFERROR(IF(E10="",IF('Dummy Top Scorer'!DC6<>"",'Dummy Top Scorer'!DC6&" ("&'Dummy Top Scorer'!DD6&")",""),VLOOKUP(G10,E8:F17,2,FALSE)),"") -> Jamal Musiala (Germany) | F10: =IF(AND(E5<>"",'Dummy Top Scorer'!DB6='Dummy Top Scorer'!DB4),IF('Dummy Top Scorer'!DC6<>"",'Dummy Top Scorer'!DC6&" ("&'Dummy Top Scorer'!DD6&")",""),"") | G10: 3
B11: =IF('Dummy Top Scorer'!DB7='Dummy Top Scorer'!DB6,"",'Dummy Top Scorer'!DB7) | C11: =IFERROR(IF(E11="",IF('Dummy Top Scorer'!DC7<>"",'Dummy Top Scorer'!DC7&" ("&'Dummy Top Scorer'!DD7&")",""),VLOOKUP(G11,E8:F17,2,FALSE)),"") -> Florian Wirtz (Germany) | F11: =IF(AND(E5<>"",'Dummy Top Scorer'!DB7='Dummy Top Scorer'!DB4),IF('Dummy Top Scorer'!DC7<>"",'Dummy Top Scorer'!DC7&" ("&'Dummy Top Scorer'!DD7&")",""),"") | G11: 4
B12: =IF('Dummy Top Scorer'!DB8='Dummy Top Scorer'!DB7,"",'Dummy Top Scorer'!DB8) | C12: =IFERROR(IF(E12="",IF('Dummy Top Scorer'!DC8<>"",'Dummy Top Scorer'!DC8&" ("&'Dummy Top Scorer'!DD8&")",""),VLOOKUP(G12,E8:F17,2,FALSE)),"") -> Emre Can (Germany) | F12: =IF(AND(E5<>"",'Dummy Top Scorer'!DB8='Dummy Top Scorer'!DB4),IF('Dummy Top Scorer'!DC8<>"",'Dummy Top Scorer'!DC8&" ("&'Dummy Top Scorer'!DD8&")",""),"") | G12: 5
B13: =IF('Dummy Top Scorer'!DB9='Dummy Top Scorer'!DB8,"",'Dummy Top Scorer'!DB9) | C13: =IFERROR(IF(E13="",IF('Dummy Top Scorer'!DC9<>"",'Dummy Top Scorer'!DC9&" ("&'Dummy Top Scorer'!DD9&")",""),VLOOKUP(G13,E8:F17,2,FALSE)),"") -> Barnabás Varga (Hungary) | F13: =IF(AND(E5<>"",'Dummy Top Scorer'!DB9='Dummy Top Scorer'!DB4),IF('Dummy Top Scorer'!DC9<>"",'Dummy Top Scorer'!DC9&" ("&'Dummy Top Scorer'!DD9&")",""),"") | G13: 6
B14: =IF('Dummy Top Scorer'!DB10='Dummy Top Scorer'!DB9,"",'Dummy Top Scorer'!DB10) | C14: =IFERROR(IF(E14="",IF('Dummy Top Scorer'!DC10<>"",'Dummy Top Scorer'!DC10&" ("&'Dummy Top Scorer'!DD10&")",""),VLOOKUP(G14,E8:F17,2,FALSE)),"") -> Breel Embolo (Switzerland) | F14: =IF(AND(E5<>"",'Dummy Top Scorer'!DB10='Dummy Top Scorer'!DB4),IF('Dummy Top Scorer'!DC10<>"",'Dummy Top Scorer'!DC10&" ("&'Dummy Top Scorer'!DD10&")",""),"") | G14: 7
B15: =IF('Dummy Top Scorer'!DB11='Dummy Top Scorer'!DB10,"",'Dummy Top Scorer'!DB11) | C15: =IFERROR(IF(E15="",IF('Dummy Top Scorer'!DC11<>"",'Dummy Top Scorer'!DC11&" ("&'Dummy Top Scorer'!DD11&")",""),VLOOKUP(G15,E8:F17,2,FALSE)),"") -> Kwadwo Duah (Switzerland) | F15: =IF(AND(E5<>"",'Dummy Top Scorer'!DB11='Dummy Top Scorer'!DB4),IF('Dummy Top Scorer'!DC11<>"",'Dummy Top Scorer'!DC11&" ("&'Dummy Top Scorer'!DD11&")",""),"") | G15: 8
B16: =IF('Dummy Top Scorer'!DB12='Dummy Top Scorer'!DB11,"",'Dummy Top Scorer'!DB12) | C16: =IFERROR(IF(E16="",IF('Dummy Top Scorer'!DC12<>"",'Dummy Top Scorer'!DC12&" ("&'Dummy Top Scorer'!DD12&")",""),VLOOKUP(G16,E8:F17,2,FALSE)),"") -> Michel Aebischer (Switzerland) | F16: =IF(AND(E5<>"",'Dummy Top Scorer'!DB12='Dummy Top Scorer'!DB4),IF('Dummy Top Scorer'!DC12<>"",'Dummy Top Scorer'!DC12&" ("&'Dummy Top Scorer'!DD12&")",""),"") | G16: 9
B17: =IF('Dummy Top Scorer'!DB13='Dummy Top Scorer'!DB12,"",'Dummy Top Scorer'!DB13) | C17: =IFERROR(IF(E17="",IF('Dummy Top Scorer'!DC13<>"",'Dummy Top Scorer'!DC13&" ("&'Dummy Top Scorer'!DD13&")",""),VLOOKUP(G17,E8:F17,2,FALSE)),"") -> Nicolò Barella (Italy) | F17: =IF(AND(E5<>"",'Dummy Top Scorer'!DB13='Dummy Top Scorer'!DB4),IF('Dummy Top Scorer'!DC13<>"",'Dummy Top Scorer'!DC13&" ("&'Dummy Top Scorer'!DD13&")",""),"") | G17: 10
B18: =IF('Dummy Top Scorer'!DB14='Dummy Top Scorer'!DB13,"",'Dummy Top Scorer'!DB14) | C18: =IF('Dummy Top Scorer'!DC14<>"",'Dummy Top Scorer'!DC14&" ("&'Dummy Top Scorer'!DD14&")","") -> Alessandro Bastoni (Italy)
B19: =IF('Dummy Top Scorer'!DB15='Dummy Top Scorer'!DB14,"",'Dummy Top Scorer'!DB15) | C19: =IF('Dummy Top Scorer'!DC15<>"",'Dummy Top Scorer'!DC15&" ("&'Dummy Top Scorer'!DD15&")","") -> Nedim Bajrami (Albania)
B20: =IF('Dummy Top Scorer'!DB16='Dummy Top Scorer'!DB15,"",'Dummy Top Scorer'!DB16) | C20: =IF('Dummy Top Scorer'!DC16<>"",'Dummy Top Scorer'!DC16&" ("&'Dummy Top Scorer'!DD16&")","") -> Dani Carvajal (Spain)
B21: =IF('Dummy Top Scorer'!DB17='Dummy Top Scorer'!DB16,"",'Dummy Top Scorer'!DB17) | C21: =IF('Dummy Top Scorer'!DC17<>"",'Dummy Top Scorer'!DC17&" ("&'Dummy Top Scorer'!DD17&")","") -> Álvaro Morata (Spain)
B22: =IF('Dummy Top Scorer'!DB18='Dummy Top Scorer'!DB17,"",'Dummy Top Scorer'!DB18) | C22: =IF('Dummy Top Scorer'!DC18<>"",'Dummy Top Scorer'!DC18&" ("&'Dummy Top Scorer'!DD18&")","") -> Fabián Ruiz (Spain)
B23: =IF('Dummy Top Scorer'!DB19='Dummy Top Scorer'!DB18,"",'Dummy Top Scorer'!DB19) | C23: =IF('Dummy Top Scorer'!DC19<>"",'Dummy Top Scorer'!DC19&" ("&'Dummy Top Scorer'!DD19&")","")
B24: =IF('Dummy Top Scorer'!DB20='Dummy Top Scorer'!DB19,"",'Dummy Top Scorer'!DB20) | C24: =IF('Dummy Top Scorer'!DC20<>"",'Dummy Top Scorer'!DC20&" ("&'Dummy Top Scorer'!DD20&")","")
B25: =IF('Dummy Top Scorer'!DB21='Dummy Top Scorer'!DB20,"",'Dummy Top Scorer'!DB21) | C25: =IF('Dummy Top Scorer'!DC21<>"",'Dummy Top Scorer'!DC21&" ("&'Dummy Top Scorer'!DD21&")","")
B26: =IF('Dummy Top Scorer'!DB22='Dummy Top Scorer'!DB21,"",'Dummy Top Scorer'!DB22) | C26: =IF('Dummy Top Scorer'!DC22<>"",'Dummy Top Scorer'!DC22&" ("&'Dummy Top Scorer'!DD22&")","")
B27: =IF('Dummy Top Scorer'!DB23='Dummy Top Scorer'!DB22,"",'Dummy Top Scorer'!DB23) | C27: =IF('Dummy Top Scorer'!DC23<>"",'Dummy Top Scorer'!DC23&" ("&'Dummy Top Scorer'!DD23&")","")
B28: =IF('Dummy Top Scorer'!DB24='Dummy Top Scorer'!DB23,"",'Dummy Top Scorer'!DB24) | C28: =IF('Dummy Top Scorer'!DC24<>"",'Dummy Top Scorer'!DC24&" ("&'Dummy Top Scorer'!DD24&")","")
B29: =IF('Dummy Top Scorer'!DB25='Dummy Top Scorer'!DB24,"",'Dummy Top Scorer'!DB25) | C29: =IF('Dummy Top Scorer'!DC25<>"",'Dummy Top Scorer'!DC25&" ("&'Dummy Top Scorer'!DD25&")","")
... B51: =IF('Dummy Top Scorer'!DB47='Dummy Top Scorer'!DB46,"",'Dummy Top Scorer'!DB47) | C51: =IF('Dummy Top Scorer'!DC47<>"",'Dummy Top Scorer'!DC47&" ("&'Dummy Top Scorer'!DD47&")","")

Sheet Group Stages
J1: 1 | K1: 2 | L1: 3 | M1: 4 | N1: 5 | O1: 6 | P1: 7 | Q1: 8
B3: =Tournament!B3 -> EURO 2024 FIXTURES
B5: Group | C5: =Tournament!B5 -> Match # | D5: =Tournament!E5 -> Date | E5: =Tournament!F5 -> Time | F5: =Tournament!G5 -> Country | H5: =Tournament!H5 -> Score | J5: 1st | K5: 2nd | L5: 3rd | M5: 4th | N5: 5th | O5: 6th | P5: 7th | Q5: 8th
D7: Y
B8: =OFFSET(Tournament!$C$7,C8-1,0) -> A | C8: 1 | D8: =E8 -> 45457.875 | E8: =OFFSET(Tournament!$F$7,C8-1,0) -> 45457.875 | F8: =OFFSET(Tournament!$G$7,C8-1,0) -> Germany | G8: } | H8: 5 | I8: } | J8: Florian Wirtz | K8: Jamal Musiala | L8: Kai Havertz | M8: Niclas Füllkrug | N8: Emre Can
D9: =OFFSET(Tournament!$M$7,C8-1,0) -> Munich | F9: =OFFSET(Tournament!$J$7,C8-1,0) -> Scotland | G9: } | H9: 1 | I9: } | J9: Antonio Rüdiger (og) | T9: musadya
B10: =OFFSET(Tournament!$C$7,C10-1,0) -> A | C10: 2 | D10: =E10 -> 45458.625 | E10: =OFFSET(Tournament!$F$7,C10-1,0) -> 45458.625 | F10: =OFFSET(Tournament!$G$7,C10-1,0) -> Hungary | G10: } | H10: 1 | I10: } | J10: Barnabás Varga
D11: =OFFSET(Tournament!$M$7,C10-1,0) -> Cologne | F11: =OFFSET(Tournament!$J$7,C10-1,0) -> Switzerland | G11: } | H11: 3 | I11: } | J11: Kwadwo Duah | K11: Michel Aebischer | L11: Breel Embolo
B12: =OFFSET(Tournament!$C$7,C12-1,0) -> B | C12: 3 | D12: =E12 -> 45458.75 | E12: =OFFSET(Tournament!$F$7,C12-1,0) -> 45458.75 | F12: =OFFSET(Tournament!$G$7,C12-1,0) -> Spain | G12: } | H12: 3 | I12: } | J12: Álvaro Morata | K12: Fabián Ruiz | L12: Dani Carvajal
D13: =OFFSET(Tournament!$M$7,C12-1,0) -> Berlin | F13: =OFFSET(Tournament!$J$7,C12-1,0) -> Croatia | G13: } | H13: 0 | I13: }
B14: =OFFSET(Tournament!$C$7,C14-1,0) -> B | C14: 4 | D14: =E14 -> 45458.875 | E14: =OFFSET(Tournament!$F$7,C14-1,0) -> 45458.875 | F14: =OFFSET(Tournament!$G$7,C14-1,0) -> Italy | G14: } | H14: 2 | I14: } | J14: Alessandro Bastoni | K14: Nicolò Barella
D15: =OFFSET(Tournament!$M$7,C14-1,0) -> Dortmund | F15: =OFFSET(Tournament!$J$7,C14-1,0) -> Albania | G15: } | H15: 1 | I15: } | J15: Nedim Bajrami
B16: =OFFSET(Tournament!$C$7,C16-1,0) -> C | C16: 5 | D16: =E16 -> 45459.875 | E16: =OFFSET(Tournament!$F$7,C16-1,0) -> 45459.875 | F16: =OFFSET(Tournament!$G$7,C16-1,0) -> Serbia | G16: } | I16: }
D17: =OFFSET(Tournament!$M$7,C16-1,0) -> Gelsenkirchen | F17: =OFFSET(Tournament!$J$7,C16-1,0) -> England | G17: } | I17: }
B18: =OFFSET(Tournament!$C$7,C18-1,0) -> C | C18: 6 | D18: =E18 -> 45459.75 | E18: =OFFSET(Tournament!$F$7,C18-1,0) -> 45459.75 | F18: =OFFSET(Tournament!$G$7,C18-1,0) -> Slovenia | G18: } | I18: }
D19: =OFFSET(Tournament!$M$7,C18-1,0) -> Stuttgart | F19: =OFFSET(Tournament!$J$7,C18-1,0) -> Denmark | G19: } | I19: }
B20: =OFFSET(Tournament!$C$7,C20-1,0) -> D | C20: 7 | D20: =E20 -> 45459.625 | E20: =OFFSET(Tournament!$F$7,C20-1,0) -> 45459.625 | F20: =OFFSET(Tournament!$G$7,C20-1,0) -> Poland | G20: } | I20: }
D21: =OFFSET(Tournament!$M$7,C20-1,0) -> Hamburg | F21: =OFFSET(Tournament!$J$7,C20-1,0) -> Netherlands | G21: } | I21: }
B22: =OFFSET(Tournament!$C$7,C22-1,0) -> D | C22: 8 | D22: =E22 -> 45460.875 | E22: =OFFSET(Tournament!$F$7,C22-1,0) -> 45460.875 | F22: =OFFSET(Tournament!$G$7,C22-1,0) -> Austria | G22: } | I22: }
D23: =OFFSET(Tournament!$M$7,C22-1,0) -> Dusseldorf | F23: =OFFSET(Tournament!$J$7,C22-1,0) -> France | G23: } | I23: }
B24: =OFFSET(Tournament!$C$7,C24-1,0) -> E | C24: 9 | D24: =E24 -> 45460.75 | E24: =OFFSET(Tournament!$F$7,C24-1,0) -> 45460.75 | F24: =OFFSET(Tournament!$G$7,C24-1,0) -> Belgium | G24: } | I24: }
D25: =OFFSET(Tournament!$M$7,C24-1,0) -> Frankfurt | F25: =OFFSET(Tournament!$J$7,C24-1,0) -> Slovakia | G25: } | I25: }
B26: =OFFSET(Tournament!$C$7,C26-1,0) -> E | C26: 10 | D26: =E26 -> 45460.625 | E26: =OFFSET(Tournament!$F$7,C26-1,0) -> 45460.625 | F26: =OFFSET(Tournament!$G$7,C26-1,0) -> Romania | G26: } | I26: }
D27: =OFFSET(Tournament!$M$7,C26-1,0) -> Munich | F27: =OFFSET(Tournament!$J$7,C26-1,0) -> Ukraine | G27: } | I27: }
B28: =OFFSET(Tournament!$C$7,C28-1,0) -> F | C28: 11 | D28: =E28 -> 45461.75 | E28: =OFFSET(Tournament!$F$7,C28-1,0) -> 45461.75 | F28: =OFFSET(Tournament!$G$7,C28-1,0) -> Türkiye | G28: } | I28: }
D29: =OFFSET(Tournament!$M$7,C28-1,0) -> Dortmund | F29: =OFFSET(Tournament!$J$7,C28-1,0) -> Georgia | G29: } | I29: }
B30: =OFFSET(Tournament!$C$7,C30-1,0) -> F | C30: 12 | D30: =E30 -> 45461.875 | E30: =OFFSET(Tournament!$F$7,C30-1,0) -> 45461.875 | F30: =OFFSET(Tournament!$G$7,C30-1,0) -> Portugal | G30: } | I30: }
D31: =OFFSET(Tournament!$M$7,C30-1,0) -> Leipzig | F31: =OFFSET(Tournament!$J$7,C30-1,0) -> Czechia | G31: } | I31: }
B32: =OFFSET(Tournament!$C$7,C32-1,0) -> A | C32: 13 | D32: =E32 -> 45462.875 | E32: =OFFSET(Tournament!$F$7,C32-1,0) -> 45462.875 | F32: =OFFSET(Tournament!$G$7,C32-1,0) -> Scotland | G32: } | I32: }
D33: =OFFSET(Tournament!$M$7,C32-1,0) -> Cologne | F33: =OFFSET(Tournament!$J$7,C32-1,0) -> Switzerland | G33: } | I33: }
B34: =OFFSET(Tournament!$C$7,C34-1,0) -> A | C34: 14 | D34: =E34 -> 45462.75 | E34: =OFFSET(Tournament!$F$7,C34-1,0) -> 45462.75 | F34: =OFFSET(Tournament!$G$7,C34-1,0) -> Germany | G34: } | I34: }
D35: =OFFSET(Tournament!$M$7,C34-1,0) -> Stuttgart | F35: =OFFSET(Tournament!$J$7,C34-1,0) -> Hungary | G35: } | I35: }
B36: =OFFSET(Tournament!$C$7,C36-1,0) -> B | C36: 15 | D36: =E36 -> 45462.625 | E36: =OFFSET(Tournament!$F$7,C36-1,0) -> 45462.625 | F36: =OFFSET(Tournament!$G$7,C36-1,0) -> Croatia | G36: } | I36: }
D37: =OFFSET(Tournament!$M$7,C36-1,0) -> Hamburg | F37: =OFFSET(Tournament!$J$7,C36-1,0) -> Albania | G37: } | I37: }
B38: =OFFSET(Tournament!$C$7,C38-1,0) -> B | C38: 16 | D38: =E38 -> 45463.875 | E38: =OFFSET(Tournament!$F$7,C38-1,0) -> 45463.875 | F38: =OFFSET(Tournament!$G$7,C38-1,0) -> Spain | G38: } | I38: }
D39: =OFFSET(Tournament!$M$7,C38-1,0) -> Gelsenkirchen | F39: =OFFSET(Tournament!$J$7,C38-1,0) -> Italy | G39: } | I39: }
B40: =OFFSET(Tournament!$C$7,C40-1,0) -> C | C40: 17 | D40: =E40 -> 45463.75 | E40: =OFFSET(Tournament!$F$7,C40-1,0) -> 45463.75 | F40: =OFFSET(Tournament!$G$7,C40-1,0) -> Denmark | G40: } | I40: }
D41: =OFFSET(Tournament!$M$7,C40-1,0) -> Frankfurt | F41: =OFFSET(Tournament!$J$7,C40-1,0) -> England | G41: } | I41: }
B42: =OFFSET(Tournament!$C$7,C42-1,0) -> C | C42: 18 | D42: =E42 -> 45463.625 | E42: =OFFSET(Tournament!$F$7,C42-1,0) -> 45463.625 | F42: =OFFSET(Tournament!$G$7,C42-1,0) -> Slovenia | G42: } | I42: }
D43: =OFFSET(Tournament!$M$7,C42-1,0) -> Munich | F43: =OFFSET(Tournament!$J$7,C42-1,0) -> Serbia | G43: } | I43: }
...

Sheet Dummy Top Scorer
AI1: 1 | AJ1: 2 | AK1: 3 | AL1: 4 | AM1: 5 | AN1: 6 | AO1: 7 | AP1: 8 | AQ1: 9 | AR1: 10 | AS1: 11 | AT1: 12 | AU1: 13 | AV1: 14 | AW1: 15 | AX1: 16 | AZ1: 1 | BA1: 2 | BB1: 3 | BC1: 4 | BD1: 5 | BE1: 6 | BF1: 7 | BG1: 8 | BI1: 1 | BJ1: 2 | BK1: 3 | BL1: 4 | BN1: 31 | BO1: 32 | BQ1: 1 | BR1: 2 | BX1: All Players | CC1: =IF(CC2<>0,CD1+1,CD1) -> 15 | CD1: =IF(CD2<>0,CE1+1,CE1) -> 14 | CE1: =IF(CE2<>0,CF1+1,CF1) -> 13 | CF1: =IF(CF2<>0,CG1+1,CG1) -> 12 | CG1: =IF(CG2<>0,CH1+1,CH1) -> 11 | CH1: =IF(CH2<>0,CI1+1,CI1) -> 10 | CI1: =IF(CI2<>0,CJ1+1,CJ1) -> 9 | CJ1: =IF(CJ2<>0,CK1+1,CK1) -> 8 | ... CQ1: =IF(CQ2<>0,CR1+1,CR1) -> 1 | CR1: 0
A2: 1 | B2: ='Player Database'!C5 -> Germany | C2: ='Player Database'!D5 -> Scotland | D2: ='Player Database'!E5 -> Hungary | E2: ='Player Database'!F5 -> Switzerland | F2: ='Player Database'!G5 -> Italy | G2: ='Player Database'!H5 -> Albania | H2: ='Player Database'!I5 -> Spain | I2: ='Player Database'!J5 -> Croatia | ... Y2: ='Player Database'!Z5 -> Georgia | AI2: ='Knock Out Stages'!$F7 -> Group A Winner | AJ2: ='Knock Out Stages'!$F8 -> Group C Runner Up | AK2: ='Knock Out Stages'!$F9 -> Group A Runner Up | AL2: ='Knock Out Stages'!$F10 -> Group B Runner Up | AM2: ='Knock Out Stages'!$F11 -> Group B Winner | AN2: ='Knock Out Stages'!$F12 -> Group A/D/E/F 3rd Place | AO2: ='Knock Out Stages'!$F13 -> Group C Winner | AP2: ='Knock Out Stages'!$F14 -> Group D/E/F 3rd Place | AQ2: ='Knock Out Stages'!$F15 -> Group F Winner | AR2: ='Knock Out Stages'!$F16 -> Group A/B/C 3rd Place | AS2: ='Knock Out Stages'!$F17 -> Group D Runner Up | AT2: ='Knock Out Stages'!$F18 -> Group E Runner Up | AU2: ='Knock Out Stages'!$F19 -> Group E Winner | AV2: ='Knock Out Stages'!$F20 -> Group A/B/C/D 3rd Place | AW2: ='Knock Out Stages'!$F21 -> Group D Winner | AX2: ='Knock Out Stages'!$F22 -> Group F Runner Up | AZ2: ='Knock Out Stages'!$F26 -> Match 39 Winner | BA2: ='Knock Out Stages'!$F27 -> Match 37 Winner | BB2: ='Knock Out Stages'!$F28 -> Match 41 Winner | BC2: ='Knock Out Stages'!$F29 -> Match 42 Winner | BD2: ='Knock Out Stages'!$F30 -> Match 43 Winner | BE2: ='Knock Out Stages'!$F31 -> Match 44 Winner | BF2: ='Knock Out Stages'!$F32 -> Match 40 Winner | BG2: ='Knock Out Stages'!$F33 -> Match 38 Winner | BI2: ='Knock Out Stages'!$F37 -> Match 45 Winner | BJ2: ='Knock Out Stages'!$F38 -> Match 46 Winner | BK2: ='Knock Out Stages'!$F39 -> Match 47 Winner | BL2: ='Knock Out Stages'!$F40 -> Match 48 Winner | BN2: ='Knock Out Stages'!#REF! -> #REF! | BO2: ='Knock Out Stages'!#REF! -> #REF! | BQ2: ='Knock Out Stages'!$F44 -> Match 49 Winner | BR2: ='Knock Out Stages'!$F45 -> Match 50 Winner | CC2: =COUNTA(CC4:CC45) -> 42 | CD2: =COUNTA(CD4:CD45) -> 42 | CE2: =COUNTA(CE4:CE45) -> 42 | CF2: =COUNTA(CF4:CF45) -> 42 | CG2: =COUNTA(CG4:CG45) -> 42 | CH2: =COUNTA(CH4:CH45) -> 42 | CI2: =COUNTA(CI4:CI45) -> 42 | CJ2: =COUNTA(CJ4:CJ45) -> 42 | ... CQ2: =COUNTA(CQ4:CQ45) -> 42
A3: 1 | B3: ='Player Database'!C6 -> Manuel Neuer | C3: ='Player Database'!D6 -> Angus Gunn | D3: ='Player Database'!E6 -> Péter Gulácsi | E3: ='Player Database'!F6 -> Yann Sommer | F3: ='Player Database'!G6 -> Gianluigi Donnarumma | G3: ='Player Database'!H6 -> Etrit Berisha | H3: ='Player Database'!I6 -> David Raya | I3: ='Player Database'!J6 -> Dominik Livaković | ... Y3: ='Player Database'!Z6 -> Giorgi Loria | AI3: =IFERROR(INDEX($B$3:$AG$28,$A3,MATCH(AI$2,$B$2:$AG$2,0)),"") | AJ3: =IFERROR(INDEX($B$3:$AG$28,$A3,MATCH(AJ$2,$B$2:$AG$2,0)),"") | AK3: =IFERROR(INDEX($B$3:$AG$28,$A3,MATCH(AK$2,$B$2:$AG$2,0)),"") | AL3: =IFERROR(INDEX($B$3:$AG$28,$A3,MATCH(AL$2,$B$2:$AG$2,0)),"") | AM3: =IFERROR(INDEX($B$3:$AG$28,$A3,MATCH(AM$2,$B$2:$AG$2,0)),"") | AN3: =IFERROR(INDEX($B$3:$AG$28,$A3,MATCH(AN$2,$B$2:$AG$2,0)),"") | AO3: =IFERROR(INDEX($B$3:$AG$28,$A3,MATCH(AO$2,$B$2:$AG$2,0)),"") | AP3: =IFERROR(INDEX($B$3:$AG$28,$A3,MATCH(AP$2,$B$2:$AG$2,0)),"") | ... AX3: =IFERROR(INDEX($B$3:$AG$28,$A3,MATCH(AX$2,$B$2:$AG$2,0)),"") | AZ3: =IFERROR(INDEX($B$3:$AG$28,$A3,MATCH(AZ$2,$B$2:$AG$2,0)),"") | BA3: =IFERROR(INDEX($B$3:$AG$28,$A3,MATCH(BA$2,$B$2:$AG$2,0)),"") | BB3: =IFERROR(INDEX($B$3:$AG$28,$A3,MATCH(BB$2,$B$2:$AG$2,0)),"") | BC3: =IFERROR(INDEX($B$3:$AG$28,$A3,MATCH(BC$2,$B$2:$AG$2,0)),"") | BD3: =IFERROR(INDEX($B$3:$AG$28,$A3,MATCH(BD$2,$B$2:$AG$2,0)),"") | BE3: =IFERROR(INDEX($B$3:$AG$28,$A3,MATCH(BE$2,$B$2:$AG$2,0)),"") | BF3: =IFERROR(INDEX($B$3:$AG$28,$A3,MATCH(BF$2,$B$2:$AG$2,0)),"") | BG3: =IFERROR(INDEX($B$3:$AG$28,$A3,MATCH(BG$2,$B$2:$AG$2,0)),"") | BI3: =IFERROR(INDEX($B$3:$AG$28,$A3,MATCH(BI$2,$B$2:$AG$2,0)),"") | BJ3: =IFERROR(INDEX($B$3:$AG$28,$A3,MATCH(BJ$2,$B$2:$AG$2,0)),"") | BK3: =IFERROR(INDEX($B$3:$AG$28,$A3,MATCH(BK$2,$B$2:$AG$2,0)),"") | BL3: =IFERROR(INDEX($B$3:$AG$28,$A3,MATCH(BL$2,$B$2:$AG$2,0)),"") | BN3: =IFERROR(INDEX($B$3:$AG$28,$A3,MATCH(BN$2,$B$2:$AG$2,0)),"") | BO3: =IFERROR(INDEX($B$3:$AG$28,$A3,MATCH(BO$2,$B$2:$AG$2,0)),"") | BQ3: =IFERROR(INDEX($B$3:$AG$28,$A3,MATCH(BQ$2,$B$2:$AG$2,0)),"") | BR3: =IFERROR(INDEX($B$3:$AG$28,$A3,MATCH(BR$2,$B$2:$AG$2,0)),"") | BT3: =B2 -> Germany | BU3: 1 | BW3: 1 | BX3: =B3 -> Manuel Neuer | BY3: =COUNTIF('Group Stages'!$J$8:$Q$80,BX3)+COUNTIF('Knock Out Stages'!$K$7:$R$45,BX3) -> 0 | CA3: ='Player Database'!C6 -> Manuel Neuer | CC3: 1 | CD3: 2 | CE3: 3 | CF3: 4 | CG3: 5 | CH3: 6 | CI3: 7 | CJ3: 8 | CK3: 9 | CL3: 10 | CM3: 11 | CN3: 12 | CO3: 13 | CP3: 14 | CQ3: 15 | CW3: 0
A4: 2 | B4: ='Player Database'!C7 -> Antonio Rüdiger | C4: ='Player Database'!D7 -> Anthony Ralston | D4: ='Player Database'!E7 -> Ádám Lang | E4: ='Player Database'!F7 -> Leonidas Stergiou | F4: ='Player Database'!G7 -> Giovanni Di Lorenzo | G4: ='Player Database'!H7 -> Iván Balliu | H4: ='Player Database'!I7 -> Dani Carvajal | I4: ='Player Database'!J7 -> Josip Stanišić | ... Y4: ='Player Database'!Z7 -> Otar Kakabadze | AI4: =IFERROR(INDEX($B$3:$AG$28,$A4,MATCH(AI$2,$B$2:$AG$2,0)),"") | AJ4: =IFERROR(INDEX($B$3:$AG$28,$A4,MATCH(AJ$2,$B$2:$AG$2,0)),"") | AK4: =IFERROR(INDEX($B$3:$AG$28,$A4,MATCH(AK$2,$B$2:$AG$2,0)),"") | AL4: =IFERROR(INDEX($B$3:$AG$28,$A4,MATCH(AL$2,$B$2:$AG$2,0)),"") | AM4: =IFERROR(INDEX($B$3:$AG$28,$A4,MATCH(AM$2,$B$2:$AG$2,0)),"") | AN4: =IFERROR(INDEX($B$3:$AG$28,$A4,MATCH(AN$2,$B$2:$AG$2,0)),"") | AO4: =IFERROR(INDEX($B$3:$AG$28,$A4,MATCH(AO$2,$B$2:$AG$2,0)),"") | AP4: =IFERROR(INDEX($B$3:$AG$28,$A4,MATCH(AP$2,$B$2:$AG$2,0)),"") | ... AX4: =IFERROR(INDEX($B$3:$AG$28,$A4,MATCH(AX$2,$B$2:$AG$2,0)),"") | AZ4: =IFERROR(INDEX($B$3:$AG$28,$A4,MATCH(AZ$2,$B$2:$AG$2,0)),"") | BA4: =IFERROR(INDEX($B$3:$AG$28,$A4,MATCH(BA$2,$B$2:$AG$2,0)),"") | BB4: =IFERROR(INDEX($B$3:$AG$28,$A4,MATCH(BB$2,$B$2:$AG$2,0)),"") | BC4: =IFERROR(INDEX($B$3:$AG$28,$A4,MATCH(BC$2,$B$2:$AG$2,0)),"") | BD4: =IFERROR(INDEX($B$3:$AG$28,$A4,MATCH(BD$2,$B$2:$AG$2,0)),"") | BE4: =IFERROR(INDEX($B$3:$AG$28,$A4,MATCH(BE$2,$B$2:$AG$2,0)),"") | BF4: =IFERROR(INDEX($B$3:$AG$28,$A4,MATCH(BF$2,$B$2:$AG$2,0)),"") | BG4: =IFERROR(INDEX($B$3:$AG$28,$A4,MATCH(BG$2,$B$2:$AG$2,0)),"") | BI4: =IFERROR(INDEX($B$3:$AG$28,$A4,MATCH(BI$2,$B$2:$AG$2,0)),"") | BJ4: =IFERROR(INDEX($B$3:$AG$28,$A4,MATCH(BJ$2,$B$2:$AG$2,0)),"") | BK4: =IFERROR(INDEX($B$3:$AG$28,$A4,MATCH(BK$2,$B$2:$AG$2,0)),"") | BL4: =IFERROR(INDEX($B$3:$AG$28,$A4,MATCH(BL$2,$B$2:$AG$2,0)),"") | BN4: =IFERROR(INDEX($B$3:$AG$28,$A4,MATCH(BN$2,$B$2:$AG$2,0)),"") | BO4: =IFERROR(INDEX($B$3:$AG$28,$A4,MATCH(BO$2,$B$2:$AG$2,0)),"") | BQ4: =IFERROR(INDEX($B$3:$AG$28,$A4,MATCH(BQ$2,$B$2:$AG$2,0)),"") | BR4: =IFERROR(INDEX($B$3:$AG$28,$A4,MATCH(BR$2,$B$2:$AG$2,0)),"") | BT4: =BT3 -> Germany | BU4: =BU3+1 -> 2 | BW4: 1 | BX4: =B4 -> Antonio Rüdiger | BY4: =COUNTIF('Group Stages'!$J$8:$Q$80,BX4)+COUNTIF('Knock Out Stages'!$K$7:$R$45,BX4) -> 0 | CA4: ='Player Database'!C7 -> Antonio Rüdiger | CB4: 1 | CC4: {=IFERROR(INDEX($BX$3:$BX$810, SMALL(IF(COUNTIF(CC$3, $BY$3:$BY$810), ROW($BX$3:$BX$810)-MIN(ROW($BX$3:$BX$810))+1), $CB4), 0),"")} -> Kai Havertz | CD4: {=IFERROR(INDEX($BX$3:$BX$810, SMALL(IF(COUNTIF(CD$3, $BY$3:$BY$810), ROW($BX$3:$BX$810)-MIN(ROW($BX$3:$BX$810))+1), $CB4), 0),"")} | CE4: {=IFERROR(INDEX($BX$3:$BX$810, SMALL(IF(COUNTIF(CE$3, $BY$3:$BY$810), ROW($BX$3:$BX$810)-MIN(ROW($BX$3:$BX$810))+1), $CB4), 0),"")} | CF4: {=IFERROR(INDEX($BX$3:$BX$810, SMALL(IF(COUNTIF(CF$3, $BY$3:$BY$810), ROW($BX$3:$BX$810)-MIN(ROW($BX$3:$BX$810))+1), $CB4), 0),"")} | CG4: {=IFERROR(INDEX($BX$3:$BX$810, SMALL(IF(COUNTIF(CG$3, $BY$3:$BY$810), ROW($BX$3:$BX$810)-MIN(ROW($BX$3:$BX$810))+1), $CB4), 0),"")} | CH4: {=IFERROR(INDEX($BX$3:$BX$810, SMALL(IF(COUNTIF(CH$3, $BY$3:$BY$810), ROW($BX$3:$BX$810)-MIN(ROW($BX$3:$BX$810))+1), $CB4), 0),"")} | CI4: {=IFERROR(INDEX($BX$3:$BX$810, SMALL(IF(COUNTIF(CI$3, $BY$3:$BY$810), ROW($BX$3:$BX$810)-MIN(ROW($BX$3:$BX$810))+1), $CB4), 0),"")} | CJ4: {=IFERROR(INDEX($BX$3:$BX$810, SMALL(IF(COUNTIF(CJ$3, $BY$3:$BY$810), ROW($BX$3:$BX$810)-MIN(ROW($BX$3:$BX$810))+1), $CB4), 0),"")} | ... CQ4: {=IFERROR(INDEX($BX$3:$BX$810, SMALL(IF(COUNTIF(CQ$3, $BY$3:$BY$810), ROW($BX$3:$BX$810)-MIN(ROW($BX$3:$BX$810))+1), $CB4), 0),"")} | CS4: 1 | CT4: 1 | CV4: =CQ4 | CW4: =IF(CV4<>"",CW3+1,CW3) -> 0 | CZ4: 1 | DA4: =IFERROR(INDEX($CV$4:$CV$633,MATCH(CZ4,$CW$4:$CW$633,0),0),"") -> Kai Havertz | DB4: =IFERROR(VLOOKUP(DA4,$BX$3:$BY$810,2,FALSE),"") -> 1 | DC4: =IFERROR(VLOOKUP(DA4,$BX$3:$CA$810,4,FALSE),"") -> Kai Havertz | DD4: =IFERROR(INDEX($BT$3:$BT$810,MATCH(DA4,$BX$3:$BX$810,0),0),"") -> Germany
A5: 3 | B5: ='Player Database'!C8 -> David Raum | C5: ='Player Database'!D8 -> Andrew Robertson | D5: ='Player Database'!E8 -> Botond Balogh | E5: ='Player Database'!F8 -> Silvan Widmer | F5: ='Player Database'!G8 -> Federico Dimarco | G5: ='Player Database'!H8 -> Mario Mitaj | H5: ='Player Database'!I8 -> Robin Le Normand | I5: ='Player Database'!J8 -> Marin Pongračić | ... Y5: ='Player Database'!Z8 -> Lasha Dvali | AI5: =IFERROR(INDEX($B$3:$AG$28,$A5,MATCH(AI$2,$B$2:$AG$2,0)),"") | AJ5: =IFERROR(INDEX($B$3:$AG$28,$A5,MATCH(AJ$2,$B$2:$AG$2,0)),"") | AK5: =IFERROR(INDEX($B$3:$AG$28,$A5,MATCH(AK$2,$B$2:$AG$2,0)),"") | AL5: =IFERROR(INDEX($B$3:$AG$28,$A5,MATCH(AL$2,$B$2:$AG$2,0)),"") | AM5: =IFERROR(INDEX($B$3:$AG$28,$A5,MATCH(AM$2,$B$2:$AG$2,0)),"") | AN5: =IFERROR(INDEX($B$3:$AG$28,$A5,MATCH(AN$2,$B$2:$AG$2,0)),"") | AO5: =IFERROR(INDEX($B$3:$AG$28,$A5,MATCH(AO$2,$B$2:$AG$2,0)),"") | AP5: =IFERROR(INDEX($B$3:$AG$28,$A5,MATCH(AP$2,$B$2:$AG$2,0)),"") | ... AX5: =IFERROR(INDEX($B$3:$AG$28,$A5,MATCH(AX$2,$B$2:$AG$2,0)),"") | AZ5: =IFERROR(INDEX($B$3:$AG$28,$A5,MATCH(AZ$2,$B$2:$AG$2,0)),"") | BA5: =IFERROR(INDEX($B$3:$AG$28,$A5,MATCH(BA$2,$B$2:$AG$2,0)),"") | BB5: =IFERROR(INDEX($B$3:$AG$28,$A5,MATCH(BB$2,$B$2:$AG$2,0)),"") | BC5: =IFERROR(INDEX($B$3:$AG$28,$A5,MATCH(BC$2,$B$2:$AG$2,0)),"") | BD5: =IFERROR(INDEX($B$3:$AG$28,$A5,MATCH(BD$2,$B$2:$AG$2,0)),"") | BE5: =IFERROR(INDEX($B$3:$AG$28,$A5,MATCH(BE$2,$B$2:$AG$2,0)),"") | BF5: =IFERROR(INDEX($B$3:$AG$28,$A5,MATCH(BF$2,$B$2:$AG$2,0)),"") | BG5: =IFERROR(INDEX($B$3:$AG$28,$A5,MATCH(BG$2,$B$2:$AG$2,0)),"") | BI5: =IFERROR(INDEX($B$3:$AG$28,$A5,MATCH(BI$2,$B$2:$AG$2,0)),"") | BJ5: =IFERROR(INDEX($B$3:$AG$28,$A5,MATCH(BJ$2,$B$2:$AG$2,0)),"") | BK5: =IFERROR(INDEX($B$3:$AG$28,$A5,MATCH(BK$2,$B$2:$AG$2,0)),"") | BL5: =IFERROR(INDEX($B$3:$AG$28,$A5,MATCH(BL$2,$B$2:$AG$2,0)),"") | BN5: =IFERROR(INDEX($B$3:$AG$28,$A5,MATCH(BN$2,$B$2:$AG$2,0)),"") | BO5: =IFERROR(INDEX($B$3:$AG$28,$A5,MATCH(BO$2,$B$2:$AG$2,0)),"") | BQ5: =IFERROR(INDEX($B$3:$AG$28,$A5,MATCH(BQ$2,$B$2:$AG$2,0)),"") | BR5: =IFERROR(INDEX($B$3:$AG$28,$A5,MATCH(BR$2,$B$2:$AG$2,0)),"") | BT5: =BT4 -> Germany | BU5: =BU4+1 -> 3 | BW5: 1 | BX5: =B5 -> David Raum | BY5: =COUNTIF('Group Stages'!$J$8:$Q$80,BX5)+COUNTIF('Knock Out Stages'!$K$7:$R$45,BX5) -> 0 | CA5: ='Player Database'!C8 -> David Raum | CB5: 2 | CC5: {=IFERROR(INDEX($BX$3:$BX$810, SMALL(IF(COUNTIF(CC$3, $BY$3:$BY$810), ROW($BX$3:$BX$810)-MIN(ROW($BX$3:$BX$810))+1), $CB5), 0),"")} -> Niclas Füllkrug | CD5: {=IFERROR(INDEX($BX$3:$BX$810, SMALL(IF(COUNTIF(CD$3, $BY$3:$BY$810), ROW($BX$3:$BX$810)-MIN(ROW($BX$3:$BX$810))+1), $CB5), 0),"")} | CE5: {=IFERROR(INDEX($BX$3:$BX$810, SMALL(IF(COUNTIF(CE$3, $BY$3:$BY$810), ROW($BX$3:$BX$810)-MIN(ROW($BX$3:$BX$810))+1), $CB5), 0),"")} | CF5: {=IFERROR(INDEX($BX$3:$BX$810, SMALL(IF(COUNTIF(CF$3, $BY$3:$BY$810), ROW($BX$3:$BX$810)-MIN(ROW($BX$3:$BX$810))+1), $CB5), 0),"")} | CG5: {=IFERROR(INDEX($BX$3:$BX$810, SMALL(IF(COUNTIF(CG$3, $BY$3:$BY$810), ROW($BX$3:$BX$810)-MIN(ROW($BX$3:$BX$810))+1), $CB5), 0),"")} | CH5: {=IFERROR(INDEX($BX$3:$BX$810, SMALL(IF(COUNTIF(CH$3, $BY$3:$BY$810), ROW($BX$3:$BX$810)-MIN(ROW($BX$3:$BX$810))+1), $CB5), 0),"")} | CI5: {=IFERROR(INDEX($BX$3:$BX$810, SMALL(IF(COUNTIF(CI$3, $BY$3:$BY$810), ROW($BX$3:$BX$810)-MIN(ROW($BX$3:$BX$810))+1), $CB5), 0),"")} | CJ5: {=IFERROR(INDEX($BX$3:$BX$810, SMALL(IF(COUNTIF(CJ$3, $BY$3:$BY$810), ROW($BX$3:$BX$810)-MIN(ROW($BX$3:$BX$810))+1), $CB5), 0),"")} | ... CQ5: {=IFERROR(INDEX($BX$3:$BX$810, SMALL(IF(COUNTIF(CQ$3, $BY$3:$BY$810), ROW($BX$3:$BX$810)-MIN(ROW($BX$3:$BX$810))+1), $CB5), 0),"")} | CS5: 2 | CT5: 1 | CV5: =CQ5 | CW5: =IF(CV5<>"",CW4+1,CW4) -> 0 | CZ5: 2 | DA5: =IFERROR(INDEX($CV$4:$CV$633,MATCH(CZ5,$CW$4:$CW$633,0),0),"") -> Niclas Füllkrug | DB5: =IFERROR(VLOOKUP(DA5,$BX$3:$BY$810,2,FALSE),"") -> 1 | DC5: =IFERROR(VLOOKUP(DA5,$BX$3:$CA$810,4,FALSE),"") -> Niclas Füllkrug | DD5: =IFERROR(INDEX($BT$3:$BT$810,MATCH(DA5,$BX$3:$BX$810,0),0),"") -> Germany
A6: 4 | B6: ='Player Database'!C9 -> Jonathan Tah | C6: ='Player Database'!D9 -> Scott McTominay | D6: ='Player Database'!E9 -> Attila Szalai | E6: ='Player Database'!F9 -> Nico Elvedi | F6: ='Player Database'!G9 -> Alessandro Buongiorno | G6: ='Player Database'!H9 -> Elseid Hysaj | H6: ='Player Database'!I9 -> Nacho | I6: ='Player Database'!J9 -> Joško Gvardiol | ... Y6: ='Player Database'!Z9 -> Guram Kashia | AI6: =IFERROR(INDEX($B$3:$AG$28,$A6,MATCH(AI$2,$B$2:$AG$2,0)),"") | AJ6: =IFERROR(INDEX($B$3:$AG$28,$A6,MATCH(AJ$2,$B$2:$AG$2,0)),"") | AK6: =IFERROR(INDEX($B$3:$AG$28,$A6,MATCH(AK$2,$B$2:$AG$2,0)),"") | AL6: =IFERROR(INDEX($B$3:$AG$28,$A6,MATCH(AL$2,$B$2:$AG$2,0)),"") | AM6: =IFERROR(INDEX($B$3:$AG$28,$A6,MATCH(AM$2,$B$2:$AG$2,0)),"") | AN6: =IFERROR(INDEX($B$3:$AG$28,$A6,MATCH(AN$2,$B$2:$AG$2,0)),"") | AO6: =IFERROR(INDEX($B$3:$AG$28,$A6,MATCH(AO$2,$B$2:$AG$2,0)),"") | AP6: =IFERROR(INDEX($B$3:$AG$28,$A6,MATCH(AP$2,$B$2:$AG$2,0)),"") | ... AX6: =IFERROR(INDEX($B$3:$AG$28,$A6,MATCH(AX$2,$B$2:$AG$2,0)),"") | AZ6: =IFERROR(INDEX($B$3:$AG$28,$A6,MATCH(AZ$2,$B$2:$AG$2,0)),"") | BA6: =IFERROR(INDEX($B$3:$AG$28,$A6,MATCH(BA$2,$B$2:$AG$2,0)),"") | BB6: =IFERROR(INDEX($B$3:$AG$28,$A6,MATCH(BB$2,$B$2:$AG$2,0)),"") | BC6: =IFERROR(INDEX($B$3:$AG$28,$A6,MATCH(BC$2,$B$2:$AG$2,0)),"") | BD6: =IFERROR(INDEX($B$3:$AG$28,$A6,MATCH(BD$2,$B$2:$AG$2,0)),"") | BE6: =IFERROR(INDEX($B$3:$AG$28,$A6,MATCH(BE$2,$B$2:$AG$2,0)),"") | BF6: =IFERROR(INDEX($B$3:$AG$28,$A6,MATCH(BF$2,$B$2:$AG$2,0)),"") | BG6: =IFERROR(INDEX($B$3:$AG$28,$A6,MATCH(BG$2,$B$2:$AG$2,0)),"") | BI6: =IFERROR(INDEX($B$3:$AG$28,$A6,MATCH(BI$2,$B$2:$AG$2,0)),"") | BJ6: =IFERROR(INDEX($B$3:$AG$28,$A6,MATCH(BJ$2,$B$2:$AG$2,0)),"") | BK6: =IFERROR(INDEX($B$3:$AG$28,$A6,MATCH(BK$2,$B$2:$AG$2,0)),"") | BL6: =IFERROR(INDEX($B$3:$AG$28,$A6,MATCH(BL$2,$B$2:$AG$2,0)),"") | BN6: =IFERROR(INDEX($B$3:$AG$28,$A6,MATCH(BN$2,$B$2:$AG$2,0)),"") | BO6: =IFERROR(INDEX($B$3:$AG$28,$A6,MATCH(BO$2,$B$2:$AG$2,0)),"") | BQ6: =IFERROR(INDEX($B$3:$AG$28,$A6,MATCH(BQ$2,$B$2:$AG$2,0)),"") | BR6: =IFERROR(INDEX($B$3:$AG$28,$A6,MATCH(BR$2,$B$2:$AG$2,0)),"") | BT6: =BT5 -> Germany | BU6: =BU5+1 -> 4 | BW6: 1 | BX6: =B6 -> Jonathan Tah | BY6: =COUNTIF('Group Stages'!$J$8:$Q$80,BX6)+COUNTIF('Knock Out Stages'!$K$7:$R$45,BX6) -> 0 | CA6: ='Player Database'!C9 -> Jonathan Tah | CB6: 3 | CC6: {=IFERROR(INDEX($BX$3:$BX$810, SMALL(IF(COUNTIF(CC$3, $BY$3:$BY$810), ROW($BX$3:$BX$810)-MIN(ROW($BX$3:$BX$810))+1), $CB6), 0),"")} -> Jamal Musiala | CD6: {=IFERROR(INDEX($BX$3:$BX$810, SMALL(IF(COUNTIF(CD$3, $BY$3:$BY$810), ROW($BX$3:$BX$810)-MIN(ROW($BX$3:$BX$810))+1), $CB6), 0),"")} | CE6: {=IFERROR(INDEX($BX$3:$BX$810, SMALL(IF(COUNTIF(CE$3, $BY$3:$BY$810), ROW($BX$3:$BX$810)-MIN(ROW($BX$3:$BX$810))+1), $CB6), 0),"")} | CF6: {=IFERROR(INDEX($BX$3:$BX$810, SMALL(IF(COUNTIF(CF$3, $BY$3:$BY$810), ROW($BX$3:$BX$810)-MIN(ROW($BX$3:$BX$810))+1), $CB6), 0),"")} | CG6: {=IFERROR(INDEX($BX$3:$BX$810, SMALL(IF(COUNTIF(CG$3, $BY$3:$BY$810), ROW($BX$3:$BX$810)-MIN(ROW($BX$3:$BX$810))+1), $CB6), 0),"")} | CH6: {=IFERROR(INDEX($BX$3:$BX$810, SMALL(IF(COUNTIF(CH$3, $BY$3:$BY$810), ROW($BX$3:$BX$810)-MIN(ROW($BX$3:$BX$810))+1), $CB6), 0),"")} | CI6: {=IFERROR(INDEX($BX$3:$BX$810, SMALL(IF(COUNTIF(CI$3, $BY$3:$BY$810), ROW($BX$3:$BX$810)-MIN(ROW($BX$3:$BX$810))+1), $CB6), 0),"")} | CJ6: {=IFERROR(INDEX($BX$3:$BX$810, SMALL(IF(COUNTIF(CJ$3, $BY$3:$BY$810), ROW($BX$3:$BX$810)-MIN(ROW($BX$3:$BX$810))+1), $CB6), 0),"")} | ... CQ6: {=IFERROR(INDEX($BX$3:$BX$810, SMALL(IF(COUNTIF(CQ$3, $BY$3:$BY$810), ROW($BX$3:$BX$810)-MIN(ROW($BX$3:$BX$810))+1), $CB6), 0),"")} | CS6: 3 | CT6: 1 | CV6: =CQ6 | CW6: =IF(CV6<>"",CW5+1,CW5) -> 0 | CZ6: 3 | DA6: =IFERROR(INDEX($CV$4:$CV$633,MATCH(CZ6,$CW$4:$CW$633,0),0),"") -> Jamal Musiala | DB6: =IFERROR(VLOOKUP(DA6,$BX$3:$BY$810,2,FALSE),"") -> 1 | DC6: =IFERROR(VLOOKUP(DA6,$BX$3:$CA$810,4,FALSE),"") -> Jamal Musiala | DD6: =IFERROR(INDEX($BT$3:$BT$810,MATCH(DA6,$BX$3:$BX$810,0),0),"") -> Germany
A7: 5 | B7: ='Player Database'!C10 -> Pascal Groß | C7: ='Player Database'!D10 -> Grant Hanley | D7: ='Player Database'!E10 -> Attila Fiola | E7: ='Player Database'!F10 -> Manuel Akanji | F7: ='Player Database'!G10 -> Riccardo Calafiori | G7: ='Player Database'!H10 -> Arlind Ajeti | H7: ='Player Database'!I10 -> Daniel Vivian | I7: ='Player Database'!J10 -> Martin Erlić | ... Y7: ='Player Database'!Z10 -> Solomon Kvirkvelia | AI7: =IFERROR(INDEX($B$3:$AG$28,$A7,MATCH(AI$2,$B$2:$AG$2,0)),"") | AJ7: =IFERROR(INDEX($B$3:$AG$28,$A7,MATCH(AJ$2,$B$2:$AG$2,0)),"") | AK7: =IFERROR(INDEX($B$3:$AG$28,$A7,MATCH(AK$2,$B$2:$AG$2,0)),"") | AL7: =IFERROR(INDEX($B$3:$AG$28,$A7,MATCH(AL$2,$B$2:$AG$2,0)),"") | AM7: =IFERROR(INDEX($B$3:$AG$28,$A7,MATCH(AM$2,$B$2:$AG$2,0)),"") | AN7: =IFERROR(INDEX($B$3:$AG$28,$A7,MATCH(AN$2,$B$2:$AG$2,0)),"") | AO7: =IFERROR(INDEX($B$3:$AG$28,$A7,MATCH(AO$2,$B$2:$AG$2,0)),"") | AP7: =IFERROR(INDEX($B$3:$AG$28,$A7,MATCH(AP$2,$B$2:$AG$2,0)),"") | ... AX7: =IFERROR(INDEX($B$3:$AG$28,$A7,MATCH(AX$2,$B$2:$AG$2,0)),"") | AZ7: =IFERROR(INDEX($B$3:$AG$28,$A7,MATCH(AZ$2,$B$2:$AG$2,0)),"") | BA7: =IFERROR(INDEX($B$3:$AG$28,$A7,MATCH(BA$2,$B$2:$AG$2,0)),"") | BB7: =IFERROR(INDEX($B$3:$AG$28,$A7,MATCH(BB$2,$B$2:$AG$2,0)),"") | BC7: =IFERROR(INDEX($B$3:$AG$28,$A7,MATCH(BC$2,$B$2:$AG$2,0)),"") | BD7: =IFERROR(INDEX($B$3:$AG$28,$A7,MATCH(BD$2,$B$2:$AG$2,0)),"") | BE7: =IFERROR(INDEX($B$3:$AG$28,$A7,MATCH(BE$2,$B$2:$AG$2,0)),"") | BF7: =IFERROR(INDEX($B$3:$AG$28,$A7,MATCH(BF$2,$B$2:$AG$2,0)),"") | BG7: =IFERROR(INDEX($B$3:$AG$28,$A7,MATCH(BG$2,$B$2:$AG$2,0)),"") | BI7: =IFERROR(INDEX($B$3:$AG$28,$A7,MATCH(BI$2,$B$2:$AG$2,0)),"") | BJ7: =IFERROR(INDEX($B$3:$AG$28,$A7,MATCH(BJ$2,$B$2:$AG$2,0)),"") | BK7: =IFERROR(INDEX($B$3:$AG$28,$A7,MATCH(BK$2,$B$2:$AG$2,0)),"") | BL7: =IFERROR(INDEX($B$3:$AG$28,$A7,MATCH(BL$2,$B$2:$AG$2,0)),"") | BN7: =IFERROR(INDEX($B$3:$AG$28,$A7,MATCH(BN$2,$B$2:$AG$2,0)),"") | BO7: =IFERROR(INDEX($B$3:$AG$28,$A7,MATCH(BO$2,$B$2:$AG$2,0)),"") | BQ7: =IFERROR(INDEX($B$3:$AG$28,$A7,MATCH(BQ$2,$B$2:$AG$2,0)),"") | BR7: =IFERROR(INDEX($B$3:$AG$28,$A7,MATCH(BR$2,$B$2:$AG$2,0)),"") | BT7: =BT6 -> Germany | BU7: =BU6+1 -> 5 | BW7: 1 | BX7: =B7 -> Pascal Groß | BY7: =COUNTIF('Group Stages'!$J$8:$Q$80,BX7)+COUNTIF('Knock Out Stages'!$K$7:$R$45,BX7) -> 0 | CA7: ='Player Database'!C10 -> Pascal Groß | CB7: 4 | CC7: {=IFERROR(INDEX($BX$3:$BX$810, SMALL(IF(COUNTIF(CC$3, $BY$3:$BY$810), ROW($BX$3:$BX$810)-MIN(ROW($BX$3:$BX$810))+1), $CB7), 0),"")} -> Florian Wirtz | CD7: {=IFERROR(INDEX($BX$3:$BX$810, SMALL(IF(COUNTIF(CD$3, $BY$3:$BY$810), ROW($BX$3:$BX$810)-MIN(ROW($BX$3:$BX$810))+1), $CB7), 0),"")} | CE7: {=IFERROR(INDEX($BX$3:$BX$810, SMALL(IF(COUNTIF(CE$3, $BY$3:$BY$810), ROW($BX$3:$BX$810)-MIN(ROW($BX$3:$BX$810))+1), $CB7), 0),"")} | CF7: {=IFERROR(INDEX($BX$3:$BX$810, SMALL(IF(COUNTIF(CF$3, $BY$3:$BY$810), ROW($BX$3:$BX$810)-MIN(ROW($BX$3:$BX$810))+1), $CB7), 0),"")} | CG7: {=IFERROR(INDEX($BX$3:$BX$810, SMALL(IF(COUNTIF(CG$3, $BY$3:$BY$810), ROW($BX$3:$BX$810)-MIN(ROW($BX$3:$BX$810))+1), $CB7), 0),"")} | CH7: {=IFERROR(INDEX($BX$3:$BX$810, SMALL(IF(COUNTIF(CH$3, $BY$3:$BY$810), ROW($BX$3:$BX$810)-MIN(ROW($BX$3:$BX$810))+1), $CB7), 0),"")} | CI7: {=IFERROR(INDEX($BX$3:$BX$810, SMALL(IF(COUNTIF(CI$3, $BY$3:$BY$810), ROW($BX$3:$BX$810)-MIN(ROW($BX$3:$BX$810))+1), $CB7), 0),"")} | CJ7: {=IFERROR(INDEX($BX$3:$BX$810, SMALL(IF(COUNTIF(CJ$3, $BY$3:$BY$810), ROW($BX$3:$BX$810)-MIN(ROW($BX$3:$BX$810))+1), $CB7), 0),"")} | ... CQ7: {=IFERROR(INDEX($BX$3:$BX$810, SMALL(IF(COUNTIF(CQ$3, $BY$3:$BY$810), ROW($BX$3:$BX$810)-MIN(ROW($BX$3:$BX$810))+1), $CB7), 0),"")} | CS7: 4 | CT7: 1 | CV7: =CQ7 | CW7: =IF(CV7<>"",CW6+1,CW6) -> 0 | CZ7: 4 | DA7: =IFERROR(INDEX($CV$4:$CV$633,MATCH(CZ7,$CW$4:$CW$633,0),0),"") -> Florian Wirtz | DB7: =IFERROR(VLOOKUP(DA7,$BX$3:$BY$810,2,FALSE),"") -> 1 | DC7: =IFERROR(VLOOKUP(DA7,$BX$3:$CA$810,4,FALSE),"") -> Florian Wirtz | DD7: =IFERROR(INDEX($BT$3:$BT$810,MATCH(DA7,$BX$3:$BX$810,0),0),"") -> Germany
A8: 6 | B8: ='Player Database'!C11 -> Joshua Kimmich | C8: ='Player Database'!D11 -> Kieran Tierney | D8: ='Player Database'!E11 -> Willi Orbán | E8: ='Player Database'!F11 -> Denis Zakaria | F8: ='Player Database'!G11 -> Federico Gatti | G8: ='Player Database'!H11 -> Berat Djimsiti | H8: ='Player Database'!I11 -> Mikel Merino | I8: ='Player Database'!J11 -> Josip Šutalo | ... Y8: ='Player Database'!Z11 -> Giorgi Kochorashvili | AI8: =IFERROR(INDEX($B$3:$AG$28,$A8,MATCH(AI$2,$B$2:$AG$2,0)),"") | AJ8: =IFERROR(INDEX($B$3:$AG$28,$A8,MATCH(AJ$2,$B$2:$AG$2,0)),"") | AK8: =IFERROR(INDEX($B$3:$AG$28,$A8,MATCH(AK$2,$B$2:$AG$2,0)),"") | AL8: =IFERROR(INDEX($B$3:$AG$28,$A8,MATCH(AL$2,$B$2:$AG$2,0)),"") | AM8: =IFERROR(INDEX($B$3:$AG$28,$A8,MATCH(AM$2,$B$2:$AG$2,0)),"") | AN8: =IFERROR(INDEX($B$3:$AG$28,$A8,MATCH(AN$2,$B$2:$AG$2,0)),"") | AO8: =IFERROR(INDEX($B$3:$AG$28,$A8,MATCH(AO$2,$B$2:$AG$2,0)),"") | AP8: =IFERROR(INDEX($B$3:$AG$28,$A8,MATCH(AP$2,$B$2:$AG$2,0)),"") | ... AX8: =IFERROR(INDEX($B$3:$AG$28,$A8,MATCH(AX$2,$B$2:$AG$2,0)),"") | AZ8: =IFERROR(INDEX($B$3:$AG$28,$A8,MATCH(AZ$2,$B$2:$AG$2,0)),"") | BA8: =IFERROR(INDEX($B$3:$AG$28,$A8,MATCH(BA$2,$B$2:$AG$2,0)),"") | BB8: =IFERROR(INDEX($B$3:$AG$28,$A8,MATCH(BB$2,$B$2:$AG$2,0)),"") | BC8: =IFERROR(INDEX($B$3:$AG$28,$A8,MATCH(BC$2,$B$2:$AG$2,0)),"") | BD8: =IFERROR(INDEX($B$3:$AG$28,$A8,MATCH(BD$2,$B$2:$AG$2,0)),"") | BE8: =IFERROR(INDEX($B$3:$AG$28,$A8,MATCH(BE$2,$B$2:$AG$2,0)),"") | BF8: =IFERROR(INDEX($B$3:$AG$28,$A8,MATCH(BF$2,$B$2:$AG$2,0)),"") | BG8: =IFERROR(INDEX($B$3:$AG$28,$A8,MATCH(BG$2,$B$2:$AG$2,0)),"") | BI8: =IFERROR(INDEX($B$3:$AG$28,$A8,MATCH(BI$2,$B$2:$AG$2,0)),"") | BJ8: =IFERROR(INDEX($B$3:$AG$28,$A8,MATCH(BJ$2,$B$2:$AG$2,0)),"") | BK8: =IFERROR(INDEX($B$3:$AG$28,$A8,MATCH(BK$2,$B$2:$AG$2,0)),"") | BL8: =IFERROR(INDEX($B$3:$AG$28,$A8,MATCH(BL$2,$B$2:$AG$2,0)),"") | BN8: =IFERROR(INDEX($B$3:$AG$28,$A8,MATCH(BN$2,$B$2:$AG$2,0)),"") | BO8: =IFERROR(INDEX($B$3:$AG$28,$A8,MATCH(BO$2,$B$2:$AG$2,0)),"") | BQ8: =IFERROR(INDEX($B$3:$AG$28,$A8,MATCH(BQ$2,$B$2:$AG$2,0)),"") | BR8: =IFERROR(INDEX($B$3:$AG$28,$A8,MATCH(BR$2,$B$2:$AG$2,0)),"") | BT8: =BT7 -> Germany | BU8: =BU7+1 -> 6 | BW8: 1 | BX8: =B8 -> Joshua Kimmich | BY8: =COUNTIF('Group Stages'!$J$8:$Q$80,BX8)+COUNTIF('Knock Out Stages'!$K$7:$R$45,BX8) -> 0 | CA8: ='Player Database'!C11 -> Joshua Kimmich | CB8: 5 | CC8: {=IFERROR(INDEX($BX$3:$BX$810, SMALL(IF(COUNTIF(CC$3, $BY$3:$BY$810), ROW($BX$3:$BX$810)-MIN(ROW($BX$3:$BX$810))+1), $CB8), 0),"")} -> Emre Can | CD8: {=IFERROR(INDEX($BX$3:$BX$810, SMALL(IF(COUNTIF(CD$3, $BY$3:$BY$810), ROW($BX$3:$BX$810)-MIN(ROW($BX$3:$BX$810))+1), $CB8), 0),"")} | CE8: {=IFERROR(INDEX($BX$3:$BX$810, SMALL(IF(COUNTIF(CE$3, $BY$3:$BY$810), ROW($BX$3:$BX$810)-MIN(ROW($BX$3:$BX$810))+1), $CB8), 0),"")} | CF8: {=IFERROR(INDEX($BX$3:$BX$810, SMALL(IF(COUNTIF(CF$3, $BY$3:$BY$810), ROW($BX$3:$BX$810)-MIN(ROW($BX$3:$BX$810))+1), $CB8), 0),"")} | CG8: {=IFERROR(INDEX($BX$3:$BX$810, SMALL(IF(COUNTIF(CG$3, $BY$3:$BY$810), ROW($BX$3:$BX$810)-MIN(ROW($BX$3:$BX$810))+1), $CB8), 0),"")} | CH8: {=IFERROR(INDEX($BX$3:$BX$810, SMALL(IF(COUNTIF(CH$3, $BY$3:$BY$810), ROW($BX$3:$BX$810)-MIN(ROW($BX$3:$BX$810))+1), $CB8), 0),"")} | CI8: {=IFERROR(INDEX($BX$3:$BX$810, SMALL(IF(COUNTIF(CI$3, $BY$3:$BY$810), ROW($BX$3:$BX$810)-MIN(ROW($BX$3:$BX$810))+1), $CB8), 0),"")} | CJ8: {=IFERROR(INDEX($BX$3:$BX$810, SMALL(IF(COUNTIF(CJ$3, $BY$3:$BY$810), ROW($BX$3:$BX$810)-MIN(ROW($BX$3:$BX$810))+1), $CB8), 0),"")} | ... CQ8: {=IFERROR(INDEX($BX$3:$BX$810, SMALL(IF(COUNTIF(CQ$3, $BY$3:$BY$810), ROW($BX$3:$BX$810)-MIN(ROW($BX$3:$BX$810))+1), $CB8), 0),"")} | CS8: 5 | CT8: 1 | CV8: =CQ8 | CW8: =IF(CV8<>"",CW7+1,CW7) -> 0 | CZ8: 5 | DA8: =IFERROR(INDEX($CV$4:$CV$633,MATCH(CZ8,$CW$4:$CW$633,0),0),"") -> Emre Can | DB8: =IFERROR(VLOOKUP(DA8,$BX$3:$BY$810,2,FALSE),"") -> 1 | DC8: =IFERROR(VLOOKUP(DA8,$BX$3:$CA$810,4,FALSE),"") -> Emre Can | DD8: =IFERROR(INDEX($BT$3:$BT$810,MATCH(DA8,$BX$3:$BX$810,0),0),"") -> Germany
A9: 7 | B9: ='Player Database'!C12 -> Kai Havertz | C9: ='Player Database'!D12 -> John McGinn | D9: ='Player Database'!E12 -> Loïc Négo | E9: ='Player Database'!F12 -> Breel Embolo | F9: ='Player Database'!G12 -> Davide Frattesi | G9: ='Player Database'!H12 -> Rey Manaj | H9: ='Player Database'!I12 -> Álvaro Morata | I9: ='Player Database'!J12 -> Lovro Majer | ... Y9: ='Player Database'!Z12 -> Khvicha Kvaratskhelia | AI9: =IFERROR(INDEX($B$3:$AG$28,$A9,MATCH(AI$2,$B$2:$AG$2,0)),"") | AJ9: =IFERROR(INDEX($B$3:$AG$28,$A9,MATCH(AJ$2,$B$2:$AG$2,0)),"") | AK9: =IFERROR(INDEX($B$3:$AG$28,$A9,MATCH(AK$2,$B$2:$AG$2,0)),"") | AL9: =IFERROR(INDEX($B$3:$AG$28,$A9,MATCH(AL$2,$B$2:$AG$2,0)),"") | AM9: =IFERROR(INDEX($B$3:$AG$28,$A9,MATCH(AM$2,$B$2:$AG$2,0)),"") | AN9: =IFERROR(INDEX($B$3:$AG$28,$A9,MATCH(AN$2,$B$2:$AG$2,0)),"") | AO9: =IFERROR(INDEX($B$3:$AG$28,$A9,MATCH(AO$2,$B$2:$AG$2,0)),"") | AP9: =IFERROR(INDEX($B$3:$AG$28,$A9,MATCH(AP$2,$B$2:$AG$2,0)),"") | ... AX9: =IFERROR(INDEX($B$3:$AG$28,$A9,MATCH(AX$2,$B$2:$AG$2,0)),"") | AZ9: =IFERROR(INDEX($B$3:$AG$28,$A9,MATCH(AZ$2,$B$2:$AG$2,0)),"") | BA9: =IFERROR(INDEX($B$3:$AG$28,$A9,MATCH(BA$2,$B$2:$AG$2,0)),"") | BB9: =IFERROR(INDEX($B$3:$AG$28,$A9,MATCH(BB$2,$B$2:$AG$2,0)),"") | BC9: =IFERROR(INDEX($B$3:$AG$28,$A9,MATCH(BC$2,$B$2:$AG$2,0)),"") | BD9: =IFERROR(INDEX($B$3:$AG$28,$A9,MATCH(BD$2,$B$2:$AG$2,0)),"") | BE9: =IFERROR(INDEX($B$3:$AG$28,$A9,MATCH(BE$2,$B$2:$AG$2,0)),"") | BF9: =IFERROR(INDEX($B$3:$AG$28,$A9,MATCH(BF$2,$B$2:$AG$2,0)),"") | BG9: =IFERROR(INDEX($B$3:$AG$28,$A9,MATCH(BG$2,$B$2:$AG$2,0)),"") | BI9: =IFERROR(INDEX($B$3:$AG$28,$A9,MATCH(BI$2,$B$2:$AG$2,0)),"") | BJ9: =IFERROR(INDEX($B$3:$AG$28,$A9,MATCH(BJ$2,$B$2:$AG$2,0)),"") | BK9: =IFERROR(INDEX($B$3:$AG$28,$A9,MATCH(BK$2,$B$2:$AG$2,0)),"") | BL9: =IFERROR(INDEX($B$3:$AG$28,$A9,MATCH(BL$2,$B$2:$AG$2,0)),"") | BN9: =IFERROR(INDEX($B$3:$AG$28,$A9,MATCH(BN$2,$B$2:$AG$2,0)),"") | BO9: =IFERROR(INDEX($B$3:$AG$28,$A9,MATCH(BO$2,$B$2:$AG$2,0)),"") | BQ9: =IFERROR(INDEX($B$3:$AG$28,$A9,MATCH(BQ$2,$B$2:$AG$2,0)),"") | BR9: =IFERROR(INDEX($B$3:$AG$28,$A9,MATCH(BR$2,$B$2:$AG$2,0)),"") | BT9: =BT8 -> Germany | BU9: =BU8+1 -> 7 | BW9: 1 | BX9: =B9 -> Kai Havertz | BY9: =COUNTIF('Group Stages'!$J$8:$Q$80,BX9)+COUNTIF('Knock Out Stages'!$K$7:$R$45,BX9) -> 1 | CA9: ='Player Database'!C12 -> Kai Havertz | CB9: 6 | CC9: {=IFERROR(INDEX($BX$3:$BX$810, SMALL(IF(COUNTIF(CC$3, $BY$3:$BY$810), ROW($BX$3:$BX$810)-MIN(ROW($BX$3:$BX$810))+1), $CB9), 0),"")} -> Barnabás Varga | CD9: {=IFERROR(INDEX($BX$3:$BX$810, SMALL(IF(COUNTIF(CD$3, $BY$3:$BY$810), ROW($BX$3:$BX$810)-MIN(ROW($BX$3:$BX$810))+1), $CB9), 0),"")} | CE9: {=IFERROR(INDEX($BX$3:$BX$810, SMALL(IF(COUNTIF(CE$3, $BY$3:$BY$810), ROW($BX$3:$BX$810)-MIN(ROW($BX$3:$BX$810))+1), $CB9), 0),"")} | CF9: {=IFERROR(INDEX($BX$3:$BX$810, SMALL(IF(COUNTIF(CF$3, $BY$3:$BY$810), ROW($BX$3:$BX$810)-MIN(ROW($BX$3:$BX$810))+1), $CB9), 0),"")} | CG9: {=IFERROR(INDEX($BX$3:$BX$810, SMALL(IF(COUNTIF(CG$3, $BY$3:$BY$810), ROW($BX$3:$BX$810)-MIN(ROW($BX$3:$BX$810))+1), $CB9), 0),"")} | CH9: {=IFERROR(INDEX($BX$3:$BX$810, SMALL(IF(COUNTIF(CH$3, $BY$3:$BY$810), ROW($BX$3:$BX$810)-MIN(ROW($BX$3:$BX$810))+1), $CB9), 0),"")} | CI9: {=IFERROR(INDEX($BX$3:$BX$810, SMALL(IF(COUNTIF(CI$3, $BY$3:$BY$810), ROW($BX$3:$BX$810)-MIN(ROW($BX$3:$BX$810))+1), $CB9), 0),"")} | CJ9: {=IFERROR(INDEX($BX$3:$BX$810, SMALL(IF(COUNTIF(CJ$3, $BY$3:$BY$810), ROW($BX$3:$BX$810)-MIN(ROW($BX$3:$BX$810))+1), $CB9), 0),"")} | ... CQ9: {=IFERROR(INDEX($BX$3:$BX$810, SMALL(IF(COUNTIF(CQ$3, $BY$3:$BY$810), ROW($BX$3:$BX$810)-MIN(ROW($BX$3:$BX$810))+1), $CB9), 0),"")} | CS9: 6 | CT9: 1 | CV9: =CQ9 | CW9: =IF(CV9<>"",CW8+1,CW8) -> 0 | CZ9: 6 | DA9: =IFERROR(INDEX($CV$4:$CV$633,MATCH(CZ9,$CW$4:$CW$633,0),0),"") -> Barnabás Varga | DB9: =IFERROR(VLOOKUP(DA9,$BX$3:$BY$810,2,FALSE),"") -> 1 | DC9: =IFERROR(VLOOKUP(DA9,$BX$3:$CA$810,4,FALSE),"") -> Barnabás Varga | DD9: =IFERROR(INDEX($BT$3:$BT$810,MATCH(DA9,$BX$3:$BX$810,0),0),"") -> Hungary
A10: 8 | B10: ='Player Database'!C13 -> Toni Kroos | C10: ='Player Database'!D13 -> Callum McGregor | D10: ='Player Database'!E13 -> Ádám Nagy | E10: ='Player Database'!F13 -> Remo Freuler | F10: ='Player Database'!G13 -> Jorginho | G10: ='Player Database'!H13 -> Klaus Gjasula | H10: ='Player Database'!I13 -> Fabián Ruiz | I10: ='Player Database'!J13 -> Mateo Kovačić | ... Y10: ='Player Database'!Z13 -> Budu Zivzivadze | AI10: =IFERROR(INDEX($B$3:$AG$28,$A10,MATCH(AI$2,$B$2:$AG$2,0)),"") | AJ10: =IFERROR(INDEX($B$3:$AG$28,$A10,MATCH(AJ$2,$B$2:$AG$2,0)),"") | AK10: =IFERROR(INDEX($B$3:$AG$28,$A10,MATCH(AK$2,$B$2:$AG$2,0)),"") | AL10: =IFERROR(INDEX($B$3:$AG$28,$A10,MATCH(AL$2,$B$2:$AG$2,0)),"") | AM10: =IFERROR(INDEX($B$3:$AG$28,$A10,MATCH(AM$2,$B$2:$AG$2,0)),"") | AN10: =IFERROR(INDEX($B$3:$AG$28,$A10,MATCH(AN$2,$B$2:$AG$2,0)),"") | AO10: =IFERROR(INDEX($B$3:$AG$28,$A10,MATCH(AO$2,$B$2:$AG$2,0)),"") | AP10: =IFERROR(INDEX($B$3:$AG$28,$A10,MATCH(AP$2,$B$2:$AG$2,0)),"") | ... AX10: =IFERROR(INDEX($B$3:$AG$28,$A10,MATCH(AX$2,$B$2:$AG$2,0)),"") | AZ10: =IFERROR(INDEX($B$3:$AG$28,$A10,MATCH(AZ$2,$B$2:$AG$2,0)),"") | BA10: =IFERROR(INDEX($B$3:$AG$28,$A10,MATCH(BA$2,$B$2:$AG$2,0)),"") | BB10: =IFERROR(INDEX($B$3:$AG$28,$A10,MATCH(BB$2,$B$2:$AG$2,0)),"") | BC10: =IFERROR(INDEX($B$3:$AG$28,$A10,MATCH(BC$2,$B$2:$AG$2,0)),"") | BD10: =IFERROR(INDEX($B$3:$AG$28,$A10,MATCH(BD$2,$B$2:$AG$2,0)),"") | BE10: =IFERROR(INDEX($B$3:$AG$28,$A10,MATCH(BE$2,$B$2:$AG$2,0)),"") | BF10: =IFERROR(INDEX($B$3:$AG$28,$A10,MATCH(BF$2,$B$2:$AG$2,0)),"") | BG10: =IFERROR(INDEX($B$3:$AG$28,$A10,MATCH(BG$2,$B$2:$AG$2,0)),"") | BI10: =IFERROR(INDEX($B$3:$AG$28,$A10,MATCH(BI$2,$B$2:$AG$2,0)),"") | BJ10: =IFERROR(INDEX($B$3:$AG$28,$A10,MATCH(BJ$2,$B$2:$AG$2,0)),"") | BK10: =IFERROR(INDEX($B$3:$AG$28,$A10,MATCH(BK$2,$B$2:$AG$2,0)),"") | BL10: =IFERROR(INDEX($B$3:$AG$28,$A10,MATCH(BL$2,$B$2:$AG$2,0)),"") | BN10: =IFERROR(INDEX($B$3:$AG$28,$A10,MATCH(BN$2,$B$2:$AG$2,0)),"") | BO10: =IFERROR(INDEX($B$3:$AG$28,$A10,MATCH(BO$2,$B$2:$AG$2,0)),"") | BQ10: =IFERROR(INDEX($B$3:$AG$28,$A10,MATCH(BQ$2,$B$2:$AG$2,0)),"") | BR10: =IFERROR(INDEX($B$3:$AG$28,$A10,MATCH(BR$2,$B$2:$AG$2,0)),"") | BT10: =BT9 -> Germany | BU10: =BU9+1 -> 8 | BW10: 1 | BX10: =B10 -> Toni Kroos | BY10: =COUNTIF('Group Stages'!$J$8:$Q$80,BX10)+COUNTIF('Knock Out Stages'!$K$7:$R$45,BX10) -> 0 | CA10: ='Player Database'!C13 -> Toni Kroos | CB10: 7 | CC10: {=IFERROR(INDEX($BX$3:$BX$810, SMALL(IF(COUNTIF(CC$3, $BY$3:$BY$810), ROW($BX$3:$BX$810)-MIN(ROW($BX$3:$BX$810))+1), $CB10), 0),"")} -> Breel Embolo | CD10: {=IFERROR(INDEX($BX$3:$BX$810, SMALL(IF(COUNTIF(CD$3, $BY$3:$BY$810), ROW($BX$3:$BX$810)-MIN(ROW($BX$3:$BX$810))+1), $CB10), 0),"")} | CE10: {=IFERROR(INDEX($BX$3:$BX$810, SMALL(IF(COUNTIF(CE$3, $BY$3:$BY$810), ROW($BX$3:$BX$810)-MIN(ROW($BX$3:$BX$810))+1), $CB10), 0),"")} | CF10: {=IFERROR(INDEX($BX$3:$BX$810, SMALL(IF(COUNTIF(CF$3, $BY$3:$BY$810), ROW($BX$3:$BX$810)-MIN(ROW($BX$3:$BX$810))+1), $CB10), 0),"")} | CG10: {=IFERROR(INDEX($BX$3:$BX$810, SMALL(IF(COUNTIF(CG$3, $BY$3:$BY$810), ROW($BX$3:$BX$810)-MIN(ROW($BX$3:$BX$810))+1), $CB10), 0),"")} | CH10: {=IFERROR(INDEX($BX$3:$BX$810, SMALL(IF(COUNTIF(CH$3, $BY$3:$BY$810), ROW($BX$3:$BX$810)-MIN(ROW($BX$3:$BX$810))+1), $CB10), 0),"")} | CI10: {=IFERROR(INDEX($BX$3:$BX$810, SMALL(IF(COUNTIF(CI$3, $BY$3:$BY$810), ROW($BX$3:$BX$810)-MIN(ROW($BX$3:$BX$810))+1), $CB10), 0),"")} | CJ10: {=IFERROR(INDEX($BX$3:$BX$810, SMALL(IF(COUNTIF(CJ$3, $BY$3:$BY$810), ROW($BX$3:$BX$810)-MIN(ROW($BX$3:$BX$810))+1), $CB10), 0),"")} | ... CQ10: {=IFERROR(INDEX($BX$3:$BX$810, SMALL(IF(COUNTIF(CQ$3, $BY$3:$BY$810), ROW($BX$3:$BX$810)-MIN(ROW($BX$3:$BX$810))+1), $CB10), 0),"")} | CS10: 7 | CT10: 1 | CV10: =CQ10 | CW10: =IF(CV10<>"",CW9+1,CW9) -> 0 | CZ10: 7 | DA10: =IFERROR(INDEX($CV$4:$CV$633,MATCH(CZ10,$CW$4:$CW$633,0),0),"") -> Breel Embolo | DB10: =IFERROR(VLOOKUP(DA10,$BX$3:$BY$810,2,FALSE),"") -> 1 | DC10: =IFERROR(VLOOKUP(DA10,$BX$3:$CA$810,4,FALSE),"") -> Breel Embolo | DD10: =IFERROR(INDEX($BT$3:$BT$810,MATCH(DA10,$BX$3:$BX$810,0),0),"") -> Switzerland
A11: 9 | B11: ='Player Database'!C14 -> Niclas Füllkrug | C11: ='Player Database'!D14 -> Lawrence Shankland | D11: ='Player Database'!E14 -> Martin Ádám | E11: ='Player Database'!F14 -> Noah Okafor | F11: ='Player Database'!G14 -> Gianluca Scamacca | G11: ='Player Database'!H14 -> Jasir Asani | H11: ='Player Database'!I14 -> Joselu | I11: ='Player Database'!J14 -> Andrej Kramarić | ... Y11: ='Player Database'!Z14 -> Zuriko Davitashvili | AI11: =IFERROR(INDEX($B$3:$AG$28,$A11,MATCH(AI$2,$B$2:$AG$2,0)),"") | AJ11: =IFERROR(INDEX($B$3:$AG$28,$A11,MATCH(AJ$2,$B$2:$AG$2,0)),"") | AK11: =IFERROR(INDEX($B$3:$AG$28,$A11,MATCH(AK$2,$B$2:$AG$2,0)),"") | AL11: =IFERROR(INDEX($B$3:$AG$28,$A11,MATCH(AL$2,$B$2:$AG$2,0)),"") | AM11: =IFERROR(INDEX($B$3:$AG$28,$A11,MATCH(AM$2,$B$2:$AG$2,0)),"") | AN11: =IFERROR(INDEX($B$3:$AG$28,$A11,MATCH(AN$2,$B$2:$AG$2,0)),"") | AO11: =IFERROR(INDEX($B$3:$AG$28,$A11,MATCH(AO$2,$B$2:$AG$2,0)),"") | AP11: =IFERROR(INDEX($B$3:$AG$28,$A11,MATCH(AP$2,$B$2:$AG$2,0)),"") | ... AX11: =IFERROR(INDEX($B$3:$AG$28,$A11,MATCH(AX$2,$B$2:$AG$2,0)),"") | AZ11: =IFERROR(INDEX($B$3:$AG$28,$A11,MATCH(AZ$2,$B$2:$AG$2,0)),"") | BA11: =IFERROR(INDEX($B$3:$AG$28,$A11,MATCH(BA$2,$B$2:$AG$2,0)),"") | BB11: =IFERROR(INDEX($B$3:$AG$28,$A11,MATCH(BB$2,$B$2:$AG$2,0)),"") | BC11: =IFERROR(INDEX($B$3:$AG$28,$A11,MATCH(BC$2,$B$2:$AG$2,0)),"") | BD11: =IFERROR(INDEX($B$3:$AG$28,$A11,MATCH(BD$2,$B$2:$AG$2,0)),"") | BE11: =IFERROR(INDEX($B$3:$AG$28,$A11,MATCH(BE$2,$B$2:$AG$2,0)),"") | BF11: =IFERROR(INDEX($B$3:$AG$28,$A11,MATCH(BF$2,$B$2:$AG$2,0)),"") | BG11: =IFERROR(INDEX($B$3:$AG$28,$A11,MATCH(BG$2,$B$2:$AG$2,0)),"") | BI11: =IFERROR(INDEX($B$3:$AG$28,$A11,MATCH(BI$2,$B$2:$AG$2,0)),"") | BJ11: =IFERROR(INDEX($B$3:$AG$28,$A11,MATCH(BJ$2,$B$2:$AG$2,0)),"") | BK11: =IFERROR(INDEX($B$3:$AG$28,$A11,MATCH(BK$2,$B$2:$AG$2,0)),"") | BL11: =IFERROR(INDEX($B$3:$AG$28,$A11,MATCH(BL$2,$B$2:$AG$2,0)),"") | BN11: =IFERROR(INDEX($B$3:$AG$28,$A11,MATCH(BN$2,$B$2:$AG$2,0)),"") | BO11: =IFERROR(INDEX($B$3:$AG$28,$A11,MATCH(BO$2,$B$2:$AG$2,0)),"") | BQ11: =IFERROR(INDEX($B$3:$AG$28,$A11,MATCH(BQ$2,$B$2:$AG$2,0)),"") | BR11: =IFERROR(INDEX($B$3:$AG$28,$A11,MATCH(BR$2,$B$2:$AG$2,0)),"") | BT11: =BT10 -> Germany | BU11: =BU10+1 -> 9 | BW11: 1 | BX11: =B11 -> Niclas Füllkrug | BY11: =COUNTIF('Group Stages'!$J$8:$Q$80,BX11)+COUNTIF('Knock Out Stages'!$K$7:$R$45,BX11) -> 1 | CA11: ='Player Database'!C14 -> Niclas Füllkrug | CB11: 8 | CC11: {=IFERROR(INDEX($BX$3:$BX$810, SMALL(IF(COUNTIF(CC$3, $BY$3:$BY$810), ROW($BX$3:$BX$810)-MIN(ROW($BX$3:$BX$810))+1), $CB11), 0),"")} -> Kwadwo Duah | CD11: {=IFERROR(INDEX($BX$3:$BX$810, SMALL(IF(COUNTIF(CD$3, $BY$3:$BY$810), ROW($BX$3:$BX$810)-MIN(ROW($BX$3:$BX$810))+1), $CB11), 0),"")} | CE11: {=IFERROR(INDEX($BX$3:$BX$810, SMALL(IF(COUNTIF(CE$3, $BY$3:$BY$810), ROW($BX$3:$BX$810)-MIN(ROW($BX$3:$BX$810))+1), $CB11), 0),"")} | CF11: {=IFERROR(INDEX($BX$3:$BX$810, SMALL(IF(COUNTIF(CF$3, $BY$3:$BY$810), ROW($BX$3:$BX$810)-MIN(ROW($BX$3:$BX$810))+1), $CB11), 0),"")} | CG11: {=IFERROR(INDEX($BX$3:$BX$810, SMALL(IF(COUNTIF(CG$3, $BY$3:$BY$810), ROW($BX$3:$BX$810)-MIN(ROW($BX$3:$BX$810))+1), $CB11), 0),"")} | CH11: {=IFERROR(INDEX($BX$3:$BX$810, SMALL(IF(COUNTIF(CH$3, $BY$3:$BY$810), ROW($BX$3:$BX$810)-MIN(ROW($BX$3:$BX$810))+1), $CB11), 0),"")} | CI11: {=IFERROR(INDEX($BX$3:$BX$810, SMALL(IF(COUNTIF(CI$3, $BY$3:$BY$810), ROW($BX$3:$BX$810)-MIN(ROW($BX$3:$BX$810))+1), $CB11), 0),"")} | CJ11: {=IFERROR(INDEX($BX$3:$BX$810, SMALL(IF(COUNTIF(CJ$3, $BY$3:$BY$810), ROW($BX$3:$BX$810)-MIN(ROW($BX$3:$BX$810))+1), $CB11), 0),"")} | ... CQ11: {=IFERROR(INDEX($BX$3:$BX$810, SMALL(IF(COUNTIF(CQ$3, $BY$3:$BY$810), ROW($BX$3:$BX$810)-MIN(ROW($BX$3:$BX$810))+1), $CB11), 0),"")} | CS11: 8 | CT11: 1 | CV11: =CQ11 | CW11: =IF(CV11<>"",CW10+1,CW10) -> 0 | CZ11: 8 | DA11: =IFERROR(INDEX($CV$4:$CV$633,MATCH(CZ11,$CW$4:$CW$633,0),0),"") -> Kwadwo Duah | DB11: =IFERROR(VLOOKUP(DA11,$BX$3:$BY$810,2,FALSE),"") -> 1 | DC11: =IFERROR(VLOOKUP(DA11,$BX$3:$CA$810,4,FALSE),"") -> Kwadwo Duah | DD11: =IFERROR(INDEX($BT$3:$BT$810,MATCH(DA11,$BX$3:$BX$810,0),0),"") -> Switzerland
A12: 10 | B12: ='Player Database'!C15 -> Jamal Musiala | C12: ='Player Database'!D15 -> Ché Adams | D12: ='Player Database'!E15 -> Dominik Szoboszlai | E12: ='Player Database'!F15 -> Granit Xhaka | F12: ='Player Database'!G15 -> Lorenzo Pellegrini | G12: ='Player Database'!H15 -> Nedim Bajrami | H12: ='Player Database'!I15 -> Dani Olmo | I12: ='Player Database'!J15 -> Luka Modrić | ... Y12: ='Player Database'!Z15 -> Giorgi Chakvetadze | AI12: =IFERROR(INDEX($B$3:$AG$28,$A12,MATCH(AI$2,$B$2:$AG$2,0)),"") | AJ12: =IFERROR(INDEX($B$3:$AG$28,$A12,MATCH(AJ$2,$B$2:$AG$2,0)),"") | AK12: =IFERROR(INDEX($B$3:$AG$28,$A12,MATCH(AK$2,$B$2:$AG$2,0)),"") | AL12: =IFERROR(INDEX($B$3:$AG$28,$A12,MATCH(AL$2,$B$2:$AG$2,0)),"") | AM12: =IFERROR(INDEX($B$3:$AG$28,$A12,MATCH(AM$2,$B$2:$AG$2,0)),"") | AN12: =IFERROR(INDEX($B$3:$AG$28,$A12,MATCH(AN$2,$B$2:$AG$2,0)),"") | AO12: =IFERROR(INDEX($B$3:$AG$28,$A12,MATCH(AO$2,$B$2:$AG$2,0)),"") | AP12: =IFERROR(INDEX($B$3:$AG$28,$A12,MATCH(AP$2,$B$2:$AG$2,0)),"") | ... AX12: =IFERROR(INDEX($B$3:$AG$28,$A12,MATCH(AX$2,$B$2:$AG$2,0)),"") | AZ12: =IFERROR(INDEX($B$3:$AG$28,$A12,MATCH(AZ$2,$B$2:$AG$2,0)),"") | BA12: =IFERROR(INDEX($B$3:$AG$28,$A12,MATCH(BA$2,$B$2:$AG$2,0)),"") | BB12: =IFERROR(INDEX($B$3:$AG$28,$A12,MATCH(BB$2,$B$2:$AG$2,0)),"") | BC12: =IFERROR(INDEX($B$3:$AG$28,$A12,MATCH(BC$2,$B$2:$AG$2,0)),"") | BD12: =IFERROR(INDEX($B$3:$AG$28,$A12,MATCH(BD$2,$B$2:$AG$2,0)),"") | BE12: =IFERROR(INDEX($B$3:$AG$28,$A12,MATCH(BE$2,$B$2:$AG$2,0)),"") | BF12: =IFERROR(INDEX($B$3:$AG$28,$A12,MATCH(BF$2,$B$2:$AG$2,0)),"") | BG12: =IFERROR(INDEX($B$3:$AG$28,$A12,MATCH(BG$2,$B$2:$AG$2,0)),"") | BI12: =IFERROR(INDEX($B$3:$AG$28,$A12,MATCH(BI$2,$B$2:$AG$2,0)),"") | BJ12: =IFERROR(INDEX($B$3:$AG$28,$A12,MATCH(BJ$2,$B$2:$AG$2,0)),"") | BK12: =IFERROR(INDEX($B$3:$AG$28,$A12,MATCH(BK$2,$B$2:$AG$2,0)),"") | BL12: =IFERROR(INDEX($B$3:$AG$28,$A12,MATCH(BL$2,$B$2:$AG$2,0)),"") | BN12: =IFERROR(INDEX($B$3:$AG$28,$A12,MATCH(BN$2,$B$2:$AG$2,0)),"") | BO12: =IFERROR(INDEX($B$3:$AG$28,$A12,MATCH(BO$2,$B$2:$AG$2,0)),"") | BQ12: =IFERROR(INDEX($B$3:$AG$28,$A12,MATCH(BQ$2,$B$2:$AG$2,0)),"") | BR12: =IFERROR(INDEX($B$3:$AG$28,$A12,MATCH(BR$2,$B$2:$AG$2,0)),"") | BT12: =BT11 -> Germany | BU12: =BU11+1 -> 10 | BW12: 1 | BX12: =B12 -> Jamal Musiala | BY12: =COUNTIF('Group Stages'!$J$8:$Q$80,BX12)+COUNTIF('Knock Out Stages'!$K$7:$R$45,BX12) -> 1 | CA12: ='Player Database'!C15 -> Jamal Musiala | CB12: 9 | CC12: {=IFERROR(INDEX($BX$3:$BX$810, SMALL(IF(COUNTIF(CC$3, $BY$3:$BY$810), ROW($BX$3:$BX$810)-MIN(ROW($BX$3:$BX$810))+1), $CB12), 0),"")} -> Michel Aebischer | CD12: {=IFERROR(INDEX($BX$3:$BX$810, SMALL(IF(COUNTIF(CD$3, $BY$3:$BY$810), ROW($BX$3:$BX$810)-MIN(ROW($BX$3:$BX$810))+1), $CB12), 0),"")} | CE12: {=IFERROR(INDEX($BX$3:$BX$810, SMALL(IF(COUNTIF(CE$3, $BY$3:$BY$810), ROW($BX$3:$BX$810)-MIN(ROW($BX$3:$BX$810))+1), $CB12), 0),"")} | CF12: {=IFERROR(INDEX($BX$3:$BX$810, SMALL(IF(COUNTIF(CF$3, $BY$3:$BY$810), ROW($BX$3:$BX$810)-MIN(ROW($BX$3:$BX$810))+1), $CB12), 0),"")} | CG12: {=IFERROR(INDEX($BX$3:$BX$810, SMALL(IF(COUNTIF(CG$3, $BY$3:$BY$810), ROW($BX$3:$BX$810)-MIN(ROW($BX$3:$BX$810))+1), $CB12), 0),"")} | CH12: {=IFERROR(INDEX($BX$3:$BX$810, SMALL(IF(COUNTIF(CH$3, $BY$3:$BY$810), ROW($BX$3:$BX$810)-MIN(ROW($BX$3:$BX$810))+1), $CB12), 0),"")} | CI12: {=IFERROR(INDEX($BX$3:$BX$810, SMALL(IF(COUNTIF(CI$3, $BY$3:$BY$810), ROW($BX$3:$BX$810)-MIN(ROW($BX$3:$BX$810))+1), $CB12), 0),"")} | CJ12: {=IFERROR(INDEX($BX$3:$BX$810, SMALL(IF(COUNTIF(CJ$3, $BY$3:$BY$810), ROW($BX$3:$BX$810)-MIN(ROW($BX$3:$BX$810))+1), $CB12), 0),"")} | ... CQ12: {=IFERROR(INDEX($BX$3:$BX$810, SMALL(IF(COUNTIF(CQ$3, $BY$3:$BY$810), ROW($BX$3:$BX$810)-MIN(ROW($BX$3:$BX$810))+1), $CB12), 0),"")} | CS12: 9 | CT12: 1 | CV12: =CQ12 | CW12: =IF(CV12<>"",CW11+1,CW11) -> 0 | CZ12: 9 | DA12: =IFERROR(INDEX($CV$4:$CV$633,MATCH(CZ12,$CW$4:$CW$633,0),0),"") -> Michel Aebischer | DB12: =IFERROR(VLOOKUP(DA12,$BX$3:$BY$810,2,FALSE),"") -> 1 | DC12: =IFERROR(VLOOKUP(DA12,$BX$3:$CA$810,4,FALSE),"") -> Michel Aebischer | DD12: =IFERROR(INDEX($BT$3:$BT$810,MATCH(DA12,$BX$3:$BX$810,0),0),"") -> Switzerland
