Workbook
Name A1A2: 'Dummy Top Scorer'!$B$3:$B$54
Name A1A3: 'Dummy Top Scorer'!$B$57:$B$108
Name A1A4: 'Dummy Top Scorer'!$B$111:$B$162
Name A2A1: 'Dummy Top Scorer'!$C$3:$C$54
Name A2A3: 'Dummy Top Scorer'!$C$57:$C$108
Name A2A4: 'Dummy Top Scorer'!$C$111:$C$162
Name A3A1: 'Dummy Top Scorer'!$D$3:$D$54
Name A3A2: 'Dummy Top Scorer'!$D$57:$D$108
Name A3A4: 'Dummy Top Scorer'!$D$111:$D$162
Name A4A1: 'Dummy Top Scorer'!$E$3:$E$54
Name A4A2: 'Dummy Top Scorer'!$E$57:$E$108
Name A4A3: 'Dummy Top Scorer'!$E$111:$E$162
Name AC1C2: 'Dummy Top Scorer'!$J$3:$J$54
Name AC1C3: 'Dummy Top Scorer'!$J$57:$J$108
Name AC1C4: 'Dummy Top Scorer'!$J$111:$J$162
Name AC2C1: 'Dummy Top Scorer'!$K$3:$K$54
Name AC2C3: 'Dummy Top Scorer'!$K$57:$K$108
Name AC2C4: 'Dummy Top Scorer'!$K$111:$K$162
Name AC3C1: 'Dummy Top Scorer'!$L$3:$L$54
Name AC3C2: 'Dummy Top Scorer'!$L$57:$L$108
Name AC3C4: 'Dummy Top Scorer'!$L$111:$L$162
Name AC4C1: 'Dummy Top Scorer'!$M$3:$M$54
Name AC4C2: 'Dummy Top Scorer'!$M$57:$M$108
Name AC4C3: 'Dummy Top Scorer'!$M$111:$M$162
Name B1B2: 'Dummy Top Scorer'!$F$3:$F$54
Name B1B3: 'Dummy Top Scorer'!$F$57:$F$108
Name B1B4: 'Dummy Top Scorer'!$F$111:$F$162
Name B2B1: 'Dummy Top Scorer'!$G$3:$G$54
Name B2B3: 'Dummy Top Scorer'!$G$57:$G$108
Name B2B4: 'Dummy Top Scorer'!$G$111:$G$162
Name B3B1: 'Dummy Top Scorer'!$H$3:$H$54
Name B3B2: 'Dummy Top Scorer'!$H$57:$H$108
Name B3B4: 'Dummy Top Scorer'!$H$112:$H$162
Name B4B1: 'Dummy Top Scorer'!$I$3:$I$54
Name B4B2: 'Dummy Top Scorer'!$I$57:$I$108
Name B4B3: 'Dummy Top Scorer'!$I$111:$I$162
Name BIGQ11: 'Dummy Top Scorer'!$AZ$3:$AZ$51
Name BIGQ12: 'Dummy Top Scorer'!$BA$3:$BA$51
Name BIGQ21: 'Dummy Top Scorer'!$BB$3:$BB$51
Name BIGQ22: 'Dummy Top Scorer'!$BC$3:$BC$51
Name BIGQ31: 'Dummy Top Scorer'!$BD$3:$BD$51
Name BIGQ32: 'Dummy Top Scorer'!$BE$3:$BE$51
Name BIGQ41: 'Dummy Top Scorer'!$BF$3:$BF$51
Name BIGQ42: 'Dummy Top Scorer'!$BG$3:$BG$51
Name Countries: Language!$C$1:$H$1
Name Country: Setup!$C$9:$C$32
Name D1D2: 'Dummy Top Scorer'!$N$3:$N$54
Name D1D3: 'Dummy Top Scorer'!$N$57:$N$108
Name D1D4: 'Dummy Top Scorer'!$N$111:$N$162
Name D2D1: 'Dummy Top Scorer'!$O$3:$O$54
Name D2D3: 'Dummy Top Scorer'!$O$57:$O$108
Name D2D4: 'Dummy Top Scorer'!$O$111:$O$162
Name D3D1: 'Dummy Top Scorer'!$P$3:$P$54
Name D3D2: 'Dummy Top Scorer'!$P$57:$P$108
Name D3D4: 'Dummy Top Scorer'!$P$111:$P$162
Name D4D1: 'Dummy Top Scorer'!$Q$3:$Q$54
Name D4D2: 'Dummy Top Scorer'!$Q$57:$Q$108
Name D4D3: 'Dummy Top Scorer'!$Q$111:$Q$162
Name E1E2: 'Dummy Top Scorer'!$R$3:$R$54
Name E1E3: 'Dummy Top Scorer'!$R$57:$R$108

Sheet Setup
B3: SETUP
C5: Select Your Time | D5: 0 | F5: t | G5: Select time difference between Match local time and your local time. Date and time in Matches worksheet will be adjusted accordingly
C6: Select Language | D6: English | F6: t | G6: Select your language. Language in Matches worksheet will be adjusted accordingly
C7: Language Name u | D7: NEW WORLD
C8: Original Language (English) | D8: Your Language Translation | F8: To set schedule language to your language do the following :
C9: Albania | D9: Albania | F9: 1 | G9: Set title of your language in cell D7 (Arabic, Chinese, Portuguese, etc)
C10: Austria | D10: Austria | F10: 2 | G10: Type your translation in column D (cell D9 : D99)
C11: Belgium | D11: Belgium | F11: 3 | G11: Change language selection in cell D6 to your language name title
C12: Croatia | D12: Croatia
C13: Czechia | D13: Czechia
C14: Denmark | D14: Denmark
C15: England | D15: England
C16: France | D16: France
C17: Germany | D17: Germany
C18: Hungary | D18: Hungary
C19: Italy | D19: Italy
C20: Netherlands | D20: Netherlands
C21: Portugal | D21: Portugal
C22: Romania | D22: Romania
C23: Scotland | D23: Scotland
... C99: Group A-F 3rd Place Standings | D99: Group A-F 3rd Place Standings
C100: © 2024 | journalSHEET.com

Sheet Top Scorer
H1: 1 | I1: 2 | J1: 3 | K1: 4 | L1: 5 | M1: 6 | N1: 7 | O1: 8
B3: EURO 2024 TOP SCORER
B5: Goals | C5: Player Name | E5: =IF(AND(B9="",'Knock Out Stages'!H44<>"",'Knock Out Stages'!H45<>""),"Reorder Rank","") | G5: Rank
B8: ='Dummy Top Scorer'!DB4 -> 1 | C8: =IFERROR(IF(E8="",IF('Dummy Top Scorer'!DC4<>"",'Dummy Top Scorer'!DC4&" ("&'Dummy Top Scorer'!DD4&")",""),VLOOKUP(G8,E8:F17,2,FALSE)),"") -> Kai Havertz (Germany) | F8: =IF(E5<>"",IF('Dummy Top Scorer'!DC4<>"",'Dummy Top Scorer'!DC4&" ("&'Dummy Top Scorer'!DD4&")",""),"") | G8: 1 | H8: Top scorer rankings will be adjusted automatically. If several players are tied in top position, new table for those players will be shown in column F. Re-adjust their position by input correct position in column E (will be shown automatically)
B9: =IF('Dummy Top Scorer'!DB5='Dummy Top Scorer'!DB4,"",'Dummy Top Scorer'!DB5) | C9: =IFERROR(IF(E9="",IF('Dummy Top Scorer'!DC5<>"",'Dummy Top Scorer'!DC5&" ("&'Dummy Top Scorer'!DD5&")",""),VLOOKUP(G9,E8:F17,2,FALSE)),"") -> Niclas Füllkrug (Germany) | F9: =IF(E5<>"",IF('Dummy Top Scorer'!DC5<>"",'Dummy Top Scorer'!DC5&" ("&'Dummy Top Scorer'!DD5&")",""),"") | G9: 2
B10: =IF('Dummy Top Scorer'!DB6='Dummy Top Scorer'!DB5,"",'Dummy Top Scorer'!DB6) | C10: =IFERROR(IF(E10="",IF('Dummy Top Scorer'!DC6<>"",'Dummy Top Scorer'!DC6&" ("&'Dummy Top Scorer'!DD6&")",""),VLOOKUP(G10,E8:F17,2,FALSE)),"") -> Jamal Musiala (Germany) | F10: =IF(AND(E5<>"",'Dummy Top Scorer'!DB6='Dummy Top Scorer'!DB4),IF('Dummy Top Scorer'!DC6<>"",'Dummy Top Scorer'!DC6&" ("&'Dummy Top Scorer'!DD6&")",""),"") | G10: 3
B11: =IF('Dummy Top Scorer'!DB7='Dummy Top Scorer'!DB6,"",'Dummy Top Scorer'!DB7) | C11: =IFERROR(IF(E11="",IF('Dummy Top Scorer'!DC7<>"",'Dummy Top Scorer'!DC7&" ("&'Dummy Top Scorer'!DD7&")",""),VLOOKUP(G11,E8:F17,2,FALSE)),"") -> Florian Wirtz (Germany) | F11: =IF(AND(E5<>"",'Dummy Top Scorer'!DB7='Dummy Top Scorer'!DB4),IF('Dummy Top Scorer'!DC7<>"",'Dummy Top Scorer'!DC7&" ("&'Dummy Top Scorer'!DD7&")",""),"") | G11: 4
B12: =IF('Dummy Top Scorer'!DB8='Dummy Top Scorer'!DB7,"",'Dummy Top Scorer'!DB8) | C12: =IFERROR(IF(E12="",IF('Dummy Top Scorer'!DC8<>"",'Dummy Top Scorer'!DC8&" ("&'Dummy Top Scorer'!DD8&")",""),VLOOKUP(G12,E8:F17,2,FALSE)),"") -> Emre Can (Germany) | F12: =IF(AND(E5<>"",'Dummy Top Scorer'!DB8='Dummy Top Scorer'!DB4),IF('Dummy Top Scorer'!DC8<>"",'Dummy Top Scorer'!DC8&" ("&'Dummy Top Scorer'!DD8&")",""),"") | G12: 5
B13: =IF('Dummy Top Scorer'!DB9='Dummy Top Scorer'!DB8,"",'Dummy Top Scorer'!DB9) | C13: =IFERROR(IF(E13="",IF('Dummy Top Scorer'!DC9<>"",'Dummy Top Scorer'!DC9&" ("&'Dummy Top Scorer'!DD9&")",""),VLOOKUP(G13,E8:F17,2,FALSE)),"") -> Barnabás Varga (Hungary) | F13: =IF(AND(E5<>"",'Dummy Top Scorer'!DB9='Dummy Top Scorer'!DB4),IF('Dummy Top Scorer'!DC9<>"",'Dummy Top Scorer'!DC9&" ("&'Dummy Top Scorer'!DD9&")",""),"") | G13: 6
B14: =IF('Dummy Top Scorer'!DB10='Dummy Top Scorer'!DB9,"",'Dummy Top Scorer'!DB10) | C14: =IFERROR(IF(E14="",IF('Dummy Top Scorer'!DC10<>"",'Dummy Top Scorer'!DC10&" ("&'Dummy Top Scorer'!DD10&")",""),VLOOKUP(G14,E8:F17,2,FALSE)),"") -> Breel Embolo (Switzerland) | F14: =IF(AND(E5<>"",'Dummy Top Scorer'!DB10='Dummy Top Scorer'!DB4),IF('Dummy Top Scorer'!DC10<>"",'Dummy Top Scorer'!DC10&" ("&'Dummy Top Scorer'!DD10&")",""),"") | G14: 7
B15: =IF('Dummy Top Scorer'!DB11='Dummy Top Scorer'!DB10,"",'Dummy Top Scorer'!DB11) | C15: =IFERROR(IF(E15="",IF('Dummy Top Scorer'!DC11<>"",'Dummy Top Scorer'!DC11&" ("&'Dummy Top Scorer'!DD11&")",""),VLOOKUP(G15,E8:F17,2,FALSE)),"") -> Kwadwo Duah (Switzerland) | F15: =IF(AND(E5<>"",'Dummy Top Scorer'!DB11='Dummy Top Scorer'!DB4),IF('Dummy Top Scorer'!DC11<>"",'Dummy Top Scorer'!DC11&" ("&'Dummy Top Scorer'!DD11&")",""),"") | G15: 8
B16: =IF('Dummy Top Scorer'!DB12='Dummy Top Scorer'!DB11,"",'Dummy Top Scorer'!DB12) | C16: =IFERROR(IF(E16="",IF('Dummy Top Scorer'!DC12<>"",'Dummy Top Scorer'!DC12&" ("&'Dummy Top Scorer'!DD12&")",""),VLOOKUP(G16,E8:F17,2,FALSE)),"") -> Michel Aebischer (Switzerland) | F16: =IF(AND(E5<>"",'Dummy Top Scorer'!DB12='Dummy Top Scorer'!DB4),IF('Dummy Top Scorer'!DC12<>"",'Dummy Top Scorer'!DC12&" ("&'Dummy Top Scorer'!DD12&")",""),"") | G16: 9
B17: =IF('Dummy Top Scorer'!DB13='Dummy Top Scorer'!DB12,"",'Dummy Top Scorer'!DB13) | C17: =IFERROR(IF(E17="",IF('Dummy Top Scorer'!DC13<>"",'Dummy Top Scorer'!DC13&" ("&'Dummy Top Scorer'!DD13&")",""),VLOOKUP(G17,E8:F17,2,FALSE)),"") -> Nicolò Barella (Italy) | F17: =IF(AND(E5<>"",'Dummy Top Scorer'!DB13='Dummy Top Scorer'!DB4),IF('Dummy Top Scorer'!DC13<>"",'Dummy Top Scorer'!DC13&" ("&'Dummy Top Scorer'!DD13&")",""),"") | G17: 10
B18: =IF('Dummy Top Scorer'!DB14='Dummy Top Scorer'!DB13,"",'Dummy Top Scorer'!DB14) | C18: =IF('Dummy Top Scorer'!DC14<>"",'Dummy Top Scorer'!DC14&" ("&'Dummy Top Scorer'!DD14&")","") -> Alessandro Bastoni (Italy)
B19: =IF('Dummy Top Scorer'!DB15='Dummy Top Scorer'!DB14,"",'Dummy Top Scorer'!DB15) | C19: =IF('Dummy Top Scorer'!DC15<>"",'Dummy Top Scorer'!DC15&" ("&'Dummy Top Scorer'!DD15&")","") -> Nedim Bajrami (Albania)
B20: =IF('Dummy Top Scorer'!DB16='Dummy Top Scorer'!DB15,"",'Dummy Top Scorer'!DB16) | C20: =IF('Dummy Top Scorer'!DC16<>"",'Dummy Top Scorer'!DC16&" ("&'Dummy Top Scorer'!DD16&")","") -> Dani Carvajal (Spain)
B21: =IF('Dummy Top Scorer'!DB17='Dummy Top Scorer'!DB16,"",'Dummy Top Scorer'!DB17) | C21: =IF('Dummy Top Scorer'!DC17<>"",'Dummy Top Scorer'!DC17&" ("&'Dummy Top Scorer'!DD17&")","") -> Álvaro Morata (Spain)
B22: =IF('Dummy Top Scorer'!DB18='Dummy Top Scorer'!DB17,"",'Dummy Top Scorer'!DB18) | C22: =IF('Dummy Top Scorer'!DC18<>"",'Dummy Top Scorer'!DC18&" ("&'Dummy Top Scorer'!DD18&")","") -> Fabián Ruiz (Spain)
B23: =IF('Dummy Top Scorer'!DB19='Dummy Top Scorer'!DB18,"",'Dummy Top Scorer'!DB19) | C23: =IF('Dummy Top Scorer'!DC19<>"",'Dummy Top Scorer'!DC19&" ("&'Dummy Top Scorer'!DD19&")","")
B24: =IF('Dummy Top Scorer'!DB20='Dummy Top Scorer'!DB19,"",'Dummy Top Scorer'!DB20) | C24: =IF('Dummy Top Scorer'!DC20<>"",'Dummy Top Scorer'!DC20&" ("&'Dummy Top Scorer'!DD20&")","")
B25: =IF('Dummy Top Scorer'!DB21='Dummy Top Scorer'!DB20,"",'Dummy Top Scorer'!DB21) | C25: =IF('Dummy Top Scorer'!DC21<>"",'Dummy Top Scorer'!DC21&" ("&'Dummy Top Scorer'!DD21&")","")
B26: =IF('Dummy Top Scorer'!DB22='Dummy Top Scorer'!DB21,"",'Dummy Top Scorer'!DB22) | C26: =IF('Dummy Top Scorer'!DC22<>"",'Dummy Top Scorer'!DC22&" ("&'Dummy Top Scorer'!DD22&")","")
B27: =IF('Dummy Top Scorer'!DB23='Dummy Top Scorer'!DB22,"",'Dummy Top Scorer'!DB23) | C27: =IF('Dummy Top Scorer'!DC23<>"",'Dummy Top Scorer'!DC23&" ("&'Dummy Top Scorer'!DD23&")","")
B28: =IF('Dummy Top Scorer'!DB24='Dummy Top Scorer'!DB23,"",'Dummy Top Scorer'!DB24) | C28: =IF('Dummy Top Scorer'!DC24<>"",'Dummy Top Scorer'!DC24&" ("&'Dummy Top Scorer'!DD24&")","")
B29: =IF('Dummy Top Scorer'!DB25='Dummy Top Scorer'!DB24,"",'Dummy Top Scorer'!DB25) | C29: =IF('Dummy Top Scorer'!DC25<>"",'Dummy Top Scorer'!DC25&" ("&'Dummy Top Scorer'!DD25&")","")
... B51: =IF('Dummy Top Scorer'!DB47='Dummy Top Scorer'!DB46,"",'Dummy Top Scorer'!DB47) | C51: =IF('Dummy Top Scorer'!DC47<>"",'Dummy Top Scorer'!DC47&" ("&'Dummy Top Scorer'!DD47&")","")

Sheet Group Stages
J1: 1 | K1: 2 | L1: 3 | M1: 4 | N1: 5 | O1: 6 | P1: 7 | Q1: 8
B3: =Tournament!B3 -> EURO 2024 FIXTURES
B5: Group | C5: =Tournament!B5 -> Match # | D5: =Tournament!E5 -> Date | E5: =Tournament!F5 -> Time | F5: =Tournament!G5 -> Country | H5: =Tournament!H5 -> Score | J5: 1st | K5: 2nd | L5: 3rd | M5: 4th | N5: 5th | O5: 6th | P5: 7th | Q5: 8th
D7: Y
B8: =OFFSET(Tournament!$C$7,C8-1,0) -> A | C8: 1 | D8: =E8 -> 45457.875 | E8: =OFFSET(Tournament!$F$7,C8-1,0) -> 45457.875 | F8: =OFFSET(Tournament!$G$7,C8-1,0) -> Germany | G8: } | H8: 5 | I8: } | J8: Florian Wirtz | K8: Jamal Musiala | L8: Kai Havertz | M8: Niclas Füllkrug | N8: Emre Can
D9: =OFFSET(Tournament!$M$7,C8-1,0) -> Munich | F9: =OFFSET(Tournament!$J$7,C8-1,0) -> Scotland | G9: } | H9: 1 | I9: } | J9: Antonio Rüdiger (og) | T9: musadya
B10: =OFFSET(Tournament!$C$7,C10-1,0) -> A | C10: 2 | D10: =E10 -> 45458.625 | E10: =OFFSET(Tournament!$F$7,C10-1,0) -> 45458.625 | F10: =OFFSET(Tournament!$G$7,C10-1,0) -> Hungary | G10: } | H10: 1 | I10: } | J10: Barnabás Varga
D11: =OFFSET(Tournament!$M$7,C10-1,0) -> Cologne | F11: =OFFSET(Tournament!$J$7,C10-1,0) -> Switzerland | G11: } | H11: 3 | I11: } | J11: Kwadwo Duah | K11: Michel Aebischer | L11: Breel Embolo
B12: =OFFSET(Tournament!$C$7,C12-1,0) -> B | C12: 3 | D12: =E12 -> 45458.75 | E12: =OFFSET(Tournament!$F$7,C12-1,0) -> 45458.75 | F12: =OFFSET(Tournament!$G$7,C12-1,0) -> Spain | G12: } | H12: 3 | I12: } | J12: Álvaro Morata | K12: Fabián Ruiz | L12: Dani Carvajal
D13: =OFFSET(Tournament!$M$7,C12-1,0) -> Berlin | F13: =OFFSET(Tournament!$J$7,C12-1,0) -> Croatia | G13: } | H13: 0 | I13: }
B14: =OFFSET(Tournament!$C$7,C14-1,0) -> B | C14: 4 | D14: =E14 -> 45458.875 | E14: =OFFSET(Tournament!$F$7,C14-1,0) -> 45458.875 | F14: =OFFSET(Tournament!$G$7,C14-1,0) -> Italy | G14: } | H14: 2 | I14: } | J14: Alessandro Bastoni | K14: Nicolò Barella
D15: =OFFSET(Tournament!$M$7,C14-1,0) -> Dortmund | F15: =OFFSET(Tournament!$J$7,C14-1,0) -> Albania | G15: } | H15: 1 | I15: } | J15: Nedim Bajrami
B16: =OFFSET(Tournament!$C$7,C16-1,0) -> C | C16: 5 | D16: =E16 -> 45459.875 | E16: =OFFSET(Tournament!$F$7,C16-1,0) -> 45459.875 | F16: =OFFSET(Tournament!$G$7,C16-1,0) -> Serbia | G16: } | I16: }
D17: =OFFSET(Tournament!$M$7,C16-1,0) -> Gelsenkirchen | F17: =OFFSET(Tournament!$J$7,C16-1,0) -> England | G17: } | I17: }
B18: =OFFSET(Tournament!$C$7,C18-1,0) -> C | C18: 6 | D18: =E18 -> 45459.75 | E18: =OFFSET(Tournament!$F$7,C18-1,0) -> 45459.75 | F18: =OFFSET(Tournament!$G$7,C18-1,0) -> Slovenia | G18: } | I18: }
D19: =OFFSET(Tournament!$M$7,C18-1,0) -> Stuttgart | F19: =OFFSET(Tournament!$J$7,C18-1,0) -> Denmark | G19: } | I19: }
B20: =OFFSET(Tournament!$C$7,C20-1,0) -> D | C20: 7 | D20: =E20 -> 45459.625 | E20: =OFFSET(Tournament!$F$7,C20-1,0) -> 45459.625 | F20: =OFFSET(Tournament!$G$7,C20-1,0) -> Poland | G20: } | I20: }
D21: =OFFSET(Tournament!$M$7,C20-1,0) -> Hamburg | F21: =OFFSET(Tournament!$J$7,C20-1,0) -> Netherlands | G21: } | I21: }
B22: =OFFSET(Tournament!$C$7,C22-1,0) -> D | C22: 8 | D22: =E22 -> 45460.875 | E22: =OFFSET(Tournament!$F$7,C22-1,0) -> 45460.875 | F22: =OFFSET(Tournament!$G$7,C22-1,0) -> Austria | G22: } | I22: }
D23: =OFFSET(Tournament!$M$7,C22-1,0) -> Dusseldorf | F23: =OFFSET(Tournament!$J$7,C22-1,0) -> France | G23: } | I23: }
B24: =OFFSET(Tournament!$C$7,C24-1,0) -> E | C24: 9 | D24: =E24 -> 45460.75 | E24: =OFFSET(Tournament!$F$7,C24-1,0) -> 45460.75 | F24: =OFFSET(Tournament!$G$7,C24-1,0) -> Belgium | G24: } | I24: }
D25: =OFFSET(Tournament!$M$7,C24-1,0) -> Frankfurt | F25: =OFFSET(Tournament!$J$7,C24-1,0) -> Slovakia | G25: } | I25: }
B26: =OFFSET(Tournament!$C$7,C26-1,0) -> E | C26: 10 | D26: =E26 -> 45460.625 | E26: =OFFSET(Tournament!$F$7,C26-1,0) -> 45460.625 | F26: =OFFSET(Tournament!$G$7,C26-1,0) -> Romania | G26: } | I26: }
D27: =OFFSET(Tournament!$M$7,C26-1,0) -> Munich | F27: =OFFSET(Tournament!$J$7,C26-1,0) -> Ukraine | G27: } | I27: }
B28: =OFFSET(Tournament!$C$7,C28-1,0) -> F | C28: 11 | D28: =E28 -> 45461.75 | E28: =OFFSET(Tournament!$F$7,C28-1,0) -> 45461.75 | F28: =OFFSET(Tournament!$G$7,C28-1,0) -> Türkiye | G28: } | I28: }
D29: =OFFSET(Tournament!$M$7,C28-1,0) -> Dortmund | F29: =OFFSET(Tournament!$J$7,C28-1,0) -> Georgia | G29: } | I29: }
B30: =OFFSET(Tournament!$C$7,C30-1,0) -> F | C30: 12 | D30: =E30 -> 45461.875 | E30: =OFFSET(Tournament!$F$7,C30-1,0) -> 45461.875 | F30: =OFFSET(Tournament!$G$7,C30-1,0) -> Portugal | G30: } | I30: }
D31: =OFFSET(Tournament!$M$7,C30-1,0) -> Leipzig | F31: =OFFSET(Tournament!$J$7,C30-1,0) -> Czechia | G31: } | I31: }
B32: =OFFSET(Tournament!$C$7,C32-1,0) -> A | C32: 13 | D32: =E32 -> 45462.875 | E32: =OFFSET(Tournament!$F$7,C32-1,0) -> 45462.875 | F32: =OFFSET(Tournament!$G$7,C32-1,0) -> Scotland | G32: } | I32: }
D33: =OFFSET(Tournament!$M$7,C32-1,0) -> Cologne | F33: =OFFSET(Tournament!$J$7,C32-1,0) -> Switzerland | G33: } | I33: }
B34: =OFFSET(Tournament!$C$7,C34-1,0) -> A | C34: 14 | D34: =E34 -> 45462.75 | E34: =OFFSET(Tournament!$F$7,C34-1,0) -> 45462.75 | F34: =OFFSET(Tournament!$G$7,C34-1,0) -> Germany | G34: } | I34: }
D35: =OFFSET(Tournament!$M$7,C34-1,0) -> Stuttgart | F35: =OFFSET(Tournament!$J$7,C34-1,0) -> Hungary | G35: } | I35: }
B36: =OFFSET(Tournament!$C$7,C36-1,0) -> B | C36: 15 | D36: =E36 -> 45462.625 | E36: =OFFSET(Tournament!$F$7,C36-1,0) -> 45462.625 | F36: =OFFSET(Tournament!$G$7,C36-1,0) -> Croatia | G36: } | I36: }
D37: =OFFSET(Tournament!$M$7,C36-1,0) -> Hamburg | F37: =OFFSET(Tournament!$J$7,C36-1,0) -> Albania | G37: } | I37: }
B38: =OFFSET(Tournament!$C$7,C38-1,0) -> B | C38: 16 | D38: =E38 -> 45463.875 | E38: =OFFSET(Tournament!$F$7,C38-1,0) -> 45463.875 | F38: =OFFSET(Tournament!$G$7,C38-1,0) -> Spain | G38: } | I38: }
D39: =OFFSET(Tournament!$M$7,C38-1,0) -> Gelsenkirchen | F39: =OFFSET(Tournament!$J$7,C38-1,0) -> Italy | G39: } | I39: }
B40: =OFFSET(Tournament!$C$7,C40-1,0) -> C | C40: 17 | D40: =E40 -> 45463.75 | E40: =OFFSET(Tournament!$F$7,C40-1,0) -> 45463.75 | F40: =OFFSET(Tournament!$G$7,C40-1,0) -> Denmark | G40: } | I40: }
D41: =OFFSET(Tournament!$M$7,C40-1,0) -> Frankfurt | F41: =OFFSET(Tournament!$J$7,C40-1,0) -> England | G41: } | I41: }
B42: =OFFSET(Tournament!$C$7,C42-1,0) -> C | C42: 18 | D42: =E42 -> 45463.625 | E42: =OFFSET(Tournament!$F$7,C42-1,0) -> 45463.625 | F42: =OFFSET(Tournament!$G$7,C42-1,0) -> Slovenia | G42: } | I42: }
D43: =OFFSET(Tournament!$M$7,C42-1,0) -> Munich | F43: =OFFSET(Tournament!$J$7,C42-1,0) -> Serbia | G43: } | I43: }
B44: =OFFSET(Tournament!$C$7,C44-1,0) -> D | C44: 19 | D44: =E44 -> 45464.75 | E44: =OFFSET(Tournament!$F$7,C44-1,0) -> 45464.75 | F44: =OFFSET(Tournament!$G$7,C44-1,0) -> Poland | G44: } | I44: }
D45: =OFFSET(Tournament!$M$7,C44-1,0) -> Berlin | F45: =OFFSET(Tournament!$J$7,C44-1,0) -> Austria | G45: } | I45: }
B46: =OFFSET(Tournament!$C$7,C46-1,0) -> D | C46: 20 | D46: =E46 -> 45464.875 | E46: =OFFSET(Tournament!$F$7,C46-1,0) -> 45464.875 | F46: =OFFSET(Tournament!$G$7,C46-1,0) -> Netherlands | G46: } | I46: }
D47: =OFFSET(Tournament!$M$7,C46-1,0) -> Leipzig | F47: =OFFSET(Tournament!$J$7,C46-1,0) -> France | G47: } | I47: }
B48: =OFFSET(Tournament!$C$7,C48-1,0) -> E | C48: 21 | D48: =E48 -> 45464.625 | E48: =OFFSET(Tournament!$F$7,C48-1,0) -> 45464.625 | F48: =OFFSET(Tournament!$G$7,C48-1,0) -> Slovakia | G48: } | I48: }
D49: =OFFSET(Tournament!$M$7,C48-1,0) -> Dusseldorf | F49: =OFFSET(Tournament!$J$7,C48-1,0) -> Ukraine | G49: } | I49: }
B50: =OFFSET(Tournament!$C$7,C50-1,0) -> E | C50: 22 | D50: =E50 -> 45465.875 | E50: =OFFSET(Tournament!$F$7,C50-1,0) -> 45465.875 | F50: =OFFSET(Tournament!$G$7,C50-1,0) -> Belgium | G50: } | I50: }
D51: =OFFSET(Tournament!$M$7,C50-1,0) -> Cologne | F51: =OFFSET(Tournament!$J$7,C50-1,0) -> Romania | G51: } | I51: }
B52: =OFFSET(Tournament!$C$7,C52-1,0) -> F | C52: 23 | D52: =E52 -> 45465.75 | E52: =OFFSET(Tournament!$F$7,C52-1,0) -> 45465.75 | F52: =OFFSET(Tournament!$G$7,C52-1,0) -> Türkiye | G52: } | I52: }
D53: =OFFSET(Tournament!$M$7,C52-1,0) -> Dortmund | F53: =OFFSET(Tournament!$J$7,C52-1,0) -> Portugal | G53: } | I53: }
B54: =OFFSET(Tournament!$C$7,C54-1,0) -> F | C54: 24 | D54: =E54 -> 45465.625 | E54: =OFFSET(Tournament!$F$7,C54-1,0) -> 45465.625 | F54: =OFFSET(Tournament!$G$7,C54-1,0) -> Georgia | G54: } | I54: }
D55: =OFFSET(Tournament!$M$7,C54-1,0) -> Hamburg | F55: =OFFSET(Tournament!$J$7,C54-1,0) -> Czechia | G55: } | I55: }
B56: =OFFSET(Tournament!$C$7,C56-1,0) -> A | C56: 25 | D56: =E56 -> 45466.875 | E56: =OFFSET(Tournament!$F$7,C56-1,0) -> 45466.875 | F56: =OFFSET(Tournament!$G$7,C56-1,0) -> Switzerland | G56: } | I56: }
D57: =OFFSET(Tournament!$M$7,C56-1,0) -> Frankfurt | F57: =OFFSET(Tournament!$J$7,C56-1,0) -> Germany | G57: } | I57: }
B58: =OFFSET(Tournament!$C$7,C58-1,0) -> A | C58: 26 | D58: =E58 -> 45466.875 | E58: =OFFSET(Tournament!$F$7,C58-1,0) -> 45466.875 | F58: =OFFSET(Tournament!$G$7,C58-1,0) -> Scotland | G58: } | I58: }
D59: =OFFSET(Tournament!$M$7,C58-1,0) -> Stuttgart | F59: =OFFSET(Tournament!$J$7,C58-1,0) -> Hungary | G59: } | I59: }
B60: =OFFSET(Tournament!$C$7,C60-1,0) -> B | C60: 27 | D60: =E60 -> 45467.875 | E60: =OFFSET(Tournament!$F$7,C60-1,0) -> 45467.875 | F60: =OFFSET(Tournament!$G$7,C60-1,0) -> Albania | G60: } | I60: }
D61: =OFFSET(Tournament!$M$7,C60-1,0) -> Dusseldorf | F61: =OFFSET(Tournament!$J$7,C60-1,0) -> Spain | G61: } | I61: }
B62: =OFFSET(Tournament!$C$7,C62-1,0) -> B | C62: 28 | D62: =E62 -> 45467.875 | E62: =OFFSET(Tournament!$F$7,C62-1,0) -> 45467.875 | F62: =OFFSET(Tournament!$G$7,C62-1,0) -> Croatia | G62: } | I62: }
D63: =OFFSET(Tournament!$M$7,C62-1,0) -> Leipzig | F63: =OFFSET(Tournament!$J$7,C62-1,0) -> Italy | G63: } | I63: }
B64: =OFFSET(Tournament!$C$7,C64-1,0) -> C | C64: 29 | D64: =E64 -> 45468.875 | E64: =OFFSET(Tournament!$F$7,C64-1,0) -> 45468.875 | F64: =OFFSET(Tournament!$G$7,C64-1,0) -> England | G64: } | I64: }
D65: =OFFSET(Tournament!$M$7,C64-1,0) -> Cologne | F65: =OFFSET(Tournament!$J$7,C64-1,0) -> Slovenia | G65: } | I65: }
B66: =OFFSET(Tournament!$C$7,C66-1,0) -> C | C66: 30 | D66: =E66 -> 45468.875 | E66: =OFFSET(Tournament!$F$7,C66-1,0) -> 45468.875 | F66: =OFFSET(Tournament!$G$7,C66-1,0) -> Denmark | G66: } | I66: }
D67: =OFFSET(Tournament!$M$7,C66-1,0) -> Munich | F67: =OFFSET(Tournament!$J$7,C66-1,0) -> Serbia | G67: } | I67: }
B68: =OFFSET(Tournament!$C$7,C68-1,0) -> D | C68: 31 | D68: =E68 -> 45468.75 | E68: =OFFSET(Tournament!$F$7,C68-1,0) -> 45468.75 | F68: =OFFSET(Tournament!$G$7,C68-1,0) -> Netherlands | G68: } | I68: }
D69: =OFFSET(Tournament!$M$7,C68-1,0) -> Berlin | F69: =OFFSET(Tournament!$J$7,C68-1,0) -> Austria | G69: } | I69: }
B70: =OFFSET(Tournament!$C$7,C70-1,0) -> D | C70: 32 | D70: =E70 -> 45468.75 | E70: =OFFSET(Tournament!$F$7,C70-1,0) -> 45468.75 | F70: =OFFSET(Tournament!$G$7,C70-1,0) -> France | G70: } | I70: }
D71: =OFFSET(Tournament!$M$7,C70-1,0) -> Dortmund | F71: =OFFSET(Tournament!$J$7,C70-1,0) -> Poland | G71: } | I71: }
B72: =OFFSET(Tournament!$C$7,C72-1,0) -> E | C72: 33 | D72: =E72 -> 45469.75 | E72: =OFFSET(Tournament!$F$7,C72-1,0) -> 45469.75 | F72: =OFFSET(Tournament!$G$7,C72-1,0) -> Slovakia | G72: } | I72: }
D73: =OFFSET(Tournament!$M$7,C72-1,0) -> Frankfurt | F73: =OFFSET(Tournament!$J$7,C72-1,0) -> Romania | G73: } | I73: }
B74: =OFFSET(Tournament!$C$7,C74-1,0) -> E | C74: 34 | D74: =E74 -> 45469.75 | E74: =OFFSET(Tournament!$F$7,C74-1,0) -> 45469.75 | F74: =OFFSET(Tournament!$G$7,C74-1,0) -> Ukraine | G74: } | I74: }
D75: =OFFSET(Tournament!$M$7,C74-1,0) -> Stuttgart | F75: =OFFSET(Tournament!$J$7,C74-1,0) -> Belgium | G75: } | I75: }
B76: =OFFSET(Tournament!$C$7,C76-1,0) -> F | C76: 35 | D76: =E76 -> 45469.875 | E76: =OFFSET(Tournament!$F$7,C76-1,0) -> 45469.875 | F76: =OFFSET(Tournament!$G$7,C76-1,0) -> Georgia | G76: } | I76: }
D77: =OFFSET(Tournament!$M$7,C76-1,0) -> Gelsenkirchen | F77: =OFFSET(Tournament!$J$7,C76-1,0) -> Portugal | G77: } | I77: }
B78: =OFFSET(Tournament!$C$7,C78-1,0) -> F | C78: 36 | D78: =E78 -> 45469.875 | E78: =OFFSET(Tournament!$F$7,C78-1,0) -> 45469.875 | F78: =OFFSET(Tournament!$G$7,C78-1,0) -> Czechia | G78: } | I78: }
D79: =OFFSET(Tournament!$M$7,C78-1,0) -> Hamburg | F79: =OFFSET(Tournament!$J$7,C78-1,0) -> Türkiye | G79: } | I79: }
B82: © 2024 | journalSHEET.com

Sheet Dummy Top Scorer
AI1: 1 | AJ1: 2 | AK1: 3 | AL1: 4 | AM1: 5 | AN1: 6 | AO1: 7 | AP1: 8 | AQ1: 9 | AR1: 10 | AS1: 11 | AT1: 12 | AU1: 13 | AV1: 14 | AW1: 15 | AX1: 16 | AZ1: 1 | BA1: 2 | BB1: 3 | BC1: 4 | BD1: 5 | BE1: 6 | BF1: 7 | BG1: 8 | BI1: 1 | BJ1: 2 | BK1: 3 | BL1: 4 | BN1: 31 | BO1: 32 | BQ1: 1 | BR1: 2 | BX1: All Players | CC1: =IF(CC2<>0,CD1+1,CD1) -> 15 | CD1: =IF(CD2<>0,CE1+1,CE1) -> 14 | CE1: =IF(CE2<>0,CF1+1,CF1) -> 13 | CF1: =IF(CF2<>0,CG1+1,CG1) -> 12 | CG1: =IF(CG2<>0,CH1+1,CH1) -> 11 | CH1: =IF(CH2<>0,CI1+1,CI1) -> 10 | CI1: =IF(CI2<>0,CJ1+1,CJ1) -> 9 | CJ1: =IF(CJ2<>0,CK1+1,CK1) -> 8 | ... CQ1: =IF(CQ2<>0,CR1+1,CR1) -> 1 | CR1: 0
A2: 1 | B2: ='Player Database'!C5 -> Germany | C2: ='Player Database'!D5 -> Scotland | D2: ='Player Database'!E5 -> Hungary | E2: ='Player Database'!F5 -> Switzerland | F2: ='Player Database'!G5 -> Italy | G2: ='Player Database'!H5 -> Albania | H2: ='Player Database'!I5 -> Spain | I2: ='Player Database'!J5 -> Croatia | ... Y2: ='Player Database'!Z5 -> Georgia | AI2: ='Knock Out Stages'!$F7 -> Group A Winner | AJ2: ='Knock Out Stages'!$F8 -> Group C Runner Up | AK2: ='Knock Out Stages'!$F9 -> Group A Runner Up | AL2: ='Knock Out Stages'!$F10 -> Group B Runner Up | AM2: ='Knock Out Stages'!$F11 -> Group B Winner | AN2: ='Knock Out Stages'!$F12 -> Group A/D/E/F 3rd Place | AO2: ='Knock Out Stages'!$F13 -> Group C Winner | AP2: ='Knock Out Stages'!$F14 -> Group D/E/F 3rd Place | AQ2: ='Knock Out Stages'!$F15 -> Group F Winner | AR2: ='Knock Out Stages'!$F16 -> Group A/B/C 3rd Place | AS2: ='Knock Out Stages'!$F17 -> Group D Runner Up | AT2: ='Knock Out Stages'!$F18 -> Group E Runner Up | AU2: ='Knock Out Stages'!$F19 -> Group E Winner | AV2: ='Knock Out Stages'!$F20 -> Group A/B/C/D 3rd Place | AW2: ='Knock Out Stages'!$F21 -> Group D Winner | AX2: ='Knock Out Stages'!$F22 -> Group F Runner Up | AZ2: ='Knock Out Stages'!$F26 -> Match 39 Winner | BA2: ='Knock Out Stages'!$F27 -> Match 37 Winner | BB2: ='Knock Out Stages'!$F28 -> Match 41 Winner | BC2: ='Knock Out Stages'!$F29 -> Match 42 Winner | BD2: ='Knock Out Stages'!$F30 -> Match 43 Winner | BE2: ='Knock Out Stages'!$F31 -> Match 44 Winner | BF2: ='Knock Out Stages'!$F32 -> Match 40 Winner | BG2: ='Knock Out Stages'!$F33 -> Match 38 Winner | BI2: ='Knock Out Stages'!$F37 -> Match 45 Winner | BJ2: ='Knock Out Stages'!$F38 -> Match 46 Winner | BK2: ='Knock Out Stages'!$F39 -> Match 47 Winner | BL2: ='Knock Out Stages'!$F40 -> Match 48 Winner | BN2: ='Knock Out Stages'!#REF! -> #REF! | BO2: ='Knock Out Stages'!#REF! -> #REF! | BQ2: ='Knock Out Stages'!$F44 -> Match 49 Winner | BR2: ='Knock Out Stages'!$F45 -> Match 50 Winner | CC2: =COUNTA(CC4:CC45) -> 42 | CD2: =COUNTA(CD4:CD45) -> 42 | CE2: =COUNTA(CE4:CE45) -> 42 | CF2: =COUNTA(CF4:CF45) -> 42 | CG2: =COUNTA(CG4:CG45) -> 42 | CH2: =COUNTA(CH4:CH45) -> 42 | CI2: =COUNTA(CI4:CI45) -> 42 | CJ2: =COUNTA(CJ4:CJ45) -> 42 | ... CQ2: =COUNTA(CQ4:CQ45) -> 42
A3: 1 | B3: ='Player Database'!C6 -> Manuel Neuer | C3: ='Player Database'!D6 -> Angus Gunn | D3: ='Player Database'!E6 -> Péter Gulácsi | E3: ='Player Database'!F6 -> Yann Sommer | F3: ='Player Database'!G6 -> Gianluigi Donnarumma | G3: ='Player Database'!H6 -> Etrit Berisha | H3: ='Player Database'!I6 -> David Raya | I3: ='Player Database'!J6 -> Dominik Livaković | ... Y3: ='Player Database'!Z6 -> Giorgi Loria | AI3: =IFERROR(INDEX($B$3:$AG$28,$A3,MATCH(AI$2,$B$2:$AG$2,0)),"") | AJ3: =IFERROR(INDEX($B$3:$AG$28,$A3,MATCH(AJ$2,$B$2:$AG$2,0)),"") | AK3: =IFERROR(INDEX($B$3:$AG$28,$A3,MATCH(AK$2,$B$2:$AG$2,0)),"") | AL3: =IFERROR(INDEX($B$3:$AG$28,$A3,MATCH(AL$2,$B$2:$AG$2,0)),"") | AM3: =IFERROR(INDEX($B$3:$AG$28,$A3,MATCH(AM$2,$B$2:$AG$2,0)),"") | AN3: =IFERROR(INDEX($B$3:$AG$28,$A3,MATCH(AN$2,$B$2:$AG$2,0)),"") | AO3: =IFERROR(INDEX($B$3:$AG$28,$A3,MATCH(AO$2,$B$2:$AG$2,0)),"") | AP3: =IFERROR(INDEX($B$3:$AG$28,$A3,MATCH(AP$2,$B$2:$AG$2,0)),"") | ... AX3: =IFERROR(INDEX($B$3:$AG$28,$A3,MATCH(AX$2,$B$2:$AG$2,0)),"") | AZ3: =IFERROR(INDEX($B$3:$AG$28,$A3,MATCH(AZ$2,$B$2:$AG$2,0)),"") | BA3: =IFERROR(INDEX($B$3:$AG$28,$A3,MATCH(BA$2,$B$2:$AG$2,0)),"") | BB3: =IFERROR(INDEX($B$3:$AG$28,$A3,MATCH(BB$2,$B$2:$AG$2,0)),"") | BC3: =IFERROR(INDEX($B$3:$AG$28,$A3,MATCH(BC$2,$B$2:$AG$2,0)),"") | BD3: =IFERROR(INDEX($B$3:$AG$28,$A3,MATCH(BD$2,$B$2:$AG$2,0)),"") | BE3: =IFERROR(INDEX($B$3:$AG$28,$A3,MATCH(BE$2,$B$2:$AG$2,0)),"") | BF3: =IFERROR(INDEX($B$3:$AG$28,$A3,MATCH(BF$2,$B$2:$AG$2,0)),"") | BG3: =IFERROR(INDEX($B$3:$AG$28,$A3,MATCH(BG$2,$B$2:$AG$2,0)),"") | BI3: =IFERROR(INDEX($B$3:$AG$28,$A3,MATCH(BI$2,$B$2:$AG$2,0)),"") | BJ3: =IFERROR(INDEX($B$3:$AG$28,$A3,MATCH(BJ$2,$B$2:$AG$2,0)),"") | BK3: =IFERROR(INDEX($B$3:$AG$28,$A3,MATCH(BK$2,$B$2:$AG$2,0)),"") | BL3: =IFERROR(INDEX($B$3:$AG$28,$A3,MATCH(BL$2,$B$2:$AG$2,0)),"") | BN3: =IFERROR(INDEX($B$3:$AG$28,$A3,MATCH(BN$2,$B$2:$AG$2,0)),"") | BO3: =IFERROR(INDEX($B$3:$AG$28,$A3,MATCH(BO$2,$B$2:$AG$2,0)),"") | BQ3: =IFERROR(INDEX($B$3:$AG$28,$A3,MATCH(BQ$2,$B$2:$AG$2,0)),"") | BR3: =IFERROR(INDEX($B$3:$AG$28,$A3,MATCH(BR$2,$B$2:$AG$2,0)),"") | BT3: =B2 -> Germany | BU3: 1 | BW3: 1 | BX3: =B3 -> Manuel Neuer | BY3: =COUNTIF('Group Stages'!$J$8:$Q$80,BX3)+COUNTIF('Knock Out Stages'!$K$7:$R$45,BX3) -> 0 | CA3: ='Player Database'!C6 -> Manuel Neuer | CC3: 1 | CD3: 2 | CE3: 3 | CF3: 4 | CG3: 5 | CH3: 6 | CI3: 7 | CJ3: 8 | CK3: 9 | CL3: 10 | CM3: 11 | CN3: 12 | CO3: 13 | CP3: 14 | CQ3: 15 | CW3: 0
A4: 2 | B4: ='Player Database'!C7 -> Antonio Rüdiger | C4: ='Player Database'!D7 -> Anthony Ralston | D4: ='Player Database'!E7 -> Ádám Lang | E4: ='Player Database'!F7 -> Leonidas Stergiou | F4: ='Player Database'!G7 -> Giovanni Di Lorenzo | G4: ='Player Database'!H7 -> Iván Balliu | H4: ='Player Database'!I7 -> Dani Carvajal | I4: ='Player Database'!J7 -> Josip Stanišić | ... Y4: ='Player Database'!Z7 -> Otar Kakabadze | AI4: =IFERROR(INDEX($B$3:$AG$28,$A4,MATCH(AI$2,$B$2:$AG$2,0)),"") | AJ4: =IFERROR(INDEX($B$3:$AG$28,$A4,MATCH(AJ$2,$B$2:$AG$2,0)),"") | AK4: =IFERROR(INDEX($B$3:$AG$28,$A4,MATCH(AK$2,$B$2:$AG$2,0)),"") | AL4: =IFERROR(INDEX($B$3:$AG$28,$A4,MATCH(AL$2,$B$2:$AG$2,0)),"") | AM4: =IFERROR(INDEX($B$3:$AG$28,$A4,MATCH(AM$2,$B$2:$AG$2,0)),"") | AN4: =IFERROR(INDEX($B$3:$AG$28,$A4,MATCH(AN$2,$B$2:$AG$2,0)),"") | AO4: =IFERROR(INDEX($B$3:$AG$28,$A4,MATCH(AO$2,$B$2:$AG$2,0)),"") | AP4: =IFERROR(INDEX($B$3:$AG$28,$A4,MATCH(AP$2,$B$2:$AG$2,0)),"") | ... AX4: =IFERROR(INDEX($B$3:$AG$28,$A4,MATCH(AX$2,$B$2:$AG$2,0)),"") | AZ4: =IFERROR(INDEX($B$3:$AG$28,$A4,MATCH(AZ$2,$B$2:$AG$2,0)),"") | BA4: =IFERROR(INDEX($B$3:$AG$28,$A4,MATCH(BA$2,$B$2:$AG$2,0)),"") | BB4: =IFERROR(INDEX($B$3:$AG$28,$A4,MATCH(BB$2,$B$2:$AG$2,0)),"") | BC4: =IFERROR(INDEX($B$3:$AG$28,$A4,MATCH(BC$2,$B$2:$AG$2,0)),"") | BD4: =IFERROR(INDEX($B$3:$AG$28,$A4,MATCH(BD$2,$B$2:$AG$2,0)),"") | BE4: =IFERROR(INDEX($B$3:$AG$28,$A4,MATCH(BE$2,$B$2:$AG$2,0)),"") | BF4: =IFERROR(INDEX($B$3:$AG$28,$A4,MATCH(BF$2,$B$2:$AG$2,0)),"") | BG4: =IFERROR(INDEX($B$3:$AG$28,$A4,MATCH(BG$2,$B$2:$AG$2,0)),"") | BI4: =IFERROR(INDEX($B$3:$AG$28,$A4,MATCH(BI$2,$B$2:$AG$2,0)),"") | BJ4: =IFERROR(INDEX($B$3:$AG$28,$A4,MATCH(BJ$2,$B$2:$AG$2,0)),"") | BK4: =IFERROR(INDEX($B$3:$AG$28,$A4,MATCH(BK$2,$B$2:$AG$2,0)),"") | BL4: =IFERROR(INDEX($B$3:$AG$28,$A4,MATCH(BL$2,$B$2:$AG$2,0)),"") | BN4: =IFERROR(INDEX($B$3:$AG$28,$A4,MATCH(BN$2,$B$2:$AG$2,0)),"") | BO4: =IFERROR(INDEX($B$3:$AG$28,$A4,MATCH(BO$2,$B$2:$AG$2,0)),"") | BQ4: =IFERROR(INDEX($B$3:$AG$28,$A4,MATCH(BQ$2,$B$2:$AG$2,0)),"") | BR4: =IFERROR(INDEX($B$3:$AG$28,$A4,MATCH(BR$2,$B$2:$AG$2,0)),"") | BT4: =BT3 -> Germany | BU4: =BU3+1 -> 2 | BW4: 1 | BX4: =B4 -> Antonio Rüdiger | BY4: =COUNTIF('Group Stages'!$J$8:$Q$80,BX4)+COUNTIF('Knock Out Stages'!$K$7:$R$45,BX4) -> 0 | CA4: ='Player Database'!C7 -> Antonio Rüdiger | CB4: 1 | CC4: {=IFERROR(INDEX($BX$3:$BX$810, SMALL(IF(COUNTIF(CC$3, $BY$3:$BY$810), ROW($BX$3:$BX$810)-MIN(ROW($BX$3:$BX$810))+1), $CB4), 0),"")} -> Kai Havertz | CD4: {=IFERROR(INDEX($BX$3:$BX$810, SMALL(IF(COUNTIF(CD$3, $BY$3:$BY$810), ROW($BX$3:$BX$810)-MIN(ROW($BX$3:$BX$810))+1), $CB4), 0),"")} | CE4: {=IFERROR(INDEX($BX$3:$BX$810, SMALL(IF(COUNTIF(CE$3, $BY$3:$BY$810), ROW($BX$3:$BX$810)-MIN(ROW($BX$3:$BX$810))+1), $CB4), 0),"")} | CF4: {=IFERROR(INDEX($BX$3:$BX$810, SMALL(IF(COUNTIF(CF$3, $BY$3:$BY$810), ROW($BX$3:$BX$810)-MIN(ROW($BX$3:$BX$810))+1), $CB4), 0),"")} | CG4: {=IFERROR(INDEX($BX$3:$BX$810, SMALL(IF(COUNTIF(CG$3, $BY$3:$BY$810), ROW($BX$3:$BX$810)-MIN(ROW($BX$3:$BX$810))+1), $CB4), 0),"")} | CH4: {=IFERROR(INDEX($BX$3:$BX$810, SMALL(IF(COUNTIF(CH$3, $BY$3:$BY$810), ROW($BX$3:$BX$810)-MIN(ROW($BX$3:$BX$810))+1), $CB4), 0),"")} | CI4: {=IFERROR(INDEX($BX$3:$BX$810, SMALL(IF(COUNTIF(CI$3, $BY$3:$BY$810), ROW($BX$3:$BX$810)-MIN(ROW($BX$3:$BX$810))+1), $CB4), 0),"")} | CJ4: {=IFERROR(INDEX($BX$3:$BX$810, SMALL(IF(COUNTIF(CJ$3, $BY$3:$BY$810), ROW($BX$3:$BX$810)-MIN(ROW($BX$3:$BX$810))+1), $CB4), 0),"")} | ... CQ4: {=IFERROR(INDEX($BX$3:$BX$810, SMALL(IF(COUNTIF(CQ$3, $BY$3:$BY$810), ROW($BX$3:$BX$810)-MIN(ROW($BX$3:$BX$810))+1), $CB4), 0),"")} | CS4: 1 | CT4: 1 | CV4: =CQ4 | CW4: =IF(CV4<>"",CW3+1,CW3) -> 0 | CZ4: 1 | DA4: =IFERROR(INDEX($CV$4:$CV$633,MATCH(CZ4,$CW$4:$CW$633,0),0),"") -> Kai Havertz | DB4: =IFERROR(VLOOKUP(DA4,$BX$3:$BY$810,2,FALSE),"") -> 1 | DC4: =IFERROR(VLOOKUP(DA4,$BX$3:$CA$810,4,FALSE),"") -> Kai Havertz | DD4: =IFERROR(INDEX($BT$3:$BT$810,MATCH(DA4,$BX$3:$BX$810,0),0),"") -> Germany
A5: 3 | B5: ='Player Database'!C8 -> David Raum | C5: ='Player Database'!D8 -> Andrew Robertson | D5: ='Player Database'!E8 -> Botond Balogh | E5: ='Player Database'!F8 -> Silvan Widmer | F5: ='Player Database'!G8 -> Federico Dimarco | G5: ='Player Database'!H8 -> Mario Mitaj | H5: ='Player Database'!I8 -> Robin Le Normand | I5: ='Player Database'!J8 -> Marin Pongračić | ... Y5: ='Player Database'!Z8 -> Lasha Dvali | AI5: =IFERROR(INDEX($B$3:$AG$28,$A5,MATCH(AI$2,$B$2:$AG$2,0)),"") | AJ5: =IFERROR(INDEX($B$3:$AG$28,$A5,MATCH(AJ$2,$B$2:$AG$2,0)),"") | AK5: =IFERROR(INDEX($B$3:$AG$28,$A5,MATCH(AK$2,$B$2:$AG$2,0)),"") | AL5: =IFERROR(INDEX($B$3:$AG$28,$A5,MATCH(AL$2,$B$2:$AG$2,0)),"") | AM5: =IFERROR(INDEX($B$3:$AG$28,$A5,MATCH(AM$2,$B$2:$AG$2,0)),"") | AN5: =IFERROR(INDEX($B$3:$AG$28,$A5,MATCH(AN$2,$B$2:$AG$2,0)),"") | AO5: =IFERROR(INDEX($B$3:$AG$28,$A5,MATCH(AO$2,$B$2:$AG$2,0)),"") | AP5: =IFERROR(INDEX($B$3:$AG$28,$A5,MATCH(AP$2,$B$2:$AG$2,0)),"") | ... AX5: =IFERROR(INDEX($B$3:$AG$28,$A5,MATCH(AX$2,$B$2:$AG$2,0)),"") | AZ5: =IFERROR(INDEX($B$3:$AG$28,$A5,MATCH(AZ$2,$B$2:$AG$2,0)),"") | BA5: =IFERROR(INDEX($B$3:$AG$28,$A5,MATCH(BA$2,$B$2:$AG$2,0)),"") | BB5: =IFERROR(INDEX($B$3:$AG$28,$A5,MATCH(BB$2,$B$2:$AG$2,0)),"") | BC5: =IFERROR(INDEX($B$3:$AG$28,$A5,MATCH(BC$2,$B$2:$AG$2,0)),"") | BD5: =IFERROR(INDEX($B$3:$AG$28,$A5,MATCH(BD$2,$B$2:$AG$2,0)),"") | BE5: =IFERROR(INDEX($B$3:$AG$28,$A5,MATCH(BE$2,$B$2:$AG$2,0)),"") | BF5: =IFERROR(INDEX($B$3:$AG$28,$A5,MATCH(BF$2,$B$2:$AG$2,0)),"") | BG5: =IFERROR(INDEX($B$3:$AG$28,$A5,MATCH(BG$2,$B$2:$AG$2,0)),"") | BI5: =IFERROR(INDEX($B$3:$AG$28,$A5,MATCH(BI$2,$B$2:$AG$2,0)),"") | BJ5: =IFERROR(INDEX($B$3:$AG$28,$A5,MATCH(BJ$2,$B$2:$AG$2,0)),"") | BK5: =IFERROR(INDEX($B$3:$AG$28,$A5,MATCH(BK$2,$B$2:$AG$2,0)),"") | BL5: =IFERROR(INDEX($B$3:$AG$28,$A5,MATCH(BL$2,$B$2:$AG$2,0)),"") | BN5: =IFERROR(INDEX($B$3:$AG$28,$A5,MATCH(BN$2,$B$2:$AG$2,0)),"") | BO5: =IFERROR(INDEX($B$3:$AG$28,$A5,MATCH(BO$2,$B$2:$AG$2,0)),"") | BQ5: =IFERROR(INDEX($B$3:$AG$28,$A5,MATCH(BQ$2,$B$2:$AG$2,0)),"") | BR5: =IFERROR(INDEX($B$3:$AG$28,$A5,MATCH(BR$2,$B$2:$AG$2,0)),"") | BT5: =BT4 -> Germany | BU5: =BU4+1 -> 3 | BW5: 1 | BX5: =B5 -> David Raum | BY5: =COUNTIF('Group Stages'!$J$8:$Q$80,BX5)+COUNTIF('Knock Out Stages'!$K$7:$R$45,BX5) -> 0 | CA5: ='Player Database'!C8 -> David Raum | CB5: 2 | CC5: {=IFERROR(INDEX($BX$3:$BX$810, SMALL(IF(COUNTIF(CC$3, $BY$3:$BY$810), ROW($BX$3:$BX$810)-MIN(ROW($BX$3:$BX$810))+1), $CB5), 0),"")} -> Niclas Füllkrug | CD5: {=IFERROR(INDEX($BX$3:$BX$810, SMALL(IF(COUNTIF(CD$3, $BY$3:$BY$810), ROW($BX$3:$BX$810)-MIN(ROW($BX$3:$BX$810))+1), $CB5), 0),"")} | CE5: {=IFERROR(INDEX($BX$3:$BX$810, SMALL(IF(COUNTIF(CE$3, $BY$3:$BY$810), ROW($BX$3:$BX$810)-MIN(ROW($BX$3:$BX$810))+1), $CB5), 0),"")} | CF5: {=IFERROR(INDEX($BX$3:$BX$810, SMALL(IF(COUNTIF(CF$3, $BY$3:$BY$810), ROW($BX$3:$BX$810)-MIN(ROW($BX$3:$BX$810))+1), $CB5), 0),"")} | CG5: {=IFERROR(INDEX($BX$3:$BX$810, SMALL(IF(COUNTIF(CG$3, $BY$3:$BY$810), ROW($BX$3:$BX$810)-MIN(ROW($BX$3:$BX$810))+1), $CB5), 0),"")} | CH5: {=IFERROR(INDEX($BX$3:$BX$810, SMALL(IF(COUNTIF(CH$3, $BY$3:$BY$810), ROW($BX$3:$BX$810)-MIN(ROW($BX$3:$BX$810))+1), $CB5), 0),"")} | CI5: {=IFERROR(INDEX($BX$3:$BX$810, SMALL(IF(COUNTIF(CI$3, $BY$3:$BY$810), ROW($BX$3:$BX$810)-MIN(ROW($BX$3:$BX$810))+1), $CB5), 0),"")} | CJ5: {=IFERROR(INDEX($BX$3:$BX$810, SMALL(IF(COUNTIF(CJ$3, $BY$3:$BY$810), ROW($BX$3:$BX$810)-MIN(ROW($BX$3:$BX$810))+1), $CB5), 0),"")} | ... CQ5: {=IFERROR(INDEX($BX$3:$BX$810, SMALL(IF(COUNTIF(CQ$3, $BY$3:$BY$810), ROW($BX$3:$BX$810)-MIN(ROW($BX$3:$BX$810))+1), $CB5), 0),"")} | CS5: 2 | CT5: 1 | CV5: =CQ5 | CW5: =IF(CV5<>"",CW4+1,CW4) -> 0 | CZ5: 2 | DA5: =IFERROR(INDEX($CV$4:$CV$633,MATCH(CZ5,$CW$4:$CW$633,0),0),"") -> Niclas Füllkrug | DB5: =IFERROR(VLOOKUP(DA5,$BX$3:$BY$810,2,FALSE),"") -> 1 | DC5: =IFERROR(VLOOKUP(DA5,$BX$3:$CA$810,4,FALSE),"") -> Niclas Füllkrug | DD5: =IFERROR(INDEX($BT$3:$BT$810,MATCH(DA5,$BX$3:$BX$810,0),0),"") -> Germany
A6: 4 | B6: ='Player Database'!C9 -> Jonathan Tah | C6: ='Player Database'!D9 -> Scott McTominay | D6: ='Player Database'!E9 -> Attila Szalai | E6: ='Player Database'!F9 -> Nico Elvedi | F6: ='Player Database'!G9 -> Alessandro Buongiorno | G6: ='Player Database'!H9 -> Elseid Hysaj | H6: ='Player Database'!I9 -> Nacho | I6: ='Player Database'!J9 -> Joško Gvardiol | ... Y6: ='Player Database'!Z9 -> Guram Kashia | AI6: =IFERROR(INDEX($B$3:$AG$28,$A6,MATCH(AI$2,$B$2:$AG$2,0)),"") | AJ6: =IFERROR(INDEX($B$3:$AG$28,$A6,MATCH(AJ$2,$B$2:$AG$2,0)),"") | AK6: =IFERROR(INDEX($B$3:$AG$28,$A6,MATCH(AK$2,$B$2:$AG$2,0)),"") | AL6: =IFERROR(INDEX($B$3:$AG$28,$A6,MATCH(AL$2,$B$2:$AG$2,0)),"") | AM6: =IFERROR(INDEX($B$3:$AG$28,$A6,MATCH(AM$2,$B$2:$AG$2,0)),"") | AN6: =IFERROR(INDEX($B$3:$AG$28,$A6,MATCH(AN$2,$B$2:$AG$2,0)),"") | AO6: =IFERROR(INDEX($B$3:$AG$28,$A6,MATCH(AO$2,$B$2:$AG$2,0)),"") | AP6: =IFERROR(INDEX($B$3:$AG$28,$A6,MATCH(AP$2,$B$2:$AG$2,0)),"") | ... AX6: =IFERROR(INDEX($B$3:$AG$28,$A6,MATCH(AX$2,$B$2:$AG$2,0)),"") | AZ6: =IFERROR(INDEX($B$3:$AG$28,$A6,MATCH(AZ$2,$B$2:$AG$2,0)),"") | BA6: =IFERROR(INDEX($B$3:$AG$28,$A6,MATCH(BA$2,$B$2:$AG$2,0)),"") | BB6: =IFERROR(INDEX($B$3:$AG$28,$A6,MATCH(BB$2,$B$2:$AG$2,0)),"") | BC6: =IFERROR(INDEX($B$3:$AG$28,$A6,MATCH(BC$2,$B$2:$AG$2,0)),"") | BD6: =IFERROR(INDEX($B$3:$AG$28,$A6,MATCH(BD$2,$B$2:$AG$2,0)),"") | BE6: =IFERROR(INDEX($B$3:$AG$28,$A6,MATCH(BE$2,$B$2:$AG$2,0)),"") | BF6: =IFERROR(INDEX($B$3:$AG$28,$A6,MATCH(BF$2,$B$2:$AG$2,0)),"") | BG6: =IFERROR(INDEX($B$3:$AG$28,$A6,MATCH(BG$2,$B$2:$AG$2,0)),"") | BI6: =IFERROR(INDEX($B$3:$AG$28,$A6,MATCH(BI$2,$B$2:$AG$2,0)),"") | BJ6: =IFERROR(INDEX($B$3:$AG$28,$A6,MATCH(BJ$2,$B$2:$AG$2,0)),"") | BK6: =IFERROR(INDEX($B$3:$AG$28,$A6,MATCH(BK$2,$B$2:$AG$2,0)),"") | BL6: =IFERROR(INDEX($B$3:$AG$28,$A6,MATCH(BL$2,$B$2:$AG$2,0)),"") | BN6: =IFERROR(INDEX($B$3:$AG$28,$A6,MATCH(BN$2,$B$2:$AG$2,0)),"") | BO6: =IFERROR(INDEX($B$3:$AG$28,$A6,MATCH(BO$2,$B$2:$AG$2,0)),"") | BQ6: =IFERROR(INDEX($B$3:$AG$28,$A6,MATCH(BQ$2,$B$2:$AG$2,0)),"") | BR6: =IFERROR(INDEX($B$3:$AG$28,$A6,MATCH(BR$2,$B$2:$AG$2,0)),"") | BT6: =BT5 -> Germany | BU6: =BU5+1 -> 4 | BW6: 1 | BX6: =B6 -> Jonathan Tah | BY6: =COUNTIF('Group Stages'!$J$8:$Q$80,BX6)+COUNTIF('Knock Out Stages'!$K$7:$R$45,BX6) -> 0 | CA6: ='Player Database'!C9 -> Jonathan Tah | CB6: 3 | CC6: {=IFERROR(INDEX($BX$3:$BX$810, SMALL(IF(COUNTIF(CC$3, $BY$3:$BY$810), ROW($BX$3:$BX$810)-MIN(ROW($BX$3:$BX$810))+1), $CB6), 0),"")} -> Jamal Musiala | CD6: {=IFERROR(INDEX($BX$3:$BX$810, SMALL(IF(COUNTIF(CD$3, $BY$3:$BY$810), ROW($BX$3:$BX$810)-MIN(ROW($BX$3:$BX$810))+1), $CB6), 0),"")} | CE6: {=IFERROR(INDEX($BX$3:$BX$810, SMALL(IF(COUNTIF(CE$3, $BY$3:$BY$810), ROW($BX$3:$BX$810)-MIN(ROW($BX$3:$BX$810))+1), $CB6), 0),"")} | CF6: {=IFERROR(INDEX($BX$3:$BX$810, SMALL(IF(COUNTIF(CF$3, $BY$3:$BY$810), ROW($BX$3:$BX$810)-MIN(ROW($BX$3:$BX$810))+1), $CB6), 0),"")} | CG6: {=IFERROR(INDEX($BX$3:$BX$810, SMALL(IF(COUNTIF(CG$3, $BY$3:$BY$810), ROW($BX$3:$BX$810)-MIN(ROW($BX$3:$BX$810))+1), $CB6), 0),"")} | CH6: {=IFERROR(INDEX($BX$3:$BX$810, SMALL(IF(COUNTIF(CH$3, $BY$3:$BY$810), ROW($BX$3:$BX$810)-MIN(ROW($BX$3:$BX$810))+1), $CB6), 0),"")} | CI6: {=IFERROR(INDEX($BX$3:$BX$810, SMALL(IF(COUNTIF(CI$3, $BY$3:$BY$810), ROW($BX$3:$BX$810)-MIN(ROW($BX$3:$BX$810))+1), $CB6), 0),"")} | CJ6: {=IFERROR(INDEX($BX$3:$BX$810, SMALL(IF(COUNTIF(CJ$3, $BY$3:$BY$810), ROW($BX$3:$BX$810)-MIN(ROW($BX$3:$BX$810))+1), $CB6), 0),"")} | ... CQ6: {=IFERROR(INDEX($BX$3:$BX$810, SMALL(IF(COUNTIF(CQ$3, $BY$3:$BY$810), ROW($BX$3:$BX$810)-MIN(ROW($BX$3:$BX$810))+1), $CB6), 0),"")} | CS6: 3 | CT6: 1 | CV6: =CQ6 | CW6: =IF(CV6<>"",CW5+1,CW5) -> 0 | CZ6: 3 | DA6: =IFERROR(INDEX($CV$4:$CV$633,MATCH(CZ6,$CW$4:$CW$633,0),0),"") -> Jamal Musiala | DB6: =IFERROR(VLOOKUP(DA6,$BX$3:$BY$810,2,FALSE),"") -> 1 | DC6: =IFERROR(VLOOKUP(DA6,$BX$3:$CA$810,4,FALSE),"") -> Jamal Musiala | DD6: =IFERROR(INDEX($BT$3:$BT$810,MATCH(DA6,$BX$3:$BX$810,0),0),"") -> Germany
A7: 5 | B7: ='Player Database'!C10 -> Pascal Groß | C7: ='Player Database'!D10 -> Grant Hanley | D7: ='Player Database'!E10 -> Attila Fiola | E7: ='Player Database'!F10 -> Manuel Akanji | F7: ='Player Database'!G10 -> Riccardo Calafiori | G7: ='Player Database'!H10 -> Arlind Ajeti | H7: ='Player Database'!I10 -> Daniel Vivian | I7: ='Player Database'!J10 -> Martin Erlić | ... Y7: ='Player Database'!Z10 -> Solomon Kvirkvelia | AI7: =IFERROR(INDEX($B$3:$AG$28,$A7,MATCH(AI$2,$B$2:$AG$2,0)),"") | AJ7: =IFERROR(INDEX($B$3:$AG$28,$A7,MATCH(AJ$2,$B$2:$AG$2,0)),"") | AK7: =IFERROR(INDEX($B$3:$AG$28,$A7,MATCH(AK$2,$B$2:$AG$2,0)),"") | AL7: =IFERROR(INDEX($B$3:$AG$28,$A7,MATCH(AL$2,$B$2:$AG$2,0)),"") | AM7: =IFERROR(INDEX($B$3:$AG$28,$A7,MATCH(AM$2,$B$2:$AG$2,0)),"") | AN7: =IFERROR(INDEX($B$3:$AG$28,$A7,MATCH(AN$2,$B$2:$AG$2,0)),"") | AO7: =IFERROR(INDEX($B$3:$AG$28,$A7,MATCH(AO$2,$B$2:$AG$2,0)),"") | AP7: =IFERROR(INDEX($B$3:$AG$28,$A7,MATCH(AP$2,$B$2:$AG$2,0)),"") | ... AX7: =IFERROR(INDEX($B$3:$AG$28,$A7,MATCH(AX$2,$B$2:$AG$2,0)),"") | AZ7: =IFERROR(INDEX($B$3:$AG$28,$A7,MATCH(AZ$2,$B$2:$AG$2,0)),"") | BA7: =IFERROR(INDEX($B$3:$AG$28,$A7,MATCH(BA$2,$B$2:$AG$2,0)),"") | BB7: =IFERROR(INDEX($B$3:$AG$28,$A7,MATCH(BB$2,$B$2:$AG$2,0)),"") | BC7: =IFERROR(INDEX($B$3:$AG$28,$A7,MATCH(BC$2,$B$2:$AG$2,0)),"") | BD7: =IFERROR(INDEX($B$3:$AG$28,$A7,MATCH(BD$2,$B$2:$AG$2,0)),"") | BE7: =IFERROR(INDEX($B$3:$AG$28,$A7,MATCH(BE$2,$B$2:$AG$2,0)),"") | BF7: =IFERROR(INDEX($B$3:$AG$28,$A7,MATCH(BF$2,$B$2:$AG$2,0)),"") | BG7: =IFERROR(INDEX($B$3:$AG$28,$A7,MATCH(BG$2,$B$2:$AG$2,0)),"") | BI7: =IFERROR(INDEX($B$3:$AG$28,$A7,MATCH(BI$2,$B$2:$AG$2,0)),"") | BJ7: =IFERROR(INDEX($B$3:$AG$28,$A7,MATCH(BJ$2,$B$2:$AG$2,0)),"") | BK7: =IFERROR(INDEX($B$3:$AG$28,$A7,MATCH(BK$2,$B$2:$AG$2,0)),"") | BL7: =IFERROR(INDEX($B$3:$AG$28,$A7,MATCH(BL$2,$B$2:$AG$2,0)),"") | BN7: =IFERROR(INDEX($B$3:$AG$28,$A7,MATCH(BN$2,$B$2:$AG$2,0)),"") | BO7: =IFERROR(INDEX($B$3:$AG$28,$A7,MATCH(BO$2,$B$2:$AG$2,0)),"") | BQ7: =IFERROR(INDEX($B$3:$AG$28,$A7,MATCH(BQ$2,$B$2:$AG$2,0)),"") | BR7: =IFERROR(INDEX($B$3:$AG$28,$A7,MATCH(BR$2,$B$2:$AG$2,0)),"") | BT7: =BT6 -> Germany | BU7: =BU6+1 -> 5 | BW7: 1 | BX7: =B7 -> Pascal Groß | BY7: =COUNTIF('Group Stages'!$J$8:$Q$80,BX7)+COUNTIF('Knock Out Stages'!$K$7:$R$45,BX7) -> 0 | CA7: ='Player Database'!C10 -> Pascal Groß | CB7: 4 | CC7: {=IFERROR(INDEX($BX$3:$BX$810, SMALL(IF(COUNTIF(CC$3, $BY$3:$BY$810), ROW($BX$3:$BX$810)-MIN(ROW($BX$3:$BX$810))+1), $CB7), 0),"")} -> Florian Wirtz | CD7: {=IFERROR(INDEX($BX$3:$BX$810, SMALL(IF(COUNTIF(CD$3, $BY$3:$BY$810), ROW($BX$3:$BX$810)-MIN(ROW($BX$3:$BX$810))+1), $CB7), 0),"")} | CE7: {=IFERROR(INDEX($BX$3:$BX$810, SMALL(IF(COUNTIF(CE$3, $BY$3:$BY$810), ROW($BX$3:$BX$810)-MIN(ROW($BX$3:$BX$810))+1), $CB7), 0),"")} | CF7: {=IFERROR(INDEX($BX$3:$BX$810, SMALL(IF(COUNTIF(CF$3, $BY$3:$BY$810), ROW($BX$3:$BX$810)-MIN(ROW($BX$3:$BX$810))+1), $CB7), 0),"")} | CG7: {=IFERROR(INDEX($BX$3:$BX$810, SMALL(IF(COUNTIF(CG$3, $BY$3:$BY$810), ROW($BX$3:$BX$810)-MIN(ROW($BX$3:$BX$810))+1), $CB7), 0),"")} | CH7: {=IFERROR(INDEX($BX$3:$BX$810, SMALL(IF(COUNTIF(CH$3, $BY$3:$BY$810), ROW($BX$3:$BX$810)-MIN(ROW($BX$3:$BX$810))+1), $CB7), 0),"")} | CI7: {=IFERROR(INDEX($BX$3:$BX$810, SMALL(IF(COUNTIF(CI$3, $BY$3:$BY$810), ROW($BX$3:$BX$810)-MIN(ROW($BX$3:$BX$810))+1), $CB7), 0),"")} | CJ7: {=IFERROR(INDEX($BX$3:$BX$810, SMALL(IF(COUNTIF(CJ$3, $BY$3:$BY$810), ROW($BX$3:$BX$810)-MIN(ROW($BX$3:$BX$810))+1), $CB7), 0),"")} | ... CQ7: {=IFERROR(INDEX($BX$3:$BX$810, SMALL(IF(COUNTIF(CQ$3, $BY$3:$BY$810), ROW($BX$3:$BX$810)-MIN(ROW($BX$3:$BX$810))+1), $CB7), 0),"")} | CS7: 4 | CT7: 1 | CV7: =CQ7 | CW7: =IF(CV7<>"",CW6+1,CW6) -> 0 | CZ7: 4 | DA7: =IFERROR(INDEX($CV$4:$CV$633,MATCH(CZ7,$CW$4:$CW$633,0),0),"") -> Florian Wirtz | DB7: =IFERROR(VLOOKUP(DA7,$BX$3:$BY$810,2,FALSE),"") -> 1 | DC7: =IFERROR(VLOOKUP(DA7,$BX$3:$CA$810,4,FALSE),"") -> Florian Wirtz | DD7: =IFERROR(INDEX($BT$3:$BT$810,MATCH(DA7,$BX$3:$BX$810,0),0),"") -> Germany
A8: 6 | B8: ='Player Database'!C11 -> Joshua Kimmich | C8: ='Player Database'!D11 -> Kieran Tierney | D8: ='Player Database'!E11 -> Willi Orbán | E8: ='Player Database'!F11 -> Denis Zakaria | F8: ='Player Database'!G11 -> Federico Gatti | G8: ='Player Database'!H11 -> Berat Djimsiti | H8: ='Player Database'!I11 -> Mikel Merino | I8: ='Player Database'!J11 -> Josip Šutalo | ... Y8: ='Player Database'!Z11 -> Giorgi Kochorashvili | AI8: =IFERROR(INDEX($B$3:$AG$28,$A8,MATCH(AI$2,$B$2:$AG$2,0)),"") | AJ8: =IFERROR(INDEX($B$3:$AG$28,$A8,MATCH(AJ$2,$B$2:$AG$2,0)),"") | AK8: =IFERROR(INDEX($B$3:$AG$28,$A8,MATCH(AK$2,$B$2:$AG$2,0)),"") | AL8: =IFERROR(INDEX($B$3:$AG$28,$A8,MATCH(AL$2,$B$2:$AG$2,0)),"") | AM8: =IFERROR(INDEX($B$3:$AG$28,$A8,MATCH(AM$2,$B$2:$AG$2,0)),"") | AN8: =IFERROR(INDEX($B$3:$AG$28,$A8,MATCH(AN$2,$B$2:$AG$2,0)),"") | AO8: =IFERROR(INDEX($B$3:$AG$28,$A8,MATCH(AO$2,$B$2:$AG$2,0)),"") | AP8: =IFERROR(INDEX($B$3:$AG$28,$A8,MATCH(AP$2,$B$2:$AG$2,0)),"") | ... AX8: =IFERROR(INDEX($B$3:$AG$28,$A8,MATCH(AX$2,$B$2:$AG$2,0)),"") | AZ8: =IFERROR(INDEX($B$3:$AG$28,$A8,MATCH(AZ$2,$B$2:$AG$2,0)),"") | BA8: =IFERROR(INDEX($B$3:$AG$28,$A8,MATCH(BA$2,$B$2:$AG$2,0)),"") | BB8: =IFERROR(INDEX($B$3:$AG$28,$A8,MATCH(BB$2,$B$2:$AG$2,0)),"") | BC8: =IFERROR(INDEX($B$3:$AG$28,$A8,MATCH(BC$2,$B$2:$AG$2,0)),"") | BD8: =IFERROR(INDEX($B$3:$AG$28,$A8,MATCH(BD$2,$B$2:$AG$2,0)),"") | BE8: =IFERROR(INDEX($B$3:$AG$28,$A8,MATCH(BE$2,$B$2:$AG$2,0)),"") | BF8: =IFERROR(INDEX($B$3:$AG$28,$A8,MATCH(BF$2,$B$2:$AG$2,0)),"") | BG8: =IFERROR(INDEX($B$3:$AG$28,$A8,MATCH(BG$2,$B$2:$AG$2,0)),"") | BI8: =IFERROR(INDEX($B$3:$AG$28,$A8,MATCH(BI$2,$B$2:$AG$2,0)),"") | BJ8: =IFERROR(INDEX($B$3:$AG$28,$A8,MATCH(BJ$2,$B$2:$AG$2,0)),"") | BK8: =IFERROR(INDEX($B$3:$AG$28,$A8,MATCH(BK$2,$B$2:$AG$2,0)),"") | BL8: =IFERROR(INDEX($B$3:$AG$28,$A8,MATCH(BL$2,$B$2:$AG$2,0)),"") | BN8: =IFERROR(INDEX($B$3:$AG$28,$A8,MATCH(BN$2,$B$2:$AG$2,0)),"") | BO8: =IFERROR(INDEX($B$3:$AG$28,$A8,MATCH(BO$2,$B$2:$AG$2,0)),"") | BQ8: =IFERROR(INDEX($B$3:$AG$28,$A8,MATCH(BQ$2,$B$2:$AG$2,0)),"") | BR8: =IFERROR(INDEX($B$3:$AG$28,$A8,MATCH(BR$2,$B$2:$AG$2,0)),"") | BT8: =BT7 -> Germany | BU8: =BU7+1 -> 6 | BW8: 1 | BX8: =B8 -> Joshua Kimmich | BY8: =COUNTIF('Group Stages'!$J$8:$Q$80,BX8)+COUNTIF('Knock Out Stages'!$K$7:$R$45,BX8) -> 0 | CA8: ='Player Database'!C11 -> Joshua Kimmich | CB8: 5 | CC8: {=IFERROR(INDEX($BX$3:$BX$810, SMALL(IF(COUNTIF(CC$3, $BY$3:$BY$810), ROW($BX$3:$BX$810)-MIN(ROW($BX$3:$BX$810))+1), $CB8), 0),"")} -> Emre Can | CD8: {=IFERROR(INDEX($BX$3:$BX$810, SMALL(IF(COUNTIF(CD$3, $BY$3:$BY$810), ROW($BX$3:$BX$810)-MIN(ROW($BX$3:$BX$810))+1), $CB8), 0),"")} | CE8: {=IFERROR(INDEX($BX$3:$BX$810, SMALL(IF(COUNTIF(CE$3, $BY$3:$BY$810), ROW($BX$3:$BX$810)-MIN(ROW($BX$3:$BX$810))+1), $CB8), 0),"")} | CF8: {=IFERROR(INDEX($BX$3:$BX$810, SMALL(IF(COUNTIF(CF$3, $BY$3:$BY$810), ROW($BX$3:$BX$810)-MIN(ROW($BX$3:$BX$810))+1), $CB8), 0),"")} | CG8: {=IFERROR(INDEX($BX$3:$BX$810, SMALL(IF(COUNTIF(CG$3, $BY$3:$BY$810), ROW($BX$3:$BX$810)-MIN(ROW($BX$3:$BX$810))+1), $CB8), 0),"")} | CH8: {=IFERROR(INDEX($BX$3:$BX$810, SMALL(IF(COUNTIF(CH$3, $BY$3:$BY$810), ROW($BX$3:$BX$810)-MIN(ROW($BX$3:$BX$810))+1), $CB8), 0),"")} | CI8: {=IFERROR(INDEX($BX$3:$BX$810, SMALL(IF(COUNTIF(CI$3, $BY$3:$BY$810), ROW($BX$3:$BX$810)-MIN(ROW($BX$3:$BX$810))+1), $CB8), 0),"")} | CJ8: {=IFERROR(INDEX($BX$3:$BX$810, SMALL(IF(COUNTIF(CJ$3, $BY$3:$BY$810), ROW($BX$3:$BX$810)-MIN(ROW($BX$3:$BX$810))+1), $CB8), 0),"")} | ... CQ8: {=IFERROR(INDEX($BX$3:$BX$810, SMALL(IF(COUNTIF(CQ$3, $BY$3:$BY$810), ROW($BX$3:$BX$810)-MIN(ROW($BX$3:$BX$810))+1), $CB8), 0),"")} | CS8: 5 | CT8: 1 | CV8: =CQ8 | CW8: =IF(CV8<>"",CW7+1,CW7) -> 0 | CZ8: 5 | DA8: =IFERROR(INDEX($CV$4:$CV$633,MATCH(CZ8,$CW$4:$CW$633,0),0),"") -> Emre Can | DB8: =IFERROR(VLOOKUP(DA8,$BX$3:$BY$810,2,FALSE),"") -> 1 | DC8: =IFERROR(VLOOKUP(DA8,$BX$3:$CA$810,4,FALSE),"") -> Emre Can | DD8: =IFERROR(INDEX($BT$3:$BT$810,MATCH(DA8,$BX$3:$BX$810,0),0),"") -> Germany
A9: 7 | B9: ='Player Database'!C12 -> Kai Havertz | C9: ='Player Database'!D12 -> John McGinn | D9: ='Player Database'!E12 -> Loïc Négo | E9: ='Player Database'!F12 -> Breel Embolo | F9: ='Player Database'!G12 -> Davide Frattesi | G9: ='Player Database'!H12 -> Rey Manaj | H9: ='Player Database'!I12 -> Álvaro Morata | I9: ='Player Database'!J12 -> Lovro Majer | ... Y9: ='Player Database'!Z12 -> Khvicha Kvaratskhelia | AI9: =IFERROR(INDEX($B$3:$AG$28,$A9,MATCH(AI$2,$B$2:$AG$2,0)),"") | AJ9: =IFERROR(INDEX($B$3:$AG$28,$A9,MATCH(AJ$2,$B$2:$AG$2,0)),"") | AK9: =IFERROR(INDEX($B$3:$AG$28,$A9,MATCH(AK$2,$B$2:$AG$2,0)),"") | AL9: =IFERROR(INDEX($B$3:$AG$28,$A9,MATCH(AL$2,$B$2:$AG$2,0)),"") | AM9: =IFERROR(INDEX($B$3:$AG$28,$A9,MATCH(AM$2,$B$2:$AG$2,0)),"") | AN9: =IFERROR(INDEX($B$3:$AG$28,$A9,MATCH(AN$2,$B$2:$AG$2,0)),"") | AO9: =IFERROR(INDEX($B$3:$AG$28,$A9,MATCH(AO$2,$B$2:$AG$2,0)),"") | AP9: =IFERROR(INDEX($B$3:$AG$28,$A9,MATCH(AP$2,$B$2:$AG$2,0)),"") | ... AX9: =IFERROR(INDEX($B$3:$AG$28,$A9,MATCH(AX$2,$B$2:$AG$2,0)),"") | AZ9: =IFERROR(INDEX($B$3:$AG$28,$A9,MATCH(AZ$2,$B$2:$AG$2,0)),"") | BA9: =IFERROR(INDEX($B$3:$AG$28,$A9,MATCH(BA$2,$B$2:$AG$2,0)),"") | BB9: =IFERROR(INDEX($B$3:$AG$28,$A9,MATCH(BB$2,$B$2:$AG$2,0)),"") | BC9: =IFERROR(INDEX($B$3:$AG$28,$A9,MATCH(BC$2,$B$2:$AG$2,0)),"") | BD9: =IFERROR(INDEX($B$3:$AG$28,$A9,MATCH(BD$2,$B$2:$AG$2,0)),"") | BE9: =IFERROR(INDEX($B$3:$AG$28,$A9,MATCH(BE$2,$B$2:$AG$2,0)),"") | BF9: =IFERROR(INDEX($B$3:$AG$28,$A9,MATCH(BF$2,$B$2:$AG$2,0)),"") | BG9: =IFERROR(INDEX($B$3:$AG$28,$A9,MATCH(BG$2,$B$2:$AG$2,0)),"") | BI9: =IFERROR(INDEX($B$3:$AG$28,$A9,MATCH(BI$2,$B$2:$AG$2,0)),"") | BJ9: =IFERROR(INDEX($B$3:$AG$28,$A9,MATCH(BJ$2,$B$2:$AG$2,0)),"") | BK9: =IFERROR(INDEX($B$3:$AG$28,$A9,MATCH(BK$2,$B$2:$AG$2,0)),"") | BL9: =IFERROR(INDEX($B$3:$AG$28,$A9,MATCH(BL$2,$B$2:$AG$2,0)),"") | BN9: =IFERROR(INDEX($B$3:$AG$28,$A9,MATCH(BN$2,$B$2:$AG$2,0)),"") | BO9: =IFERROR(INDEX($B$3:$AG$28,$A9,MATCH(BO$2,$B$2:$AG$2,0)),"") | BQ9: =IFERROR(INDEX($B$3:$AG$28,$A9,MATCH(BQ$2,$B$2:$AG$2,0)),"") | BR9: =IFERROR(INDEX($B$3:$AG$28,$A9,MATCH(BR$2,$B$2:$AG$2,0)),"") | BT9: =BT8 -> Germany | BU9: =BU8+1 -> 7 | BW9: 1 | BX9: =B9 -> Kai Havertz | BY9: =COUNTIF('Group Stages'!$J$8:$Q$80,BX9)+COUNTIF('Knock Out Stages'!$K$7:$R$45,BX9) -> 1 | CA9: ='Player Database'!C12 -> Kai Havertz | CB9: 6 | CC9: {=IFERROR(INDEX($BX$3:$BX$810, SMALL(IF(COUNTIF(CC$3, $BY$3:$BY$810), ROW($BX$3:$BX$810)-MIN(ROW($BX$3:$BX$810))+1), $CB9), 0),"")} -> Barnabás Varga | CD9: {=IFERROR(INDEX($BX$3:$BX$810, SMALL(IF(COUNTIF(CD$3, $BY$3:$BY$810), ROW($BX$3:$BX$810)-MIN(ROW($BX$3:$BX$810))+1), $CB9), 0),"")} | CE9: {=IFERROR(INDEX($BX$3:$BX$810, SMALL(IF(COUNTIF(CE$3, $BY$3:$BY$810), ROW($BX$3:$BX$810)-MIN(ROW($BX$3:$BX$810))+1), $CB9), 0),"")} | CF9: {=IFERROR(INDEX($BX$3:$BX$810, SMALL(IF(COUNTIF(CF$3, $BY$3:$BY$810), ROW($BX$3:$BX$810)-MIN(ROW($BX$3:$BX$810))+1), $CB9), 0),"")} | CG9: {=IFERROR(INDEX($BX$3:$BX$810, SMALL(IF(COUNTIF(CG$3, $BY$3:$BY$810), ROW($BX$3:$BX$810)-MIN(ROW($BX$3:$BX$810))+1), $CB9), 0),"")} | CH9: {=IFERROR(INDEX($BX$3:$BX$810, SMALL(IF(COUNTIF(CH$3, $BY$3:$BY$810), ROW($BX$3:$BX$810)-MIN(ROW($BX$3:$BX$810))+1), $CB9), 0),"")} | CI9: {=IFERROR(INDEX($BX$3:$BX$810, SMALL(IF(COUNTIF(CI$3, $BY$3:$BY$810), ROW($BX$3:$BX$810)-MIN(ROW($BX$3:$BX$810))+1), $CB9), 0),"")} | CJ9: {=IFERROR(INDEX($BX$3:$BX$810, SMALL(IF(COUNTIF(CJ$3, $BY$3:$BY$810), ROW($BX$3:$BX$810)-MIN(ROW($BX$3:$BX$810))+1), $CB9), 0),"")} | ... CQ9: {=IFERROR(INDEX($BX$3:$BX$810, SMALL(IF(COUNTIF(CQ$3, $BY$3:$BY$810), ROW($BX$3:$BX$810)-MIN(ROW($BX$3:$BX$810))+1), $CB9), 0),"")} | CS9: 6 | CT9: 1 | CV9: =CQ9 | CW9: =IF(CV9<>"",CW8+1,CW8) -> 0 | CZ9: 6 | DA9: =IFERROR(INDEX($CV$4:$CV$633,MATCH(CZ9,$CW$4:$CW$633,0),0),"") -> Barnabás Varga | DB9: =IFERROR(VLOOKUP(DA9,$BX$3:$BY$810,2,FALSE),"") -> 1 | DC9: =IFERROR(VLOOKUP(DA9,$BX$3:$CA$810,4,FALSE),"") -> Barnabás Varga | DD9: =IFERROR(INDEX($BT$3:$BT$810,MATCH(DA9,$BX$3:$BX$810,0),0),"") -> Hungary
A10: 8 | B10: ='Player Database'!C13 -> Toni Kroos | C10: ='Player Database'!D13 -> Callum McGregor | D10: ='Player Database'!E13 -> Ádám Nagy | E10: ='Player Database'!F13 -> Remo Freuler | F10: ='Player Database'!G13 -> Jorginho | G10: ='Player Database'!H13 -> Klaus Gjasula | H10: ='Player Database'!I13 -> Fabián Ruiz | I10: ='Player Database'!J13 -> Mateo Kovačić | ... Y10: ='Player Database'!Z13 -> Budu Zivzivadze | AI10: =IFERROR(INDEX($B$3:$AG$28,$A10,MATCH(AI$2,$B$2:$AG$2,0)),"") | AJ10: =IFERROR(INDEX($B$3:$AG$28,$A10,MATCH(AJ$2,$B$2:$AG$2,0)),"") | AK10: =IFERROR(INDEX($B$3:$AG$28,$A10,MATCH(AK$2,$B$2:$AG$2,0)),"") | AL10: =IFERROR(INDEX($B$3:$AG$28,$A10,MATCH(AL$2,$B$2:$AG$2,0)),"") | AM10: =IFERROR(INDEX($B$3:$AG$28,$A10,MATCH(AM$2,$B$2:$AG$2,0)),"") | AN10: =IFERROR(INDEX($B$3:$AG$28,$A10,MATCH(AN$2,$B$2:$AG$2,0)),"") | AO10: =IFERROR(INDEX($B$3:$AG$28,$A10,MATCH(AO$2,$B$2:$AG$2,0)),"") | AP10: =IFERROR(INDEX($B$3:$AG$28,$A10,MATCH(AP$2,$B$2:$AG$2,0)),"") | ... AX10: =IFERROR(INDEX($B$3:$AG$28,$A10,MATCH(AX$2,$B$2:$AG$2,0)),"") | AZ10: =IFERROR(INDEX($B$3:$AG$28,$A10,MATCH(AZ$2,$B$2:$AG$2,0)),"") | BA10: =IFERROR(INDEX($B$3:$AG$28,$A10,MATCH(BA$2,$B$2:$AG$2,0)),"") | BB10: =IFERROR(INDEX($B$3:$AG$28,$A10,MATCH(BB$2,$B$2:$AG$2,0)),"") | BC10: =IFERROR(INDEX($B$3:$AG$28,$A10,MATCH(BC$2,$B$2:$AG$2,0)),"") | BD10: =IFERROR(INDEX($B$3:$AG$28,$A10,MATCH(BD$2,$B$2:$AG$2,0)),"") | BE10: =IFERROR(INDEX($B$3:$AG$28,$A10,MATCH(BE$2,$B$2:$AG$2,0)),"") | BF10: =IFERROR(INDEX($B$3:$AG$28,$A10,MATCH(BF$2,$B$2:$AG$2,0)),"") | BG10: =IFERROR(INDEX($B$3:$AG$28,$A10,MATCH(BG$2,$B$2:$AG$2,0)),"") | BI10: =IFERROR(INDEX($B$3:$AG$28,$A10,MATCH(BI$2,$B$2:$AG$2,0)),"") | BJ10: =IFERROR(INDEX($B$3:$AG$28,$A10,MATCH(BJ$2,$B$2:$AG$2,0)),"") | BK10: =IFERROR(INDEX($B$3:$AG$28,$A10,MATCH(BK$2,$B$2:$AG$2,0)),"") | BL10: =IFERROR(INDEX($B$3:$AG$28,$A10,MATCH(BL$2,$B$2:$AG$2,0)),"") | BN10: =IFERROR(INDEX($B$3:$AG$28,$A10,MATCH(BN$2,$B$2:$AG$2,0)),"") | BO10: =IFERROR(INDEX($B$3:$AG$28,$A10,MATCH(BO$2,$B$2:$AG$2,0)),"") | BQ10: =IFERROR(INDEX($B$3:$AG$28,$A10,MATCH(BQ$2,$B$2:$AG$2,0)),"") | BR10: =IFERROR(INDEX($B$3:$AG$28,$A10,MATCH(BR$2,$B$2:$AG$2,0)),"") | BT10: =BT9 -> Germany | BU10: =BU9+1 -> 8 | BW10: 1 | BX10: =B10 -> Toni Kroos | BY10: =COUNTIF('Group Stages'!$J$8:$Q$80,BX10)+COUNTIF('Knock Out Stages'!$K$7:$R$45,BX10) -> 0 | CA10: ='Player Database'!C13 -> Toni Kroos | CB10: 7 | CC10: {=IFERROR(INDEX($BX$3:$BX$810, SMALL(IF(COUNTIF(CC$3, $BY$3:$BY$810), ROW($BX$3:$BX$810)-MIN(ROW($BX$3:$BX$810))+1), $CB10), 0),"")} -> Breel Embolo | CD10: {=IFERROR(INDEX($BX$3:$BX$810, SMALL(IF(COUNTIF(CD$3, $BY$3:$BY$810), ROW($BX$3:$BX$810)-MIN(ROW($BX$3:$BX$810))+1), $CB10), 0),"")} | CE10: {=IFERROR(INDEX($BX$3:$BX$810, SMALL(IF(COUNTIF(CE$3, $BY$3:$BY$810), ROW($BX$3:$BX$810)-MIN(ROW($BX$3:$BX$810))+1), $CB10), 0),"")} | CF10: {=IFERROR(INDEX($BX$3:$BX$810, SMALL(IF(COUNTIF(CF$3, $BY$3:$BY$810), ROW($BX$3:$BX$810)-MIN(ROW($BX$3:$BX$810))+1), $CB10), 0),"")} | CG10: {=IFERROR(INDEX($BX$3:$BX$810, SMALL(IF(COUNTIF(CG$3, $BY$3:$BY$810), ROW($BX$3:$BX$810)-MIN(ROW($BX$3:$BX$810))+1), $CB10), 0),"")} | CH10: {=IFERROR(INDEX($BX$3:$BX$810, SMALL(IF(COUNTIF(CH$3, $BY$3:$BY$810), ROW($BX$3:$BX$810)-MIN(ROW($BX$3:$BX$810))+1), $CB10), 0),"")} | CI10: {=IFERROR(INDEX($BX$3:$BX$810, SMALL(IF(COUNTIF(CI$3, $BY$3:$BY$810), ROW($BX$3:$BX$810)-MIN(ROW($BX$3:$BX$810))+1), $CB10), 0),"")} | CJ10: {=IFERROR(INDEX($BX$3:$BX$810, SMALL(IF(COUNTIF(CJ$3, $BY$3:$BY$810), ROW($BX$3:$BX$810)-MIN(ROW($BX$3:$BX$810))+1), $CB10), 0),"")} | ... CQ10: {=IFERROR(INDEX($BX$3:$BX$810, SMALL(IF(COUNTIF(CQ$3, $BY$3:$BY$810), ROW($BX$3:$BX$810)-MIN(ROW($BX$3:$BX$810))+1), $CB10), 0),"")} | CS10: 7 | CT10: 1 | CV10: =CQ10 | CW10: =IF(CV10<>"",CW9+1,CW9) -> 0 | CZ10: 7 | DA10: =IFERROR(INDEX($CV$4:$CV$633,MATCH(CZ10,$CW$4:$CW$633,0),0),"") -> Breel Embolo | DB10: =IFERROR(VLOOKUP(DA10,$BX$3:$BY$810,2,FALSE),"") -> 1 | DC10: =IFERROR(VLOOKUP(DA10,$BX$3:$CA$810,4,FALSE),"") -> Breel Embolo | DD10: =IFERROR(INDEX($BT$3:$BT$810,MATCH(DA10,$BX$3:$BX$810,0),0),"") -> Switzerland
A11: 9 | B11: ='Player Database'!C14 -> Niclas Füllkrug | C11: ='Player Database'!D14 -> Lawrence Shankland | D11: ='Player Database'!E14 -> Martin Ádám | E11: ='Player Database'!F14 -> Noah Okafor | F11: ='Player Database'!G14 -> Gianluca Scamacca | G11: ='Player Database'!H14 -> Jasir Asani | H11: ='Player Database'!I14 -> Joselu | I11: ='Player Database'!J14 -> Andrej Kramarić | ... Y11: ='Player Database'!Z14 -> Zuriko Davitashvili | AI11: =IFERROR(INDEX($B$3:$AG$28,$A11,MATCH(AI$2,$B$2:$AG$2,0)),"") | AJ11: =IFERROR(INDEX($B$3:$AG$28,$A11,MATCH(AJ$2,$B$2:$AG$2,0)),"") | AK11: =IFERROR(INDEX($B$3:$AG$28,$A11,MATCH(AK$2,$B$2:$AG$2,0)),"") | AL11: =IFERROR(INDEX($B$3:$AG$28,$A11,MATCH(AL$2,$B$2:$AG$2,0)),"") | AM11: =IFERROR(INDEX($B$3:$AG$28,$A11,MATCH(AM$2,$B$2:$AG$2,0)),"") | AN11: =IFERROR(INDEX($B$3:$AG$28,$A11,MATCH(AN$2,$B$2:$AG$2,0)),"") | AO11: =IFERROR(INDEX($B$3:$AG$28,$A11,MATCH(AO$2,$B$2:$AG$2,0)),"") | AP11: =IFERROR(INDEX($B$3:$AG$28,$A11,MATCH(AP$2,$B$2:$AG$2,0)),"") | ... AX11: =IFERROR(INDEX($B$3:$AG$28,$A11,MATCH(AX$2,$B$2:$AG$2,0)),"") | AZ11: =IFERROR(INDEX($B$3:$AG$28,$A11,MATCH(AZ$2,$B$2:$AG$2,0)),"") | BA11: =IFERROR(INDEX($B$3:$AG$28,$A11,MATCH(BA$2,$B$2:$AG$2,0)),"") | BB11: =IFERROR(INDEX($B$3:$AG$28,$A11,MATCH(BB$2,$B$2:$AG$2,0)),"") | BC11: =IFERROR(INDEX($B$3:$AG$28,$A11,MATCH(BC$2,$B$2:$AG$2,0)),"") | BD11: =IFERROR(INDEX($B$3:$AG$28,$A11,MATCH(BD$2,$B$2:$AG$2,0)),"") | BE11: =IFERROR(INDEX($B$3:$AG$28,$A11,MATCH(BE$2,$B$2:$AG$2,0)),"") | BF11: =IFERROR(INDEX($B$3:$AG$28,$A11,MATCH(BF$2,$B$2:$AG$2,0)),"") | BG11: =IFERROR(INDEX($B$3:$AG$28,$A11,MATCH(BG$2,$B$2:$AG$2,0)),"") | BI11: =IFERROR(INDEX($B$3:$AG$28,$A11,MATCH(BI$2,$B$2:$AG$2,0)),"") | BJ11: =IFERROR(INDEX($B$3:$AG$28,$A11,MATCH(BJ$2,$B$2:$AG$2,0)),"") | BK11: =IFERROR(INDEX($B$3:$AG$28,$A11,MATCH(BK$2,$B$2:$AG$2,0)),"") | BL11: =IFERROR(INDEX($B$3:$AG$28,$A11,MATCH(BL$2,$B$2:$AG$2,0)),"") | BN11: =IFERROR(INDEX($B$3:$AG$28,$A11,MATCH(BN$2,$B$2:$AG$2,0)),"") | BO11: =IFERROR(INDEX($B$3:$AG$28,$A11,MATCH(BO$2,$B$2:$AG$2,0)),"") | BQ11: =IFERROR(INDEX($B$3:$AG$28,$A11,MATCH(BQ$2,$B$2:$AG$2,0)),"") | BR11: =IFERROR(INDEX($B$3:$AG$28,$A11,MATCH(BR$2,$B$2:$AG$2,0)),"") | BT11: =BT10 -> Germany | BU11: =BU10+1 -> 9 | BW11: 1 | BX11: =B11 -> Niclas Füllkrug | BY11: =COUNTIF('Group Stages'!$J$8:$Q$80,BX11)+COUNTIF('Knock Out Stages'!$K$7:$R$45,BX11) -> 1 | CA11: ='Player Database'!C14 -> Niclas Füllkrug | CB11: 8 | CC11: {=IFERROR(INDEX($BX$3:$BX$810, SMALL(IF(COUNTIF(CC$3, $BY$3:$BY$810), ROW($BX$3:$BX$810)-MIN(ROW($BX$3:$BX$810))+1), $CB11), 0),"")} -> Kwadwo Duah | CD11: {=IFERROR(INDEX($BX$3:$BX$810, SMALL(IF(COUNTIF(CD$3, $BY$3:$BY$810), ROW($BX$3:$BX$810)-MIN(ROW($BX$3:$BX$810))+1), $CB11), 0),"")} | CE11: {=IFERROR(INDEX($BX$3:$BX$810, SMALL(IF(COUNTIF(CE$3, $BY$3:$BY$810), ROW($BX$3:$BX$810)-MIN(ROW($BX$3:$BX$810))+1), $CB11), 0),"")} | CF11: {=IFERROR(INDEX($BX$3:$BX$810, SMALL(IF(COUNTIF(CF$3, $BY$3:$BY$810), ROW($BX$3:$BX$810)-MIN(ROW($BX$3:$BX$810))+1), $CB11), 0),"")} | CG11: {=IFERROR(INDEX($BX$3:$BX$810, SMALL(IF(COUNTIF(CG$3, $BY$3:$BY$810), ROW($BX$3:$BX$810)-MIN(ROW($BX$3:$BX$810))+1), $CB11), 0),"")} | CH11: {=IFERROR(INDEX($BX$3:$BX$810, SMALL(IF(COUNTIF(CH$3, $BY$3:$BY$810), ROW($BX$3:$BX$810)-MIN(ROW($BX$3:$BX$810))+1), $CB11), 0),"")} | CI11: {=IFERROR(INDEX($BX$3:$BX$810, SMALL(IF(COUNTIF(CI$3, $BY$3:$BY$810), ROW($BX$3:$BX$810)-MIN(ROW($BX$3:$BX$810))+1), $CB11), 0),"")} | CJ11: {=IFERROR(INDEX($BX$3:$BX$810, SMALL(IF(COUNTIF(CJ$3, $BY$3:$BY$810), ROW($BX$3:$BX$810)-MIN(ROW($BX$3:$BX$810))+1), $CB11), 0),"")} | ... CQ11: {=IFERROR(INDEX($BX$3:$BX$810, SMALL(IF(COUNTIF(CQ$3, $BY$3:$BY$810), ROW($BX$3:$BX$810)-MIN(ROW($BX$3:$BX$810))+1), $CB11), 0),"")} | CS11: 8 | CT11: 1 | CV11: =CQ11 | CW11: =IF(CV11<>"",CW10+1,CW10) -> 0 | CZ11: 8 | DA11: =IFERROR(INDEX($CV$4:$CV$633,MATCH(CZ11,$CW$4:$CW$633,0),0),"") -> Kwadwo Duah | DB11: =IFERROR(VLOOKUP(DA11,$BX$3:$BY$810,2,FALSE),"") -> 1 | DC11: =IFERROR(VLOOKUP(DA11,$BX$3:$CA$810,4,FALSE),"") -> Kwadwo Duah | DD11: =IFERROR(INDEX($BT$3:$BT$810,MATCH(DA11,$BX$3:$BX$810,0),0),"") -> Switzerland
A12: 10 | B12: ='Player Database'!C15 -> Jamal Musiala | C12: ='Player Database'!D15 -> Ché Adams | D12: ='Player Database'!E15 -> Dominik Szoboszlai | E12: ='Player Database'!F15 -> Granit Xhaka | F12: ='Player Database'!G15 -> Lorenzo Pellegrini | G12: ='Player Database'!H15 -> Nedim Bajrami | H12: ='Player Database'!I15 -> Dani Olmo | I12: ='Player Database'!J15 -> Luka Modrić | ... Y12: ='Player Database'!Z15 -> Giorgi Chakvetadze | AI12: =IFERROR(INDEX($B$3:$AG$28,$A12,MATCH(AI$2,$B$2:$AG$2,0)),"") | AJ12: =IFERROR(INDEX($B$3:$AG$28,$A12,MATCH(AJ$2,$B$2:$AG$2,0)),"") | AK12: =IFERROR(INDEX($B$3:$AG$28,$A12,MATCH(AK$2,$B$2:$AG$2,0)),"") | AL12: =IFERROR(INDEX($B$3:$AG$28,$A12,MATCH(AL$2,$B$2:$AG$2,0)),"") | AM12: =IFERROR(INDEX($B$3:$AG$28,$A12,MATCH(AM$2,$B$2:$AG$2,0)),"") | AN12: =IFERROR(INDEX($B$3:$AG$28,$A12,MATCH(AN$2,$B$2:$AG$2,0)),"") | AO12: =IFERROR(INDEX($B$3:$AG$28,$A12,MATCH(AO$2,$B$2:$AG$2,0)),"") | AP12: =IFERROR(INDEX($B$3:$AG$28,$A12,MATCH(AP$2,$B$2:$AG$2,0)),"") | ... AX12: =IFERROR(INDEX($B$3:$AG$28,$A12,MATCH(AX$2,$B$2:$AG$2,0)),"") | AZ12: =IFERROR(INDEX($B$3:$AG$28,$A12,MATCH(AZ$2,$B$2:$AG$2,0)),"") | BA12: =IFERROR(INDEX($B$3:$AG$28,$A12,MATCH(BA$2,$B$2:$AG$2,0)),"") | BB12: =IFERROR(INDEX($B$3:$AG$28,$A12,MATCH(BB$2,$B$2:$AG$2,0)),"") | BC12: =IFERROR(INDEX($B$3:$AG$28,$A12,MATCH(BC$2,$B$2:$AG$2,0)),"") | BD12: =IFERROR(INDEX($B$3:$AG$28,$A12,MATCH(BD$2,$B$2:$AG$2,0)),"") | BE12: =IFERROR(INDEX($B$3:$AG$28,$A12,MATCH(BE$2,$B$2:$AG$2,0)),"") | BF12: =IFERROR(INDEX($B$3:$AG$28,$A12,MATCH(BF$2,$B$2:$AG$2,0)),"") | BG12: =IFERROR(INDEX($B$3:$AG$28,$A12,MATCH(BG$2,$B$2:$AG$2,0)),"") | BI12: =IFERROR(INDEX($B$3:$AG$28,$A12,MATCH(BI$2,$B$2:$AG$2,0)),"") | BJ12: =IFERROR(INDEX($B$3:$AG$28,$A12,MATCH(BJ$2,$B$2:$AG$2,0)),"") | BK12: =IFERROR(INDEX($B$3:$AG$28,$A12,MATCH(BK$2,$B$2:$AG$2,0)),"") | BL12: =IFERROR(INDEX($B$3:$AG$28,$A12,MATCH(BL$2,$B$2:$AG$2,0)),"") | BN12: =IFERROR(INDEX($B$3:$AG$28,$A12,MATCH(BN$2,$B$2:$AG$2,0)),"") | BO12: =IFERROR(INDEX($B$3:$AG$28,$A12,MATCH(BO$2,$B$2:$AG$2,0)),"") | BQ12: =IFERROR(INDEX($B$3:$AG$28,$A12,MATCH(BQ$2,$B$2:$AG$2,0)),"") | BR12: =IFERROR(INDEX($B$3:$AG$28,$A12,MATCH(BR$2,$B$2:$AG$2,0)),"") | BT12: =BT11 -> Germany | BU12: =BU11+1 -> 10 | BW12: 1 | BX12: =B12 -> Jamal Musiala | BY12: =COUNTIF('Group Stages'!$J$8:$Q$80,BX12)+COUNTIF('Knock Out Stages'!$K$7:$R$45,BX12) -> 1 | CA12: ='Player Database'!C15 -> Jamal Musiala | CB12: 9 | CC12: {=IFERROR(INDEX($BX$3:$BX$810, SMALL(IF(COUNTIF(CC$3, $BY$3:$BY$810), ROW($BX$3:$BX$810)-MIN(ROW($BX$3:$BX$810))+1), $CB12), 0),"")} -> Michel Aebischer | CD12: {=IFERROR(INDEX($BX$3:$BX$810, SMALL(IF(COUNTIF(CD$3, $BY$3:$BY$810), ROW($BX$3:$BX$810)-MIN(ROW($BX$3:$BX$810))+1), $CB12), 0),"")} | CE12: {=IFERROR(INDEX($BX$3:$BX$810, SMALL(IF(COUNTIF(CE$3, $BY$3:$BY$810), ROW($BX$3:$BX$810)-MIN(ROW($BX$3:$BX$810))+1), $CB12), 0),"")} | CF12: {=IFERROR(INDEX($BX$3:$BX$810, SMALL(IF(COUNTIF(CF$3, $BY$3:$BY$810), ROW($BX$3:$BX$810)-MIN(ROW($BX$3:$BX$810))+1), $CB12), 0),"")} | CG12: {=IFERROR(INDEX($BX$3:$BX$810, SMALL(IF(COUNTIF(CG$3, $BY$3:$BY$810), ROW($BX$3:$BX$810)-MIN(ROW($BX$3:$BX$810))+1), $CB12), 0),"")} | CH12: {=IFERROR(INDEX($BX$3:$BX$810, SMALL(IF(COUNTIF(CH$3, $BY$3:$BY$810), ROW($BX$3:$BX$810)-MIN(ROW($BX$3:$BX$810))+1), $CB12), 0),"")} | CI12: {=IFERROR(INDEX($BX$3:$BX$810, SMALL(IF(COUNTIF(CI$3, $BY$3:$BY$810), ROW($BX$3:$BX$810)-MIN(ROW($BX$3:$BX$810))+1), $CB12), 0),"")} | CJ12: {=IFERROR(INDEX($BX$3:$BX$810, SMALL(IF(COUNTIF(CJ$3, $BY$3:$BY$810), ROW($BX$3:$BX$810)-MIN(ROW($BX$3:$BX$810))+1), $CB12), 0),"")} | ... CQ12: {=IFERROR(INDEX($BX$3:$BX$810, SMALL(IF(COUNTIF(CQ$3, $BY$3:$BY$810), ROW($BX$3:$BX$810)-MIN(ROW($BX$3:$BX$810))+1), $CB12), 0),"")} | CS12: 9 | CT12: 1 | CV12: =CQ12 | CW12: =IF(CV12<>"",CW11+1,CW11) -> 0 | CZ12: 9 | DA12: =IFERROR(INDEX($CV$4:$CV$633,MATCH(CZ12,$CW$4:$CW$633,0),0),"") -> Michel Aebischer | DB12: =IFERROR(VLOOKUP(DA12,$BX$3:$BY$810,2,FALSE),"") -> 1 | DC12: =IFERROR(VLOOKUP(DA12,$BX$3:$CA$810,4,FALSE),"") -> Michel Aebischer | DD12: =IFERROR(INDEX($BT$3:$BT$810,MATCH(DA12,$BX$3:$BX$810,0),0),"") -> Switzerland
A13: 11 | B13: ='Player Database'!C16 -> Chris Führich | C13: ='Player Database'!D16 -> Ryan Christie | D13: ='Player Database'!E16 -> Milos Kerkez | E13: ='Player Database'!F16 -> Renato Steffen | F13: ='Player Database'!G16 -> Giacomo Raspadori | G13: ='Player Database'!H16 -> Armando Broja | H13: ='Player Database'!I16 -> Ferran Torres | I13: ='Player Database'!J16 -> Marcelo Brozović | ... Y13: ='Player Database'!Z16 -> Giorgi Kvilitaia | AI13: =IFERROR(INDEX($B$3:$AG$28,$A13,MATCH(AI$2,$B$2:$AG$2,0)),"") | AJ13: =IFERROR(INDEX($B$3:$AG$28,$A13,MATCH(AJ$2,$B$2:$AG$2,0)),"") | AK13: =IFERROR(INDEX($B$3:$AG$28,$A13,MATCH(AK$2,$B$2:$AG$2,0)),"") | AL13: =IFERROR(INDEX($B$3:$AG$28,$A13,MATCH(AL$2,$B$2:$AG$2,0)),"") | AM13: =IFERROR(INDEX($B$3:$AG$28,$A13,MATCH(AM$2,$B$2:$AG$2,0)),"") | AN13: =IFERROR(INDEX($B$3:$AG$28,$A13,MATCH(AN$2,$B$2:$AG$2,0)),"") | AO13: =IFERROR(INDEX($B$3:$AG$28,$A13,MATCH(AO$2,$B$2:$AG$2,0)),"") | AP13: =IFERROR(INDEX($B$3:$AG$28,$A13,MATCH(AP$2,$B$2:$AG$2,0)),"") | ... AX13: =IFERROR(INDEX($B$3:$AG$28,$A13,MATCH(AX$2,$B$2:$AG$2,0)),"") | AZ13: =IFERROR(INDEX($B$3:$AG$28,$A13,MATCH(AZ$2,$B$2:$AG$2,0)),"") | BA13: =IFERROR(INDEX($B$3:$AG$28,$A13,MATCH(BA$2,$B$2:$AG$2,0)),"") | BB13: =IFERROR(INDEX($B$3:$AG$28,$A13,MATCH(BB$2,$B$2:$AG$2,0)),"") | BC13: =IFERROR(INDEX($B$3:$AG$28,$A13,MATCH(BC$2,$B$2:$AG$2,0)),"") | BD13: =IFERROR(INDEX($B$3:$AG$28,$A13,MATCH(BD$2,$B$2:$AG$2,0)),"") | BE13: =IFERROR(INDEX($B$3:$AG$28,$A13,MATCH(BE$2,$B$2:$AG$2,0)),"") | BF13: =IFERROR(INDEX($B$3:$AG$28,$A13,MATCH(BF$2,$B$2:$AG$2,0)),"") | BG13: =IFERROR(INDEX($B$3:$AG$28,$A13,MATCH(BG$2,$B$2:$AG$2,0)),"") | BI13: =IFERROR(INDEX($B$3:$AG$28,$A13,MATCH(BI$2,$B$2:$AG$2,0)),"") | BJ13: =IFERROR(INDEX($B$3:$AG$28,$A13,MATCH(BJ$2,$B$2:$AG$2,0)),"") | BK13: =IFERROR(INDEX($B$3:$AG$28,$A13,MATCH(BK$2,$B$2:$AG$2,0)),"") | BL13: =IFERROR(INDEX($B$3:$AG$28,$A13,MATCH(BL$2,$B$2:$AG$2,0)),"") | BN13: =IFERROR(INDEX($B$3:$AG$28,$A13,MATCH(BN$2,$B$2:$AG$2,0)),"") | BO13: =IFERROR(INDEX($B$3:$AG$28,$A13,MATCH(BO$2,$B$2:$AG$2,0)),"") | BQ13: =IFERROR(INDEX($B$3:$AG$28,$A13,MATCH(BQ$2,$B$2:$AG$2,0)),"") | BR13: =IFERROR(INDEX($B$3:$AG$28,$A13,MATCH(BR$2,$B$2:$AG$2,0)),"") | BT13: =BT12 -> Germany | BU13: =BU12+1 -> 11 | BW13: 1 | BX13: =B13 -> Chris Führich | BY13: =COUNTIF('Group Stages'!$J$8:$Q$80,BX13)+COUNTIF('Knock Out Stages'!$K$7:$R$45,BX13) -> 0 | CA13: ='Player Database'!C16 -> Chris Führich | CB13: 10 | CC13: {=IFERROR(INDEX($BX$3:$BX$810, SMALL(IF(COUNTIF(CC$3, $BY$3:$BY$810), ROW($BX$3:$BX$810)-MIN(ROW($BX$3:$BX$810))+1), $CB13), 0),"")} -> Nicolò Barella | CD13: {=IFERROR(INDEX($BX$3:$BX$810, SMALL(IF(COUNTIF(CD$3, $BY$3:$BY$810), ROW($BX$3:$BX$810)-MIN(ROW($BX$3:$BX$810))+1), $CB13), 0),"")} | CE13: {=IFERROR(INDEX($BX$3:$BX$810, SMALL(IF(COUNTIF(CE$3, $BY$3:$BY$810), ROW($BX$3:$BX$810)-MIN(ROW($BX$3:$BX$810))+1), $CB13), 0),"")} | CF13: {=IFERROR(INDEX($BX$3:$BX$810, SMALL(IF(COUNTIF(CF$3, $BY$3:$BY$810), ROW($BX$3:$BX$810)-MIN(ROW($BX$3:$BX$810))+1), $CB13), 0),"")} | CG13: {=IFERROR(INDEX($BX$3:$BX$810, SMALL(IF(COUNTIF(CG$3, $BY$3:$BY$810), ROW($BX$3:$BX$810)-MIN(ROW($BX$3:$BX$810))+1), $CB13), 0),"")} | CH13: {=IFERROR(INDEX($BX$3:$BX$810, SMALL(IF(COUNTIF(CH$3, $BY$3:$BY$810), ROW($BX$3:$BX$810)-MIN(ROW($BX$3:$BX$810))+1), $CB13), 0),"")} | CI13: {=IFERROR(INDEX($BX$3:$BX$810, SMALL(IF(COUNTIF(CI$3, $BY$3:$BY$810), ROW($BX$3:$BX$810)-MIN(ROW($BX$3:$BX$810))+1), $CB13), 0),"")} | CJ13: {=IFERROR(INDEX($BX$3:$BX$810, SMALL(IF(COUNTIF(CJ$3, $BY$3:$BY$810), ROW($BX$3:$BX$810)-MIN(ROW($BX$3:$BX$810))+1), $CB13), 0),"")} | ... CQ13: {=IFERROR(INDEX($BX$3:$BX$810, SMALL(IF(COUNTIF(CQ$3, $BY$3:$BY$810), ROW($BX$3:$BX$810)-MIN(ROW($BX$3:$BX$810))+1), $CB13), 0),"")} | CS13: 10 | CT13: 1 | CV13: =CQ13 | CW13: =IF(CV13<>"",CW12+1,CW12) -> 0 | CZ13: 10 | DA13: =IFERROR(INDEX($CV$4:$CV$633,MATCH(CZ13,$CW$4:$CW$633,0),0),"") -> Nicolò Barella | DB13: =IFERROR(VLOOKUP(DA13,$BX$3:$BY$810,2,FALSE),"") -> 1 | DC13: =IFERROR(VLOOKUP(DA13,$BX$3:$CA$810,4,FALSE),"") -> Nicolò Barella | DD13: =IFERROR(INDEX($BT$3:$BT$810,MATCH(DA13,$BX$3:$BX$810,0),0),"") -> Italy
A14: 12 | B14: ='Player Database'!C17 -> Oliver Baumann | C14: ='Player Database'!D17 -> Liam Kelly | D14: ='Player Database'!E17 -> Dénes Dibusz | E14: ='Player Database'!F17 -> Yvon Mvogo | F14: ='Player Database'!G17 -> Guglielmo Vicario | G14: ='Player Database'!H17 -> Elhan Kastrati | H14: ='Player Database'!I17 -> Álex Grimaldo | I14: ='Player Database'!J17 -> Nediljko Labrović | ... Y14: ='Player Database'!Z17 -> Luka Gugeshashvili | AI14: =IFERROR(INDEX($B$3:$AG$28,$A14,MATCH(AI$2,$B$2:$AG$2,0)),"") | AJ14: =IFERROR(INDEX($B$3:$AG$28,$A14,MATCH(AJ$2,$B$2:$AG$2,0)),"") | AK14: =IFERROR(INDEX($B$3:$AG$28,$A14,MATCH(AK$2,$B$2:$AG$2,0)),"") | AL14: =IFERROR(INDEX($B$3:$AG$28,$A14,MATCH(AL$2,$B$2:$AG$2,0)),"") | AM14: =IFERROR(INDEX($B$3:$AG$28,$A14,MATCH(AM$2,$B$2:$AG$2,0)),"") | AN14: =IFERROR(INDEX($B$3:$AG$28,$A14,MATCH(AN$2,$B$2:$AG$2,0)),"") | AO14: =IFERROR(INDEX($B$3:$AG$28,$A14,MATCH(AO$2,$B$2:$AG$2,0)),"") | AP14: =IFERROR(INDEX($B$3:$AG$28,$A14,MATCH(AP$2,$B$2:$AG$2,0)),"") | ... AX14: =IFERROR(INDEX($B$3:$AG$28,$A14,MATCH(AX$2,$B$2:$AG$2,0)),"") | AZ14: =IFERROR(INDEX($B$3:$AG$28,$A14,MATCH(AZ$2,$B$2:$AG$2,0)),"") | BA14: =IFERROR(INDEX($B$3:$AG$28,$A14,MATCH(BA$2,$B$2:$AG$2,0)),"") | BB14: =IFERROR(INDEX($B$3:$AG$28,$A14,MATCH(BB$2,$B$2:$AG$2,0)),"") | BC14: =IFERROR(INDEX($B$3:$AG$28,$A14,MATCH(BC$2,$B$2:$AG$2,0)),"") | BD14: =IFERROR(INDEX($B$3:$AG$28,$A14,MATCH(BD$2,$B$2:$AG$2,0)),"") | BE14: =IFERROR(INDEX($B$3:$AG$28,$A14,MATCH(BE$2,$B$2:$AG$2,0)),"") | BF14: =IFERROR(INDEX($B$3:$AG$28,$A14,MATCH(BF$2,$B$2:$AG$2,0)),"") | BG14: =IFERROR(INDEX($B$3:$AG$28,$A14,MATCH(BG$2,$B$2:$AG$2,0)),"") | BI14: =IFERROR(INDEX($B$3:$AG$28,$A14,MATCH(BI$2,$B$2:$AG$2,0)),"") | BJ14: =IFERROR(INDEX($B$3:$AG$28,$A14,MATCH(BJ$2,$B$2:$AG$2,0)),"") | BK14: =IFERROR(INDEX($B$3:$AG$28,$A14,MATCH(BK$2,$B$2:$AG$2,0)),"") | BL14: =IFERROR(INDEX($B$3:$AG$28,$A14,MATCH(BL$2,$B$2:$AG$2,0)),"") | BN14: =IFERROR(INDEX($B$3:$AG$28,$A14,MATCH(BN$2,$B$2:$AG$2,0)),"") | BO14: =IFERROR(INDEX($B$3:$AG$28,$A14,MATCH(BO$2,$B$2:$AG$2,0)),"") | BQ14: =IFERROR(INDEX($B$3:$AG$28,$A14,MATCH(BQ$2,$B$2:$AG$2,0)),"") | BR14: =IFERROR(INDEX($B$3:$AG$28,$A14,MATCH(BR$2,$B$2:$AG$2,0)),"") | BT14: =BT13 -> Germany | BU14: =BU13+1 -> 12 | BW14: 1 | BX14: =B14 -> Oliver Baumann | BY14: =COUNTIF('Group Stages'!$J$8:$Q$80,BX14)+COUNTIF('Knock Out Stages'!$K$7:$R$45,BX14) -> 0 | CA14: ='Player Database'!C17 -> Oliver Baumann | CB14: 11 | CC14: {=IFERROR(INDEX($BX$3:$BX$810, SMALL(IF(COUNTIF(CC$3, $BY$3:$BY$810), ROW($BX$3:$BX$810)-MIN(ROW($BX$3:$BX$810))+1), $CB14), 0),"")} -> Alessandro Bastoni | CD14: {=IFERROR(INDEX($BX$3:$BX$810, SMALL(IF(COUNTIF(CD$3, $BY$3:$BY$810), ROW($BX$3:$BX$810)-MIN(ROW($BX$3:$BX$810))+1), $CB14), 0),"")} | CE14: {=IFERROR(INDEX($BX$3:$BX$810, SMALL(IF(COUNTIF(CE$3, $BY$3:$BY$810), ROW($BX$3:$BX$810)-MIN(ROW($BX$3:$BX$810))+1), $CB14), 0),"")} | CF14: {=IFERROR(INDEX($BX$3:$BX$810, SMALL(IF(COUNTIF(CF$3, $BY$3:$BY$810), ROW($BX$3:$BX$810)-MIN(ROW($BX$3:$BX$810))+1), $CB14), 0),"")} | CG14: {=IFERROR(INDEX($BX$3:$BX$810, SMALL(IF(COUNTIF(CG$3, $BY$3:$BY$810), ROW($BX$3:$BX$810)-MIN(ROW($BX$3:$BX$810))+1), $CB14), 0),"")} | CH14: {=IFERROR(INDEX($BX$3:$BX$810, SMALL(IF(COUNTIF(CH$3, $BY$3:$BY$810), ROW($BX$3:$BX$810)-MIN(ROW($BX$3:$BX$810))+1), $CB14), 0),"")} | CI14: {=IFERROR(INDEX($BX$3:$BX$810, SMALL(IF(COUNTIF(CI$3, $BY$3:$BY$810), ROW($BX$3:$BX$810)-MIN(ROW($BX$3:$BX$810))+1), $CB14), 0),"")} | CJ14: {=IFERROR(INDEX($BX$3:$BX$810, SMALL(IF(COUNTIF(CJ$3, $BY$3:$BY$810), ROW($BX$3:$BX$810)-MIN(ROW($BX$3:$BX$810))+1), $CB14), 0),"")} | ... CQ14: {=IFERROR(INDEX($BX$3:$BX$810, SMALL(IF(COUNTIF(CQ$3, $BY$3:$BY$810), ROW($BX$3:$BX$810)-MIN(ROW($BX$3:$BX$810))+1), $CB14), 0),"")} | CS14: 11 | CT14: 1 | CV14: =CQ14 | CW14: =IF(CV14<>"",CW13+1,CW13) -> 0 | CZ14: 11 | DA14: =IFERROR(INDEX($CV$4:$CV$633,MATCH(CZ14,$CW$4:$CW$633,0),0),"") -> Alessandro Bastoni | DB14: =IFERROR(VLOOKUP(DA14,$BX$3:$BY$810,2,FALSE),"") -> 1 | DC14: =IFERROR(VLOOKUP(DA14,$BX$3:$CA$810,4,FALSE),"") -> Alessandro Bastoni | DD14: =IFERROR(INDEX($BT$3:$BT$810,MATCH(DA14,$BX$3:$BX$810,0),0),"") -> Italy
A15: 13 | B15: ='Player Database'!C18 -> Thomas Müller | C15: ='Player Database'!D18 -> Jack Hendry | D15: ='Player Database'!E18 -> András Schäfer | E15: ='Player Database'!F18 -> Ricardo Rodriguez | F15: ='Player Database'!G18 -> Matteo Darmian | G15: ='Player Database'!H18 -> Enea Mihaj | H15: ='Player Database'!I18 -> Álex Remiro | I15: ='Player Database'!J18 -> Nikola Vlašić | ... Y15: ='Player Database'!Z18 -> Giorgi Gocholeishvili | AI15: =IFERROR(INDEX($B$3:$AG$28,$A15,MATCH(AI$2,$B$2:$AG$2,0)),"") | AJ15: =IFERROR(INDEX($B$3:$AG$28,$A15,MATCH(AJ$2,$B$2:$AG$2,0)),"") | AK15: =IFERROR(INDEX($B$3:$AG$28,$A15,MATCH(AK$2,$B$2:$AG$2,0)),"") | AL15: =IFERROR(INDEX($B$3:$AG$28,$A15,MATCH(AL$2,$B$2:$AG$2,0)),"") | AM15: =IFERROR(INDEX($B$3:$AG$28,$A15,MATCH(AM$2,$B$2:$AG$2,0)),"") | AN15: =IFERROR(INDEX($B$3:$AG$28,$A15,MATCH(AN$2,$B$2:$AG$2,0)),"") | AO15: =IFERROR(INDEX($B$3:$AG$28,$A15,MATCH(AO$2,$B$2:$AG$2,0)),"") | AP15: =IFERROR(INDEX($B$3:$AG$28,$A15,MATCH(AP$2,$B$2:$AG$2,0)),"") | ... AX15: =IFERROR(INDEX($B$3:$AG$28,$A15,MATCH(AX$2,$B$2:$AG$2,0)),"") | AZ15: =IFERROR(INDEX($B$3:$AG$28,$A15,MATCH(AZ$2,$B$2:$AG$2,0)),"") | BA15: =IFERROR(INDEX($B$3:$AG$28,$A15,MATCH(BA$2,$B$2:$AG$2,0)),"") | BB15: =IFERROR(INDEX($B$3:$AG$28,$A15,MATCH(BB$2,$B$2:$AG$2,0)),"") | BC15: =IFERROR(INDEX($B$3:$AG$28,$A15,MATCH(BC$2,$B$2:$AG$2,0)),"") | BD15: =IFERROR(INDEX($B$3:$AG$28,$A15,MATCH(BD$2,$B$2:$AG$2,0)),"") | BE15: =IFERROR(INDEX($B$3:$AG$28,$A15,MATCH(BE$2,$B$2:$AG$2,0)),"") | BF15: =IFERROR(INDEX($B$3:$AG$28,$A15,MATCH(BF$2,$B$2:$AG$2,0)),"") | BG15: =IFERROR(INDEX($B$3:$AG$28,$A15,MATCH(BG$2,$B$2:$AG$2,0)),"") | BI15: =IFERROR(INDEX($B$3:$AG$28,$A15,MATCH(BI$2,$B$2:$AG$2,0)),"") | BJ15: =IFERROR(INDEX($B$3:$AG$28,$A15,MATCH(BJ$2,$B$2:$AG$2,0)),"") | BK15: =IFERROR(INDEX($B$3:$AG$28,$A15,MATCH(BK$2,$B$2:$AG$2,0)),"") | BL15: =IFERROR(INDEX($B$3:$AG$28,$A15,MATCH(BL$2,$B$2:$AG$2,0)),"") | BN15: =IFERROR(INDEX($B$3:$AG$28,$A15,MATCH(BN$2,$B$2:$AG$2,0)),"") | BO15: =IFERROR(INDEX($B$3:$AG$28,$A15,MATCH(BO$2,$B$2:$AG$2,0)),"") | BQ15: =IFERROR(INDEX($B$3:$AG$28,$A15,MATCH(BQ$2,$B$2:$AG$2,0)),"") | BR15: =IFERROR(INDEX($B$3:$AG$28,$A15,MATCH(BR$2,$B$2:$AG$2,0)),"") | BT15: =BT14 -> Germany | BU15: =BU14+1 -> 13 | BW15: 1 | BX15: =B15 -> Thomas Müller | BY15: =COUNTIF('Group Stages'!$J$8:$Q$80,BX15)+COUNTIF('Knock Out Stages'!$K$7:$R$45,BX15) -> 0 | CA15: ='Player Database'!C18 -> Thomas Müller | CB15: 12 | CC15: {=IFERROR(INDEX($BX$3:$BX$810, SMALL(IF(COUNTIF(CC$3, $BY$3:$BY$810), ROW($BX$3:$BX$810)-MIN(ROW($BX$3:$BX$810))+1), $CB15), 0),"")} -> Nedim Bajrami | CD15: {=IFERROR(INDEX($BX$3:$BX$810, SMALL(IF(COUNTIF(CD$3, $BY$3:$BY$810), ROW($BX$3:$BX$810)-MIN(ROW($BX$3:$BX$810))+1), $CB15), 0),"")} | CE15: {=IFERROR(INDEX($BX$3:$BX$810, SMALL(IF(COUNTIF(CE$3, $BY$3:$BY$810), ROW($BX$3:$BX$810)-MIN(ROW($BX$3:$BX$810))+1), $CB15), 0),"")} | CF15: {=IFERROR(INDEX($BX$3:$BX$810, SMALL(IF(COUNTIF(CF$3, $BY$3:$BY$810), ROW($BX$3:$BX$810)-MIN(ROW($BX$3:$BX$810))+1), $CB15), 0),"")} | CG15: {=IFERROR(INDEX($BX$3:$BX$810, SMALL(IF(COUNTIF(CG$3, $BY$3:$BY$810), ROW($BX$3:$BX$810)-MIN(ROW($BX$3:$BX$810))+1), $CB15), 0),"")} | CH15: {=IFERROR(INDEX($BX$3:$BX$810, SMALL(IF(COUNTIF(CH$3, $BY$3:$BY$810), ROW($BX$3:$BX$810)-MIN(ROW($BX$3:$BX$810))+1), $CB15), 0),"")} | CI15: {=IFERROR(INDEX($BX$3:$BX$810, SMALL(IF(COUNTIF(CI$3, $BY$3:$BY$810), ROW($BX$3:$BX$810)-MIN(ROW($BX$3:$BX$810))+1), $CB15), 0),"")} | CJ15: {=IFERROR(INDEX($BX$3:$BX$810, SMALL(IF(COUNTIF(CJ$3, $BY$3:$BY$810), ROW($BX$3:$BX$810)-MIN(ROW($BX$3:$BX$810))+1), $CB15), 0),"")} | ... CQ15: {=IFERROR(INDEX($BX$3:$BX$810, SMALL(IF(COUNTIF(CQ$3, $BY$3:$BY$810), ROW($BX$3:$BX$810)-MIN(ROW($BX$3:$BX$810))+1), $CB15), 0),"")} | CS15: 12 | CT15: 1 | CV15: =CQ15 | CW15: =IF(CV15<>"",CW14+1,CW14) -> 0 | CZ15: 12 | DA15: =IFERROR(INDEX($CV$4:$CV$633,MATCH(CZ15,$CW$4:$CW$633,0),0),"") -> Nedim Bajrami | DB15: =IFERROR(VLOOKUP(DA15,$BX$3:$BY$810,2,FALSE),"") -> 1 | DC15: =IFERROR(VLOOKUP(DA15,$BX$3:$CA$810,4,FALSE),"") -> Nedim Bajrami | DD15: =IFERROR(INDEX($BT$3:$BT$810,MATCH(DA15,$BX$3:$BX$810,0),0),"") -> Albania
... A28: 26 | B28: ='Player Database'!C31 -> Deniz Undav | C28: ='Player Database'!D31 -> Scott McKenna | D28: ='Player Database'!E31 -> Mihály Kata | E28: ='Player Database'!F31 -> Fabian Rieder | F28: ='Player Database'!G31 -> Alex Meret | G28: ='Player Database'!H31 -> Arbër Hoxha | H28: ='Player Database'!I31 -> Ayoze Pérez | I28: ='Player Database'!J31 -> Martin Baturina | ... Y28: ='Player Database'!Z31 -> Gabriel Sigua | AI28: =IFERROR(INDEX($B$3:$AG$28,$A28,MATCH(AI$2,$B$2:$AG$2,0)),"") | AJ28: =IFERROR(INDEX($B$3:$AG$28,$A28,MATCH(AJ$2,$B$2:$AG$2,0)),"") | AK28: =IFERROR(INDEX($B$3:$AG$28,$A28,MATCH(AK$2,$B$2:$AG$2,0)),"") | AL28: =IFERROR(INDEX($B$3:$AG$28,$A28,MATCH(AL$2,$B$2:$AG$2,0)),"") | AM28: =IFERROR(INDEX($B$3:$AG$28,$A28,MATCH(AM$2,$B$2:$AG$2,0)),"") | AN28: =IFERROR(INDEX($B$3:$AG$28,$A28,MATCH(AN$2,$B$2:$AG$2,0)),"") | AO28: =IFERROR(INDEX($B$3:$AG$28,$A28,MATCH(AO$2,$B$2:$AG$2,0)),"") | AP28: =IFERROR(INDEX($B$3:$AG$28,$A28,MATCH(AP$2,$B$2:$AG$2,0)),"") | ... AX28: =IFERROR(INDEX($B$3:$AG$28,$A28,MATCH(AX$2,$B$2:$AG$2,0)),"") | AZ28: =IFERROR(INDEX($B$3:$AG$28,$A28,MATCH(AZ$2,$B$2:$AG$2,0)),"") | BA28: =IFERROR(INDEX($B$3:$AG$28,$A28,MATCH(BA$2,$B$2:$AG$2,0)),"") | BB28: =IFERROR(INDEX($B$3:$AG$28,$A28,MATCH(BB$2,$B$2:$AG$2,0)),"") | BC28: =IFERROR(INDEX($B$3:$AG$28,$A28,MATCH(BC$2,$B$2:$AG$2,0)),"") | BD28: =IFERROR(INDEX($B$3:$AG$28,$A28,MATCH(BD$2,$B$2:$AG$2,0)),"") | BE28: =IFERROR(INDEX($B$3:$AG$28,$A28,MATCH(BE$2,$B$2:$AG$2,0)),"") | BF28: =IFERROR(INDEX($B$3:$AG$28,$A28,MATCH(BF$2,$B$2:$AG$2,0)),"") | BG28: =IFERROR(INDEX($B$3:$AG$28,$A28,MATCH(BG$2,$B$2:$AG$2,0)),"") | BI28: =IFERROR(INDEX($B$3:$AG$28,$A28,MATCH(BI$2,$B$2:$AG$2,0)),"") | BJ28: =IFERROR(INDEX($B$3:$AG$28,$A28,MATCH(BJ$2,$B$2:$AG$2,0)),"") | BK28: =IFERROR(INDEX($B$3:$AG$28,$A28,MATCH(BK$2,$B$2:$AG$2,0)),"") | BL28: =IFERROR(INDEX($B$3:$AG$28,$A28,MATCH(BL$2,$B$2:$AG$2,0)),"") | BN28: =IFERROR(INDEX($B$3:$AG$28,$A28,MATCH(BN$2,$B$2:$AG$2,0)),"") | BO28: =IFERROR(INDEX($B$3:$AG$28,$A28,MATCH(BO$2,$B$2:$AG$2,0)),"") | BQ28: =IFERROR(INDEX($B$3:$AG$28,$A28,MATCH(BQ$2,$B$2:$AG$2,0)),"") | BR28: =IFERROR(INDEX($B$3:$AG$28,$A28,MATCH(BR$2,$B$2:$AG$2,0)),"") | BT28: =BT27 -> Germany | BU28: =BU27+1 -> 26 | BW28: 1 | BX28: =B28 -> Deniz Undav | BY28: =COUNTIF('Group Stages'!$J$8:$Q$80,BX28)+COUNTIF('Knock Out Stages'!$K$7:$R$45,BX28) -> 0 | CA28: ='Player Database'!C31 -> Deniz Undav | CB28: 25 | CC28: {=IFERROR(INDEX($BX$3:$BX$810, SMALL(IF(COUNTIF(CC$3, $BY$3:$BY$810), ROW($BX$3:$BX$810)-MIN(ROW($BX$3:$BX$810))+1), $CB28), 0),"")} | CD28: {=IFERROR(INDEX($BX$3:$BX$810, SMALL(IF(COUNTIF(CD$3, $BY$3:$BY$810), ROW($BX$3:$BX$810)-MIN(ROW($BX$3:$BX$810))+1), $CB28), 0),"")} | CE28: {=IFERROR(INDEX($BX$3:$BX$810, SMALL(IF(COUNTIF(CE$3, $BY$3:$BY$810), ROW($BX$3:$BX$810)-MIN(ROW($BX$3:$BX$810))+1), $CB28), 0),"")} | CF28: {=IFERROR(INDEX($BX$3:$BX$810, SMALL(IF(COUNTIF(CF$3, $BY$3:$BY$810), ROW($BX$3:$BX$810)-MIN(ROW($BX$3:$BX$810))+1), $CB28), 0),"")} | CG28: {=IFERROR(INDEX($BX$3:$BX$810, SMALL(IF(COUNTIF(CG$3, $BY$3:$BY$810), ROW($BX$3:$BX$810)-MIN(ROW($BX$3:$BX$810))+1), $CB28), 0),"")} | CH28: {=IFERROR(INDEX($BX$3:$BX$810, SMALL(IF(COUNTIF(CH$3, $BY$3:$BY$810), ROW($BX$3:$BX$810)-MIN(ROW($BX$3:$BX$810))+1), $CB28), 0),"")} | CI28: {=IFERROR(INDEX($BX$3:$BX$810, SMALL(IF(COUNTIF(CI$3, $BY$3:$BY$810), ROW($BX$3:$BX$810)-MIN(ROW($BX$3:$BX$810))+1), $CB28), 0),"")} | CJ28: {=IFERROR(INDEX($BX$3:$BX$810, SMALL(IF(COUNTIF(CJ$3, $BY$3:$BY$810), ROW($BX$3:$BX$810)-MIN(ROW($BX$3:$BX$810))+1), $CB28), 0),"")} | ... CQ28: {=IFERROR(INDEX($BX$3:$BX$810, SMALL(IF(COUNTIF(CQ$3, $BY$3:$BY$810), ROW($BX$3:$BX$810)-MIN(ROW($BX$3:$BX$810))+1), $CB28), 0),"")} | CS28: 25 | CT28: 1 | CV28: =CQ28 | CW28: =IF(CV28<>"",CW27+1,CW27) -> 0 | CZ28: 25 | DA28: =IFERROR(INDEX($CV$4:$CV$633,MATCH(CZ28,$CW$4:$CW$633,0),0),"") | DB28: =IFERROR(VLOOKUP(DA28,$BX$3:$BY$810,2,FALSE),"") | DC28: =IFERROR(VLOOKUP(DA28,$BX$3:$CA$810,4,FALSE),"") | DD28: =IFERROR(INDEX($BT$3:$BT$810,MATCH(DA28,$BX$3:$BX$810,0),0),"")
A29: =A3 -> 1 | B29: =C3&" (og)" -> Angus Gunn (og) | C29: =B3&" (og)" -> Manuel Neuer (og) | D29: =B3&" (og)" -> Manuel Neuer (og) | E29: =B3&" (og)" -> Manuel Neuer (og) | F29: =G3&" (og)" -> Etrit Berisha (og) | G29: =F3&" (og)" -> Gianluigi Donnarumma (og) | H29: =F3&" (og)" -> Gianluigi Donnarumma (og) | I29: =F3&" (og)" -> Gianluigi Donnarumma (og) | J29: =K3&" (og)" -> Jordan Pickford (og) | K29: =J3&" (og)" -> Predrag Rajković (og) | L29: =J3&" (og)" -> Predrag Rajković (og) | M29: =J3&" (og)" -> Predrag Rajković (og) | N29: =O3&" (og)" -> Bart Verbruggen (og) | O29: =N3&" (og)" -> Wojciech Szczęsny (og) | P29: =N3&" (og)" -> Wojciech Szczęsny (og) | Q29: =N3&" (og)" -> Wojciech Szczęsny (og) | R29: =S3&" (og)" -> Martin Dúbravka (og) | S29: =R3&" (og)" -> Koen Casteels (og) | T29: =R3&" (og)" -> Koen Casteels (og) | U29: =R3&" (og)" -> Koen Casteels (og) | V29: =W3&" (og)" -> Jindřich Staněk (og) | W29: =V3&" (og)" -> Rui Patrício (og) | X29: =V3&" (og)" -> Rui Patrício (og) | Y29: =V3&" (og)" -> Rui Patrício (og) | AI29: =AJ3&" (og)" -> (og) | AJ29: =AI3&" (og)" -> (og) | AK29: =AL3&" (og)" -> (og) | AL29: =AK3&" (og)" -> (og) | AM29: =AN3&" (og)" -> (og) | AN29: =AM3&" (og)" -> (og) | AO29: =AP3&" (og)" -> (og) | AP29: =AO3&" (og)" -> (og) | AQ29: =AR3&" (og)" -> (og) | AR29: =AQ3&" (og)" -> (og) | AS29: =AT3&" (og)" -> (og) | AT29: =AS3&" (og)" -> (og) | AU29: =AV3&" (og)" -> (og) | AV29: =AU3&" (og)" -> (og) | AW29: =AX3&" (og)" -> (og) | AX29: =AW3&" (og)" -> (og) | AZ29: =BA3&" (og)" -> (og) | BA29: =AZ3&" (og)" -> (og) | BB29: =BC3&" (og)" -> (og) | BC29: =BB3&" (og)" -> (og) | BD29: =BE3&" (og)" -> (og) | BE29: =BD3&" (og)" -> (og) | BF29: =BG3&" (og)" -> (og) | BG29: =BF3&" (og)" -> (og) | BI29: =BJ3&" (og)" -> (og) | BJ29: =BI3&" (og)" -> (og) | BK29: =BL3&" (og)" -> (og) | BL29: =BK3&" (og)" -> (og) | BN29: =BO3&" (og)" -> (og) | BO29: =BN3&" (og)" -> (og) | BQ29: =BR3&" (og)" -> (og) | BR29: =BQ3&" (og)" -> (og) | BT29: =OFFSET($A$2,0,BW29) -> Scotland | BU29: =BU28+1 -> 27 | BV29: A3 | BW29: =BW3+1 -> 2 | BX29: =OFFSET(INDIRECT(BV29),0,BW29) -> Angus Gunn | BY29: =COUNTIF('Group Stages'!$J$8:$Q$80,BX29)+COUNTIF('Knock Out Stages'!$K$7:$R$45,BX29) -> 0 | BZ29: 'Player Database'!b6 | CA29: =OFFSET(INDIRECT(BZ29),0,BW29) -> Angus Gunn | CB29: 26 | CC29: {=IFERROR(INDEX($BX$3:$BX$810, SMALL(IF(COUNTIF(CC$3, $BY$3:$BY$810), ROW($BX$3:$BX$810)-MIN(ROW($BX$3:$BX$810))+1), $CB29), 0),"")} | CD29: {=IFERROR(INDEX($BX$3:$BX$810, SMALL(IF(COUNTIF(CD$3, $BY$3:$BY$810), ROW($BX$3:$BX$810)-MIN(ROW($BX$3:$BX$810))+1), $CB29), 0),"")} | CE29: {=IFERROR(INDEX($BX$3:$BX$810, SMALL(IF(COUNTIF(CE$3, $BY$3:$BY$810), ROW($BX$3:$BX$810)-MIN(ROW($BX$3:$BX$810))+1), $CB29), 0),"")} | CF29: {=IFERROR(INDEX($BX$3:$BX$810, SMALL(IF(COUNTIF(CF$3, $BY$3:$BY$810), ROW($BX$3:$BX$810)-MIN(ROW($BX$3:$BX$810))+1), $CB29), 0),"")} | CG29: {=IFERROR(INDEX($BX$3:$BX$810, SMALL(IF(COUNTIF(CG$3, $BY$3:$BY$810), ROW($BX$3:$BX$810)-MIN(ROW($BX$3:$BX$810))+1), $CB29), 0),"")} | CH29: {=IFERROR(INDEX($BX$3:$BX$810, SMALL(IF(COUNTIF(CH$3, $BY$3:$BY$810), ROW($BX$3:$BX$810)-MIN(ROW($BX$3:$BX$810))+1), $CB29), 0),"")} | CI29: {=IFERROR(INDEX($BX$3:$BX$810, SMALL(IF(COUNTIF(CI$3, $BY$3:$BY$810), ROW($BX$3:$BX$810)-MIN(ROW($BX$3:$BX$810))+1), $CB29), 0),"")} | CJ29: {=IFERROR(INDEX($BX$3:$BX$810, SMALL(IF(COUNTIF(CJ$3, $BY$3:$BY$810), ROW($BX$3:$BX$810)-MIN(ROW($BX$3:$BX$810))+1), $CB29), 0),"")} | ... CQ29: {=IFERROR(INDEX($BX$3:$BX$810, SMALL(IF(COUNTIF(CQ$3, $BY$3:$BY$810), ROW($BX$3:$BX$810)-MIN(ROW($BX$3:$BX$810))+1), $CB29), 0),"")} | CS29: 26 | CT29: 1 | CV29: =CQ29 | CW29: =IF(CV29<>"",CW28+1,CW28) -> 0 | CZ29: 26 | DA29: =IFERROR(INDEX($CV$4:$CV$633,MATCH(CZ29,$CW$4:$CW$633,0),0),"") | DB29: =IFERROR(VLOOKUP(DA29,$BX$3:$BY$810,2,FALSE),"") | DC29: =IFERROR(VLOOKUP(DA29,$BX$3:$CA$810,4,FALSE),"") | DD29: =IFERROR(INDEX($BT$3:$BT$810,MATCH(DA29,$BX$3:$BX$810,0),0),"")
A30: =A4 -> 2 | B30: =C4&" (og)" -> Anthony Ralston (og) | C30: =B4&" (og)" -> Antonio Rüdiger (og) | D30: =B4&" (og)" -> Antonio Rüdiger (og) | E30: =B4&" (og)" -> Antonio Rüdiger (og) | F30: =G4&" (og)" -> Iván Balliu (og) | G30: =F4&" (og)" -> Giovanni Di Lorenzo (og) | H30: =F4&" (og)" -> Giovanni Di Lorenzo (og) | I30: =F4&" (og)" -> Giovanni Di Lorenzo (og) | J30: =K4&" (og)" -> Kyle Walker (og) | K30: =J4&" (og)" -> Strahinja Pavlović (og) | L30: =J4&" (og)" -> Strahinja Pavlović (og) | M30: =J4&" (og)" -> Strahinja Pavlović (og) | N30: =O4&" (og)" -> Lutsharel Geertruida (og) | O30: =N4&" (og)" -> Bartosz Salamon (og) | P30: =N4&" (og)" -> Bartosz Salamon (og) | Q30: =N4&" (og)" -> Bartosz Salamon (og) | R30: =S4&" (og)" -> Peter Pekarík (og) | S30: =R4&" (og)" -> Zeno Debast (og) | T30: =R4&" (og)" -> Zeno Debast (og) | U30: =R4&" (og)" -> Zeno Debast (og) | V30: =W4&" (og)" -> David Zima (og) | W30: =V4&" (og)" -> Nélson Semedo (og) | X30: =V4&" (og)" -> Nélson Semedo (og) | Y30: =V4&" (og)" -> Nélson Semedo (og) | AI30: =AJ4&" (og)" -> (og) | AJ30: =AI4&" (og)" -> (og) | AK30: =AL4&" (og)" -> (og) | AL30: =AK4&" (og)" -> (og) | AM30: =AN4&" (og)" -> (og) | AN30: =AM4&" (og)" -> (og) | AO30: =AP4&" (og)" -> (og) | AP30: =AO4&" (og)" -> (og) | AQ30: =AR4&" (og)" -> (og) | AR30: =AQ4&" (og)" -> (og) | AS30: =AT4&" (og)" -> (og) | AT30: =AS4&" (og)" -> (og) | AU30: =AV4&" (og)" -> (og) | AV30: =AU4&" (og)" -> (og) | AW30: =AX4&" (og)" -> (og) | AX30: =AW4&" (og)" -> (og) | AZ30: =BA4&" (og)" -> (og) | BA30: =AZ4&" (og)" -> (og) | BB30: =BC4&" (og)" -> (og) | BC30: =BB4&" (og)" -> (og) | BD30: =BE4&" (og)" -> (og) | BE30: =BD4&" (og)" -> (og) | BF30: =BG4&" (og)" -> (og) | BG30: =BF4&" (og)" -> (og) | BI30: =BJ4&" (og)" -> (og) | BJ30: =BI4&" (og)" -> (og) | BK30: =BL4&" (og)" -> (og) | BL30: =BK4&" (og)" -> (og) | BN30: =BO4&" (og)" -> (og) | BO30: =BN4&" (og)" -> (og) | BQ30: =BR4&" (og)" -> (og) | BR30: =BQ4&" (og)" -> (og) | BT30: =OFFSET($A$2,0,BW30) -> Scotland | BU30: =BU29+1 -> 28 | BV30: A4 | BW30: =BW4+1 -> 2 | BX30: =OFFSET(INDIRECT(BV30),0,BW30) -> Anthony Ralston | BY30: =COUNTIF('Group Stages'!$J$8:$Q$80,BX30)+COUNTIF('Knock Out Stages'!$K$7:$R$45,BX30) -> 0 | BZ30: 'Player Database'!b7 | CA30: =OFFSET(INDIRECT(BZ30),0,BW30) -> Anthony Ralston | CB30: 27 | CC30: {=IFERROR(INDEX($BX$3:$BX$810, SMALL(IF(COUNTIF(CC$3, $BY$3:$BY$810), ROW($BX$3:$BX$810)-MIN(ROW($BX$3:$BX$810))+1), $CB30), 0),"")} | CD30: {=IFERROR(INDEX($BX$3:$BX$810, SMALL(IF(COUNTIF(CD$3, $BY$3:$BY$810), ROW($BX$3:$BX$810)-MIN(ROW($BX$3:$BX$810))+1), $CB30), 0),"")} | CE30: {=IFERROR(INDEX($BX$3:$BX$810, SMALL(IF(COUNTIF(CE$3, $BY$3:$BY$810), ROW($BX$3:$BX$810)-MIN(ROW($BX$3:$BX$810))+1), $CB30), 0),"")} | CF30: {=IFERROR(INDEX($BX$3:$BX$810, SMALL(IF(COUNTIF(CF$3, $BY$3:$BY$810), ROW($BX$3:$BX$810)-MIN(ROW($BX$3:$BX$810))+1), $CB30), 0),"")} | CG30: {=IFERROR(INDEX($BX$3:$BX$810, SMALL(IF(COUNTIF(CG$3, $BY$3:$BY$810), ROW($BX$3:$BX$810)-MIN(ROW($BX$3:$BX$810))+1), $CB30), 0),"")} | CH30: {=IFERROR(INDEX($BX$3:$BX$810, SMALL(IF(COUNTIF(CH$3, $BY$3:$BY$810), ROW($BX$3:$BX$810)-MIN(ROW($BX$3:$BX$810))+1), $CB30), 0),"")} | CI30: {=IFERROR(INDEX($BX$3:$BX$810, SMALL(IF(COUNTIF(CI$3, $BY$3:$BY$810), ROW($BX$3:$BX$810)-MIN(ROW($BX$3:$BX$810))+1), $CB30), 0),"")} | CJ30: {=IFERROR(INDEX($BX$3:$BX$810, SMALL(IF(COUNTIF(CJ$3, $BY$3:$BY$810), ROW($BX$3:$BX$810)-MIN(ROW($BX$3:$BX$810))+1), $CB30), 0),"")} | ... CQ30: {=IFERROR(INDEX($BX$3:$BX$810, SMALL(IF(COUNTIF(CQ$3, $BY$3:$BY$810), ROW($BX$3:$BX$810)-MIN(ROW($BX$3:$BX$810))+1), $CB30), 0),"")} | CS30: 27 | CT30: 1 | CV30: =CQ30 | CW30: =IF(CV30<>"",CW29+1,CW29) -> 0 | CZ30: 27 | DA30: =IFERROR(INDEX($CV$4:$CV$633,MATCH(CZ30,$CW$4:$CW$633,0),0),"") | DB30: =IFERROR(VLOOKUP(DA30,$BX$3:$BY$810,2,FALSE),"") | DC30: =IFERROR(VLOOKUP(DA30,$BX$3:$CA$810,4,FALSE),"") | DD30: =IFERROR(INDEX($BT$3:$BT$810,MATCH(DA30,$BX$3:$BX$810,0),0),"")
A31: =A5 -> 3 | B31: =C5&" (og)" -> Andrew Robertson (og) | C31: =B5&" (og)" -> David Raum (og) | D31: =B5&" (og)" -> David Raum (og) | E31: =B5&" (og)" -> David Raum (og) | F31: =G5&" (og)" -> Mario Mitaj (og) | G31: =F5&" (og)" -> Federico Dimarco (og) | H31: =F5&" (og)" -> Federico Dimarco (og) | I31: =F5&" (og)" -> Federico Dimarco (og) | J31: =K5&" (og)" -> Luke Shaw (og) | K31: =J5&" (og)" -> Nemanja Stojić (og) | L31: =J5&" (og)" -> Nemanja Stojić (og) | M31: =J5&" (og)" -> Nemanja Stojić (og) | N31: =O5&" (og)" -> Matthijs de Ligt (og) | O31: =N5&" (og)" -> Paweł Dawidowicz (og) | P31: =N5&" (og)" -> Paweł Dawidowicz (og) | Q31: =N5&" (og)" -> Paweł Dawidowicz (og) | R31: =S5&" (og)" -> Denis Vavro (og) | S31: =R5&" (og)" -> Arthur Theate (og) | T31: =R5&" (og)" -> Arthur Theate (og) | U31: =R5&" (og)" -> Arthur Theate (og) | V31: =W5&" (og)" -> Tomáš Holeš (og) | W31: =V5&" (og)" -> Pepe (og) | X31: =V5&" (og)" -> Pepe (og) | Y31: =V5&" (og)" -> Pepe (og) | AI31: =AJ5&" (og)" -> (og) | AJ31: =AI5&" (og)" -> (og) | AK31: =AL5&" (og)" -> (og) | AL31: =AK5&" (og)" -> (og) | AM31: =AN5&" (og)" -> (og) | AN31: =AM5&" (og)" -> (og) | AO31: =AP5&" (og)" -> (og) | AP31: =AO5&" (og)" -> (og) | AQ31: =AR5&" (og)" -> (og) | AR31: =AQ5&" (og)" -> (og) | AS31: =AT5&" (og)" -> (og) | AT31: =AS5&" (og)" -> (og) | AU31: =AV5&" (og)" -> (og) | AV31: =AU5&" (og)" -> (og) | AW31: =AX5&" (og)" -> (og) | AX31: =AW5&" (og)" -> (og) | AZ31: =BA5&" (og)" -> (og) | BA31: =AZ5&" (og)" -> (og) | BB31: =BC5&" (og)" -> (og) | BC31: =BB5&" (og)" -> (og) | BD31: =BE5&" (og)" -> (og) | BE31: =BD5&" (og)" -> (og) | BF31: =BG5&" (og)" -> (og) | BG31: =BF5&" (og)" -> (og) | BI31: =BJ5&" (og)" -> (og) | BJ31: =BI5&" (og)" -> (og) | BK31: =BL5&" (og)" -> (og) | BL31: =BK5&" (og)" -> (og) | BN31: =BO5&" (og)" -> (og) | BO31: =BN5&" (og)" -> (og) | BQ31: =BR5&" (og)" -> (og) | BR31: =BQ5&" (og)" -> (og) | BT31: =OFFSET($A$2,0,BW31) -> Scotland | BU31: =BU30+1 -> 29 | BV31: A5 | BW31: =BW5+1 -> 2 | BX31: =OFFSET(INDIRECT(BV31),0,BW31) -> Andrew Robertson | BY31: =COUNTIF('Group Stages'!$J$8:$Q$80,BX31)+COUNTIF('Knock Out Stages'!$K$7:$R$45,BX31) -> 0 | BZ31: 'Player Database'!b8 | CA31: =OFFSET(INDIRECT(BZ31),0,BW31) -> Andrew Robertson | CB31: 28 | CC31: {=IFERROR(INDEX($BX$3:$BX$810, SMALL(IF(COUNTIF(CC$3, $BY$3:$BY$810), ROW($BX$3:$BX$810)-MIN(ROW($BX$3:$BX$810))+1), $CB31), 0),"")} | CD31: {=IFERROR(INDEX($BX$3:$BX$810, SMALL(IF(COUNTIF(CD$3, $BY$3:$BY$810), ROW($BX$3:$BX$810)-MIN(ROW($BX$3:$BX$810))+1), $CB31), 0),"")} | CE31: {=IFERROR(INDEX($BX$3:$BX$810, SMALL(IF(COUNTIF(CE$3, $BY$3:$BY$810), ROW($BX$3:$BX$810)-MIN(ROW($BX$3:$BX$810))+1), $CB31), 0),"")} | CF31: {=IFERROR(INDEX($BX$3:$BX$810, SMALL(IF(COUNTIF(CF$3, $BY$3:$BY$810), ROW($BX$3:$BX$810)-MIN(ROW($BX$3:$BX$810))+1), $CB31), 0),"")} | CG31: {=IFERROR(INDEX($BX$3:$BX$810, SMALL(IF(COUNTIF(CG$3, $BY$3:$BY$810), ROW($BX$3:$BX$810)-MIN(ROW($BX$3:$BX$810))+1), $CB31), 0),"")} | CH31: {=IFERROR(INDEX($BX$3:$BX$810, SMALL(IF(COUNTIF(CH$3, $BY$3:$BY$810), ROW($BX$3:$BX$810)-MIN(ROW($BX$3:$BX$810))+1), $CB31), 0),"")} | CI31: {=IFERROR(INDEX($BX$3:$BX$810, SMALL(IF(COUNTIF(CI$3, $BY$3:$BY$810), ROW($BX$3:$BX$810)-MIN(ROW($BX$3:$BX$810))+1), $CB31), 0),"")} | CJ31: {=IFERROR(INDEX($BX$3:$BX$810, SMALL(IF(COUNTIF(CJ$3, $BY$3:$BY$810), ROW($BX$3:$BX$810)-MIN(ROW($BX$3:$BX$810))+1), $CB31), 0),"")} | ... CQ31: {=IFERROR(INDEX($BX$3:$BX$810, SMALL(IF(COUNTIF(CQ$3, $BY$3:$BY$810), ROW($BX$3:$BX$810)-MIN(ROW($BX$3:$BX$810))+1), $CB31), 0),"")} | CS31: 28 | CT31: 1 | CV31: =CQ31 | CW31: =IF(CV31<>"",CW30+1,CW30) -> 0 | CZ31: 28 | DA31: =IFERROR(INDEX($CV$4:$CV$633,MATCH(CZ31,$CW$4:$CW$633,0),0),"") | DB31: =IFERROR(VLOOKUP(DA31,$BX$3:$BY$810,2,FALSE),"") | DC31: =IFERROR(VLOOKUP(DA31,$BX$3:$CA$810,4,FALSE),"") | DD31: =IFERROR(INDEX($BT$3:$BT$810,MATCH(DA31,$BX$3:$BX$810,0),0),"")
A32: =A6 -> 4 | B32: =C6&" (og)" -> Scott McTominay (og) | C32: =B6&" (og)" -> Jonathan Tah (og) | D32: =B6&" (og)" -> Jonathan Tah (og) | E32: =B6&" (og)" -> Jonathan Tah (og) | F32: =G6&" (og)" -> Elseid Hysaj (og) | G32: =F6&" (og)" -> Alessandro Buongiorno (og) | H32: =F6&" (og)" -> Alessandro Buongiorno (og) | I32: =F6&" (og)" -> Alessandro Buongiorno (og) | J32: =K6&" (og)" -> Declan Rice (og) | K32: =J6&" (og)" -> Nikola Milenković (og) | L32: =J6&" (og)" -> Nikola Milenković (og) | M32: =J6&" (og)" -> Nikola Milenković (og) | N32: =O6&" (og)" -> Virgil van Dijk (og) | O32: =N6&" (og)" -> Sebastian Walukiewicz (og) | P32: =N6&" (og)" -> Sebastian Walukiewicz (og) | Q32: =N6&" (og)" -> Sebastian Walukiewicz (og) | R32: =S6&" (og)" -> Adam Obert (og) | S32: =R6&" (og)" -> Wout Faes (og) | T32: =R6&" (og)" -> Wout Faes (og) | U32: =R6&" (og)" -> Wout Faes (og) | V32: =W6&" (og)" -> Robin Hranáč (og) | W32: =V6&" (og)" -> Rúben Dias (og) | X32: =V6&" (og)" -> Rúben Dias (og) | Y32: =V6&" (og)" -> Rúben Dias (og) | AI32: =AJ6&" (og)" -> (og) | AJ32: =AI6&" (og)" -> (og) | AK32: =AL6&" (og)" -> (og) | AL32: =AK6&" (og)" -> (og) | AM32: =AN6&" (og)" -> (og) | AN32: =AM6&" (og)" -> (og) | AO32: =AP6&" (og)" -> (og) | AP32: =AO6&" (og)" -> (og) | AQ32: =AR6&" (og)" -> (og) | AR32: =AQ6&" (og)" -> (og) | AS32: =AT6&" (og)" -> (og) | AT32: =AS6&" (og)" -> (og) | AU32: =AV6&" (og)" -> (og) | AV32: =AU6&" (og)" -> (og) | AW32: =AX6&" (og)" -> (og) | AX32: =AW6&" (og)" -> (og) | AZ32: =BA6&" (og)" -> (og) | BA32: =AZ6&" (og)" -> (og) | BB32: =BC6&" (og)" -> (og) | BC32: =BB6&" (og)" -> (og) | BD32: =BE6&" (og)" -> (og) | BE32: =BD6&" (og)" -> (og) | BF32: =BG6&" (og)" -> (og) | BG32: =BF6&" (og)" -> (og) | BI32: =BJ6&" (og)" -> (og) | BJ32: =BI6&" (og)" -> (og) | BK32: =BL6&" (og)" -> (og) | BL32: =BK6&" (og)" -> (og) | BN32: =BO6&" (og)" -> (og) | BO32: =BN6&" (og)" -> (og) | BQ32: =BR6&" (og)" -> (og) | BR32: =BQ6&" (og)" -> (og) | BT32: =OFFSET($A$2,0,BW32) -> Scotland | BU32: =BU31+1 -> 30 | BV32: A6 | BW32: =BW6+1 -> 2 | BX32: =OFFSET(INDIRECT(BV32),0,BW32) -> Scott McTominay | BY32: =COUNTIF('Group Stages'!$J$8:$Q$80,BX32)+COUNTIF('Knock Out Stages'!$K$7:$R$45,BX32) -> 0 | BZ32: 'Player Database'!b9 | CA32: =OFFSET(INDIRECT(BZ32),0,BW32) -> Scott McTominay | CB32: 29 | CC32: {=IFERROR(INDEX($BX$3:$BX$810, SMALL(IF(COUNTIF(CC$3, $BY$3:$BY$810), ROW($BX$3:$BX$810)-MIN(ROW($BX$3:$BX$810))+1), $CB32), 0),"")} | CD32: {=IFERROR(INDEX($BX$3:$BX$810, SMALL(IF(COUNTIF(CD$3, $BY$3:$BY$810), ROW($BX$3:$BX$810)-MIN(ROW($BX$3:$BX$810))+1), $CB32), 0),"")} | CE32: {=IFERROR(INDEX($BX$3:$BX$810, SMALL(IF(COUNTIF(CE$3, $BY$3:$BY$810), ROW($BX$3:$BX$810)-MIN(ROW($BX$3:$BX$810))+1), $CB32), 0),"")} | CF32: {=IFERROR(INDEX($BX$3:$BX$810, SMALL(IF(COUNTIF(CF$3, $BY$3:$BY$810), ROW($BX$3:$BX$810)-MIN(ROW($BX$3:$BX$810))+1), $CB32), 0),"")} | CG32: {=IFERROR(INDEX($BX$3:$BX$810, SMALL(IF(COUNTIF(CG$3, $BY$3:$BY$810), ROW($BX$3:$BX$810)-MIN(ROW($BX$3:$BX$810))+1), $CB32), 0),"")} | CH32: {=IFERROR(INDEX($BX$3:$BX$810, SMALL(IF(COUNTIF(CH$3, $BY$3:$BY$810), ROW($BX$3:$BX$810)-MIN(ROW($BX$3:$BX$810))+1), $CB32), 0),"")} | CI32: {=IFERROR(INDEX($BX$3:$BX$810, SMALL(IF(COUNTIF(CI$3, $BY$3:$BY$810), ROW($BX$3:$BX$810)-MIN(ROW($BX$3:$BX$810))+1), $CB32), 0),"")} | CJ32: {=IFERROR(INDEX($BX$3:$BX$810, SMALL(IF(COUNTIF(CJ$3, $BY$3:$BY$810), ROW($BX$3:$BX$810)-MIN(ROW($BX$3:$BX$810))+1), $CB32), 0),"")} | ... CQ32: {=IFERROR(INDEX($BX$3:$BX$810, SMALL(IF(COUNTIF(CQ$3, $BY$3:$BY$810), ROW($BX$3:$BX$810)-MIN(ROW($BX$3:$BX$810))+1), $CB32), 0),"")} | CS32: 29 | CT32: 1 | CV32: =CQ32 | CW32: =IF(CV32<>"",CW31+1,CW31) -> 0 | CZ32: 29 | DA32: =IFERROR(INDEX($CV$4:$CV$633,MATCH(CZ32,$CW$4:$CW$633,0),0),"") | DB32: =IFERROR(VLOOKUP(DA32,$BX$3:$BY$810,2,FALSE),"") | DC32: =IFERROR(VLOOKUP(DA32,$BX$3:$CA$810,4,FALSE),"") | DD32: =IFERROR(INDEX($BT$3:$BT$810,MATCH(DA32,$BX$3:$BX$810,0),0),"")
A33: =A7 -> 5 | B33: =C7&" (og)" -> Grant Hanley (og) | C33: =B7&" (og)" -> Pascal Groß (og) | D33: =B7&" (og)" -> Pascal Groß (og) | E33: =B7&" (og)" -> Pascal Groß (og) | F33: =G7&" (og)" -> Arlind Ajeti (og) | G33: =F7&" (og)" -> Riccardo Calafiori (og) | H33: =F7&" (og)" -> Riccardo Calafiori (og) | I33: =F7&" (og)" -> Riccardo Calafiori (og) | J33: =K7&" (og)" -> John Stones (og) | K33: =J7&" (og)" -> Nemanja Maksimović (og) | L33: =J7&" (og)" -> Nemanja Maksimović (og) | M33: =J7&" (og)" -> Nemanja Maksimović (og) | N33: =O7&" (og)" -> Nathan Aké (og) | O33: =N7&" (og)" -> Jan Bednarek (og) | P33: =N7&" (og)" -> Jan Bednarek (og) | Q33: =N7&" (og)" -> Jan Bednarek (og) | R33: =S7&" (og)" -> Tomáš Rigo (og) | S33: =R7&" (og)" -> Jan Vertonghen (og) | T33: =R7&" (og)" -> Jan Vertonghen (og) | U33: =R7&" (og)" -> Jan Vertonghen (og) | V33: =W7&" (og)" -> Vladimír Coufal (og) | W33: =V7&" (og)" -> Diogo Dalot (og) | X33: =V7&" (og)" -> Diogo Dalot (og) | Y33: =V7&" (og)" -> Diogo Dalot (og) | AI33: =AJ7&" (og)" -> (og) | AJ33: =AI7&" (og)" -> (og) | AK33: =AL7&" (og)" -> (og) | AL33: =AK7&" (og)" -> (og) | AM33: =AN7&" (og)" -> (og) | AN33: =AM7&" (og)" -> (og) | AO33: =AP7&" (og)" -> (og) | AP33: =AO7&" (og)" -> (og) | AQ33: =AR7&" (og)" -> (og) | AR33: =AQ7&" (og)" -> (og) | AS33: =AT7&" (og)" -> (og) | AT33: =AS7&" (og)" -> (og) | AU33: =AV7&" (og)" -> (og) | AV33: =AU7&" (og)" -> (og) | AW33: =AX7&" (og)" -> (og) | AX33: =AW7&" (og)" -> (og) | AZ33: =BA7&" (og)" -> (og) | BA33: =AZ7&" (og)" -> (og) | BB33: =BC7&" (og)" -> (og) | BC33: =BB7&" (og)" -> (og) | BD33: =BE7&" (og)" -> (og) | BE33: =BD7&" (og)" -> (og) | BF33: =BG7&" (og)" -> (og) | BG33: =BF7&" (og)" -> (og) | BI33: =BJ7&" (og)" -> (og) | BJ33: =BI7&" (og)" -> (og) | BK33: =BL7&" (og)" -> (og) | BL33: =BK7&" (og)" -> (og) | BN33: =BO7&" (og)" -> (og) | BO33: =BN7&" (og)" -> (og) | BQ33: =BR7&" (og)" -> (og) | BR33: =BQ7&" (og)" -> (og) | BT33: =OFFSET($A$2,0,BW33) -> Scotland | BU33: =BU32+1 -> 31 | BV33: A7 | BW33: =BW7+1 -> 2 | BX33: =OFFSET(INDIRECT(BV33),0,BW33) -> Grant Hanley | BY33: =COUNTIF('Group Stages'!$J$8:$Q$80,BX33)+COUNTIF('Knock Out Stages'!$K$7:$R$45,BX33) -> 0 | BZ33: 'Player Database'!b10 | CA33: =OFFSET(INDIRECT(BZ33),0,BW33) -> Grant Hanley | CB33: 30 | CC33: {=IFERROR(INDEX($BX$3:$BX$810, SMALL(IF(COUNTIF(CC$3, $BY$3:$BY$810), ROW($BX$3:$BX$810)-MIN(ROW($BX$3:$BX$810))+1), $CB33), 0),"")} | CD33: {=IFERROR(INDEX($BX$3:$BX$810, SMALL(IF(COUNTIF(CD$3, $BY$3:$BY$810), ROW($BX$3:$BX$810)-MIN(ROW($BX$3:$BX$810))+1), $CB33), 0),"")} | CE33: {=IFERROR(INDEX($BX$3:$BX$810, SMALL(IF(COUNTIF(CE$3, $BY$3:$BY$810), ROW($BX$3:$BX$810)-MIN(ROW($BX$3:$BX$810))+1), $CB33), 0),"")} | CF33: {=IFERROR(INDEX($BX$3:$BX$810, SMALL(IF(COUNTIF(CF$3, $BY$3:$BY$810), ROW($BX$3:$BX$810)-MIN(ROW($BX$3:$BX$810))+1), $CB33), 0),"")} | CG33: {=IFERROR(INDEX($BX$3:$BX$810, SMALL(IF(COUNTIF(CG$3, $BY$3:$BY$810), ROW($BX$3:$BX$810)-MIN(ROW($BX$3:$BX$810))+1), $CB33), 0),"")} | CH33: {=IFERROR(INDEX($BX$3:$BX$810, SMALL(IF(COUNTIF(CH$3, $BY$3:$BY$810), ROW($BX$3:$BX$810)-MIN(ROW($BX$3:$BX$810))+1), $CB33), 0),"")} | CI33: {=IFERROR(INDEX($BX$3:$BX$810, SMALL(IF(COUNTIF(CI$3, $BY$3:$BY$810), ROW($BX$3:$BX$810)-MIN(ROW($BX$3:$BX$810))+1), $CB33), 0),"")} | CJ33: {=IFERROR(INDEX($BX$3:$BX$810, SMALL(IF(COUNTIF(CJ$3, $BY$3:$BY$810), ROW($BX$3:$BX$810)-MIN(ROW($BX$3:$BX$810))+1), $CB33), 0),"")} | ... CQ33: {=IFERROR(INDEX($BX$3:$BX$810, SMALL(IF(COUNTIF(CQ$3, $BY$3:$BY$810), ROW($BX$3:$BX$810)-MIN(ROW($BX$3:$BX$810))+1), $CB33), 0),"")} | CS33: 30 | CT33: 1 | CV33: =CQ33 | CW33: =IF(CV33<>"",CW32+1,CW32) -> 0 | CZ33: 30 | DA33: =IFERROR(INDEX($CV$4:$CV$633,MATCH(CZ33,$CW$4:$CW$633,0),0),"") | DB33: =IFERROR(VLOOKUP(DA33,$BX$3:$BY$810,2,FALSE),"") | DC33: =IFERROR(VLOOKUP(DA33,$BX$3:$CA$810,4,FALSE),"") | DD33: =IFERROR(INDEX($BT$3:$BT$810,MATCH(DA33,$BX$3:$BX$810,0),0),"")
A34: =A8 -> 6 | B34: =C8&" (og)" -> Kieran Tierney (og) | C34: =B8&" (og)" -> Joshua Kimmich (og) | D34: =B8&" (og)" -> Joshua Kimmich (og) | E34: =B8&" (og)" -> Joshua Kimmich (og) | F34: =G8&" (og)" -> Berat Djimsiti (og) | G34: =F8&" (og)" -> Federico Gatti (og) | H34: =F8&" (og)" -> Federico Gatti (og) | I34: =F8&" (og)" -> Federico Gatti (og) | J34: =K8&" (og)" -> Marc Guéhi (og) | K34: =J8&" (og)" -> Nemanja Gudelj (og) | L34: =J8&" (og)" -> Nemanja Gudelj (og) | M34: =J8&" (og)" -> Nemanja Gudelj (og) | N34: =O8&" (og)" -> Stefan de Vrij (og) | O34: =N8&" (og)" -> Jakub Piotrowski (og) | P34: =N8&" (og)" -> Jakub Piotrowski (og) | Q34: =N8&" (og)" -> Jakub Piotrowski (og) | R34: =S8&" (og)" -> Norbert Gyömbér (og) | S34: =R8&" (og)" -> Axel Witsel (og) | T34: =R8&" (og)" -> Axel Witsel (og) | U34: =R8&" (og)" -> Axel Witsel (og) | V34: =W8&" (og)" -> Martin Vitík (og) | W34: =V8&" (og)" -> João Palhinha (og) | X34: =V8&" (og)" -> João Palhinha (og) | Y34: =V8&" (og)" -> João Palhinha (og) | AI34: =AJ8&" (og)" -> (og) | AJ34: =AI8&" (og)" -> (og) | AK34: =AL8&" (og)" -> (og) | AL34: =AK8&" (og)" -> (og) | AM34: =AN8&" (og)" -> (og) | AN34: =AM8&" (og)" -> (og) | AO34: =AP8&" (og)" -> (og) | AP34: =AO8&" (og)" -> (og) | AQ34: =AR8&" (og)" -> (og) | AR34: =AQ8&" (og)" -> (og) | AS34: =AT8&" (og)" -> (og) | AT34: =AS8&" (og)" -> (og) | AU34: =AV8&" (og)" -> (og) | AV34: =AU8&" (og)" -> (og) | AW34: =AX8&" (og)" -> (og) | AX34: =AW8&" (og)" -> (og) | AZ34: =BA8&" (og)" -> (og) | BA34: =AZ8&" (og)" -> (og) | BB34: =BC8&" (og)" -> (og) | BC34: =BB8&" (og)" -> (og) | BD34: =BE8&" (og)" -> (og) | BE34: =BD8&" (og)" -> (og) | BF34: =BG8&" (og)" -> (og) | BG34: =BF8&" (og)" -> (og) | BI34: =BJ8&" (og)" -> (og) | BJ34: =BI8&" (og)" -> (og) | BK34: =BL8&" (og)" -> (og) | BL34: =BK8&" (og)" -> (og) | BN34: =BO8&" (og)" -> (og) | BO34: =BN8&" (og)" -> (og) | BQ34: =BR8&" (og)" -> (og) | BR34: =BQ8&" (og)" -> (og) | BT34: =OFFSET($A$2,0,BW34) -> Scotland | BU34: =BU33+1 -> 32 | BV34: A8 | BW34: =BW8+1 -> 2 | BX34: =OFFSET(INDIRECT(BV34),0,BW34) -> Kieran Tierney | BY34: =COUNTIF('Group Stages'!$J$8:$Q$80,BX34)+COUNTIF('Knock Out Stages'!$K$7:$R$45,BX34) -> 0 | BZ34: 'Player Database'!b11 | CA34: =OFFSET(INDIRECT(BZ34),0,BW34) -> Kieran Tierney | CB34: 31 | CC34: {=IFERROR(INDEX($BX$3:$BX$810, SMALL(IF(COUNTIF(CC$3, $BY$3:$BY$810), ROW($BX$3:$BX$810)-MIN(ROW($BX$3:$BX$810))+1), $CB34), 0),"")} | CD34: {=IFERROR(INDEX($BX$3:$BX$810, SMALL(IF(COUNTIF(CD$3, $BY$3:$BY$810), ROW($BX$3:$BX$810)-MIN(ROW($BX$3:$BX$810))+1), $CB34), 0),"")} | CE34: {=IFERROR(INDEX($BX$3:$BX$810, SMALL(IF(COUNTIF(CE$3, $BY$3:$BY$810), ROW($BX$3:$BX$810)-MIN(ROW($BX$3:$BX$810))+1), $CB34), 0),"")} | CF34: {=IFERROR(INDEX($BX$3:$BX$810, SMALL(IF(COUNTIF(CF$3, $BY$3:$BY$810), ROW($BX$3:$BX$810)-MIN(ROW($BX$3:$BX$810))+1), $CB34), 0),"")} | CG34: {=IFERROR(INDEX($BX$3:$BX$810, SMALL(IF(COUNTIF(CG$3, $BY$3:$BY$810), ROW($BX$3:$BX$810)-MIN(ROW($BX$3:$BX$810))+1), $CB34), 0),"")} | CH34: {=IFERROR(INDEX($BX$3:$BX$810, SMALL(IF(COUNTIF(CH$3, $BY$3:$BY$810), ROW($BX$3:$BX$810)-MIN(ROW($BX$3:$BX$810))+1), $CB34), 0),"")} | CI34: {=IFERROR(INDEX($BX$3:$BX$810, SMALL(IF(COUNTIF(CI$3, $BY$3:$BY$810), ROW($BX$3:$BX$810)-MIN(ROW($BX$3:$BX$810))+1), $CB34), 0),"")} | CJ34: {=IFERROR(INDEX($BX$3:$BX$810, SMALL(IF(COUNTIF(CJ$3, $BY$3:$BY$810), ROW($BX$3:$BX$810)-MIN(ROW($BX$3:$BX$810))+1), $CB34), 0),"")} | ... CQ34: {=IFERROR(INDEX($BX$3:$BX$810, SMALL(IF(COUNTIF(CQ$3, $BY$3:$BY$810), ROW($BX$3:$BX$810)-MIN(ROW($BX$3:$BX$810))+1), $CB34), 0),"")} | CS34: 31 | CT34: 1 | CV34: =CQ34 | CW34: =IF(CV34<>"",CW33+1,CW33) -> 0 | CZ34: 31 | DA34: =IFERROR(INDEX($CV$4:$CV$633,MATCH(CZ34,$CW$4:$CW$633,0),0),"") | DB34: =IFERROR(VLOOKUP(DA34,$BX$3:$BY$810,2,FALSE),"") | DC34: =IFERROR(VLOOKUP(DA34,$BX$3:$CA$810,4,FALSE),"") | DD34: =IFERROR(INDEX($BT$3:$BT$810,MATCH(DA34,$BX$3:$BX$810,0),0),"")
A35: =A9 -> 7 | B35: =C9&" (og)" -> John McGinn (og) | C35: =B9&" (og)" -> Kai Havertz (og) | D35: =B9&" (og)" -> Kai Havertz (og) | E35: =B9&" (og)" -> Kai Havertz (og) | F35: =G9&" (og)" -> Rey Manaj (og) | G35: =F9&" (og)" -> Davide Frattesi (og) | H35: =F9&" (og)" -> Davide Frattesi (og) | I35: =F9&" (og)" -> Davide Frattesi (og) | J35: =K9&" (og)" -> Bukayo Saka (og) | K35: =J9&" (og)" -> Dušan Vlahović (og) | L35: =J9&" (og)" -> Dušan Vlahović (og) | M35: =J9&" (og)" -> Dušan Vlahović (og) | N35: =O9&" (og)" -> Xavi Simons (og) | O35: =N9&" (og)" -> Karol Świderski (og) | P35: =N9&" (og)" -> Karol Świderski (og) | Q35: =N9&" (og)" -> Karol Świderski (og) | R35: =S9&" (og)" -> Tomáš Suslov (og) | S35: =R9&" (og)" -> Kevin De Bruyne (og) | T35: =R9&" (og)" -> Kevin De Bruyne (og) | U35: =R9&" (og)" -> Kevin De Bruyne (og) | V35: =W9&" (og)" -> Antonín Barák (og) | W35: =V9&" (og)" -> Cristiano Ronaldo (og) | X35: =V9&" (og)" -> Cristiano Ronaldo (og) | Y35: =V9&" (og)" -> Cristiano Ronaldo (og) | AI35: =AJ9&" (og)" -> (og) | AJ35: =AI9&" (og)" -> (og) | AK35: =AL9&" (og)" -> (og) | AL35: =AK9&" (og)" -> (og) | AM35: =AN9&" (og)" -> (og) | AN35: =AM9&" (og)" -> (og) | AO35: =AP9&" (og)" -> (og) | AP35: =AO9&" (og)" -> (og) | AQ35: =AR9&" (og)" -> (og) | AR35: =AQ9&" (og)" -> (og) | AS35: =AT9&" (og)" -> (og) | AT35: =AS9&" (og)" -> (og) | AU35: =AV9&" (og)" -> (og) | AV35: =AU9&" (og)" -> (og) | AW35: =AX9&" (og)" -> (og) | AX35: =AW9&" (og)" -> (og) | AZ35: =BA9&" (og)" -> (og) | BA35: =AZ9&" (og)" -> (og) | BB35: =BC9&" (og)" -> (og) | BC35: =BB9&" (og)" -> (og) | BD35: =BE9&" (og)" -> (og) | BE35: =BD9&" (og)" -> (og) | BF35: =BG9&" (og)" -> (og) | BG35: =BF9&" (og)" -> (og) | BI35: =BJ9&" (og)" -> (og) | BJ35: =BI9&" (og)" -> (og) | BK35: =BL9&" (og)" -> (og) | BL35: =BK9&" (og)" -> (og) | BN35: =BO9&" (og)" -> (og) | BO35: =BN9&" (og)" -> (og) | BQ35: =BR9&" (og)" -> (og) | BR35: =BQ9&" (og)" -> (og) | BT35: =OFFSET($A$2,0,BW35) -> Scotland | BU35: =BU34+1 -> 33 | BV35: A9 | BW35: =BW9+1 -> 2 | BX35: =OFFSET(INDIRECT(BV35),0,BW35) -> John McGinn | BY35: =COUNTIF('Group Stages'!$J$8:$Q$80,BX35)+COUNTIF('Knock Out Stages'!$K$7:$R$45,BX35) -> 0 | BZ35: 'Player Database'!b12 | CA35: =OFFSET(INDIRECT(BZ35),0,BW35) -> John McGinn | CB35: 32 | CC35: {=IFERROR(INDEX($BX$3:$BX$810, SMALL(IF(COUNTIF(CC$3, $BY$3:$BY$810), ROW($BX$3:$BX$810)-MIN(ROW($BX$3:$BX$810))+1), $CB35), 0),"")} | CD35: {=IFERROR(INDEX($BX$3:$BX$810, SMALL(IF(COUNTIF(CD$3, $BY$3:$BY$810), ROW($BX$3:$BX$810)-MIN(ROW($BX$3:$BX$810))+1), $CB35), 0),"")} | CE35: {=IFERROR(INDEX($BX$3:$BX$810, SMALL(IF(COUNTIF(CE$3, $BY$3:$BY$810), ROW($BX$3:$BX$810)-MIN(ROW($BX$3:$BX$810))+1), $CB35), 0),"")} | CF35: {=IFERROR(INDEX($BX$3:$BX$810, SMALL(IF(COUNTIF(CF$3, $BY$3:$BY$810), ROW($BX$3:$BX$810)-MIN(ROW($BX$3:$BX$810))+1), $CB35), 0),"")} | CG35: {=IFERROR(INDEX($BX$3:$BX$810, SMALL(IF(COUNTIF(CG$3, $BY$3:$BY$810), ROW($BX$3:$BX$810)-MIN(ROW($BX$3:$BX$810))+1), $CB35), 0),"")} | CH35: {=IFERROR(INDEX($BX$3:$BX$810, SMALL(IF(COUNTIF(CH$3, $BY$3:$BY$810), ROW($BX$3:$BX$810)-MIN(ROW($BX$3:$BX$810))+1), $CB35), 0),"")} | CI35: {=IFERROR(INDEX($BX$3:$BX$810, SMALL(IF(COUNTIF(CI$3, $BY$3:$BY$810), ROW($BX$3:$BX$810)-MIN(ROW($BX$3:$BX$810))+1), $CB35), 0),"")} | CJ35: {=IFERROR(INDEX($BX$3:$BX$810, SMALL(IF(COUNTIF(CJ$3, $BY$3:$BY$810), ROW($BX$3:$BX$810)-MIN(ROW($BX$3:$BX$810))+1), $CB35), 0),"")} | ... CQ35: {=IFERROR(INDEX($BX$3:$BX$810, SMALL(IF(COUNTIF(CQ$3, $BY$3:$BY$810), ROW($BX$3:$BX$810)-MIN(ROW($BX$3:$BX$810))+1), $CB35), 0),"")} | CS35: 32 | CT35: 1 | CV35: =CQ35 | CW35: =IF(CV35<>"",CW34+1,CW34) -> 0 | CZ35: 32 | DA35: =IFERROR(INDEX($CV$4:$CV$633,MATCH(CZ35,$CW$4:$CW$633,0),0),"") | DB35: =IFERROR(VLOOKUP(DA35,$BX$3:$BY$810,2,FALSE),"") | DC35: =IFERROR(VLOOKUP(DA35,$BX$3:$CA$810,4,FALSE),"") | DD35: =IFERROR(INDEX($BT$3:$BT$810,MATCH(DA35,$BX$3:$BX$810,0),0),"")
A36: =A10 -> 8 | B36: =C10&" (og)" -> Callum McGregor (og) | C36: =B10&" (og)" -> Toni Kroos (og) | D36: =B10&" (og)" -> Toni Kroos (og) | E36: =B10&" (og)" -> Toni Kroos (og) | F36: =G10&" (og)" -> Klaus Gjasula (og) | G36: =F10&" (og)" -> Jorginho (og) | H36: =F10&" (og)" -> Jorginho (og) | I36: =F10&" (og)" -> Jorginho (og) | J36: =K10&" (og)" -> Trent Alexander-Arnold (og) | K36: =J10&" (og)" -> Luka Jović (og) | L36: =J10&" (og)" -> Luka Jović (og) | M36: =J10&" (og)" -> Luka Jović (og) | N36: =O10&" (og)" -> Georginio Wijnaldum (og) | O36: =N10&" (og)" -> Jakub Moder (og) | P36: =N10&" (og)" -> Jakub Moder (og) | Q36: =N10&" (og)" -> Jakub Moder (og) | R36: =S10&" (og)" -> Ondrej Duda (og) | S36: =R10&" (og)" -> Youri Tielemans (og) | T36: =R10&" (og)" -> Youri Tielemans (og) | U36: =R10&" (og)" -> Youri Tielemans (og) | V36: =W10&" (og)" -> Petr Ševčík (og) | W36: =V10&" (og)" -> Bruno Fernandes (og) | X36: =V10&" (og)" -> Bruno Fernandes (og) | Y36: =V10&" (og)" -> Bruno Fernandes (og) | AI36: =AJ10&" (og)" -> (og) | AJ36: =AI10&" (og)" -> (og) | AK36: =AL10&" (og)" -> (og) | AL36: =AK10&" (og)" -> (og) | AM36: =AN10&" (og)" -> (og) | AN36: =AM10&" (og)" -> (og) | AO36: =AP10&" (og)" -> (og) | AP36: =AO10&" (og)" -> (og) | AQ36: =AR10&" (og)" -> (og) | AR36: =AQ10&" (og)" -> (og) | AS36: =AT10&" (og)" -> (og) | AT36: =AS10&" (og)" -> (og) | AU36: =AV10&" (og)" -> (og) | AV36: =AU10&" (og)" -> (og) | AW36: =AX10&" (og)" -> (og) | AX36: =AW10&" (og)" -> (og) | AZ36: =BA10&" (og)" -> (og) | BA36: =AZ10&" (og)" -> (og) | BB36: =BC10&" (og)" -> (og) | BC36: =BB10&" (og)" -> (og) | BD36: =BE10&" (og)" -> (og) | BE36: =BD10&" (og)" -> (og) | BF36: =BG10&" (og)" -> (og) | BG36: =BF10&" (og)" -> (og) | BI36: =BJ10&" (og)" -> (og) | BJ36: =BI10&" (og)" -> (og) | BK36: =BL10&" (og)" -> (og) | BL36: =BK10&" (og)" -> (og) | BN36: =BO10&" (og)" -> (og) | BO36: =BN10&" (og)" -> (og) | BQ36: =BR10&" (og)" -> (og) | BR36: =BQ10&" (og)" -> (og) | BT36: =OFFSET($A$2,0,BW36) -> Scotland | BU36: =BU35+1 -> 34 | BV36: A10 | BW36: =BW10+1 -> 2 | BX36: =OFFSET(INDIRECT(BV36),0,BW36) -> Callum McGregor | BY36: =COUNTIF('Group Stages'!$J$8:$Q$80,BX36)+COUNTIF('Knock Out Stages'!$K$7:$R$45,BX36) -> 0 | BZ36: 'Player Database'!b13 | CA36: =OFFSET(INDIRECT(BZ36),0,BW36) -> Callum McGregor | CB36: 33 | CC36: {=IFERROR(INDEX($BX$3:$BX$810, SMALL(IF(COUNTIF(CC$3, $BY$3:$BY$810), ROW($BX$3:$BX$810)-MIN(ROW($BX$3:$BX$810))+1), $CB36), 0),"")} | CD36: {=IFERROR(INDEX($BX$3:$BX$810, SMALL(IF(COUNTIF(CD$3, $BY$3:$BY$810), ROW($BX$3:$BX$810)-MIN(ROW($BX$3:$BX$810))+1), $CB36), 0),"")} | CE36: {=IFERROR(INDEX($BX$3:$BX$810, SMALL(IF(COUNTIF(CE$3, $BY$3:$BY$810), ROW($BX$3:$BX$810)-MIN(ROW($BX$3:$BX$810))+1), $CB36), 0),"")} | CF36: {=IFERROR(INDEX($BX$3:$BX$810, SMALL(IF(COUNTIF(CF$3, $BY$3:$BY$810), ROW($BX$3:$BX$810)-MIN(ROW($BX$3:$BX$810))+1), $CB36), 0),"")} | CG36: {=IFERROR(INDEX($BX$3:$BX$810, SMALL(IF(COUNTIF(CG$3, $BY$3:$BY$810), ROW($BX$3:$BX$810)-MIN(ROW($BX$3:$BX$810))+1), $CB36), 0),"")} | CH36: {=IFERROR(INDEX($BX$3:$BX$810, SMALL(IF(COUNTIF(CH$3, $BY$3:$BY$810), ROW($BX$3:$BX$810)-MIN(ROW($BX$3:$BX$810))+1), $CB36), 0),"")} | CI36: {=IFERROR(INDEX($BX$3:$BX$810, SMALL(IF(COUNTIF(CI$3, $BY$3:$BY$810), ROW($BX$3:$BX$810)-MIN(ROW($BX$3:$BX$810))+1), $CB36), 0),"")} | CJ36: {=IFERROR(INDEX($BX$3:$BX$810, SMALL(IF(COUNTIF(CJ$3, $BY$3:$BY$810), ROW($BX$3:$BX$810)-MIN(ROW($BX$3:$BX$810))+1), $CB36), 0),"")} | ... CQ36: {=IFERROR(INDEX($BX$3:$BX$810, SMALL(IF(COUNTIF(CQ$3, $BY$3:$BY$810), ROW($BX$3:$BX$810)-MIN(ROW($BX$3:$BX$810))+1), $CB36), 0),"")} | CS36: 33 | CT36: 1 | CV36: =CQ36 | CW36: =IF(CV36<>"",CW35+1,CW35) -> 0 | CZ36: 33 | DA36: =IFERROR(INDEX($CV$4:$CV$633,MATCH(CZ36,$CW$4:$CW$633,0),0),"") | DB36: =IFERROR(VLOOKUP(DA36,$BX$3:$BY$810,2,FALSE),"") | DC36: =IFERROR(VLOOKUP(DA36,$BX$3:$CA$810,4,FALSE),"") | DD36: =IFERROR(INDEX($BT$3:$BT$810,MATCH(DA36,$BX$3:$BX$810,0),0),"")
A37: =A11 -> 9 | B37: =C11&" (og)" -> Lawrence Shankland (og) | C37: =B11&" (og)" -> Niclas Füllkrug (og) | D37: =B11&" (og)" -> Niclas Füllkrug (og) | E37: =B11&" (og)" -> Niclas Füllkrug (og) | F37: =G11&" (og)" -> Jasir Asani (og) | G37: =F11&" (og)" -> Gianluca Scamacca (og) | H37: =F11&" (og)" -> Gianluca Scamacca (og) | I37: =F11&" (og)" -> Gianluca Scamacca (og) | J37: =K11&" (og)" -> Harry Kane (og) | K37: =J11&" (og)" -> Aleksandar Mitrović (og) | L37: =J11&" (og)" -> Aleksandar Mitrović (og) | M37: =J11&" (og)" -> Aleksandar Mitrović (og) | N37: =O11&" (og)" -> Wout Weghorst (og) | O37: =N11&" (og)" -> Robert Lewandowski (og) | P37: =N11&" (og)" -> Robert Lewandowski (og) | Q37: =N11&" (og)" -> Robert Lewandowski (og) | R37: =S11&" (og)" -> Róbert Boženík (og) | S37: =R11&" (og)" -> Leandro Trossard (og) | T37: =R11&" (og)" -> Leandro Trossard (og) | U37: =R11&" (og)" -> Leandro Trossard (og) | V37: =W11&" (og)" -> Adam Hložek (og) | W37: =V11&" (og)" -> Gonçalo Ramos (og) | X37: =V11&" (og)" -> Gonçalo Ramos (og) | Y37: =V11&" (og)" -> Gonçalo Ramos (og) | AI37: =AJ11&" (og)" -> (og) | AJ37: =AI11&" (og)" -> (og) | AK37: =AL11&" (og)" -> (og) | AL37: =AK11&" (og)" -> (og) | AM37: =AN11&" (og)" -> (og) | AN37: =AM11&" (og)" -> (og) | AO37: =AP11&" (og)" -> (og) | AP37: =AO11&" (og)" -> (og) | AQ37: =AR11&" (og)" -> (og) | AR37: =AQ11&" (og)" -> (og) | AS37: =AT11&" (og)" -> (og) | AT37: =AS11&" (og)" -> (og) | AU37: =AV11&" (og)" -> (og) | AV37: =AU11&" (og)" -> (og) | AW37: =AX11&" (og)" -> (og) | AX37: =AW11&" (og)" -> (og) | AZ37: =BA11&" (og)" -> (og) | BA37: =AZ11&" (og)" -> (og) | BB37: =BC11&" (og)" -> (og) | BC37: =BB11&" (og)" -> (og) | BD37: =BE11&" (og)" -> (og) | BE37: =BD11&" (og)" -> (og) | BF37: =BG11&" (og)" -> (og) | BG37: =BF11&" (og)" -> (og) | BI37: =BJ11&" (og)" -> (og) | BJ37: =BI11&" (og)" -> (og) | BK37: =BL11&" (og)" -> (og) | BL37: =BK11&" (og)" -> (og) | BN37: =BO11&" (og)" -> (og) | BO37: =BN11&" (og)" -> (og) | BQ37: =BR11&" (og)" -> (og) | BR37: =BQ11&" (og)" -> (og) | BT37: =OFFSET($A$2,0,BW37) -> Scotland | BU37: =BU36+1 -> 35 | BV37: A11 | BW37: =BW11+1 -> 2 | BX37: =OFFSET(INDIRECT(BV37),0,BW37) -> Lawrence Shankland | BY37: =COUNTIF('Group Stages'!$J$8:$Q$80,BX37)+COUNTIF('Knock Out Stages'!$K$7:$R$45,BX37) -> 0 | BZ37: 'Player Database'!b14 | CA37: =OFFSET(INDIRECT(BZ37),0,BW37) -> Lawrence Shankland | CB37: 34 | CC37: {=IFERROR(INDEX($BX$3:$BX$810, SMALL(IF(COUNTIF(CC$3, $BY$3:$BY$810), ROW($BX$3:$BX$810)-MIN(ROW($BX$3:$BX$810))+1), $CB37), 0),"")} | CD37: {=IFERROR(INDEX($BX$3:$BX$810, SMALL(IF(COUNTIF(CD$3, $BY$3:$BY$810), ROW($BX$3:$BX$810)-MIN(ROW($BX$3:$BX$810))+1), $CB37), 0),"")} | CE37: {=IFERROR(INDEX($BX$3:$BX$810, SMALL(IF(COUNTIF(CE$3, $BY$3:$BY$810), ROW($BX$3:$BX$810)-MIN(ROW($BX$3:$BX$810))+1), $CB37), 0),"")} | CF37: {=IFERROR(INDEX($BX$3:$BX$810, SMALL(IF(COUNTIF(CF$3, $BY$3:$BY$810), ROW($BX$3:$BX$810)-MIN(ROW($BX$3:$BX$810))+1), $CB37), 0),"")} | CG37: {=IFERROR(INDEX($BX$3:$BX$810, SMALL(IF(COUNTIF(CG$3, $BY$3:$BY$810), ROW($BX$3:$BX$810)-MIN(ROW($BX$3:$BX$810))+1), $CB37), 0),"")} | CH37: {=IFERROR(INDEX($BX$3:$BX$810, SMALL(IF(COUNTIF(CH$3, $BY$3:$BY$810), ROW($BX$3:$BX$810)-MIN(ROW($BX$3:$BX$810))+1), $CB37), 0),"")} | CI37: {=IFERROR(INDEX($BX$3:$BX$810, SMALL(IF(COUNTIF(CI$3, $BY$3:$BY$810), ROW($BX$3:$BX$810)-MIN(ROW($BX$3:$BX$810))+1), $CB37), 0),"")} | CJ37: {=IFERROR(INDEX($BX$3:$BX$810, SMALL(IF(COUNTIF(CJ$3, $BY$3:$BY$810), ROW($BX$3:$BX$810)-MIN(ROW($BX$3:$BX$810))+1), $CB37), 0),"")} | ... CQ37: {=IFERROR(INDEX($BX$3:$BX$810, SMALL(IF(COUNTIF(CQ$3, $BY$3:$BY$810), ROW($BX$3:$BX$810)-MIN(ROW($BX$3:$BX$810))+1), $CB37), 0),"")} | CS37: 34 | CT37: 1 | CV37: =CQ37 | CW37: =IF(CV37<>"",CW36+1,CW36) -> 0 | CZ37: 34 | DA37: =IFERROR(INDEX($CV$4:$CV$633,MATCH(CZ37,$CW$4:$CW$633,0),0),"") | DB37: =IFERROR(VLOOKUP(DA37,$BX$3:$BY$810,2,FALSE),"") | DC37: =IFERROR(VLOOKUP(DA37,$BX$3:$CA$810,4,FALSE),"") | DD37: =IFERROR(INDEX($BT$3:$BT$810,MATCH(DA37,$BX$3:$BX$810,0),0),"")
A38: =A12 -> 10 | B38: =C12&" (og)" -> Ché Adams (og) | C38: =B12&" (og)" -> Jamal Musiala (og) | D38: =B12&" (og)" -> Jamal Musiala (og) | E38: =B12&" (og)" -> Jamal Musiala (og) | F38: =G12&" (og)" -> Nedim Bajrami (og) | G38: =F12&" (og)" -> Lorenzo Pellegrini (og) | H38: =F12&" (og)" -> Lorenzo Pellegrini (og) | I38: =F12&" (og)" -> Lorenzo Pellegrini (og) | J38: =K12&" (og)" -> Jude Bellingham (og) | K38: =J12&" (og)" -> Dušan Tadić (og) | L38: =J12&" (og)" -> Dušan Tadić (og) | M38: =J12&" (og)" -> Dušan Tadić (og) | N38: =O12&" (og)" -> Memphis Depay (og) | O38: =N12&" (og)" -> Piotr Zieliński (og) | P38: =N12&" (og)" -> Piotr Zieliński (og) | Q38: =N12&" (og)" -> Piotr Zieliński (og) | R38: =S12&" (og)" -> Ľubomír Tupta (og) | S38: =R12&" (og)" -> Romelu Lukaku (og) | T38: =R12&" (og)" -> Romelu Lukaku (og) | U38: =R12&" (og)" -> Romelu Lukaku (og) | V38: =W12&" (og)" -> Patrik Schick (og) | W38: =V12&" (og)" -> Bernardo Silva (og) | X38: =V12&" (og)" -> Bernardo Silva (og) | Y38: =V12&" (og)" -> Bernardo Silva (og) | AI38: =AJ12&" (og)" -> (og) | AJ38: =AI12&" (og)" -> (og) | AK38: =AL12&" (og)" -> (og) | AL38: =AK12&" (og)" -> (og) | AM38: =AN12&" (og)" -> (og) | AN38: =AM12&" (og)" -> (og) | AO38: =AP12&" (og)" -> (og) | AP38: =AO12&" (og)" -> (og) | AQ38: =AR12&" (og)" -> (og) | AR38: =AQ12&" (og)" -> (og) | AS38: =AT12&" (og)" -> (og) | AT38: =AS12&" (og)" -> (og) | AU38: =AV12&" (og)" -> (og) | AV38: =AU12&" (og)" -> (og) | AW38: =AX12&" (og)" -> (og) | AX38: =AW12&" (og)" -> (og) | AZ38: =BA12&" (og)" -> (og) | BA38: =AZ12&" (og)" -> (og) | BB38: =BC12&" (og)" -> (og) | BC38: =BB12&" (og)" -> (og) | BD38: =BE12&" (og)" -> (og) | BE38: =BD12&" (og)" -> (og) | BF38: =BG12&" (og)" -> (og) | BG38: =BF12&" (og)" -> (og) | BI38: =BJ12&" (og)" -> (og) | BJ38: =BI12&" (og)" -> (og) | BK38: =BL12&" (og)" -> (og) | BL38: =BK12&" (og)" -> (og) | BN38: =BO12&" (og)" -> (og) | BO38: =BN12&" (og)" -> (og) | BQ38: =BR12&" (og)" -> (og) | BR38: =BQ12&" (og)" -> (og) | BT38: =OFFSET($A$2,0,BW38) -> Scotland | BU38: =BU37+1 -> 36 | BV38: A12 | BW38: =BW12+1 -> 2 | BX38: =OFFSET(INDIRECT(BV38),0,BW38) -> Ché Adams | BY38: =COUNTIF('Group Stages'!$J$8:$Q$80,BX38)+COUNTIF('Knock Out Stages'!$K$7:$R$45,BX38) -> 0 | BZ38: 'Player Database'!b15 | CA38: =OFFSET(INDIRECT(BZ38),0,BW38) -> Ché Adams | CB38: 35 | CC38: {=IFERROR(INDEX($BX$3:$BX$810, SMALL(IF(COUNTIF(CC$3, $BY$3:$BY$810), ROW($BX$3:$BX$810)-MIN(ROW($BX$3:$BX$810))+1), $CB38), 0),"")} | CD38: {=IFERROR(INDEX($BX$3:$BX$810, SMALL(IF(COUNTIF(CD$3, $BY$3:$BY$810), ROW($BX$3:$BX$810)-MIN(ROW($BX$3:$BX$810))+1), $CB38), 0),"")} | CE38: {=IFERROR(INDEX($BX$3:$BX$810, SMALL(IF(COUNTIF(CE$3, $BY$3:$BY$810), ROW($BX$3:$BX$810)-MIN(ROW($BX$3:$BX$810))+1), $CB38), 0),"")} | CF38: {=IFERROR(INDEX($BX$3:$BX$810, SMALL(IF(COUNTIF(CF$3, $BY$3:$BY$810), ROW($BX$3:$BX$810)-MIN(ROW($BX$3:$BX$810))+1), $CB38), 0),"")} | CG38: {=IFERROR(INDEX($BX$3:$BX$810, SMALL(IF(COUNTIF(CG$3, $BY$3:$BY$810), ROW($BX$3:$BX$810)-MIN(ROW($BX$3:$BX$810))+1), $CB38), 0),"")} | CH38: {=IFERROR(INDEX($BX$3:$BX$810, SMALL(IF(COUNTIF(CH$3, $BY$3:$BY$810), ROW($BX$3:$BX$810)-MIN(ROW($BX$3:$BX$810))+1), $CB38), 0),"")} | CI38: {=IFERROR(INDEX($BX$3:$BX$810, SMALL(IF(COUNTIF(CI$3, $BY$3:$BY$810), ROW($BX$3:$BX$810)-MIN(ROW($BX$3:$BX$810))+1), $CB38), 0),"")} | CJ38: {=IFERROR(INDEX($BX$3:$BX$810, SMALL(IF(COUNTIF(CJ$3, $BY$3:$BY$810), ROW($BX$3:$BX$810)-MIN(ROW($BX$3:$BX$810))+1), $CB38), 0),"")} | ... CQ38: {=IFERROR(INDEX($BX$3:$BX$810, SMALL(IF(COUNTIF(CQ$3, $BY$3:$BY$810), ROW($BX$3:$BX$810)-MIN(ROW($BX$3:$BX$810))+1), $CB38), 0),"")} | CS38: 35 | CT38: 1 | CV38: =CQ38 | CW38: =IF(CV38<>"",CW37+1,CW37) -> 0 | CZ38: 35 | DA38: =IFERROR(INDEX($CV$4:$CV$633,MATCH(CZ38,$CW$4:$CW$633,0),0),"") | DB38: =IFERROR(VLOOKUP(DA38,$BX$3:$BY$810,2,FALSE),"") | DC38: =IFERROR(VLOOKUP(DA38,$BX$3:$CA$810,4,FALSE),"") | DD38: =IFERROR(INDEX($BT$3:$BT$810,MATCH(DA38,$BX$3:$BX$810,0),0),"")
A39: =A13 -> 11 | B39: =C13&" (og)" -> Ryan Christie (og) | C39: =B13&" (og)" -> Chris Führich (og) | D39: =B13&" (og)" -> Chris Führich (og) | E39: =B13&" (og)" -> Chris Führich (og) | F39: =G13&" (og)" -> Armando Broja (og) | G39: =F13&" (og)" -> Giacomo Raspadori (og) | H39: =F13&" (og)" -> Giacomo Raspadori (og) | I39: =F13&" (og)" -> Giacomo Raspadori (og) | J39: =K13&" (og)" -> Phil Foden (og) | K39: =J13&" (og)" -> Filip Kostić (og) | L39: =J13&" (og)" -> Filip Kostić (og) | M39: =J13&" (og)" -> Filip Kostić (og) | N39: =O13&" (og)" -> Cody Gakpo (og) | O39: =N13&" (og)" -> Kamil Grosicki (og) | P39: =N13&" (og)" -> Kamil Grosicki (og) | Q39: =N13&" (og)" -> Kamil Grosicki (og) | R39: =S13&" (og)" -> László Bénes (og) | S39: =R13&" (og)" -> Yannick Carrasco (og) | T39: =R13&" (og)" -> Yannick Carrasco (og) | U39: =R13&" (og)" -> Yannick Carrasco (og) | V39: =W13&" (og)" -> Jan Kuchta (og) | W39: =V13&" (og)" -> João Félix (og) | X39: =V13&" (og)" -> João Félix (og) | Y39: =V13&" (og)" -> João Félix (og) | AI39: =AJ13&" (og)" -> (og) | AJ39: =AI13&" (og)" -> (og) | AK39: =AL13&" (og)" -> (og) | AL39: =AK13&" (og)" -> (og) | AM39: =AN13&" (og)" -> (og) | AN39: =AM13&" (og)" -> (og) | AO39: =AP13&" (og)" -> (og) | AP39: =AO13&" (og)" -> (og) | AQ39: =AR13&" (og)" -> (og) | AR39: =AQ13&" (og)" -> (og) | AS39: =AT13&" (og)" -> (og) | AT39: =AS13&" (og)" -> (og) | AU39: =AV13&" (og)" -> (og) | AV39: =AU13&" (og)" -> (og) | AW39: =AX13&" (og)" -> (og) | AX39: =AW13&" (og)" -> (og) | AZ39: =BA13&" (og)" -> (og) | BA39: =AZ13&" (og)" -> (og) | BB39: =BC13&" (og)" -> (og) | BC39: =BB13&" (og)" -> (og) | BD39: =BE13&" (og)" -> (og) | BE39: =BD13&" (og)" -> (og) | BF39: =BG13&" (og)" -> (og) | BG39: =BF13&" (og)" -> (og) | BI39: =BJ13&" (og)" -> (og) | BJ39: =BI13&" (og)" -> (og) | BK39: =BL13&" (og)" -> (og) | BL39: =BK13&" (og)" -> (og) | BN39: =BO13&" (og)" -> (og) | BO39: =BN13&" (og)" -> (og) | BQ39: =BR13&" (og)" -> (og) | BR39: =BQ13&" (og)" -> (og) | BT39: =OFFSET($A$2,0,BW39) -> Scotland | BU39: =BU38+1 -> 37 | BV39: A13 | BW39: =BW13+1 -> 2 | BX39: =OFFSET(INDIRECT(BV39),0,BW39) -> Ryan Christie | BY39: =COUNTIF('Group Stages'!$J$8:$Q$80,BX39)+COUNTIF('Knock Out Stages'!$K$7:$R$45,BX39) -> 0 | BZ39: 'Player Database'!b16 | CA39: =OFFSET(INDIRECT(BZ39),0,BW39) -> Ryan Christie | CB39: 36 | CC39: {=IFERROR(INDEX($BX$3:$BX$810, SMALL(IF(COUNTIF(CC$3, $BY$3:$BY$810), ROW($BX$3:$BX$810)-MIN(ROW($BX$3:$BX$810))+1), $CB39), 0),"")} | CD39: {=IFERROR(INDEX($BX$3:$BX$810, SMALL(IF(COUNTIF(CD$3, $BY$3:$BY$810), ROW($BX$3:$BX$810)-MIN(ROW($BX$3:$BX$810))+1), $CB39), 0),"")} | CE39: {=IFERROR(INDEX($BX$3:$BX$810, SMALL(IF(COUNTIF(CE$3, $BY$3:$BY$810), ROW($BX$3:$BX$810)-MIN(ROW($BX$3:$BX$810))+1), $CB39), 0),"")} | CF39: {=IFERROR(INDEX($BX$3:$BX$810, SMALL(IF(COUNTIF(CF$3, $BY$3:$BY$810), ROW($BX$3:$BX$810)-MIN(ROW($BX$3:$BX$810))+1), $CB39), 0),"")} | CG39: {=IFERROR(INDEX($BX$3:$BX$810, SMALL(IF(COUNTIF(CG$3, $BY$3:$BY$810), ROW($BX$3:$BX$810)-MIN(ROW($BX$3:$BX$810))+1), $CB39), 0),"")} | CH39: {=IFERROR(INDEX($BX$3:$BX$810, SMALL(IF(COUNTIF(CH$3, $BY$3:$BY$810), ROW($BX$3:$BX$810)-MIN(ROW($BX$3:$BX$810))+1), $CB39), 0),"")} | CI39: {=IFERROR(INDEX($BX$3:$BX$810, SMALL(IF(COUNTIF(CI$3, $BY$3:$BY$810), ROW($BX$3:$BX$810)-MIN(ROW($BX$3:$BX$810))+1), $CB39), 0),"")} | CJ39: {=IFERROR(INDEX($BX$3:$BX$810, SMALL(IF(COUNTIF(CJ$3, $BY$3:$BY$810), ROW($BX$3:$BX$810)-MIN(ROW($BX$3:$BX$810))+1), $CB39), 0),"")} | ... CQ39: {=IFERROR(INDEX($BX$3:$BX$810, SMALL(IF(COUNTIF(CQ$3, $BY$3:$BY$810), ROW($BX$3:$BX$810)-MIN(ROW($BX$3:$BX$810))+1), $CB39), 0),"")} | CS39: 36 | CT39: 1 | CV39: =CQ39 | CW39: =IF(CV39<>"",CW38+1,CW38) -> 0 | CZ39: 36 | DA39: =IFERROR(INDEX($CV$4:$CV$633,MATCH(CZ39,$CW$4:$CW$633,0),0),"") | DB39: =IFERROR(VLOOKUP(DA39,$BX$3:$BY$810,2,FALSE),"") | DC39: =IFERROR(VLOOKUP(DA39,$BX$3:$CA$810,4,FALSE),"") | DD39: =IFERROR(INDEX($BT$3:$BT$810,MATCH(DA39,$BX$3:$BX$810,0),0),"")
A40: =A14 -> 12 | B40: =C14&" (og)" -> Liam Kelly (og) | C40: =B14&" (og)" -> Oliver Baumann (og) | D40: =B14&" (og)" -> Oliver Baumann (og) | E40: =B14&" (og)" -> Oliver Baumann (og) | F40: =G14&" (og)" -> Elhan Kastrati (og) | G40: =F14&" (og)" -> Guglielmo Vicario (og) | H40: =F14&" (og)" -> Guglielmo Vicario (og) | I40: =F14&" (og)" -> Guglielmo Vicario (og) | J40: =K14&" (og)" -> Kieran Trippier (og) | K40: =J14&" (og)" -> Đorđe Petrović (og) | L40: =J14&" (og)" -> Đorđe Petrović (og) | M40: =J14&" (og)" -> Đorđe Petrović (og) | N40: =O14&" (og)" -> Jeremie Frimpong (og) | O40: =N14&" (og)" -> Łukasz Skorupski (og) | P40: =N14&" (og)" -> Łukasz Skorupski (og) | Q40: =N14&" (og)" -> Łukasz Skorupski (og) | R40: =S14&" (og)" -> Marek Rodák (og) | S40: =R14&" (og)" -> Thomas Kaminski (og) | T40: =R14&" (og)" -> Thomas Kaminski (og) | U40: =R14&" (og)" -> Thomas Kaminski (og) | V40: =W14&" (og)" -> David Douděra (og) | W40: =V14&" (og)" -> José Sá (og) | X40: =V14&" (og)" -> José Sá (og) | Y40: =V14&" (og)" -> José Sá (og) | AI40: =AJ14&" (og)" -> (og) | AJ40: =AI14&" (og)" -> (og) | AK40: =AL14&" (og)" -> (og) | AL40: =AK14&" (og)" -> (og) | AM40: =AN14&" (og)" -> (og) | AN40: =AM14&" (og)" -> (og) | AO40: =AP14&" (og)" -> (og) | AP40: =AO14&" (og)" -> (og) | AQ40: =AR14&" (og)" -> (og) | AR40: =AQ14&" (og)" -> (og) | AS40: =AT14&" (og)" -> (og) | AT40: =AS14&" (og)" -> (og) | AU40: =AV14&" (og)" -> (og) | AV40: =AU14&" (og)" -> (og) | AW40: =AX14&" (og)" -> (og) | AX40: =AW14&" (og)" -> (og) | AZ40: =BA14&" (og)" -> (og) | BA40: =AZ14&" (og)" -> (og) | BB40: =BC14&" (og)" -> (og) | BC40: =BB14&" (og)" -> (og) | BD40: =BE14&" (og)" -> (og) | BE40: =BD14&" (og)" -> (og) | BF40: =BG14&" (og)" -> (og) | BG40: =BF14&" (og)" -> (og) | BI40: =BJ14&" (og)" -> (og) | BJ40: =BI14&" (og)" -> (og) | BK40: =BL14&" (og)" -> (og) | BL40: =BK14&" (og)" -> (og) | BN40: =BO14&" (og)" -> (og) | BO40: =BN14&" (og)" -> (og) | BQ40: =BR14&" (og)" -> (og) | BR40: =BQ14&" (og)" -> (og) | BT40: =OFFSET($A$2,0,BW40) -> Scotland | BU40: =BU39+1 -> 38 | BV40: A14 | BW40: =BW14+1 -> 2 | BX40: =OFFSET(INDIRECT(BV40),0,BW40) -> Liam Kelly | BY40: =COUNTIF('Group Stages'!$J$8:$Q$80,BX40)+COUNTIF('Knock Out Stages'!$K$7:$R$45,BX40) -> 0 | BZ40: 'Player Database'!b17 | CA40: =OFFSET(INDIRECT(BZ40),0,BW40) -> Liam Kelly | CB40: 37 | CC40: {=IFERROR(INDEX($BX$3:$BX$810, SMALL(IF(COUNTIF(CC$3, $BY$3:$BY$810), ROW($BX$3:$BX$810)-MIN(ROW($BX$3:$BX$810))+1), $CB40), 0),"")} | CD40: {=IFERROR(INDEX($BX$3:$BX$810, SMALL(IF(COUNTIF(CD$3, $BY$3:$BY$810), ROW($BX$3:$BX$810)-MIN(ROW($BX$3:$BX$810))+1), $CB40), 0),"")} | CE40: {=IFERROR(INDEX($BX$3:$BX$810, SMALL(IF(COUNTIF(CE$3, $BY$3:$BY$810), ROW($BX$3:$BX$810)-MIN(ROW($BX$3:$BX$810))+1), $CB40), 0),"")} | CF40: {=IFERROR(INDEX($BX$3:$BX$810, SMALL(IF(COUNTIF(CF$3, $BY$3:$BY$810), ROW($BX$3:$BX$810)-MIN(ROW($BX$3:$BX$810))+1), $CB40), 0),"")} | CG40: {=IFERROR(INDEX($BX$3:$BX$810, SMALL(IF(COUNTIF(CG$3, $BY$3:$BY$810), ROW($BX$3:$BX$810)-MIN(ROW($BX$3:$BX$810))+1), $CB40), 0),"")} | CH40: {=IFERROR(INDEX($BX$3:$BX$810, SMALL(IF(COUNTIF(CH$3, $BY$3:$BY$810), ROW($BX$3:$BX$810)-MIN(ROW($BX$3:$BX$810))+1), $CB40), 0),"")} | CI40: {=IFERROR(INDEX($BX$3:$BX$810, SMALL(IF(COUNTIF(CI$3, $BY$3:$BY$810), ROW($BX$3:$BX$810)-MIN(ROW($BX$3:$BX$810))+1), $CB40), 0),"")} | CJ40: {=IFERROR(INDEX($BX$3:$BX$810, SMALL(IF(COUNTIF(CJ$3, $BY$3:$BY$810), ROW($BX$3:$BX$810)-MIN(ROW($BX$3:$BX$810))+1), $CB40), 0),"")} | ... CQ40: {=IFERROR(INDEX($BX$3:$BX$810, SMALL(IF(COUNTIF(CQ$3, $BY$3:$BY$810), ROW($BX$3:$BX$810)-MIN(ROW($BX$3:$BX$810))+1), $CB40), 0),"")} | CS40: 37 | CT40: 1 | CV40: =CQ40 | CW40: =IF(CV40<>"",CW39+1,CW39) -> 0 | CZ40: 37 | DA40: =IFERROR(INDEX($CV$4:$CV$633,MATCH(CZ40,$CW$4:$CW$633,0),0),"") | DB40: =IFERROR(VLOOKUP(DA40,$BX$3:$BY$810,2,FALSE),"") | DC40: =IFERROR(VLOOKUP(DA40,$BX$3:$CA$810,4,FALSE),"") | DD40: =IFERROR(INDEX($BT$3:$BT$810,MATCH(DA40,$BX$3:$BX$810,0),0),"")
... A45: =A19 -> 17 | B45: =C19&" (og)" -> Stuart Armstrong (og) | C45: =B19&" (og)" -> Florian Wirtz (og) | D45: =B19&" (og)" -> Florian Wirtz (og) | E45: =B19&" (og)" -> Florian Wirtz (og) | F45: =G19&" (og)" -> Ernest Muçi (og) | G45: =F19&" (og)" -> Gianluca Mancini (og) | H45: =F19&" (og)" -> Gianluca Mancini (og) | I45: =F19&" (og)" -> Gianluca Mancini (og) | J45: =K19&" (og)" -> Ivan Toney (og) | K45: =J19&" (og)" -> Ivan Ilić (og) | L45: =J19&" (og)" -> Ivan Ilić (og) | M45: =J19&" (og)" -> Ivan Ilić (og) | N45: =O19&" (og)" -> Daley Blind (og) | O45: =N19&" (og)" -> Damian Szymański (og) | P45: =N19&" (og)" -> Damian Szymański (og) | Q45: =N19&" (og)" -> Damian Szymański (og) | R45: =S19&" (og)" -> Lukáš Haraslín (og) | S45: =R19&" (og)" -> Charles De Ketelaere (og) | T45: =R19&" (og)" -> Charles De Ketelaere (og) | U45: =R19&" (og)" -> Charles De Ketelaere (og) | V45: =W19&" (og)" -> Václav Černý (og) | W45: =V19&" (og)" -> Rafael Leão (og) | X45: =V19&" (og)" -> Rafael Leão (og) | Y45: =V19&" (og)" -> Rafael Leão (og) | AI45: =AJ19&" (og)" -> (og) | AJ45: =AI19&" (og)" -> (og) | AK45: =AL19&" (og)" -> (og) | AL45: =AK19&" (og)" -> (og) | AM45: =AN19&" (og)" -> (og) | AN45: =AM19&" (og)" -> (og) | AO45: =AP19&" (og)" -> (og) | AP45: =AO19&" (og)" -> (og) | AQ45: =AR19&" (og)" -> (og) | AR45: =AQ19&" (og)" -> (og) | AS45: =AT19&" (og)" -> (og) | AT45: =AS19&" (og)" -> (og) | AU45: =AV19&" (og)" -> (og) | AV45: =AU19&" (og)" -> (og) | AW45: =AX19&" (og)" -> (og) | AX45: =AW19&" (og)" -> (og) | AZ45: =BA19&" (og)" -> (og) | BA45: =AZ19&" (og)" -> (og) | BB45: =BC19&" (og)" -> (og) | BC45: =BB19&" (og)" -> (og) | BD45: =BE19&" (og)" -> (og) | BE45: =BD19&" (og)" -> (og) | BF45: =BG19&" (og)" -> (og) | BG45: =BF19&" (og)" -> (og) | BI45: =BJ19&" (og)" -> (og) | BJ45: =BI19&" (og)" -> (og) | BK45: =BL19&" (og)" -> (og) | BL45: =BK19&" (og)" -> (og) | BN45: =BO19&" (og)" -> (og) | BO45: =BN19&" (og)" -> (og) | BQ45: =BR19&" (og)" -> (og) | BR45: =BQ19&" (og)" -> (og) | BT45: =OFFSET($A$2,0,BW45) -> Scotland | BU45: =BU44+1 -> 43 | BV45: A19 | BW45: =BW19+1 -> 2 | BX45: =OFFSET(INDIRECT(BV45),0,BW45) -> Stuart Armstrong | BY45: =COUNTIF('Group Stages'!$J$8:$Q$80,BX45)+COUNTIF('Knock Out Stages'!$K$7:$R$45,BX45) -> 0 | BZ45: 'Player Database'!b22 | CA45: =OFFSET(INDIRECT(BZ45),0,BW45) -> Stuart Armstrong | CB45: 42 | CC45: {=IFERROR(INDEX($BX$3:$BX$810, SMALL(IF(COUNTIF(CC$3, $BY$3:$BY$810), ROW($BX$3:$BX$810)-MIN(ROW($BX$3:$BX$810))+1), $CB45), 0),"")} | CD45: {=IFERROR(INDEX($BX$3:$BX$810, SMALL(IF(COUNTIF(CD$3, $BY$3:$BY$810), ROW($BX$3:$BX$810)-MIN(ROW($BX$3:$BX$810))+1), $CB45), 0),"")} | CE45: {=IFERROR(INDEX($BX$3:$BX$810, SMALL(IF(COUNTIF(CE$3, $BY$3:$BY$810), ROW($BX$3:$BX$810)-MIN(ROW($BX$3:$BX$810))+1), $CB45), 0),"")} | CF45: {=IFERROR(INDEX($BX$3:$BX$810, SMALL(IF(COUNTIF(CF$3, $BY$3:$BY$810), ROW($BX$3:$BX$810)-MIN(ROW($BX$3:$BX$810))+1), $CB45), 0),"")} | CG45: {=IFERROR(INDEX($BX$3:$BX$810, SMALL(IF(COUNTIF(CG$3, $BY$3:$BY$810), ROW($BX$3:$BX$810)-MIN(ROW($BX$3:$BX$810))+1), $CB45), 0),"")} | CH45: {=IFERROR(INDEX($BX$3:$BX$810, SMALL(IF(COUNTIF(CH$3, $BY$3:$BY$810), ROW($BX$3:$BX$810)-MIN(ROW($BX$3:$BX$810))+1), $CB45), 0),"")} | CI45: {=IFERROR(INDEX($BX$3:$BX$810, SMALL(IF(COUNTIF(CI$3, $BY$3:$BY$810), ROW($BX$3:$BX$810)-MIN(ROW($BX$3:$BX$810))+1), $CB45), 0),"")} | CJ45: {=IFERROR(INDEX($BX$3:$BX$810, SMALL(IF(COUNTIF(CJ$3, $BY$3:$BY$810), ROW($BX$3:$BX$810)-MIN(ROW($BX$3:$BX$810))+1), $CB45), 0),"")} | ... CQ45: {=IFERROR(INDEX($BX$3:$BX$810, SMALL(IF(COUNTIF(CQ$3, $BY$3:$BY$810), ROW($BX$3:$BX$810)-MIN(ROW($BX$3:$BX$810))+1), $CB45), 0),"")} | CS45: 42 | CT45: 1 | CV45: =CQ45 | CW45: =IF(CV45<>"",CW44+1,CW44) -> 0 | CZ45: 42 | DA45: =IFERROR(INDEX($CV$4:$CV$633,MATCH(CZ45,$CW$4:$CW$633,0),0),"") | DB45: =IFERROR(VLOOKUP(DA45,$BX$3:$BY$810,2,FALSE),"") | DC45: =IFERROR(VLOOKUP(DA45,$BX$3:$CA$810,4,FALSE),"") | DD45: =IFERROR(INDEX($BT$3:$BT$810,MATCH(DA45,$BX$3:$BX$810,0),0),"")
A46: =A20 -> 18 | B46: =C20&" (og)" -> Lewis Morgan (og) | C46: =B20&" (og)" -> Maximilian Mittelstädt (og) | D46: =B20&" (og)" -> Maximilian Mittelstädt (og) | E46: =B20&" (og)" -> Maximilian Mittelstädt (og) | F46: =G20&" (og)" -> Ardian Ismajli (og) | G46: =F20&" (og)" -> Nicolò Barella (og) | H46: =F20&" (og)" -> Nicolò Barella (og) | I46: =F20&" (og)" -> Nicolò Barella (og) | J46: =K20&" (og)" -> Anthony Gordon (og) | K46: =J20&" (og)" -> Petar Ratkov (og) | L46: =J20&" (og)" -> Petar Ratkov (og) | M46: =J20&" (og)" -> Petar Ratkov (og) | N46: =O20&" (og)" -> Donyell Malen (og) | O46: =N20&" (og)" -> Bartosz Bereszyński (og) | P46: =N20&" (og)" -> Bartosz Bereszyński (og) | Q46: =N20&" (og)" -> Bartosz Bereszyński (og) | R46: =S20&" (og)" -> David Strelec (og) | S46: =R20&" (og)" -> Orel Mangala (og) | T46: =R20&" (og)" -> Orel Mangala (og) | U46: =R20&" (og)" -> Orel Mangala (og) | V46: =W20&" (og)" -> Ladislav Krejčí (og) | W46: =V20&" (og)" -> Rúben Neves (og) | X46: =V20&" (og)" -> Rúben Neves (og) | Y46: =V20&" (og)" -> Rúben Neves (og) | AI46: =AJ20&" (og)" -> (og) | AJ46: =AI20&" (og)" -> (og) | AK46: =AL20&" (og)" -> (og) | AL46: =AK20&" (og)" -> (og) | AM46: =AN20&" (og)" -> (og) | AN46: =AM20&" (og)" -> (og) | AO46: =AP20&" (og)" -> (og) | AP46: =AO20&" (og)" -> (og) | AQ46: =AR20&" (og)" -> (og) | AR46: =AQ20&" (og)" -> (og) | AS46: =AT20&" (og)" -> (og) | AT46: =AS20&" (og)" -> (og) | AU46: =AV20&" (og)" -> (og) | AV46: =AU20&" (og)" -> (og) | AW46: =AX20&" (og)" -> (og) | AX46: =AW20&" (og)" -> (og) | AZ46: =BA20&" (og)" -> (og) | BA46: =AZ20&" (og)" -> (og) | BB46: =BC20&" (og)" -> (og) | BC46: =BB20&" (og)" -> (og) | BD46: =BE20&" (og)" -> (og) | BE46: =BD20&" (og)" -> (og) | BF46: =BG20&" (og)" -> (og) | BG46: =BF20&" (og)" -> (og) | BI46: =BJ20&" (og)" -> (og) | BJ46: =BI20&" (og)" -> (og) | BK46: =BL20&" (og)" -> (og) | BL46: =BK20&" (og)" -> (og) | BN46: =BO20&" (og)" -> (og) | BO46: =BN20&" (og)" -> (og) | BQ46: =BR20&" (og)" -> (og) | BR46: =BQ20&" (og)" -> (og) | BT46: =OFFSET($A$2,0,BW46) -> Scotland | BU46: =BU45+1 -> 44 | BV46: A20 | BW46: =BW20+1 -> 2 | BX46: =OFFSET(INDIRECT(BV46),0,BW46) -> Lewis Morgan | BY46: =COUNTIF('Group Stages'!$J$8:$Q$80,BX46)+COUNTIF('Knock Out Stages'!$K$7:$R$45,BX46) -> 0 | BZ46: 'Player Database'!b23 | CA46: =OFFSET(INDIRECT(BZ46),0,BW46) -> Lewis Morgan | CB46: 43 | CC46: {=IFERROR(INDEX($BX$3:$BX$810, SMALL(IF(COUNTIF(CC$3, $BY$3:$BY$810), ROW($BX$3:$BX$810)-MIN(ROW($BX$3:$BX$810))+1), $CB46), 0),"")} | CD46: {=IFERROR(INDEX($BX$3:$BX$810, SMALL(IF(COUNTIF(CD$3, $BY$3:$BY$810), ROW($BX$3:$BX$810)-MIN(ROW($BX$3:$BX$810))+1), $CB46), 0),"")} | CE46: {=IFERROR(INDEX($BX$3:$BX$810, SMALL(IF(COUNTIF(CE$3, $BY$3:$BY$810), ROW($BX$3:$BX$810)-MIN(ROW($BX$3:$BX$810))+1), $CB46), 0),"")} | CF46: {=IFERROR(INDEX($BX$3:$BX$810, SMALL(IF(COUNTIF(CF$3, $BY$3:$BY$810), ROW($BX$3:$BX$810)-MIN(ROW($BX$3:$BX$810))+1), $CB46), 0),"")} | CG46: {=IFERROR(INDEX($BX$3:$BX$810, SMALL(IF(COUNTIF(CG$3, $BY$3:$BY$810), ROW($BX$3:$BX$810)-MIN(ROW($BX$3:$BX$810))+1), $CB46), 0),"")} | CH46: {=IFERROR(INDEX($BX$3:$BX$810, SMALL(IF(COUNTIF(CH$3, $BY$3:$BY$810), ROW($BX$3:$BX$810)-MIN(ROW($BX$3:$BX$810))+1), $CB46), 0),"")} | CI46: {=IFERROR(INDEX($BX$3:$BX$810, SMALL(IF(COUNTIF(CI$3, $BY$3:$BY$810), ROW($BX$3:$BX$810)-MIN(ROW($BX$3:$BX$810))+1), $CB46), 0),"")} | CJ46: {=IFERROR(INDEX($BX$3:$BX$810, SMALL(IF(COUNTIF(CJ$3, $BY$3:$BY$810), ROW($BX$3:$BX$810)-MIN(ROW($BX$3:$BX$810))+1), $CB46), 0),"")} | ... CQ46: {=IFERROR(INDEX($BX$3:$BX$810, SMALL(IF(COUNTIF(CQ$3, $BY$3:$BY$810), ROW($BX$3:$BX$810)-MIN(ROW($BX$3:$BX$810))+1), $CB46), 0),"")} | CS46: 43 | CT46: =CT4+1 -> 2 | CU46: CR4 | CV46: =OFFSET(INDIRECT(CU46),0,-CT46) | CW46: =IF(CV46<>"",CW45+1,CW45) -> 0 | CZ46: 43 | DA46: =IFERROR(INDEX($CV$4:$CV$633,MATCH(CZ46,$CW$4:$CW$633,0),0),"") | DB46: =IFERROR(VLOOKUP(DA46,$BX$3:$BY$810,2,FALSE),"") | DC46: =IFERROR(VLOOKUP(DA46,$BX$3:$CA$810,4,FALSE),"") | DD46: =IFERROR(INDEX($BT$3:$BT$810,MATCH(DA46,$BX$3:$BX$810,0),0),"")
A47: =A21 -> 19 | B47: =C21&" (og)" -> Tommy Conway (og) | C47: =B21&" (og)" -> Leroy Sané (og) | D47: =B21&" (og)" -> Leroy Sané (og) | E47: =B21&" (og)" -> Leroy Sané (og) | F47: =G21&" (og)" -> Mirlind Daku (og) | G47: =F21&" (og)" -> Mateo Retegui (og) | H47: =F21&" (og)" -> Mateo Retegui (og) | I47: =F21&" (og)" -> Mateo Retegui (og) | J47: =K21&" (og)" -> Ollie Watkins (og) | K47: =J21&" (og)" -> Lazar Samardžić (og) | L47: =J21&" (og)" -> Lazar Samardžić (og) | M47: =J21&" (og)" -> Lazar Samardžić (og) | N47: =O21&" (og)" -> Brian Brobbey (og) | O47: =N21&" (og)" -> Przemysław Frankowski (og) | P47: =N21&" (og)" -> Przemysław Frankowski (og) | Q47: =N21&" (og)" -> Przemysław Frankowski (og) | R47: =S21&" (og)" -> Juraj Kucka (og) | S47: =R21&" (og)" -> Johan Bakayoko (og) | T47: =R21&" (og)" -> Johan Bakayoko (og) | U47: =R21&" (og)" -> Johan Bakayoko (og) | V47: =W21&" (og)" -> Tomáš Chorý (og) | W47: =V21&" (og)" -> Nuno Mendes (og) | X47: =V21&" (og)" -> Nuno Mendes (og) | Y47: =V21&" (og)" -> Nuno Mendes (og) | AI47: =AJ21&" (og)" -> (og) | AJ47: =AI21&" (og)" -> (og) | AK47: =AL21&" (og)" -> (og) | AL47: =AK21&" (og)" -> (og) | AM47: =AN21&" (og)" -> (og) | AN47: =AM21&" (og)" -> (og) | AO47: =AP21&" (og)" -> (og) | AP47: =AO21&" (og)" -> (og) | AQ47: =AR21&" (og)" -> (og) | AR47: =AQ21&" (og)" -> (og) | AS47: =AT21&" (og)" -> (og) | AT47: =AS21&" (og)" -> (og) | AU47: =AV21&" (og)" -> (og) | AV47: =AU21&" (og)" -> (og) | AW47: =AX21&" (og)" -> (og) | AX47: =AW21&" (og)" -> (og) | AZ47: =BA21&" (og)" -> (og) | BA47: =AZ21&" (og)" -> (og) | BB47: =BC21&" (og)" -> (og) | BC47: =BB21&" (og)" -> (og) | BD47: =BE21&" (og)" -> (og) | BE47: =BD21&" (og)" -> (og) | BF47: =BG21&" (og)" -> (og) | BG47: =BF21&" (og)" -> (og) | BI47: =BJ21&" (og)" -> (og) | BJ47: =BI21&" (og)" -> (og) | BK47: =BL21&" (og)" -> (og) | BL47: =BK21&" (og)" -> (og) | BN47: =BO21&" (og)" -> (og) | BO47: =BN21&" (og)" -> (og) | BQ47: =BR21&" (og)" -> (og) | BR47: =BQ21&" (og)" -> (og) | BT47: =OFFSET($A$2,0,BW47) -> Scotland | BU47: =BU46+1 -> 45 | BV47: A21 | BW47: =BW21+1 -> 2 | BX47: =OFFSET(INDIRECT(BV47),0,BW47) -> Tommy Conway | BY47: =COUNTIF('Group Stages'!$J$8:$Q$80,BX47)+COUNTIF('Knock Out Stages'!$K$7:$R$45,BX47) -> 0 | BZ47: 'Player Database'!b24 | CA47: =OFFSET(INDIRECT(BZ47),0,BW47) -> Tommy Conway | CB47: 44 | CC47: {=IFERROR(INDEX($BX$3:$BX$810, SMALL(IF(COUNTIF(CC$3, $BY$3:$BY$810), ROW($BX$3:$BX$810)-MIN(ROW($BX$3:$BX$810))+1), $CB47), 0),"")} | CD47: {=IFERROR(INDEX($BX$3:$BX$810, SMALL(IF(COUNTIF(CD$3, $BY$3:$BY$810), ROW($BX$3:$BX$810)-MIN(ROW($BX$3:$BX$810))+1), $CB47), 0),"")} | CE47: {=IFERROR(INDEX($BX$3:$BX$810, SMALL(IF(COUNTIF(CE$3, $BY$3:$BY$810), ROW($BX$3:$BX$810)-MIN(ROW($BX$3:$BX$810))+1), $CB47), 0),"")} | CF47: {=IFERROR(INDEX($BX$3:$BX$810, SMALL(IF(COUNTIF(CF$3, $BY$3:$BY$810), ROW($BX$3:$BX$810)-MIN(ROW($BX$3:$BX$810))+1), $CB47), 0),"")} | CG47: {=IFERROR(INDEX($BX$3:$BX$810, SMALL(IF(COUNTIF(CG$3, $BY$3:$BY$810), ROW($BX$3:$BX$810)-MIN(ROW($BX$3:$BX$810))+1), $CB47), 0),"")} | CH47: {=IFERROR(INDEX($BX$3:$BX$810, SMALL(IF(COUNTIF(CH$3, $BY$3:$BY$810), ROW($BX$3:$BX$810)-MIN(ROW($BX$3:$BX$810))+1), $CB47), 0),"")} | CI47: {=IFERROR(INDEX($BX$3:$BX$810, SMALL(IF(COUNTIF(CI$3, $BY$3:$BY$810), ROW($BX$3:$BX$810)-MIN(ROW($BX$3:$BX$810))+1), $CB47), 0),"")} | CJ47: {=IFERROR(INDEX($BX$3:$BX$810, SMALL(IF(COUNTIF(CJ$3, $BY$3:$BY$810), ROW($BX$3:$BX$810)-MIN(ROW($BX$3:$BX$810))+1), $CB47), 0),"")} | ... CQ47: {=IFERROR(INDEX($BX$3:$BX$810, SMALL(IF(COUNTIF(CQ$3, $BY$3:$BY$810), ROW($BX$3:$BX$810)-MIN(ROW($BX$3:$BX$810))+1), $CB47), 0),"")} | CS47: =CS46+1 -> 44 | CT47: =CT5+1 -> 2 | CU47: CR5 | CV47: =OFFSET(INDIRECT(CU47),0,-CT47) | CW47: =IF(CV47<>"",CW46+1,CW46) -> 0 | CZ47: 44 | DA47: =IFERROR(INDEX($CV$4:$CV$633,MATCH(CZ47,$CW$4:$CW$633,0),0),"") | DB47: =IFERROR(VLOOKUP(DA47,$BX$3:$BY$810,2,FALSE),"") | DC47: =IFERROR(VLOOKUP(DA47,$BX$3:$CA$810,4,FALSE),"") | DD47: =IFERROR(INDEX($BT$3:$BT$810,MATCH(DA47,$BX$3:$BX$810,0),0),"")
A48: =A22 -> 20 | B48: =C22&" (og)" -> Ryan Jack (og) | C48: =B22&" (og)" -> Benjamin Henrichs (og) | D48: =B22&" (og)" -> Benjamin Henrichs (og) | E48: =B22&" (og)" -> Benjamin Henrichs (og) | F48: =G22&" (og)" -> Ylber Ramadani (og) | G48: =F22&" (og)" -> Mattia Zaccagni (og) | H48: =F22&" (og)" -> Mattia Zaccagni (og) | I48: =F22&" (og)" -> Mattia Zaccagni (og) | J48: =K22&" (og)" -> Jarrod Bowen (og) | K48: =J22&" (og)" -> Sergej Milinković-Savić (og) | L48: =J22&" (og)" -> Sergej Milinković-Savić (og) | M48: =J22&" (og)" -> Sergej Milinković-Savić (og) | N48: =O22&" (og)" -> Ian Maatsen (og) | O48: =N22&" (og)" -> Sebastian Szymański (og) | P48: =N22&" (og)" -> Sebastian Szymański (og) | Q48: =N22&" (og)" -> Sebastian Szymański (og) | R48: =S22&" (og)" -> Dávid Ďuriš (og) | S48: =R22&" (og)" -> Loïs Openda (og) | T48: =R22&" (og)" -> Loïs Openda (og) | U48: =R22&" (og)" -> Loïs Openda (og) | V48: =W22&" (og)" -> Ondřej Lingr (og) | W48: =V22&" (og)" -> João Cancelo (og) | X48: =V22&" (og)" -> João Cancelo (og) | Y48: =V22&" (og)" -> João Cancelo (og) | AI48: =AJ22&" (og)" -> (og) | AJ48: =AI22&" (og)" -> (og) | AK48: =AL22&" (og)" -> (og) | AL48: =AK22&" (og)" -> (og) | AM48: =AN22&" (og)" -> (og) | AN48: =AM22&" (og)" -> (og) | AO48: =AP22&" (og)" -> (og) | AP48: =AO22&" (og)" -> (og) | AQ48: =AR22&" (og)" -> (og) | AR48: =AQ22&" (og)" -> (og) | AS48: =AT22&" (og)" -> (og) | AT48: =AS22&" (og)" -> (og) | AU48: =AV22&" (og)" -> (og) | AV48: =AU22&" (og)" -> (og) | AW48: =AX22&" (og)" -> (og) | AX48: =AW22&" (og)" -> (og) | AZ48: =BA22&" (og)" -> (og) | BA48: =AZ22&" (og)" -> (og) | BB48: =BC22&" (og)" -> (og) | BC48: =BB22&" (og)" -> (og) | BD48: =BE22&" (og)" -> (og) | BE48: =BD22&" (og)" -> (og) | BF48: =BG22&" (og)" -> (og) | BG48: =BF22&" (og)" -> (og) | BI48: =BJ22&" (og)" -> (og) | BJ48: =BI22&" (og)" -> (og) | BK48: =BL22&" (og)" -> (og) | BL48: =BK22&" (og)" -> (og) | BN48: =BO22&" (og)" -> (og) | BO48: =BN22&" (og)" -> (og) | BQ48: =BR22&" (og)" -> (og) | BR48: =BQ22&" (og)" -> (og) | BT48: =OFFSET($A$2,0,BW48) -> Scotland | BU48: =BU47+1 -> 46 | BV48: A22 | BW48: =BW22+1 -> 2 | BX48: =OFFSET(INDIRECT(BV48),0,BW48) -> Ryan Jack | BY48: =COUNTIF('Group Stages'!$J$8:$Q$80,BX48)+COUNTIF('Knock Out Stages'!$K$7:$R$45,BX48) -> 0 | BZ48: 'Player Database'!b25 | CA48: =OFFSET(INDIRECT(BZ48),0,BW48) -> Ryan Jack | CB48: 45 | CC48: {=IFERROR(INDEX($BX$3:$BX$810, SMALL(IF(COUNTIF(CC$3, $BY$3:$BY$810), ROW($BX$3:$BX$810)-MIN(ROW($BX$3:$BX$810))+1), $CB48), 0),"")} | CD48: {=IFERROR(INDEX($BX$3:$BX$810, SMALL(IF(COUNTIF(CD$3, $BY$3:$BY$810), ROW($BX$3:$BX$810)-MIN(ROW($BX$3:$BX$810))+1), $CB48), 0),"")} | CE48: {=IFERROR(INDEX($BX$3:$BX$810, SMALL(IF(COUNTIF(CE$3, $BY$3:$BY$810), ROW($BX$3:$BX$810)-MIN(ROW($BX$3:$BX$810))+1), $CB48), 0),"")} | CF48: {=IFERROR(INDEX($BX$3:$BX$810, SMALL(IF(COUNTIF(CF$3, $BY$3:$BY$810), ROW($BX$3:$BX$810)-MIN(ROW($BX$3:$BX$810))+1), $CB48), 0),"")} | CG48: {=IFERROR(INDEX($BX$3:$BX$810, SMALL(IF(COUNTIF(CG$3, $BY$3:$BY$810), ROW($BX$3:$BX$810)-MIN(ROW($BX$3:$BX$810))+1), $CB48), 0),"")} | CH48: {=IFERROR(INDEX($BX$3:$BX$810, SMALL(IF(COUNTIF(CH$3, $BY$3:$BY$810), ROW($BX$3:$BX$810)-MIN(ROW($BX$3:$BX$810))+1), $CB48), 0),"")} | CI48: {=IFERROR(INDEX($BX$3:$BX$810, SMALL(IF(COUNTIF(CI$3, $BY$3:$BY$810), ROW($BX$3:$BX$810)-MIN(ROW($BX$3:$BX$810))+1), $CB48), 0),"")} | CJ48: {=IFERROR(INDEX($BX$3:$BX$810, SMALL(IF(COUNTIF(CJ$3, $BY$3:$BY$810), ROW($BX$3:$BX$810)-MIN(ROW($BX$3:$BX$810))+1), $CB48), 0),"")} | ... CQ48: {=IFERROR(INDEX($BX$3:$BX$810, SMALL(IF(COUNTIF(CQ$3, $BY$3:$BY$810), ROW($BX$3:$BX$810)-MIN(ROW($BX$3:$BX$810))+1), $CB48), 0),"")} | CS48: =CS47+1 -> 45 | CT48: =CT6+1 -> 2 | CU48: CR6 | CV48: =OFFSET(INDIRECT(CU48),0,-CT48) | CW48: =IF(CV48<>"",CW47+1,CW47) -> 0 | CZ48: 45 | DA48: =IFERROR(INDEX($CV$4:$CV$633,MATCH(CZ48,$CW$4:$CW$633,0),0),"") | DB48: =IFERROR(VLOOKUP(DA48,$BX$3:$BY$810,2,FALSE),"") | DC48: =IFERROR(VLOOKUP(DA48,$BX$3:$CA$810,4,FALSE),"") | DD48: =IFERROR(INDEX($BT$3:$BT$810,MATCH(DA48,$BX$3:$BX$810,0),0),"")
A49: =A23 -> 21 | B49: =C23&" (og)" -> Zander Clark (og) | C49: =B23&" (og)" -> İlkay Gündoğan (og) | D49: =B23&" (og)" -> İlkay Gündoğan (og) | E49: =B23&" (og)" -> İlkay Gündoğan (og) | F49: =G23&" (og)" -> Kristjan Asllani (og) | G49: =F23&" (og)" -> Nicolò Fagioli (og) | H49: =F23&" (og)" -> Nicolò Fagioli (og) | I49: =F23&" (og)" -> Nicolò Fagioli (og) | J49: =K23&" (og)" -> Eberechi Eze (og) | K49: =J23&" (og)" -> Mijat Gaćinović (og) | L49: =J23&" (og)" -> Mijat Gaćinović (og) | M49: =J23&" (og)" -> Mijat Gaćinović (og) | N49: =O23&" (og)" -> Joshua Zirkzee (og) | O49: =N23&" (og)" -> Nicola Zalewski (og) | P49: =N23&" (og)" -> Nicola Zalewski (og) | Q49: =N23&" (og)" -> Nicola Zalewski (og) | R49: =S23&" (og)" -> Matúš Bero (og) | S49: =R23&" (og)" -> Timothy Castagne (og) | T49: =R23&" (og)" -> Timothy Castagne (og) | U49: =R23&" (og)" -> Timothy Castagne (og) | V49: =W23&" (og)" -> Lukáš Červ (og) | W49: =V23&" (og)" -> Diogo Jota (og) | X49: =V23&" (og)" -> Diogo Jota (og) | Y49: =V23&" (og)" -> Diogo Jota (og) | AI49: =AJ23&" (og)" -> (og) | AJ49: =AI23&" (og)" -> (og) | AK49: =AL23&" (og)" -> (og) | AL49: =AK23&" (og)" -> (og) | AM49: =AN23&" (og)" -> (og) | AN49: =AM23&" (og)" -> (og) | AO49: =AP23&" (og)" -> (og) | AP49: =AO23&" (og)" -> (og) | AQ49: =AR23&" (og)" -> (og) | AR49: =AQ23&" (og)" -> (og) | AS49: =AT23&" (og)" -> (og) | AT49: =AS23&" (og)" -> (og) | AU49: =AV23&" (og)" -> (og) | AV49: =AU23&" (og)" -> (og) | AW49: =AX23&" (og)" -> (og) | AX49: =AW23&" (og)" -> (og) | AZ49: =BA23&" (og)" -> (og) | BA49: =AZ23&" (og)" -> (og) | BB49: =BC23&" (og)" -> (og) | BC49: =BB23&" (og)" -> (og) | BD49: =BE23&" (og)" -> (og) | BE49: =BD23&" (og)" -> (og) | BF49: =BG23&" (og)" -> (og) | BG49: =BF23&" (og)" -> (og) | BI49: =BJ23&" (og)" -> (og) | BJ49: =BI23&" (og)" -> (og) | BK49: =BL23&" (og)" -> (og) | BL49: =BK23&" (og)" -> (og) | BN49: =BO23&" (og)" -> (og) | BO49: =BN23&" (og)" -> (og) | BQ49: =BR23&" (og)" -> (og) | BR49: =BQ23&" (og)" -> (og) | BT49: =OFFSET($A$2,0,BW49) -> Scotland | BU49: =BU48+1 -> 47 | BV49: A23 | BW49: =BW23+1 -> 2 | BX49: =OFFSET(INDIRECT(BV49),0,BW49) -> Zander Clark | BY49: =COUNTIF('Group Stages'!$J$8:$Q$80,BX49)+COUNTIF('Knock Out Stages'!$K$7:$R$45,BX49) -> 0 | BZ49: 'Player Database'!b26 | CA49: =OFFSET(INDIRECT(BZ49),0,BW49) -> Zander Clark | CB49: 46 | CC49: {=IFERROR(INDEX($BX$3:$BX$810, SMALL(IF(COUNTIF(CC$3, $BY$3:$BY$810), ROW($BX$3:$BX$810)-MIN(ROW($BX$3:$BX$810))+1), $CB49), 0),"")} | CS49: =CS48+1 -> 46 | CT49: =CT7+1 -> 2 | CU49: CR7 | CV49: =OFFSET(INDIRECT(CU49),0,-CT49) | CW49: =IF(CV49<>"",CW48+1,CW48) -> 0 | CZ49: 46 | DA49: =IFERROR(INDEX($CV$4:$CV$633,MATCH(CZ49,$CW$4:$CW$633,0),0),"") | DB49: =IFERROR(VLOOKUP(DA49,$BX$3:$BY$810,2,FALSE),"") | DC49: =IFERROR(VLOOKUP(DA49,$BX$3:$CA$810,4,FALSE),"") | DD49: =IFERROR(INDEX($BT$3:$BT$810,MATCH(DA49,$BX$3:$BX$810,0),0),"")
A50: =A24 -> 22 | B50: =C24&" (og)" -> Ross McCrorie (og) | C50: =B24&" (og)" -> Marc-André ter Stegen (og) | D50: =B24&" (og)" -> Marc-André ter Stegen (og) | E50: =B24&" (og)" -> Marc-André ter Stegen (og) | F50: =G24&" (og)" -> Amir Abrashi (og) | G50: =F24&" (og)" -> Stephan El Shaarawy (og) | H50: =F24&" (og)" -> Stephan El Shaarawy (og) | I50: =F24&" (og)" -> Stephan El Shaarawy (og) | J50: =K24&" (og)" -> Joe Gomez (og) | K50: =J24&" (og)" -> Saša Lukić (og) | L50: =J24&" (og)" -> Saša Lukić (og) | M50: =J24&" (og)" -> Saša Lukić (og) | N50: =O24&" (og)" -> Denzel Dumfries (og) | O50: =N24&" (og)" -> Marcin Bułka (og) | P50: =N24&" (og)" -> Marcin Bułka (og) | Q50: =N24&" (og)" -> Marcin Bułka (og) | R50: =S24&" (og)" -> Stanislav Lobotka (og) | S50: =R24&" (og)" -> Jérémy Doku (og) | T50: =R24&" (og)" -> Jérémy Doku (og) | U50: =R24&" (og)" -> Jérémy Doku (og) | V50: =W24&" (og)" -> Tomáš Souček (og) | W50: =V24&" (og)" -> Diogo Costa (og) | X50: =V24&" (og)" -> Diogo Costa (og) | Y50: =V24&" (og)" -> Diogo Costa (og) | AI50: =AJ24&" (og)" -> (og) | AJ50: =AI24&" (og)" -> (og) | AK50: =AL24&" (og)" -> (og) | AL50: =AK24&" (og)" -> (og) | AM50: =AN24&" (og)" -> (og) | AN50: =AM24&" (og)" -> (og) | AO50: =AP24&" (og)" -> (og) | AP50: =AO24&" (og)" -> (og) | AQ50: =AR24&" (og)" -> (og) | AR50: =AQ24&" (og)" -> (og) | AS50: =AT24&" (og)" -> (og) | AT50: =AS24&" (og)" -> (og) | AU50: =AV24&" (og)" -> (og) | AV50: =AU24&" (og)" -> (og) | AW50: =AX24&" (og)" -> (og) | AX50: =AW24&" (og)" -> (og) | AZ50: =BA24&" (og)" -> (og) | BA50: =AZ24&" (og)" -> (og) | BB50: =BC24&" (og)" -> (og) | BC50: =BB24&" (og)" -> (og) | BD50: =BE24&" (og)" -> (og) | BE50: =BD24&" (og)" -> (og) | BF50: =BG24&" (og)" -> (og) | BG50: =BF24&" (og)" -> (og) | BI50: =BJ24&" (og)" -> (og) | BJ50: =BI24&" (og)" -> (og) | BK50: =BL24&" (og)" -> (og) | BL50: =BK24&" (og)" -> (og) | BN50: =BO24&" (og)" -> (og) | BO50: =BN24&" (og)" -> (og) | BQ50: =BR24&" (og)" -> (og) | BR50: =BQ24&" (og)" -> (og) | BT50: =OFFSET($A$2,0,BW50) -> Scotland | BU50: =BU49+1 -> 48 | BV50: A24 | BW50: =BW24+1 -> 2 | BX50: =OFFSET(INDIRECT(BV50),0,BW50) -> Ross McCrorie | BY50: =COUNTIF('Group Stages'!$J$8:$Q$80,BX50)+COUNTIF('Knock Out Stages'!$K$7:$R$45,BX50) -> 0 | BZ50: 'Player Database'!b27 | CA50: =OFFSET(INDIRECT(BZ50),0,BW50) -> Ross McCrorie | CB50: 47 | CC50: {=IFERROR(INDEX($BX$3:$BX$810, SMALL(IF(COUNTIF(CC$3, $BY$3:$BY$810), ROW($BX$3:$BX$810)-MIN(ROW($BX$3:$BX$810))+1), $CB50), 0),"")} | CS50: =CS49+1 -> 47 | CT50: =CT8+1 -> 2 | CU50: CR8 | CV50: =OFFSET(INDIRECT(CU50),0,-CT50) | CW50: =IF(CV50<>"",CW49+1,CW49) -> 0 | CZ50: 47 | DA50: =IFERROR(INDEX($CV$4:$CV$633,MATCH(CZ50,$CW$4:$CW$633,0),0),"") | DB50: =IFERROR(VLOOKUP(DA50,$BX$3:$BY$810,2,FALSE),"") | DC50: =IFERROR(VLOOKUP(DA50,$BX$3:$CA$810,4,FALSE),"") | DD50: =IFERROR(INDEX($BT$3:$BT$810,MATCH(DA50,$BX$3:$BX$810,0),0),"")
A51: =A25 -> 23 | B51: =C25&" (og)" -> Kenny McLean (og) | C51: =B25&" (og)" -> Robert Andrich (og) | D51: =B25&" (og)" -> Robert Andrich (og) | E51: =B25&" (og)" -> Robert Andrich (og) | F51: =G25&" (og)" -> Thomas Strakosha (og) | G51: =F25&" (og)" -> Alessandro Bastoni (og) | H51: =F25&" (og)" -> Alessandro Bastoni (og) | I51: =F25&" (og)" -> Alessandro Bastoni (og) | J51: =K25&" (og)" -> Dean Henderson (og) | K51: =J25&" (og)" -> Vanja Milinković-Savić (og) | L51: =J25&" (og)" -> Vanja Milinković-Savić (og) | M51: =J25&" (og)" -> Vanja Milinković-Savić (og) | N51: =O25&" (og)" -> Mark Flekken (og) | O51: =N25&" (og)" -> Krzysztof Piątek (og) | P51: =N25&" (og)" -> Krzysztof Piątek (og) | Q51: =N25&" (og)" -> Krzysztof Piątek (og) | R51: =S25&" (og)" -> Henrich Ravas (og) | S51: =R25&" (og)" -> Arthur Vermeeren (og) | T51: =R25&" (og)" -> Arthur Vermeeren (og) | U51: =R25&" (og)" -> Arthur Vermeeren (og) | V51: =W25&" (og)" -> Vítězslav Jaroš (og) | W51: =V25&" (og)" -> Vitinha (og) | X51: =V25&" (og)" -> Vitinha (og) | Y51: =V25&" (og)" -> Vitinha (og) | AI51: =AJ25&" (og)" -> (og) | AJ51: =AI25&" (og)" -> (og) | AK51: =AL25&" (og)" -> (og) | AL51: =AK25&" (og)" -> (og) | AM51: =AN25&" (og)" -> (og) | AN51: =AM25&" (og)" -> (og) | AO51: =AP25&" (og)" -> (og) | AP51: =AO25&" (og)" -> (og) | AQ51: =AR25&" (og)" -> (og) | AR51: =AQ25&" (og)" -> (og) | AS51: =AT25&" (og)" -> (og) | AT51: =AS25&" (og)" -> (og) | AU51: =AV25&" (og)" -> (og) | AV51: =AU25&" (og)" -> (og) | AW51: =AX25&" (og)" -> (og) | AX51: =AW25&" (og)" -> (og) | AZ51: =BA25&" (og)" -> (og) | BA51: =AZ25&" (og)" -> (og) | BB51: =BC25&" (og)" -> (og) | BC51: =BB25&" (og)" -> (og) | BD51: =BE25&" (og)" -> (og) | BE51: =BD25&" (og)" -> (og) | BF51: =BG25&" (og)" -> (og) | BG51: =BF25&" (og)" -> (og) | BI51: =BJ25&" (og)" -> (og) | BJ51: =BI25&" (og)" -> (og) | BK51: =BL25&" (og)" -> (og) | BL51: =BK25&" (og)" -> (og) | BN51: =BO25&" (og)" -> (og) | BO51: =BN25&" (og)" -> (og) | BQ51: =BR25&" (og)" -> (og) | BR51: =BQ25&" (og)" -> (og) | BT51: =OFFSET($A$2,0,BW51) -> Scotland | BU51: =BU50+1 -> 49 | BV51: A25 | BW51: =BW25+1 -> 2 | BX51: =OFFSET(INDIRECT(BV51),0,BW51) -> Kenny McLean | BY51: =COUNTIF('Group Stages'!$J$8:$Q$80,BX51)+COUNTIF('Knock Out Stages'!$K$7:$R$45,BX51) -> 0 | BZ51: 'Player Database'!b28 | CA51: =OFFSET(INDIRECT(BZ51),0,BW51) -> Kenny McLean | CB51: 48 | CC51: {=IFERROR(INDEX($BX$3:$BX$810, SMALL(IF(COUNTIF(CC$3, $BY$3:$BY$810), ROW($BX$3:$BX$810)-MIN(ROW($BX$3:$BX$810))+1), $CB51), 0),"")} | CS51: =CS50+1 -> 48 | CT51: =CT9+1 -> 2 | CU51: CR9 | CV51: =OFFSET(INDIRECT(CU51),0,-CT51) | CW51: =IF(CV51<>"",CW50+1,CW50) -> 0 | CZ51: 48 | DA51: =IFERROR(INDEX($CV$4:$CV$633,MATCH(CZ51,$CW$4:$CW$633,0),0),"") | DB51: =IFERROR(VLOOKUP(DA51,$BX$3:$BY$810,2,FALSE),"") | DC51: =IFERROR(VLOOKUP(DA51,$BX$3:$CA$810,4,FALSE),"") | DD51: =IFERROR(INDEX($BT$3:$BT$810,MATCH(DA51,$BX$3:$BX$810,0),0),"")
A52: =A26 -> 24 | B52: =C26&" (og)" -> Greg Taylor (og) | C52: =B26&" (og)" -> Robin Koch (og) | D52: =B26&" (og)" -> Robin Koch (og) | E52: =B26&" (og)" -> Robin Koch (og) | F52: =G26&" (og)" -> Marash Kumbulla (og) | G52: =F26&" (og)" -> Andrea Cambiaso (og) | H52: =F26&" (og)" -> Andrea Cambiaso (og) | I52: =F26&" (og)" -> Andrea Cambiaso (og) | J52: =K26&" (og)" -> Cole Palmer (og) | K52: =J26&" (og)" -> Uroš Spajić (og) | L52: =J26&" (og)" -> Uroš Spajić (og) | M52: =J26&" (og)" -> Uroš Spajić (og) | N52: =O26&" (og)" -> Jerdy Schouten (og) | O52: =N26&" (og)" -> Bartosz Slisz (og) | P52: =N26&" (og)" -> Bartosz Slisz (og) | Q52: =N26&" (og)" -> Bartosz Slisz (og) | R52: =S26&" (og)" -> Leo Sauer (og) | S52: =R26&" (og)" -> Amadou Onana (og) | T52: =R26&" (og)" -> Amadou Onana (og) | U52: =R26&" (og)" -> Amadou Onana (og) | V52: =W26&" (og)" -> Tomáš Vlček (og) | W52: =V26&" (og)" -> António Silva (og) | X52: =V26&" (og)" -> António Silva (og) | Y52: =V26&" (og)" -> António Silva (og) | AI52: =AJ26&" (og)" -> (og) | AJ52: =AI26&" (og)" -> (og) | AK52: =AL26&" (og)" -> (og) | AL52: =AK26&" (og)" -> (og) | AM52: =AN26&" (og)" -> (og) | AN52: =AM26&" (og)" -> (og) | AO52: =AP26&" (og)" -> (og) | AP52: =AO26&" (og)" -> (og) | AQ52: =AR26&" (og)" -> (og) | AR52: =AQ26&" (og)" -> (og) | AS52: =AT26&" (og)" -> (og) | AT52: =AS26&" (og)" -> (og) | AU52: =AV26&" (og)" -> (og) | AV52: =AU26&" (og)" -> (og) | AW52: =AX26&" (og)" -> (og) | AX52: =AW26&" (og)" -> (og) | AZ52: =BA26&" (og)" -> (og) | BA52: =AZ26&" (og)" -> (og) | BB52: =BC26&" (og)" -> (og) | BC52: =BB26&" (og)" -> (og) | BD52: =BE26&" (og)" -> (og) | BE52: =BD26&" (og)" -> (og) | BF52: =BG26&" (og)" -> (og) | BG52: =BF26&" (og)" -> (og) | BI52: =BJ26&" (og)" -> (og) | BJ52: =BI26&" (og)" -> (og) | BK52: =BL26&" (og)" -> (og) | BL52: =BK26&" (og)" -> (og) | BN52: =BO26&" (og)" -> (og) | BO52: =BN26&" (og)" -> (og) | BQ52: =BR26&" (og)" -> (og) | BR52: =BQ26&" (og)" -> (og) | BT52: =OFFSET($A$2,0,BW52) -> Scotland | BU52: =BU51+1 -> 50 | BV52: A26 | BW52: =BW26+1 -> 2 | BX52: =OFFSET(INDIRECT(BV52),0,BW52) -> Greg Taylor | BY52: =COUNTIF('Group Stages'!$J$8:$Q$80,BX52)+COUNTIF('Knock Out Stages'!$K$7:$R$45,BX52) -> 0 | BZ52: 'Player Database'!b29 | CA52: =OFFSET(INDIRECT(BZ52),0,BW52) -> Greg Taylor | CB52: 49 | CC52: {=IFERROR(INDEX($BX$3:$BX$810, SMALL(IF(COUNTIF(CC$3, $BY$3:$BY$810), ROW($BX$3:$BX$810)-MIN(ROW($BX$3:$BX$810))+1), $CB52), 0),"")} | CS52: =CS51+1 -> 49 | CT52: =CT10+1 -> 2 | CU52: CR10 | CV52: =OFFSET(INDIRECT(CU52),0,-CT52) | CW52: =IF(CV52<>"",CW51+1,CW51) -> 0 | CZ52: 49 | DA52: =IFERROR(INDEX($CV$4:$CV$633,MATCH(CZ52,$CW$4:$CW$633,0),0),"") | DB52: =IFERROR(VLOOKUP(DA52,$BX$3:$BY$810,2,FALSE),"") | DC52: =IFERROR(VLOOKUP(DA52,$BX$3:$CA$810,4,FALSE),"") | DD52: =IFERROR(INDEX($BT$3:$BT$810,MATCH(DA52,$BX$3:$BX$810,0),0),"")
A53: =A27 -> 25 | B53: =C27&" (og)" -> James Forrest (og) | C53: =B27&" (og)" -> Emre Can (og) | D53: =B27&" (og)" -> Emre Can (og) | E53: =B27&" (og)" -> Emre Can (og) | F53: =G27&" (og)" -> Naser Aliji (og) | G53: =F27&" (og)" -> Michael Folorunsho (og) | H53: =F27&" (og)" -> Michael Folorunsho (og) | I53: =F27&" (og)" -> Michael Folorunsho (og) | J53: =K27&" (og)" -> Adam Wharton (og) | K53: =J27&" (og)" -> Filip Mladenović (og) | L53: =J27&" (og)" -> Filip Mladenović (og) | M53: =J27&" (og)" -> Filip Mladenović (og) | N53: =O27&" (og)" -> Steven Bergwijn (og) | O53: =N27&" (og)" -> Michał Skóraś (og) | P53: =N27&" (og)" -> Michał Skóraś (og) | Q53: =N27&" (og)" -> Michał Skóraś (og) | R53: =S27&" (og)" -> Sebastian Kóša (og) | S53: =R27&" (og)" -> Maxim De Cuyper (og) | T53: =R27&" (og)" -> Maxim De Cuyper (og) | U53: =R27&" (og)" -> Maxim De Cuyper (og) | V53: =W27&" (og)" -> Pavel Šulc (og) | W53: =V27&" (og)" -> Pedro Neto (og) | X53: =V27&" (og)" -> Pedro Neto (og) | Y53: =V27&" (og)" -> Pedro Neto (og) | AI53: =AJ27&" (og)" -> (og) | AJ53: =AI27&" (og)" -> (og) | AK53: =AL27&" (og)" -> (og) | AL53: =AK27&" (og)" -> (og) | AM53: =AN27&" (og)" -> (og) | AN53: =AM27&" (og)" -> (og) | AO53: =AP27&" (og)" -> (og) | AP53: =AO27&" (og)" -> (og) | AQ53: =AR27&" (og)" -> (og) | AR53: =AQ27&" (og)" -> (og) | AS53: =AT27&" (og)" -> (og) | AT53: =AS27&" (og)" -> (og) | AU53: =AV27&" (og)" -> (og) | AV53: =AU27&" (og)" -> (og) | AW53: =AX27&" (og)" -> (og) | AX53: =AW27&" (og)" -> (og) | AZ53: =BA27&" (og)" -> (og) | BA53: =AZ27&" (og)" -> (og) | BB53: =BC27&" (og)" -> (og) | BC53: =BB27&" (og)" -> (og) | BD53: =BE27&" (og)" -> (og) | BE53: =BD27&" (og)" -> (og) | BF53: =BG27&" (og)" -> (og) | BG53: =BF27&" (og)" -> (og) | BI53: =BJ27&" (og)" -> (og) | BJ53: =BI27&" (og)" -> (og) | BK53: =BL27&" (og)" -> (og) | BL53: =BK27&" (og)" -> (og) | BN53: =BO27&" (og)" -> (og) | BO53: =BN27&" (og)" -> (og) | BQ53: =BR27&" (og)" -> (og) | BR53: =BQ27&" (og)" -> (og) | BT53: =OFFSET($A$2,0,BW53) -> Scotland | BU53: =BU52+1 -> 51 | BV53: A27 | BW53: =BW27+1 -> 2 | BX53: =OFFSET(INDIRECT(BV53),0,BW53) -> James Forrest | BY53: =COUNTIF('Group Stages'!$J$8:$Q$80,BX53)+COUNTIF('Knock Out Stages'!$K$7:$R$45,BX53) -> 0 | BZ53: 'Player Database'!b30 | CA53: =OFFSET(INDIRECT(BZ53),0,BW53) -> James Forrest | CB53: 50 | CC53: {=IFERROR(INDEX($BX$3:$BX$810, SMALL(IF(COUNTIF(CC$3, $BY$3:$BY$810), ROW($BX$3:$BX$810)-MIN(ROW($BX$3:$BX$810))+1), $CB53), 0),"")} | CS53: =CS52+1 -> 50 | CT53: =CT11+1 -> 2 | CU53: CR11 | CV53: =OFFSET(INDIRECT(CU53),0,-CT53) | CW53: =IF(CV53<>"",CW52+1,CW52) -> 0 | CZ53: 50 | DA53: =IFERROR(INDEX($CV$4:$CV$633,MATCH(CZ53,$CW$4:$CW$633,0),0),"") | DB53: =IFERROR(VLOOKUP(DA53,$BX$3:$BY$810,2,FALSE),"") | DC53: =IFERROR(VLOOKUP(DA53,$BX$3:$CA$810,4,FALSE),"") | DD53: =IFERROR(INDEX($BT$3:$BT$810,MATCH(DA53,$BX$3:$BX$810,0),0),"")
A54: =A28 -> 26 | B54: =C28&" (og)" -> Scott McKenna (og) | C54: =B28&" (og)" -> Deniz Undav (og) | D54: =B28&" (og)" -> Deniz Undav (og) | E54: =B28&" (og)" -> Deniz Undav (og) | F54: =G28&" (og)" -> Arbër Hoxha (og) | G54: =F28&" (og)" -> Alex Meret (og) | H54: =F28&" (og)" -> Alex Meret (og) | I54: =F28&" (og)" -> Alex Meret (og) | J54: =K28&" (og)" -> Kobbie Mainoo (og) | K54: =J28&" (og)" -> Veljko Birmančević (og) | L54: =J28&" (og)" -> Veljko Birmančević (og) | M54: =J28&" (og)" -> Veljko Birmančević (og) | N54: =O28&" (og)" -> Ryan Gravenberch (og) | O54: =N28&" (og)" -> Kacper Urbański (og) | P54: =N28&" (og)" -> Kacper Urbański (og) | Q54: =N28&" (og)" -> Kacper Urbański (og) | R54: =S28&" (og)" -> Ivan Schranz (og) | S54: =R28&" (og)" -> 0 (og) | T54: =R28&" (og)" -> 0 (og) | U54: =R28&" (og)" -> 0 (og) | V54: =W28&" (og)" -> Matěj Jurásek (og) | W54: =V28&" (og)" -> Francisco Conceição (og) | X54: =V28&" (og)" -> Francisco Conceição (og) | Y54: =V28&" (og)" -> Francisco Conceição (og) | AI54: =AJ28&" (og)" -> (og) | AJ54: =AI28&" (og)" -> (og) | AK54: =AL28&" (og)" -> (og) | AL54: =AK28&" (og)" -> (og) | AM54: =AN28&" (og)" -> (og) | AN54: =AM28&" (og)" -> (og) | AO54: =AP28&" (og)" -> (og) | AP54: =AO28&" (og)" -> (og) | AQ54: =AR28&" (og)" -> (og) | AR54: =AQ28&" (og)" -> (og) | AS54: =AT28&" (og)" -> (og) | AT54: =AS28&" (og)" -> (og) | AU54: =AV28&" (og)" -> (og) | AV54: =AU28&" (og)" -> (og) | AW54: =AX28&" (og)" -> (og) | AX54: =AW28&" (og)" -> (og) | AZ54: =BA28&" (og)" -> (og) | BA54: =AZ28&" (og)" -> (og) | BB54: =BC28&" (og)" -> (og) | BC54: =BB28&" (og)" -> (og) | BD54: =BE28&" (og)" -> (og) | BE54: =BD28&" (og)" -> (og) | BF54: =BG28&" (og)" -> (og) | BG54: =BF28&" (og)" -> (og) | BI54: =BJ28&" (og)" -> (og) | BJ54: =BI28&" (og)" -> (og) | BK54: =BL28&" (og)" -> (og) | BL54: =BK28&" (og)" -> (og) | BN54: =BO28&" (og)" -> (og) | BO54: =BN28&" (og)" -> (og) | BQ54: =BR28&" (og)" -> (og) | BR54: =BQ28&" (og)" -> (og) | BT54: =OFFSET($A$2,0,BW54) -> Scotland | BU54: =BU53+1 -> 52 | BV54: A28 | BW54: =BW28+1 -> 2 | BX54: =OFFSET(INDIRECT(BV54),0,BW54) -> Scott McKenna | BY54: =COUNTIF('Group Stages'!$J$8:$Q$80,BX54)+COUNTIF('Knock Out Stages'!$K$7:$R$45,BX54) -> 0 | BZ54: 'Player Database'!b31 | CA54: =OFFSET(INDIRECT(BZ54),0,BW54) -> Scott McKenna | CB54: 51 | CC54: {=IFERROR(INDEX($BX$3:$BX$810, SMALL(IF(COUNTIF(CC$3, $BY$3:$BY$810), ROW($BX$3:$BX$810)-MIN(ROW($BX$3:$BX$810))+1), $CB54), 0),"")} | CS54: =CS53+1 -> 51 | CT54: =CT12+1 -> 2 | CU54: CR12 | CV54: =OFFSET(INDIRECT(CU54),0,-CT54) | CW54: =IF(CV54<>"",CW53+1,CW53) -> 0 | CZ54: 51 | DA54: =IFERROR(INDEX($CV$4:$CV$633,MATCH(CZ54,$CW$4:$CW$633,0),0),"") | DB54: =IFERROR(VLOOKUP(DA54,$BX$3:$BY$810,2,FALSE),"") | DC54: =IFERROR(VLOOKUP(DA54,$BX$3:$CA$810,4,FALSE),"") | DD54: =IFERROR(INDEX($BT$3:$BT$810,MATCH(DA54,$BX$3:$BX$810,0),0),"")
BT55: =OFFSET($A$2,0,BW55) -> Hungary | BU55: =BU54+1 -> 53 | BV55: =BV29 -> A3 | BW55: =BW29+1 -> 3 | BX55: =OFFSET(INDIRECT(BV55),0,BW55) -> Péter Gulácsi | BY55: =COUNTIF('Group Stages'!$J$8:$Q$80,BX55)+COUNTIF('Knock Out Stages'!$K$7:$R$45,BX55) -> 0 | BZ55: =BZ29 -> 'Player Database'!b6 | CA55: =OFFSET(INDIRECT(BZ55),0,BW55) -> Péter Gulácsi | CB55: 52 | CC55: {=IFERROR(INDEX($BX$3:$BX$810, SMALL(IF(COUNTIF(CC$3, $BY$3:$BY$810), ROW($BX$3:$BX$810)-MIN(ROW($BX$3:$BX$810))+1), $CB55), 0),"")} | CS55: =CS54+1 -> 52 | CT55: =CT13+1 -> 2 | CU55: CR13 | CV55: =OFFSET(INDIRECT(CU55),0,-CT55) | CW55: =IF(CV55<>"",CW54+1,CW54) -> 0 | CZ55: 52 | DA55: =IFERROR(INDEX($CV$4:$CV$633,MATCH(CZ55,$CW$4:$CW$633,0),0),"") | DB55: =IFERROR(VLOOKUP(DA55,$BX$3:$BY$810,2,FALSE),"") | DC55: =IFERROR(VLOOKUP(DA55,$BX$3:$CA$810,4,FALSE),"") | DD55: =IFERROR(INDEX($BT$3:$BT$810,MATCH(DA55,$BX$3:$BX$810,0),0),"")
A56: 2 | BT56: =OFFSET($A$2,0,BW56) -> Hungary | BU56: =BU55+1 -> 54 | BV56: =BV30 -> A4 | BW56: =BW30+1 -> 3 | BX56: =OFFSET(INDIRECT(BV56),0,BW56) -> Ádám Lang | BY56: =COUNTIF('Group Stages'!$J$8:$Q$80,BX56)+COUNTIF('Knock Out Stages'!$K$7:$R$45,BX56) -> 0 | BZ56: =BZ30 -> 'Player Database'!b7 | CA56: =OFFSET(INDIRECT(BZ56),0,BW56) -> Ádám Lang | CB56: 53 | CC56: {=IFERROR(INDEX($BX$3:$BX$810, SMALL(IF(COUNTIF(CC$3, $BY$3:$BY$810), ROW($BX$3:$BX$810)-MIN(ROW($BX$3:$BX$810))+1), $CB56), 0),"")} | CS56: =CS55+1 -> 53 | CT56: =CT14+1 -> 2 | CU56: CR14 | CV56: =OFFSET(INDIRECT(CU56),0,-CT56) | CW56: =IF(CV56<>"",CW55+1,CW55) -> 0 | CZ56: 53 | DA56: =IFERROR(INDEX($CV$4:$CV$633,MATCH(CZ56,$CW$4:$CW$633,0),0),"") | DB56: =IFERROR(VLOOKUP(DA56,$BX$3:$BY$810,2,FALSE),"") | DC56: =IFERROR(VLOOKUP(DA56,$BX$3:$CA$810,4,FALSE),"") | DD56: =IFERROR(INDEX($BT$3:$BT$810,MATCH(DA56,$BX$3:$BX$810,0),0),"")
A57: 1 | B57: =B3 -> Manuel Neuer | C57: =C3 -> Angus Gunn | D57: =D3 -> Péter Gulácsi | E57: =E3 -> Yann Sommer | F57: =F3 -> Gianluigi Donnarumma | G57: =G3 -> Etrit Berisha | H57: =H3 -> David Raya | I57: =I3 -> Dominik Livaković | ... Y57: =Y3 -> Giorgi Loria | BT57: =OFFSET($A$2,0,BW57) -> Hungary | BU57: =BU56+1 -> 55 | BV57: =BV31 -> A5 | BW57: =BW31+1 -> 3 | BX57: =OFFSET(INDIRECT(BV57),0,BW57) -> Botond Balogh | BY57: =COUNTIF('Group Stages'!$J$8:$Q$80,BX57)+COUNTIF('Knock Out Stages'!$K$7:$R$45,BX57) -> 0 | BZ57: =BZ31 -> 'Player Database'!b8 | CA57: =OFFSET(INDIRECT(BZ57),0,BW57) -> Botond Balogh | CB57: 54 | CC57: {=IFERROR(INDEX($BX$3:$BX$810, SMALL(IF(COUNTIF(CC$3, $BY$3:$BY$810), ROW($BX$3:$BX$810)-MIN(ROW($BX$3:$BX$810))+1), $CB57), 0),"")} | CS57: =CS56+1 -> 54 | CT57: =CT15+1 -> 2 | CU57: CR15 | CV57: =OFFSET(INDIRECT(CU57),0,-CT57) | CW57: =IF(CV57<>"",CW56+1,CW56) -> 0 | CZ57: 54 | DA57: =IFERROR(INDEX($CV$4:$CV$633,MATCH(CZ57,$CW$4:$CW$633,0),0),"") | DB57: =IFERROR(VLOOKUP(DA57,$BX$3:$BY$810,2,FALSE),"") | DC57: =IFERROR(VLOOKUP(DA57,$BX$3:$CA$810,4,FALSE),"") | DD57: =IFERROR(INDEX($BT$3:$BT$810,MATCH(DA57,$BX$3:$BX$810,0),0),"")
A58: 2 | B58: =B4 -> Antonio Rüdiger | C58: =C4 -> Anthony Ralston | D58: =D4 -> Ádám Lang | E58: =E4 -> Leonidas Stergiou | F58: =F4 -> Giovanni Di Lorenzo | G58: =G4 -> Iván Balliu | H58: =H4 -> Dani Carvajal | I58: =I4 -> Josip Stanišić | ... Y58: =Y4 -> Otar Kakabadze | BT58: =OFFSET($A$2,0,BW58) -> Hungary | BU58: =BU57+1 -> 56 | BV58: =BV32 -> A6 | BW58: =BW32+1 -> 3 | BX58: =OFFSET(INDIRECT(BV58),0,BW58) -> Attila Szalai | BY58: =COUNTIF('Group Stages'!$J$8:$Q$80,BX58)+COUNTIF('Knock Out Stages'!$K$7:$R$45,BX58) -> 0 | BZ58: =BZ32 -> 'Player Database'!b9 | CA58: =OFFSET(INDIRECT(BZ58),0,BW58) -> Attila Szalai | CB58: 55 | CC58: {=IFERROR(INDEX($BX$3:$BX$810, SMALL(IF(COUNTIF(CC$3, $BY$3:$BY$810), ROW($BX$3:$BX$810)-MIN(ROW($BX$3:$BX$810))+1), $CB58), 0),"")} | CS58: =CS57+1 -> 55 | CT58: =CT16+1 -> 2 | CU58: CR16 | CV58: =OFFSET(INDIRECT(CU58),0,-CT58) | CW58: =IF(CV58<>"",CW57+1,CW57) -> 0 | CZ58: 55 | DA58: =IFERROR(INDEX($CV$4:$CV$633,MATCH(CZ58,$CW$4:$CW$633,0),0),"") | DB58: =IFERROR(VLOOKUP(DA58,$BX$3:$BY$810,2,FALSE),"") | DC58: =IFERROR(VLOOKUP(DA58,$BX$3:$CA$810,4,FALSE),"") | DD58: =IFERROR(INDEX($BT$3:$BT$810,MATCH(DA58,$BX$3:$BX$810,0),0),"")
A59: 3 | B59: =B5 -> David Raum | C59: =C5 -> Andrew Robertson | D59: =D5 -> Botond Balogh | E59: =E5 -> Silvan Widmer | F59: =F5 -> Federico Dimarco | G59: =G5 -> Mario Mitaj | H59: =H5 -> Robin Le Normand | I59: =I5 -> Marin Pongračić | ... Y59: =Y5 -> Lasha Dvali | BT59: =OFFSET($A$2,0,BW59) -> Hungary | BU59: =BU58+1 -> 57 | BV59: =BV33 -> A7 | BW59: =BW33+1 -> 3 | BX59: =OFFSET(INDIRECT(BV59),0,BW59) -> Attila Fiola | BY59: =COUNTIF('Group Stages'!$J$8:$Q$80,BX59)+COUNTIF('Knock Out Stages'!$K$7:$R$45,BX59) -> 0 | BZ59: =BZ33 -> 'Player Database'!b10 | CA59: =OFFSET(INDIRECT(BZ59),0,BW59) -> Attila Fiola | CB59: 56 | CC59: {=IFERROR(INDEX($BX$3:$BX$810, SMALL(IF(COUNTIF(CC$3, $BY$3:$BY$810), ROW($BX$3:$BX$810)-MIN(ROW($BX$3:$BX$810))+1), $CB59), 0),"")} | CS59: =CS58+1 -> 56 | CT59: =CT17+1 -> 2 | CU59: CR17 | CV59: =OFFSET(INDIRECT(CU59),0,-CT59) | CW59: =IF(CV59<>"",CW58+1,CW58) -> 0 | CZ59: 56 | DA59: =IFERROR(INDEX($CV$4:$CV$633,MATCH(CZ59,$CW$4:$CW$633,0),0),"") | DB59: =IFERROR(VLOOKUP(DA59,$BX$3:$BY$810,2,FALSE),"") | DC59: =IFERROR(VLOOKUP(DA59,$BX$3:$CA$810,4,FALSE),"") | DD59: =IFERROR(INDEX($BT$3:$BT$810,MATCH(DA59,$BX$3:$BX$810,0),0),"")
A60: 4 | B60: =B6 -> Jonathan Tah | C60: =C6 -> Scott McTominay | D60: =D6 -> Attila Szalai | E60: =E6 -> Nico Elvedi | F60: =F6 -> Alessandro Buongiorno | G60: =G6 -> Elseid Hysaj | H60: =H6 -> Nacho | I60: =I6 -> Joško Gvardiol | ... Y60: =Y6 -> Guram Kashia | BT60: =OFFSET($A$2,0,BW60) -> Hungary | BU60: =BU59+1 -> 58 | BV60: =BV34 -> A8 | BW60: =BW34+1 -> 3 | BX60: =OFFSET(INDIRECT(BV60),0,BW60) -> Willi Orbán | BY60: =COUNTIF('Group Stages'!$J$8:$Q$80,BX60)+COUNTIF('Knock Out Stages'!$K$7:$R$45,BX60) -> 0 | BZ60: =BZ34 -> 'Player Database'!b11 | CA60: =OFFSET(INDIRECT(BZ60),0,BW60) -> Willi Orbán | CB60: 57 | CC60: {=IFERROR(INDEX($BX$3:$BX$810, SMALL(IF(COUNTIF(CC$3, $BY$3:$BY$810), ROW($BX$3:$BX$810)-MIN(ROW($BX$3:$BX$810))+1), $CB60), 0),"")} | CS60: =CS59+1 -> 57 | CT60: =CT18+1 -> 2 | CU60: CR18 | CV60: =OFFSET(INDIRECT(CU60),0,-CT60) | CW60: =IF(CV60<>"",CW59+1,CW59) -> 0 | CZ60: 57 | DA60: =IFERROR(INDEX($CV$4:$CV$633,MATCH(CZ60,$CW$4:$CW$633,0),0),"") | DB60: =IFERROR(VLOOKUP(DA60,$BX$3:$BY$810,2,FALSE),"") | DC60: =IFERROR(VLOOKUP(DA60,$BX$3:$CA$810,4,FALSE),"") | DD60: =IFERROR(INDEX($BT$3:$BT$810,MATCH(DA60,$BX$3:$BX$810,0),0),"")
A61: 5 | B61: =B7 -> Pascal Groß | C61: =C7 -> Grant Hanley | D61: =D7 -> Attila Fiola | E61: =E7 -> Manuel Akanji | F61: =F7 -> Riccardo Calafiori | G61: =G7 -> Arlind Ajeti | H61: =H7 -> Daniel Vivian | I61: =I7 -> Martin Erlić | ... Y61: =Y7 -> Solomon Kvirkvelia | BT61: =OFFSET($A$2,0,BW61) -> Hungary | BU61: =BU60+1 -> 59 | BV61: =BV35 -> A9 | BW61: =BW35+1 -> 3 | BX61: =OFFSET(INDIRECT(BV61),0,BW61) -> Loïc Négo | BY61: =COUNTIF('Group Stages'!$J$8:$Q$80,BX61)+COUNTIF('Knock Out Stages'!$K$7:$R$45,BX61) -> 0 | BZ61: =BZ35 -> 'Player Database'!b12 | CA61: =OFFSET(INDIRECT(BZ61),0,BW61) -> Loïc Négo | CB61: 58 | CC61: {=IFERROR(INDEX($BX$3:$BX$810, SMALL(IF(COUNTIF(CC$3, $BY$3:$BY$810), ROW($BX$3:$BX$810)-MIN(ROW($BX$3:$BX$810))+1), $CB61), 0),"")} | CS61: =CS60+1 -> 58 | CT61: =CT19+1 -> 2 | CU61: CR19 | CV61: =OFFSET(INDIRECT(CU61),0,-CT61) | CW61: =IF(CV61<>"",CW60+1,CW60) -> 0 | CZ61: 58 | DA61: =IFERROR(INDEX($CV$4:$CV$633,MATCH(CZ61,$CW$4:$CW$633,0),0),"") | DB61: =IFERROR(VLOOKUP(DA61,$BX$3:$BY$810,2,FALSE),"") | DC61: =IFERROR(VLOOKUP(DA61,$BX$3:$CA$810,4,FALSE),"") | DD61: =IFERROR(INDEX($BT$3:$BT$810,MATCH(DA61,$BX$3:$BX$810,0),0),"")
A62: 6 | B62: =B8 -> Joshua Kimmich | C62: =C8 -> Kieran Tierney | D62: =D8 -> Willi Orbán | E62: =E8 -> Denis Zakaria | F62: =F8 -> Federico Gatti | G62: =G8 -> Berat Djimsiti | H62: =H8 -> Mikel Merino | I62: =I8 -> Josip Šutalo | ... Y62: =Y8 -> Giorgi Kochorashvili | BT62: =OFFSET($A$2,0,BW62) -> Hungary | BU62: =BU61+1 -> 60 | BV62: =BV36 -> A10 | BW62: =BW36+1 -> 3 | BX62: =OFFSET(INDIRECT(BV62),0,BW62) -> Ádám Nagy | BY62: =COUNTIF('Group Stages'!$J$8:$Q$80,BX62)+COUNTIF('Knock Out Stages'!$K$7:$R$45,BX62) -> 0 | BZ62: =BZ36 -> 'Player Database'!b13 | CA62: =OFFSET(INDIRECT(BZ62),0,BW62) -> Ádám Nagy | CB62: 59 | CC62: {=IFERROR(INDEX($BX$3:$BX$810, SMALL(IF(COUNTIF(CC$3, $BY$3:$BY$810), ROW($BX$3:$BX$810)-MIN(ROW($BX$3:$BX$810))+1), $CB62), 0),"")} | CS62: =CS61+1 -> 59 | CT62: =CT20+1 -> 2 | CU62: CR20 | CV62: =OFFSET(INDIRECT(CU62),0,-CT62) | CW62: =IF(CV62<>"",CW61+1,CW61) -> 0 | CZ62: 59 | DA62: =IFERROR(INDEX($CV$4:$CV$633,MATCH(CZ62,$CW$4:$CW$633,0),0),"") | DB62: =IFERROR(VLOOKUP(DA62,$BX$3:$BY$810,2,FALSE),"") | DC62: =IFERROR(VLOOKUP(DA62,$BX$3:$CA$810,4,FALSE),"") | DD62: =IFERROR(INDEX($BT$3:$BT$810,MATCH(DA62,$BX$3:$BX$810,0),0),"")
A63: 7 | B63: =B9 -> Kai Havertz | C63: =C9 -> John McGinn | D63: =D9 -> Loïc Négo | E63: =E9 -> Breel Embolo | F63: =F9 -> Davide Frattesi | G63: =G9 -> Rey Manaj | H63: =H9 -> Álvaro Morata | I63: =I9 -> Lovro Majer | ... Y63: =Y9 -> Khvicha Kvaratskhelia | BT63: =OFFSET($A$2,0,BW63) -> Hungary | BU63: =BU62+1 -> 61 | BV63: =BV37 -> A11 | BW63: =BW37+1 -> 3 | BX63: =OFFSET(INDIRECT(BV63),0,BW63) -> Martin Ádám | BY63: =COUNTIF('Group Stages'!$J$8:$Q$80,BX63)+COUNTIF('Knock Out Stages'!$K$7:$R$45,BX63) -> 0 | BZ63: =BZ37 -> 'Player Database'!b14 | CA63: =OFFSET(INDIRECT(BZ63),0,BW63) -> Martin Ádám | CB63: 60 | CC63: {=IFERROR(INDEX($BX$3:$BX$810, SMALL(IF(COUNTIF(CC$3, $BY$3:$BY$810), ROW($BX$3:$BX$810)-MIN(ROW($BX$3:$BX$810))+1), $CB63), 0),"")} | CS63: =CS62+1 -> 60 | CT63: =CT21+1 -> 2 | CU63: CR21 | CV63: =OFFSET(INDIRECT(CU63),0,-CT63) | CW63: =IF(CV63<>"",CW62+1,CW62) -> 0 | CZ63: 60 | DA63: =IFERROR(INDEX($CV$4:$CV$633,MATCH(CZ63,$CW$4:$CW$633,0),0),"") | DB63: =IFERROR(VLOOKUP(DA63,$BX$3:$BY$810,2,FALSE),"") | DC63: =IFERROR(VLOOKUP(DA63,$BX$3:$CA$810,4,FALSE),"") | DD63: =IFERROR(INDEX($BT$3:$BT$810,MATCH(DA63,$BX$3:$BX$810,0),0),"")
A64: 8 | B64: =B10 -> Toni Kroos | C64: =C10 -> Callum McGregor | D64: =D10 -> Ádám Nagy | E64: =E10 -> Remo Freuler | F64: =F10 -> Jorginho | G64: =G10 -> Klaus Gjasula | H64: =H10 -> Fabián Ruiz | I64: =I10 -> Mateo Kovačić | ... Y64: =Y10 -> Budu Zivzivadze | BT64: =OFFSET($A$2,0,BW64) -> Hungary | BU64: =BU63+1 -> 62 | BV64: =BV38 -> A12 | BW64: =BW38+1 -> 3 | BX64: =OFFSET(INDIRECT(BV64),0,BW64) -> Dominik Szoboszlai | BY64: =COUNTIF('Group Stages'!$J$8:$Q$80,BX64)+COUNTIF('Knock Out Stages'!$K$7:$R$45,BX64) -> 0 | BZ64: =BZ38 -> 'Player Database'!b15 | CA64: =OFFSET(INDIRECT(BZ64),0,BW64) -> Dominik Szoboszlai | CB64: 61 | CC64: {=IFERROR(INDEX($BX$3:$BX$810, SMALL(IF(COUNTIF(CC$3, $BY$3:$BY$810), ROW($BX$3:$BX$810)-MIN(ROW($BX$3:$BX$810))+1), $CB64), 0),"")} | CS64: =CS63+1 -> 61 | CT64: =CT22+1 -> 2 | CU64: CR22 | CV64: =OFFSET(INDIRECT(CU64),0,-CT64) | CW64: =IF(CV64<>"",CW63+1,CW63) -> 0 | CZ64: 61 | DA64: =IFERROR(INDEX($CV$4:$CV$633,MATCH(CZ64,$CW$4:$CW$633,0),0),"") | DB64: =IFERROR(VLOOKUP(DA64,$BX$3:$BY$810,2,FALSE),"") | DC64: =IFERROR(VLOOKUP(DA64,$BX$3:$CA$810,4,FALSE),"") | DD64: =IFERROR(INDEX($BT$3:$BT$810,MATCH(DA64,$BX$3:$BX$810,0),0),"")
A65: 9 | B65: =B11 -> Niclas Füllkrug | C65: =C11 -> Lawrence Shankland | D65: =D11 -> Martin Ádám | E65: =E11 -> Noah Okafor | F65: =F11 -> Gianluca Scamacca | G65: =G11 -> Jasir Asani | H65: =H11 -> Joselu | I65: =I11 -> Andrej Kramarić | ... Y65: =Y11 -> Zuriko Davitashvili | BT65: =OFFSET($A$2,0,BW65) -> Hungary | BU65: =BU64+1 -> 63 | BV65: =BV39 -> A13 | BW65: =BW39+1 -> 3 | BX65: =OFFSET(INDIRECT(BV65),0,BW65) -> Milos Kerkez | BY65: =COUNTIF('Group Stages'!$J$8:$Q$80,BX65)+COUNTIF('Knock Out Stages'!$K$7:$R$45,BX65) -> 0 | BZ65: =BZ39 -> 'Player Database'!b16 | CA65: =OFFSET(INDIRECT(BZ65),0,BW65) -> Milos Kerkez | CB65: 62 | CC65: {=IFERROR(INDEX($BX$3:$BX$810, SMALL(IF(COUNTIF(CC$3, $BY$3:$BY$810), ROW($BX$3:$BX$810)-MIN(ROW($BX$3:$BX$810))+1), $CB65), 0),"")} | CS65: =CS64+1 -> 62 | CT65: =CT23+1 -> 2 | CU65: CR23 | CV65: =OFFSET(INDIRECT(CU65),0,-CT65) | CW65: =IF(CV65<>"",CW64+1,CW64) -> 0 | CZ65: 62 | DA65: =IFERROR(INDEX($CV$4:$CV$633,MATCH(CZ65,$CW$4:$CW$633,0),0),"") | DB65: =IFERROR(VLOOKUP(DA65,$BX$3:$BY$810,2,FALSE),"") | DC65: =IFERROR(VLOOKUP(DA65,$BX$3:$CA$810,4,FALSE),"") | DD65: =IFERROR(INDEX($BT$3:$BT$810,MATCH(DA65,$BX$3:$BX$810,0),0),"")
A66: 10 | B66: =B12 -> Jamal Musiala | C66: =C12 -> Ché Adams | D66: =D12 -> Dominik Szoboszlai | E66: =E12 -> Granit Xhaka | F66: =F12 -> Lorenzo Pellegrini | G66: =G12 -> Nedim Bajrami | H66: =H12 -> Dani Olmo | I66: =I12 -> Luka Modrić | ... Y66: =Y12 -> Giorgi Chakvetadze | BT66: =OFFSET($A$2,0,BW66) -> Hungary | BU66: =BU65+1 -> 64 | BV66: =BV40 -> A14 | BW66: =BW40+1 -> 3 | BX66: =OFFSET(INDIRECT(BV66),0,BW66) -> Dénes Dibusz | BY66: =COUNTIF('Group Stages'!$J$8:$Q$80,BX66)+COUNTIF('Knock Out Stages'!$K$7:$R$45,BX66) -> 0 | BZ66: =BZ40 -> 'Player Database'!b17 | CA66: =OFFSET(INDIRECT(BZ66),0,BW66) -> Dénes Dibusz | CB66: 63 | CC66: {=IFERROR(INDEX($BX$3:$BX$810, SMALL(IF(COUNTIF(CC$3, $BY$3:$BY$810), ROW($BX$3:$BX$810)-MIN(ROW($BX$3:$BX$810))+1), $CB66), 0),"")} | CS66: =CS65+1 -> 63 | CT66: =CT24+1 -> 2 | CU66: CR24 | CV66: =OFFSET(INDIRECT(CU66),0,-CT66) | CW66: =IF(CV66<>"",CW65+1,CW65) -> 0 | CZ66: 63 | DA66: =IFERROR(INDEX($CV$4:$CV$633,MATCH(CZ66,$CW$4:$CW$633,0),0),"") | DB66: =IFERROR(VLOOKUP(DA66,$BX$3:$BY$810,2,FALSE),"") | DC66: =IFERROR(VLOOKUP(DA66,$BX$3:$CA$810,4,FALSE),"") | DD66: =IFERROR(INDEX($BT$3:$BT$810,MATCH(DA66,$BX$3:$BX$810,0),0),"")
A67: 11 | B67: =B13 -> Chris Führich | C67: =C13 -> Ryan Christie | D67: =D13 -> Milos Kerkez | E67: =E13 -> Renato Steffen | F67: =F13 -> Giacomo Raspadori | G67: =G13 -> Armando Broja | H67: =H13 -> Ferran Torres | I67: =I13 -> Marcelo Brozović | ... Y67: =Y13 -> Giorgi Kvilitaia | BT67: =OFFSET($A$2,0,BW67) -> Hungary | BU67: =BU66+1 -> 65 | BV67: =BV41 -> A15 | BW67: =BW41+1 -> 3 | BX67: =OFFSET(INDIRECT(BV67),0,BW67) -> András Schäfer | BY67: =COUNTIF('Group Stages'!$J$8:$Q$80,BX67)+COUNTIF('Knock Out Stages'!$K$7:$R$45,BX67) -> 0 | BZ67: =BZ41 -> 'Player Database'!b18 | CA67: =OFFSET(INDIRECT(BZ67),0,BW67) -> András Schäfer | CB67: 64 | CC67: {=IFERROR(INDEX($BX$3:$BX$810, SMALL(IF(COUNTIF(CC$3, $BY$3:$BY$810), ROW($BX$3:$BX$810)-MIN(ROW($BX$3:$BX$810))+1), $CB67), 0),"")} | CS67: =CS66+1 -> 64 | CT67: =CT25+1 -> 2 | CU67: CR25 | CV67: =OFFSET(INDIRECT(CU67),0,-CT67) | CW67: =IF(CV67<>"",CW66+1,CW66) -> 0 | CZ67: 64 | DA67: =IFERROR(INDEX($CV$4:$CV$633,MATCH(CZ67,$CW$4:$CW$633,0),0),"") | DB67: =IFERROR(VLOOKUP(DA67,$BX$3:$BY$810,2,FALSE),"") | DC67: =IFERROR(VLOOKUP(DA67,$BX$3:$CA$810,4,FALSE),"") | DD67: =IFERROR(INDEX($BT$3:$BT$810,MATCH(DA67,$BX$3:$BX$810,0),0),"")
A68: 12 | B68: =B14 -> Oliver Baumann | C68: =C14 -> Liam Kelly | D68: =D14 -> Dénes Dibusz | E68: =E14 -> Yvon Mvogo | F68: =F14 -> Guglielmo Vicario | G68: =G14 -> Elhan Kastrati | H68: =H14 -> Álex Grimaldo | I68: =I14 -> Nediljko Labrović | ... Y68: =Y14 -> Luka Gugeshashvili | BT68: =OFFSET($A$2,0,BW68) -> Hungary | BU68: =BU67+1 -> 66 | BV68: =BV42 -> A16 | BW68: =BW42+1 -> 3 | BX68: =OFFSET(INDIRECT(BV68),0,BW68) -> Bendegúz Bolla | BY68: =COUNTIF('Group Stages'!$J$8:$Q$80,BX68)+COUNTIF('Knock Out Stages'!$K$7:$R$45,BX68) -> 0 | BZ68: =BZ42 -> 'Player Database'!b19 | CA68: =OFFSET(INDIRECT(BZ68),0,BW68) -> Bendegúz Bolla | CB68: 65 | CC68: {=IFERROR(INDEX($BX$3:$BX$810, SMALL(IF(COUNTIF(CC$3, $BY$3:$BY$810), ROW($BX$3:$BX$810)-MIN(ROW($BX$3:$BX$810))+1), $CB68), 0),"")} | CS68: =CS67+1 -> 65 | CT68: =CT26+1 -> 2 | CU68: CR26 | CV68: =OFFSET(INDIRECT(CU68),0,-CT68) | CW68: =IF(CV68<>"",CW67+1,CW67) -> 0 | CZ68: 65 | DA68: =IFERROR(INDEX($CV$4:$CV$633,MATCH(CZ68,$CW$4:$CW$633,0),0),"") | DB68: =IFERROR(VLOOKUP(DA68,$BX$3:$BY$810,2,FALSE),"") | DC68: =IFERROR(VLOOKUP(DA68,$BX$3:$CA$810,4,FALSE),"") | DD68: =IFERROR(INDEX($BT$3:$BT$810,MATCH(DA68,$BX$3:$BX$810,0),0),"")
... A82: 26 | B82: =B28 -> Deniz Undav | C82: =C28 -> Scott McKenna | D82: =D28 -> Mihály Kata | E82: =E28 -> Fabian Rieder | F82: =F28 -> Alex Meret | G82: =G28 -> Arbër Hoxha | H82: =H28 -> Ayoze Pérez | I82: =I28 -> Martin Baturina | ... Y82: =Y28 -> Gabriel Sigua | BT82: =OFFSET($A$2,0,BW82) -> Switzerland | BU82: =BU81+1 -> 80 | BV82: =BV56 -> A4 | BW82: =BW56+1 -> 4 | BX82: =OFFSET(INDIRECT(BV82),0,BW82) -> Leonidas Stergiou | BY82: =COUNTIF('Group Stages'!$J$8:$Q$80,BX82)+COUNTIF('Knock Out Stages'!$K$7:$R$45,BX82) -> 0 | BZ82: =BZ56 -> 'Player Database'!b7 | CA82: =OFFSET(INDIRECT(BZ82),0,BW82) -> Leonidas Stergiou | CB82: 79 | CC82: {=IFERROR(INDEX($BX$3:$BX$810, SMALL(IF(COUNTIF(CC$3, $BY$3:$BY$810), ROW($BX$3:$BX$810)-MIN(ROW($BX$3:$BX$810))+1), $CB82), 0),"")} | CS82: =CS81+1 -> 79 | CT82: =CT40+1 -> 2 | CU82: CR40 | CV82: =OFFSET(INDIRECT(CU82),0,-CT82) | CW82: =IF(CV82<>"",CW81+1,CW81) -> 0 | CZ82: 79 | DA82: =IFERROR(INDEX($CV$4:$CV$633,MATCH(CZ82,$CW$4:$CW$633,0),0),"") | DB82: =IFERROR(VLOOKUP(DA82,$BX$3:$BY$810,2,FALSE),"") | DC82: =IFERROR(VLOOKUP(DA82,$BX$3:$CA$810,4,FALSE),"") | DD82: =IFERROR(INDEX($BT$3:$BT$810,MATCH(DA82,$BX$3:$BX$810,0),0),"")
A83: =A57 -> 1 | B83: =D3&" (og)" -> Péter Gulácsi (og) | C83: =D3&" (og)" -> Péter Gulácsi (og) | D83: =C3&" (og)" -> Angus Gunn (og) | E83: =C3&" (og)" -> Angus Gunn (og) | F83: =H3&" (og)" -> David Raya (og) | G83: =H3&" (og)" -> David Raya (og) | H83: =G3&" (og)" -> Etrit Berisha (og) | I83: =G3&" (og)" -> Etrit Berisha (og) | J83: =L3&" (og)" -> Jan Oblak (og) | K83: =L3&" (og)" -> Jan Oblak (og) | L83: =K3&" (og)" -> Jordan Pickford (og) | M83: =K3&" (og)" -> Jordan Pickford (og) | N83: =P3&" (og)" -> Heinz Lindner (og) | O83: =P3&" (og)" -> Heinz Lindner (og) | P83: =O3&" (og)" -> Bart Verbruggen (og) | Q83: =O3&" (og)" -> Bart Verbruggen (og) | R83: =T3&" (og)" -> Florin Niță (og) | S83: =T3&" (og)" -> Florin Niță (og) | T83: =S3&" (og)" -> Martin Dúbravka (og) | U83: =S3&" (og)" -> Martin Dúbravka (og) | V83: =X3&" (og)" -> Mert Günok (og) | W83: =X3&" (og)" -> Mert Günok (og) | X83: =W3&" (og)" -> Jindřich Staněk (og) | Y83: =W3&" (og)" -> Jindřich Staněk (og) | BT83: =OFFSET($A$2,0,BW83) -> Switzerland | BU83: =BU82+1 -> 81 | BV83: =BV57 -> A5 | BW83: =BW57+1 -> 4 | BX83: =OFFSET(INDIRECT(BV83),0,BW83) -> Silvan Widmer | BY83: =COUNTIF('Group Stages'!$J$8:$Q$80,BX83)+COUNTIF('Knock Out Stages'!$K$7:$R$45,BX83) -> 0 | BZ83: =BZ57 -> 'Player Database'!b8 | CA83: =OFFSET(INDIRECT(BZ83),0,BW83) -> Silvan Widmer | CB83: 80 | CC83: {=IFERROR(INDEX($BX$3:$BX$810, SMALL(IF(COUNTIF(CC$3, $BY$3:$BY$810), ROW($BX$3:$BX$810)-MIN(ROW($BX$3:$BX$810))+1), $CB83), 0),"")} | CS83: =CS82+1 -> 80 | CT83: =CT41+1 -> 2 | CU83: CR41 | CV83: =OFFSET(INDIRECT(CU83),0,-CT83) | CW83: =IF(CV83<>"",CW82+1,CW82) -> 0 | CZ83: 80 | DA83: =IFERROR(INDEX($CV$4:$CV$633,MATCH(CZ83,$CW$4:$CW$633,0),0),"") | DB83: =IFERROR(VLOOKUP(DA83,$BX$3:$BY$810,2,FALSE),"") | DC83: =IFERROR(VLOOKUP(DA83,$BX$3:$CA$810,4,FALSE),"") | DD83: =IFERROR(INDEX($BT$3:$BT$810,MATCH(DA83,$BX$3:$BX$810,0),0),"")
A84: =A58 -> 2 | B84: =D4&" (og)" -> Ádám Lang (og) | C84: =D4&" (og)" -> Ádám Lang (og) | D84: =C4&" (og)" -> Anthony Ralston (og) | E84: =C4&" (og)" -> Anthony Ralston (og) | F84: =H4&" (og)" -> Dani Carvajal (og) | G84: =H4&" (og)" -> Dani Carvajal (og) | H84: =G4&" (og)" -> Iván Balliu (og) | I84: =G4&" (og)" -> Iván Balliu (og) | J84: =L4&" (og)" -> Žan Karničnik (og) | K84: =L4&" (og)" -> Žan Karničnik (og) | L84: =K4&" (og)" -> Kyle Walker (og) | M84: =K4&" (og)" -> Kyle Walker (og) | N84: =P4&" (og)" -> Maximilian Wöber (og) | O84: =P4&" (og)" -> Maximilian Wöber (og) | P84: =O4&" (og)" -> Lutsharel Geertruida (og) | Q84: =O4&" (og)" -> Lutsharel Geertruida (og) | R84: =T4&" (og)" -> Andrei Rațiu (og) | S84: =T4&" (og)" -> Andrei Rațiu (og) | T84: =S4&" (og)" -> Peter Pekarík (og) | U84: =S4&" (og)" -> Peter Pekarík (og) | V84: =X4&" (og)" -> Zeki Çelik (og) | W84: =X4&" (og)" -> Zeki Çelik (og) | X84: =W4&" (og)" -> David Zima (og) | Y84: =W4&" (og)" -> David Zima (og) | BT84: =OFFSET($A$2,0,BW84) -> Switzerland | BU84: =BU83+1 -> 82 | BV84: =BV58 -> A6 | BW84: =BW58+1 -> 4 | BX84: =OFFSET(INDIRECT(BV84),0,BW84) -> Nico Elvedi | BY84: =COUNTIF('Group Stages'!$J$8:$Q$80,BX84)+COUNTIF('Knock Out Stages'!$K$7:$R$45,BX84) -> 0 | BZ84: =BZ58 -> 'Player Database'!b9 | CA84: =OFFSET(INDIRECT(BZ84),0,BW84) -> Nico Elvedi | CB84: 81 | CC84: {=IFERROR(INDEX($BX$3:$BX$810, SMALL(IF(COUNTIF(CC$3, $BY$3:$BY$810), ROW($BX$3:$BX$810)-MIN(ROW($BX$3:$BX$810))+1), $CB84), 0),"")} | CS84: =CS83+1 -> 81 | CT84: =CT42+1 -> 2 | CU84: CR42 | CV84: =OFFSET(INDIRECT(CU84),0,-CT84) | CW84: =IF(CV84<>"",CW83+1,CW83) -> 0 | CZ84: 81 | DA84: =IFERROR(INDEX($CV$4:$CV$633,MATCH(CZ84,$CW$4:$CW$633,0),0),"") | DB84: =IFERROR(VLOOKUP(DA84,$BX$3:$BY$810,2,FALSE),"") | DC84: =IFERROR(VLOOKUP(DA84,$BX$3:$CA$810,4,FALSE),"") | DD84: =IFERROR(INDEX($BT$3:$BT$810,MATCH(DA84,$BX$3:$BX$810,0),0),"")
A85: =A59 -> 3 | B85: =D5&" (og)" -> Botond Balogh (og) | C85: =D5&" (og)" -> Botond Balogh (og) | D85: =C5&" (og)" -> Andrew Robertson (og) | E85: =C5&" (og)" -> Andrew Robertson (og) | F85: =H5&" (og)" -> Robin Le Normand (og) | G85: =H5&" (og)" -> Robin Le Normand (og) | H85: =G5&" (og)" -> Mario Mitaj (og) | I85: =G5&" (og)" -> Mario Mitaj (og) | J85: =L5&" (og)" -> Jure Balkovec (og) | K85: =L5&" (og)" -> Jure Balkovec (og) | L85: =K5&" (og)" -> Luke Shaw (og) | M85: =K5&" (og)" -> Luke Shaw (og) | N85: =P5&" (og)" -> Gernot Trauner (og) | O85: =P5&" (og)" -> Gernot Trauner (og) | P85: =O5&" (og)" -> Matthijs de Ligt (og) | Q85: =O5&" (og)" -> Matthijs de Ligt (og) | R85: =T5&" (og)" -> Radu Drăgușin (og) | S85: =T5&" (og)" -> Radu Drăgușin (og) | T85: =S5&" (og)" -> Denis Vavro (og) | U85: =S5&" (og)" -> Denis Vavro (og) | V85: =X5&" (og)" -> Merih Demiral (og) | W85: =X5&" (og)" -> Merih Demiral (og) | X85: =W5&" (og)" -> Tomáš Holeš (og) | Y85: =W5&" (og)" -> Tomáš Holeš (og) | BT85: =OFFSET($A$2,0,BW85) -> Switzerland | BU85: =BU84+1 -> 83 | BV85: =BV59 -> A7 | BW85: =BW59+1 -> 4 | BX85: =OFFSET(INDIRECT(BV85),0,BW85) -> Manuel Akanji | BY85: =COUNTIF('Group Stages'!$J$8:$Q$80,BX85)+COUNTIF('Knock Out Stages'!$K$7:$R$45,BX85) -> 0 | BZ85: =BZ59 -> 'Player Database'!b10 | CA85: =OFFSET(INDIRECT(BZ85),0,BW85) -> Manuel Akanji | CB85: 82 | CC85: {=IFERROR(INDEX($BX$3:$BX$810, SMALL(IF(COUNTIF(CC$3, $BY$3:$BY$810), ROW($BX$3:$BX$810)-MIN(ROW($BX$3:$BX$810))+1), $CB85), 0),"")} | CS85: =CS84+1 -> 82 | CT85: =CT43+1 -> 2 | CU85: CR43 | CV85: =OFFSET(INDIRECT(CU85),0,-CT85) | CW85: =IF(CV85<>"",CW84+1,CW84) -> 0 | CZ85: 82 | DA85: =IFERROR(INDEX($CV$4:$CV$633,MATCH(CZ85,$CW$4:$CW$633,0),0),"") | DB85: =IFERROR(VLOOKUP(DA85,$BX$3:$BY$810,2,FALSE),"") | DC85: =IFERROR(VLOOKUP(DA85,$BX$3:$CA$810,4,FALSE),"") | DD85: =IFERROR(INDEX($BT$3:$BT$810,MATCH(DA85,$BX$3:$BX$810,0),0),"")
A86: =A60 -> 4 | B86: =D6&" (og)" -> Attila Szalai (og) | C86: =D6&" (og)" -> Attila Szalai (og) | D86: =C6&" (og)" -> Scott McTominay (og) | E86: =C6&" (og)" -> Scott McTominay (og) | F86: =H6&" (og)" -> Nacho (og) | G86: =H6&" (og)" -> Nacho (og) | H86: =G6&" (og)" -> Elseid Hysaj (og) | I86: =G6&" (og)" -> Elseid Hysaj (og) | J86: =L6&" (og)" -> Miha Blažič (og) | K86: =L6&" (og)" -> Miha Blažič (og) | L86: =K6&" (og)" -> Declan Rice (og) | M86: =K6&" (og)" -> Declan Rice (og) | N86: =P6&" (og)" -> Kevin Danso (og) | O86: =P6&" (og)" -> Kevin Danso (og) | P86: =O6&" (og)" -> Virgil van Dijk (og) | Q86: =O6&" (og)" -> Virgil van Dijk (og) | R86: =T6&" (og)" -> Adrian Rus (og) | S86: =T6&" (og)" -> Adrian Rus (og) | T86: =S6&" (og)" -> Adam Obert (og) | U86: =S6&" (og)" -> Adam Obert (og) | V86: =X6&" (og)" -> Samet Akaydin (og) | W86: =X6&" (og)" -> Samet Akaydin (og) | X86: =W6&" (og)" -> Robin Hranáč (og) | Y86: =W6&" (og)" -> Robin Hranáč (og) | BT86: =OFFSET($A$2,0,BW86) -> Switzerland | BU86: =BU85+1 -> 84 | BV86: =BV60 -> A8 | BW86: =BW60+1 -> 4 | BX86: =OFFSET(INDIRECT(BV86),0,BW86) -> Denis Zakaria | BY86: =COUNTIF('Group Stages'!$J$8:$Q$80,BX86)+COUNTIF('Knock Out Stages'!$K$7:$R$45,BX86) -> 0 | BZ86: =BZ60 -> 'Player Database'!b11 | CA86: =OFFSET(INDIRECT(BZ86),0,BW86) -> Denis Zakaria | CB86: 83 | CC86: {=IFERROR(INDEX($BX$3:$BX$810, SMALL(IF(COUNTIF(CC$3, $BY$3:$BY$810), ROW($BX$3:$BX$810)-MIN(ROW($BX$3:$BX$810))+1), $CB86), 0),"")} | CS86: =CS85+1 -> 83 | CT86: =CT44+1 -> 2 | CU86: CR44 | CV86: =OFFSET(INDIRECT(CU86),0,-CT86) | CW86: =IF(CV86<>"",CW85+1,CW85) -> 0 | CZ86: 83 | DA86: =IFERROR(INDEX($CV$4:$CV$633,MATCH(CZ86,$CW$4:$CW$633,0),0),"") | DB86: =IFERROR(VLOOKUP(DA86,$BX$3:$BY$810,2,FALSE),"") | DC86: =IFERROR(VLOOKUP(DA86,$BX$3:$CA$810,4,FALSE),"") | DD86: =IFERROR(INDEX($BT$3:$BT$810,MATCH(DA86,$BX$3:$BX$810,0),0),"")
A87: =A61 -> 5 | B87: =D7&" (og)" -> Attila Fiola (og) | C87: =D7&" (og)" -> Attila Fiola (og) | D87: =C7&" (og)" -> Grant Hanley (og) | E87: =C7&" (og)" -> Grant Hanley (og) | F87: =H7&" (og)" -> Daniel Vivian (og) | G87: =H7&" (og)" -> Daniel Vivian (og) | H87: =G7&" (og)" -> Arlind Ajeti (og) | I87: =G7&" (og)" -> Arlind Ajeti (og) | J87: =L7&" (og)" -> Jon Gorenc Stanković (og) | K87: =L7&" (og)" -> Jon Gorenc Stanković (og) | L87: =K7&" (og)" -> John Stones (og) | M87: =K7&" (og)" -> John Stones (og) | N87: =P7&" (og)" -> Stefan Posch (og) | O87: =P7&" (og)" -> Stefan Posch (og) | P87: =O7&" (og)" -> Nathan Aké (og) | Q87: =O7&" (og)" -> Nathan Aké (og) | R87: =T7&" (og)" -> Ionuț Nedelcearu (og) | S87: =T7&" (og)" -> Ionuț Nedelcearu (og) | T87: =S7&" (og)" -> Tomáš Rigo (og) | U87: =S7&" (og)" -> Tomáš Rigo (og) | V87: =X7&" (og)" -> Okay Yokuşlu (og) | W87: =X7&" (og)" -> Okay Yokuşlu (og) | X87: =W7&" (og)" -> Vladimír Coufal (og) | Y87: =W7&" (og)" -> Vladimír Coufal (og) | BT87: =OFFSET($A$2,0,BW87) -> Switzerland | BU87: =BU86+1 -> 85 | BV87: =BV61 -> A9 | BW87: =BW61+1 -> 4 | BX87: =OFFSET(INDIRECT(BV87),0,BW87) -> Breel Embolo | BY87: =COUNTIF('Group Stages'!$J$8:$Q$80,BX87)+COUNTIF('Knock Out Stages'!$K$7:$R$45,BX87) -> 1 | BZ87: =BZ61 -> 'Player Database'!b12 | CA87: =OFFSET(INDIRECT(BZ87),0,BW87) -> Breel Embolo | CB87: 84 | CC87: {=IFERROR(INDEX($BX$3:$BX$810, SMALL(IF(COUNTIF(CC$3, $BY$3:$BY$810), ROW($BX$3:$BX$810)-MIN(ROW($BX$3:$BX$810))+1), $CB87), 0),"")} | CS87: =CS86+1 -> 84 | CT87: =CT45+1 -> 2 | CU87: CR45 | CV87: =OFFSET(INDIRECT(CU87),0,-CT87) | CW87: =IF(CV87<>"",CW86+1,CW86) -> 0 | CZ87: 84 | DA87: =IFERROR(INDEX($CV$4:$CV$633,MATCH(CZ87,$CW$4:$CW$633,0),0),"") | DB87: =IFERROR(VLOOKUP(DA87,$BX$3:$BY$810,2,FALSE),"") | DC87: =IFERROR(VLOOKUP(DA87,$BX$3:$CA$810,4,FALSE),"") | DD87: =IFERROR(INDEX($BT$3:$BT$810,MATCH(DA87,$BX$3:$BX$810,0),0),"")
A88: =A62 -> 6 | B88: =D8&" (og)" -> Willi Orbán (og) | C88: =D8&" (og)" -> Willi Orbán (og) | D88: =C8&" (og)" -> Kieran Tierney (og) | E88: =C8&" (og)" -> Kieran Tierney (og) | F88: =H8&" (og)" -> Mikel Merino (og) | G88: =H8&" (og)" -> Mikel Merino (og) | H88: =G8&" (og)" -> Berat Djimsiti (og) | I88: =G8&" (og)" -> Berat Djimsiti (og) | J88: =L8&" (og)" -> Jaka Bijol (og) | K88: =L8&" (og)" -> Jaka Bijol (og) | L88: =K8&" (og)" -> Marc Guéhi (og) | M88: =K8&" (og)" -> Marc Guéhi (og) | N88: =P8&" (og)" -> Nicolas Seiwald (og) | O88: =P8&" (og)" -> Nicolas Seiwald (og) | P88: =O8&" (og)" -> Stefan de Vrij (og) | Q88: =O8&" (og)" -> Stefan de Vrij (og) | R88: =T8&" (og)" -> Marius Marin (og) | S88: =T8&" (og)" -> Marius Marin (og) | T88: =S8&" (og)" -> Norbert Gyömbér (og) | U88: =S8&" (og)" -> Norbert Gyömbér (og) | V88: =X8&" (og)" -> Orkun Kökçü (og) | W88: =X8&" (og)" -> Orkun Kökçü (og) | X88: =W8&" (og)" -> Martin Vitík (og) | Y88: =W8&" (og)" -> Martin Vitík (og) | BT88: =OFFSET($A$2,0,BW88) -> Switzerland | BU88: =BU87+1 -> 86 | BV88: =BV62 -> A10 | BW88: =BW62+1 -> 4 | BX88: =OFFSET(INDIRECT(BV88),0,BW88) -> Remo Freuler | BY88: =COUNTIF('Group Stages'!$J$8:$Q$80,BX88)+COUNTIF('Knock Out Stages'!$K$7:$R$45,BX88) -> 0 | BZ88: =BZ62 -> 'Player Database'!b13 | CA88: =OFFSET(INDIRECT(BZ88),0,BW88) -> Remo Freuler | CB88: 85 | CC88: {=IFERROR(INDEX($BX$3:$BX$810, SMALL(IF(COUNTIF(CC$3, $BY$3:$BY$810), ROW($BX$3:$BX$810)-MIN(ROW($BX$3:$BX$810))+1), $CB88), 0),"")} | CS88: =CS87+1 -> 85 | CT88: =CT46+1 -> 3 | CU88: =CU46 -> CR4 | CV88: =OFFSET(INDIRECT(CU88),0,-CT88) | CW88: =IF(CV88<>"",CW87+1,CW87) -> 0 | CZ88: 85 | DA88: =IFERROR(INDEX($CV$4:$CV$633,MATCH(CZ88,$CW$4:$CW$633,0),0),"") | DB88: =IFERROR(VLOOKUP(DA88,$BX$3:$BY$810,2,FALSE),"") | DC88: =IFERROR(VLOOKUP(DA88,$BX$3:$CA$810,4,FALSE),"") | DD88: =IFERROR(INDEX($BT$3:$BT$810,MATCH(DA88,$BX$3:$BX$810,0),0),"")
A89: =A63 -> 7 | B89: =D9&" (og)" -> Loïc Négo (og) | C89: =D9&" (og)" -> Loïc Négo (og) | D89: =C9&" (og)" -> John McGinn (og) | E89: =C9&" (og)" -> John McGinn (og) | F89: =H9&" (og)" -> Álvaro Morata (og) | G89: =H9&" (og)" -> Álvaro Morata (og) | H89: =G9&" (og)" -> Rey Manaj (og) | I89: =G9&" (og)" -> Rey Manaj (og) | J89: =L9&" (og)" -> Benjamin Verbič (og) | K89: =L9&" (og)" -> Benjamin Verbič (og) | L89: =K9&" (og)" -> Bukayo Saka (og) | M89: =K9&" (og)" -> Bukayo Saka (og) | N89: =P9&" (og)" -> Marko Arnautović (og) | O89: =P9&" (og)" -> Marko Arnautović (og) | P89: =O9&" (og)" -> Xavi Simons (og) | Q89: =O9&" (og)" -> Xavi Simons (og) | R89: =T9&" (og)" -> Denis Alibec (og) | S89: =T9&" (og)" -> Denis Alibec (og) | T89: =S9&" (og)" -> Tomáš Suslov (og) | U89: =S9&" (og)" -> Tomáš Suslov (og) | V89: =X9&" (og)" -> Kerem Aktürkoğlu (og) | W89: =X9&" (og)" -> Kerem Aktürkoğlu (og) | X89: =W9&" (og)" -> Antonín Barák (og) | Y89: =W9&" (og)" -> Antonín Barák (og) | BT89: =OFFSET($A$2,0,BW89) -> Switzerland | BU89: =BU88+1 -> 87 | BV89: =BV63 -> A11 | BW89: =BW63+1 -> 4 | BX89: =OFFSET(INDIRECT(BV89),0,BW89) -> Noah Okafor | BY89: =COUNTIF('Group Stages'!$J$8:$Q$80,BX89)+COUNTIF('Knock Out Stages'!$K$7:$R$45,BX89) -> 0 | BZ89: =BZ63 -> 'Player Database'!b14 | CA89: =OFFSET(INDIRECT(BZ89),0,BW89) -> Noah Okafor | CB89: 86 | CC89: {=IFERROR(INDEX($BX$3:$BX$810, SMALL(IF(COUNTIF(CC$3, $BY$3:$BY$810), ROW($BX$3:$BX$810)-MIN(ROW($BX$3:$BX$810))+1), $CB89), 0),"")} | CS89: =CS88+1 -> 86 | CT89: =CT47+1 -> 3 | CU89: =CU47 -> CR5 | CV89: =OFFSET(INDIRECT(CU89),0,-CT89) | CW89: =IF(CV89<>"",CW88+1,CW88) -> 0 | CZ89: 86 | DA89: =IFERROR(INDEX($CV$4:$CV$633,MATCH(CZ89,$CW$4:$CW$633,0),0),"") | DB89: =IFERROR(VLOOKUP(DA89,$BX$3:$BY$810,2,FALSE),"") | DC89: =IFERROR(VLOOKUP(DA89,$BX$3:$CA$810,4,FALSE),"") | DD89: =IFERROR(INDEX($BT$3:$BT$810,MATCH(DA89,$BX$3:$BX$810,0),0),"")
A90: =A64 -> 8 | B90: =D10&" (og)" -> Ádám Nagy (og) | C90: =D10&" (og)" -> Ádám Nagy (og) | D90: =C10&" (og)" -> Callum McGregor (og) | E90: =C10&" (og)" -> Callum McGregor (og) | F90: =H10&" (og)" -> Fabián Ruiz (og) | G90: =H10&" (og)" -> Fabián Ruiz (og) | H90: =G10&" (og)" -> Klaus Gjasula (og) | I90: =G10&" (og)" -> Klaus Gjasula (og) | J90: =L10&" (og)" -> Sandi Lovrić (og) | K90: =L10&" (og)" -> Sandi Lovrić (og) | L90: =K10&" (og)" -> Trent Alexander-Arnold (og) | M90: =K10&" (og)" -> Trent Alexander-Arnold (og) | N90: =P10&" (og)" -> Alexander Prass (og) | O90: =P10&" (og)" -> Alexander Prass (og) | P90: =O10&" (og)" -> Georginio Wijnaldum (og) | Q90: =O10&" (og)" -> Georginio Wijnaldum (og) | R90: =T10&" (og)" -> Alexandru Cicâldău (og) | S90: =T10&" (og)" -> Alexandru Cicâldău (og) | T90: =S10&" (og)" -> Ondrej Duda (og) | U90: =S10&" (og)" -> Ondrej Duda (og) | V90: =X10&" (og)" -> Arda Güler (og) | W90: =X10&" (og)" -> Arda Güler (og) | X90: =W10&" (og)" -> Petr Ševčík (og) | Y90: =W10&" (og)" -> Petr Ševčík (og) | BT90: =OFFSET($A$2,0,BW90) -> Switzerland | BU90: =BU89+1 -> 88 | BV90: =BV64 -> A12 | BW90: =BW64+1 -> 4 | BX90: =OFFSET(INDIRECT(BV90),0,BW90) -> Granit Xhaka | BY90: =COUNTIF('Group Stages'!$J$8:$Q$80,BX90)+COUNTIF('Knock Out Stages'!$K$7:$R$45,BX90) -> 0 | BZ90: =BZ64 -> 'Player Database'!b15 | CA90: =OFFSET(INDIRECT(BZ90),0,BW90) -> Granit Xhaka | CB90: 87 | CC90: {=IFERROR(INDEX($BX$3:$BX$810, SMALL(IF(COUNTIF(CC$3, $BY$3:$BY$810), ROW($BX$3:$BX$810)-MIN(ROW($BX$3:$BX$810))+1), $CB90), 0),"")} | CS90: =CS89+1 -> 87 | CT90: =CT48+1 -> 3 | CU90: =CU48 -> CR6 | CV90: =OFFSET(INDIRECT(CU90),0,-CT90) | CW90: =IF(CV90<>"",CW89+1,CW89) -> 0 | CZ90: 87 | DA90: =IFERROR(INDEX($CV$4:$CV$633,MATCH(CZ90,$CW$4:$CW$633,0),0),"") | DB90: =IFERROR(VLOOKUP(DA90,$BX$3:$BY$810,2,FALSE),"") | DC90: =IFERROR(VLOOKUP(DA90,$BX$3:$CA$810,4,FALSE),"") | DD90: =IFERROR(INDEX($BT$3:$BT$810,MATCH(DA90,$BX$3:$BX$810,0),0),"")
A91: =A65 -> 9 | B91: =D11&" (og)" -> Martin Ádám (og) | C91: =D11&" (og)" -> Martin Ádám (og) | D91: =C11&" (og)" -> Lawrence Shankland (og) | E91: =C11&" (og)" -> Lawrence Shankland (og) | F91: =H11&" (og)" -> Joselu (og) | G91: =H11&" (og)" -> Joselu (og) | H91: =G11&" (og)" -> Jasir Asani (og) | I91: =G11&" (og)" -> Jasir Asani (og) | J91: =L11&" (og)" -> Andraž Šporar (og) | K91: =L11&" (og)" -> Andraž Šporar (og) | L91: =K11&" (og)" -> Harry Kane (og) | M91: =K11&" (og)" -> Harry Kane (og) | N91: =P11&" (og)" -> Marcel Sabitzer (og) | O91: =P11&" (og)" -> Marcel Sabitzer (og) | P91: =O11&" (og)" -> Wout Weghorst (og) | Q91: =O11&" (og)" -> Wout Weghorst (og) | R91: =T11&" (og)" -> George Pușcaș (og) | S91: =T11&" (og)" -> George Pușcaș (og) | T91: =S11&" (og)" -> Róbert Boženík (og) | U91: =S11&" (og)" -> Róbert Boženík (og) | V91: =X11&" (og)" -> Cenk Tosun (og) | W91: =X11&" (og)" -> Cenk Tosun (og) | X91: =W11&" (og)" -> Adam Hložek (og) | Y91: =W11&" (og)" -> Adam Hložek (og) | BT91: =OFFSET($A$2,0,BW91) -> Switzerland | BU91: =BU90+1 -> 89 | BV91: =BV65 -> A13 | BW91: =BW65+1 -> 4 | BX91: =OFFSET(INDIRECT(BV91),0,BW91) -> Renato Steffen | BY91: =COUNTIF('Group Stages'!$J$8:$Q$80,BX91)+COUNTIF('Knock Out Stages'!$K$7:$R$45,BX91) -> 0 | BZ91: =BZ65 -> 'Player Database'!b16 | CA91: =OFFSET(INDIRECT(BZ91),0,BW91) -> Renato Steffen | CB91: 88 | CC91: {=IFERROR(INDEX($BX$3:$BX$810, SMALL(IF(COUNTIF(CC$3, $BY$3:$BY$810), ROW($BX$3:$BX$810)-MIN(ROW($BX$3:$BX$810))+1), $CB91), 0),"")} | CS91: =CS90+1 -> 88 | CT91: =CT49+1 -> 3 | CU91: =CU49 -> CR7 | CV91: =OFFSET(INDIRECT(CU91),0,-CT91) | CW91: =IF(CV91<>"",CW90+1,CW90) -> 0 | CZ91: 88 | DA91: =IFERROR(INDEX($CV$4:$CV$633,MATCH(CZ91,$CW$4:$CW$633,0),0),"") | DB91: =IFERROR(VLOOKUP(DA91,$BX$3:$BY$810,2,FALSE),"") | DC91: =IFERROR(VLOOKUP(DA91,$BX$3:$CA$810,4,FALSE),"") | DD91: =IFERROR(INDEX($BT$3:$BT$810,MATCH(DA91,$BX$3:$BX$810,0),0),"")
A92: =A66 -> 10 | B92: =D12&" (og)" -> Dominik Szoboszlai (og) | C92: =D12&" (og)" -> Dominik Szoboszlai (og) | D92: =C12&" (og)" -> Ché Adams (og) | E92: =C12&" (og)" -> Ché Adams (og) | F92: =H12&" (og)" -> Dani Olmo (og) | G92: =H12&" (og)" -> Dani Olmo (og) | H92: =G12&" (og)" -> Nedim Bajrami (og) | I92: =G12&" (og)" -> Nedim Bajrami (og) | J92: =L12&" (og)" -> Timi Max Elšnik (og) | K92: =L12&" (og)" -> Timi Max Elšnik (og) | L92: =K12&" (og)" -> Jude Bellingham (og) | M92: =K12&" (og)" -> Jude Bellingham (og) | N92: =P12&" (og)" -> Florian Grillitsch (og) | O92: =P12&" (og)" -> Florian Grillitsch (og) | P92: =O12&" (og)" -> Memphis Depay (og) | Q92: =O12&" (og)" -> Memphis Depay (og) | R92: =T12&" (og)" -> Ianis Hagi (og) | S92: =T12&" (og)" -> Ianis Hagi (og) | T92: =S12&" (og)" -> Ľubomír Tupta (og) | U92: =S12&" (og)" -> Ľubomír Tupta (og) | V92: =X12&" (og)" -> Hakan Çalhanoğlu (og) | W92: =X12&" (og)" -> Hakan Çalhanoğlu (og) | X92: =W12&" (og)" -> Patrik Schick (og) | Y92: =W12&" (og)" -> Patrik Schick (og) | BT92: =OFFSET($A$2,0,BW92) -> Switzerland | BU92: =BU91+1 -> 90 | BV92: =BV66 -> A14 | BW92: =BW66+1 -> 4 | BX92: =OFFSET(INDIRECT(BV92),0,BW92) -> Yvon Mvogo | BY92: =COUNTIF('Group Stages'!$J$8:$Q$80,BX92)+COUNTIF('Knock Out Stages'!$K$7:$R$45,BX92) -> 0 | BZ92: =BZ66 -> 'Player Database'!b17 | CA92: =OFFSET(INDIRECT(BZ92),0,BW92) -> Yvon Mvogo | CB92: 89 | CC92: {=IFERROR(INDEX($BX$3:$BX$810, SMALL(IF(COUNTIF(CC$3, $BY$3:$BY$810), ROW($BX$3:$BX$810)-MIN(ROW($BX$3:$BX$810))+1), $CB92), 0),"")} | CS92: =CS91+1 -> 89 | CT92: =CT50+1 -> 3 | CU92: =CU50 -> CR8 | CV92: =OFFSET(INDIRECT(CU92),0,-CT92) | CW92: =IF(CV92<>"",CW91+1,CW91) -> 0 | CZ92: 89 | DA92: =IFERROR(INDEX($CV$4:$CV$633,MATCH(CZ92,$CW$4:$CW$633,0),0),"") | DB92: =IFERROR(VLOOKUP(DA92,$BX$3:$BY$810,2,FALSE),"") | DC92: =IFERROR(VLOOKUP(DA92,$BX$3:$CA$810,4,FALSE),"") | DD92: =IFERROR(INDEX($BT$3:$BT$810,MATCH(DA92,$BX$3:$BX$810,0),0),"")
