Workbook
Name PoolTeam: Tournament!$AT$8:$AT$27
Name Venues: Tournament!$AU$8:$AU$18

Sheet Tournament
C3: Pool | E3: : | F3: B | J3: Country | M3: : | N3: France | P3: Venue | R3: : | S3: Stade de France, Paris | AC3: PURCHASE THE UNPROTECTED VERSION HERE | AV3: ◄ | AW3: Select Pool #, Country and Venue to highlight particular rows
DD4: r musadya
C6: RUGBY WORLD CUP 2023
C8: GROUP STAGES | AC8: Standings | AT8: Argentina | AU8: Parc OL, Lyon
AT9: Russia | AU9: Stade de Bordeaux, Bordeaux
D10: # | E10: Gr | F10: Date | G10: Time | H10: Team 1 | J10: Score | N10: Team 2 | O10: Tries | R10: Venue | AC10: Pool A | AG10: P | AH10: W | AI10: D | AJ10: L | AK10: PF | AL10: PA | AM10: PD | AN10: TF | AO10: TA | AP10: BP | AQ10: Pts | AT10: Australia | AU10: Stade de France, Paris
AC11: 1 | AD11: =VLOOKUP(1,'Dummy Table'!A4:B8,2,FALSE) -> France | AG11: =SUM(AH11:AJ11) -> 0 | AH11: =VLOOKUP(AD11,'Dummy Table'!B4:C29,2,FALSE) -> 0 | AI11: =VLOOKUP(AD11,'Dummy Table'!B4:D29,3,FALSE) -> 0 | AJ11: =VLOOKUP(AD11,'Dummy Table'!B4:E29,4,FALSE) -> 0 | AK11: =VLOOKUP(AD11,'Dummy Table'!B4:F29,5,FALSE) -> 0 | AL11: =VLOOKUP(AD11,'Dummy Table'!B4:G29,6,FALSE) -> 0 | AM11: =AK11-AL11 -> 0 | AN11: =VLOOKUP(AD11,'Dummy Table'!B4:I29,8,FALSE) -> 0 | AO11: =VLOOKUP(AD11,'Dummy Table'!B4:J29,9,FALSE) -> 0 | AP11: =VLOOKUP(AD11,'Dummy Table'!B4:M29,12,FALSE)+VLOOKUP(AD11,'Dummy Table'!B4:N29,13,FALSE) -> 0 | AQ11: =VLOOKUP(AD11,'Dummy Table'!B4:O29,14,FALSE) -> 0 | AT11: Canada | AU11: Stade de la Beaujoire, Nantes
D12: 1 | E12: A | F12: 45177 | G12: 0.84375 | H12: France | K12: - | N12: New Zealand | R12: Stade de France, Paris | AC12: 2 | AD12: =VLOOKUP(2,'Dummy Table'!A4:B8,2,FALSE) -> New Zealand | AG12: =SUM(AH12:AJ12) -> 0 | AH12: =VLOOKUP(AD12,'Dummy Table'!B4:C29,2,FALSE) -> 0 | AI12: =VLOOKUP(AD12,'Dummy Table'!B4:D29,3,FALSE) -> 0 | AJ12: =VLOOKUP(AD12,'Dummy Table'!B4:E29,4,FALSE) -> 0 | AK12: =VLOOKUP(AD12,'Dummy Table'!B4:F29,5,FALSE) -> 0 | AL12: =VLOOKUP(AD12,'Dummy Table'!B4:G29,6,FALSE) -> 0 | AM12: =AK12-AL12 -> 0 | AN12: =VLOOKUP(AD12,'Dummy Table'!B4:I29,8,FALSE) -> 0 | AO12: =VLOOKUP(AD12,'Dummy Table'!B4:J29,9,FALSE) -> 0 | AP12: =VLOOKUP(AD12,'Dummy Table'!B4:M29,12,FALSE)+VLOOKUP(AD12,'Dummy Table'!B4:N29,13,FALSE) -> 0 | AQ12: =VLOOKUP(AD12,'Dummy Table'!B4:O29,14,FALSE) -> 0 | AT12: England | AU12: Stade de Nice, Nice
D13: 2 | E13: A | F13: 45178 | G13: 0.5 | H13: Italy | K13: - | N13: Namibia | R13: Stade Geoffroy Guichard, Saint-Étienne | AC13: 3 | AD13: =VLOOKUP(3,'Dummy Table'!A4:B8,2,FALSE) -> Italy | AG13: =SUM(AH13:AJ13) -> 0 | AH13: =VLOOKUP(AD13,'Dummy Table'!B4:C29,2,FALSE) -> 0 | AI13: =VLOOKUP(AD13,'Dummy Table'!B4:D29,3,FALSE) -> 0 | AJ13: =VLOOKUP(AD13,'Dummy Table'!B4:E29,4,FALSE) -> 0 | AK13: =VLOOKUP(AD13,'Dummy Table'!B4:F29,5,FALSE) -> 0 | AL13: =VLOOKUP(AD13,'Dummy Table'!B4:G29,6,FALSE) -> 0 | AM13: =AK13-AL13 -> 0 | AN13: =VLOOKUP(AD13,'Dummy Table'!B4:I29,8,FALSE) -> 0 | AO13: =VLOOKUP(AD13,'Dummy Table'!B4:J29,9,FALSE) -> 0 | AP13: =VLOOKUP(AD13,'Dummy Table'!B4:M29,12,FALSE)+VLOOKUP(AD13,'Dummy Table'!B4:N29,13,FALSE) -> 0 | AQ13: =VLOOKUP(AD13,'Dummy Table'!B4:O29,14,FALSE) -> 0 | AT13: Fiji | AU13: Stade Geoffroy Guichard, Saint-Étienne
D14: 3 | E14: B | F14: 45178 | G14: 0.60416667 | H14: Ireland | K14: - | N14: Romania | R14: Stade de Bordeaux, Bordeaux | AC14: 4 | AD14: =VLOOKUP(4,'Dummy Table'!A4:B8,2,FALSE) -> Uruguay | AG14: =SUM(AH14:AJ14) -> 0 | AH14: =VLOOKUP(AD14,'Dummy Table'!B4:C29,2,FALSE) -> 0 | AI14: =VLOOKUP(AD14,'Dummy Table'!B4:D29,3,FALSE) -> 0 | AJ14: =VLOOKUP(AD14,'Dummy Table'!B4:E29,4,FALSE) -> 0 | AK14: =VLOOKUP(AD14,'Dummy Table'!B4:F29,5,FALSE) -> 0 | AL14: =VLOOKUP(AD14,'Dummy Table'!B4:G29,6,FALSE) -> 0 | AM14: =AK14-AL14 -> 0 | AN14: =VLOOKUP(AD14,'Dummy Table'!B4:I29,8,FALSE) -> 0 | AO14: =VLOOKUP(AD14,'Dummy Table'!B4:J29,9,FALSE) -> 0 | AP14: =VLOOKUP(AD14,'Dummy Table'!B4:M29,12,FALSE)+VLOOKUP(AD14,'Dummy Table'!B4:N29,13,FALSE) -> 0 | AQ14: =VLOOKUP(AD14,'Dummy Table'!B4:O29,14,FALSE) -> 0 | AT14: France | AU14: Stade Pierre Mauroy, Lille
D15: 4 | E15: C | F15: 45178 | G15: 0.70833333 | H15: Australia | K15: - | N15: Georgia | R15: Stade de France, Paris | AC15: 5 | AD15: =VLOOKUP(5,'Dummy Table'!A4:B8,2,FALSE) -> Namibia | AG15: =SUM(AH15:AJ15) -> 0 | AH15: =VLOOKUP(AD15,'Dummy Table'!B4:C29,2,FALSE) -> 0 | AI15: =VLOOKUP(AD15,'Dummy Table'!B4:D29,3,FALSE) -> 0 | AJ15: =VLOOKUP(AD15,'Dummy Table'!B4:E29,4,FALSE) -> 0 | AK15: =VLOOKUP(AD15,'Dummy Table'!B4:F29,5,FALSE) -> 0 | AL15: =VLOOKUP(AD15,'Dummy Table'!B4:G29,6,FALSE) -> 0 | AM15: =AK15-AL15 -> 0 | AN15: =VLOOKUP(AD15,'Dummy Table'!B4:I29,8,FALSE) -> 0 | AO15: =VLOOKUP(AD15,'Dummy Table'!B4:J29,9,FALSE) -> 0 | AP15: =VLOOKUP(AD15,'Dummy Table'!B4:M29,12,FALSE)+VLOOKUP(AD15,'Dummy Table'!B4:N29,13,FALSE) -> 0 | AQ15: =VLOOKUP(AD15,'Dummy Table'!B4:O29,14,FALSE) -> 0 | AT15: Georgia | AU15: Stade Vélodrome, Marseille
D16: 5 | E16: D | F16: 45178 | G16: 0.83333333 | H16: England | K16: - | N16: Argentina | R16: Stade Vélodrome, Marseille | AT16: Ireland | AU16: Stadium de Toulouse, Toulouse
D17: 6 | E17: D | F17: 45179 | G17: 0.5 | H17: Japan | K17: - | N17: Chile | R17: Stadium de Toulouse, Toulouse | AC17: Pool B | AG17: P | AH17: W | AI17: D | AJ17: L | AK17: PF | AL17: PA | AM17: PD | AN17: TF | AO17: TA | AP17: BP | AQ17: Pts | AT17: Italy | AU17: Stade de Bordeaux, Bordeaux
D18: 7 | E18: B | F18: 45179 | G18: 0.69791667 | H18: South Africa | K18: - | N18: Scotland | R18: Stade Vélodrome, Marseille | AC18: 1 | AD18: =VLOOKUP(1,'Dummy Table'!A11:B15,2,FALSE) -> Ireland | AG18: =SUM(AH18:AJ18) -> 0 | AH18: =VLOOKUP(AD18,'Dummy Table'!B4:C29,2,FALSE) -> 0 | AI18: =VLOOKUP(AD18,'Dummy Table'!B4:D29,3,FALSE) -> 0 | AJ18: =VLOOKUP(AD18,'Dummy Table'!B4:E29,4,FALSE) -> 0 | AK18: =VLOOKUP(AD18,'Dummy Table'!B4:F29,5,FALSE) -> 0 | AL18: =VLOOKUP(AD18,'Dummy Table'!B4:G29,6,FALSE) -> 0 | AM18: =AK18-AL18 -> 0 | AN18: =VLOOKUP(AD18,'Dummy Table'!B4:I29,8,FALSE) -> 0 | AO18: =VLOOKUP(AD18,'Dummy Table'!B4:J29,9,FALSE) -> 0 | AP18: =VLOOKUP(AD18,'Dummy Table'!B4:M29,12,FALSE)+VLOOKUP(AD18,'Dummy Table'!B4:N29,13,FALSE) -> 0 | AQ18: =VLOOKUP(AD18,'Dummy Table'!B4:O29,14,FALSE) -> 0 | AT18: Japan
D19: 8 | E19: C | F19: 45179 | G19: 0.83333333 | H19: Wales | K19: - | N19: Fiji | R19: Stade de Bordeaux, Bordeaux | AC19: 2 | AD19: =VLOOKUP(2,'Dummy Table'!A11:B15,2,FALSE) -> South Africa | AG19: =SUM(AH19:AJ19) -> 0 | AH19: =VLOOKUP(AD19,'Dummy Table'!B4:C29,2,FALSE) -> 0 | AI19: =VLOOKUP(AD19,'Dummy Table'!B4:D29,3,FALSE) -> 0 | AJ19: =VLOOKUP(AD19,'Dummy Table'!B4:E29,4,FALSE) -> 0 | AK19: =VLOOKUP(AD19,'Dummy Table'!B4:F29,5,FALSE) -> 0 | AL19: =VLOOKUP(AD19,'Dummy Table'!B4:G29,6,FALSE) -> 0 | AM19: =AK19-AL19 -> 0 | AN19: =VLOOKUP(AD19,'Dummy Table'!B4:I29,8,FALSE) -> 0 | AO19: =VLOOKUP(AD19,'Dummy Table'!B4:J29,9,FALSE) -> 0 | AP19: =VLOOKUP(AD19,'Dummy Table'!B4:M29,12,FALSE)+VLOOKUP(AD19,'Dummy Table'!B4:N29,13,FALSE) -> 0 | AQ19: =VLOOKUP(AD19,'Dummy Table'!B4:O29,14,FALSE) -> 0 | AT19: Namibia
D20: 9 | E20: A | F20: 45183 | G20: 0.83333333 | H20: France | K20: - | N20: Uruguay | R20: Stade Pierre Mauroy, Lille | AC20: 3 | AD20: =VLOOKUP(3,'Dummy Table'!A11:B15,2,FALSE) -> Scotland | AG20: =SUM(AH20:AJ20) -> 0 | AH20: =VLOOKUP(AD20,'Dummy Table'!B4:C29,2,FALSE) -> 0 | AI20: =VLOOKUP(AD20,'Dummy Table'!B4:D29,3,FALSE) -> 0 | AJ20: =VLOOKUP(AD20,'Dummy Table'!B4:E29,4,FALSE) -> 0 | AK20: =VLOOKUP(AD20,'Dummy Table'!B4:F29,5,FALSE) -> 0 | AL20: =VLOOKUP(AD20,'Dummy Table'!B4:G29,6,FALSE) -> 0 | AM20: =AK20-AL20 -> 0 | AN20: =VLOOKUP(AD20,'Dummy Table'!B4:I29,8,FALSE) -> 0 | AO20: =VLOOKUP(AD20,'Dummy Table'!B4:J29,9,FALSE) -> 0 | AP20: =VLOOKUP(AD20,'Dummy Table'!B4:M29,12,FALSE)+VLOOKUP(AD20,'Dummy Table'!B4:N29,13,FALSE) -> 0 | AQ20: =VLOOKUP(AD20,'Dummy Table'!B4:O29,14,FALSE) -> 0 | AT20: New Zealand
D21: 10 | E21: A | F21: 45184 | G21: 0.83333333 | H21: New Zealand | K21: - | N21: Namibia | R21: Stadium de Toulouse, Toulouse | AC21: 4 | AD21: =VLOOKUP(4,'Dummy Table'!A11:B15,2,FALSE) -> Tonga | AG21: =SUM(AH21:AJ21) -> 0 | AH21: =VLOOKUP(AD21,'Dummy Table'!B4:C29,2,FALSE) -> 0 | AI21: =VLOOKUP(AD21,'Dummy Table'!B4:D29,3,FALSE) -> 0 | AJ21: =VLOOKUP(AD21,'Dummy Table'!B4:E29,4,FALSE) -> 0 | AK21: =VLOOKUP(AD21,'Dummy Table'!B4:F29,5,FALSE) -> 0 | AL21: =VLOOKUP(AD21,'Dummy Table'!B4:G29,6,FALSE) -> 0 | AM21: =AK21-AL21 -> 0 | AN21: =VLOOKUP(AD21,'Dummy Table'!B4:I29,8,FALSE) -> 0 | AO21: =VLOOKUP(AD21,'Dummy Table'!B4:J29,9,FALSE) -> 0 | AP21: =VLOOKUP(AD21,'Dummy Table'!B4:M29,12,FALSE)+VLOOKUP(AD21,'Dummy Table'!B4:N29,13,FALSE) -> 0 | AQ21: =VLOOKUP(AD21,'Dummy Table'!B4:O29,14,FALSE) -> 0 | AT21: Samoa
D22: 11 | E22: D | F22: 45185 | G22: 0.58333333 | H22: Samoa | K22: - | N22: Chile | R22: Stade de Bordeaux, Bordeaux | AC22: 5 | AD22: =VLOOKUP(5,'Dummy Table'!A11:B15,2,FALSE) -> Romania | AG22: =SUM(AH22:AJ22) -> 0 | AH22: =VLOOKUP(AD22,'Dummy Table'!B4:C29,2,FALSE) -> 0 | AI22: =VLOOKUP(AD22,'Dummy Table'!B4:D29,3,FALSE) -> 0 | AJ22: =VLOOKUP(AD22,'Dummy Table'!B4:E29,4,FALSE) -> 0 | AK22: =VLOOKUP(AD22,'Dummy Table'!B4:F29,5,FALSE) -> 0 | AL22: =VLOOKUP(AD22,'Dummy Table'!B4:G29,6,FALSE) -> 0 | AM22: =AK22-AL22 -> 0 | AN22: =VLOOKUP(AD22,'Dummy Table'!B4:I29,8,FALSE) -> 0 | AO22: =VLOOKUP(AD22,'Dummy Table'!B4:J29,9,FALSE) -> 0 | AP22: =VLOOKUP(AD22,'Dummy Table'!B4:M29,12,FALSE)+VLOOKUP(AD22,'Dummy Table'!B4:N29,13,FALSE) -> 0 | AQ22: =VLOOKUP(AD22,'Dummy Table'!B4:O29,14,FALSE) -> 0 | AT22: Scotland
D23: 12 | E23: C | F23: 45185 | G23: 0.69791667 | H23: Wales | K23: - | N23: Portugal | R23: Stade de Nice, Nice | AT23: South Africa
D24: 13 | E24: B | F24: 45185 | G24: 0.83333333 | H24: Ireland | K24: - | N24: Tonga | R24: Stade de la Beaujoire, Nantes | AC24: Pool C | AG24: P | AH24: W | AI24: D | AJ24: L | AK24: PF | AL24: PA | AM24: PD | AN24: TF | AO24: TA | AP24: BP | AQ24: Pts | AT24: Tonga
D25: 14 | E25: B | F25: 45186 | G25: 0.58333333 | H25: South Africa | K25: - | N25: Romania | R25: Stade de Bordeaux, Bordeaux | AC25: 1 | AD25: =VLOOKUP(1,'Dummy Table'!A18:B22,2,FALSE) -> Fiji | AG25: =SUM(AH25:AJ25) -> 0 | AH25: =VLOOKUP(AD25,'Dummy Table'!B4:C29,2,FALSE) -> 0 | AI25: =VLOOKUP(AD25,'Dummy Table'!B4:D29,3,FALSE) -> 0 | AJ25: =VLOOKUP(AD25,'Dummy Table'!B4:E29,4,FALSE) -> 0 | AK25: =VLOOKUP(AD25,'Dummy Table'!B4:F29,5,FALSE) -> 0 | AL25: =VLOOKUP(AD25,'Dummy Table'!B4:G29,6,FALSE) -> 0 | AM25: =AK25-AL25 -> 0 | AN25: =VLOOKUP(AD25,'Dummy Table'!B4:I29,8,FALSE) -> 0 | AO25: =VLOOKUP(AD25,'Dummy Table'!B4:J29,9,FALSE) -> 0 | AP25: =VLOOKUP(AD25,'Dummy Table'!B4:M29,12,FALSE)+VLOOKUP(AD25,'Dummy Table'!B4:N29,13,FALSE) -> 0 | AQ25: =VLOOKUP(AD25,'Dummy Table'!B4:O29,14,FALSE) -> 0 | AT25: United States
D26: 15 | E26: C | F26: 45186 | G26: 0.69791667 | H26: Australia | K26: - | N26: Fiji | R26: Stade Geoffroy Guichard, Saint-Étienne | AC26: 2 | AD26: =VLOOKUP(2,'Dummy Table'!A18:B22,2,FALSE) -> Australia | AG26: =SUM(AH26:AJ26) -> 0 | AH26: =VLOOKUP(AD26,'Dummy Table'!B4:C29,2,FALSE) -> 0 | AI26: =VLOOKUP(AD26,'Dummy Table'!B4:D29,3,FALSE) -> 0 | AJ26: =VLOOKUP(AD26,'Dummy Table'!B4:E29,4,FALSE) -> 0 | AK26: =VLOOKUP(AD26,'Dummy Table'!B4:F29,5,FALSE) -> 0 | AL26: =VLOOKUP(AD26,'Dummy Table'!B4:G29,6,FALSE) -> 0 | AM26: =AK26-AL26 -> 0 | AN26: =VLOOKUP(AD26,'Dummy Table'!B4:I29,8,FALSE) -> 0 | AO26: =VLOOKUP(AD26,'Dummy Table'!B4:J29,9,FALSE) -> 0 | AP26: =VLOOKUP(AD26,'Dummy Table'!B4:M29,12,FALSE)+VLOOKUP(AD26,'Dummy Table'!B4:N29,13,FALSE) -> 0 | AQ26: =VLOOKUP(AD26,'Dummy Table'!B4:O29,14,FALSE) -> 0 | AT26: Uruguay
D27: 16 | E27: D | F27: 45186 | G27: 0.83333333 | H27: England | K27: - | N27: Japan | R27: Stade de Nice, Nice | AC27: 3 | AD27: =VLOOKUP(3,'Dummy Table'!A18:B22,2,FALSE) -> Wales | AG27: =SUM(AH27:AJ27) -> 0 | AH27: =VLOOKUP(AD27,'Dummy Table'!B4:C29,2,FALSE) -> 0 | AI27: =VLOOKUP(AD27,'Dummy Table'!B4:D29,3,FALSE) -> 0 | AJ27: =VLOOKUP(AD27,'Dummy Table'!B4:E29,4,FALSE) -> 0 | AK27: =VLOOKUP(AD27,'Dummy Table'!B4:F29,5,FALSE) -> 0 | AL27: =VLOOKUP(AD27,'Dummy Table'!B4:G29,6,FALSE) -> 0 | AM27: =AK27-AL27 -> 0 | AN27: =VLOOKUP(AD27,'Dummy Table'!B4:I29,8,FALSE) -> 0 | AO27: =VLOOKUP(AD27,'Dummy Table'!B4:J29,9,FALSE) -> 0 | AP27: =VLOOKUP(AD27,'Dummy Table'!B4:M29,12,FALSE)+VLOOKUP(AD27,'Dummy Table'!B4:N29,13,FALSE) -> 0 | AQ27: =VLOOKUP(AD27,'Dummy Table'!B4:O29,14,FALSE) -> 0 | AT27: Wales
D28: 17 | E28: A | F28: 45189 | G28: 0.69791667 | H28: Italy | K28: - | N28: Uruguay | R28: Stade de Nice, Nice | AC28: 4 | AD28: =VLOOKUP(4,'Dummy Table'!A18:B22,2,FALSE) -> Georgia | AG28: =SUM(AH28:AJ28) -> 0 | AH28: =VLOOKUP(AD28,'Dummy Table'!B4:C29,2,FALSE) -> 0 | AI28: =VLOOKUP(AD28,'Dummy Table'!B4:D29,3,FALSE) -> 0 | AJ28: =VLOOKUP(AD28,'Dummy Table'!B4:E29,4,FALSE) -> 0 | AK28: =VLOOKUP(AD28,'Dummy Table'!B4:F29,5,FALSE) -> 0 | AL28: =VLOOKUP(AD28,'Dummy Table'!B4:G29,6,FALSE) -> 0 | AM28: =AK28-AL28 -> 0 | AN28: =VLOOKUP(AD28,'Dummy Table'!B4:I29,8,FALSE) -> 0 | AO28: =VLOOKUP(AD28,'Dummy Table'!B4:J29,9,FALSE) -> 0 | AP28: =VLOOKUP(AD28,'Dummy Table'!B4:M29,12,FALSE)+VLOOKUP(AD28,'Dummy Table'!B4:N29,13,FALSE) -> 0 | AQ28: =VLOOKUP(AD28,'Dummy Table'!B4:O29,14,FALSE) -> 0
D29: 18 | E29: A | F29: 45190 | G29: 0.83333333 | H29: France | K29: - | N29: Namibia | R29: Stade Vélodrome, Marseille | AC29: 5 | AD29: =VLOOKUP(5,'Dummy Table'!A18:B22,2,FALSE) -> Portugal | AG29: =SUM(AH29:AJ29) -> 0 | AH29: =VLOOKUP(AD29,'Dummy Table'!B4:C29,2,FALSE) -> 0 | AI29: =VLOOKUP(AD29,'Dummy Table'!B4:D29,3,FALSE) -> 0 | AJ29: =VLOOKUP(AD29,'Dummy Table'!B4:E29,4,FALSE) -> 0 | AK29: =VLOOKUP(AD29,'Dummy Table'!B4:F29,5,FALSE) -> 0 | AL29: =VLOOKUP(AD29,'Dummy Table'!B4:G29,6,FALSE) -> 0 | AM29: =AK29-AL29 -> 0 | AN29: =VLOOKUP(AD29,'Dummy Table'!B4:I29,8,FALSE) -> 0 | AO29: =VLOOKUP(AD29,'Dummy Table'!B4:J29,9,FALSE) -> 0 | AP29: =VLOOKUP(AD29,'Dummy Table'!B4:M29,12,FALSE)+VLOOKUP(AD29,'Dummy Table'!B4:N29,13,FALSE) -> 0 | AQ29: =VLOOKUP(AD29,'Dummy Table'!B4:O29,14,FALSE) -> 0
D30: 19 | E30: D | F30: 45191 | G30: 0.69791667 | H30: Argentina | K30: - | N30: Samoa | R30: Stade Geoffroy Guichard, Saint-Étienne
D31: 20 | E31: C | F31: 45192 | G31: 0.54166667 | H31: Georgia | K31: - | N31: Portugal | R31: Stadium de Toulouse, Toulouse | AC31: Pool D | AG31: P | AH31: W | AI31: D | AJ31: L | AK31: PF | AL31: PA | AM31: PD | AN31: TF | AO31: TA | AP31: BP | AQ31: Pts
D32: 21 | E32: D | F32: 45192 | G32: 0.69791667 | H32: England | K32: - | N32: Chile | R32: Stade Pierre Mauroy, Lille | AC32: 1 | AD32: =VLOOKUP(1,'Dummy Table'!A25:B29,2,FALSE) -> Argentina | AG32: =SUM(AH32:AJ32) -> 0 | AH32: =VLOOKUP(AD32,'Dummy Table'!B4:C29,2,FALSE) -> 0 | AI32: =VLOOKUP(AD32,'Dummy Table'!B4:D29,3,FALSE) -> 0 | AJ32: =VLOOKUP(AD32,'Dummy Table'!B4:E29,4,FALSE) -> 0 | AK32: =VLOOKUP(AD32,'Dummy Table'!B4:F29,5,FALSE) -> 0 | AL32: =VLOOKUP(AD32,'Dummy Table'!B4:G29,6,FALSE) -> 0 | AM32: =AK32-AL32 -> 0 | AN32: =VLOOKUP(AD32,'Dummy Table'!B4:I29,8,FALSE) -> 0 | AO32: =VLOOKUP(AD32,'Dummy Table'!B4:J29,9,FALSE) -> 0 | AP32: =VLOOKUP(AD32,'Dummy Table'!B4:M29,12,FALSE)+VLOOKUP(AD32,'Dummy Table'!B4:N29,13,FALSE) -> 0 | AQ32: =VLOOKUP(AD32,'Dummy Table'!B4:O29,14,FALSE) -> 0
D33: 22 | E33: B | F33: 45192 | G33: 0.83333333 | H33: South Africa | K33: - | N33: Ireland | R33: Stade de France, Paris | AC33: 2 | AD33: =VLOOKUP(2,'Dummy Table'!A25:B29,2,FALSE) -> England | AG33: =SUM(AH33:AJ33) -> 0 | AH33: =VLOOKUP(AD33,'Dummy Table'!B4:C29,2,FALSE) -> 0 | AI33: =VLOOKUP(AD33,'Dummy Table'!B4:D29,3,FALSE) -> 0 | AJ33: =VLOOKUP(AD33,'Dummy Table'!B4:E29,4,FALSE) -> 0 | AK33: =VLOOKUP(AD33,'Dummy Table'!B4:F29,5,FALSE) -> 0 | AL33: =VLOOKUP(AD33,'Dummy Table'!B4:G29,6,FALSE) -> 0 | AM33: =AK33-AL33 -> 0 | AN33: =VLOOKUP(AD33,'Dummy Table'!B4:I29,8,FALSE) -> 0 | AO33: =VLOOKUP(AD33,'Dummy Table'!B4:J29,9,FALSE) -> 0 | AP33: =VLOOKUP(AD33,'Dummy Table'!B4:M29,12,FALSE)+VLOOKUP(AD33,'Dummy Table'!B4:N29,13,FALSE) -> 0 | AQ33: =VLOOKUP(AD33,'Dummy Table'!B4:O29,14,FALSE) -> 0
D34: 23 | E34: B | F34: 45193 | G34: 0.69791667 | H34: Scotland | K34: - | N34: Tonga | R34: Stade de Nice, Nice | AC34: 3 | AD34: =VLOOKUP(3,'Dummy Table'!A25:B29,2,FALSE) -> Samoa | AG34: =SUM(AH34:AJ34) -> 0 | AH34: =VLOOKUP(AD34,'Dummy Table'!B4:C29,2,FALSE) -> 0 | AI34: =VLOOKUP(AD34,'Dummy Table'!B4:D29,3,FALSE) -> 0 | AJ34: =VLOOKUP(AD34,'Dummy Table'!B4:E29,4,FALSE) -> 0 | AK34: =VLOOKUP(AD34,'Dummy Table'!B4:F29,5,FALSE) -> 0 | AL34: =VLOOKUP(AD34,'Dummy Table'!B4:G29,6,FALSE) -> 0 | AM34: =AK34-AL34 -> 0 | AN34: =VLOOKUP(AD34,'Dummy Table'!B4:I29,8,FALSE) -> 0 | AO34: =VLOOKUP(AD34,'Dummy Table'!B4:J29,9,FALSE) -> 0 | AP34: =VLOOKUP(AD34,'Dummy Table'!B4:M29,12,FALSE)+VLOOKUP(AD34,'Dummy Table'!B4:N29,13,FALSE) -> 0 | AQ34: =VLOOKUP(AD34,'Dummy Table'!B4:O29,14,FALSE) -> 0
D35: 24 | E35: C | F35: 45193 | G35: 0.83333333 | H35: Wales | K35: - | N35: Australia | R35: Parc OL, Lyon | AC35: 4 | AD35: =VLOOKUP(4,'Dummy Table'!A25:B29,2,FALSE) -> Japan | AG35: =SUM(AH35:AJ35) -> 0 | AH35: =VLOOKUP(AD35,'Dummy Table'!B4:C29,2,FALSE) -> 0 | AI35: =VLOOKUP(AD35,'Dummy Table'!B4:D29,3,FALSE) -> 0 | AJ35: =VLOOKUP(AD35,'Dummy Table'!B4:E29,4,FALSE) -> 0 | AK35: =VLOOKUP(AD35,'Dummy Table'!B4:F29,5,FALSE) -> 0 | AL35: =VLOOKUP(AD35,'Dummy Table'!B4:G29,6,FALSE) -> 0 | AM35: =AK35-AL35 -> 0 | AN35: =VLOOKUP(AD35,'Dummy Table'!B4:I29,8,FALSE) -> 0 | AO35: =VLOOKUP(AD35,'Dummy Table'!B4:J29,9,FALSE) -> 0 | AP35: =VLOOKUP(AD35,'Dummy Table'!B4:M29,12,FALSE)+VLOOKUP(AD35,'Dummy Table'!B4:N29,13,FALSE) -> 0 | AQ35: =VLOOKUP(AD35,'Dummy Table'!B4:O29,14,FALSE) -> 0
D36: 25 | E36: A | F36: 45196 | G36: 0.69791667 | H36: Uruguay | K36: - | N36: Namibia | R36: Parc OL, Lyon | AC36: 5 | AD36: =VLOOKUP(5,'Dummy Table'!A25:B29,2,FALSE) -> Chile | AG36: =SUM(AH36:AJ36) -> 0 | AH36: =VLOOKUP(AD36,'Dummy Table'!B4:C29,2,FALSE) -> 0 | AI36: =VLOOKUP(AD36,'Dummy Table'!B4:D29,3,FALSE) -> 0 | AJ36: =VLOOKUP(AD36,'Dummy Table'!B4:E29,4,FALSE) -> 0 | AK36: =VLOOKUP(AD36,'Dummy Table'!B4:F29,5,FALSE) -> 0 | AL36: =VLOOKUP(AD36,'Dummy Table'!B4:G29,6,FALSE) -> 0 | AM36: =AK36-AL36 -> 0 | AN36: =VLOOKUP(AD36,'Dummy Table'!B4:I29,8,FALSE) -> 0 | AO36: =VLOOKUP(AD36,'Dummy Table'!B4:J29,9,FALSE) -> 0 | AP36: =VLOOKUP(AD36,'Dummy Table'!B4:M29,12,FALSE)+VLOOKUP(AD36,'Dummy Table'!B4:N29,13,FALSE) -> 0 | AQ36: =VLOOKUP(AD36,'Dummy Table'!B4:O29,14,FALSE) -> 0
D37: 26 | E37: D | F37: 45197 | G37: 0.83333333 | H37: Japan | K37: - | N37: Samoa | R37: Stadium de Toulouse, Toulouse | AP37: =IF(SUM('Dummy Table'!BP32:BP35)>0,IF(ISNA(VLOOKUP(3,'Dummy Table'!BP32:BQ35,2,FALSE)),"",VLOOKUP(3,'Dummy Table'!BP32:BQ35,2,FALSE)),"")
D38: 27 | E38: A | F38: 45198 | G38: 0.83333333 | H38: New Zealand | K38: - | N38: Italy | R38: Parc OL, Lyon | AC38: Color Description | AP38: =IF(SUM('Dummy Table'!BP32:BP35)>0,IF(ISNA(VLOOKUP(4,'Dummy Table'!BP32:BQ35,2,FALSE)),"",VLOOKUP(4,'Dummy Table'!BP32:BQ35,2,FALSE)),"")
D39: 28 | E39: D | F39: 45199 | G39: 0.58333333 | H39: Argentina | K39: - | N39: Chile | R39: Stade de la Beaujoire, Nantes | AC39: Pool Winner
D40: 29 | E40: C | F40: 45199 | G40: 0.69791667 | H40: Fiji | K40: - | N40: Georgia | R40: Stade de Bordeaux, Bordeaux | AC40: Qualified for Knock Out Round and 2023 Rugby World Cup
D41: 30 | E41: B | F41: 45199 | G41: 0.83333333 | H41: Scotland | K41: - | N41: Romania | R41: Stade Pierre Mauroy, Lille | AC41: Qualified for 2023 Rugby World Cup
D42: 31 | E42: C | F42: 45200 | G42: 0.69791667 | H42: Australia | K42: - | N42: Portugal | R42: Stade Geoffroy Guichard, Saint-Étienne
D43: 32 | E43: B | F43: 45200 | G43: 0.83333333 | H43: South Africa | K43: - | N43: Tonga | R43: Stade Vélodrome, Marseille | AC43: Abbreviation Description
D44: 33 | E44: A | F44: 45204 | G44: 0.83333333 | H44: New Zealand | K44: - | N44: Uruguay | R44: Parc OL, Lyon | AC44: P : Played - W : Win - D : Draw - L : Loss
D45: 34 | E45: A | F45: 45205 | G45: 0.83333333 | H45: France | K45: - | N45: Italy | R45: Parc OL, Lyon | AC45: PF : Points For - PA : Points Against - PD : Points Difference
D46: 35 | E46: C | F46: 45206 | G46: 0.58333333 | H46: Wales | K46: - | N46: Georgia | R46: Stade de la Beaujoire, Nantes | AC46: TF : Tries For - TA : Tries Against - BP : Bonus Points
D47: 36 | E47: D | F47: 45206 | G47: 0.69791667 | H47: England | K47: - | N47: Samoa | R47: Stade Pierre Mauroy, Lille | AC47: Pts : Pool Points
D48: 37 | E48: B | F48: 45206 | G48: 0.83333333 | H48: Ireland | K48: - | N48: Scotland | R48: Stade de France, Paris
D49: 38 | E49: D | F49: 45207 | G49: 0.5 | H49: Japan | K49: - | N49: Argentina | R49: Stade de la Beaujoire, Nantes | AC49: Points Awarded
D50: 39 | E50: B | F50: 45207 | G50: 0.69791667 | H50: Tonga | K50: - | N50: Romania | R50: Stade Pierre Mauroy, Lille | AC50: > Win - 4 points
D51: 40 | E51: C | F51: 45207 | G51: 0.83333333 | H51: Fiji | K51: - | N51: Portugal | R51: Stadium de Toulouse, Toulouse | AC51: > Draw - 2 points
AC52: > Loss - 0 points
AC53: Bonus points
C54: KNOCK OUT ROUND | G54: Quarterfinals | M54: Semifinals | R54: Final | AC54: > 4 or more tries - 1 point
AC55: > Loss by 7 points or less - 1 point
G56: 42 | H56: 45213.833
G57: 2 | H57: =IF(SUM(AG18:AG22)=20,AD18,"Winner Pool B") -> Winner Pool B | AC57: Standings Regulation
G58: 1 | H58: =IF(SUM(AG11:AG15)=20,AD12,"Runner Up Pool A") -> Runner Up Pool A | AC58: > Teams are ranked based on total Pool Points
H59: Stade de France, Paris | M59: 45 | N59: 43758.833 | AC59: > If 2 or more teams are leveled on total Pool Points, they will be ranked based on following tie-breaker rule :
M60: =IF(N60=H57,G57,IF(N60=H58,G58,"")) | N60: =IF(AND(I57<>"",I58<>""),IF(I57>I58,H57,IF(I57=I58,IF(J57>J58,H57,IF(J58>J57,H58,"")),H58)),"Match 42 Winner") -> Match 42 Winner
M61: =IF(N61=H63,G63,IF(N61=H64,G64,"")) | N61: =IF(AND(I63<>"",I64<>""),IF(I63>I64,H63,IF(I63=I64,IF(J63>J64,H63,IF(J64>J63,H64,"")),H64)),"Match 41 Winner") -> Match 41 Winner | AC61: 1. Total points on head-to-head matches
G62: 41 | H62: 45213.667 | N62: Stade de France, Paris | AC62: 2. Best Points Difference in all Pool Matches
G63: 3 | H63: =IF(SUM(AG25:AG29)=20,AD25,"Winner Pool C") -> Winner Pool C | AC63: 3. Best Tries Difference in all Pool Matches
G64: 4 | H64: =IF(SUM(AG32:AG36)=20,AD33,"Runner Up Pool D") -> Runner Up Pool D | AC64: 4. Scored Most Points in All Pool Matches
H65: Stade Vélodrome, Marseille | R65: 48 | S65: 45227.833 | AC65: 5. Scores Most Tries in All Pool Matches
R66: =IF(N60=S66,M60,IF(N61=S66,M61,"")) | S66: =IF(AND(O60<>"",O61<>""),IF(O60>O61,N60,IF(O60=O61,IF(P60>P61,N60,IF(P61>P60,N61,"")),N61)),"Match 45 Winner") -> Match 45 Winner | AC66: 6. Official World Rugby World Rankings on October 12, 2015
R67: =IF(S67=N72,M72,IF(S67=N73,M73,"")) | S67: =IF(AND(O72<>"",O73<>""),IF(O72>O73,N72,IF(O72=O73,IF(P72>P73,N72,IF(P73>P72,N73,"")),N73)),"Match 46 Winner") -> Match 46 Winner
G68: 43 | H68: 45214.667 | S68: Yokohama Stadium | AB68: CHAMPION
G69: 4 | H69: =IF(SUM(AG32:AG36)=20,AD32,"Winner Pool D") -> Winner Pool D
G70: 3 | H70: =IF(SUM(AG25:AG29)=20,AD26,"Runner Up Pool C") -> Runner Up Pool C | AA70: =IF(AB70=S66,R66,IF(AB70=S67,R67,"")) | AB70: =UPPER(IF(AND(Y66<>"",Y67<>""),IF(Y66>Y67,S66,IF(Y66=Y67,IF(Z66>Z67,S66,IF(Z67>Z66,S67,"")),S67)),"Match 48 Winner")) -> MATCH 48 WINNER
H71: Stade Vélodrome, Marseille | M71: 46 | N71: 45220.833 | R71: Match for 3rd Place
M72: =IF(N72=H69,G69,IF(N72=H70,G70,"")) | N72: =IF(AND(I69<>"",I70<>""),IF(I69>I70,H69,IF(I69=I70,IF(J69>J70,H69,IF(J70>J69,H70,"")),H70)),"Match 43 Winner") -> Match 43 Winner
M73: =IF(N73=H75,G75,IF(N73=H76,G76,"")) | N73: =IF(AND(I75<>"",I76<>""),IF(I75>I76,H75,IF(I75=I76,IF(J75>J76,H75,IF(J76>J75,H76,"")),H76)),"Match 44 Winner") -> Match 44 Winner | R73: 47 | S73: 45226.833 | AA73: =IF(AB70=S66,R67,IF(AB70=S67,R66,"")) | AB73: 2 | AC73: =IF(AND(Y66<>"",Y67<>""),IF(Y66<Y67,S66,IF(Y66=Y67,IF(Z66<Z67,S66,IF(Z67<Z66,S67,"")),S67)),"Match 48 Loser") -> Match 48 Loser | AJ73: 3 | AK73: =IF(AND(Y74<>"",Y75<>""),IF(Y74>Y75,S74,IF(Y74=Y75,IF(Z74>Z75,S74,IF(Z75>Z74,S75,"")),S75)),"Match 47 winner") -> Match 47 winner
G74: 44 | H74: 45214.833 | N74: Stade de France, Paris | R74: =IF(N60=S66,M61,IF(N61=S66,M60,"")) | S74: =IF(AND(O60<>"",O61<>""),IF(O60<O61,N60,IF(O60=O61,IF(P60<P61,N60,IF(P61<P60,N61,"")),N61)),"Match 45 Loser") -> Match 45 Loser | AA74: =IF(S74=AK73,R74,IF(S75=AK73,R75,""))
G75: 1 | H75: =IF(SUM(AG11:AG15)=20,AD11,"Winner Pool A") -> Winner Pool A | R75: =IF(S67=N72,M73,IF(S67=N73,M72,"")) | S75: =IF(AND(O72<>"",O73<>""),IF(O72<O73,N72,IF(O72=O73,IF(P72<P73,N72,IF(P73<P72,N73,"")),N73)),"Match 46 Loser") -> Match 46 Loser
G76: 2 | H76: =IF(SUM(AG18:AG22)=20,AD19,"Runner Up Pool B") -> Runner Up Pool B | S76: Tokyo Stadium
H77: Stade de France, Paris

Sheet Dummy Table
DU3: 1 | DV3: =Tournament!H12 -> France | DW3: =IF(AND(Tournament!J12<>"",Tournament!L12<>""),Tournament!J12,0) -> 0 | DX3: =IF(AND(Tournament!L12<>"",Tournament!J12<>""),Tournament!L12,0) -> 0 | DY3: =Tournament!N12 -> New Zealand | DZ3: =IF(Tournament!O12<>"",Tournament!O12,0) -> 0 | EA3: =IF(Tournament!Q12<>"",Tournament!Q12,0) -> 0 | EB3: =IF(DW3<>"",IF(Tournament!O12>3,1,0),0) -> 0 | EC3: =IF(DX3<>"",IF(Tournament!Q12>3,1,0),0) -> 0 | ED3: =IFERROR(IF(AND(DW3<>"",DW3<DX3,DX3-DW3<8),1,0),0) -> 0 | EE3: =IFERROR(IF(AND(DX3<>"",DX3<DW3,DW3-DX3<8),1,0),0) -> 0 | EF3: =IF(AND(Tournament!J12<>"",Tournament!L12<>""),IF(DW3>DX3,"W",IF(DW3=DX3,"D","L")),"") | EG3: =IF(EF3<>"",IF(EF3="W","L",IF(EF3="L","W","D")),"")
A4: =VLOOKUP(B4,DS4:DT8,2,FALSE) -> 1 | B4: France | C4: =COUNTIFS(DV3:DV42,B4,EF3:EF42,"W")+COUNTIFS(DY3:DY42,B4,EG3:EG42,"W") -> 0 | D4: =COUNTIFS(DV3:DV42,B4,EF3:EF42,"D")+COUNTIFS(DY3:DY42,B4,EG3:EG42,"D") -> 0 | E4: =COUNTIFS(DV3:DV42,B4,EF3:EF42,"L")+COUNTIFS(DY3:DY42,B4,EG3:EG42,"L") -> 0 | F4: =SUMIF(DV3:DV60,B4,DW3:DW60)+SUMIF(DY3:DY60,B4,DX3:DX60) -> 0 | G4: =SUMIF(DY3:DY60,B4,DW3:DW60)+SUMIF(DV3:DV60,B4,DX3:DX60) -> 0 | H4: =F4-G4+1000 -> 1000 | I4: =SUMIF(Tournament!H12:H51,B4,Tournament!O12:O51)+SUMIF(Tournament!N12:N51,B4,Tournament!Q12:Q51) -> 0 | J4: =SUMIF(Tournament!N12:N51,B4,Tournament!O12:O51)+SUMIF(Tournament!H12:H51,B4,Tournament!Q12:Q51) -> 0 | K4: =I4-J4+1000 -> 1000 | L4: =C4*4+D4*2 -> 0 | M4: =SUMIF(DV:DV,B4,EB:EB)+SUMIF(DY:DY,B4,EC:EC) -> 0 | N4: =SUMIF(DV:DV,B4,ED:ED)+SUMIF(DY:DY,B4,EE:EE) -> 0 | O4: =N4+M4+L4 -> 0 | P4: 20 | Q4: =RANK(O4,O4:O8) -> 1 | S4: =RANK(O4,O4:O8)+COUNTIF(O4:O4,O4)-1 -> 1 | T4: =INDEX(B4:B8,MATCH(1,S4:S8,0),0) -> France | U4: =INDEX(Q4:Q8,MATCH(T4,B4:B8,0),0) -> 1 | V4: =IF(U5=1,T4,"") -> France | W4: =IF(U6=2,T5,"") | X4: =IF(U7=3,T6,"") | Y4: =IF(U8=4,T7,"") | AA4: =IF(V4<>"",V4,"") -> France | AB4: =SUMPRODUCT((DV3:DV42=AA4)*(DY3:DY42=AA5)*(EF3:EF42="W"))+SUMPRODUCT((DV3:DV42=AA4)*(DY3:DY42=AA6)*(EF3:EF42="W"))+SUMPRODUCT((DV3:DV42=AA4)*(DY3:DY42=AA7)*(EF3:EF42="W"))+SUMPRODUCT((DV3:DV42=AA4)*(DY3:DY42=AA8)*(EF3:EF42="W"))+SUMPRODUCT((DV3:DV42=AA5)*(DY3:DY42=AA4)*(EG3:EG42="W"))+SUMPRODUCT((DV3:DV42=AA6)*(DY3:DY42=AA4)*(EG3:EG42="W"))+SUMPRODUCT((DV3:DV42=AA7)*(DY3:DY42=AA4)*(EG3:EG42="W"))+SUMPRODUCT((DV3:DV42=AA8)*(DY3:DY42=AA4)*(EG3:EG42="W")) -> 0 | AC4: =SUMPRODUCT((DV3:DV42=AA4)*(DY3:DY42=AA5)*(EF3:EF42="D"))+SUMPRODUCT((DV3:DV42=AA4)*(DY3:DY42=AA6)*(EF3:EF42="D"))+SUMPRODUCT((DV3:DV42=AA4)*(DY3:DY42=AA7)*(EF3:EF42="D"))+SUMPRODUCT((DV3:DV42=AA4)*(DY3:DY42=AA8)*(EF3:EF42="D"))+SUMPRODUCT((DV3:DV42=AA5)*(DY3:DY42=AA4)*(EF3:EF42="D"))+SUMPRODUCT((DV3:DV42=AA6)*(DY3:DY42=AA4)*(EF3:EF42="D"))+SUMPRODUCT((DV3:DV42=AA7)*(DY3:DY42=AA4)*(EF3:EF42="D"))+SUMPRODUCT((DV3:DV42=AA8)*(DY3:DY42=AA4)*(EF3:EF42="D")) -> 0 | AD4: =SUMPRODUCT((DV3:DV42=AA4)*(DY3:DY42=AA5)*(EF3:EF42="L"))+SUMPRODUCT((DV3:DV42=AA4)*(DY3:DY42=AA6)*(EF3:EF42="L"))+SUMPRODUCT((DV3:DV42=AA4)*(DY3:DY42=AA7)*(EF3:EF42="L"))+SUMPRODUCT((DV3:DV42=AA4)*(DY3:DY42=AA8)*(EF3:EF42="L"))+SUMPRODUCT((DV3:DV42=AA5)*(DY3:DY42=AA4)*(EG3:EG42="L"))+SUMPRODUCT((DV3:DV42=AA6)*(DY3:DY42=AA4)*(EG3:EG42="L"))+SUMPRODUCT((DV3:DV42=AA7)*(DY3:DY42=AA4)*(EG3:EG42="L"))+SUMPRODUCT((DV3:DV42=AA8)*(DY3:DY42=AA4)*(EG3:EG42="L")) -> 0 | AE4: =IF(AA4<>"",VLOOKUP(AA4,B4:F29,5,FALSE),0) -> 0 | AF4: =IF(AA4<>"",VLOOKUP(AA4,B4:G29,6,FALSE),0) -> 0 | AG4: =AE4-AF4+1000 -> 1000 | AH4: =IF(AA4<>"",VLOOKUP(AA4,B4:I29,8,FALSE),0) -> 0 | AI4: =IF(AA4<>"",VLOOKUP(AA4,B4:J29,9,FALSE),0) -> 0 | AJ4: =AH4-AI4+1000 -> 1000 | AK4: =IF(AA4<>"",VLOOKUP(AA4,B4:F8,5,FALSE),"") -> 0 | AL4: =IF(AA4<>"",VLOOKUP(AA4,B4:I8,8,FALSE),"") -> 0 | AM4: =IF(AA4<>"",VLOOKUP(AA4,B4:P8,15,FALSE),"") -> 20 | AN4: =SUMPRODUCT((DV3:DV42=AA4)*(DY3:DY42=AA5)*EB3:EB42)+SUMPRODUCT((DV3:DV42=AA4)*(DY3:DY42=AA6)*EB3:EB42)+SUMPRODUCT((DV3:DV42=AA4)*(DY3:DY42=AA7)*EB3:EB42)+SUMPRODUCT((DV3:DV42=AA4)*(DY3:DY42=AA8)*EB3:EB42)+SUMPRODUCT((DV3:DV42=AA5)*(DY3:DY42=AA4)*EC3:EC42)+SUMPRODUCT((DV3:DV42=AA6)*(DY3:DY42=AA4)*EC3:EC42)+SUMPRODUCT((DV3:DV42=AA7)*(DY3:DY42=AA4)*EC3:EC42)+SUMPRODUCT((DV3:DV42=AA8)*(DY3:DY42=AA4)*EC3:EC42) -> 0 | AO4: =SUMPRODUCT((DV3:DV42=AA4)*(DY3:DY42=AA5)*ED3:ED42)+SUMPRODUCT((DV3:DV42=AA4)*(DY3:DY42=AA6)*ED3:ED42)+SUMPRODUCT((DV3:DV42=AA4)*(DY3:DY42=AA7)*ED3:ED42)+SUMPRODUCT((DV3:DV42=AA4)*(DY3:DY42=AA8)*ED3:ED42)+SUMPRODUCT((DV3:DV42=AA5)*(DY3:DY42=AA4)*EE3:EE42)+SUMPRODUCT((DV3:DV42=AA6)*(DY3:DY42=AA4)*EE3:EE42)+SUMPRODUCT((DV3:DV42=AA7)*(DY3:DY42=AA4)*EE3:EE42)+SUMPRODUCT((DV3:DV42=AA8)*(DY3:DY42=AA4)*EE3:EE42) -> 0 | AP4: =AB4*4+AC4*2+AN4+AO4 -> 0 | AQ4: =IF(AA4<>"",RANK(AP4,AP4:AP8),"") -> 1 | AR4: =SUMPRODUCT((AP4:AP8=AP4)*(AG4:AG8>AG4)) -> 0 | AS4: =SUMPRODUCT((AP4:AP8=AP4)*(AG4:AG8=AG4)*(AJ4:AJ8>AJ4)) -> 0 | AT4: =SUMPRODUCT((AP4:AP8=AP4)*(AG4:AG8=AG4)*(AJ4:AJ8=AJ4)*(AK4:AK8>AK4)) -> 0 | AU4: =SUMPRODUCT((AP4:AP8=AP4)*(AG4:AG8=AG4)*(AJ4:AJ8=AJ4)*(AK4:AK8=AK4)*(AL4:AL8>AL4)) -> 0 | AV4: =SUMPRODUCT((AP4:AP8=AP4)*(AG4:AG8=AG4)*(AJ4:AJ8=AJ4)*(AK4:AK8=AK4)*(AL4:AL8=AL4)*(AM4:AM8>AM4)) -> 0 | AW4: =IF(AA4<>"",SUM(AQ4:AV4),"") -> 1 | AX4: =IF(AA4<>"",INDEX(AA4:AA8,MATCH(1,AW4:AW8,0),0),"") -> France | DS4: =IF(AX4<>"",AX4,T4) -> France | DT4: 1 | DU4: 2 | DV4: =Tournament!H13 -> Italy | DW4: =IF(AND(Tournament!J13<>"",Tournament!L13<>""),Tournament!J13,0) -> 0 | DX4: =IF(AND(Tournament!L13<>"",Tournament!J13<>""),Tournament!L13,0) -> 0 | DY4: =Tournament!N13 -> Namibia | DZ4: =IF(Tournament!O13<>"",Tournament!O13,0) -> 0 | EA4: =IF(Tournament!Q13<>"",Tournament!Q13,0) -> 0 | EB4: =IF(DW4<>"",IF(Tournament!O13>3,1,0),0) -> 0 | EC4: =IF(DX4<>"",IF(Tournament!Q13>3,1,0),0) -> 0 | ED4: =IFERROR(IF(AND(DW4<>"",DW4<DX4,DX4-DW4<8),1,0),0) -> 0 | EE4: =IFERROR(IF(AND(DX4<>"",DX4<DW4,DW4-DX4<8),1,0),0) -> 0 | EF4: =IF(AND(Tournament!J13<>"",Tournament!L13<>""),IF(DW4>DX4,"W",IF(DW4=DX4,"D","L")),"") | EG4: =IF(EF4<>"",IF(EF4="W","L",IF(EF4="L","W","D")),"")
A5: =VLOOKUP(B5,DS4:DT8,2,FALSE) -> 3 | B5: Italy | C5: =COUNTIFS(DV3:DV42,B5,EF3:EF42,"W")+COUNTIFS(DY3:DY42,B5,EG3:EG42,"W") -> 0 | D5: =COUNTIFS(DV3:DV42,B5,EF3:EF42,"D")+COUNTIFS(DY3:DY42,B5,EG3:EG42,"D") -> 0 | E5: =COUNTIFS(DV3:DV42,B5,EF3:EF42,"L")+COUNTIFS(DY3:DY42,B5,EG3:EG42,"L") -> 0 | F5: =SUMIF(DV3:DV60,B5,DW3:DW60)+SUMIF(DY3:DY60,B5,DX3:DX60) -> 0 | G5: =SUMIF(DY3:DY60,B5,DW3:DW60)+SUMIF(DV3:DV60,B5,DX3:DX60) -> 0 | H5: =F5-G5+1000 -> 1000 | I5: =SUMIF(Tournament!H12:H51,B5,Tournament!O12:O51)+SUMIF(Tournament!N12:N51,B5,Tournament!Q12:Q51) -> 0 | J5: =SUMIF(Tournament!N12:N51,B5,Tournament!O12:O51)+SUMIF(Tournament!H12:H51,B5,Tournament!Q12:Q51) -> 0 | K5: =I5-J5+1000 -> 1000 | L5: =C5*4+D5*2 -> 0 | M5: =SUMIF(DV:DV,B5,EB:EB)+SUMIF(DY:DY,B5,EC:EC) -> 0 | N5: =SUMIF(DV:DV,B5,ED:ED)+SUMIF(DY:DY,B5,EE:EE) -> 0 | O5: =N5+M5+L5 -> 0 | P5: 10 | Q5: =RANK(O5,O4:O8) -> 1 | S5: =RANK(O5,O4:O8)+COUNTIF(O4:O5,O5)-1 -> 2 | T5: =INDEX(B4:B8,MATCH(2,S4:S8,0),0) -> Italy | U5: =INDEX(Q4:Q8,MATCH(T5,B4:B8,0),0) -> 1 | V5: =IF(V4<>"",T5,"") -> Italy | W5: =IF(W4<>"",T6,"") | X5: =IF(X4<>"",T7,"") | Y5: =IF(Y4<>"",T8,"") | AA5: =IF(V5<>"",V5,"") -> Italy | AB5: =SUMPRODUCT((DV3:DV42=AA5)*(DY3:DY42=AA6)*(EF3:EF42="W"))+SUMPRODUCT((DV3:DV42=AA5)*(DY3:DY42=AA7)*(EF3:EF42="W"))+SUMPRODUCT((DV3:DV42=AA5)*(DY3:DY42=AA8)*(EF3:EF42="W"))+SUMPRODUCT((DV3:DV42=AA5)*(DY3:DY42=AA4)*(EF3:EF42="W"))+SUMPRODUCT((DV3:DV42=AA6)*(DY3:DY42=AA5)*(EG3:EG42="W"))+SUMPRODUCT((DV3:DV42=AA7)*(DY3:DY42=AA5)*(EG3:EG42="W"))+SUMPRODUCT((DV3:DV42=AA8)*(DY3:DY42=AA5)*(EG3:EG42="W"))+SUMPRODUCT((DV3:DV42=AA4)*(DY3:DY42=AA5)*(EG3:EG42="W")) -> 0 | AC5: =SUMPRODUCT((DV3:DV42=AA5)*(DY3:DY42=AA6)*(EF3:EF42="D"))+SUMPRODUCT((DV3:DV42=AA5)*(DY3:DY42=AA7)*(EF3:EF42="D"))+SUMPRODUCT((DV3:DV42=AA5)*(DY3:DY42=AA8)*(EF3:EF42="D"))+SUMPRODUCT((DV3:DV42=AA5)*(DY3:DY42=AA4)*(EF3:EF42="D"))+SUMPRODUCT((DV3:DV42=AA6)*(DY3:DY42=AA5)*(EF3:EF42="D"))+SUMPRODUCT((DV3:DV42=AA7)*(DY3:DY42=AA5)*(EF3:EF42="D"))+SUMPRODUCT((DV3:DV42=AA8)*(DY3:DY42=AA5)*(EF3:EF42="D"))+SUMPRODUCT((DV3:DV42=AA4)*(DY3:DY42=AA5)*(EF3:EF42="D")) -> 0 | AD5: =SUMPRODUCT((DV3:DV42=AA5)*(DY3:DY42=AA6)*(EF3:EF42="L"))+SUMPRODUCT((DV3:DV42=AA5)*(DY3:DY42=AA7)*(EF3:EF42="L"))+SUMPRODUCT((DV3:DV42=AA5)*(DY3:DY42=AA8)*(EF3:EF42="L"))+SUMPRODUCT((DV3:DV42=AA5)*(DY3:DY42=AA4)*(EF3:EF42="L"))+SUMPRODUCT((DV3:DV42=AA6)*(DY3:DY42=AA5)*(EG3:EG42="L"))+SUMPRODUCT((DV3:DV42=AA7)*(DY3:DY42=AA5)*(EG3:EG42="L"))+SUMPRODUCT((DV3:DV42=AA8)*(DY3:DY42=AA5)*(EG3:EG42="L"))+SUMPRODUCT((DV3:DV42=AA4)*(DY3:DY42=AA5)*(EG3:EG42="L")) -> 0 | AE5: =IF(AA5<>"",VLOOKUP(AA5,B4:F29,5,FALSE),0) -> 0 | AF5: =IF(AA5<>"",VLOOKUP(AA5,B4:G29,6,FALSE),0) -> 0 | AG5: =AE5-AF5+1000 -> 1000 | AH5: =IF(AA5<>"",VLOOKUP(AA5,B4:I29,8,FALSE),0) -> 0 | AI5: =IF(AA5<>"",VLOOKUP(AA5,B4:J29,9,FALSE),0) -> 0 | AJ5: =AH5-AI5+1000 -> 1000 | AK5: =IF(AA5<>"",VLOOKUP(AA5,B4:F8,5,FALSE),"") -> 0 | AL5: =IF(AA5<>"",VLOOKUP(AA5,B4:I8,8,FALSE),"") -> 0 | AM5: =IF(AA5<>"",VLOOKUP(AA5,B4:P8,15,FALSE),"") -> 10 | AN5: =SUMPRODUCT((DV3:DV42=AA5)*(DY3:DY42=AA6)*EB3:EB42)+SUMPRODUCT((DV3:DV42=AA5)*(DY3:DY42=AA7)*EB3:EB42)+SUMPRODUCT((DV3:DV42=AA5)*(DY3:DY42=AA8)*EB3:EB42)+SUMPRODUCT((DV3:DV42=AA5)*(DY3:DY42=AA4)*EB3:EB42)+SUMPRODUCT((DV3:DV42=AA6)*(DY3:DY42=AA5)*EC3:EC42)+SUMPRODUCT((DV3:DV42=AA7)*(DY3:DY42=AA5)*EC3:EC42)+SUMPRODUCT((DV3:DV42=AA8)*(DY3:DY42=AA5)*EC3:EC42)+SUMPRODUCT((DV3:DV42=AA4)*(DY3:DY42=AA5)*EC3:EC42) -> 0 | AO5: =SUMPRODUCT((DV3:DV42=AA5)*(DY3:DY42=AA6)*ED3:ED42)+SUMPRODUCT((DV3:DV42=AA5)*(DY3:DY42=AA7)*ED3:ED42)+SUMPRODUCT((DV3:DV42=AA5)*(DY3:DY42=AA8)*ED3:ED42)+SUMPRODUCT((DV3:DV42=AA5)*(DY3:DY42=AA4)*ED3:ED42)+SUMPRODUCT((DV3:DV42=AA6)*(DY3:DY42=AA5)*EE3:EE42)+SUMPRODUCT((DV3:DV42=AA7)*(DY3:DY42=AA5)*EE3:EE42)+SUMPRODUCT((DV3:DV42=AA8)*(DY3:DY42=AA5)*EE3:EE42)+SUMPRODUCT((DV3:DV42=AA4)*(DY3:DY42=AA5)*EE3:EE42) -> 0 | AP5: =AB5*4+AC5*2+AN5+AO5 -> 0 | AQ5: =IF(AA5<>"",RANK(AP5,AP4:AP8),"") -> 1 | AR5: =SUMPRODUCT((AP4:AP8=AP5)*(AG4:AG8>AG5)) -> 0 | AS5: =SUMPRODUCT((AP4:AP8=AP5)*(AG4:AG8=AG5)*(AJ4:AJ8>AJ5)) -> 0 | AT5: =SUMPRODUCT((AP4:AP8=AP5)*(AG4:AG8=AG5)*(AJ4:AJ8=AJ5)*(AK4:AK8>AK5)) -> 0 | AU5: =SUMPRODUCT((AP4:AP8=AP5)*(AG4:AG8=AG5)*(AJ4:AJ8=AJ5)*(AK4:AK8=AK5)*(AL4:AL8>AL5)) -> 0 | AV5: =SUMPRODUCT((AP4:AP8=AP5)*(AG4:AG8=AG5)*(AJ4:AJ8=AJ5)*(AK4:AK8=AK5)*(AL4:AL8=AL5)*(AM4:AM8>AM5)) -> 2 | AW5: =IF(AA5<>"",SUM(AQ5:AV5),"") -> 3 | AX5: =IF(AA5<>"",INDEX(AA4:AA8,MATCH(2,AW4:AW8,0),0),"") -> New Zealand | AY5: =IF(W4<>"",W4,"") | AZ5: =SUMPRODUCT((DV3:DV42=AY5)*(DY3:DY42=AY6)*(EF3:EF42="W"))+SUMPRODUCT((DV3:DV42=AY5)*(DY3:DY42=AY7)*(EF3:EF42="W"))+SUMPRODUCT((DV3:DV42=AY5)*(DY3:DY42=AY8)*(EF3:EF42="W"))+SUMPRODUCT((DV3:DV42=AY6)*(DY3:DY42=AY5)*(EG3:EG42="W"))+SUMPRODUCT((DV3:DV42=AY7)*(DY3:DY42=AY5)*(EG3:EG42="W"))+SUMPRODUCT((DV3:DV42=AY8)*(DY3:DY42=AY5)*(EG3:EG42="W")) -> 0 | BA5: =SUMPRODUCT((DV3:DV42=AY5)*(DY3:DY42=AY6)*(EF3:EF42="D"))+SUMPRODUCT((DV3:DV42=AY5)*(DY3:DY42=AY7)*(EF3:EF42="D"))+SUMPRODUCT((DV3:DV42=AY5)*(DY3:DY42=AY8)*(EF3:EF42="D"))+SUMPRODUCT((DV3:DV42=AY6)*(DY3:DY42=AY5)*(EF3:EF42="D"))+SUMPRODUCT((DV3:DV42=AY7)*(DY3:DY42=AY5)*(EF3:EF42="D"))+SUMPRODUCT((DV3:DV42=AY8)*(DY3:DY42=AY5)*(EF3:EF42="D")) -> 0 | BB5: =SUMPRODUCT((DV3:DV42=AY5)*(DY3:DY42=AY6)*(EF3:EF42="L"))+SUMPRODUCT((DV3:DV42=AY5)*(DY3:DY42=AY7)*(EF3:EF42="L"))+SUMPRODUCT((DV3:DV42=AY5)*(DY3:DY42=AY8)*(EF3:EF42="L"))+SUMPRODUCT((DV3:DV42=AY6)*(DY3:DY42=AY5)*(EG3:EG42="L"))+SUMPRODUCT((DV3:DV42=AY7)*(DY3:DY42=AY5)*(EG3:EG42="L"))+SUMPRODUCT((DV3:DV42=AY8)*(DY3:DY42=AY5)*(EG3:EG42="L")) -> 0 | BC5: =IF(AY5<>"",VLOOKUP(AY5,B4:F29,5,FALSE),0) -> 0 | BD5: =IF(AY5<>"",VLOOKUP(AY5,B4:G29,6,FALSE),0) -> 0 | BE5: =BC5-BD5+1000 -> 1000 | BF5: =IF(AY5<>"",VLOOKUP(AY5,B4:I29,8,FALSE),0) -> 0 | BG5: =IF(AY5<>"",VLOOKUP(AY5,B4:J29,9,FALSE),0) -> 0 | BH5: =BF5-BG5+1000 -> 1000 | BI5: =IF(AY5<>"",VLOOKUP(AY5,B4:F8,5,FALSE),"") | BJ5: =IF(AY5<>"",VLOOKUP(AY5,B4:I8,8,FALSE),"") | BK5: =IF(AY5<>"",VLOOKUP(AY5,B4:P8,15,FALSE),"") | BL5: =SUMPRODUCT((DV3:DV42=AY5)*(DY3:DY42=AY6)*EB3:EB42)+SUMPRODUCT((DV3:DV42=AY5)*(DY3:DY42=AY7)*EB3:EB42)+SUMPRODUCT((DV3:DV42=AY5)*(DY3:DY42=AY8)*EB3:EB42)+SUMPRODUCT((DV3:DV42=AY6)*(DY3:DY42=AY5)*EC3:EC42)+SUMPRODUCT((DV3:DV42=AY7)*(DY3:DY42=AY5)*EC3:EC42)+SUMPRODUCT((DV3:DV42=AY8)*(DY3:DY42=AY5)*EC3:EC42) -> 0 | BM5: =SUMPRODUCT((DV3:DV42=AY5)*(DY3:DY42=AY6)*ED3:ED42)+SUMPRODUCT((DV3:DV42=AY5)*(DY3:DY42=AY7)*ED3:ED42)+SUMPRODUCT((DV3:DV42=AY5)*(DY3:DY42=AY8)*ED3:ED42)+SUMPRODUCT((DV3:DV42=AY6)*(DY3:DY42=AY5)*EE3:EE42)+SUMPRODUCT((DV3:DV42=AY7)*(DY3:DY42=AY5)*EE3:EE42)+SUMPRODUCT((DV3:DV42=AY8)*(DY3:DY42=AY5)*EE3:EE42) -> 0 | BN5: =AZ5*4+BA5*2+BL5+BM5 -> 0 | BO5: =IF(AY5<>"",RANK(BN5,BN5:BN8),"") | BP5: =SUMPRODUCT((BN5:BN8=BN5)*(BE5:BE8>BE5)) -> 0 | BQ5: =SUMPRODUCT((BN5:BN8=BN5)*(BE5:BE8=BE5)*(BH5:BH8>BH5)) -> 0 | BR5: =SUMPRODUCT((BN4:BN8=BN5)*(BE4:BE8=BE5)*(BH4:BH8=BH5)*(BI4:BI8>BI5)) -> 0 | BS5: =SUMPRODUCT((BN4:BN8=BN5)*(BE4:BE8=BE5)*(BH4:BH8=BH5)*(BI4:BI8=BI5)*(BJ4:BJ8>BJ5)) -> 0 | BT5: =SUMPRODUCT((BN4:BN8=BN5)*(BE4:BE8=BE5)*(BH4:BH8=BH5)*(BI4:BI8=BI5)*(BJ4:BJ8=BJ5)*(BK4:BK8>BK5)) -> 0 | BU5: =IF(AY5<>"",SUM(BO5:BT5)+1,"") | BV5: =IF(AY5<>"",INDEX(AY5:AY8,MATCH(2,BU5:BU8,0),0),"") | DS5: =IF(BV5<>"",BV5,IF(AX5<>"",AX5,T5)) -> New Zealand | DT5: 2 | DU5: 3 | DV5: =Tournament!H14 -> Ireland | DW5: =IF(AND(Tournament!J14<>"",Tournament!L14<>""),Tournament!J14,0) -> 0 | DX5: =IF(AND(Tournament!L14<>"",Tournament!J14<>""),Tournament!L14,0) -> 0 | DY5: =Tournament!N14 -> Romania | DZ5: =IF(Tournament!O14<>"",Tournament!O14,0) -> 0 | EA5: =IF(Tournament!Q14<>"",Tournament!Q14,0) -> 0 | EB5: =IF(DW5<>"",IF(Tournament!O14>3,1,0),0) -> 0 | EC5: =IF(DX5<>"",IF(Tournament!Q14>3,1,0),0) -> 0 | ED5: =IFERROR(IF(AND(DW5<>"",DW5<DX5,DX5-DW5<8),1,0),0) -> 0 | EE5: =IFERROR(IF(AND(DX5<>"",DX5<DW5,DW5-DX5<8),1,0),0) -> 0 | EF5: =IF(AND(Tournament!J14<>"",Tournament!L14<>""),IF(DW5>DX5,"W",IF(DW5=DX5,"D","L")),"") | EG5: =IF(EF5<>"",IF(EF5="W","L",IF(EF5="L","W","D")),"")
A6: =VLOOKUP(B6,DS4:DT8,2,FALSE) -> 5 | B6: Namibia | C6: =COUNTIFS(DV3:DV42,B6,EF3:EF42,"W")+COUNTIFS(DY3:DY42,B6,EG3:EG42,"W") -> 0 | D6: =COUNTIFS(DV3:DV42,B6,EF3:EF42,"D")+COUNTIFS(DY3:DY42,B6,EG3:EG42,"D") -> 0 | E6: =COUNTIFS(DV3:DV42,B6,EF3:EF42,"L")+COUNTIFS(DY3:DY42,B6,EG3:EG42,"L") -> 0 | F6: =SUMIF(DV3:DV60,B6,DW3:DW60)+SUMIF(DY3:DY60,B6,DX3:DX60) -> 0 | G6: =SUMIF(DY3:DY60,B6,DW3:DW60)+SUMIF(DV3:DV60,B6,DX3:DX60) -> 0 | H6: =F6-G6+1000 -> 1000 | I6: =SUMIF(Tournament!H12:H51,B6,Tournament!O12:O51)+SUMIF(Tournament!N12:N51,B6,Tournament!Q12:Q51) -> 0 | J6: =SUMIF(Tournament!N12:N51,B6,Tournament!O12:O51)+SUMIF(Tournament!H12:H51,B6,Tournament!Q12:Q51) -> 0 | K6: =I6-J6+1000 -> 1000 | L6: =C6*4+D6*2 -> 0 | M6: =SUMIF(DV:DV,B6,EB:EB)+SUMIF(DY:DY,B6,EC:EC) -> 0 | N6: =SUMIF(DV:DV,B6,ED:ED)+SUMIF(DY:DY,B6,EE:EE) -> 0 | O6: =N6+M6+L6 -> 0 | P6: 2 | Q6: =RANK(O6,O4:O8) -> 1 | S6: =RANK(O6,O4:O8)+COUNTIF(O4:O6,O6)-1 -> 3 | T6: =INDEX(B4:B8,MATCH(3,S4:S8,0),0) -> Namibia | U6: =INDEX(Q4:Q8,MATCH(T6,B4:B8,0),0) -> 1 | V6: =IF(AND(V5<>"",U6=1),T6,"") -> Namibia | W6: =IF(AND(W5<>"",U7=2),T7,"") | X6: =IF(AND(X5<>"",U8=3),T8,"") | AA6: =IF(V6<>"",V6,"") -> Namibia | AB6: =SUMPRODUCT((DV3:DV42=AA6)*(DY3:DY42=AA7)*(EF3:EF42="W"))+SUMPRODUCT((DV3:DV42=AA6)*(DY3:DY42=AA8)*(EF3:EF42="W"))+SUMPRODUCT((DV3:DV42=AA6)*(DY3:DY42=AA4)*(EF3:EF42="W"))+SUMPRODUCT((DV3:DV42=AA6)*(DY3:DY42=AA5)*(EF3:EF42="W"))+SUMPRODUCT((DV3:DV42=AA7)*(DY3:DY42=AA6)*(EG3:EG42="W"))+SUMPRODUCT((DV3:DV42=AA8)*(DY3:DY42=AA6)*(EG3:EG42="W"))+SUMPRODUCT((DV3:DV42=AA4)*(DY3:DY42=AA6)*(EG3:EG42="W"))+SUMPRODUCT((DV3:DV42=AA5)*(DY3:DY42=AA6)*(EG3:EG42="W")) -> 0 | AC6: =SUMPRODUCT((DV3:DV42=AA6)*(DY3:DY42=AA7)*(EF3:EF42="D"))+SUMPRODUCT((DV3:DV42=AA6)*(DY3:DY42=AA8)*(EF3:EF42="D"))+SUMPRODUCT((DV3:DV42=AA6)*(DY3:DY42=AA4)*(EF3:EF42="D"))+SUMPRODUCT((DV3:DV42=AA6)*(DY3:DY42=AA5)*(EF3:EF42="D"))+SUMPRODUCT((DV3:DV42=AA7)*(DY3:DY42=AA6)*(EF3:EF42="D"))+SUMPRODUCT((DV3:DV42=AA8)*(DY3:DY42=AA6)*(EF3:EF42="D"))+SUMPRODUCT((DV3:DV42=AA4)*(DY3:DY42=AA6)*(EF3:EF42="D"))+SUMPRODUCT((DV3:DV42=AA5)*(DY3:DY42=AA6)*(EF3:EF42="D")) -> 0 | AD6: =SUMPRODUCT((DV3:DV42=AA6)*(DY3:DY42=AA7)*(EF3:EF42="L"))+SUMPRODUCT((DV3:DV42=AA6)*(DY3:DY42=AA8)*(EF3:EF42="L"))+SUMPRODUCT((DV3:DV42=AA6)*(DY3:DY42=AA4)*(EF3:EF42="L"))+SUMPRODUCT((DV3:DV42=AA6)*(DY3:DY42=AA5)*(EF3:EF42="L"))+SUMPRODUCT((DV3:DV42=AA7)*(DY3:DY42=AA6)*(EG3:EG42="L"))+SUMPRODUCT((DV3:DV42=AA8)*(DY3:DY42=AA6)*(EG3:EG42="L"))+SUMPRODUCT((DV3:DV42=AA4)*(DY3:DY42=AA6)*(EG3:EG42="L"))+SUMPRODUCT((DV3:DV42=AA5)*(DY3:DY42=AA6)*(EG3:EG42="L")) -> 0 | AE6: =IF(AA6<>"",VLOOKUP(AA6,B4:F29,5,FALSE),0) -> 0 | AF6: =IF(AA6<>"",VLOOKUP(AA6,B4:G29,6,FALSE),0) -> 0 | AG6: =AE6-AF6+1000 -> 1000 | AH6: =IF(AA6<>"",VLOOKUP(AA6,B4:I29,8,FALSE),0) -> 0 | AI6: =IF(AA6<>"",VLOOKUP(AA6,B4:J29,9,FALSE),0) -> 0 | AJ6: =AH6-AI6+1000 -> 1000 | AK6: =IF(AA6<>"",VLOOKUP(AA6,B4:F8,5,FALSE),"") -> 0 | AL6: =IF(AA6<>"",VLOOKUP(AA6,B4:I8,8,FALSE),"") -> 0 | AM6: =IF(AA6<>"",VLOOKUP(AA6,B4:P8,15,FALSE),"") -> 2 | AN6: =SUMPRODUCT((DV3:DV42=AA6)*(DY3:DY42=AA7)*EB3:EB42)+SUMPRODUCT((DV3:DV42=AA6)*(DY3:DY42=AA8)*EB3:EB42)+SUMPRODUCT((DV3:DV42=AA6)*(DY3:DY42=AA4)*EB3:EB42)+SUMPRODUCT((DV3:DV42=AA6)*(DY3:DY42=AA5)*EB3:EB42)+SUMPRODUCT((DV3:DV42=AA7)*(DY3:DY42=AA6)*EC3:EC42)+SUMPRODUCT((DV3:DV42=AA8)*(DY3:DY42=AA6)*EC3:EC42)+SUMPRODUCT((DV3:DV42=AA4)*(DY3:DY42=AA6)*EC3:EC42)+SUMPRODUCT((DV3:DV42=AA5)*(DY3:DY42=AA6)*EC3:EC42) -> 0 | AO6: =SUMPRODUCT((DV3:DV42=AA6)*(DY3:DY42=AA7)*ED3:ED42)+SUMPRODUCT((DV3:DV42=AA6)*(DY3:DY42=AA8)*ED3:ED42)+SUMPRODUCT((DV3:DV42=AA6)*(DY3:DY42=AA4)*ED3:ED42)+SUMPRODUCT((DV3:DV42=AA6)*(DY3:DY42=AA5)*ED3:ED42)+SUMPRODUCT((DV3:DV42=AA7)*(DY3:DY42=AA6)*EE3:EE42)+SUMPRODUCT((DV3:DV42=AA8)*(DY3:DY42=AA6)*EE3:EE42)+SUMPRODUCT((DV3:DV42=AA4)*(DY3:DY42=AA6)*EE3:EE42)+SUMPRODUCT((DV3:DV42=AA5)*(DY3:DY42=AA6)*EE3:EE42) -> 0 | AP6: =AB6*4+AC6*2+AN6+AO6 -> 0 | AQ6: =IF(AA6<>"",RANK(AP6,AP4:AP8),"") -> 1 | AR6: =SUMPRODUCT((AP4:AP8=AP6)*(AG4:AG8>AG6)) -> 0 | AS6: =SUMPRODUCT((AP4:AP8=AP6)*(AG4:AG8=AG6)*(AJ4:AJ8>AJ6)) -> 0 | AT6: =SUMPRODUCT((AP4:AP8=AP6)*(AG4:AG8=AG6)*(AJ4:AJ8=AJ6)*(AK4:AK8>AK6)) -> 0 | AU6: =SUMPRODUCT((AP4:AP8=AP6)*(AG4:AG8=AG6)*(AJ4:AJ8=AJ6)*(AK4:AK8=AK6)*(AL4:AL8>AL6)) -> 0 | AV6: =SUMPRODUCT((AP4:AP8=AP6)*(AG4:AG8=AG6)*(AJ4:AJ8=AJ6)*(AK4:AK8=AK6)*(AL4:AL8=AL6)*(AM4:AM8>AM6)) -> 4 | AW6: =IF(AA6<>"",SUM(AQ6:AV6),"") -> 5 | AX6: =IF(AA6<>"",INDEX(AA4:AA8,MATCH(3,AW4:AW8,0),0),"") -> Italy | AY6: =IF(W5<>"",W5,"") | AZ6: =SUMPRODUCT((DV3:DV42=AY6)*(DY3:DY42=AY7)*(EF3:EF42="W"))+SUMPRODUCT((DV3:DV42=AY6)*(DY3:DY42=AY8)*(EF3:EF42="W"))+SUMPRODUCT((DV3:DV42=AY6)*(DY3:DY42=AY5)*(EF3:EF42="W"))+SUMPRODUCT((DV3:DV42=AY7)*(DY3:DY42=AY6)*(EG3:EG42="W"))+SUMPRODUCT((DV3:DV42=AY8)*(DY3:DY42=AY6)*(EG3:EG42="W"))+SUMPRODUCT((DV3:DV42=AY5)*(DY3:DY42=AY6)*(EG3:EG42="W")) -> 0 | BA6: =SUMPRODUCT((DV3:DV42=AY6)*(DY3:DY42=AY7)*(EF3:EF42="D"))+SUMPRODUCT((DV3:DV42=AY6)*(DY3:DY42=AY8)*(EF3:EF42="D"))+SUMPRODUCT((DV3:DV42=AY6)*(DY3:DY42=AY5)*(EF3:EF42="D"))+SUMPRODUCT((DV3:DV42=AY7)*(DY3:DY42=AY6)*(EF3:EF42="D"))+SUMPRODUCT((DV3:DV42=AY8)*(DY3:DY42=AY6)*(EF3:EF42="D"))+SUMPRODUCT((DV3:DV42=AY5)*(DY3:DY42=AY6)*(EF3:EF42="D")) -> 0 | BB6: =SUMPRODUCT((DV3:DV42=AY6)*(DY3:DY42=AY7)*(EF3:EF42="L"))+SUMPRODUCT((DV3:DV42=AY6)*(DY3:DY42=AY8)*(EF3:EF42="L"))+SUMPRODUCT((DV3:DV42=AY6)*(DY3:DY42=AY5)*(EF3:EF42="L"))+SUMPRODUCT((DV3:DV42=AY7)*(DY3:DY42=AY6)*(EG3:EG42="L"))+SUMPRODUCT((DV3:DV42=AY8)*(DY3:DY42=AY6)*(EG3:EG42="L"))+SUMPRODUCT((DV3:DV42=AY5)*(DY3:DY42=AY6)*(EG3:EG42="L")) -> 0 | BC6: =IF(AY6<>"",VLOOKUP(AY6,B4:F29,5,FALSE),0) -> 0 | BD6: =IF(AY6<>"",VLOOKUP(AY6,B4:G29,6,FALSE),0) -> 0 | BE6: =BC6-BD6+1000 -> 1000 | BF6: =IF(AY6<>"",VLOOKUP(AY6,B4:I29,8,FALSE),0) -> 0 | BG6: =IF(AY6<>"",VLOOKUP(AY6,B4:J29,9,FALSE),0) -> 0 | BH6: =BF6-BG6+1000 -> 1000 | BI6: =IF(AY6<>"",VLOOKUP(AY6,B4:F8,5,FALSE),"") | BJ6: =IF(AY6<>"",VLOOKUP(AY6,B4:I8,8,FALSE),"") | BK6: =IF(AY6<>"",VLOOKUP(AY6,B4:P8,15,FALSE),"") | BL6: =SUMPRODUCT((DV3:DV42=AY6)*(DY3:DY42=AY7)*EB3:EB42)+SUMPRODUCT((DV3:DV42=AY6)*(DY3:DY42=AY8)*EB3:EB42)+SUMPRODUCT((DV3:DV42=AY6)*(DY3:DY42=AY5)*EB3:EB42)+SUMPRODUCT((DV3:DV42=AY7)*(DY3:DY42=AY6)*EC3:EC42)+SUMPRODUCT((DV3:DV42=AY8)*(DY3:DY42=AY6)*EC3:EC42)+SUMPRODUCT((DV3:DV42=AY5)*(DY3:DY42=AY6)*EC3:EC42) -> 0 | BM6: =SUMPRODUCT((DV3:DV42=AY6)*(DY3:DY42=AY7)*ED3:ED42)+SUMPRODUCT((DV3:DV42=AY6)*(DY3:DY42=AY8)*ED3:ED42)+SUMPRODUCT((DV3:DV42=AY6)*(DY3:DY42=AY5)*ED3:ED42)+SUMPRODUCT((DV3:DV42=AY7)*(DY3:DY42=AY6)*EE3:EE42)+SUMPRODUCT((DV3:DV42=AY8)*(DY3:DY42=AY6)*EE3:EE42)+SUMPRODUCT((DV3:DV42=AY5)*(DY3:DY42=AY6)*EE3:EE42) -> 0 | BN6: =AZ6*4+BA6*2+BL6+BM6 -> 0 | BO6: =IF(AY6<>"",RANK(BN6,BN5:BN8),"") | BP6: =SUMPRODUCT((BN5:BN8=BN6)*(BE5:BE8>BE6)) -> 0 | BQ6: =SUMPRODUCT((BN5:BN8=BN6)*(BE5:BE8=BE6)*(BH5:BH8>BH6)) -> 0 | BR6: =SUMPRODUCT((BN4:BN8=BN6)*(BE4:BE8=BE6)*(BH4:BH8=BH6)*(BI4:BI8>BI6)) -> 0 | BS6: =SUMPRODUCT((BN4:BN8=BN6)*(BE4:BE8=BE6)*(BH4:BH8=BH6)*(BI4:BI8=BI6)*(BJ4:BJ8>BJ6)) -> 0 | BT6: =SUMPRODUCT((BN4:BN8=BN6)*(BE4:BE8=BE6)*(BH4:BH8=BH6)*(BI4:BI8=BI6)*(BJ4:BJ8=BJ6)*(BK4:BK8>BK6)) -> 0 | BU6: =IF(AY6<>"",SUM(BO6:BT6)+1,"") | BV6: =IF(AY6<>"",INDEX(AY5:AY8,MATCH(3,BU5:BU8,0),0),"") | BW6: =IF(X4<>"",X4,"") | BX6: =SUMPRODUCT((DV3:DV42=BW6)*(DY3:DY42=BW7)*(EF3:EF42="W"))+SUMPRODUCT((DV3:DV42=BW6)*(DY3:DY42=BW8)*(EF3:EF42="W"))+SUMPRODUCT((DV3:DV42=BW6)*(DY3:DY42=BW9)*(EF3:EF42="W"))+SUMPRODUCT((DV3:DV42=BW7)*(DY3:DY42=BW6)*(EG3:EG42="W"))+SUMPRODUCT((DV3:DV42=BW8)*(DY3:DY42=BW6)*(EG3:EG42="W"))+SUMPRODUCT((DV3:DV42=BW9)*(DY3:DY42=BW6)*(EG3:EG42="W")) -> 0 | BY6: =SUMPRODUCT((DV3:DV42=BW6)*(DY3:DY42=BW7)*(EF3:EF42="D"))+SUMPRODUCT((DV3:DV42=BW6)*(DY3:DY42=BW8)*(EF3:EF42="D"))+SUMPRODUCT((DV3:DV42=BW6)*(DY3:DY42=BW9)*(EF3:EF42="D"))+SUMPRODUCT((DV3:DV42=BW7)*(DY3:DY42=BW6)*(EF3:EF42="D"))+SUMPRODUCT((DV3:DV42=BW8)*(DY3:DY42=BW6)*(EF3:EF42="D"))+SUMPRODUCT((DV3:DV42=BW9)*(DY3:DY42=BW6)*(EF3:EF42="D")) -> 0 | BZ6: =SUMPRODUCT((DV3:DV42=BW6)*(DY3:DY42=BW7)*(EF3:EF42="L"))+SUMPRODUCT((DV3:DV42=BW6)*(DY3:DY42=BW8)*(EF3:EF42="L"))+SUMPRODUCT((DV3:DV42=BW6)*(DY3:DY42=BW9)*(EF3:EF42="L"))+SUMPRODUCT((DV3:DV42=BW7)*(DY3:DY42=BW6)*(EG3:EG42="L"))+SUMPRODUCT((DV3:DV42=BW8)*(DY3:DY42=BW6)*(EG3:EG42="L"))+SUMPRODUCT((DV3:DV42=BW9)*(DY3:DY42=BW6)*(EG3:EG42="L")) -> 0 | CA6: =IF(BW6<>"",VLOOKUP(BW6,B4:F29,5,FALSE),0) -> 0 | CB6: =IF(BW6<>"",VLOOKUP(BW6,B4:G29,6,FALSE),0) -> 0 | CC6: =CA6-CB6+1000 -> 1000 | CD6: =IF(BW6<>"",VLOOKUP(BW6,B4:I29,8,FALSE),0) -> 0 | CE6: =IF(BW6<>"",VLOOKUP(BW6,B4:J29,9,FALSE),0) -> 0 | CF6: =CD6-CE6+1000 -> 1000 | CG6: =IF(BW6<>"",VLOOKUP(BW6,B4:F8,5,FALSE),"") | CH6: =IF(BW6<>"",VLOOKUP(BW6,B4:I8,8,FALSE),"") | CI6: =IF(BW6<>"",VLOOKUP(BW6,B4:P8,15,FALSE),"") | CJ6: =SUMPRODUCT((DV3:DV42=BW6)*(DY3:DY42=BW7)*EB3:EB42)+SUMPRODUCT((DV3:DV42=BW6)*(DY3:DY42=BW8)*EB3:EB42)+SUMPRODUCT((DV3:DV42=BW6)*(DY3:DY42=BW9)*EB3:EB42)+SUMPRODUCT((DV3:DV42=BW7)*(DY3:DY42=BW6)*EC3:EC42)+SUMPRODUCT((DV3:DV42=BW8)*(DY3:DY42=BW6)*EC3:EC42)+SUMPRODUCT((DV3:DV42=BW9)*(DY3:DY42=BW6)*EC3:EC42) -> 0 | CK6: =SUMPRODUCT((DV3:DV42=BW6)*(DY3:DY42=BW7)*ED3:ED42)+SUMPRODUCT((DV3:DV42=BW6)*(DY3:DY42=BW8)*ED3:ED42)+SUMPRODUCT((DV3:DV42=BW6)*(DY3:DY42=BW9)*ED3:ED42)+SUMPRODUCT((DV3:DV42=BW7)*(DY3:DY42=BW6)*EE3:EE42)+SUMPRODUCT((DV3:DV42=BW8)*(DY3:DY42=BW6)*EE3:EE42)+SUMPRODUCT((DV3:DV42=BW9)*(DY3:DY42=BW6)*EE3:EE42) -> 0 | CL6: =BX6*4+BY6*2+CJ6+CK6 -> 0 | CM6: =IF(BW6<>"",RANK(CL6,CL6:CL9),"") | CN6: =SUMPRODUCT((CL6:CL9=CL6)*(CC6:CC9>CC6)) -> 0 | CO6: =SUMPRODUCT((CL6:CL9=CL6)*(CC6:CC9=CC6)*(CF6:CF9>CF6)) -> 0 | CP6: =SUMPRODUCT((CL4:CL8=CL6)*(CC4:CC8=CC6)*(CF4:CF8=CF6)*(CG4:CG8>CG6)) -> 0 | CQ6: =SUMPRODUCT((CL4:CL8=CL6)*(CC4:CC8=CC6)*(CF4:CF8=CF6)*(CG4:CG8=CG6)*(CH4:CH8>CH6)) -> 0 | CR6: =SUMPRODUCT((CL4:CL8=CL6)*(CC4:CC8=CC6)*(CF4:CF8=CF6)*(CG4:CG8=CG6)*(CH4:CH8=CH6)*(CI4:CI8>CI6)) -> 0 | CS6: =IF(BW6<>"",SUM(CM6:CR6)+2,"") | CT6: =IF(BW6<>"",INDEX(BW6:BW8,MATCH(3,CS6:CS8,0),0),"") | DS6: =IF(CT6<>"",CT6,IF(BV6<>"",BV6,IF(AX6<>"",AX6,T6))) -> Italy | DT6: 3 | DU6: 4 | DV6: =Tournament!H15 -> Australia | DW6: =IF(AND(Tournament!J15<>"",Tournament!L15<>""),Tournament!J15,0) -> 0 | DX6: =IF(AND(Tournament!L15<>"",Tournament!J15<>""),Tournament!L15,0) -> 0 | DY6: =Tournament!N15 -> Georgia | DZ6: =IF(Tournament!O15<>"",Tournament!O15,0) -> 0 | EA6: =IF(Tournament!Q15<>"",Tournament!Q15,0) -> 0 | EB6: =IF(DW6<>"",IF(Tournament!O15>3,1,0),0) -> 0 | EC6: =IF(DX6<>"",IF(Tournament!Q15>3,1,0),0) -> 0 | ED6: =IFERROR(IF(AND(DW6<>"",DW6<DX6,DX6-DW6<8),1,0),0) -> 0 | EE6: =IFERROR(IF(AND(DX6<>"",DX6<DW6,DW6-DX6<8),1,0),0) -> 0 | EF6: =IF(AND(Tournament!J15<>"",Tournament!L15<>""),IF(DW6>DX6,"W",IF(DW6=DX6,"D","L")),"") | EG6: =IF(EF6<>"",IF(EF6="W","L",IF(EF6="L","W","D")),"")
A7: =VLOOKUP(B7,DS4:DT8,2,FALSE) -> 2 | B7: New Zealand | C7: =COUNTIFS(DV3:DV42,B7,EF3:EF42,"W")+COUNTIFS(DY3:DY42,B7,EG3:EG42,"W") -> 0 | D7: =COUNTIFS(DV3:DV42,B7,EF3:EF42,"D")+COUNTIFS(DY3:DY42,B7,EG3:EG42,"D") -> 0 | E7: =COUNTIFS(DV3:DV42,B7,EF3:EF42,"L")+COUNTIFS(DY3:DY42,B7,EG3:EG42,"L") -> 0 | F7: =SUMIF(DV3:DV60,B7,DW3:DW60)+SUMIF(DY3:DY60,B7,DX3:DX60) -> 0 | G7: =SUMIF(DY3:DY60,B7,DW3:DW60)+SUMIF(DV3:DV60,B7,DX3:DX60) -> 0 | H7: =F7-G7+1000 -> 1000 | I7: =SUMIF(Tournament!H12:H51,B7,Tournament!O12:O51)+SUMIF(Tournament!N12:N51,B7,Tournament!Q12:Q51) -> 0 | J7: =SUMIF(Tournament!N12:N51,B7,Tournament!O12:O51)+SUMIF(Tournament!H12:H51,B7,Tournament!Q12:Q51) -> 0 | K7: =I7-J7+1000 -> 1000 | L7: =C7*4+D7*2 -> 0 | M7: =SUMIF(DV:DV,B7,EB:EB)+SUMIF(DY:DY,B7,EC:EC) -> 0 | N7: =SUMIF(DV:DV,B7,ED:ED)+SUMIF(DY:DY,B7,EE:EE) -> 0 | O7: =N7+M7+L7 -> 0 | P7: 19 | Q7: =RANK(O7,O4:O8) -> 1 | S7: =RANK(O7,O4:O8)+COUNTIF(O4:O7,O7)-1 -> 4 | T7: =INDEX(B4:B8,MATCH(4,S4:S8,0),0) -> New Zealand | U7: =INDEX(Q4:Q8,MATCH(T7,B4:B8,0),0) -> 1 | V7: =IF(AND(V6<>"",U7=1),T7,"") -> New Zealand | W7: =IF(AND(W6<>"",U8=2),T8,"") | AA7: =IF(V7<>"",V7,"") -> New Zealand | AB7: =SUMPRODUCT((DV3:DV42=AA7)*(DY3:DY42=AA8)*(EF3:EF42="W"))+SUMPRODUCT((DV3:DV42=AA7)*(DY3:DY42=AA4)*(EF3:EF42="W"))+SUMPRODUCT((DV3:DV42=AA7)*(DY3:DY42=AA5)*(EF3:EF42="W"))+SUMPRODUCT((DV3:DV42=AA7)*(DY3:DY42=AA6)*(EF3:EF42="W"))+SUMPRODUCT((DV3:DV42=AA8)*(DY3:DY42=AA7)*(EG3:EG42="W"))+SUMPRODUCT((DV3:DV42=AA4)*(DY3:DY42=AA7)*(EG3:EG42="W"))+SUMPRODUCT((DV3:DV42=AA5)*(DY3:DY42=AA7)*(EG3:EG42="W"))+SUMPRODUCT((DV3:DV42=AA6)*(DY3:DY42=AA7)*(EG3:EG42="W")) -> 0 | AC7: =SUMPRODUCT((DV3:DV42=AA7)*(DY3:DY42=AA8)*(EF3:EF42="D"))+SUMPRODUCT((DV3:DV42=AA7)*(DY3:DY42=AA4)*(EF3:EF42="D"))+SUMPRODUCT((DV3:DV42=AA7)*(DY3:DY42=AA5)*(EF3:EF42="D"))+SUMPRODUCT((DV3:DV42=AA7)*(DY3:DY42=AA6)*(EF3:EF42="D"))+SUMPRODUCT((DV3:DV42=AA8)*(DY3:DY42=AA7)*(EF3:EF42="D"))+SUMPRODUCT((DV3:DV42=AA4)*(DY3:DY42=AA7)*(EF3:EF42="D"))+SUMPRODUCT((DV3:DV42=AA5)*(DY3:DY42=AA7)*(EF3:EF42="D"))+SUMPRODUCT((DV3:DV42=AA6)*(DY3:DY42=AA7)*(EF3:EF42="D")) -> 0 | AD7: =SUMPRODUCT((DV3:DV42=AA7)*(DY3:DY42=AA8)*(EF3:EF42="L"))+SUMPRODUCT((DV3:DV42=AA7)*(DY3:DY42=AA4)*(EF3:EF42="L"))+SUMPRODUCT((DV3:DV42=AA7)*(DY3:DY42=AA5)*(EF3:EF42="L"))+SUMPRODUCT((DV3:DV42=AA7)*(DY3:DY42=AA6)*(EF3:EF42="L"))+SUMPRODUCT((DV3:DV42=AA8)*(DY3:DY42=AA7)*(EG3:EG42="L"))+SUMPRODUCT((DV3:DV42=AA4)*(DY3:DY42=AA7)*(EG3:EG42="L"))+SUMPRODUCT((DV3:DV42=AA5)*(DY3:DY42=AA7)*(EG3:EG42="L"))+SUMPRODUCT((DV3:DV42=AA6)*(DY3:DY42=AA7)*(EG3:EG42="L")) -> 0 | AE7: =IF(AA7<>"",VLOOKUP(AA7,B4:F29,5,FALSE),0) -> 0 | AF7: =IF(AA7<>"",VLOOKUP(AA7,B4:G29,6,FALSE),0) -> 0 | AG7: =AE7-AF7+1000 -> 1000 | AH7: =IF(AA7<>"",VLOOKUP(AA7,B4:I29,8,FALSE),0) -> 0 | AI7: =IF(AA7<>"",VLOOKUP(AA7,B4:J29,9,FALSE),0) -> 0 | AJ7: =AH7-AI7+1000 -> 1000 | AK7: =IF(AA7<>"",VLOOKUP(AA7,B4:F8,5,FALSE),"") -> 0 | AL7: =IF(AA7<>"",VLOOKUP(AA7,B4:I8,8,FALSE),"") -> 0 | AM7: =IF(AA7<>"",VLOOKUP(AA7,B4:P8,15,FALSE),"") -> 19 | AN7: =SUMPRODUCT((DV3:DV42=AA7)*(DY3:DY42=AA8)*EB3:EB42)+SUMPRODUCT((DV3:DV42=AA7)*(DY3:DY42=AA4)*EB3:EB42)+SUMPRODUCT((DV3:DV42=AA7)*(DY3:DY42=AA5)*EB3:EB42)+SUMPRODUCT((DV3:DV42=AA7)*(DY3:DY42=AA6)*EB3:EB42)+SUMPRODUCT((DV3:DV42=AA8)*(DY3:DY42=AA7)*EC3:EC42)+SUMPRODUCT((DV3:DV42=AA4)*(DY3:DY42=AA7)*EC3:EC42)+SUMPRODUCT((DV3:DV42=AA5)*(DY3:DY42=AA7)*EC3:EC42)+SUMPRODUCT((DV3:DV42=AA6)*(DY3:DY42=AA7)*EC3:EC42) -> 0 | AO7: =SUMPRODUCT((DV3:DV42=AA7)*(DY3:DY42=AA8)*ED3:ED42)+SUMPRODUCT((DV3:DV42=AA7)*(DY3:DY42=AA4)*ED3:ED42)+SUMPRODUCT((DV3:DV42=AA7)*(DY3:DY42=AA5)*ED3:ED42)+SUMPRODUCT((DV3:DV42=AA7)*(DY3:DY42=AA6)*ED3:ED42)+SUMPRODUCT((DV3:DV42=AA8)*(DY3:DY42=AA7)*EE3:EE42)+SUMPRODUCT((DV3:DV42=AA4)*(DY3:DY42=AA7)*EE3:EE42)+SUMPRODUCT((DV3:DV42=AA5)*(DY3:DY42=AA7)*EE3:EE42)+SUMPRODUCT((DV3:DV42=AA6)*(DY3:DY42=AA7)*EE3:EE42) -> 0 | AP7: =AB7*4+AC7*2+AN7+AO7 -> 0 | AQ7: =IF(AA7<>"",RANK(AP7,AP4:AP8),"") -> 1 | AR7: =SUMPRODUCT((AP4:AP8=AP7)*(AG4:AG8>AG7)) -> 0 | AS7: =SUMPRODUCT((AP4:AP8=AP7)*(AG4:AG8=AG7)*(AJ4:AJ8>AJ7)) -> 0 | AT7: =SUMPRODUCT((AP4:AP8=AP7)*(AG4:AG8=AG7)*(AJ4:AJ8=AJ7)*(AK4:AK8>AK7)) -> 0 | AU7: =SUMPRODUCT((AP4:AP8=AP7)*(AG4:AG8=AG7)*(AJ4:AJ8=AJ7)*(AK4:AK8=AK7)*(AL4:AL8>AL7)) -> 0 | AV7: =SUMPRODUCT((AP4:AP8=AP7)*(AG4:AG8=AG7)*(AJ4:AJ8=AJ7)*(AK4:AK8=AK7)*(AL4:AL8=AL7)*(AM4:AM8>AM7)) -> 1 | AW7: =IF(AA7<>"",SUM(AQ7:AV7),"") -> 2 | AX7: =IF(AA7<>"",INDEX(AA4:AA8,MATCH(4,AW4:AW8,0),0),"") -> Uruguay | AY7: =IF(W6<>"",W6,"") | AZ7: =IF(AY7<>"",SUMPRODUCT((DV3:DV42=AY7)*(DY3:DY42=AY8)*(EF3:EF42="W"))+SUMPRODUCT((DV3:DV42=AY7)*(DY3:DY42=AY5)*(EF3:EF42="W"))+SUMPRODUCT((DV3:DV42=AY7)*(DY3:DY42=AY6)*(EF3:EF42="W"))+SUMPRODUCT((DV3:DV42=AY8)*(DY3:DY42=AY7)*(EG3:EG42="W"))+SUMPRODUCT((DV3:DV42=AY5)*(DY3:DY42=AY7)*(EG3:EG42="W"))+SUMPRODUCT((DV3:DV42=AY6)*(DY3:DY42=AY7)*(EG3:EG42="W")),"") | BA7: =IF(AY7<>"",SUMPRODUCT((DV3:DV42=AY7)*(DY3:DY42=AY8)*(EF3:EF42="D"))+SUMPRODUCT((DV3:DV42=AY7)*(DY3:DY42=AY5)*(EF3:EF42="D"))+SUMPRODUCT((DV3:DV42=AY7)*(DY3:DY42=AY6)*(EF3:EF42="D"))+SUMPRODUCT((DV3:DV42=AY8)*(DY3:DY42=AY7)*(EF3:EF42="D"))+SUMPRODUCT((DV3:DV42=AY5)*(DY3:DY42=AY7)*(EF3:EF42="D"))+SUMPRODUCT((DV3:DV42=AY6)*(DY3:DY42=AY7)*(EF3:EF42="D")),"") | BB7: =IF(AY7<>"",SUMPRODUCT((DV3:DV42=AY7)*(DY3:DY42=AY8)*(EF3:EF42="L"))+SUMPRODUCT((DV3:DV42=AY7)*(DY3:DY42=AY5)*(EF3:EF42="L"))+SUMPRODUCT((DV3:DV42=AY7)*(DY3:DY42=AY6)*(EF3:EF42="L"))+SUMPRODUCT((DV3:DV42=AY8)*(DY3:DY42=AY7)*(EG3:EG42="L"))+SUMPRODUCT((DV3:DV42=AY5)*(DY3:DY42=AY7)*(EG3:EG42="L"))+SUMPRODUCT((DV3:DV42=AY6)*(DY3:DY42=AY7)*(EG3:EG42="L")),"") | BC7: =IF(AY7<>"",VLOOKUP(AY7,B4:F29,5,FALSE),0) -> 0 | BD7: =IF(AY7<>"",VLOOKUP(AY7,B4:G29,6,FALSE),0) -> 0 | BE7: =BC7-BD7+1000 -> 1000 | BF7: =IF(AY7<>"",VLOOKUP(AY7,B4:I29,8,FALSE),0) -> 0 | BG7: =IF(AY7<>"",VLOOKUP(AY7,B4:J29,9,FALSE),0) -> 0 | BH7: =IF(AY7<>"",BF7-BG7+1000,"") | BI7: =IF(AY7<>"",VLOOKUP(AY7,B4:F8,5,FALSE),"") | BJ7: =IF(AY7<>"",VLOOKUP(AY7,B4:I8,8,FALSE),"") | BK7: =IF(AY7<>"",VLOOKUP(AY7,B4:P8,15,FALSE),"") | BL7: =IF(AY7<>"",SUMPRODUCT((DV3:DV42=AY7)*(DY3:DY42=AY8)*EB3:EB42)+SUMPRODUCT((DV3:DV42=AY7)*(DY3:DY42=AY5)*EB3:EB42)+SUMPRODUCT((DV3:DV42=AY7)*(DY3:DY42=AY6)*EB3:EB42)+SUMPRODUCT((DV3:DV42=AY8)*(DY3:DY42=AY7)*EC3:EC42)+SUMPRODUCT((DV3:DV42=AY5)*(DY3:DY42=AY7)*EC3:EC42)+SUMPRODUCT((DV3:DV42=AY6)*(DY3:DY42=AY7)*EC3:EC42),"") | BM7: =IF(AY7<>"",SUMPRODUCT((DV3:DV42=AY7)*(DY3:DY42=AY8)*ED3:ED42)+SUMPRODUCT((DV3:DV42=AY7)*(DY3:DY42=AY5)*ED3:ED42)+SUMPRODUCT((DV3:DV42=AY7)*(DY3:DY42=AY6)*ED3:ED42)+SUMPRODUCT((DV3:DV42=AY8)*(DY3:DY42=AY7)*EE3:EE42)+SUMPRODUCT((DV3:DV42=AY5)*(DY3:DY42=AY7)*EE3:EE42)+SUMPRODUCT((DV3:DV42=AY6)*(DY3:DY42=AY7)*EE3:EE42),"") | BN7: =IF(AY7<>"",AZ7*4+BA7*2+BL7+BM7,"") | BO7: =IF(AY7<>"",RANK(BN7,BN5:BN8),"") | BP7: =SUMPRODUCT((BN5:BN8=BN7)*(BE5:BE8>BE7)) -> 0 | BQ7: =SUMPRODUCT((BN5:BN8=BN7)*(BE5:BE8=BE7)*(BH5:BH8>BH7)) -> 0 | BR7: =SUMPRODUCT((BN4:BN8=BN7)*(BE4:BE8=BE7)*(BH4:BH8=BH7)*(BI4:BI8>BI7)) -> 0 | BS7: =SUMPRODUCT((BN4:BN8=BN7)*(BE4:BE8=BE7)*(BH4:BH8=BH7)*(BI4:BI8=BI7)*(BJ4:BJ8>BJ7)) -> 0 | BT7: =SUMPRODUCT((BN4:BN8=BN7)*(BE4:BE8=BE7)*(BH4:BH8=BH7)*(BI4:BI8=BI7)*(BJ4:BJ8=BJ7)*(BK4:BK8>BK7)) -> 0 | BU7: =IF(AY7<>"",SUM(BO7:BT7)+1,"") | BV7: =IF(AY7<>"",INDEX(AY5:AY8,MATCH(4,BU5:BU8,0),0),"") | BW7: =IF(X5<>"",X5,"") | BX7: =SUMPRODUCT((DV3:DV42=BW7)*(DY3:DY42=BW8)*(EF3:EF42="W"))+SUMPRODUCT((DV3:DV42=BW7)*(DY3:DY42=BW9)*(EF3:EF42="W"))+SUMPRODUCT((DV3:DV42=BW7)*(DY3:DY42=BW6)*(EF3:EF42="W"))+SUMPRODUCT((DV3:DV42=BW8)*(DY3:DY42=BW7)*(EG3:EG42="W"))+SUMPRODUCT((DV3:DV42=BW9)*(DY3:DY42=BW7)*(EG3:EG42="W"))+SUMPRODUCT((DV3:DV42=BW6)*(DY3:DY42=BW7)*(EG3:EG42="W")) -> 0 | BY7: =SUMPRODUCT((DV3:DV42=BW7)*(DY3:DY42=BW8)*(EF3:EF42="D"))+SUMPRODUCT((DV3:DV42=BW7)*(DY3:DY42=BW9)*(EF3:EF42="D"))+SUMPRODUCT((DV3:DV42=BW7)*(DY3:DY42=BW6)*(EF3:EF42="D"))+SUMPRODUCT((DV3:DV42=BW8)*(DY3:DY42=BW7)*(EF3:EF42="D"))+SUMPRODUCT((DV3:DV42=BW9)*(DY3:DY42=BW7)*(EF3:EF42="D"))+SUMPRODUCT((DV3:DV42=BW6)*(DY3:DY42=BW7)*(EF3:EF42="D")) -> 0 | BZ7: =SUMPRODUCT((DV3:DV42=BW7)*(DY3:DY42=BW8)*(EF3:EF42="L"))+SUMPRODUCT((DV3:DV42=BW7)*(DY3:DY42=BW9)*(EF3:EF42="L"))+SUMPRODUCT((DV3:DV42=BW7)*(DY3:DY42=BW6)*(EF3:EF42="L"))+SUMPRODUCT((DV3:DV42=BW8)*(DY3:DY42=BW7)*(EG3:EG42="L"))+SUMPRODUCT((DV3:DV42=BW9)*(DY3:DY42=BW7)*(EG3:EG42="L"))+SUMPRODUCT((DV3:DV42=BW6)*(DY3:DY42=BW7)*(EG3:EG42="L")) -> 0 | CA7: =IF(BW7<>"",VLOOKUP(BW7,B4:F29,5,FALSE),0) -> 0 | CB7: =IF(BW7<>"",VLOOKUP(BW7,B4:G29,6,FALSE),0) -> 0 | CC7: =CA7-CB7+1000 -> 1000 | CD7: =IF(BW7<>"",VLOOKUP(BW7,B4:I29,8,FALSE),0) -> 0 | CE7: =IF(BW7<>"",VLOOKUP(BW7,B4:J29,9,FALSE),0) -> 0 | CF7: =CD7-CE7+1000 -> 1000 | CG7: =IF(BW7<>"",VLOOKUP(BW7,B4:F8,5,FALSE),"") | CH7: =IF(BW7<>"",VLOOKUP(BW7,B4:I8,8,FALSE),"") | CI7: =IF(BW7<>"",VLOOKUP(BW7,B4:P8,15,FALSE),"") | CJ7: =SUMPRODUCT((DV3:DV42=BW7)*(DY3:DY42=BW8)*EB3:EB42)+SUMPRODUCT((DV3:DV42=BW7)*(DY3:DY42=BW9)*EB3:EB42)+SUMPRODUCT((DV3:DV42=BW7)*(DY3:DY42=BW6)*EB3:EB42)+SUMPRODUCT((DV3:DV42=BW8)*(DY3:DY42=BW7)*EC3:EC42)+SUMPRODUCT((DV3:DV42=BW9)*(DY3:DY42=BW7)*EC3:EC42)+SUMPRODUCT((DV3:DV42=BW6)*(DY3:DY42=BW7)*EC3:EC42) -> 0 | CK7: =SUMPRODUCT((DV3:DV42=BW7)*(DY3:DY42=BW8)*ED3:ED42)+SUMPRODUCT((DV3:DV42=BW7)*(DY3:DY42=BW9)*ED3:ED42)+SUMPRODUCT((DV3:DV42=BW7)*(DY3:DY42=BW6)*ED3:ED42)+SUMPRODUCT((DV3:DV42=BW8)*(DY3:DY42=BW7)*EE3:EE42)+SUMPRODUCT((DV3:DV42=BW9)*(DY3:DY42=BW7)*EE3:EE42)+SUMPRODUCT((DV3:DV42=BW6)*(DY3:DY42=BW7)*EE3:EE42) -> 0 | CL7: =BX7*4+BY7*2+CJ7+CK7 -> 0 | CM7: =IF(BW7<>"",RANK(CL7,CL6:CL9),"") | CN7: =SUMPRODUCT((CL6:CL9=CL7)*(CC6:CC9>CC7)) -> 0 | CO7: =SUMPRODUCT((CL6:CL9=CL7)*(CC6:CC9=CC7)*(CF6:CF9>CF7)) -> 0 | CP7: =SUMPRODUCT((CL4:CL8=CL7)*(CC4:CC8=CC7)*(CF4:CF8=CF7)*(CG4:CG8>CG7)) -> 0 | CQ7: =SUMPRODUCT((CL4:CL8=CL7)*(CC4:CC8=CC7)*(CF4:CF8=CF7)*(CG4:CG8=CG7)*(CH4:CH8>CH7)) -> 0 | CR7: =SUMPRODUCT((CL4:CL8=CL7)*(CC4:CC8=CC7)*(CF4:CF8=CF7)*(CG4:CG8=CG7)*(CH4:CH8=CH7)*(CI4:CI8>CI7)) -> 0 | CS7: =IF(BW7<>"",SUM(CM7:CR7)+2,"") | CT7: =IF(BW7<>"",INDEX(BW6:BW8,MATCH(4,CS6:CS8,0),0),"") | CU7: =IF(Y4<>"",Y4,"") | CV7: =SUMPRODUCT((DV3:DV42=CU7)*(DY3:DY42=CU8)*(EF3:EF42="W"))+SUMPRODUCT((DV3:DV42=CU7)*(DY3:DY42=CU9)*(EF3:EF42="W"))+SUMPRODUCT((DV3:DV42=CU7)*(DY3:DY42=CU10)*(EF3:EF42="W"))+SUMPRODUCT((DV3:DV42=CU8)*(DY3:DY42=CU7)*(EG3:EG42="W"))+SUMPRODUCT((DV3:DV42=CU9)*(DY3:DY42=CU7)*(EG3:EG42="W"))+SUMPRODUCT((DV3:DV42=CU10)*(DY3:DY42=CU7)*(EG3:EG42="W")) -> 0 | CW7: =SUMPRODUCT((DV3:DV42=CU7)*(DY3:DY42=CU8)*(EF3:EF42="D"))+SUMPRODUCT((DV3:DV42=CU7)*(DY3:DY42=CU9)*(EF3:EF42="D"))+SUMPRODUCT((DV3:DV42=CU7)*(DY3:DY42=CU10)*(EF3:EF42="D"))+SUMPRODUCT((DV3:DV42=CU8)*(DY3:DY42=CU7)*(EF3:EF42="D"))+SUMPRODUCT((DV3:DV42=CU9)*(DY3:DY42=CU7)*(EF3:EF42="D"))+SUMPRODUCT((DV3:DV42=CU10)*(DY3:DY42=CU7)*(EF3:EF42="D")) -> 0 | CX7: =SUMPRODUCT((DV3:DV42=CU7)*(DY3:DY42=CU8)*(EF3:EF42="L"))+SUMPRODUCT((DV3:DV42=CU7)*(DY3:DY42=CU9)*(EF3:EF42="L"))+SUMPRODUCT((DV3:DV42=CU7)*(DY3:DY42=CU10)*(EF3:EF42="L"))+SUMPRODUCT((DV3:DV42=CU8)*(DY3:DY42=CU7)*(EG3:EG42="L"))+SUMPRODUCT((DV3:DV42=CU9)*(DY3:DY42=CU7)*(EG3:EG42="L"))+SUMPRODUCT((DV3:DV42=CU10)*(DY3:DY42=CU7)*(EG3:EG42="L")) -> 0 | CY7: =IF(CU7<>"",VLOOKUP(CU7,B4:F29,5,FALSE),0) -> 0 | CZ7: =IF(CU7<>"",VLOOKUP(CU7,B4:G29,6,FALSE),0) -> 0 | DA7: =CY7-CZ7+1000 -> 1000 | DB7: =IF(CU7<>"",VLOOKUP(CU7,B4:I29,8,FALSE),0) -> 0 | DC7: =IF(CU7<>"",VLOOKUP(CU7,B4:J29,9,FALSE),0) -> 0 | DD7: =DB7-DC7+1000 -> 1000 | DE7: =IF(CU7<>"",VLOOKUP(CU7,B4:F8,5,FALSE),"") | DF7: =IF(CU7<>"",VLOOKUP(CU7,B4:I8,8,FALSE),"") | DG7: =IF(CU7<>"",VLOOKUP(CU7,B4:P8,15,FALSE),"") | DH7: =SUMPRODUCT((DV3:DV42=CU7)*(DY3:DY42=CU8)*EB3:EB42)+SUMPRODUCT((DV3:DV42=CU7)*(DY3:DY42=CU9)*EB3:EB42)+SUMPRODUCT((DV3:DV42=CU7)*(DY3:DY42=CU10)*EB3:EB42)+SUMPRODUCT((DV3:DV42=CU8)*(DY3:DY42=CU7)*EC3:EC42)+SUMPRODUCT((DV3:DV42=CU9)*(DY3:DY42=CU7)*EC3:EC42)+SUMPRODUCT((DV3:DV42=CU10)*(DY3:DY42=CU7)*EC3:EC42) -> 0 | DI7: =SUMPRODUCT((DV3:DV42=CU7)*(DY3:DY42=CU8)*ED3:ED42)+SUMPRODUCT((DV3:DV42=CU7)*(DY3:DY42=CU9)*ED3:ED42)+SUMPRODUCT((DV3:DV42=CU7)*(DY3:DY42=CU10)*ED3:ED42)+SUMPRODUCT((DV3:DV42=CU8)*(DY3:DY42=CU7)*EE3:EE42)+SUMPRODUCT((DV3:DV42=CU9)*(DY3:DY42=CU7)*EE3:EE42)+SUMPRODUCT((DV3:DV42=CU10)*(DY3:DY42=CU7)*EE3:EE42) -> 0 | DJ7: =CV7*4+CW7*2+DH7+DI7 -> 0 | DK7: =IF(CU7<>"",RANK(DJ7,DJ7:DJ10),"") | DL7: =SUMPRODUCT((DJ7:DJ10=DJ7)*(DA7:DA10>DA7)) -> 0 | DM7: =SUMPRODUCT((DJ7:DJ10=DJ7)*(DA7:DA10=DA7)*(DD7:DD10>DD7)) -> 0 | DN7: =SUMPRODUCT((DJ4:DJ8=DJ7)*(DA4:DA8=DA7)*(DD4:DD8=DD7)*(DE4:DE8>DE7)) -> 0 | DO7: =SUMPRODUCT((DJ4:DJ8=DJ7)*(DA4:DA8=DA7)*(DD4:DD8=DD7)*(DE4:DE8=DE7)*(DF4:DF8>DF7)) -> 0 | DP7: =SUMPRODUCT((DJ4:DJ8=DJ7)*(DA4:DA8=DA7)*(DD4:DD8=DD7)*(DE4:DE8=DE7)*(DF4:DF8=DF7)*(DG4:DG8>DG7)) -> 0 | DQ7: =IF(CU7<>"",SUM(DK7:DP7)+3,"") | DR7: =IF(CU7<>"",IF(DQ7=4,CU7,CU8),"") | DS7: =IF(DR7<>"",DR7,IF(CT7<>"",CT7,IF(BV7<>"",BV7,IF(AX7<>"",AX7,T7)))) -> Uruguay | DT7: 4 | DU7: 5 | DV7: =Tournament!H16 -> England | DW7: =IF(AND(Tournament!J16<>"",Tournament!L16<>""),Tournament!J16,0) -> 0 | DX7: =IF(AND(Tournament!L16<>"",Tournament!J16<>""),Tournament!L16,0) -> 0 | DY7: =Tournament!N16 -> Argentina | DZ7: =IF(Tournament!O16<>"",Tournament!O16,0) -> 0 | EA7: =IF(Tournament!Q16<>"",Tournament!Q16,0) -> 0 | EB7: =IF(DW7<>"",IF(Tournament!O16>3,1,0),0) -> 0 | EC7: =IF(DX7<>"",IF(Tournament!Q16>3,1,0),0) -> 0 | ED7: =IFERROR(IF(AND(DW7<>"",DW7<DX7,DX7-DW7<8),1,0),0) -> 0 | EE7: =IFERROR(IF(AND(DX7<>"",DX7<DW7,DW7-DX7<8),1,0),0) -> 0 | EF7: =IF(AND(Tournament!J16<>"",Tournament!L16<>""),IF(DW7>DX7,"W",IF(DW7=DX7,"D","L")),"") | EG7: =IF(EF7<>"",IF(EF7="W","L",IF(EF7="L","W","D")),"")
A8: =VLOOKUP(B8,DS4:DT8,2,FALSE) -> 4 | B8: Uruguay | C8: =COUNTIFS(DV3:DV42,B8,EF3:EF42,"W")+COUNTIFS(DY3:DY42,B8,EG3:EG42,"W") -> 0 | D8: =COUNTIFS(DV3:DV42,B8,EF3:EF42,"D")+COUNTIFS(DY3:DY42,B8,EG3:EG42,"D") -> 0 | E8: =COUNTIFS(DV3:DV42,B8,EF3:EF42,"L")+COUNTIFS(DY3:DY42,B8,EG3:EG42,"L") -> 0 | F8: =SUMIF(DV3:DV60,B8,DW3:DW60)+SUMIF(DY3:DY60,B8,DX3:DX60) -> 0 | G8: =SUMIF(DY3:DY60,B8,DW3:DW60)+SUMIF(DV3:DV60,B8,DX3:DX60) -> 0 | H8: =F8-G8+1000 -> 1000 | I8: =SUMIF(Tournament!H12:H51,B8,Tournament!O12:O51)+SUMIF(Tournament!N12:N51,B8,Tournament!Q12:Q51) -> 0 | J8: =SUMIF(Tournament!N12:N51,B8,Tournament!O12:O51)+SUMIF(Tournament!H12:H51,B8,Tournament!Q12:Q51) -> 0 | K8: =I8-J8+1000 -> 1000 | L8: =C8*4+D8*2 -> 0 | M8: =SUMIF(DV:DV,B8,EB:EB)+SUMIF(DY:DY,B8,EC:EC) -> 0 | N8: =SUMIF(DV:DV,B8,ED:ED)+SUMIF(DY:DY,B8,EE:EE) -> 0 | O8: =N8+M8+L8 -> 0 | P8: 6 | Q8: =RANK(O8,O4:O8) -> 1 | S8: =RANK(O8,O4:O8)+COUNTIF(O4:O8,O8)-1 -> 5 | T8: =INDEX(B4:B8,MATCH(5,S4:S8,0),0) -> Uruguay | U8: =INDEX(Q4:Q8,MATCH(T8,B4:B8,0),0) -> 1 | V8: =IF(AND(V7<>"",U8=1),T8,"") -> Uruguay | AA8: =IF(V8<>"",V8,"") -> Uruguay | AB8: =SUMPRODUCT((DV3:DV42=AA8)*(DY3:DY42=AA4)*(EF3:EF42="W"))+SUMPRODUCT((DV3:DV42=AA8)*(DY3:DY42=AA5)*(EF3:EF42="W"))+SUMPRODUCT((DV3:DV42=AA8)*(DY3:DY42=AA6)*(EF3:EF42="W"))+SUMPRODUCT((DV3:DV42=AA8)*(DY3:DY42=AA7)*(EF3:EF42="W"))+SUMPRODUCT((DV3:DV42=AA4)*(DY3:DY42=AA8)*(EG3:EG42="W"))+SUMPRODUCT((DV3:DV42=AA5)*(DY3:DY42=AA8)*(EG3:EG42="W"))+SUMPRODUCT((DV3:DV42=AA6)*(DY3:DY42=AA8)*(EG3:EG42="W"))+SUMPRODUCT((DV3:DV42=AA7)*(DY3:DY42=AA8)*(EG3:EG42="W")) -> 0 | AC8: =SUMPRODUCT((DV3:DV42=AA8)*(DY3:DY42=AA4)*(EF3:EF42="D"))+SUMPRODUCT((DV3:DV42=AA8)*(DY3:DY42=AA5)*(EF3:EF42="D"))+SUMPRODUCT((DV3:DV42=AA8)*(DY3:DY42=AA6)*(EF3:EF42="D"))+SUMPRODUCT((DV3:DV42=AA8)*(DY3:DY42=AA7)*(EF3:EF42="D"))+SUMPRODUCT((DV3:DV42=AA4)*(DY3:DY42=AA8)*(EF3:EF42="D"))+SUMPRODUCT((DV3:DV42=AA5)*(DY3:DY42=AA8)*(EF3:EF42="D"))+SUMPRODUCT((DV3:DV42=AA6)*(DY3:DY42=AA8)*(EF3:EF42="D"))+SUMPRODUCT((DV3:DV42=AA7)*(DY3:DY42=AA8)*(EF3:EF42="D")) -> 0 | AD8: =SUMPRODUCT((DV3:DV42=AA8)*(DY3:DY42=AA4)*(EF3:EF42="L"))+SUMPRODUCT((DV3:DV42=AA8)*(DY3:DY42=AA5)*(EF3:EF42="L"))+SUMPRODUCT((DV3:DV42=AA8)*(DY3:DY42=AA6)*(EF3:EF42="L"))+SUMPRODUCT((DV3:DV42=AA8)*(DY3:DY42=AA7)*(EF3:EF42="L"))+SUMPRODUCT((DV3:DV42=AA4)*(DY3:DY42=AA8)*(EG3:EG42="L"))+SUMPRODUCT((DV3:DV42=AA5)*(DY3:DY42=AA8)*(EG3:EG42="L"))+SUMPRODUCT((DV3:DV42=AA6)*(DY3:DY42=AA8)*(EG3:EG42="L"))+SUMPRODUCT((DV3:DV42=AA7)*(DY3:DY42=AA8)*(EG3:EG42="L")) -> 0 | AE8: =IF(AA8<>"",VLOOKUP(AA8,B4:F29,5,FALSE),0) -> 0 | AF8: =IF(AA8<>"",VLOOKUP(AA8,B4:G29,6,FALSE),0) -> 0 | AG8: =AE8-AF8+1000 -> 1000 | AH8: =IF(AA8<>"",VLOOKUP(AA8,B4:I29,8,FALSE),0) -> 0 | AI8: =IF(AA8<>"",VLOOKUP(AA8,B4:J29,9,FALSE),0) -> 0 | AJ8: =AH8-AI8+1000 -> 1000 | AK8: =IF(AA8<>"",VLOOKUP(AA8,B4:F8,5,FALSE),"") -> 0 | AL8: =IF(AA8<>"",VLOOKUP(AA8,B4:I8,8,FALSE),"") -> 0 | AM8: =IF(AA8<>"",VLOOKUP(AA8,B4:P8,15,FALSE),"") -> 6 | AN8: =SUMPRODUCT((DV3:DV42=AA8)*(DY3:DY42=AA4)*EB3:EB42)+SUMPRODUCT((DV3:DV42=AA8)*(DY3:DY42=AA5)*EB3:EB42)+SUMPRODUCT((DV3:DV42=AA8)*(DY3:DY42=AA6)*EB3:EB42)+SUMPRODUCT((DV3:DV42=AA8)*(DY3:DY42=AA7)*EB3:EB42)+SUMPRODUCT((DV3:DV42=AA4)*(DY3:DY42=AA8)*EC3:EC42)+SUMPRODUCT((DV3:DV42=AA5)*(DY3:DY42=AA8)*EC3:EC42)+SUMPRODUCT((DV3:DV42=AA6)*(DY3:DY42=AA8)*EC3:EC42)+SUMPRODUCT((DV3:DV42=AA7)*(DY3:DY42=AA8)*EC3:EC42) -> 0 | AO8: =SUMPRODUCT((DV3:DV42=AA8)*(DY3:DY42=AA4)*ED3:ED42)+SUMPRODUCT((DV3:DV42=AA8)*(DY3:DY42=AA5)*ED3:ED42)+SUMPRODUCT((DV3:DV42=AA8)*(DY3:DY42=AA6)*ED3:ED42)+SUMPRODUCT((DV3:DV42=AA8)*(DY3:DY42=AA7)*ED3:ED42)+SUMPRODUCT((DV3:DV42=AA4)*(DY3:DY42=AA8)*EE3:EE42)+SUMPRODUCT((DV3:DV42=AA5)*(DY3:DY42=AA8)*EE3:EE42)+SUMPRODUCT((DV3:DV42=AA6)*(DY3:DY42=AA8)*EE3:EE42)+SUMPRODUCT((DV3:DV42=AA7)*(DY3:DY42=AA8)*EE3:EE42) -> 0 | AP8: =AB8*4+AC8*2+AN8+AO8 -> 0 | AQ8: =IF(AA8<>"",RANK(AP8,AP4:AP8),"") -> 1 | AR8: =SUMPRODUCT((AP4:AP8=AP8)*(AG4:AG8>AG8)) -> 0 | AS8: =SUMPRODUCT((AP4:AP8=AP8)*(AG4:AG8=AG8)*(AJ4:AJ8>AJ8)) -> 0 | AT8: =SUMPRODUCT((AP4:AP8=AP8)*(AG4:AG8=AG8)*(AJ4:AJ8=AJ8)*(AK4:AK8>AK8)) -> 0 | AU8: =SUMPRODUCT((AP4:AP8=AP8)*(AG4:AG8=AG8)*(AJ4:AJ8=AJ8)*(AK4:AK8=AK8)*(AL4:AL8>AL8)) -> 0 | AV8: =SUMPRODUCT((AP4:AP8=AP8)*(AG4:AG8=AG8)*(AJ4:AJ8=AJ8)*(AK4:AK8=AK8)*(AL4:AL8=AL8)*(AM4:AM8>AM8)) -> 3 | AW8: =IF(AA8<>"",SUM(AQ8:AV8),"") -> 4 | AX8: =IF(AA8<>"",INDEX(AA4:AA8,MATCH(5,AW4:AW8,0),0),"") -> Namibia | AY8: =IF(W7<>"",W7,"") | AZ8: =IF(AY8<>"",SUMPRODUCT((DV3:DV42=AY8)*(DY3:DY42=AY5)*(EF3:EF42="W"))+SUMPRODUCT((DV3:DV42=AY8)*(DY3:DY42=AY6)*(EF3:EF42="W"))+SUMPRODUCT((DV3:DV42=AY8)*(DY3:DY42=AY7)*(EF3:EF42="W"))+SUMPRODUCT((DV3:DV42=AY5)*(DY3:DY42=AY8)*(EF3:EF42="W"))+SUMPRODUCT((DV3:DV42=AY6)*(DY3:DY42=AY8)*(EF3:EF42="W"))+SUMPRODUCT((DV3:DV42=AY7)*(DY3:DY42=AY8)*(EF3:EF42="W")),"") | BA8: =IF(AY8<>"",SUMPRODUCT((DV3:DV42=AY8)*(DY3:DY42=AY5)*(EF3:EF42="D"))+SUMPRODUCT((DV3:DV42=AY8)*(DY3:DY42=AY6)*(EF3:EF42="D"))+SUMPRODUCT((DV3:DV42=AY8)*(DY3:DY42=AY7)*(EF3:EF42="D"))+SUMPRODUCT((DV3:DV42=AY5)*(DY3:DY42=AY8)*(EF3:EF42="D"))+SUMPRODUCT((DV3:DV42=AY6)*(DY3:DY42=AY8)*(EF3:EF42="D"))+SUMPRODUCT((DV3:DV42=AY7)*(DY3:DY42=AY8)*(EF3:EF42="D")),"") | BB8: =IF(AY8<>"",SUMPRODUCT((DV3:DV42=AY8)*(DY3:DY42=AY5)*(EF3:EF42="L"))+SUMPRODUCT((DV3:DV42=AY8)*(DY3:DY42=AY6)*(EF3:EF42="L"))+SUMPRODUCT((DV3:DV42=AY8)*(DY3:DY42=AY7)*(EF3:EF42="L"))+SUMPRODUCT((DV3:DV42=AY5)*(DY3:DY42=AY8)*(EF3:EF42="L"))+SUMPRODUCT((DV3:DV42=AY6)*(DY3:DY42=AY8)*(EF3:EF42="L"))+SUMPRODUCT((DV3:DV42=AY7)*(DY3:DY42=AY8)*(EF3:EF42="L")),"") | BC8: =IF(AY8<>"",VLOOKUP(AY8,B4:F29,5,FALSE),0) -> 0 | BD8: =IF(AY8<>"",VLOOKUP(AY8,B4:G29,6,FALSE),0) -> 0 | BE8: =BC8-BD8+1000 -> 1000 | BF8: =IF(AY8<>"",VLOOKUP(AY8,B4:I29,8,FALSE),0) -> 0 | BG8: =IF(AY8<>"",VLOOKUP(AY8,B4:J29,9,FALSE),0) -> 0 | BH8: =IF(AY8<>"",BF8-BG8+1000,"") | BI8: =IF(AY8<>"",VLOOKUP(AY8,B4:F8,5,FALSE),"") | BJ8: =IF(AY8<>"",VLOOKUP(AY8,B4:I8,8,FALSE),"") | BK8: =IF(AY8<>"",VLOOKUP(AY8,B4:P8,15,FALSE),"") | BL8: =IF(AY8<>"",SUMPRODUCT((DV3:DV42=AY8)*(DY3:DY42=AY5)*EB3:EB42)+SUMPRODUCT((DV3:DV42=AY8)*(DY3:DY42=AY6)*EB3:EB42)+SUMPRODUCT((DV3:DV42=AY8)*(DY3:DY42=AY7)*EB3:EB42)+SUMPRODUCT((DV3:DV42=AY5)*(DY3:DY42=AY8)*EC3:EC42)+SUMPRODUCT((DV3:DV42=AY6)*(DY3:DY42=AY8)*EC3:EC42)+SUMPRODUCT((DV3:DV42=AY7)*(DY3:DY42=AY8)*EC3:EC42),"") | BM8: =IF(AY8<>"",SUMPRODUCT((DV3:DV42=AY8)*(DY3:DY42=AY5)*ED3:ED42)+SUMPRODUCT((DV3:DV42=AY8)*(DY3:DY42=AY6)*ED3:ED42)+SUMPRODUCT((DV3:DV42=AY8)*(DY3:DY42=AY7)*ED3:ED42)+SUMPRODUCT((DV3:DV42=AY5)*(DY3:DY42=AY8)*EE3:EE42)+SUMPRODUCT((DV3:DV42=AY6)*(DY3:DY42=AY8)*EE3:EE42)+SUMPRODUCT((DV3:DV42=AY7)*(DY3:DY42=AY8)*EE3:EE42),"") | BN8: =IF(AY8<>"",AZ8*4+BA8*2+BL8+BM8,"") | BO8: =IF(AY8<>"",RANK(BN8,BN5:BN8),"") | BP8: =SUMPRODUCT((BN5:BN8=BN8)*(BE5:BE8>BE8)) -> 0 | BQ8: =SUMPRODUCT((BN5:BN8=BN8)*(BE5:BE8=BE8)*(BH5:BH8>BH8)) -> 0 | BR8: =SUMPRODUCT((BN4:BN8=BN8)*(BE4:BE8=BE8)*(BH4:BH8=BH8)*(BI4:BI8>BI8)) -> 0 | BS8: =SUMPRODUCT((BN4:BN8=BN8)*(BE4:BE8=BE8)*(BH4:BH8=BH8)*(BI4:BI8=BI8)*(BJ4:BJ8>BJ8)) -> 0 | BT8: =SUMPRODUCT((BN4:BN8=BN8)*(BE4:BE8=BE8)*(BH4:BH8=BH8)*(BI4:BI8=BI8)*(BJ4:BJ8=BJ8)*(BK4:BK8>BK8)) -> 0 | BU8: =IF(AY8<>"",SUM(BO8:BT8)+1,"") | BV8: =IF(AY8<>"",INDEX(AY5:AY8,MATCH(5,BU5:BU8,0),0),"") | BW8: =IF(X6<>"",X6,"") | BX8: =IF(BW8<>"",SUMPRODUCT((DV3:DV42=BW8)*(DY3:DY42=BW9)*(EF3:EF42="W"))+SUMPRODUCT((DV3:DV42=BW8)*(DY3:DY42=BW6)*(EF3:EF42="W"))+SUMPRODUCT((DV3:DV42=BW8)*(DY3:DY42=BW7)*(EF3:EF42="W"))+SUMPRODUCT((DV3:DV42=BW9)*(DY3:DY42=BW8)*(EG3:EG42="W"))+SUMPRODUCT((DV3:DV42=BW6)*(DY3:DY42=BW8)*(EG3:EG42="W"))+SUMPRODUCT((DV3:DV42=BW7)*(DY3:DY42=BW8)*(EG3:EG42="W")),"") | BY8: =IF(BW8<>"",SUMPRODUCT((DV3:DV42=BW8)*(DY3:DY42=BW9)*(EF3:EF42="D"))+SUMPRODUCT((DV3:DV42=BW8)*(DY3:DY42=BW6)*(EF3:EF42="D"))+SUMPRODUCT((DV3:DV42=BW8)*(DY3:DY42=BW7)*(EF3:EF42="D"))+SUMPRODUCT((DV3:DV42=BW9)*(DY3:DY42=BW8)*(EF3:EF42="D"))+SUMPRODUCT((DV3:DV42=BW6)*(DY3:DY42=BW8)*(EF3:EF42="D"))+SUMPRODUCT((DV3:DV42=BW7)*(DY3:DY42=BW8)*(EF3:EF42="D")),"") | BZ8: =IF(BW8<>"",SUMPRODUCT((DV3:DV42=BW8)*(DY3:DY42=BW9)*(EF3:EF42="L"))+SUMPRODUCT((DV3:DV42=BW8)*(DY3:DY42=BW6)*(EF3:EF42="L"))+SUMPRODUCT((DV3:DV42=BW8)*(DY3:DY42=BW7)*(EF3:EF42="L"))+SUMPRODUCT((DV3:DV42=BW9)*(DY3:DY42=BW8)*(EG3:EG42="L"))+SUMPRODUCT((DV3:DV42=BW6)*(DY3:DY42=BW8)*(EG3:EG42="L"))+SUMPRODUCT((DV3:DV42=BW7)*(DY3:DY42=BW8)*(EG3:EG42="L")),"") | CA8: =IF(BW8<>"",VLOOKUP(BW8,B4:F29,5,FALSE),0) -> 0 | CB8: =IF(BW8<>"",VLOOKUP(BW8,B4:G29,6,FALSE),0) -> 0 | CC8: =CA8-CB8+1000 -> 1000 | CD8: =IF(BW8<>"",VLOOKUP(BW8,B4:I29,8,FALSE),0) -> 0 | CE8: =IF(BW8<>"",VLOOKUP(BW8,B4:J29,9,FALSE),0) -> 0 | CF8: =IF(BW8<>"",CD8-CE8+1000,"") | CG8: =IF(BW8<>"",VLOOKUP(BW8,B4:F8,5,FALSE),"") | CH8: =IF(BW8<>"",VLOOKUP(BW8,B4:I8,8,FALSE),"") | CI8: =IF(BW8<>"",VLOOKUP(BW8,B4:P8,15,FALSE),"") | CJ8: =IF(BW8<>"",SUMPRODUCT((DV3:DV42=BW8)*(DY3:DY42=BW9)*EB3:EB42)+SUMPRODUCT((DV3:DV42=BW8)*(DY3:DY42=BW6)*EB3:EB42)+SUMPRODUCT((DV3:DV42=BW8)*(DY3:DY42=BW7)*EB3:EB42)+SUMPRODUCT((DV3:DV42=BW9)*(DY3:DY42=BW8)*EC3:EC42)+SUMPRODUCT((DV3:DV42=BW6)*(DY3:DY42=BW8)*EC3:EC42)+SUMPRODUCT((DV3:DV42=BW7)*(DY3:DY42=BW8)*EC3:EC42),"") | CK8: =IF(BW8<>"",SUMPRODUCT((DV3:DV42=BW8)*(DY3:DY42=BW9)*ED3:ED42)+SUMPRODUCT((DV3:DV42=BW8)*(DY3:DY42=BW6)*ED3:ED42)+SUMPRODUCT((DV3:DV42=BW8)*(DY3:DY42=BW7)*ED3:ED42)+SUMPRODUCT((DV3:DV42=BW9)*(DY3:DY42=BW8)*EE3:EE42)+SUMPRODUCT((DV3:DV42=BW6)*(DY3:DY42=BW8)*EE3:EE42)+SUMPRODUCT((DV3:DV42=BW7)*(DY3:DY42=BW8)*EE3:EE42),"") | CL8: =IF(BW8<>"",BX8*4+BY8*2+CJ8+CK8,"") | CM8: =IF(BW8<>"",RANK(CL8,CL6:CL9),"") | CN8: =SUMPRODUCT((CL6:CL9=CL8)*(CC6:CC9>CC8)) -> 0 | CO8: =SUMPRODUCT((CL6:CL9=CL8)*(CC6:CC9=CC8)*(CF6:CF9>CF8)) -> 0 | CP8: =SUMPRODUCT((CL4:CL8=CL8)*(CC4:CC8=CC8)*(CF4:CF8=CF8)*(CG4:CG8>CG8)) -> 0 | CQ8: =SUMPRODUCT((CL4:CL8=CL8)*(CC4:CC8=CC8)*(CF4:CF8=CF8)*(CG4:CG8=CG8)*(CH4:CH8>CH8)) -> 0 | CR8: =SUMPRODUCT((CL4:CL8=CL8)*(CC4:CC8=CC8)*(CF4:CF8=CF8)*(CG4:CG8=CG8)*(CH4:CH8=CH8)*(CI4:CI8>CI8)) -> 0 | CS8: =IF(BW8<>"",SUM(CM8:CR8)+2,"") | CT8: =IF(BW8<>"",INDEX(BW6:BW8,MATCH(5,CS6:CS8,0),0),"") | CU8: =IF(Y5<>"",Y5,"") | CV8: =SUMPRODUCT((DV3:DV42=CU8)*(DY3:DY42=CU9)*(EF3:EF42="W"))+SUMPRODUCT((DV3:DV42=CU8)*(DY3:DY42=CU10)*(EF3:EF42="W"))+SUMPRODUCT((DV3:DV42=CU8)*(DY3:DY42=CU7)*(EF3:EF42="W"))+SUMPRODUCT((DV3:DV42=CU9)*(DY3:DY42=CU8)*(EG3:EG42="W"))+SUMPRODUCT((DV3:DV42=CU10)*(DY3:DY42=CU8)*(EG3:EG42="W"))+SUMPRODUCT((DV3:DV42=CU7)*(DY3:DY42=CU8)*(EG3:EG42="W")) -> 0 | CW8: =SUMPRODUCT((DV3:DV42=CU8)*(DY3:DY42=CU9)*(EF3:EF42="D"))+SUMPRODUCT((DV3:DV42=CU8)*(DY3:DY42=CU10)*(EF3:EF42="D"))+SUMPRODUCT((DV3:DV42=CU8)*(DY3:DY42=CU7)*(EF3:EF42="D"))+SUMPRODUCT((DV3:DV42=CU9)*(DY3:DY42=CU8)*(EF3:EF42="D"))+SUMPRODUCT((DV3:DV42=CU10)*(DY3:DY42=CU8)*(EF3:EF42="D"))+SUMPRODUCT((DV3:DV42=CU7)*(DY3:DY42=CU8)*(EF3:EF42="D")) -> 0 | CX8: =SUMPRODUCT((DV3:DV42=CU8)*(DY3:DY42=CU9)*(EF3:EF42="L"))+SUMPRODUCT((DV3:DV42=CU8)*(DY3:DY42=CU10)*(EF3:EF42="L"))+SUMPRODUCT((DV3:DV42=CU8)*(DY3:DY42=CU7)*(EF3:EF42="L"))+SUMPRODUCT((DV3:DV42=CU9)*(DY3:DY42=CU8)*(EG3:EG42="L"))+SUMPRODUCT((DV3:DV42=CU10)*(DY3:DY42=CU8)*(EG3:EG42="L"))+SUMPRODUCT((DV3:DV42=CU7)*(DY3:DY42=CU8)*(EG3:EG42="L")) -> 0 | CY8: =IF(CU8<>"",VLOOKUP(CU8,B4:F29,5,FALSE),0) -> 0 | CZ8: =IF(CU8<>"",VLOOKUP(CU8,B4:G29,6,FALSE),0) -> 0 | DA8: =CY8-CZ8+1000 -> 1000 | DB8: =IF(CU8<>"",VLOOKUP(CU8,B4:I29,8,FALSE),0) -> 0 | DC8: =IF(CU8<>"",VLOOKUP(CU8,B4:J29,9,FALSE),0) -> 0 | DD8: =DB8-DC8+1000 -> 1000 | DE8: =IF(CU8<>"",VLOOKUP(CU8,B4:F8,5,FALSE),"") | DF8: =IF(CU8<>"",VLOOKUP(CU8,B4:I8,8,FALSE),"") | DG8: =IF(CU8<>"",VLOOKUP(CU8,B4:P8,15,FALSE),"") | DH8: =SUMPRODUCT((DV3:DV42=CU8)*(DY3:DY42=CU9)*EB3:EB42)+SUMPRODUCT((DV3:DV42=CU8)*(DY3:DY42=CU10)*EB3:EB42)+SUMPRODUCT((DV3:DV42=CU8)*(DY3:DY42=CU7)*EB3:EB42)+SUMPRODUCT((DV3:DV42=CU9)*(DY3:DY42=CU8)*EC3:EC42)+SUMPRODUCT((DV3:DV42=CU10)*(DY3:DY42=CU8)*EC3:EC42)+SUMPRODUCT((DV3:DV42=CU7)*(DY3:DY42=CU8)*EC3:EC42) -> 0 | DI8: =SUMPRODUCT((DV3:DV42=CU8)*(DY3:DY42=CU9)*ED3:ED42)+SUMPRODUCT((DV3:DV42=CU8)*(DY3:DY42=CU10)*ED3:ED42)+SUMPRODUCT((DV3:DV42=CU8)*(DY3:DY42=CU7)*ED3:ED42)+SUMPRODUCT((DV3:DV42=CU9)*(DY3:DY42=CU8)*EE3:EE42)+SUMPRODUCT((DV3:DV42=CU10)*(DY3:DY42=CU8)*EE3:EE42)+SUMPRODUCT((DV3:DV42=CU7)*(DY3:DY42=CU8)*EE3:EE42) -> 0 | DJ8: =CV8*4+CW8*2+DH8+DI8 -> 0 | DK8: =IF(CU8<>"",RANK(DJ8,DJ7:DJ10),"") | DL8: =SUMPRODUCT((DJ7:DJ10=DJ8)*(DA7:DA10>DA8)) -> 0 | DM8: =SUMPRODUCT((DJ7:DJ10=DJ8)*(DA7:DA10=DA8)*(DD7:DD10>DD8)) -> 0 | DN8: =SUMPRODUCT((DJ4:DJ8=DJ8)*(DA4:DA8=DA8)*(DD4:DD8=DD8)*(DE4:DE8>DE8)) -> 0 | DO8: =SUMPRODUCT((DJ4:DJ8=DJ8)*(DA4:DA8=DA8)*(DD4:DD8=DD8)*(DE4:DE8=DE8)*(DF4:DF8>DF8)) -> 0 | DP8: =SUMPRODUCT((DJ4:DJ8=DJ8)*(DA4:DA8=DA8)*(DD4:DD8=DD8)*(DE4:DE8=DE8)*(DF4:DF8=DF8)*(DG4:DG8>DG8)) -> 0 | DQ8: =IF(CU8<>"",SUM(DK8:DP8)+3,"") | DR8: =IF(CU7<>"",IF(CU7=DR7,CU8,CU7),"") | DS8: =IF(DR8<>"",DR8,IF(CT8<>"",CT8,IF(BV8<>"",BV8,IF(AX8<>"",AX8,T8)))) -> Namibia | DT8: 5 | DU8: 6 | DV8: =Tournament!H17 -> Japan | DW8: =IF(AND(Tournament!J17<>"",Tournament!L17<>""),Tournament!J17,0) -> 0 | DX8: =IF(AND(Tournament!L17<>"",Tournament!J17<>""),Tournament!L17,0) -> 0 | DY8: =Tournament!N17 -> Chile | DZ8: =IF(Tournament!O17<>"",Tournament!O17,0) -> 0 | EA8: =IF(Tournament!Q17<>"",Tournament!Q17,0) -> 0 | EB8: =IF(DW8<>"",IF(Tournament!O17>3,1,0),0) -> 0 | EC8: =IF(DX8<>"",IF(Tournament!Q17>3,1,0),0) -> 0 | ED8: =IFERROR(IF(AND(DW8<>"",DW8<DX8,DX8-DW8<8),1,0),0) -> 0 | EE8: =IFERROR(IF(AND(DX8<>"",DX8<DW8,DW8-DX8<8),1,0),0) -> 0 | EF8: =IF(AND(Tournament!J17<>"",Tournament!L17<>""),IF(DW8>DX8,"W",IF(DW8=DX8,"D","L")),"") | EG8: =IF(EF8<>"",IF(EF8="W","L",IF(EF8="L","W","D")),"")
DU9: 7 | DV9: =Tournament!H18 -> South Africa | DW9: =IF(AND(Tournament!J18<>"",Tournament!L18<>""),Tournament!J18,0) -> 0 | DX9: =IF(AND(Tournament!L18<>"",Tournament!J18<>""),Tournament!L18,0) -> 0 | DY9: =Tournament!N18 -> Scotland | DZ9: =IF(Tournament!O18<>"",Tournament!O18,0) -> 0 | EA9: =IF(Tournament!Q18<>"",Tournament!Q18,0) -> 0 | EB9: =IF(DW9<>"",IF(Tournament!O18>3,1,0),0) -> 0 | EC9: =IF(DX9<>"",IF(Tournament!Q18>3,1,0),0) -> 0 | ED9: =IFERROR(IF(AND(DW9<>"",DW9<DX9,DX9-DW9<8),1,0),0) -> 0 | EE9: =IFERROR(IF(AND(DX9<>"",DX9<DW9,DW9-DX9<8),1,0),0) -> 0 | EF9: =IF(AND(Tournament!J18<>"",Tournament!L18<>""),IF(DW9>DX9,"W",IF(DW9=DX9,"D","L")),"") | EG9: =IF(EF9<>"",IF(EF9="W","L",IF(EF9="L","W","D")),"")
DU10: 8 | DV10: =Tournament!H19 -> Wales | DW10: =IF(AND(Tournament!J19<>"",Tournament!L19<>""),Tournament!J19,0) -> 0 | DX10: =IF(AND(Tournament!L19<>"",Tournament!J19<>""),Tournament!L19,0) -> 0 | DY10: =Tournament!N19 -> Fiji | DZ10: =IF(Tournament!O19<>"",Tournament!O19,0) -> 0 | EA10: =IF(Tournament!Q19<>"",Tournament!Q19,0) -> 0 | EB10: =IF(DW10<>"",IF(Tournament!O19>3,1,0),0) -> 0 | EC10: =IF(DX10<>"",IF(Tournament!Q19>3,1,0),0) -> 0 | ED10: =IFERROR(IF(AND(DW10<>"",DW10<DX10,DX10-DW10<8),1,0),0) -> 0 | EE10: =IFERROR(IF(AND(DX10<>"",DX10<DW10,DW10-DX10<8),1,0),0) -> 0 | EF10: =IF(AND(Tournament!J19<>"",Tournament!L19<>""),IF(DW10>DX10,"W",IF(DW10=DX10,"D","L")),"") | EG10: =IF(EF10<>"",IF(EF10="W","L",IF(EF10="L","W","D")),"")
A11: =VLOOKUP(B11,DS11:DT15,2,FALSE) -> 1 | B11: Ireland | C11: =COUNTIFS(DV3:DV42,B11,EF3:EF42,"W")+COUNTIFS(DY3:DY42,B11,EG3:EG42,"W") -> 0 | D11: =COUNTIFS(DV3:DV42,B11,EF3:EF42,"D")+COUNTIFS(DY3:DY42,B11,EG3:EG42,"D") -> 0 | E11: =COUNTIFS(DV3:DV42,B11,EF3:EF42,"L")+COUNTIFS(DY3:DY42,B11,EG3:EG42,"L") -> 0 | F11: =SUMIF(DV3:DV60,B11,DW3:DW60)+SUMIF(DY3:DY60,B11,DX3:DX60) -> 0 | G11: =SUMIF(DY3:DY60,B11,DW3:DW60)+SUMIF(DV3:DV60,B11,DX3:DX60) -> 0 | H11: =F11-G11+1000 -> 1000 | I11: =SUMIF(Tournament!H12:H51,B11,Tournament!O12:O51)+SUMIF(Tournament!N12:N51,B11,Tournament!Q12:Q51) -> 0 | J11: =SUMIF(Tournament!N12:N51,B11,Tournament!O12:O51)+SUMIF(Tournament!H12:H51,B11,Tournament!Q12:Q51) -> 0 | K11: =I11-J11+1000 -> 1000 | L11: =C11*4+D11*2 -> 0 | M11: =SUMIF(DV:DV,B11,EB:EB)+SUMIF(DY:DY,B11,EC:EC) -> 0 | N11: =SUMIF(DV:DV,B11,ED:ED)+SUMIF(DY:DY,B11,EE:EE) -> 0 | O11: =N11+M11+L11 -> 0 | P11: 22 | Q11: =RANK(O11,O11:O15) -> 1 | S11: =RANK(O11,O11:O15)+COUNTIF(O11:O11,O11)-1 -> 1 | T11: =INDEX(B11:B15,MATCH(1,S11:S15,0),0) -> Ireland | U11: =INDEX(Q11:Q15,MATCH(T11,B11:B15,0),0) -> 1 | V11: =IF(U12=1,T11,"") -> Ireland | W11: =IF(U13=2,T12,"") | X11: =IF(U14=3,T13,"") | Y11: =IF(U15=4,T14,"") | AA11: =IF(V11<>"",V11,"") -> Ireland | AB11: =SUMPRODUCT((DV3:DV42=AA11)*(DY3:DY42=AA12)*(EF3:EF42="W"))+SUMPRODUCT((DV3:DV42=AA11)*(DY3:DY42=AA13)*(EF3:EF42="W"))+SUMPRODUCT((DV3:DV42=AA11)*(DY3:DY42=AA14)*(EF3:EF42="W"))+SUMPRODUCT((DV3:DV42=AA11)*(DY3:DY42=AA15)*(EF3:EF42="W"))+SUMPRODUCT((DV3:DV42=AA12)*(DY3:DY42=AA11)*(EG3:EG42="W"))+SUMPRODUCT((DV3:DV42=AA13)*(DY3:DY42=AA11)*(EG3:EG42="W"))+SUMPRODUCT((DV3:DV42=AA14)*(DY3:DY42=AA11)*(EG3:EG42="W"))+SUMPRODUCT((DV3:DV42=AA15)*(DY3:DY42=AA11)*(EG3:EG42="W")) -> 0 | AC11: =SUMPRODUCT((DV3:DV42=AA11)*(DY3:DY42=AA12)*(EF3:EF42="D"))+SUMPRODUCT((DV3:DV42=AA11)*(DY3:DY42=AA13)*(EF3:EF42="D"))+SUMPRODUCT((DV3:DV42=AA11)*(DY3:DY42=AA14)*(EF3:EF42="D"))+SUMPRODUCT((DV3:DV42=AA11)*(DY3:DY42=AA15)*(EF3:EF42="D"))+SUMPRODUCT((DV3:DV42=AA12)*(DY3:DY42=AA11)*(EF3:EF42="D"))+SUMPRODUCT((DV3:DV42=AA13)*(DY3:DY42=AA11)*(EF3:EF42="D"))+SUMPRODUCT((DV3:DV42=AA14)*(DY3:DY42=AA11)*(EF3:EF42="D"))+SUMPRODUCT((DV3:DV42=AA15)*(DY3:DY42=AA11)*(EF3:EF42="D")) -> 0 | AD11: =SUMPRODUCT((DV3:DV42=AA11)*(DY3:DY42=AA12)*(EF3:EF42="L"))+SUMPRODUCT((DV3:DV42=AA11)*(DY3:DY42=AA13)*(EF3:EF42="L"))+SUMPRODUCT((DV3:DV42=AA11)*(DY3:DY42=AA14)*(EF3:EF42="L"))+SUMPRODUCT((DV3:DV42=AA11)*(DY3:DY42=AA15)*(EF3:EF42="L"))+SUMPRODUCT((DV3:DV42=AA12)*(DY3:DY42=AA11)*(EG3:EG42="L"))+SUMPRODUCT((DV3:DV42=AA13)*(DY3:DY42=AA11)*(EG3:EG42="L"))+SUMPRODUCT((DV3:DV42=AA14)*(DY3:DY42=AA11)*(EG3:EG42="L"))+SUMPRODUCT((DV3:DV42=AA15)*(DY3:DY42=AA11)*(EG3:EG42="L")) -> 0 | AE11: =IF(AA11<>"",VLOOKUP(AA11,B4:F29,5,FALSE),0) -> 0 | AF11: =IF(AA11<>"",VLOOKUP(AA11,B4:G29,6,FALSE),0) -> 0 | AG11: =AE11-AF11+1000 -> 1000 | AH11: =IF(AA11<>"",VLOOKUP(AA11,B4:I29,8,FALSE),0) -> 0 | AI11: =IF(AA11<>"",VLOOKUP(AA11,B4:J29,9,FALSE),0) -> 0 | AJ11: =AH11-AI11+1000 -> 1000 | AK11: =IF(AA11<>"",VLOOKUP(AA11,B11:F15,5,FALSE),"") -> 0 | AL11: =IF(AA11<>"",VLOOKUP(AA11,B11:I15,8,FALSE),"") -> 0 | AM11: =IF(AA11<>"",VLOOKUP(AA11,B11:P15,15,FALSE),"") -> 22 | AN11: =SUMPRODUCT((DV3:DV42=AA11)*(DY3:DY42=AA12)*EB3:EB42)+SUMPRODUCT((DV3:DV42=AA11)*(DY3:DY42=AA13)*EB3:EB42)+SUMPRODUCT((DV3:DV42=AA11)*(DY3:DY42=AA14)*EB3:EB42)+SUMPRODUCT((DV3:DV42=AA11)*(DY3:DY42=AA15)*EB3:EB42)+SUMPRODUCT((DV3:DV42=AA12)*(DY3:DY42=AA11)*EC3:EC42)+SUMPRODUCT((DV3:DV42=AA13)*(DY3:DY42=AA11)*EC3:EC42)+SUMPRODUCT((DV3:DV42=AA14)*(DY3:DY42=AA11)*EC3:EC42)+SUMPRODUCT((DV3:DV42=AA15)*(DY3:DY42=AA11)*EC3:EC42) -> 0 | AO11: =SUMPRODUCT((DV3:DV42=AA11)*(DY3:DY42=AA12)*ED3:ED42)+SUMPRODUCT((DV3:DV42=AA11)*(DY3:DY42=AA13)*ED3:ED42)+SUMPRODUCT((DV3:DV42=AA11)*(DY3:DY42=AA14)*ED3:ED42)+SUMPRODUCT((DV3:DV42=AA11)*(DY3:DY42=AA15)*ED3:ED42)+SUMPRODUCT((DV3:DV42=AA12)*(DY3:DY42=AA11)*EE3:EE42)+SUMPRODUCT((DV3:DV42=AA13)*(DY3:DY42=AA11)*EE3:EE42)+SUMPRODUCT((DV3:DV42=AA14)*(DY3:DY42=AA11)*EE3:EE42)+SUMPRODUCT((DV3:DV42=AA15)*(DY3:DY42=AA11)*EE3:EE42) -> 0 | AP11: =AB11*4+AC11*2+AN11+AO11 -> 0 | AQ11: =IF(AA11<>"",RANK(AP11,AP11:AP15),"") -> 1 | AR11: =SUMPRODUCT((AP11:AP15=AP11)*(AG11:AG15>AG11)) -> 0 | AS11: =SUMPRODUCT((AP11:AP15=AP11)*(AG11:AG15=AG11)*(AJ11:AJ15>AJ11)) -> 0 | AT11: =SUMPRODUCT((AP11:AP15=AP11)*(AG11:AG15=AG11)*(AJ11:AJ15=AJ11)*(AK11:AK15>AK11)) -> 0 | AU11: =SUMPRODUCT((AP11:AP15=AP11)*(AG11:AG15=AG11)*(AJ11:AJ15=AJ11)*(AK11:AK15=AK11)*(AL11:AL15>AL11)) -> 0 | AV11: =SUMPRODUCT((AP11:AP15=AP11)*(AG11:AG15=AG11)*(AJ11:AJ15=AJ11)*(AK11:AK15=AK11)*(AL11:AL15=AL11)*(AM11:AM15>AM11)) -> 0 | AW11: =IF(AA11<>"",SUM(AQ11:AV11),"") -> 1 | AX11: =IF(AA11<>"",INDEX(AA11:AA15,MATCH(1,AW11:AW15,0),0),"") -> Ireland | DS11: =IF(AX11<>"",AX11,T11) -> Ireland | DT11: 1 | DU11: 9 | DV11: =Tournament!H20 -> France | DW11: =IF(AND(Tournament!J20<>"",Tournament!L20<>""),Tournament!J20,0) -> 0 | DX11: =IF(AND(Tournament!L20<>"",Tournament!J20<>""),Tournament!L20,0) -> 0 | DY11: =Tournament!N20 -> Uruguay | DZ11: =IF(Tournament!O20<>"",Tournament!O20,0) -> 0 | EA11: =IF(Tournament!Q20<>"",Tournament!Q20,0) -> 0 | EB11: =IF(DW11<>"",IF(Tournament!O20>3,1,0),0) -> 0 | EC11: =IF(DX11<>"",IF(Tournament!Q20>3,1,0),0) -> 0 | ED11: =IFERROR(IF(AND(DW11<>"",DW11<DX11,DX11-DW11<8),1,0),0) -> 0 | EE11: =IFERROR(IF(AND(DX11<>"",DX11<DW11,DW11-DX11<8),1,0),0) -> 0 | EF11: =IF(AND(Tournament!J20<>"",Tournament!L20<>""),IF(DW11>DX11,"W",IF(DW11=DX11,"D","L")),"") | EG11: =IF(EF11<>"",IF(EF11="W","L",IF(EF11="L","W","D")),"")
A12: =VLOOKUP(B12,DS11:DT15,2,FALSE) -> 5 | B12: Romania | C12: =COUNTIFS(DV3:DV42,B12,EF3:EF42,"W")+COUNTIFS(DY3:DY42,B12,EG3:EG42,"W") -> 0 | D12: =COUNTIFS(DV3:DV42,B12,EF3:EF42,"D")+COUNTIFS(DY3:DY42,B12,EG3:EG42,"D") -> 0 | E12: =COUNTIFS(DV3:DV42,B12,EF3:EF42,"L")+COUNTIFS(DY3:DY42,B12,EG3:EG42,"L") -> 0 | F12: =SUMIF(DV3:DV60,B12,DW3:DW60)+SUMIF(DY3:DY60,B12,DX3:DX60) -> 0 | G12: =SUMIF(DY3:DY60,B12,DW3:DW60)+SUMIF(DV3:DV60,B12,DX3:DX60) -> 0 | H12: =F12-G12+1000 -> 1000 | I12: =SUMIF(Tournament!H12:H51,B12,Tournament!O12:O51)+SUMIF(Tournament!N12:N51,B12,Tournament!Q12:Q51) -> 0 | J12: =SUMIF(Tournament!N12:N51,B12,Tournament!O12:O51)+SUMIF(Tournament!H12:H51,B12,Tournament!Q12:Q51) -> 0 | K12: =I12-J12+1000 -> 1000 | L12: =C12*4+D12*2 -> 0 | M12: =SUMIF(DV:DV,B12,EB:EB)+SUMIF(DY:DY,B12,EC:EC) -> 0 | N12: =SUMIF(DV:DV,B12,ED:ED)+SUMIF(DY:DY,B12,EE:EE) -> 0 | O12: =N12+M12+L12 -> 0 | P12: 4 | Q12: =RANK(O12,O11:O15) -> 1 | S12: =RANK(O12,O11:O15)+COUNTIF(O11:O12,O12)-1 -> 2 | T12: =INDEX(B11:B15,MATCH(2,S11:S15,0),0) -> Romania | U12: =INDEX(Q11:Q15,MATCH(T12,B11:B15,0),0) -> 1 | V12: =IF(V11<>"",T12,"") -> Romania | W12: =IF(W11<>"",T13,"") | X12: =IF(X11<>"",T14,"") | Y12: =IF(Y11<>"",T15,"") | AA12: =IF(V12<>"",V12,"") -> Romania | AB12: =SUMPRODUCT((DV3:DV42=AA12)*(DY3:DY42=AA13)*(EF3:EF42="W"))+SUMPRODUCT((DV3:DV42=AA12)*(DY3:DY42=AA14)*(EF3:EF42="W"))+SUMPRODUCT((DV3:DV42=AA12)*(DY3:DY42=AA15)*(EF3:EF42="W"))+SUMPRODUCT((DV3:DV42=AA12)*(DY3:DY42=AA11)*(EF3:EF42="W"))+SUMPRODUCT((DV3:DV42=AA13)*(DY3:DY42=AA12)*(EG3:EG42="W"))+SUMPRODUCT((DV3:DV42=AA14)*(DY3:DY42=AA12)*(EG3:EG42="W"))+SUMPRODUCT((DV3:DV42=AA15)*(DY3:DY42=AA12)*(EG3:EG42="W"))+SUMPRODUCT((DV3:DV42=AA11)*(DY3:DY42=AA12)*(EG3:EG42="W")) -> 0 | AC12: =SUMPRODUCT((DV3:DV42=AA12)*(DY3:DY42=AA13)*(EF3:EF42="D"))+SUMPRODUCT((DV3:DV42=AA12)*(DY3:DY42=AA14)*(EF3:EF42="D"))+SUMPRODUCT((DV3:DV42=AA12)*(DY3:DY42=AA15)*(EF3:EF42="D"))+SUMPRODUCT((DV3:DV42=AA12)*(DY3:DY42=AA11)*(EF3:EF42="D"))+SUMPRODUCT((DV3:DV42=AA13)*(DY3:DY42=AA12)*(EF3:EF42="D"))+SUMPRODUCT((DV3:DV42=AA14)*(DY3:DY42=AA12)*(EF3:EF42="D"))+SUMPRODUCT((DV3:DV42=AA15)*(DY3:DY42=AA12)*(EF3:EF42="D"))+SUMPRODUCT((DV3:DV42=AA11)*(DY3:DY42=AA12)*(EF3:EF42="D")) -> 0 | AD12: =SUMPRODUCT((DV3:DV42=AA12)*(DY3:DY42=AA13)*(EF3:EF42="L"))+SUMPRODUCT((DV3:DV42=AA12)*(DY3:DY42=AA14)*(EF3:EF42="L"))+SUMPRODUCT((DV3:DV42=AA12)*(DY3:DY42=AA15)*(EF3:EF42="L"))+SUMPRODUCT((DV3:DV42=AA12)*(DY3:DY42=AA11)*(EF3:EF42="L"))+SUMPRODUCT((DV3:DV42=AA13)*(DY3:DY42=AA12)*(EG3:EG42="L"))+SUMPRODUCT((DV3:DV42=AA14)*(DY3:DY42=AA12)*(EG3:EG42="L"))+SUMPRODUCT((DV3:DV42=AA15)*(DY3:DY42=AA12)*(EG3:EG42="L"))+SUMPRODUCT((DV3:DV42=AA11)*(DY3:DY42=AA12)*(EG3:EG42="L")) -> 0 | AE12: =IF(AA12<>"",VLOOKUP(AA12,B4:F29,5,FALSE),0) -> 0 | AF12: =IF(AA12<>"",VLOOKUP(AA12,B4:G29,6,FALSE),0) -> 0 | AG12: =AE12-AF12+1000 -> 1000 | AH12: =IF(AA12<>"",VLOOKUP(AA12,B4:I29,8,FALSE),0) -> 0 | AI12: =IF(AA12<>"",VLOOKUP(AA12,B4:J29,9,FALSE),0) -> 0 | AJ12: =AH12-AI12+1000 -> 1000 | AK12: =IF(AA12<>"",VLOOKUP(AA12,B11:F15,5,FALSE),"") -> 0 | AL12: =IF(AA12<>"",VLOOKUP(AA12,B11:I15,8,FALSE),"") -> 0 | AM12: =IF(AA12<>"",VLOOKUP(AA12,B11:P15,15,FALSE),"") -> 4 | AN12: =SUMPRODUCT((DV3:DV42=AA12)*(DY3:DY42=AA13)*EB3:EB42)+SUMPRODUCT((DV3:DV42=AA12)*(DY3:DY42=AA14)*EB3:EB42)+SUMPRODUCT((DV3:DV42=AA12)*(DY3:DY42=AA15)*EB3:EB42)+SUMPRODUCT((DV3:DV42=AA12)*(DY3:DY42=AA11)*EB3:EB42)+SUMPRODUCT((DV3:DV42=AA13)*(DY3:DY42=AA12)*EC3:EC42)+SUMPRODUCT((DV3:DV42=AA14)*(DY3:DY42=AA12)*EC3:EC42)+SUMPRODUCT((DV3:DV42=AA15)*(DY3:DY42=AA12)*EC3:EC42)+SUMPRODUCT((DV3:DV42=AA11)*(DY3:DY42=AA12)*EC3:EC42) -> 0 | AO12: =SUMPRODUCT((DV3:DV42=AA12)*(DY3:DY42=AA13)*ED3:ED42)+SUMPRODUCT((DV3:DV42=AA12)*(DY3:DY42=AA14)*ED3:ED42)+SUMPRODUCT((DV3:DV42=AA12)*(DY3:DY42=AA15)*ED3:ED42)+SUMPRODUCT((DV3:DV42=AA12)*(DY3:DY42=AA11)*ED3:ED42)+SUMPRODUCT((DV3:DV42=AA13)*(DY3:DY42=AA12)*EE3:EE42)+SUMPRODUCT((DV3:DV42=AA14)*(DY3:DY42=AA12)*EE3:EE42)+SUMPRODUCT((DV3:DV42=AA15)*(DY3:DY42=AA12)*EE3:EE42)+SUMPRODUCT((DV3:DV42=AA11)*(DY3:DY42=AA12)*EE3:EE42) -> 0 | AP12: =AB12*4+AC12*2+AN12+AO12 -> 0 | AQ12: =IF(AA12<>"",RANK(AP12,AP11:AP15),"") -> 1 | AR12: =SUMPRODUCT((AP11:AP15=AP12)*(AG11:AG15>AG12)) -> 0 | AS12: =SUMPRODUCT((AP11:AP15=AP12)*(AG11:AG15=AG12)*(AJ11:AJ15>AJ12)) -> 0 | AT12: =SUMPRODUCT((AP11:AP15=AP12)*(AG11:AG15=AG12)*(AJ11:AJ15=AJ12)*(AK11:AK15>AK12)) -> 0 | AU12: =SUMPRODUCT((AP11:AP15=AP12)*(AG11:AG15=AG12)*(AJ11:AJ15=AJ12)*(AK11:AK15=AK12)*(AL11:AL15>AL12)) -> 0 | AV12: =SUMPRODUCT((AP11:AP15=AP12)*(AG11:AG15=AG12)*(AJ11:AJ15=AJ12)*(AK11:AK15=AK12)*(AL11:AL15=AL12)*(AM11:AM15>AM12)) -> 4 | AW12: =IF(AA12<>"",SUM(AQ12:AV12),"") -> 5 | AX12: =IF(AA12<>"",INDEX(AA11:AA15,MATCH(2,AW11:AW15,0),0),"") -> South Africa | AY12: =IF(W11<>"",W11,"") | AZ12: =SUMPRODUCT((DV3:DV42=AY12)*(DY3:DY42=AY13)*(EF3:EF42="W"))+SUMPRODUCT((DV3:DV42=AY12)*(DY3:DY42=AY14)*(EF3:EF42="W"))+SUMPRODUCT((DV3:DV42=AY12)*(DY3:DY42=AY15)*(EF3:EF42="W"))+SUMPRODUCT((DV3:DV42=AY13)*(DY3:DY42=AY12)*(EG3:EG42="W"))+SUMPRODUCT((DV3:DV42=AY14)*(DY3:DY42=AY12)*(EG3:EG42="W"))+SUMPRODUCT((DV3:DV42=AY15)*(DY3:DY42=AY12)*(EG3:EG42="W")) -> 0 | BA12: =SUMPRODUCT((DV3:DV42=AY12)*(DY3:DY42=AY13)*(EF3:EF42="D"))+SUMPRODUCT((DV3:DV42=AY12)*(DY3:DY42=AY14)*(EF3:EF42="D"))+SUMPRODUCT((DV3:DV42=AY12)*(DY3:DY42=AY15)*(EF3:EF42="D"))+SUMPRODUCT((DV3:DV42=AY13)*(DY3:DY42=AY12)*(EF3:EF42="D"))+SUMPRODUCT((DV3:DV42=AY14)*(DY3:DY42=AY12)*(EF3:EF42="D"))+SUMPRODUCT((DV3:DV42=AY15)*(DY3:DY42=AY12)*(EF3:EF42="D")) -> 0 | BB12: =SUMPRODUCT((DV3:DV42=AY12)*(DY3:DY42=AY13)*(EF3:EF42="L"))+SUMPRODUCT((DV3:DV42=AY12)*(DY3:DY42=AY14)*(EF3:EF42="L"))+SUMPRODUCT((DV3:DV42=AY12)*(DY3:DY42=AY15)*(EF3:EF42="L"))+SUMPRODUCT((DV3:DV42=AY13)*(DY3:DY42=AY12)*(EG3:EG42="L"))+SUMPRODUCT((DV3:DV42=AY14)*(DY3:DY42=AY12)*(EG3:EG42="L"))+SUMPRODUCT((DV3:DV42=AY15)*(DY3:DY42=AY12)*(EG3:EG42="L")) -> 0 | BC12: =IF(AY12<>"",VLOOKUP(AY12,B4:F29,5,FALSE),0) -> 0 | BD12: =IF(AY12<>"",VLOOKUP(AY12,B4:G29,6,FALSE),0) -> 0 | BE12: =BC12-BD12+1000 -> 1000 | BF12: =IF(AY12<>"",VLOOKUP(AY12,B4:I29,8,FALSE),0) -> 0 | BG12: =IF(AY12<>"",VLOOKUP(AY12,B4:J29,9,FALSE),0) -> 0 | BH12: =BF12-BG12+1000 -> 1000 | BI12: =IF(AY12<>"",VLOOKUP(AY12,B11:F15,5,FALSE),"") | BJ12: =IF(AY12<>"",VLOOKUP(AY12,B11:I15,8,FALSE),"") | BK12: =IF(AY12<>"",VLOOKUP(AY12,B11:P15,15,FALSE),"") | BL12: =SUMPRODUCT((DV3:DV42=AY12)*(DY3:DY42=AY13)*EB3:EB42)+SUMPRODUCT((DV3:DV42=AY12)*(DY3:DY42=AY14)*EB3:EB42)+SUMPRODUCT((DV3:DV42=AY12)*(DY3:DY42=AY15)*EB3:EB42)+SUMPRODUCT((DV3:DV42=AY13)*(DY3:DY42=AY12)*EC3:EC42)+SUMPRODUCT((DV3:DV42=AY14)*(DY3:DY42=AY12)*EC3:EC42)+SUMPRODUCT((DV3:DV42=AY15)*(DY3:DY42=AY12)*EC3:EC42) -> 0 | BM12: =SUMPRODUCT((DV3:DV42=AY12)*(DY3:DY42=AY13)*ED3:ED42)+SUMPRODUCT((DV3:DV42=AY12)*(DY3:DY42=AY14)*ED3:ED42)+SUMPRODUCT((DV3:DV42=AY12)*(DY3:DY42=AY15)*ED3:ED42)+SUMPRODUCT((DV3:DV42=AY13)*(DY3:DY42=AY12)*EE3:EE42)+SUMPRODUCT((DV3:DV42=AY14)*(DY3:DY42=AY12)*EE3:EE42)+SUMPRODUCT((DV3:DV42=AY15)*(DY3:DY42=AY12)*EE3:EE42) -> 0 | BN12: =AZ12*4+BA12*2+BL12+BM12 -> 0 | BO12: =IF(AY12<>"",RANK(BN12,BN12:BN15),"") | BP12: =SUMPRODUCT((BN12:BN15=BN12)*(BE12:BE15>BE12)) -> 0 | BQ12: =SUMPRODUCT((BN12:BN15=BN12)*(BE12:BE15=BE12)*(BH12:BH15>BH12)) -> 0 | BR12: =SUMPRODUCT((BN11:BN15=BN12)*(BE11:BE15=BE12)*(BH11:BH15=BH12)*(BI11:BI15>BI12)) -> 0 | BS12: =SUMPRODUCT((BN11:BN15=BN12)*(BE11:BE15=BE12)*(BH11:BH15=BH12)*(BI11:BI15=BI12)*(BJ11:BJ15>BJ12)) -> 0 | BT12: =SUMPRODUCT((BN11:BN15=BN12)*(BE11:BE15=BE12)*(BH11:BH15=BH12)*(BI11:BI15=BI12)*(BJ11:BJ15=BJ12)*(BK11:BK15>BK12)) -> 0 | BU12: =IF(AY12<>"",SUM(BO12:BT12)+1,"") | BV12: =IF(AY12<>"",INDEX(AY12:AY15,MATCH(2,BU12:BU15,0),0),"") | DS12: =IF(BV12<>"",BV12,IF(AX12<>"",AX12,T12)) -> South Africa | DT12: 2 | DU12: 10 | DV12: =Tournament!H21 -> New Zealand | DW12: =IF(AND(Tournament!J21<>"",Tournament!L21<>""),Tournament!J21,0) -> 0 | DX12: =IF(AND(Tournament!L21<>"",Tournament!J21<>""),Tournament!L21,0) -> 0 | DY12: =Tournament!N21 -> Namibia | DZ12: =IF(Tournament!O21<>"",Tournament!O21,0) -> 0 | EA12: =IF(Tournament!Q21<>"",Tournament!Q21,0) -> 0 | EB12: =IF(DW12<>"",IF(Tournament!O21>3,1,0),0) -> 0 | EC12: =IF(DX12<>"",IF(Tournament!Q21>3,1,0),0) -> 0 | ED12: =IFERROR(IF(AND(DW12<>"",DW12<DX12,DX12-DW12<8),1,0),0) -> 0 | EE12: =IFERROR(IF(AND(DX12<>"",DX12<DW12,DW12-DX12<8),1,0),0) -> 0 | EF12: =IF(AND(Tournament!J21<>"",Tournament!L21<>""),IF(DW12>DX12,"W",IF(DW12=DX12,"D","L")),"") | EG12: =IF(EF12<>"",IF(EF12="W","L",IF(EF12="L","W","D")),"")
A13: =VLOOKUP(B13,DS11:DT15,2,FALSE) -> 3 | B13: Scotland | C13: =COUNTIFS(DV3:DV42,B13,EF3:EF42,"W")+COUNTIFS(DY3:DY42,B13,EG3:EG42,"W") -> 0 | D13: =COUNTIFS(DV3:DV42,B13,EF3:EF42,"D")+COUNTIFS(DY3:DY42,B13,EG3:EG42,"D") -> 0 | E13: =COUNTIFS(DV3:DV42,B13,EF3:EF42,"L")+COUNTIFS(DY3:DY42,B13,EG3:EG42,"L") -> 0 | F13: =SUMIF(DV3:DV60,B13,DW3:DW60)+SUMIF(DY3:DY60,B13,DX3:DX60) -> 0 | G13: =SUMIF(DY3:DY60,B13,DW3:DW60)+SUMIF(DV3:DV60,B13,DX3:DX60) -> 0 | H13: =F13-G13+1000 -> 1000 | I13: =SUMIF(Tournament!H12:H51,B13,Tournament!O12:O51)+SUMIF(Tournament!N12:N51,B13,Tournament!Q12:Q51) -> 0 | J13: =SUMIF(Tournament!N12:N51,B13,Tournament!O12:O51)+SUMIF(Tournament!H12:H51,B13,Tournament!Q12:Q51) -> 0 | K13: =I13-J13+1000 -> 1000 | L13: =C13*4+D13*2 -> 0 | M13: =SUMIF(DV:DV,B13,EB:EB)+SUMIF(DY:DY,B13,EC:EC) -> 0 | N13: =SUMIF(DV:DV,B13,ED:ED)+SUMIF(DY:DY,B13,EE:EE) -> 0 | O13: =N13+M13+L13 -> 0 | P13: 18 | Q13: =RANK(O13,O11:O15) -> 1 | S13: =RANK(O13,O11:O15)+COUNTIF(O11:O13,O13)-1 -> 3 | T13: =INDEX(B11:B15,MATCH(3,S11:S15,0),0) -> Scotland | U13: =INDEX(Q11:Q15,MATCH(T13,B11:B15,0),0) -> 1 | V13: =IF(AND(V12<>"",U13=1),T13,"") -> Scotland | W13: =IF(AND(W12<>"",U14=2),T14,"") | X13: =IF(AND(X12<>"",U15=3),T15,"") | AA13: =IF(V13<>"",V13,"") -> Scotland | AB13: =SUMPRODUCT((DV3:DV42=AA13)*(DY3:DY42=AA14)*(EF3:EF42="W"))+SUMPRODUCT((DV3:DV42=AA13)*(DY3:DY42=AA15)*(EF3:EF42="W"))+SUMPRODUCT((DV3:DV42=AA13)*(DY3:DY42=AA11)*(EF3:EF42="W"))+SUMPRODUCT((DV3:DV42=AA13)*(DY3:DY42=AA12)*(EF3:EF42="W"))+SUMPRODUCT((DV3:DV42=AA14)*(DY3:DY42=AA13)*(EG3:EG42="W"))+SUMPRODUCT((DV3:DV42=AA15)*(DY3:DY42=AA13)*(EG3:EG42="W"))+SUMPRODUCT((DV3:DV42=AA11)*(DY3:DY42=AA13)*(EG3:EG42="W"))+SUMPRODUCT((DV3:DV42=AA12)*(DY3:DY42=AA13)*(EG3:EG42="W")) -> 0 | AC13: =SUMPRODUCT((DV3:DV42=AA13)*(DY3:DY42=AA14)*(EF3:EF42="D"))+SUMPRODUCT((DV3:DV42=AA13)*(DY3:DY42=AA15)*(EF3:EF42="D"))+SUMPRODUCT((DV3:DV42=AA13)*(DY3:DY42=AA11)*(EF3:EF42="D"))+SUMPRODUCT((DV3:DV42=AA13)*(DY3:DY42=AA12)*(EF3:EF42="D"))+SUMPRODUCT((DV3:DV42=AA14)*(DY3:DY42=AA13)*(EF3:EF42="D"))+SUMPRODUCT((DV3:DV42=AA15)*(DY3:DY42=AA13)*(EF3:EF42="D"))+SUMPRODUCT((DV3:DV42=AA11)*(DY3:DY42=AA13)*(EF3:EF42="D"))+SUMPRODUCT((DV3:DV42=AA12)*(DY3:DY42=AA13)*(EF3:EF42="D")) -> 0 | AD13: =SUMPRODUCT((DV3:DV42=AA13)*(DY3:DY42=AA14)*(EF3:EF42="L"))+SUMPRODUCT((DV3:DV42=AA13)*(DY3:DY42=AA15)*(EF3:EF42="L"))+SUMPRODUCT((DV3:DV42=AA13)*(DY3:DY42=AA11)*(EF3:EF42="L"))+SUMPRODUCT((DV3:DV42=AA13)*(DY3:DY42=AA12)*(EF3:EF42="L"))+SUMPRODUCT((DV3:DV42=AA14)*(DY3:DY42=AA13)*(EG3:EG42="L"))+SUMPRODUCT((DV3:DV42=AA15)*(DY3:DY42=AA13)*(EG3:EG42="L"))+SUMPRODUCT((DV3:DV42=AA11)*(DY3:DY42=AA13)*(EG3:EG42="L"))+SUMPRODUCT((DV3:DV42=AA12)*(DY3:DY42=AA13)*(EG3:EG42="L")) -> 0 | AE13: =IF(AA13<>"",VLOOKUP(AA13,B4:F29,5,FALSE),0) -> 0 | AF13: =IF(AA13<>"",VLOOKUP(AA13,B4:G29,6,FALSE),0) -> 0 | AG13: =AE13-AF13+1000 -> 1000 | AH13: =IF(AA13<>"",VLOOKUP(AA13,B4:I29,8,FALSE),0) -> 0 | AI13: =IF(AA13<>"",VLOOKUP(AA13,B4:J29,9,FALSE),0) -> 0 | AJ13: =IF(AA13<>"",AH13-AI13+1000,"") -> 1000 | AK13: =IF(AA13<>"",VLOOKUP(AA13,B11:F15,5,FALSE),"") -> 0 | AL13: =IF(AA13<>"",VLOOKUP(AA13,B11:I15,8,FALSE),"") -> 0 | AM13: =IF(AA13<>"",VLOOKUP(AA13,B11:P15,15,FALSE),"") -> 18 | AN13: =SUMPRODUCT((DV3:DV42=AA13)*(DY3:DY42=AA14)*EB3:EB42)+SUMPRODUCT((DV3:DV42=AA13)*(DY3:DY42=AA15)*EB3:EB42)+SUMPRODUCT((DV3:DV42=AA13)*(DY3:DY42=AA11)*EB3:EB42)+SUMPRODUCT((DV3:DV42=AA13)*(DY3:DY42=AA12)*EB3:EB42)+SUMPRODUCT((DV3:DV42=AA14)*(DY3:DY42=AA13)*EC3:EC42)+SUMPRODUCT((DV3:DV42=AA15)*(DY3:DY42=AA13)*EC3:EC42)+SUMPRODUCT((DV3:DV42=AA11)*(DY3:DY42=AA13)*EC3:EC42)+SUMPRODUCT((DV3:DV42=AA12)*(DY3:DY42=AA13)*EC3:EC42) -> 0 | AO13: =SUMPRODUCT((DV3:DV42=AA13)*(DY3:DY42=AA14)*ED3:ED42)+SUMPRODUCT((DV3:DV42=AA13)*(DY3:DY42=AA15)*ED3:ED42)+SUMPRODUCT((DV3:DV42=AA13)*(DY3:DY42=AA11)*ED3:ED42)+SUMPRODUCT((DV3:DV42=AA13)*(DY3:DY42=AA12)*ED3:ED42)+SUMPRODUCT((DV3:DV42=AA14)*(DY3:DY42=AA13)*EE3:EE42)+SUMPRODUCT((DV3:DV42=AA15)*(DY3:DY42=AA13)*EE3:EE42)+SUMPRODUCT((DV3:DV42=AA11)*(DY3:DY42=AA13)*EE3:EE42)+SUMPRODUCT((DV3:DV42=AA12)*(DY3:DY42=AA13)*EE3:EE42) -> 0 | AP13: =IF(AA13<>"",AB13*4+AC13*2+AN13+AO13,"") -> 0 | AQ13: =IF(AA13<>"",RANK(AP13,AP11:AP15),"") -> 1 | AR13: =SUMPRODUCT((AP11:AP15=AP13)*(AG11:AG15>AG13)) -> 0 | AS13: =SUMPRODUCT((AP11:AP15=AP13)*(AG11:AG15=AG13)*(AJ11:AJ15>AJ13)) -> 0 | AT13: =SUMPRODUCT((AP11:AP15=AP13)*(AG11:AG15=AG13)*(AJ11:AJ15=AJ13)*(AK11:AK15>AK13)) -> 0 | AU13: =SUMPRODUCT((AP11:AP15=AP13)*(AG11:AG15=AG13)*(AJ11:AJ15=AJ13)*(AK11:AK15=AK13)*(AL11:AL15>AL13)) -> 0 | AV13: =SUMPRODUCT((AP11:AP15=AP13)*(AG11:AG15=AG13)*(AJ11:AJ15=AJ13)*(AK11:AK15=AK13)*(AL11:AL15=AL13)*(AM11:AM15>AM13)) -> 2 | AW13: =IF(AA13<>"",SUM(AQ13:AV13),"") -> 3 | AX13: =IF(AA13<>"",INDEX(AA11:AA15,MATCH(3,AW11:AW15,0),0),"") -> Scotland | AY13: =IF(W12<>"",W12,"") | AZ13: =SUMPRODUCT((DV3:DV42=AY13)*(DY3:DY42=AY14)*(EF3:EF42="W"))+SUMPRODUCT((DV3:DV42=AY13)*(DY3:DY42=AY15)*(EF3:EF42="W"))+SUMPRODUCT((DV3:DV42=AY13)*(DY3:DY42=AY12)*(EF3:EF42="W"))+SUMPRODUCT((DV3:DV42=AY14)*(DY3:DY42=AY13)*(EG3:EG42="W"))+SUMPRODUCT((DV3:DV42=AY15)*(DY3:DY42=AY13)*(EG3:EG42="W"))+SUMPRODUCT((DV3:DV42=AY12)*(DY3:DY42=AY13)*(EG3:EG42="W")) -> 0 | BA13: =SUMPRODUCT((DV3:DV42=AY13)*(DY3:DY42=AY14)*(EF3:EF42="D"))+SUMPRODUCT((DV3:DV42=AY13)*(DY3:DY42=AY15)*(EF3:EF42="D"))+SUMPRODUCT((DV3:DV42=AY13)*(DY3:DY42=AY12)*(EF3:EF42="D"))+SUMPRODUCT((DV3:DV42=AY14)*(DY3:DY42=AY13)*(EF3:EF42="D"))+SUMPRODUCT((DV3:DV42=AY15)*(DY3:DY42=AY13)*(EF3:EF42="D"))+SUMPRODUCT((DV3:DV42=AY12)*(DY3:DY42=AY13)*(EF3:EF42="D")) -> 0 | BB13: =SUMPRODUCT((DV3:DV42=AY13)*(DY3:DY42=AY14)*(EF3:EF42="L"))+SUMPRODUCT((DV3:DV42=AY13)*(DY3:DY42=AY15)*(EF3:EF42="L"))+SUMPRODUCT((DV3:DV42=AY13)*(DY3:DY42=AY12)*(EF3:EF42="L"))+SUMPRODUCT((DV3:DV42=AY14)*(DY3:DY42=AY13)*(EG3:EG42="L"))+SUMPRODUCT((DV3:DV42=AY15)*(DY3:DY42=AY13)*(EG3:EG42="L"))+SUMPRODUCT((DV3:DV42=AY12)*(DY3:DY42=AY13)*(EG3:EG42="L")) -> 0 | BC13: =IF(AY13<>"",VLOOKUP(AY13,B4:F29,5,FALSE),0) -> 0 | BD13: =IF(AY13<>"",VLOOKUP(AY13,B4:G29,6,FALSE),0) -> 0 | BE13: =BC13-BD13+1000 -> 1000 | BF13: =IF(AY13<>"",VLOOKUP(AY13,B4:I29,8,FALSE),0) -> 0 | BG13: =IF(AY13<>"",VLOOKUP(AY13,B4:J29,9,FALSE),0) -> 0 | BH13: =BF13-BG13+1000 -> 1000 | BI13: =IF(AY13<>"",VLOOKUP(AY13,B11:F15,5,FALSE),"") | BJ13: =IF(AY13<>"",VLOOKUP(AY13,B11:I15,8,FALSE),"") | BK13: =IF(AY13<>"",VLOOKUP(AY13,B11:P15,15,FALSE),"") | BL13: =SUMPRODUCT((DV3:DV42=AY13)*(DY3:DY42=AY14)*EB3:EB42)+SUMPRODUCT((DV3:DV42=AY13)*(DY3:DY42=AY15)*EB3:EB42)+SUMPRODUCT((DV3:DV42=AY13)*(DY3:DY42=AY12)*EB3:EB42)+SUMPRODUCT((DV3:DV42=AY14)*(DY3:DY42=AY13)*EC3:EC42)+SUMPRODUCT((DV3:DV42=AY15)*(DY3:DY42=AY13)*EC3:EC42)+SUMPRODUCT((DV3:DV42=AY12)*(DY3:DY42=AY13)*EC3:EC42) -> 0 | BM13: =SUMPRODUCT((DV3:DV42=AY13)*(DY3:DY42=AY14)*ED3:ED42)+SUMPRODUCT((DV3:DV42=AY13)*(DY3:DY42=AY15)*ED3:ED42)+SUMPRODUCT((DV3:DV42=AY13)*(DY3:DY42=AY12)*ED3:ED42)+SUMPRODUCT((DV3:DV42=AY14)*(DY3:DY42=AY13)*EE3:EE42)+SUMPRODUCT((DV3:DV42=AY15)*(DY3:DY42=AY13)*EE3:EE42)+SUMPRODUCT((DV3:DV42=AY12)*(DY3:DY42=AY13)*EE3:EE42) -> 0 | BN13: =AZ13*4+BA13*2+BL13+BM13 -> 0 | BO13: =IF(AY13<>"",RANK(BN13,BN12:BN15),"") | BP13: =SUMPRODUCT((BN12:BN15=BN13)*(BE12:BE15>BE13)) -> 0 | BQ13: =SUMPRODUCT((BN12:BN15=BN13)*(BE12:BE15=BE13)*(BH12:BH15>BH13)) -> 0 | BR13: =SUMPRODUCT((BN11:BN15=BN13)*(BE11:BE15=BE13)*(BH11:BH15=BH13)*(BI11:BI15>BI13)) -> 0 | BS13: =SUMPRODUCT((BN11:BN15=BN13)*(BE11:BE15=BE13)*(BH11:BH15=BH13)*(BI11:BI15=BI13)*(BJ11:BJ15>BJ13)) -> 0 | BT13: =SUMPRODUCT((BN11:BN15=BN13)*(BE11:BE15=BE13)*(BH11:BH15=BH13)*(BI11:BI15=BI13)*(BJ11:BJ15=BJ13)*(BK11:BK15>BK13)) -> 0 | BU13: =IF(AY13<>"",SUM(BO13:BT13)+1,"") | BV13: =IF(AY13<>"",INDEX(AY12:AY15,MATCH(3,BU12:BU15,0),0),"") | BW13: =IF(X11<>"",X11,"") | BX13: =SUMPRODUCT((DV3:DV42=BW13)*(DY3:DY42=BW14)*(EF3:EF42="W"))+SUMPRODUCT((DV3:DV42=BW13)*(DY3:DY42=BW15)*(EF3:EF42="W"))+SUMPRODUCT((DV3:DV42=BW13)*(DY3:DY42=BW16)*(EF3:EF42="W"))+SUMPRODUCT((DV3:DV42=BW14)*(DY3:DY42=BW13)*(EG3:EG42="W"))+SUMPRODUCT((DV3:DV42=BW15)*(DY3:DY42=BW13)*(EG3:EG42="W"))+SUMPRODUCT((DV3:DV42=BW16)*(DY3:DY42=BW13)*(EG3:EG42="W")) -> 0 | BY13: =SUMPRODUCT((DV3:DV42=BW13)*(DY3:DY42=BW14)*(EF3:EF42="D"))+SUMPRODUCT((DV3:DV42=BW13)*(DY3:DY42=BW15)*(EF3:EF42="D"))+SUMPRODUCT((DV3:DV42=BW13)*(DY3:DY42=BW16)*(EF3:EF42="D"))+SUMPRODUCT((DV3:DV42=BW14)*(DY3:DY42=BW13)*(EF3:EF42="D"))+SUMPRODUCT((DV3:DV42=BW15)*(DY3:DY42=BW13)*(EF3:EF42="D"))+SUMPRODUCT((DV3:DV42=BW16)*(DY3:DY42=BW13)*(EF3:EF42="D")) -> 0 | BZ13: =SUMPRODUCT((DV3:DV42=BW13)*(DY3:DY42=BW14)*(EF3:EF42="L"))+SUMPRODUCT((DV3:DV42=BW13)*(DY3:DY42=BW15)*(EF3:EF42="L"))+SUMPRODUCT((DV3:DV42=BW13)*(DY3:DY42=BW16)*(EF3:EF42="L"))+SUMPRODUCT((DV3:DV42=BW14)*(DY3:DY42=BW13)*(EG3:EG42="L"))+SUMPRODUCT((DV3:DV42=BW15)*(DY3:DY42=BW13)*(EG3:EG42="L"))+SUMPRODUCT((DV3:DV42=BW16)*(DY3:DY42=BW13)*(EG3:EG42="L")) -> 0 | CA13: =IF(BW13<>"",VLOOKUP(BW13,B4:F29,5,FALSE),0) -> 0 | CB13: =IF(BW13<>"",VLOOKUP(BW13,B4:G29,6,FALSE),0) -> 0 | CC13: =CA13-CB13+1000 -> 1000 | CD13: =IF(BW13<>"",VLOOKUP(BW13,B4:I29,8,FALSE),0) -> 0 | CE13: =IF(BW13<>"",VLOOKUP(BW13,B4:J29,9,FALSE),0) -> 0 | CF13: =CD13-CE13+1000 -> 1000 | CG13: =IF(BW13<>"",VLOOKUP(BW13,B11:F15,5,FALSE),"") | CH13: =IF(BW13<>"",VLOOKUP(BW13,B11:I15,8,FALSE),"") | CI13: =IF(BW13<>"",VLOOKUP(BW13,B11:P15,15,FALSE),"") | CJ13: =SUMPRODUCT((DV3:DV42=BW13)*(DY3:DY42=BW14)*EB3:EB42)+SUMPRODUCT((DV3:DV42=BW13)*(DY3:DY42=BW15)*EB3:EB42)+SUMPRODUCT((DV3:DV42=BW13)*(DY3:DY42=BW16)*EB3:EB42)+SUMPRODUCT((DV3:DV42=BW14)*(DY3:DY42=BW13)*EC3:EC42)+SUMPRODUCT((DV3:DV42=BW15)*(DY3:DY42=BW13)*EC3:EC42)+SUMPRODUCT((DV3:DV42=BW16)*(DY3:DY42=BW13)*EC3:EC42) -> 0 | CK13: =SUMPRODUCT((DV3:DV42=BW13)*(DY3:DY42=BW14)*ED3:ED42)+SUMPRODUCT((DV3:DV42=BW13)*(DY3:DY42=BW15)*ED3:ED42)+SUMPRODUCT((DV3:DV42=BW13)*(DY3:DY42=BW16)*ED3:ED42)+SUMPRODUCT((DV3:DV42=BW14)*(DY3:DY42=BW13)*EE3:EE42)+SUMPRODUCT((DV3:DV42=BW15)*(DY3:DY42=BW13)*EE3:EE42)+SUMPRODUCT((DV3:DV42=BW16)*(DY3:DY42=BW13)*EE3:EE42) -> 0 | CL13: =BX13*4+BY13*2+CJ13+CK13 -> 0 | CM13: =IF(BW13<>"",RANK(CL13,CL13:CL16),"") | CN13: =SUMPRODUCT((CL13:CL16=CL13)*(CC13:CC16>CC13)) -> 0 | CO13: =SUMPRODUCT((CL13:CL16=CL13)*(CC13:CC16=CC13)*(CF13:CF16>CF13)) -> 0 | CP13: =SUMPRODUCT((CL11:CL15=CL13)*(CC11:CC15=CC13)*(CF11:CF15=CF13)*(CG11:CG15>CG13)) -> 0 | CQ13: =SUMPRODUCT((CL11:CL15=CL13)*(CC11:CC15=CC13)*(CF11:CF15=CF13)*(CG11:CG15=CG13)*(CH11:CH15>CH13)) -> 0 | CR13: =SUMPRODUCT((CL11:CL15=CL13)*(CC11:CC15=CC13)*(CF11:CF15=CF13)*(CG11:CG15=CG13)*(CH11:CH15=CH13)*(CI11:CI15>CI13)) -> 0 | CS13: =IF(BW13<>"",SUM(CM13:CR13)+2,"") | CT13: =IF(BW13<>"",INDEX(BW13:BW15,MATCH(3,CS13:CS15,0),0),"") | DS13: =IF(CT13<>"",CT13,IF(BV13<>"",BV13,IF(AX13<>"",AX13,T13))) -> Scotland | DT13: 3 | DU13: 11 | DV13: =Tournament!H22 -> Samoa | DW13: =IF(AND(Tournament!J22<>"",Tournament!L22<>""),Tournament!J22,0) -> 0 | DX13: =IF(AND(Tournament!L22<>"",Tournament!J22<>""),Tournament!L22,0) -> 0 | DY13: =Tournament!N22 -> Chile | DZ13: =IF(Tournament!O22<>"",Tournament!O22,0) -> 0 | EA13: =IF(Tournament!Q22<>"",Tournament!Q22,0) -> 0 | EB13: =IF(DW13<>"",IF(Tournament!O22>3,1,0),0) -> 0 | EC13: =IF(DX13<>"",IF(Tournament!Q22>3,1,0),0) -> 0 | ED13: =IFERROR(IF(AND(DW13<>"",DW13<DX13,DX13-DW13<8),1,0),0) -> 0 | EE13: =IFERROR(IF(AND(DX13<>"",DX13<DW13,DW13-DX13<8),1,0),0) -> 0 | EF13: =IF(AND(Tournament!J22<>"",Tournament!L22<>""),IF(DW13>DX13,"W",IF(DW13=DX13,"D","L")),"") | EG13: =IF(EF13<>"",IF(EF13="W","L",IF(EF13="L","W","D")),"")
A14: =VLOOKUP(B14,DS11:DT15,2,FALSE) -> 2 | B14: South Africa | C14: =COUNTIFS(DV3:DV42,B14,EF3:EF42,"W")+COUNTIFS(DY3:DY42,B14,EG3:EG42,"W") -> 0 | D14: =COUNTIFS(DV3:DV42,B14,EF3:EF42,"D")+COUNTIFS(DY3:DY42,B14,EG3:EG42,"D") -> 0 | E14: =COUNTIFS(DV3:DV42,B14,EF3:EF42,"L")+COUNTIFS(DY3:DY42,B14,EG3:EG42,"L") -> 0 | F14: =SUMIF(DV3:DV60,B14,DW3:DW60)+SUMIF(DY3:DY60,B14,DX3:DX60) -> 0 | G14: =SUMIF(DY3:DY60,B14,DW3:DW60)+SUMIF(DV3:DV60,B14,DX3:DX60) -> 0 | H14: =F14-G14+1000 -> 1000 | I14: =SUMIF(Tournament!H12:H51,B14,Tournament!O12:O51)+SUMIF(Tournament!N12:N51,B14,Tournament!Q12:Q51) -> 0 | J14: =SUMIF(Tournament!N12:N51,B14,Tournament!O12:O51)+SUMIF(Tournament!H12:H51,B14,Tournament!Q12:Q51) -> 0 | K14: =I14-J14+1000 -> 1000 | L14: =C14*4+D14*2 -> 0 | M14: =SUMIF(DV:DV,B14,EB:EB)+SUMIF(DY:DY,B14,EC:EC) -> 0 | N14: =SUMIF(DV:DV,B14,ED:ED)+SUMIF(DY:DY,B14,EE:EE) -> 0 | O14: =N14+M14+L14 -> 0 | P14: 21 | Q14: =RANK(O14,O11:O15) -> 1 | S14: =RANK(O14,O11:O15)+COUNTIF(O11:O14,O14)-1 -> 4 | T14: =INDEX(B11:B15,MATCH(4,S11:S15,0),0) -> South Africa | U14: =INDEX(Q11:Q15,MATCH(T14,B11:B15,0),0) -> 1 | V14: =IF(AND(V13<>"",U14=1),T14,"") -> South Africa | W14: =IF(AND(W13<>"",U15=2),T15,"") | AA14: =IF(V14<>"",V14,"") -> South Africa | AB14: =SUMPRODUCT((DV3:DV42=AA14)*(DY3:DY42=AA15)*(EF3:EF42="W"))+SUMPRODUCT((DV3:DV42=AA14)*(DY3:DY42=AA11)*(EF3:EF42="W"))+SUMPRODUCT((DV3:DV42=AA14)*(DY3:DY42=AA12)*(EF3:EF42="W"))+SUMPRODUCT((DV3:DV42=AA14)*(DY3:DY42=AA13)*(EF3:EF42="W"))+SUMPRODUCT((DV3:DV42=AA15)*(DY3:DY42=AA14)*(EG3:EG42="W"))+SUMPRODUCT((DV3:DV42=AA11)*(DY3:DY42=AA14)*(EG3:EG42="W"))+SUMPRODUCT((DV3:DV42=AA12)*(DY3:DY42=AA14)*(EG3:EG42="W"))+SUMPRODUCT((DV3:DV42=AA13)*(DY3:DY42=AA14)*(EG3:EG42="W")) -> 0 | AC14: =SUMPRODUCT((DV3:DV42=AA14)*(DY3:DY42=AA15)*(EF3:EF42="D"))+SUMPRODUCT((DV3:DV42=AA14)*(DY3:DY42=AA11)*(EF3:EF42="D"))+SUMPRODUCT((DV3:DV42=AA14)*(DY3:DY42=AA12)*(EF3:EF42="D"))+SUMPRODUCT((DV3:DV42=AA14)*(DY3:DY42=AA13)*(EF3:EF42="D"))+SUMPRODUCT((DV3:DV42=AA15)*(DY3:DY42=AA14)*(EF3:EF42="D"))+SUMPRODUCT((DV3:DV42=AA11)*(DY3:DY42=AA14)*(EF3:EF42="D"))+SUMPRODUCT((DV3:DV42=AA12)*(DY3:DY42=AA14)*(EF3:EF42="D"))+SUMPRODUCT((DV3:DV42=AA13)*(DY3:DY42=AA14)*(EF3:EF42="D")) -> 0 | AD14: =SUMPRODUCT((DV3:DV42=AA14)*(DY3:DY42=AA15)*(EF3:EF42="L"))+SUMPRODUCT((DV3:DV42=AA14)*(DY3:DY42=AA11)*(EF3:EF42="L"))+SUMPRODUCT((DV3:DV42=AA14)*(DY3:DY42=AA12)*(EF3:EF42="L"))+SUMPRODUCT((DV3:DV42=AA14)*(DY3:DY42=AA13)*(EF3:EF42="L"))+SUMPRODUCT((DV3:DV42=AA15)*(DY3:DY42=AA14)*(EG3:EG42="L"))+SUMPRODUCT((DV3:DV42=AA11)*(DY3:DY42=AA14)*(EG3:EG42="L"))+SUMPRODUCT((DV3:DV42=AA12)*(DY3:DY42=AA14)*(EG3:EG42="L"))+SUMPRODUCT((DV3:DV42=AA13)*(DY3:DY42=AA14)*(EG3:EG42="L")) -> 0 | AE14: =IF(AA14<>"",VLOOKUP(AA14,B4:F29,5,FALSE),0) -> 0 | AF14: =IF(AA14<>"",VLOOKUP(AA14,B4:G29,6,FALSE),0) -> 0 | AG14: =AE14-AF14+1000 -> 1000 | AH14: =IF(AA14<>"",VLOOKUP(AA14,B4:I29,8,FALSE),0) -> 0 | AI14: =IF(AA14<>"",VLOOKUP(AA14,B4:J29,9,FALSE),0) -> 0 | AJ14: =IF(AA14<>"",AH14-AI14+1000,"") -> 1000 | AK14: =IF(AA14<>"",VLOOKUP(AA14,B11:F15,5,FALSE),"") -> 0 | AL14: =IF(AA14<>"",VLOOKUP(AA14,B11:I15,8,FALSE),"") -> 0 | AM14: =IF(AA14<>"",VLOOKUP(AA14,B11:P15,15,FALSE),"") -> 21 | AN14: =SUMPRODUCT((DV3:DV42=AA14)*(DY3:DY42=AA15)*EB3:EB42)+SUMPRODUCT((DV3:DV42=AA14)*(DY3:DY42=AA11)*EB3:EB42)+SUMPRODUCT((DV3:DV42=AA14)*(DY3:DY42=AA12)*EB3:EB42)+SUMPRODUCT((DV3:DV42=AA14)*(DY3:DY42=AA13)*EB3:EB42)+SUMPRODUCT((DV3:DV42=AA15)*(DY3:DY42=AA14)*EC3:EC42)+SUMPRODUCT((DV3:DV42=AA11)*(DY3:DY42=AA14)*EC3:EC42)+SUMPRODUCT((DV3:DV42=AA12)*(DY3:DY42=AA14)*EC3:EC42)+SUMPRODUCT((DV3:DV42=AA13)*(DY3:DY42=AA14)*EC3:EC42) -> 0 | AO14: =SUMPRODUCT((DV3:DV42=AA14)*(DY3:DY42=AA15)*ED3:ED42)+SUMPRODUCT((DV3:DV42=AA14)*(DY3:DY42=AA11)*ED3:ED42)+SUMPRODUCT((DV3:DV42=AA14)*(DY3:DY42=AA12)*ED3:ED42)+SUMPRODUCT((DV3:DV42=AA14)*(DY3:DY42=AA13)*ED3:ED42)+SUMPRODUCT((DV3:DV42=AA15)*(DY3:DY42=AA14)*EE3:EE42)+SUMPRODUCT((DV3:DV42=AA11)*(DY3:DY42=AA14)*EE3:EE42)+SUMPRODUCT((DV3:DV42=AA12)*(DY3:DY42=AA14)*EE3:EE42)+SUMPRODUCT((DV3:DV42=AA13)*(DY3:DY42=AA14)*EE3:EE42) -> 0 | AP14: =IF(AA14<>"",AB14*4+AC14*2+AN14+AO14,"") -> 0 | AQ14: =IF(AA14<>"",RANK(AP14,AP11:AP15),"") -> 1 | AR14: =SUMPRODUCT((AP11:AP15=AP14)*(AG11:AG15>AG14)) -> 0 | AS14: =SUMPRODUCT((AP11:AP15=AP14)*(AG11:AG15=AG14)*(AJ11:AJ15>AJ14)) -> 0 | AT14: =SUMPRODUCT((AP11:AP15=AP14)*(AG11:AG15=AG14)*(AJ11:AJ15=AJ14)*(AK11:AK15>AK14)) -> 0 | AU14: =SUMPRODUCT((AP11:AP15=AP14)*(AG11:AG15=AG14)*(AJ11:AJ15=AJ14)*(AK11:AK15=AK14)*(AL11:AL15>AL14)) -> 0 | AV14: =SUMPRODUCT((AP11:AP15=AP14)*(AG11:AG15=AG14)*(AJ11:AJ15=AJ14)*(AK11:AK15=AK14)*(AL11:AL15=AL14)*(AM11:AM15>AM14)) -> 1 | AW14: =IF(AA14<>"",SUM(AQ14:AV14),"") -> 2 | AX14: =IF(AA14<>"",INDEX(AA11:AA15,MATCH(4,AW11:AW15,0),0),"") -> Tonga | AY14: =IF(W13<>"",W13,"") | AZ14: =IF(AY14<>"",SUMPRODUCT((DV3:DV42=AY14)*(DY3:DY42=AY15)*(EF3:EF42="W"))+SUMPRODUCT((DV3:DV42=AY14)*(DY3:DY42=AY12)*(EF3:EF42="W"))+SUMPRODUCT((DV3:DV42=AY14)*(DY3:DY42=AY13)*(EF3:EF42="W"))+SUMPRODUCT((DV3:DV42=AY15)*(DY3:DY42=AY14)*(EG3:EG42="W"))+SUMPRODUCT((DV3:DV42=AY12)*(DY3:DY42=AY14)*(EG3:EG42="W"))+SUMPRODUCT((DV3:DV42=AY13)*(DY3:DY42=AY14)*(EG3:EG42="W")),"") | BA14: =IF(AY14<>"",SUMPRODUCT((DV3:DV42=AY14)*(DY3:DY42=AY15)*(EF3:EF42="D"))+SUMPRODUCT((DV3:DV42=AY14)*(DY3:DY42=AY12)*(EF3:EF42="D"))+SUMPRODUCT((DV3:DV42=AY14)*(DY3:DY42=AY13)*(EF3:EF42="D"))+SUMPRODUCT((DV3:DV42=AY15)*(DY3:DY42=AY14)*(EF3:EF42="D"))+SUMPRODUCT((DV3:DV42=AY12)*(DY3:DY42=AY14)*(EF3:EF42="D"))+SUMPRODUCT((DV3:DV42=AY13)*(DY3:DY42=AY14)*(EF3:EF42="D")),"") | BB14: =IF(AY14<>"",SUMPRODUCT((DV3:DV42=AY14)*(DY3:DY42=AY15)*(EF3:EF42="L"))+SUMPRODUCT((DV3:DV42=AY14)*(DY3:DY42=AY12)*(EF3:EF42="L"))+SUMPRODUCT((DV3:DV42=AY14)*(DY3:DY42=AY13)*(EF3:EF42="L"))+SUMPRODUCT((DV3:DV42=AY15)*(DY3:DY42=AY14)*(EG3:EG42="L"))+SUMPRODUCT((DV3:DV42=AY12)*(DY3:DY42=AY14)*(EG3:EG42="L"))+SUMPRODUCT((DV3:DV42=AY13)*(DY3:DY42=AY14)*(EG3:EG42="L")),"") | BC14: =IF(AY14<>"",VLOOKUP(AY14,B4:F29,5,FALSE),0) -> 0 | BD14: =IF(AY14<>"",VLOOKUP(AY14,B4:G29,6,FALSE),0) -> 0 | BE14: =BC14-BD14+1000 -> 1000 | BF14: =IF(AY14<>"",VLOOKUP(AY14,B4:I29,8,FALSE),0) -> 0 | BG14: =IF(AY14<>"",VLOOKUP(AY14,B4:J29,9,FALSE),0) -> 0 | BH14: =IF(AY14<>"",BF14-BG14+1000,"") | BI14: =IF(AY14<>"",VLOOKUP(AY14,B11:F15,5,FALSE),"") | BJ14: =IF(AY14<>"",VLOOKUP(AY14,B11:I15,8,FALSE),"") | BK14: =IF(AY14<>"",VLOOKUP(AY14,B11:P15,15,FALSE),"") | BL14: =IF(AY14<>"",SUMPRODUCT((DV3:DV42=AY14)*(DY3:DY42=AY15)*EB3:EB42)+SUMPRODUCT((DV3:DV42=AY14)*(DY3:DY42=AY12)*EB3:EB42)+SUMPRODUCT((DV3:DV42=AY14)*(DY3:DY42=AY13)*EB3:EB42)+SUMPRODUCT((DV3:DV42=AY15)*(DY3:DY42=AY14)*EC3:EC42)+SUMPRODUCT((DV3:DV42=AY12)*(DY3:DY42=AY14)*EC3:EC42)+SUMPRODUCT((DV3:DV42=AY13)*(DY3:DY42=AY14)*EC3:EC42),"") | BM14: =IF(AY14<>"",SUMPRODUCT((DV3:DV42=AY14)*(DY3:DY42=AY15)*ED3:ED42)+SUMPRODUCT((DV3:DV42=AY14)*(DY3:DY42=AY12)*ED3:ED42)+SUMPRODUCT((DV3:DV42=AY14)*(DY3:DY42=AY13)*ED3:ED42)+SUMPRODUCT((DV3:DV42=AY15)*(DY3:DY42=AY14)*EE3:EE42)+SUMPRODUCT((DV3:DV42=AY12)*(DY3:DY42=AY14)*EE3:EE42)+SUMPRODUCT((DV3:DV42=AY13)*(DY3:DY42=AY14)*EE3:EE42),"") | BN14: =IF(AY14<>"",AZ14*4+BA14*2+BL14+BM14,"") | BO14: =IF(AY14<>"",RANK(BN14,BN12:BN15),"") | BP14: =SUMPRODUCT((BN12:BN15=BN14)*(BE12:BE15>BE14)) -> 0 | BQ14: =SUMPRODUCT((BN12:BN15=BN14)*(BE12:BE15=BE14)*(BH12:BH15>BH14)) -> 0 | BR14: =SUMPRODUCT((BN11:BN15=BN14)*(BE11:BE15=BE14)*(BH11:BH15=BH14)*(BI11:BI15>BI14)) -> 0 | BS14: =SUMPRODUCT((BN11:BN15=BN14)*(BE11:BE15=BE14)*(BH11:BH15=BH14)*(BI11:BI15=BI14)*(BJ11:BJ15>BJ14)) -> 0 | BT14: =SUMPRODUCT((BN11:BN15=BN14)*(BE11:BE15=BE14)*(BH11:BH15=BH14)*(BI11:BI15=BI14)*(BJ11:BJ15=BJ14)*(BK11:BK15>BK14)) -> 0 | BU14: =IF(AY14<>"",SUM(BO14:BT14)+1,"") | BV14: =IF(AY14<>"",INDEX(AY12:AY15,MATCH(4,BU12:BU15,0),0),"") | BW14: =IF(X12<>"",X12,"") | BX14: =SUMPRODUCT((DV3:DV42=BW14)*(DY3:DY42=BW15)*(EF3:EF42="W"))+SUMPRODUCT((DV3:DV42=BW14)*(DY3:DY42=BW16)*(EF3:EF42="W"))+SUMPRODUCT((DV3:DV42=BW14)*(DY3:DY42=BW13)*(EF3:EF42="W"))+SUMPRODUCT((DV3:DV42=BW15)*(DY3:DY42=BW14)*(EG3:EG42="W"))+SUMPRODUCT((DV3:DV42=BW16)*(DY3:DY42=BW14)*(EG3:EG42="W"))+SUMPRODUCT((DV3:DV42=BW13)*(DY3:DY42=BW14)*(EG3:EG42="W")) -> 0 | BY14: =SUMPRODUCT((DV3:DV42=BW14)*(DY3:DY42=BW15)*(EF3:EF42="D"))+SUMPRODUCT((DV3:DV42=BW14)*(DY3:DY42=BW16)*(EF3:EF42="D"))+SUMPRODUCT((DV3:DV42=BW14)*(DY3:DY42=BW13)*(EF3:EF42="D"))+SUMPRODUCT((DV3:DV42=BW15)*(DY3:DY42=BW14)*(EF3:EF42="D"))+SUMPRODUCT((DV3:DV42=BW16)*(DY3:DY42=BW14)*(EF3:EF42="D"))+SUMPRODUCT((DV3:DV42=BW13)*(DY3:DY42=BW14)*(EF3:EF42="D")) -> 0 | BZ14: =SUMPRODUCT((DV3:DV42=BW14)*(DY3:DY42=BW15)*(EF3:EF42="L"))+SUMPRODUCT((DV3:DV42=BW14)*(DY3:DY42=BW16)*(EF3:EF42="L"))+SUMPRODUCT((DV3:DV42=BW14)*(DY3:DY42=BW13)*(EF3:EF42="L"))+SUMPRODUCT((DV3:DV42=BW15)*(DY3:DY42=BW14)*(EG3:EG42="L"))+SUMPRODUCT((DV3:DV42=BW16)*(DY3:DY42=BW14)*(EG3:EG42="L"))+SUMPRODUCT((DV3:DV42=BW13)*(DY3:DY42=BW14)*(EG3:EG42="L")) -> 0 | CA14: =IF(BW14<>"",VLOOKUP(BW14,B4:F29,5,FALSE),0) -> 0 | CB14: =IF(BW14<>"",VLOOKUP(BW14,B4:G29,6,FALSE),0) -> 0 | CC14: =CA14-CB14+1000 -> 1000 | CD14: =IF(BW14<>"",VLOOKUP(BW14,B4:I29,8,FALSE),0) -> 0 | CE14: =IF(BW14<>"",VLOOKUP(BW14,B4:J29,9,FALSE),0) -> 0 | CF14: =CD14-CE14+1000 -> 1000 | CG14: =IF(BW14<>"",VLOOKUP(BW14,B11:F15,5,FALSE),"") | CH14: =IF(BW14<>"",VLOOKUP(BW14,B11:I15,8,FALSE),"") | CI14: =IF(BW14<>"",VLOOKUP(BW14,B11:P15,15,FALSE),"") | CJ14: =SUMPRODUCT((DV3:DV42=BW14)*(DY3:DY42=BW15)*EB3:EB42)+SUMPRODUCT((DV3:DV42=BW14)*(DY3:DY42=BW16)*EB3:EB42)+SUMPRODUCT((DV3:DV42=BW14)*(DY3:DY42=BW13)*EB3:EB42)+SUMPRODUCT((DV3:DV42=BW15)*(DY3:DY42=BW14)*EC3:EC42)+SUMPRODUCT((DV3:DV42=BW16)*(DY3:DY42=BW14)*EC3:EC42)+SUMPRODUCT((DV3:DV42=BW13)*(DY3:DY42=BW14)*EC3:EC42) -> 0 | CK14: =SUMPRODUCT((DV3:DV42=BW14)*(DY3:DY42=BW15)*ED3:ED42)+SUMPRODUCT((DV3:DV42=BW14)*(DY3:DY42=BW16)*ED3:ED42)+SUMPRODUCT((DV3:DV42=BW14)*(DY3:DY42=BW13)*ED3:ED42)+SUMPRODUCT((DV3:DV42=BW15)*(DY3:DY42=BW14)*EE3:EE42)+SUMPRODUCT((DV3:DV42=BW16)*(DY3:DY42=BW14)*EE3:EE42)+SUMPRODUCT((DV3:DV42=BW13)*(DY3:DY42=BW14)*EE3:EE42) -> 0 | CL14: =BX14*4+BY14*2+CJ14+CK14 -> 0 | CM14: =IF(BW14<>"",RANK(CL14,CL13:CL16),"") | CN14: =SUMPRODUCT((CL13:CL16=CL14)*(CC13:CC16>CC14)) -> 0 | CO14: =SUMPRODUCT((CL13:CL16=CL14)*(CC13:CC16=CC14)*(CF13:CF16>CF14)) -> 0 | CP14: =SUMPRODUCT((CL11:CL15=CL14)*(CC11:CC15=CC14)*(CF11:CF15=CF14)*(CG11:CG15>CG14)) -> 0 | CQ14: =SUMPRODUCT((CL11:CL15=CL14)*(CC11:CC15=CC14)*(CF11:CF15=CF14)*(CG11:CG15=CG14)*(CH11:CH15>CH14)) -> 0 | CR14: =SUMPRODUCT((CL11:CL15=CL14)*(CC11:CC15=CC14)*(CF11:CF15=CF14)*(CG11:CG15=CG14)*(CH11:CH15=CH14)*(CI11:CI15>CI14)) -> 0 | CS14: =IF(BW14<>"",SUM(CM14:CR14)+2,"") | CT14: =IF(BW14<>"",INDEX(BW13:BW15,MATCH(4,CS13:CS15,0),0),"") | CU14: =IF(Y11<>"",Y11,"") | CV14: =SUMPRODUCT((DV3:DV42=CU14)*(DY3:DY42=CU15)*(EF3:EF42="W"))+SUMPRODUCT((DV3:DV42=CU14)*(DY3:DY42=CU16)*(EF3:EF42="W"))+SUMPRODUCT((DV3:DV42=CU14)*(DY3:DY42=CU17)*(EF3:EF42="W"))+SUMPRODUCT((DV3:DV42=CU15)*(DY3:DY42=CU14)*(EG3:EG42="W"))+SUMPRODUCT((DV3:DV42=CU16)*(DY3:DY42=CU14)*(EG3:EG42="W"))+SUMPRODUCT((DV3:DV42=CU17)*(DY3:DY42=CU14)*(EG3:EG42="W")) -> 0 | CW14: =SUMPRODUCT((DV3:DV42=CU14)*(DY3:DY42=CU15)*(EF3:EF42="D"))+SUMPRODUCT((DV3:DV42=CU14)*(DY3:DY42=CU16)*(EF3:EF42="D"))+SUMPRODUCT((DV3:DV42=CU14)*(DY3:DY42=CU17)*(EF3:EF42="D"))+SUMPRODUCT((DV3:DV42=CU15)*(DY3:DY42=CU14)*(EF3:EF42="D"))+SUMPRODUCT((DV3:DV42=CU16)*(DY3:DY42=CU14)*(EF3:EF42="D"))+SUMPRODUCT((DV3:DV42=CU17)*(DY3:DY42=CU14)*(EF3:EF42="D")) -> 0 | CX14: =SUMPRODUCT((DV3:DV42=CU14)*(DY3:DY42=CU15)*(EF3:EF42="L"))+SUMPRODUCT((DV3:DV42=CU14)*(DY3:DY42=CU16)*(EF3:EF42="L"))+SUMPRODUCT((DV3:DV42=CU14)*(DY3:DY42=CU17)*(EF3:EF42="L"))+SUMPRODUCT((DV3:DV42=CU15)*(DY3:DY42=CU14)*(EG3:EG42="L"))+SUMPRODUCT((DV3:DV42=CU16)*(DY3:DY42=CU14)*(EG3:EG42="L"))+SUMPRODUCT((DV3:DV42=CU17)*(DY3:DY42=CU14)*(EG3:EG42="L")) -> 0 | CY14: =IF(CU14<>"",VLOOKUP(CU14,B4:F29,5,FALSE),0) -> 0 | CZ14: =IF(CU14<>"",VLOOKUP(CU14,B4:G29,6,FALSE),0) -> 0 | DA14: =CY14-CZ14+1000 -> 1000 | DB14: =IF(CU14<>"",VLOOKUP(CU14,B4:I29,8,FALSE),0) -> 0 | DC14: =IF(CU14<>"",VLOOKUP(CU14,B4:J29,9,FALSE),0) -> 0 | DD14: =DB14-DC14+1000 -> 1000 | DE14: =IF(CU14<>"",VLOOKUP(CU14,B11:F15,5,FALSE),"") | DF14: =IF(CU14<>"",VLOOKUP(CU14,B11:I15,8,FALSE),"") | DG14: =IF(CU14<>"",VLOOKUP(CU14,B11:P15,15,FALSE),"") | DH14: =SUMPRODUCT((DV3:DV42=CU14)*(DY3:DY42=CU15)*EB3:EB42)+SUMPRODUCT((DV3:DV42=CU14)*(DY3:DY42=CU16)*EB3:EB42)+SUMPRODUCT((DV3:DV42=CU14)*(DY3:DY42=CU17)*EB3:EB42)+SUMPRODUCT((DV3:DV42=CU15)*(DY3:DY42=CU14)*EC3:EC42)+SUMPRODUCT((DV3:DV42=CU16)*(DY3:DY42=CU14)*EC3:EC42)+SUMPRODUCT((DV3:DV42=CU17)*(DY3:DY42=CU14)*EC3:EC42) -> 0 | DI14: =SUMPRODUCT((DV3:DV42=CU14)*(DY3:DY42=CU15)*ED3:ED42)+SUMPRODUCT((DV3:DV42=CU14)*(DY3:DY42=CU16)*ED3:ED42)+SUMPRODUCT((DV3:DV42=CU14)*(DY3:DY42=CU17)*ED3:ED42)+SUMPRODUCT((DV3:DV42=CU15)*(DY3:DY42=CU14)*EE3:EE42)+SUMPRODUCT((DV3:DV42=CU16)*(DY3:DY42=CU14)*EE3:EE42)+SUMPRODUCT((DV3:DV42=CU17)*(DY3:DY42=CU14)*EE3:EE42) -> 0 | DJ14: =CV14*4+CW14*2+DH14+DI14 -> 0 | DK14: =IF(CU14<>"",RANK(DJ14,DJ14:DJ17),"") | DL14: =SUMPRODUCT((DJ14:DJ17=DJ14)*(DA14:DA17>DA14)) -> 0 | DM14: =SUMPRODUCT((DJ14:DJ17=DJ14)*(DA14:DA17=DA14)*(DD14:DD17>DD14)) -> 0 | DN14: =SUMPRODUCT((DJ11:DJ15=DJ14)*(DA11:DA15=DA14)*(DD11:DD15=DD14)*(DE11:DE15>DE14)) -> 0 | DO14: =SUMPRODUCT((DJ11:DJ15=DJ14)*(DA11:DA15=DA14)*(DD11:DD15=DD14)*(DE11:DE15=DE14)*(DF11:DF15>DF14)) -> 0 | DP14: =SUMPRODUCT((DJ11:DJ15=DJ14)*(DA11:DA15=DA14)*(DD11:DD15=DD14)*(DE11:DE15=DE14)*(DF11:DF15=DF14)*(DG11:DG15>DG14)) -> 0 | DQ14: =IF(CU14<>"",SUM(DK14:DP14)+3,"") | DR14: =IF(CU14<>"",IF(DQ14=4,CU14,CU15),"") | DS14: =IF(DR14<>"",DR14,IF(CT14<>"",CT14,IF(BV14<>"",BV14,IF(AX14<>"",AX14,T14)))) -> Tonga | DT14: 4 | DU14: 12 | DV14: =Tournament!H23 -> Wales | DW14: =IF(AND(Tournament!J23<>"",Tournament!L23<>""),Tournament!J23,0) -> 0 | DX14: =IF(AND(Tournament!L23<>"",Tournament!J23<>""),Tournament!L23,0) -> 0 | DY14: =Tournament!N23 -> Portugal | DZ14: =IF(Tournament!O23<>"",Tournament!O23,0) -> 0 | EA14: =IF(Tournament!Q23<>"",Tournament!Q23,0) -> 0 | EB14: =IF(DW14<>"",IF(Tournament!O23>3,1,0),0) -> 0 | EC14: =IF(DX14<>"",IF(Tournament!Q23>3,1,0),0) -> 0 | ED14: =IFERROR(IF(AND(DW14<>"",DW14<DX14,DX14-DW14<8),1,0),0) -> 0 | EE14: =IFERROR(IF(AND(DX14<>"",DX14<DW14,DW14-DX14<8),1,0),0) -> 0 | EF14: =IF(AND(Tournament!J23<>"",Tournament!L23<>""),IF(DW14>DX14,"W",IF(DW14=DX14,"D","L")),"") | EG14: =IF(EF14<>"",IF(EF14="W","L",IF(EF14="L","W","D")),"")
A15: =VLOOKUP(B15,DS11:DT15,2,FALSE) -> 4 | B15: Tonga | C15: =COUNTIFS(DV3:DV42,B15,EF3:EF42,"W")+COUNTIFS(DY3:DY42,B15,EG3:EG42,"W") -> 0 | D15: =COUNTIFS(DV3:DV42,B15,EF3:EF42,"D")+COUNTIFS(DY3:DY42,B15,EG3:EG42,"D") -> 0 | E15: =COUNTIFS(DV3:DV42,B15,EF3:EF42,"L")+COUNTIFS(DY3:DY42,B15,EG3:EG42,"L") -> 0 | F15: =SUMIF(DV3:DV60,B15,DW3:DW60)+SUMIF(DY3:DY60,B15,DX3:DX60) -> 0 | G15: =SUMIF(DY3:DY60,B15,DW3:DW60)+SUMIF(DV3:DV60,B15,DX3:DX60) -> 0 | H15: =F15-G15+1000 -> 1000 | I15: =SUMIF(Tournament!H12:H51,B15,Tournament!O12:O51)+SUMIF(Tournament!N12:N51,B15,Tournament!Q12:Q51) -> 0 | J15: =SUMIF(Tournament!N12:N51,B15,Tournament!O12:O51)+SUMIF(Tournament!H12:H51,B15,Tournament!Q12:Q51) -> 0 | K15: =I15-J15+1000 -> 1000 | L15: =C15*4+D15*2 -> 0 | M15: =SUMIF(DV:DV,B15,EB:EB)+SUMIF(DY:DY,B15,EC:EC) -> 0 | N15: =SUMIF(DV:DV,B15,ED:ED)+SUMIF(DY:DY,B15,EE:EE) -> 0 | O15: =N15+M15+L15 -> 0 | P15: 8 | Q15: =RANK(O15,O11:O15) -> 1 | S15: =RANK(O15,O11:O15)+COUNTIF(O11:O15,O15)-1 -> 5 | T15: =INDEX(B11:B15,MATCH(5,S11:S15,0),0) -> Tonga | U15: =INDEX(Q11:Q15,MATCH(T15,B11:B15,0),0) -> 1 | V15: =IF(AND(V14<>"",U15=1),T15,"") -> Tonga | AA15: =IF(V15<>"",V15,"") -> Tonga | AB15: =SUMPRODUCT((DV3:DV42=AA15)*(DY3:DY42=AA11)*(EF3:EF42="W"))+SUMPRODUCT((DV3:DV42=AA15)*(DY3:DY42=AA12)*(EF3:EF42="W"))+SUMPRODUCT((DV3:DV42=AA15)*(DY3:DY42=AA13)*(EF3:EF42="W"))+SUMPRODUCT((DV3:DV42=AA15)*(DY3:DY42=AA14)*(EF3:EF42="W"))+SUMPRODUCT((DV3:DV42=AA11)*(DY3:DY42=AA15)*(EG3:EG42="W"))+SUMPRODUCT((DV3:DV42=AA12)*(DY3:DY42=AA15)*(EG3:EG42="W"))+SUMPRODUCT((DV3:DV42=AA13)*(DY3:DY42=AA15)*(EG3:EG42="W"))+SUMPRODUCT((DV3:DV42=AA14)*(DY3:DY42=AA15)*(EG3:EG42="W")) -> 0 | AC15: =SUMPRODUCT((DV3:DV42=AA15)*(DY3:DY42=AA11)*(EF3:EF42="D"))+SUMPRODUCT((DV3:DV42=AA15)*(DY3:DY42=AA12)*(EF3:EF42="D"))+SUMPRODUCT((DV3:DV42=AA15)*(DY3:DY42=AA13)*(EF3:EF42="D"))+SUMPRODUCT((DV3:DV42=AA15)*(DY3:DY42=AA14)*(EF3:EF42="D"))+SUMPRODUCT((DV3:DV42=AA11)*(DY3:DY42=AA15)*(EF3:EF42="D"))+SUMPRODUCT((DV3:DV42=AA12)*(DY3:DY42=AA15)*(EF3:EF42="D"))+SUMPRODUCT((DV3:DV42=AA13)*(DY3:DY42=AA15)*(EF3:EF42="D"))+SUMPRODUCT((DV3:DV42=AA14)*(DY3:DY42=AA15)*(EF3:EF42="D")) -> 0 | AD15: =SUMPRODUCT((DV3:DV42=AA15)*(DY3:DY42=AA11)*(EF3:EF42="L"))+SUMPRODUCT((DV3:DV42=AA15)*(DY3:DY42=AA12)*(EF3:EF42="L"))+SUMPRODUCT((DV3:DV42=AA15)*(DY3:DY42=AA13)*(EF3:EF42="L"))+SUMPRODUCT((DV3:DV42=AA15)*(DY3:DY42=AA14)*(EF3:EF42="L"))+SUMPRODUCT((DV3:DV42=AA11)*(DY3:DY42=AA15)*(EG3:EG42="L"))+SUMPRODUCT((DV3:DV42=AA12)*(DY3:DY42=AA15)*(EG3:EG42="L"))+SUMPRODUCT((DV3:DV42=AA13)*(DY3:DY42=AA15)*(EG3:EG42="L"))+SUMPRODUCT((DV3:DV42=AA14)*(DY3:DY42=AA15)*(EG3:EG42="L")) -> 0 | AE15: =IF(AA15<>"",VLOOKUP(AA15,B4:F29,5,FALSE),0) -> 0 | AF15: =IF(AA15<>"",VLOOKUP(AA15,B4:G29,6,FALSE),0) -> 0 | AG15: =AE15-AF15+1000 -> 1000 | AH15: =IF(AA15<>"",VLOOKUP(AA15,B4:I29,8,FALSE),0) -> 0 | AI15: =IF(AA15<>"",VLOOKUP(AA15,B4:J29,9,FALSE),0) -> 0 | AJ15: =IF(AA15<>"",AH15-AI15+1000,"") -> 1000 | AK15: =IF(AA15<>"",VLOOKUP(AA15,B11:F15,5,FALSE),"") -> 0 | AL15: =IF(AA15<>"",VLOOKUP(AA15,B11:I15,8,FALSE),"") -> 0 | AM15: =IF(AA15<>"",VLOOKUP(AA15,B11:P15,15,FALSE),"") -> 8 | AN15: =SUMPRODUCT((DV3:DV42=AA15)*(DY3:DY42=AA11)*EB3:EB42)+SUMPRODUCT((DV3:DV42=AA15)*(DY3:DY42=AA12)*EB3:EB42)+SUMPRODUCT((DV3:DV42=AA15)*(DY3:DY42=AA13)*EB3:EB42)+SUMPRODUCT((DV3:DV42=AA15)*(DY3:DY42=AA14)*EB3:EB42)+SUMPRODUCT((DV3:DV42=AA11)*(DY3:DY42=AA15)*EC3:EC42)+SUMPRODUCT((DV3:DV42=AA12)*(DY3:DY42=AA15)*EC3:EC42)+SUMPRODUCT((DV3:DV42=AA13)*(DY3:DY42=AA15)*EC3:EC42)+SUMPRODUCT((DV3:DV42=AA14)*(DY3:DY42=AA15)*EC3:EC42) -> 0 | AO15: =SUMPRODUCT((DV3:DV42=AA15)*(DY3:DY42=AA11)*ED3:ED42)+SUMPRODUCT((DV3:DV42=AA15)*(DY3:DY42=AA12)*ED3:ED42)+SUMPRODUCT((DV3:DV42=AA15)*(DY3:DY42=AA13)*ED3:ED42)+SUMPRODUCT((DV3:DV42=AA15)*(DY3:DY42=AA14)*ED3:ED42)+SUMPRODUCT((DV3:DV42=AA11)*(DY3:DY42=AA15)*EE3:EE42)+SUMPRODUCT((DV3:DV42=AA12)*(DY3:DY42=AA15)*EE3:EE42)+SUMPRODUCT((DV3:DV42=AA13)*(DY3:DY42=AA15)*EE3:EE42)+SUMPRODUCT((DV3:DV42=AA14)*(DY3:DY42=AA15)*EE3:EE42) -> 0 | AP15: =IF(AA15<>"",AB15*4+AC15*2+AN15+AO15,"") -> 0 | AQ15: =IF(AA15<>"",RANK(AP15,AP11:AP15),"") -> 1 | AR15: =SUMPRODUCT((AP11:AP15=AP15)*(AG11:AG15>AG15)) -> 0 | AS15: =SUMPRODUCT((AP11:AP15=AP15)*(AG11:AG15=AG15)*(AJ11:AJ15>AJ15)) -> 0 | AT15: =SUMPRODUCT((AP11:AP15=AP15)*(AG11:AG15=AG15)*(AJ11:AJ15=AJ15)*(AK11:AK15>AK15)) -> 0 | AU15: =SUMPRODUCT((AP11:AP15=AP15)*(AG11:AG15=AG15)*(AJ11:AJ15=AJ15)*(AK11:AK15=AK15)*(AL11:AL15>AL15)) -> 0 | AV15: =SUMPRODUCT((AP11:AP15=AP15)*(AG11:AG15=AG15)*(AJ11:AJ15=AJ15)*(AK11:AK15=AK15)*(AL11:AL15=AL15)*(AM11:AM15>AM15)) -> 3 | AW15: =IF(AA15<>"",SUM(AQ15:AV15),"") -> 4 | AX15: =IF(AA15<>"",INDEX(AA11:AA15,MATCH(5,AW11:AW15,0),0),"") -> Romania | AY15: =IF(W14<>"",W14,"") | AZ15: =IF(AY15<>"",SUMPRODUCT((DV3:DV42=AY15)*(DY3:DY42=AY12)*(EF3:EF42="W"))+SUMPRODUCT((DV3:DV42=AY15)*(DY3:DY42=AY13)*(EF3:EF42="W"))+SUMPRODUCT((DV3:DV42=AY15)*(DY3:DY42=AY14)*(EF3:EF42="W"))+SUMPRODUCT((DV3:DV42=AY12)*(DY3:DY42=AY15)*(EF3:EF42="W"))+SUMPRODUCT((DV3:DV42=AY13)*(DY3:DY42=AY15)*(EF3:EF42="W"))+SUMPRODUCT((DV3:DV42=AY14)*(DY3:DY42=AY15)*(EF3:EF42="W")),"") | BA15: =IF(AY15<>"",SUMPRODUCT((DV3:DV42=AY15)*(DY3:DY42=AY12)*(EF3:EF42="D"))+SUMPRODUCT((DV3:DV42=AY15)*(DY3:DY42=AY13)*(EF3:EF42="D"))+SUMPRODUCT((DV3:DV42=AY15)*(DY3:DY42=AY14)*(EF3:EF42="D"))+SUMPRODUCT((DV3:DV42=AY12)*(DY3:DY42=AY15)*(EF3:EF42="D"))+SUMPRODUCT((DV3:DV42=AY13)*(DY3:DY42=AY15)*(EF3:EF42="D"))+SUMPRODUCT((DV3:DV42=AY14)*(DY3:DY42=AY15)*(EF3:EF42="D")),"") | BB15: =IF(AY15<>"",SUMPRODUCT((DV3:DV42=AY15)*(DY3:DY42=AY12)*(EF3:EF42="L"))+SUMPRODUCT((DV3:DV42=AY15)*(DY3:DY42=AY13)*(EF3:EF42="L"))+SUMPRODUCT((DV3:DV42=AY15)*(DY3:DY42=AY14)*(EF3:EF42="L"))+SUMPRODUCT((DV3:DV42=AY12)*(DY3:DY42=AY15)*(EF3:EF42="L"))+SUMPRODUCT((DV3:DV42=AY13)*(DY3:DY42=AY15)*(EF3:EF42="L"))+SUMPRODUCT((DV3:DV42=AY14)*(DY3:DY42=AY15)*(EF3:EF42="L")),"") | BC15: =IF(AY15<>"",VLOOKUP(AY15,B4:F29,5,FALSE),0) -> 0 | BD15: =IF(AY15<>"",VLOOKUP(AY15,B4:G29,6,FALSE),0) -> 0 | BE15: =BC15-BD15+1000 -> 1000 | BF15: =IF(AY15<>"",VLOOKUP(AY15,B4:I29,8,FALSE),0) -> 0 | BG15: =IF(AY15<>"",VLOOKUP(AY15,B4:J29,9,FALSE),0) -> 0 | BH15: =IF(AY15<>"",BF15-BG15+1000,"") | BI15: =IF(AY15<>"",VLOOKUP(AY15,B11:F15,5,FALSE),"") | BJ15: =IF(AY15<>"",VLOOKUP(AY15,B11:I15,8,FALSE),"") | BK15: =IF(AY15<>"",VLOOKUP(AY15,B11:P15,15,FALSE),"") | BL15: =IF(AY15<>"",SUMPRODUCT((DV3:DV42=AY15)*(DY3:DY42=AY12)*EB3:EB42)+SUMPRODUCT((DV3:DV42=AY15)*(DY3:DY42=AY13)*EB3:EB42)+SUMPRODUCT((DV3:DV42=AY15)*(DY3:DY42=AY14)*EB3:EB42)+SUMPRODUCT((DV3:DV42=AY12)*(DY3:DY42=AY15)*EC3:EC42)+SUMPRODUCT((DV3:DV42=AY13)*(DY3:DY42=AY15)*EC3:EC42)+SUMPRODUCT((DV3:DV42=AY14)*(DY3:DY42=AY15)*EC3:EC42),"") | BM15: =IF(AY15<>"",SUMPRODUCT((DV3:DV42=AY15)*(DY3:DY42=AY12)*ED3:ED42)+SUMPRODUCT((DV3:DV42=AY15)*(DY3:DY42=AY13)*ED3:ED42)+SUMPRODUCT((DV3:DV42=AY15)*(DY3:DY42=AY14)*ED3:ED42)+SUMPRODUCT((DV3:DV42=AY12)*(DY3:DY42=AY15)*EE3:EE42)+SUMPRODUCT((DV3:DV42=AY13)*(DY3:DY42=AY15)*EE3:EE42)+SUMPRODUCT((DV3:DV42=AY14)*(DY3:DY42=AY15)*EE3:EE42),"") | BN15: =IF(AY15<>"",AZ15*4+BA15*2+BL15+BM15,"") | BO15: =IF(AY15<>"",RANK(BN15,BN12:BN15),"") | BP15: =SUMPRODUCT((BN12:BN15=BN15)*(BE12:BE15>BE15)) -> 0 | BQ15: =SUMPRODUCT((BN12:BN15=BN15)*(BE12:BE15=BE15)*(BH12:BH15>BH15)) -> 0 | BR15: =SUMPRODUCT((BN11:BN15=BN15)*(BE11:BE15=BE15)*(BH11:BH15=BH15)*(BI11:BI15>BI15)) -> 0 | BS15: =SUMPRODUCT((BN11:BN15=BN15)*(BE11:BE15=BE15)*(BH11:BH15=BH15)*(BI11:BI15=BI15)*(BJ11:BJ15>BJ15)) -> 0 | BT15: =SUMPRODUCT((BN11:BN15=BN15)*(BE11:BE15=BE15)*(BH11:BH15=BH15)*(BI11:BI15=BI15)*(BJ11:BJ15=BJ15)*(BK11:BK15>BK15)) -> 0 | BU15: =IF(AY15<>"",SUM(BO15:BT15)+1,"") | BV15: =IF(AY15<>"",INDEX(AY12:AY15,MATCH(5,BU12:BU15,0),0),"") | BW15: =IF(X13<>"",X13,"") | BX15: =IF(BW15<>"",SUMPRODUCT((DV3:DV42=BW15)*(DY3:DY42=BW16)*(EF3:EF42="W"))+SUMPRODUCT((DV3:DV42=BW15)*(DY3:DY42=BW13)*(EF3:EF42="W"))+SUMPRODUCT((DV3:DV42=BW15)*(DY3:DY42=BW14)*(EF3:EF42="W"))+SUMPRODUCT((DV3:DV42=BW16)*(DY3:DY42=BW15)*(EG3:EG42="W"))+SUMPRODUCT((DV3:DV42=BW13)*(DY3:DY42=BW15)*(EG3:EG42="W"))+SUMPRODUCT((DV3:DV42=BW14)*(DY3:DY42=BW15)*(EG3:EG42="W")),"") | BY15: =IF(BW15<>"",SUMPRODUCT((DV3:DV42=BW15)*(DY3:DY42=BW16)*(EF3:EF42="D"))+SUMPRODUCT((DV3:DV42=BW15)*(DY3:DY42=BW13)*(EF3:EF42="D"))+SUMPRODUCT((DV3:DV42=BW15)*(DY3:DY42=BW14)*(EF3:EF42="D"))+SUMPRODUCT((DV3:DV42=BW16)*(DY3:DY42=BW15)*(EF3:EF42="D"))+SUMPRODUCT((DV3:DV42=BW13)*(DY3:DY42=BW15)*(EF3:EF42="D"))+SUMPRODUCT((DV3:DV42=BW14)*(DY3:DY42=BW15)*(EF3:EF42="D")),"") | BZ15: =IF(BW15<>"",SUMPRODUCT((DV3:DV42=BW15)*(DY3:DY42=BW16)*(EF3:EF42="L"))+SUMPRODUCT((DV3:DV42=BW15)*(DY3:DY42=BW13)*(EF3:EF42="L"))+SUMPRODUCT((DV3:DV42=BW15)*(DY3:DY42=BW14)*(EF3:EF42="L"))+SUMPRODUCT((DV3:DV42=BW16)*(DY3:DY42=BW15)*(EG3:EG42="L"))+SUMPRODUCT((DV3:DV42=BW13)*(DY3:DY42=BW15)*(EG3:EG42="L"))+SUMPRODUCT((DV3:DV42=BW14)*(DY3:DY42=BW15)*(EG3:EG42="L")),"") | CA15: =IF(BW15<>"",VLOOKUP(BW15,B4:F29,5,FALSE),0) -> 0 | CB15: =IF(BW15<>"",VLOOKUP(BW15,B4:G29,6,FALSE),0) -> 0 | CC15: =CA15-CB15+1000 -> 1000 | CD15: =IF(BW15<>"",VLOOKUP(BW15,B4:I29,8,FALSE),0) -> 0 | CE15: =IF(BW15<>"",VLOOKUP(BW15,B4:J29,9,FALSE),0) -> 0 | CF15: =IF(BW15<>"",CD15-CE15+1000,"") | CG15: =IF(BW15<>"",VLOOKUP(BW15,B11:F15,5,FALSE),"") | CH15: =IF(BW15<>"",VLOOKUP(BW15,B11:I15,8,FALSE),"") | CI15: =IF(BW15<>"",VLOOKUP(BW15,B11:P15,15,FALSE),"") | CJ15: =IF(BW15<>"",SUMPRODUCT((DV3:DV42=BW15)*(DY3:DY42=BW16)*EB3:EB42)+SUMPRODUCT((DV3:DV42=BW15)*(DY3:DY42=BW13)*EB3:EB42)+SUMPRODUCT((DV3:DV42=BW15)*(DY3:DY42=BW14)*EB3:EB42)+SUMPRODUCT((DV3:DV42=BW16)*(DY3:DY42=BW15)*EC3:EC42)+SUMPRODUCT((DV3:DV42=BW13)*(DY3:DY42=BW15)*EC3:EC42)+SUMPRODUCT((DV3:DV42=BW14)*(DY3:DY42=BW15)*EC3:EC42),"") | CK15: =IF(BW15<>"",SUMPRODUCT((DV3:DV42=BW15)*(DY3:DY42=BW16)*ED3:ED42)+SUMPRODUCT((DV3:DV42=BW15)*(DY3:DY42=BW13)*ED3:ED42)+SUMPRODUCT((DV3:DV42=BW15)*(DY3:DY42=BW14)*ED3:ED42)+SUMPRODUCT((DV3:DV42=BW16)*(DY3:DY42=BW15)*EE3:EE42)+SUMPRODUCT((DV3:DV42=BW13)*(DY3:DY42=BW15)*EE3:EE42)+SUMPRODUCT((DV3:DV42=BW14)*(DY3:DY42=BW15)*EE3:EE42),"") | CL15: =IF(BW15<>"",BX15*4+BY15*2+CJ15+CK15,"") | CM15: =IF(BW15<>"",RANK(CL15,CL13:CL16),"") | CN15: =SUMPRODUCT((CL13:CL16=CL15)*(CC13:CC16>CC15)) -> 0 | CO15: =SUMPRODUCT((CL13:CL16=CL15)*(CC13:CC16=CC15)*(CF13:CF16>CF15)) -> 0 | CP15: =SUMPRODUCT((CL11:CL15=CL15)*(CC11:CC15=CC15)*(CF11:CF15=CF15)*(CG11:CG15>CG15)) -> 0 | CQ15: =SUMPRODUCT((CL11:CL15=CL15)*(CC11:CC15=CC15)*(CF11:CF15=CF15)*(CG11:CG15=CG15)*(CH11:CH15>CH15)) -> 0 | CR15: =SUMPRODUCT((CL11:CL15=CL15)*(CC11:CC15=CC15)*(CF11:CF15=CF15)*(CG11:CG15=CG15)*(CH11:CH15=CH15)*(CI11:CI15>CI15)) -> 0 | CS15: =IF(BW15<>"",SUM(CM15:CR15)+2,"") | CT15: =IF(BW15<>"",INDEX(BW13:BW15,MATCH(5,CS13:CS15,0),0),"") | CU15: =IF(Y12<>"",Y12,"") | CV15: =SUMPRODUCT((DV3:DV42=CU15)*(DY3:DY42=CU16)*(EF3:EF42="W"))+SUMPRODUCT((DV3:DV42=CU15)*(DY3:DY42=CU17)*(EF3:EF42="W"))+SUMPRODUCT((DV3:DV42=CU15)*(DY3:DY42=CU14)*(EF3:EF42="W"))+SUMPRODUCT((DV3:DV42=CU16)*(DY3:DY42=CU15)*(EG3:EG42="W"))+SUMPRODUCT((DV3:DV42=CU17)*(DY3:DY42=CU15)*(EG3:EG42="W"))+SUMPRODUCT((DV3:DV42=CU14)*(DY3:DY42=CU15)*(EG3:EG42="W")) -> 0 | CW15: =SUMPRODUCT((DV3:DV42=CU15)*(DY3:DY42=CU16)*(EF3:EF42="D"))+SUMPRODUCT((DV3:DV42=CU15)*(DY3:DY42=CU17)*(EF3:EF42="D"))+SUMPRODUCT((DV3:DV42=CU15)*(DY3:DY42=CU14)*(EF3:EF42="D"))+SUMPRODUCT((DV3:DV42=CU16)*(DY3:DY42=CU15)*(EF3:EF42="D"))+SUMPRODUCT((DV3:DV42=CU17)*(DY3:DY42=CU15)*(EF3:EF42="D"))+SUMPRODUCT((DV3:DV42=CU14)*(DY3:DY42=CU15)*(EF3:EF42="D")) -> 0 | CX15: =SUMPRODUCT((DV3:DV42=CU15)*(DY3:DY42=CU16)*(EF3:EF42="L"))+SUMPRODUCT((DV3:DV42=CU15)*(DY3:DY42=CU17)*(EF3:EF42="L"))+SUMPRODUCT((DV3:DV42=CU15)*(DY3:DY42=CU14)*(EF3:EF42="L"))+SUMPRODUCT((DV3:DV42=CU16)*(DY3:DY42=CU15)*(EG3:EG42="L"))+SUMPRODUCT((DV3:DV42=CU17)*(DY3:DY42=CU15)*(EG3:EG42="L"))+SUMPRODUCT((DV3:DV42=CU14)*(DY3:DY42=CU15)*(EG3:EG42="L")) -> 0 | CY15: =IF(CU15<>"",VLOOKUP(CU15,B4:F29,5,FALSE),0) -> 0 | CZ15: =IF(CU15<>"",VLOOKUP(CU15,B4:G29,6,FALSE),0) -> 0 | DA15: =CY15-CZ15+1000 -> 1000 | DB15: =IF(CU15<>"",VLOOKUP(CU15,B4:I29,8,FALSE),0) -> 0 | DC15: =IF(CU15<>"",VLOOKUP(CU15,B4:J29,9,FALSE),0) -> 0 | DD15: =DB15-DC15+1000 -> 1000 | DE15: =IF(CU15<>"",VLOOKUP(CU15,B11:F15,5,FALSE),"") | DF15: =IF(CU15<>"",VLOOKUP(CU15,B11:I15,8,FALSE),"") | DG15: =IF(CU15<>"",VLOOKUP(CU15,B11:P15,15,FALSE),"") | DH15: =SUMPRODUCT((DV3:DV42=CU15)*(DY3:DY42=CU16)*EB3:EB42)+SUMPRODUCT((DV3:DV42=CU15)*(DY3:DY42=CU17)*EB3:EB42)+SUMPRODUCT((DV3:DV42=CU15)*(DY3:DY42=CU14)*EB3:EB42)+SUMPRODUCT((DV3:DV42=CU16)*(DY3:DY42=CU15)*EC3:EC42)+SUMPRODUCT((DV3:DV42=CU17)*(DY3:DY42=CU15)*EC3:EC42)+SUMPRODUCT((DV3:DV42=CU14)*(DY3:DY42=CU15)*EC3:EC42) -> 0 | DI15: =SUMPRODUCT((DV3:DV42=CU15)*(DY3:DY42=CU16)*ED3:ED42)+SUMPRODUCT((DV3:DV42=CU15)*(DY3:DY42=CU17)*ED3:ED42)+SUMPRODUCT((DV3:DV42=CU15)*(DY3:DY42=CU14)*ED3:ED42)+SUMPRODUCT((DV3:DV42=CU16)*(DY3:DY42=CU15)*EE3:EE42)+SUMPRODUCT((DV3:DV42=CU17)*(DY3:DY42=CU15)*EE3:EE42)+SUMPRODUCT((DV3:DV42=CU14)*(DY3:DY42=CU15)*EE3:EE42) -> 0 | DJ15: =CV15*4+CW15*2+DH15+DI15 -> 0 | DK15: =IF(CU15<>"",RANK(DJ15,DJ14:DJ17),"") | DL15: =SUMPRODUCT((DJ14:DJ17=DJ15)*(DA14:DA17>DA15)) -> 0 | DM15: =SUMPRODUCT((DJ14:DJ17=DJ15)*(DA14:DA17=DA15)*(DD14:DD17>DD15)) -> 0 | DN15: =SUMPRODUCT((DJ11:DJ15=DJ15)*(DA11:DA15=DA15)*(DD11:DD15=DD15)*(DE11:DE15>DE15)) -> 0 | DO15: =SUMPRODUCT((DJ11:DJ15=DJ15)*(DA11:DA15=DA15)*(DD11:DD15=DD15)*(DE11:DE15=DE15)*(DF11:DF15>DF15)) -> 0 | DP15: =SUMPRODUCT((DJ11:DJ15=DJ15)*(DA11:DA15=DA15)*(DD11:DD15=DD15)*(DE11:DE15=DE15)*(DF11:DF15=DF15)*(DG11:DG15>DG15)) -> 0 | DQ15: =IF(CU15<>"",SUM(DK15:DP15)+3,"") | DR15: =IF(CU14<>"",IF(CU14=DR14,CU15,CU14),"") | DS15: =IF(DR15<>"",DR15,IF(CT15<>"",CT15,IF(BV15<>"",BV15,IF(AX15<>"",AX15,T15)))) -> Romania | DT15: 5 | DU15: 13 | DV15: =Tournament!H24 -> Ireland | DW15: =IF(AND(Tournament!J24<>"",Tournament!L24<>""),Tournament!J24,0) -> 0 | DX15: =IF(AND(Tournament!L24<>"",Tournament!J24<>""),Tournament!L24,0) -> 0 | DY15: =Tournament!N24 -> Tonga | DZ15: =IF(Tournament!O24<>"",Tournament!O24,0) -> 0 | EA15: =IF(Tournament!Q24<>"",Tournament!Q24,0) -> 0 | EB15: =IF(DW15<>"",IF(Tournament!O24>3,1,0),0) -> 0 | EC15: =IF(DX15<>"",IF(Tournament!Q24>3,1,0),0) -> 0 | ED15: =IFERROR(IF(AND(DW15<>"",DW15<DX15,DX15-DW15<8),1,0),0) -> 0 | EE15: =IFERROR(IF(AND(DX15<>"",DX15<DW15,DW15-DX15<8),1,0),0) -> 0 | EF15: =IF(AND(Tournament!J24<>"",Tournament!L24<>""),IF(DW15>DX15,"W",IF(DW15=DX15,"D","L")),"") | EG15: =IF(EF15<>"",IF(EF15="W","L",IF(EF15="L","W","D")),"")
DU16: 14 | DV16: =Tournament!H25 -> South Africa | DW16: =IF(AND(Tournament!J25<>"",Tournament!L25<>""),Tournament!J25,0) -> 0 | DX16: =IF(AND(Tournament!L25<>"",Tournament!J25<>""),Tournament!L25,0) -> 0 | DY16: =Tournament!N25 -> Romania | DZ16: =IF(Tournament!O25<>"",Tournament!O25,0) -> 0 | EA16: =IF(Tournament!Q25<>"",Tournament!Q25,0) -> 0 | EB16: =IF(DW16<>"",IF(Tournament!O25>3,1,0),0) -> 0 | EC16: =IF(DX16<>"",IF(Tournament!Q25>3,1,0),0) -> 0 | ED16: =IFERROR(IF(AND(DW16<>"",DW16<DX16,DX16-DW16<8),1,0),0) -> 0 | EE16: =IFERROR(IF(AND(DX16<>"",DX16<DW16,DW16-DX16<8),1,0),0) -> 0 | EF16: =IF(AND(Tournament!J25<>"",Tournament!L25<>""),IF(DW16>DX16,"W",IF(DW16=DX16,"D","L")),"") | EG16: =IF(EF16<>"",IF(EF16="W","L",IF(EF16="L","W","D")),"")
DU17: 15 | DV17: =Tournament!H26 -> Australia | DW17: =IF(AND(Tournament!J26<>"",Tournament!L26<>""),Tournament!J26,0) -> 0 | DX17: =IF(AND(Tournament!L26<>"",Tournament!J26<>""),Tournament!L26,0) -> 0 | DY17: =Tournament!N26 -> Fiji | DZ17: =IF(Tournament!O26<>"",Tournament!O26,0) -> 0 | EA17: =IF(Tournament!Q26<>"",Tournament!Q26,0) -> 0 | EB17: =IF(DW17<>"",IF(Tournament!O26>3,1,0),0) -> 0 | EC17: =IF(DX17<>"",IF(Tournament!Q26>3,1,0),0) -> 0 | ED17: =IFERROR(IF(AND(DW17<>"",DW17<DX17,DX17-DW17<8),1,0),0) -> 0 | EE17: =IFERROR(IF(AND(DX17<>"",DX17<DW17,DW17-DX17<8),1,0),0) -> 0 | EF17: =IF(AND(Tournament!J26<>"",Tournament!L26<>""),IF(DW17>DX17,"W",IF(DW17=DX17,"D","L")),"") | EG17: =IF(EF17<>"",IF(EF17="W","L",IF(EF17="L","W","D")),"")
A18: =VLOOKUP(B18,DS18:DT22,2,FALSE) -> 2 | B18: Australia | C18: =COUNTIFS(DV3:DV42,B18,EF3:EF42,"W")+COUNTIFS(DY3:DY42,B18,EG3:EG42,"W") -> 0 | D18: =COUNTIFS(DV3:DV42,B18,EF3:EF42,"D")+COUNTIFS(DY3:DY42,B18,EG3:EG42,"D") -> 0 | E18: =COUNTIFS(DV3:DV42,B18,EF3:EF42,"L")+COUNTIFS(DY3:DY42,B18,EG3:EG42,"L") -> 0 | F18: =SUMIF(DV3:DV60,B18,DW3:DW60)+SUMIF(DY3:DY60,B18,DX3:DX60) -> 0 | G18: =SUMIF(DY3:DY60,B18,DW3:DW60)+SUMIF(DV3:DV60,B18,DX3:DX60) -> 0 | H18: =F18-G18+1000 -> 1000 | I18: =SUMIF(Tournament!H12:H51,B18,Tournament!O12:O51)+SUMIF(Tournament!N12:N51,B18,Tournament!Q12:Q51) -> 0 | J18: =SUMIF(Tournament!N12:N51,B18,Tournament!O12:O51)+SUMIF(Tournament!H12:H51,B18,Tournament!Q12:Q51) -> 0 | K18: =I18-J18+1000 -> 1000 | L18: =C18*4+D18*2 -> 0 | M18: =SUMIF(DV:DV,B18,EB:EB)+SUMIF(DY:DY,B18,EC:EC) -> 0 | N18: =SUMIF(DV:DV,B18,ED:ED)+SUMIF(DY:DY,B18,EE:EE) -> 0 | O18: =N18+M18+L18 -> 0 | P18: 14 | Q18: =RANK(O18,O18:O22) -> 1 | S18: =RANK(O18,O18:O22)+COUNTIF(O18:O18,O18)-1 -> 1 | T18: =INDEX(B18:B22,MATCH(1,S18:S22,0),0) -> Australia | U18: =INDEX(Q18:Q22,MATCH(T18,B18:B22,0),0) -> 1 | V18: =IF(U19=1,T18,"") -> Australia | W18: =IF(U20=2,T19,"") | X18: =IF(U21=3,T20,"") | Y18: =IF(U22=4,T21,"") | AA18: =IF(V18<>"",V18,"") -> Australia | AB18: =SUMPRODUCT((DV3:DV42=AA18)*(DY3:DY42=AA19)*(EF3:EF42="W"))+SUMPRODUCT((DV3:DV42=AA18)*(DY3:DY42=AA20)*(EF3:EF42="W"))+SUMPRODUCT((DV3:DV42=AA18)*(DY3:DY42=AA21)*(EF3:EF42="W"))+SUMPRODUCT((DV3:DV42=AA18)*(DY3:DY42=AA22)*(EF3:EF42="W"))+SUMPRODUCT((DV3:DV42=AA19)*(DY3:DY42=AA18)*(EG3:EG42="W"))+SUMPRODUCT((DV3:DV42=AA20)*(DY3:DY42=AA18)*(EG3:EG42="W"))+SUMPRODUCT((DV3:DV42=AA21)*(DY3:DY42=AA18)*(EG3:EG42="W"))+SUMPRODUCT((DV3:DV42=AA22)*(DY3:DY42=AA18)*(EG3:EG42="W")) -> 0 | AC18: =SUMPRODUCT((DV3:DV42=AA18)*(DY3:DY42=AA19)*(EF3:EF42="D"))+SUMPRODUCT((DV3:DV42=AA18)*(DY3:DY42=AA20)*(EF3:EF42="D"))+SUMPRODUCT((DV3:DV42=AA18)*(DY3:DY42=AA21)*(EF3:EF42="D"))+SUMPRODUCT((DV3:DV42=AA18)*(DY3:DY42=AA22)*(EF3:EF42="D"))+SUMPRODUCT((DV3:DV42=AA19)*(DY3:DY42=AA18)*(EF3:EF42="D"))+SUMPRODUCT((DV3:DV42=AA20)*(DY3:DY42=AA18)*(EF3:EF42="D"))+SUMPRODUCT((DV3:DV42=AA21)*(DY3:DY42=AA18)*(EF3:EF42="D"))+SUMPRODUCT((DV3:DV42=AA22)*(DY3:DY42=AA18)*(EF3:EF42="D")) -> 0 | AD18: =SUMPRODUCT((DV3:DV42=AA18)*(DY3:DY42=AA19)*(EF3:EF42="L"))+SUMPRODUCT((DV3:DV42=AA18)*(DY3:DY42=AA20)*(EF3:EF42="L"))+SUMPRODUCT((DV3:DV42=AA18)*(DY3:DY42=AA21)*(EF3:EF42="L"))+SUMPRODUCT((DV3:DV42=AA18)*(DY3:DY42=AA22)*(EF3:EF42="L"))+SUMPRODUCT((DV3:DV42=AA19)*(DY3:DY42=AA18)*(EG3:EG42="L"))+SUMPRODUCT((DV3:DV42=AA20)*(DY3:DY42=AA18)*(EG3:EG42="L"))+SUMPRODUCT((DV3:DV42=AA21)*(DY3:DY42=AA18)*(EG3:EG42="L"))+SUMPRODUCT((DV3:DV42=AA22)*(DY3:DY42=AA18)*(EG3:EG42="L")) -> 0 | AE18: =IF(AA18<>"",VLOOKUP(AA18,B4:F29,5,FALSE),0) -> 0 | AF18: =IF(AA18<>"",VLOOKUP(AA18,B4:G29,6,FALSE),0) -> 0 | AG18: =AE18-AF18+1000 -> 1000 | AH18: =IF(AA18<>"",VLOOKUP(AA18,B4:I29,8,FALSE),0) -> 0 | AI18: =IF(AA18<>"",VLOOKUP(AA18,B4:J29,9,FALSE),0) -> 0 | AJ18: =AH18-AI18+1000 -> 1000 | AK18: =IF(AA18<>"",VLOOKUP(AA18,B18:F22,5,FALSE),"") -> 0 | AL18: =IF(AA18<>"",VLOOKUP(AA18,B18:I22,8,FALSE),"") -> 0 | AM18: =IF(AA18<>"",VLOOKUP(AA18,B18:P22,15,FALSE),"") -> 14 | AN18: =SUMPRODUCT((DV3:DV42=AA18)*(DY3:DY42=AA19)*EB3:EB42)+SUMPRODUCT((DV3:DV42=AA18)*(DY3:DY42=AA20)*EB3:EB42)+SUMPRODUCT((DV3:DV42=AA18)*(DY3:DY42=AA21)*EB3:EB42)+SUMPRODUCT((DV3:DV42=AA18)*(DY3:DY42=AA22)*EB3:EB42)+SUMPRODUCT((DV3:DV42=AA19)*(DY3:DY42=AA18)*EC3:EC42)+SUMPRODUCT((DV3:DV42=AA20)*(DY3:DY42=AA18)*EC3:EC42)+SUMPRODUCT((DV3:DV42=AA21)*(DY3:DY42=AA18)*EC3:EC42)+SUMPRODUCT((DV3:DV42=AA22)*(DY3:DY42=AA18)*EC3:EC42) -> 0 | AO18: =SUMPRODUCT((DV3:DV42=AA18)*(DY3:DY42=AA19)*ED3:ED42)+SUMPRODUCT((DV3:DV42=AA18)*(DY3:DY42=AA20)*ED3:ED42)+SUMPRODUCT((DV3:DV42=AA18)*(DY3:DY42=AA21)*ED3:ED42)+SUMPRODUCT((DV3:DV42=AA18)*(DY3:DY42=AA22)*ED3:ED42)+SUMPRODUCT((DV3:DV42=AA19)*(DY3:DY42=AA18)*EE3:EE42)+SUMPRODUCT((DV3:DV42=AA20)*(DY3:DY42=AA18)*EE3:EE42)+SUMPRODUCT((DV3:DV42=AA21)*(DY3:DY42=AA18)*EE3:EE42)+SUMPRODUCT((DV3:DV42=AA22)*(DY3:DY42=AA18)*EE3:EE42) -> 0 | AP18: =AB18*4+AC18*2+AN18+AO18 -> 0 | AQ18: =IF(AA18<>"",RANK(AP18,AP18:AP22),"") -> 1 | AR18: =SUMPRODUCT((AP18:AP22=AP18)*(AG18:AG22>AG18)) -> 0 | AS18: =SUMPRODUCT((AP18:AP22=AP18)*(AG18:AG22=AG18)*(AJ18:AJ22>AJ18)) -> 0 | AT18: =SUMPRODUCT((AP18:AP22=AP18)*(AG18:AG22=AG18)*(AJ18:AJ22=AJ18)*(AK18:AK22>AK18)) -> 0 | AU18: =SUMPRODUCT((AP18:AP22=AP18)*(AG18:AG22=AG18)*(AJ18:AJ22=AJ18)*(AK18:AK22=AK18)*(AL18:AL22>AL18)) -> 0 | AV18: =SUMPRODUCT((AP18:AP22=AP18)*(AG18:AG22=AG18)*(AJ18:AJ22=AJ18)*(AK18:AK22=AK18)*(AL18:AL22=AL18)*(AM18:AM22>AM18)) -> 1 | AW18: =IF(AA18<>"",SUM(AQ18:AV18),"") -> 2 | AX18: =IF(AA18<>"",INDEX(AA18:AA22,MATCH(1,AW18:AW22,0),0),"") -> Fiji | DS18: =IF(AX18<>"",AX18,T18) -> Fiji | DT18: 1 | DU18: 16 | DV18: =Tournament!H27 -> England | DW18: =IF(AND(Tournament!J27<>"",Tournament!L27<>""),Tournament!J27,0) -> 0 | DX18: =IF(AND(Tournament!L27<>"",Tournament!J27<>""),Tournament!L27,0) -> 0 | DY18: =Tournament!N27 -> Japan | DZ18: =IF(Tournament!O27<>"",Tournament!O27,0) -> 0 | EA18: =IF(Tournament!Q27<>"",Tournament!Q27,0) -> 0 | EB18: =IF(DW18<>"",IF(Tournament!O27>3,1,0),0) -> 0 | EC18: =IF(DX18<>"",IF(Tournament!Q27>3,1,0),0) -> 0 | ED18: =IFERROR(IF(AND(DW18<>"",DW18<DX18,DX18-DW18<8),1,0),0) -> 0 | EE18: =IFERROR(IF(AND(DX18<>"",DX18<DW18,DW18-DX18<8),1,0),0) -> 0 | EF18: =IF(AND(Tournament!J27<>"",Tournament!L27<>""),IF(DW18>DX18,"W",IF(DW18=DX18,"D","L")),"") | EG18: =IF(EF18<>"",IF(EF18="W","L",IF(EF18="L","W","D")),"")
A19: =VLOOKUP(B19,DS18:DT22,2,FALSE) -> 1 | B19: Fiji | C19: =COUNTIFS(DV3:DV42,B19,EF3:EF42,"W")+COUNTIFS(DY3:DY42,B19,EG3:EG42,"W") -> 0 | D19: =COUNTIFS(DV3:DV42,B19,EF3:EF42,"D")+COUNTIFS(DY3:DY42,B19,EG3:EG42,"D") -> 0 | E19: =COUNTIFS(DV3:DV42,B19,EF3:EF42,"L")+COUNTIFS(DY3:DY42,B19,EG3:EG42,"L") -> 0 | F19: =SUMIF(DV3:DV60,B19,DW3:DW60)+SUMIF(DY3:DY60,B19,DX3:DX60) -> 0 | G19: =SUMIF(DY3:DY60,B19,DW3:DW60)+SUMIF(DV3:DV60,B19,DX3:DX60) -> 0 | H19: =F19-G19+1000 -> 1000 | I19: =SUMIF(Tournament!H12:H51,B19,Tournament!O12:O51)+SUMIF(Tournament!N12:N51,B19,Tournament!Q12:Q51) -> 0 | J19: =SUMIF(Tournament!N12:N51,B19,Tournament!O12:O51)+SUMIF(Tournament!H12:H51,B19,Tournament!Q12:Q51) -> 0 | K19: =I19-J19+1000 -> 1000 | L19: =C19*4+D19*2 -> 0 | M19: =SUMIF(DV:DV,B19,EB:EB)+SUMIF(DY:DY,B19,EC:EC) -> 0 | N19: =SUMIF(DV:DV,B19,ED:ED)+SUMIF(DY:DY,B19,EE:EE) -> 0 | O19: =N19+M19+L19 -> 0 | P19: 16 | Q19: =RANK(O19,O18:O22) -> 1 | S19: =RANK(O19,O18:O22)+COUNTIF(O18:O19,O19)-1 -> 2 | T19: =INDEX(B18:B22,MATCH(2,S18:S22,0),0) -> Fiji | U19: =INDEX(Q18:Q22,MATCH(T19,B18:B22,0),0) -> 1 | V19: =IF(V18<>"",T19,"") -> Fiji | W19: =IF(W18<>"",T20,"") | X19: =IF(X18<>"",T21,"") | Y19: =IF(Y18<>"",T22,"") | AA19: =IF(V19<>"",V19,"") -> Fiji | AB19: =SUMPRODUCT((DV3:DV42=AA19)*(DY3:DY42=AA20)*(EF3:EF42="W"))+SUMPRODUCT((DV3:DV42=AA19)*(DY3:DY42=AA21)*(EF3:EF42="W"))+SUMPRODUCT((DV3:DV42=AA19)*(DY3:DY42=AA22)*(EF3:EF42="W"))+SUMPRODUCT((DV3:DV42=AA19)*(DY3:DY42=AA18)*(EF3:EF42="W"))+SUMPRODUCT((DV3:DV42=AA20)*(DY3:DY42=AA19)*(EG3:EG42="W"))+SUMPRODUCT((DV3:DV42=AA21)*(DY3:DY42=AA19)*(EG3:EG42="W"))+SUMPRODUCT((DV3:DV42=AA22)*(DY3:DY42=AA19)*(EG3:EG42="W"))+SUMPRODUCT((DV3:DV42=AA18)*(DY3:DY42=AA19)*(EG3:EG42="W")) -> 0 | AC19: =SUMPRODUCT((DV3:DV42=AA19)*(DY3:DY42=AA20)*(EF3:EF42="D"))+SUMPRODUCT((DV3:DV42=AA19)*(DY3:DY42=AA21)*(EF3:EF42="D"))+SUMPRODUCT((DV3:DV42=AA19)*(DY3:DY42=AA22)*(EF3:EF42="D"))+SUMPRODUCT((DV3:DV42=AA19)*(DY3:DY42=AA18)*(EF3:EF42="D"))+SUMPRODUCT((DV3:DV42=AA20)*(DY3:DY42=AA19)*(EF3:EF42="D"))+SUMPRODUCT((DV3:DV42=AA21)*(DY3:DY42=AA19)*(EF3:EF42="D"))+SUMPRODUCT((DV3:DV42=AA22)*(DY3:DY42=AA19)*(EF3:EF42="D"))+SUMPRODUCT((DV3:DV42=AA18)*(DY3:DY42=AA19)*(EF3:EF42="D")) -> 0 | AD19: =SUMPRODUCT((DV3:DV42=AA19)*(DY3:DY42=AA20)*(EF3:EF42="L"))+SUMPRODUCT((DV3:DV42=AA19)*(DY3:DY42=AA21)*(EF3:EF42="L"))+SUMPRODUCT((DV3:DV42=AA19)*(DY3:DY42=AA22)*(EF3:EF42="L"))+SUMPRODUCT((DV3:DV42=AA19)*(DY3:DY42=AA18)*(EF3:EF42="L"))+SUMPRODUCT((DV3:DV42=AA20)*(DY3:DY42=AA19)*(EG3:EG42="L"))+SUMPRODUCT((DV3:DV42=AA21)*(DY3:DY42=AA19)*(EG3:EG42="L"))+SUMPRODUCT((DV3:DV42=AA22)*(DY3:DY42=AA19)*(EG3:EG42="L"))+SUMPRODUCT((DV3:DV42=AA18)*(DY3:DY42=AA19)*(EG3:EG42="L")) -> 0 | AE19: =IF(AA19<>"",VLOOKUP(AA19,B4:F29,5,FALSE),0) -> 0 | AF19: =IF(AA19<>"",VLOOKUP(AA19,B4:G29,6,FALSE),0) -> 0 | AG19: =AE19-AF19+1000 -> 1000 | AH19: =IF(AA19<>"",VLOOKUP(AA19,B4:I29,8,FALSE),0) -> 0 | AI19: =IF(AA19<>"",VLOOKUP(AA19,B4:J29,9,FALSE),0) -> 0 | AJ19: =AH19-AI19+1000 -> 1000 | AK19: =IF(AA19<>"",VLOOKUP(AA19,B18:F22,5,FALSE),"") -> 0 | AL19: =IF(AA19<>"",VLOOKUP(AA19,B18:I22,8,FALSE),"") -> 0 | AM19: =IF(AA19<>"",VLOOKUP(AA19,B18:P22,15,FALSE),"") -> 16 | AN19: =SUMPRODUCT((DV3:DV42=AA19)*(DY3:DY42=AA20)*EB3:EB42)+SUMPRODUCT((DV3:DV42=AA19)*(DY3:DY42=AA21)*EB3:EB42)+SUMPRODUCT((DV3:DV42=AA19)*(DY3:DY42=AA22)*EB3:EB42)+SUMPRODUCT((DV3:DV42=AA19)*(DY3:DY42=AA18)*EB3:EB42)+SUMPRODUCT((DV3:DV42=AA20)*(DY3:DY42=AA19)*EC3:EC42)+SUMPRODUCT((DV3:DV42=AA21)*(DY3:DY42=AA19)*EC3:EC42)+SUMPRODUCT((DV3:DV42=AA22)*(DY3:DY42=AA19)*EC3:EC42)+SUMPRODUCT((DV3:DV42=AA18)*(DY3:DY42=AA19)*EC3:EC42) -> 0 | AO19: =SUMPRODUCT((DV3:DV42=AA19)*(DY3:DY42=AA20)*ED3:ED42)+SUMPRODUCT((DV3:DV42=AA19)*(DY3:DY42=AA21)*ED3:ED42)+SUMPRODUCT((DV3:DV42=AA19)*(DY3:DY42=AA22)*ED3:ED42)+SUMPRODUCT((DV3:DV42=AA19)*(DY3:DY42=AA18)*ED3:ED42)+SUMPRODUCT((DV3:DV42=AA20)*(DY3:DY42=AA19)*EE3:EE42)+SUMPRODUCT((DV3:DV42=AA21)*(DY3:DY42=AA19)*EE3:EE42)+SUMPRODUCT((DV3:DV42=AA22)*(DY3:DY42=AA19)*EE3:EE42)+SUMPRODUCT((DV3:DV42=AA18)*(DY3:DY42=AA19)*EE3:EE42) -> 0 | AP19: =AB19*4+AC19*2+AN19+AO19 -> 0 | AQ19: =IF(AA19<>"",RANK(AP19,AP18:AP22),"") -> 1 | AR19: =SUMPRODUCT((AP18:AP22=AP19)*(AG18:AG22>AG19)) -> 0 | AS19: =SUMPRODUCT((AP18:AP22=AP19)*(AG18:AG22=AG19)*(AJ18:AJ22>AJ19)) -> 0 | AT19: =SUMPRODUCT((AP18:AP22=AP19)*(AG18:AG22=AG19)*(AJ18:AJ22=AJ19)*(AK18:AK22>AK19)) -> 0 | AU19: =SUMPRODUCT((AP18:AP22=AP19)*(AG18:AG22=AG19)*(AJ18:AJ22=AJ19)*(AK18:AK22=AK19)*(AL18:AL22>AL19)) -> 0 | AV19: =SUMPRODUCT((AP18:AP22=AP19)*(AG18:AG22=AG19)*(AJ18:AJ22=AJ19)*(AK18:AK22=AK19)*(AL18:AL22=AL19)*(AM18:AM22>AM19)) -> 0 | AW19: =IF(AA19<>"",SUM(AQ19:AV19),"") -> 1 | AX19: =IF(AA19<>"",INDEX(AA18:AA22,MATCH(2,AW18:AW22,0),0),"") -> Australia | AY19: =IF(W18<>"",W18,"") | AZ19: =SUMPRODUCT((DV3:DV42=AY19)*(DY3:DY42=AY20)*(EF3:EF42="W"))+SUMPRODUCT((DV3:DV42=AY19)*(DY3:DY42=AY21)*(EF3:EF42="W"))+SUMPRODUCT((DV3:DV42=AY19)*(DY3:DY42=AY22)*(EF3:EF42="W"))+SUMPRODUCT((DV3:DV42=AY20)*(DY3:DY42=AY19)*(EG3:EG42="W"))+SUMPRODUCT((DV3:DV42=AY21)*(DY3:DY42=AY19)*(EG3:EG42="W"))+SUMPRODUCT((DV3:DV42=AY22)*(DY3:DY42=AY19)*(EG3:EG42="W")) -> 0 | BA19: =SUMPRODUCT((DV3:DV42=AY19)*(DY3:DY42=AY20)*(EF3:EF42="D"))+SUMPRODUCT((DV3:DV42=AY19)*(DY3:DY42=AY21)*(EF3:EF42="D"))+SUMPRODUCT((DV3:DV42=AY19)*(DY3:DY42=AY22)*(EF3:EF42="D"))+SUMPRODUCT((DV3:DV42=AY20)*(DY3:DY42=AY19)*(EF3:EF42="D"))+SUMPRODUCT((DV3:DV42=AY21)*(DY3:DY42=AY19)*(EF3:EF42="D"))+SUMPRODUCT((DV3:DV42=AY22)*(DY3:DY42=AY19)*(EF3:EF42="D")) -> 0 | BB19: =SUMPRODUCT((DV3:DV42=AY19)*(DY3:DY42=AY20)*(EF3:EF42="L"))+SUMPRODUCT((DV3:DV42=AY19)*(DY3:DY42=AY21)*(EF3:EF42="L"))+SUMPRODUCT((DV3:DV42=AY19)*(DY3:DY42=AY22)*(EF3:EF42="L"))+SUMPRODUCT((DV3:DV42=AY20)*(DY3:DY42=AY19)*(EG3:EG42="L"))+SUMPRODUCT((DV3:DV42=AY21)*(DY3:DY42=AY19)*(EG3:EG42="L"))+SUMPRODUCT((DV3:DV42=AY22)*(DY3:DY42=AY19)*(EG3:EG42="L")) -> 0 | BC19: =IF(AY19<>"",VLOOKUP(AY19,B4:F29,5,FALSE),0) -> 0 | BD19: =IF(AY19<>"",VLOOKUP(AY19,B4:G29,6,FALSE),0) -> 0 | BE19: =BC19-BD19+1000 -> 1000 | BF19: =IF(AY19<>"",VLOOKUP(AY19,B4:I29,8,FALSE),0) -> 0 | BG19: =IF(AY19<>"",VLOOKUP(AY19,B4:J29,9,FALSE),0) -> 0 | BH19: =BF19-BG19+1000 -> 1000 | BI19: =IF(AY19<>"",VLOOKUP(AY19,B18:F22,5,FALSE),"") | BJ19: =IF(AY19<>"",VLOOKUP(AY19,B18:I22,8,FALSE),"") | BK19: =IF(AY19<>"",VLOOKUP(AY19,B18:P22,15,FALSE),"") | BL19: =SUMPRODUCT((DV3:DV42=AY19)*(DY3:DY42=AY20)*EB3:EB42)+SUMPRODUCT((DV3:DV42=AY19)*(DY3:DY42=AY21)*EB3:EB42)+SUMPRODUCT((DV3:DV42=AY19)*(DY3:DY42=AY22)*EB3:EB42)+SUMPRODUCT((DV3:DV42=AY20)*(DY3:DY42=AY19)*EC3:EC42)+SUMPRODUCT((DV3:DV42=AY21)*(DY3:DY42=AY19)*EC3:EC42)+SUMPRODUCT((DV3:DV42=AY22)*(DY3:DY42=AY19)*EC3:EC42) -> 0 | BM19: =SUMPRODUCT((DV3:DV42=AY19)*(DY3:DY42=AY20)*ED3:ED42)+SUMPRODUCT((DV3:DV42=AY19)*(DY3:DY42=AY21)*ED3:ED42)+SUMPRODUCT((DV3:DV42=AY19)*(DY3:DY42=AY22)*ED3:ED42)+SUMPRODUCT((DV3:DV42=AY20)*(DY3:DY42=AY19)*EE3:EE42)+SUMPRODUCT((DV3:DV42=AY21)*(DY3:DY42=AY19)*EE3:EE42)+SUMPRODUCT((DV3:DV42=AY22)*(DY3:DY42=AY19)*EE3:EE42) -> 0 | BN19: =AZ19*4+BA19*2+BL19+BM19 -> 0 | BO19: =IF(AY19<>"",RANK(BN19,BN19:BN22),"") | BP19: =SUMPRODUCT((BN19:BN22=BN19)*(BE19:BE22>BE19)) -> 0 | BQ19: =SUMPRODUCT((BN19:BN22=BN19)*(BE19:BE22=BE19)*(BH19:BH22>BH19)) -> 0 | BR19: =SUMPRODUCT((BN18:BN22=BN19)*(BE18:BE22=BE19)*(BH18:BH22=BH19)*(BI18:BI22>BI19)) -> 0 | BS19: =SUMPRODUCT((BN18:BN22=BN19)*(BE18:BE22=BE19)*(BH18:BH22=BH19)*(BI18:BI22=BI19)*(BJ18:BJ22>BJ19)) -> 0 | BT19: =SUMPRODUCT((BN18:BN22=BN19)*(BE18:BE22=BE19)*(BH18:BH22=BH19)*(BI18:BI22=BI19)*(BJ18:BJ22=BJ19)*(BK18:BK22>BK19)) -> 0 | BU19: =IF(AY19<>"",SUM(BO19:BT19)+1,"") | BV19: =IF(AY19<>"",INDEX(AY19:AY22,MATCH(2,BU19:BU22,0),0),"") | DS19: =IF(BV19<>"",BV19,IF(AX19<>"",AX19,T19)) -> Australia | DT19: 2 | DU19: 17 | DV19: =Tournament!H28 -> Italy | DW19: =IF(AND(Tournament!J28<>"",Tournament!L28<>""),Tournament!J28,0) -> 0 | DX19: =IF(AND(Tournament!L28<>"",Tournament!J28<>""),Tournament!L28,0) -> 0 | DY19: =Tournament!N28 -> Uruguay | DZ19: =IF(Tournament!O28<>"",Tournament!O28,0) -> 0 | EA19: =IF(Tournament!Q28<>"",Tournament!Q28,0) -> 0 | EB19: =IF(DW19<>"",IF(Tournament!O28>3,1,0),0) -> 0 | EC19: =IF(DX19<>"",IF(Tournament!Q28>3,1,0),0) -> 0 | ED19: =IFERROR(IF(AND(DW19<>"",DW19<DX19,DX19-DW19<8),1,0),0) -> 0 | EE19: =IFERROR(IF(AND(DX19<>"",DX19<DW19,DW19-DX19<8),1,0),0) -> 0 | EF19: =IF(AND(Tournament!J28<>"",Tournament!L28<>""),IF(DW19>DX19,"W",IF(DW19=DX19,"D","L")),"") | EG19: =IF(EF19<>"",IF(EF19="W","L",IF(EF19="L","W","D")),"")
A20: =VLOOKUP(B20,DS18:DT22,2,FALSE) -> 4 | B20: Georgia | C20: =COUNTIFS(DV3:DV42,B20,EF3:EF42,"W")+COUNTIFS(DY3:DY42,B20,EG3:EG42,"W") -> 0 | D20: =COUNTIFS(DV3:DV42,B20,EF3:EF42,"D")+COUNTIFS(DY3:DY42,B20,EG3:EG42,"D") -> 0 | E20: =COUNTIFS(DV3:DV42,B20,EF3:EF42,"L")+COUNTIFS(DY3:DY42,B20,EG3:EG42,"L") -> 0 | F20: =SUMIF(DV3:DV60,B20,DW3:DW60)+SUMIF(DY3:DY60,B20,DX3:DX60) -> 0 | G20: =SUMIF(DY3:DY60,B20,DW3:DW60)+SUMIF(DV3:DV60,B20,DX3:DX60) -> 0 | H20: =F20-G20+1000 -> 1000 | I20: =SUMIF(Tournament!H12:H51,B20,Tournament!O12:O51)+SUMIF(Tournament!N12:N51,B20,Tournament!Q12:Q51) -> 0 | J20: =SUMIF(Tournament!N12:N51,B20,Tournament!O12:O51)+SUMIF(Tournament!H12:H51,B20,Tournament!Q12:Q51) -> 0 | K20: =I20-J20+1000 -> 1000 | L20: =C20*4+D20*2 -> 0 | M20: =SUMIF(DV:DV,B20,EB:EB)+SUMIF(DY:DY,B20,EC:EC) -> 0 | N20: =SUMIF(DV:DV,B20,ED:ED)+SUMIF(DY:DY,B20,EE:EE) -> 0 | O20: =N20+M20+L20 -> 0 | P20: 12 | Q20: =RANK(O20,O18:O22) -> 1 | S20: =RANK(O20,O18:O22)+COUNTIF(O18:O20,O20)-1 -> 3 | T20: =INDEX(B18:B22,MATCH(3,S18:S22,0),0) -> Georgia | U20: =INDEX(Q18:Q22,MATCH(T20,B18:B22,0),0) -> 1 | V20: =IF(AND(V19<>"",U20=1),T20,"") -> Georgia | W20: =IF(AND(W19<>"",U21=2),T21,"") | X20: =IF(AND(X19<>"",U22=3),T22,"") | AA20: =IF(V20<>"",V20,"") -> Georgia | AB20: =SUMPRODUCT((DV3:DV42=AA20)*(DY3:DY42=AA21)*(EF3:EF42="W"))+SUMPRODUCT((DV3:DV42=AA20)*(DY3:DY42=AA22)*(EF3:EF42="W"))+SUMPRODUCT((DV3:DV42=AA20)*(DY3:DY42=AA18)*(EF3:EF42="W"))+SUMPRODUCT((DV3:DV42=AA20)*(DY3:DY42=AA19)*(EF3:EF42="W"))+SUMPRODUCT((DV3:DV42=AA21)*(DY3:DY42=AA20)*(EG3:EG42="W"))+SUMPRODUCT((DV3:DV42=AA22)*(DY3:DY42=AA20)*(EG3:EG42="W"))+SUMPRODUCT((DV3:DV42=AA18)*(DY3:DY42=AA20)*(EG3:EG42="W"))+SUMPRODUCT((DV3:DV42=AA19)*(DY3:DY42=AA20)*(EG3:EG42="W")) -> 0 | AC20: =SUMPRODUCT((DV3:DV42=AA20)*(DY3:DY42=AA21)*(EF3:EF42="D"))+SUMPRODUCT((DV3:DV42=AA20)*(DY3:DY42=AA22)*(EF3:EF42="D"))+SUMPRODUCT((DV3:DV42=AA20)*(DY3:DY42=AA18)*(EF3:EF42="D"))+SUMPRODUCT((DV3:DV42=AA20)*(DY3:DY42=AA19)*(EF3:EF42="D"))+SUMPRODUCT((DV3:DV42=AA21)*(DY3:DY42=AA20)*(EF3:EF42="D"))+SUMPRODUCT((DV3:DV42=AA22)*(DY3:DY42=AA20)*(EF3:EF42="D"))+SUMPRODUCT((DV3:DV42=AA18)*(DY3:DY42=AA20)*(EF3:EF42="D"))+SUMPRODUCT((DV3:DV42=AA19)*(DY3:DY42=AA20)*(EF3:EF42="D")) -> 0 | AD20: =SUMPRODUCT((DV3:DV42=AA20)*(DY3:DY42=AA21)*(EF3:EF42="L"))+SUMPRODUCT((DV3:DV42=AA20)*(DY3:DY42=AA22)*(EF3:EF42="L"))+SUMPRODUCT((DV3:DV42=AA20)*(DY3:DY42=AA18)*(EF3:EF42="L"))+SUMPRODUCT((DV3:DV42=AA20)*(DY3:DY42=AA19)*(EF3:EF42="L"))+SUMPRODUCT((DV3:DV42=AA21)*(DY3:DY42=AA20)*(EG3:EG42="L"))+SUMPRODUCT((DV3:DV42=AA22)*(DY3:DY42=AA20)*(EG3:EG42="L"))+SUMPRODUCT((DV3:DV42=AA18)*(DY3:DY42=AA20)*(EG3:EG42="L"))+SUMPRODUCT((DV3:DV42=AA19)*(DY3:DY42=AA20)*(EG3:EG42="L")) -> 0 | AE20: =IF(AA20<>"",VLOOKUP(AA20,B4:F29,5,FALSE),0) -> 0 | AF20: =IF(AA20<>"",VLOOKUP(AA20,B4:G29,6,FALSE),0) -> 0 | AG20: =AE20-AF20+1000 -> 1000 | AH20: =IF(AA20<>"",VLOOKUP(AA20,B4:I29,8,FALSE),0) -> 0 | AI20: =IF(AA20<>"",VLOOKUP(AA20,B4:J29,9,FALSE),0) -> 0 | AJ20: =IF(AA20<>"",AH20-AI20+1000,"") -> 1000 | AK20: =IF(AA20<>"",VLOOKUP(AA20,B18:F22,5,FALSE),"") -> 0 | AL20: =IF(AA20<>"",VLOOKUP(AA20,B18:I22,8,FALSE),"") -> 0 | AM20: =IF(AA20<>"",VLOOKUP(AA20,B18:P22,15,FALSE),"") -> 12 | AN20: =SUMPRODUCT((DV3:DV42=AA20)*(DY3:DY42=AA21)*EB3:EB42)+SUMPRODUCT((DV3:DV42=AA20)*(DY3:DY42=AA22)*EB3:EB42)+SUMPRODUCT((DV3:DV42=AA20)*(DY3:DY42=AA18)*EB3:EB42)+SUMPRODUCT((DV3:DV42=AA20)*(DY3:DY42=AA19)*EB3:EB42)+SUMPRODUCT((DV3:DV42=AA21)*(DY3:DY42=AA20)*EC3:EC42)+SUMPRODUCT((DV3:DV42=AA22)*(DY3:DY42=AA20)*EC3:EC42)+SUMPRODUCT((DV3:DV42=AA18)*(DY3:DY42=AA20)*EC3:EC42)+SUMPRODUCT((DV3:DV42=AA19)*(DY3:DY42=AA20)*EC3:EC42) -> 0 | AO20: =SUMPRODUCT((DV3:DV42=AA20)*(DY3:DY42=AA21)*ED3:ED42)+SUMPRODUCT((DV3:DV42=AA20)*(DY3:DY42=AA22)*ED3:ED42)+SUMPRODUCT((DV3:DV42=AA20)*(DY3:DY42=AA18)*ED3:ED42)+SUMPRODUCT((DV3:DV42=AA20)*(DY3:DY42=AA19)*ED3:ED42)+SUMPRODUCT((DV3:DV42=AA21)*(DY3:DY42=AA20)*EE3:EE42)+SUMPRODUCT((DV3:DV42=AA22)*(DY3:DY42=AA20)*EE3:EE42)+SUMPRODUCT((DV3:DV42=AA18)*(DY3:DY42=AA20)*EE3:EE42)+SUMPRODUCT((DV3:DV42=AA19)*(DY3:DY42=AA20)*EE3:EE42) -> 0 | AP20: =IF(AA20<>"",AB20*4+AC20*2+AN20+AO20,"") -> 0 | AQ20: =IF(AA20<>"",RANK(AP20,AP18:AP22),"") -> 1 | AR20: =SUMPRODUCT((AP18:AP22=AP20)*(AG18:AG22>AG20)) -> 0 | AS20: =SUMPRODUCT((AP18:AP22=AP20)*(AG18:AG22=AG20)*(AJ18:AJ22>AJ20)) -> 0 | AT20: =SUMPRODUCT((AP18:AP22=AP20)*(AG18:AG22=AG20)*(AJ18:AJ22=AJ20)*(AK18:AK22>AK20)) -> 0 | AU20: =SUMPRODUCT((AP18:AP22=AP20)*(AG18:AG22=AG20)*(AJ18:AJ22=AJ20)*(AK18:AK22=AK20)*(AL18:AL22>AL20)) -> 0 | AV20: =SUMPRODUCT((AP18:AP22=AP20)*(AG18:AG22=AG20)*(AJ18:AJ22=AJ20)*(AK18:AK22=AK20)*(AL18:AL22=AL20)*(AM18:AM22>AM20)) -> 3 | AW20: =IF(AA20<>"",SUM(AQ20:AV20),"") -> 4 | AX20: =IF(AA20<>"",INDEX(AA18:AA22,MATCH(3,AW18:AW22,0),0),"") -> Wales | AY20: =IF(W19<>"",W19,"") | AZ20: =SUMPRODUCT((DV3:DV42=AY20)*(DY3:DY42=AY21)*(EF3:EF42="W"))+SUMPRODUCT((DV3:DV42=AY20)*(DY3:DY42=AY22)*(EF3:EF42="W"))+SUMPRODUCT((DV3:DV42=AY20)*(DY3:DY42=AY19)*(EF3:EF42="W"))+SUMPRODUCT((DV3:DV42=AY21)*(DY3:DY42=AY20)*(EG3:EG42="W"))+SUMPRODUCT((DV3:DV42=AY22)*(DY3:DY42=AY20)*(EG3:EG42="W"))+SUMPRODUCT((DV3:DV42=AY19)*(DY3:DY42=AY20)*(EG3:EG42="W")) -> 0 | BA20: =SUMPRODUCT((DV3:DV42=AY20)*(DY3:DY42=AY21)*(EF3:EF42="D"))+SUMPRODUCT((DV3:DV42=AY20)*(DY3:DY42=AY22)*(EF3:EF42="D"))+SUMPRODUCT((DV3:DV42=AY20)*(DY3:DY42=AY19)*(EF3:EF42="D"))+SUMPRODUCT((DV3:DV42=AY21)*(DY3:DY42=AY20)*(EF3:EF42="D"))+SUMPRODUCT((DV3:DV42=AY22)*(DY3:DY42=AY20)*(EF3:EF42="D"))+SUMPRODUCT((DV3:DV42=AY19)*(DY3:DY42=AY20)*(EF3:EF42="D")) -> 0 | BB20: =SUMPRODUCT((DV3:DV42=AY20)*(DY3:DY42=AY21)*(EF3:EF42="L"))+SUMPRODUCT((DV3:DV42=AY20)*(DY3:DY42=AY22)*(EF3:EF42="L"))+SUMPRODUCT((DV3:DV42=AY20)*(DY3:DY42=AY19)*(EF3:EF42="L"))+SUMPRODUCT((DV3:DV42=AY21)*(DY3:DY42=AY20)*(EG3:EG42="L"))+SUMPRODUCT((DV3:DV42=AY22)*(DY3:DY42=AY20)*(EG3:EG42="L"))+SUMPRODUCT((DV3:DV42=AY19)*(DY3:DY42=AY20)*(EG3:EG42="L")) -> 0 | BC20: =IF(AY20<>"",VLOOKUP(AY20,B4:F29,5,FALSE),0) -> 0 | BD20: =IF(AY20<>"",VLOOKUP(AY20,B4:G29,6,FALSE),0) -> 0 | BE20: =BC20-BD20+1000 -> 1000 | BF20: =IF(AY20<>"",VLOOKUP(AY20,B4:I29,8,FALSE),0) -> 0 | BG20: =IF(AY20<>"",VLOOKUP(AY20,B4:J29,9,FALSE),0) -> 0 | BH20: =BF20-BG20+1000 -> 1000 | BI20: =IF(AY20<>"",VLOOKUP(AY20,B18:F22,5,FALSE),"") | BJ20: =IF(AY20<>"",VLOOKUP(AY20,B18:I22,8,FALSE),"") | BK20: =IF(AY20<>"",VLOOKUP(AY20,B18:P22,15,FALSE),"") | BL20: =SUMPRODUCT((DV3:DV42=AY20)*(DY3:DY42=AY21)*EB3:EB42)+SUMPRODUCT((DV3:DV42=AY20)*(DY3:DY42=AY22)*EB3:EB42)+SUMPRODUCT((DV3:DV42=AY20)*(DY3:DY42=AY19)*EB3:EB42)+SUMPRODUCT((DV3:DV42=AY21)*(DY3:DY42=AY20)*EC3:EC42)+SUMPRODUCT((DV3:DV42=AY22)*(DY3:DY42=AY20)*EC3:EC42)+SUMPRODUCT((DV3:DV42=AY19)*(DY3:DY42=AY20)*EC3:EC42) -> 0 | BM20: =SUMPRODUCT((DV3:DV42=AY20)*(DY3:DY42=AY21)*ED3:ED42)+SUMPRODUCT((DV3:DV42=AY20)*(DY3:DY42=AY22)*ED3:ED42)+SUMPRODUCT((DV3:DV42=AY20)*(DY3:DY42=AY19)*ED3:ED42)+SUMPRODUCT((DV3:DV42=AY21)*(DY3:DY42=AY20)*EE3:EE42)+SUMPRODUCT((DV3:DV42=AY22)*(DY3:DY42=AY20)*EE3:EE42)+SUMPRODUCT((DV3:DV42=AY19)*(DY3:DY42=AY20)*EE3:EE42) -> 0 | BN20: =AZ20*4+BA20*2+BL20+BM20 -> 0 | BO20: =IF(AY20<>"",RANK(BN20,BN19:BN22),"") | BP20: =SUMPRODUCT((BN19:BN22=BN20)*(BE19:BE22>BE20)) -> 0 | BQ20: =SUMPRODUCT((BN19:BN22=BN20)*(BE19:BE22=BE20)*(BH19:BH22>BH20)) -> 0 | BR20: =SUMPRODUCT((BN18:BN22=BN20)*(BE18:BE22=BE20)*(BH18:BH22=BH20)*(BI18:BI22>BI20)) -> 0 | BS20: =SUMPRODUCT((BN18:BN22=BN20)*(BE18:BE22=BE20)*(BH18:BH22=BH20)*(BI18:BI22=BI20)*(BJ18:BJ22>BJ20)) -> 0 | BT20: =SUMPRODUCT((BN18:BN22=BN20)*(BE18:BE22=BE20)*(BH18:BH22=BH20)*(BI18:BI22=BI20)*(BJ18:BJ22=BJ20)*(BK18:BK22>BK20)) -> 0 | BU20: =IF(AY20<>"",SUM(BO20:BT20)+1,"") | BV20: =IF(AY20<>"",INDEX(AY19:AY22,MATCH(3,BU19:BU22,0),0),"") | BW20: =IF(X18<>"",X18,"") | BX20: =SUMPRODUCT((DV3:DV42=BW20)*(DY3:DY42=BW21)*(EF3:EF42="W"))+SUMPRODUCT((DV3:DV42=BW20)*(DY3:DY42=BW22)*(EF3:EF42="W"))+SUMPRODUCT((DV3:DV42=BW20)*(DY3:DY42=BW23)*(EF3:EF42="W"))+SUMPRODUCT((DV3:DV42=BW21)*(DY3:DY42=BW20)*(EG3:EG42="W"))+SUMPRODUCT((DV3:DV42=BW22)*(DY3:DY42=BW20)*(EG3:EG42="W"))+SUMPRODUCT((DV3:DV42=BW23)*(DY3:DY42=BW20)*(EG3:EG42="W")) -> 0 | BY20: =SUMPRODUCT((DV3:DV42=BW20)*(DY3:DY42=BW21)*(EF3:EF42="D"))+SUMPRODUCT((DV3:DV42=BW20)*(DY3:DY42=BW22)*(EF3:EF42="D"))+SUMPRODUCT((DV3:DV42=BW20)*(DY3:DY42=BW23)*(EF3:EF42="D"))+SUMPRODUCT((DV3:DV42=BW21)*(DY3:DY42=BW20)*(EF3:EF42="D"))+SUMPRODUCT((DV3:DV42=BW22)*(DY3:DY42=BW20)*(EF3:EF42="D"))+SUMPRODUCT((DV3:DV42=BW23)*(DY3:DY42=BW20)*(EF3:EF42="D")) -> 0 | BZ20: =SUMPRODUCT((DV3:DV42=BW20)*(DY3:DY42=BW21)*(EF3:EF42="L"))+SUMPRODUCT((DV3:DV42=BW20)*(DY3:DY42=BW22)*(EF3:EF42="L"))+SUMPRODUCT((DV3:DV42=BW20)*(DY3:DY42=BW23)*(EF3:EF42="L"))+SUMPRODUCT((DV3:DV42=BW21)*(DY3:DY42=BW20)*(EG3:EG42="L"))+SUMPRODUCT((DV3:DV42=BW22)*(DY3:DY42=BW20)*(EG3:EG42="L"))+SUMPRODUCT((DV3:DV42=BW23)*(DY3:DY42=BW20)*(EG3:EG42="L")) -> 0 | CA20: =IF(BW20<>"",VLOOKUP(BW20,B4:F29,5,FALSE),0) -> 0 | CB20: =IF(BW20<>"",VLOOKUP(BW20,B4:G29,6,FALSE),0) -> 0 | CC20: =CA20-CB20+1000 -> 1000 | CD20: =IF(BW20<>"",VLOOKUP(BW20,B4:I29,8,FALSE),0) -> 0 | CE20: =IF(BW20<>"",VLOOKUP(BW20,B4:J29,9,FALSE),0) -> 0 | CF20: =CD20-CE20+1000 -> 1000 | CG20: =IF(BW20<>"",VLOOKUP(BW20,B18:F22,5,FALSE),"") | CH20: =IF(BW20<>"",VLOOKUP(BW20,B18:I22,8,FALSE),"") | CI20: =IF(BW20<>"",VLOOKUP(BW20,B18:P22,15,FALSE),"") | CJ20: =SUMPRODUCT((DV3:DV42=BW20)*(DY3:DY42=BW21)*EB3:EB42)+SUMPRODUCT((DV3:DV42=BW20)*(DY3:DY42=BW22)*EB3:EB42)+SUMPRODUCT((DV3:DV42=BW20)*(DY3:DY42=BW23)*EB3:EB42)+SUMPRODUCT((DV3:DV42=BW21)*(DY3:DY42=BW20)*EC3:EC42)+SUMPRODUCT((DV3:DV42=BW22)*(DY3:DY42=BW20)*EC3:EC42)+SUMPRODUCT((DV3:DV42=BW23)*(DY3:DY42=BW20)*EC3:EC42) -> 0 | CK20: =SUMPRODUCT((DV3:DV42=BW20)*(DY3:DY42=BW21)*ED3:ED42)+SUMPRODUCT((DV3:DV42=BW20)*(DY3:DY42=BW22)*ED3:ED42)+SUMPRODUCT((DV3:DV42=BW20)*(DY3:DY42=BW23)*ED3:ED42)+SUMPRODUCT((DV3:DV42=BW21)*(DY3:DY42=BW20)*EE3:EE42)+SUMPRODUCT((DV3:DV42=BW22)*(DY3:DY42=BW20)*EE3:EE42)+SUMPRODUCT((DV3:DV42=BW23)*(DY3:DY42=BW20)*EE3:EE42) -> 0 | CL20: =BX20*4+BY20*2+CJ20+CK20 -> 0 | CM20: =IF(BW20<>"",RANK(CL20,CL20:CL23),"") | CN20: =SUMPRODUCT((CL20:CL23=CL20)*(CC20:CC23>CC20)) -> 0 | CO20: =SUMPRODUCT((CL20:CL23=CL20)*(CC20:CC23=CC20)*(CF20:CF23>CF20)) -> 0 | CP20: =SUMPRODUCT((CL18:CL22=CL20)*(CC18:CC22=CC20)*(CF18:CF22=CF20)*(CG18:CG22>CG20)) -> 0 | CQ20: =SUMPRODUCT((CL18:CL22=CL20)*(CC18:CC22=CC20)*(CF18:CF22=CF20)*(CG18:CG22=CG20)*(CH18:CH22>CH20)) -> 0 | CR20: =SUMPRODUCT((CL18:CL22=CL20)*(CC18:CC22=CC20)*(CF18:CF22=CF20)*(CG18:CG22=CG20)*(CH18:CH22=CH20)*(CI18:CI22>CI20)) -> 0 | CS20: =IF(BW20<>"",SUM(CM20:CR20)+2,"") | CT20: =IF(BW20<>"",INDEX(BW20:BW22,MATCH(3,CS20:CS22,0),0),"") | DS20: =IF(CT20<>"",CT20,IF(BV20<>"",BV20,IF(AX20<>"",AX20,T20))) -> Wales | DT20: 3 | DU20: 18 | DV20: =Tournament!H29 -> France | DW20: =IF(AND(Tournament!J29<>"",Tournament!L29<>""),Tournament!J29,0) -> 0 | DX20: =IF(AND(Tournament!L29<>"",Tournament!J29<>""),Tournament!L29,0) -> 0 | DY20: =Tournament!N29 -> Namibia | DZ20: =IF(Tournament!O29<>"",Tournament!O29,0) -> 0 | EA20: =IF(Tournament!Q29<>"",Tournament!Q29,0) -> 0 | EB20: =IF(DW20<>"",IF(Tournament!O29>3,1,0),0) -> 0 | EC20: =IF(DX20<>"",IF(Tournament!Q29>3,1,0),0) -> 0 | ED20: =IFERROR(IF(AND(DW20<>"",DW20<DX20,DX20-DW20<8),1,0),0) -> 0 | EE20: =IFERROR(IF(AND(DX20<>"",DX20<DW20,DW20-DX20<8),1,0),0) -> 0 | EF20: =IF(AND(Tournament!J29<>"",Tournament!L29<>""),IF(DW20>DX20,"W",IF(DW20=DX20,"D","L")),"") | EG20: =IF(EF20<>"",IF(EF20="W","L",IF(EF20="L","W","D")),"")
A21: =VLOOKUP(B21,DS18:DT22,2,FALSE) -> 5 | B21: Portugal | C21: =COUNTIFS(DV3:DV42,B21,EF3:EF42,"W")+COUNTIFS(DY3:DY42,B21,EG3:EG42,"W") -> 0 | D21: =COUNTIFS(DV3:DV42,B21,EF3:EF42,"D")+COUNTIFS(DY3:DY42,B21,EG3:EG42,"D") -> 0 | E21: =COUNTIFS(DV3:DV42,B21,EF3:EF42,"L")+COUNTIFS(DY3:DY42,B21,EG3:EG42,"L") -> 0 | F21: =SUMIF(DV3:DV60,B21,DW3:DW60)+SUMIF(DY3:DY60,B21,DX3:DX60) -> 0 | G21: =SUMIF(DY3:DY60,B21,DW3:DW60)+SUMIF(DV3:DV60,B21,DX3:DX60) -> 0 | H21: =F21-G21+1000 -> 1000 | I21: =SUMIF(Tournament!H12:H51,B21,Tournament!O12:O51)+SUMIF(Tournament!N12:N51,B21,Tournament!Q12:Q51) -> 0 | J21: =SUMIF(Tournament!N12:N51,B21,Tournament!O12:O51)+SUMIF(Tournament!H12:H51,B21,Tournament!Q12:Q51) -> 0 | K21: =I21-J21+1000 -> 1000 | L21: =C21*4+D21*2 -> 0 | M21: =SUMIF(DV:DV,B21,EB:EB)+SUMIF(DY:DY,B21,EC:EC) -> 0 | N21: =SUMIF(DV:DV,B21,ED:ED)+SUMIF(DY:DY,B21,EE:EE) -> 0 | O21: =N21+M21+L21 -> 0 | P21: 7 | Q21: =RANK(O21,O18:O22) -> 1 | S21: =RANK(O21,O18:O22)+COUNTIF(O18:O21,O21)-1 -> 4 | T21: =INDEX(B18:B22,MATCH(4,S18:S22,0),0) -> Portugal | U21: =INDEX(Q18:Q22,MATCH(T21,B18:B22,0),0) -> 1 | V21: =IF(AND(V20<>"",U21=1),T21,"") -> Portugal | W21: =IF(AND(W20<>"",U22=2),T22,"") | AA21: =IF(V21<>"",V21,"") -> Portugal | AB21: =SUMPRODUCT((DV3:DV42=AA21)*(DY3:DY42=AA22)*(EF3:EF42="W"))+SUMPRODUCT((DV3:DV42=AA21)*(DY3:DY42=AA18)*(EF3:EF42="W"))+SUMPRODUCT((DV3:DV42=AA21)*(DY3:DY42=AA19)*(EF3:EF42="W"))+SUMPRODUCT((DV3:DV42=AA21)*(DY3:DY42=AA20)*(EF3:EF42="W"))+SUMPRODUCT((DV3:DV42=AA22)*(DY3:DY42=AA21)*(EG3:EG42="W"))+SUMPRODUCT((DV3:DV42=AA18)*(DY3:DY42=AA21)*(EG3:EG42="W"))+SUMPRODUCT((DV3:DV42=AA19)*(DY3:DY42=AA21)*(EG3:EG42="W"))+SUMPRODUCT((DV3:DV42=AA20)*(DY3:DY42=AA21)*(EG3:EG42="W")) -> 0 | AC21: =SUMPRODUCT((DV3:DV42=AA21)*(DY3:DY42=AA22)*(EF3:EF42="D"))+SUMPRODUCT((DV3:DV42=AA21)*(DY3:DY42=AA18)*(EF3:EF42="D"))+SUMPRODUCT((DV3:DV42=AA21)*(DY3:DY42=AA19)*(EF3:EF42="D"))+SUMPRODUCT((DV3:DV42=AA21)*(DY3:DY42=AA20)*(EF3:EF42="D"))+SUMPRODUCT((DV3:DV42=AA22)*(DY3:DY42=AA21)*(EF3:EF42="D"))+SUMPRODUCT((DV3:DV42=AA18)*(DY3:DY42=AA21)*(EF3:EF42="D"))+SUMPRODUCT((DV3:DV42=AA19)*(DY3:DY42=AA21)*(EF3:EF42="D"))+SUMPRODUCT((DV3:DV42=AA20)*(DY3:DY42=AA21)*(EF3:EF42="D")) -> 0 | AD21: =SUMPRODUCT((DV3:DV42=AA21)*(DY3:DY42=AA22)*(EF3:EF42="L"))+SUMPRODUCT((DV3:DV42=AA21)*(DY3:DY42=AA18)*(EF3:EF42="L"))+SUMPRODUCT((DV3:DV42=AA21)*(DY3:DY42=AA19)*(EF3:EF42="L"))+SUMPRODUCT((DV3:DV42=AA21)*(DY3:DY42=AA20)*(EF3:EF42="L"))+SUMPRODUCT((DV3:DV42=AA22)*(DY3:DY42=AA21)*(EG3:EG42="L"))+SUMPRODUCT((DV3:DV42=AA18)*(DY3:DY42=AA21)*(EG3:EG42="L"))+SUMPRODUCT((DV3:DV42=AA19)*(DY3:DY42=AA21)*(EG3:EG42="L"))+SUMPRODUCT((DV3:DV42=AA20)*(DY3:DY42=AA21)*(EG3:EG42="L")) -> 0 | AE21: =IF(AA21<>"",VLOOKUP(AA21,B4:F29,5,FALSE),0) -> 0 | AF21: =IF(AA21<>"",VLOOKUP(AA21,B4:G29,6,FALSE),0) -> 0 | AG21: =AE21-AF21+1000 -> 1000 | AH21: =IF(AA21<>"",VLOOKUP(AA21,B4:I29,8,FALSE),0) -> 0 | AI21: =IF(AA21<>"",VLOOKUP(AA21,B4:J29,9,FALSE),0) -> 0 | AJ21: =IF(AA21<>"",AH21-AI21+1000,"") -> 1000 | AK21: =IF(AA21<>"",VLOOKUP(AA21,B18:F22,5,FALSE),"") -> 0 | AL21: =IF(AA21<>"",VLOOKUP(AA21,B18:I22,8,FALSE),"") -> 0 | AM21: =IF(AA21<>"",VLOOKUP(AA21,B18:P22,15,FALSE),"") -> 7 | AN21: =SUMPRODUCT((DV3:DV42=AA21)*(DY3:DY42=AA22)*EB3:EB42)+SUMPRODUCT((DV3:DV42=AA21)*(DY3:DY42=AA18)*EB3:EB42)+SUMPRODUCT((DV3:DV42=AA21)*(DY3:DY42=AA19)*EB3:EB42)+SUMPRODUCT((DV3:DV42=AA21)*(DY3:DY42=AA20)*EB3:EB42)+SUMPRODUCT((DV3:DV42=AA22)*(DY3:DY42=AA21)*EC3:EC42)+SUMPRODUCT((DV3:DV42=AA18)*(DY3:DY42=AA21)*EC3:EC42)+SUMPRODUCT((DV3:DV42=AA19)*(DY3:DY42=AA21)*EC3:EC42)+SUMPRODUCT((DV3:DV42=AA20)*(DY3:DY42=AA21)*EC3:EC42) -> 0 | AO21: =SUMPRODUCT((DV3:DV42=AA21)*(DY3:DY42=AA22)*ED3:ED42)+SUMPRODUCT((DV3:DV42=AA21)*(DY3:DY42=AA18)*ED3:ED42)+SUMPRODUCT((DV3:DV42=AA21)*(DY3:DY42=AA19)*ED3:ED42)+SUMPRODUCT((DV3:DV42=AA21)*(DY3:DY42=AA20)*ED3:ED42)+SUMPRODUCT((DV3:DV42=AA22)*(DY3:DY42=AA21)*EE3:EE42)+SUMPRODUCT((DV3:DV42=AA18)*(DY3:DY42=AA21)*EE3:EE42)+SUMPRODUCT((DV3:DV42=AA19)*(DY3:DY42=AA21)*EE3:EE42)+SUMPRODUCT((DV3:DV42=AA20)*(DY3:DY42=AA21)*EE3:EE42) -> 0 | AP21: =IF(AA21<>"",AB21*4+AC21*2+AN21+AO21,"") -> 0 | AQ21: =IF(AA21<>"",RANK(AP21,AP18:AP22),"") -> 1 | AR21: =SUMPRODUCT((AP18:AP22=AP21)*(AG18:AG22>AG21)) -> 0 | AS21: =SUMPRODUCT((AP18:AP22=AP21)*(AG18:AG22=AG21)*(AJ18:AJ22>AJ21)) -> 0 | AT21: =SUMPRODUCT((AP18:AP22=AP21)*(AG18:AG22=AG21)*(AJ18:AJ22=AJ21)*(AK18:AK22>AK21)) -> 0 | AU21: =SUMPRODUCT((AP18:AP22=AP21)*(AG18:AG22=AG21)*(AJ18:AJ22=AJ21)*(AK18:AK22=AK21)*(AL18:AL22>AL21)) -> 0 | AV21: =SUMPRODUCT((AP18:AP22=AP21)*(AG18:AG22=AG21)*(AJ18:AJ22=AJ21)*(AK18:AK22=AK21)*(AL18:AL22=AL21)*(AM18:AM22>AM21)) -> 4 | AW21: =IF(AA21<>"",SUM(AQ21:AV21),"") -> 5 | AX21: =IF(AA21<>"",INDEX(AA18:AA22,MATCH(4,AW18:AW22,0),0),"") -> Georgia | AY21: =IF(W20<>"",W20,"") | AZ21: =IF(AY21<>"",SUMPRODUCT((DV3:DV42=AY21)*(DY3:DY42=AY22)*(EF3:EF42="W"))+SUMPRODUCT((DV3:DV42=AY21)*(DY3:DY42=AY19)*(EF3:EF42="W"))+SUMPRODUCT((DV3:DV42=AY21)*(DY3:DY42=AY20)*(EF3:EF42="W"))+SUMPRODUCT((DV3:DV42=AY22)*(DY3:DY42=AY21)*(EG3:EG42="W"))+SUMPRODUCT((DV3:DV42=AY19)*(DY3:DY42=AY21)*(EG3:EG42="W"))+SUMPRODUCT((DV3:DV42=AY20)*(DY3:DY42=AY21)*(EG3:EG42="W")),"") | BA21: =IF(AY21<>"",SUMPRODUCT((DV3:DV42=AY21)*(DY3:DY42=AY22)*(EF3:EF42="D"))+SUMPRODUCT((DV3:DV42=AY21)*(DY3:DY42=AY19)*(EF3:EF42="D"))+SUMPRODUCT((DV3:DV42=AY21)*(DY3:DY42=AY20)*(EF3:EF42="D"))+SUMPRODUCT((DV3:DV42=AY22)*(DY3:DY42=AY21)*(EF3:EF42="D"))+SUMPRODUCT((DV3:DV42=AY19)*(DY3:DY42=AY21)*(EF3:EF42="D"))+SUMPRODUCT((DV3:DV42=AY20)*(DY3:DY42=AY21)*(EF3:EF42="D")),"") | BB21: =IF(AY21<>"",SUMPRODUCT((DV3:DV42=AY21)*(DY3:DY42=AY22)*(EF3:EF42="L"))+SUMPRODUCT((DV3:DV42=AY21)*(DY3:DY42=AY19)*(EF3:EF42="L"))+SUMPRODUCT((DV3:DV42=AY21)*(DY3:DY42=AY20)*(EF3:EF42="L"))+SUMPRODUCT((DV3:DV42=AY22)*(DY3:DY42=AY21)*(EG3:EG42="L"))+SUMPRODUCT((DV3:DV42=AY19)*(DY3:DY42=AY21)*(EG3:EG42="L"))+SUMPRODUCT((DV3:DV42=AY20)*(DY3:DY42=AY21)*(EG3:EG42="L")),"") | BC21: =IF(AY21<>"",VLOOKUP(AY21,B4:F29,5,FALSE),0) -> 0 | BD21: =IF(AY21<>"",VLOOKUP(AY21,B4:G29,6,FALSE),0) -> 0 | BE21: =BC21-BD21+1000 -> 1000 | BF21: =IF(AY21<>"",VLOOKUP(AY21,B4:I29,8,FALSE),0) -> 0 | BG21: =IF(AY21<>"",VLOOKUP(AY21,B4:J29,9,FALSE),0) -> 0 | BH21: =IF(AY21<>"",BF21-BG21+1000,"") | BI21: =IF(AY21<>"",VLOOKUP(AY21,B18:F22,5,FALSE),"") | BJ21: =IF(AY21<>"",VLOOKUP(AY21,B18:I22,8,FALSE),"") | BK21: =IF(AY21<>"",VLOOKUP(AY21,B18:P22,15,FALSE),"") | BL21: =IF(AY21<>"",SUMPRODUCT((DV3:DV42=AY21)*(DY3:DY42=AY22)*EB3:EB42)+SUMPRODUCT((DV3:DV42=AY21)*(DY3:DY42=AY19)*EB3:EB42)+SUMPRODUCT((DV3:DV42=AY21)*(DY3:DY42=AY20)*EB3:EB42)+SUMPRODUCT((DV3:DV42=AY22)*(DY3:DY42=AY21)*EC3:EC42)+SUMPRODUCT((DV3:DV42=AY19)*(DY3:DY42=AY21)*EC3:EC42)+SUMPRODUCT((DV3:DV42=AY20)*(DY3:DY42=AY21)*EC3:EC42),"") | BM21: =IF(AY21<>"",SUMPRODUCT((DV3:DV42=AY21)*(DY3:DY42=AY22)*ED3:ED42)+SUMPRODUCT((DV3:DV42=AY21)*(DY3:DY42=AY19)*ED3:ED42)+SUMPRODUCT((DV3:DV42=AY21)*(DY3:DY42=AY20)*ED3:ED42)+SUMPRODUCT((DV3:DV42=AY22)*(DY3:DY42=AY21)*EE3:EE42)+SUMPRODUCT((DV3:DV42=AY19)*(DY3:DY42=AY21)*EE3:EE42)+SUMPRODUCT((DV3:DV42=AY20)*(DY3:DY42=AY21)*EE3:EE42),"") | BN21: =IF(AY21<>"",AZ21*4+BA21*2+BL21+BM21,"") | BO21: =IF(AY21<>"",RANK(BN21,BN19:BN22),"") | BP21: =SUMPRODUCT((BN19:BN22=BN21)*(BE19:BE22>BE21)) -> 0 | BQ21: =SUMPRODUCT((BN19:BN22=BN21)*(BE19:BE22=BE21)*(BH19:BH22>BH21)) -> 0 | BR21: =SUMPRODUCT((BN18:BN22=BN21)*(BE18:BE22=BE21)*(BH18:BH22=BH21)*(BI18:BI22>BI21)) -> 0 | BS21: =SUMPRODUCT((BN18:BN22=BN21)*(BE18:BE22=BE21)*(BH18:BH22=BH21)*(BI18:BI22=BI21)*(BJ18:BJ22>BJ21)) -> 0 | BT21: =SUMPRODUCT((BN18:BN22=BN21)*(BE18:BE22=BE21)*(BH18:BH22=BH21)*(BI18:BI22=BI21)*(BJ18:BJ22=BJ21)*(BK18:BK22>BK21)) -> 0 | BU21: =IF(AY21<>"",SUM(BO21:BT21)+1,"") | BV21: =IF(AY21<>"",INDEX(AY19:AY22,MATCH(4,BU19:BU22,0),0),"") | BW21: =IF(X19<>"",X19,"") | BX21: =SUMPRODUCT((DV3:DV42=BW21)*(DY3:DY42=BW22)*(EF3:EF42="W"))+SUMPRODUCT((DV3:DV42=BW21)*(DY3:DY42=BW23)*(EF3:EF42="W"))+SUMPRODUCT((DV3:DV42=BW21)*(DY3:DY42=BW20)*(EF3:EF42="W"))+SUMPRODUCT((DV3:DV42=BW22)*(DY3:DY42=BW21)*(EG3:EG42="W"))+SUMPRODUCT((DV3:DV42=BW23)*(DY3:DY42=BW21)*(EG3:EG42="W"))+SUMPRODUCT((DV3:DV42=BW20)*(DY3:DY42=BW21)*(EG3:EG42="W")) -> 0 | BY21: =SUMPRODUCT((DV3:DV42=BW21)*(DY3:DY42=BW22)*(EF3:EF42="D"))+SUMPRODUCT((DV3:DV42=BW21)*(DY3:DY42=BW23)*(EF3:EF42="D"))+SUMPRODUCT((DV3:DV42=BW21)*(DY3:DY42=BW20)*(EF3:EF42="D"))+SUMPRODUCT((DV3:DV42=BW22)*(DY3:DY42=BW21)*(EF3:EF42="D"))+SUMPRODUCT((DV3:DV42=BW23)*(DY3:DY42=BW21)*(EF3:EF42="D"))+SUMPRODUCT((DV3:DV42=BW20)*(DY3:DY42=BW21)*(EF3:EF42="D")) -> 0 | BZ21: =SUMPRODUCT((DV3:DV42=BW21)*(DY3:DY42=BW22)*(EF3:EF42="L"))+SUMPRODUCT((DV3:DV42=BW21)*(DY3:DY42=BW23)*(EF3:EF42="L"))+SUMPRODUCT((DV3:DV42=BW21)*(DY3:DY42=BW20)*(EF3:EF42="L"))+SUMPRODUCT((DV3:DV42=BW22)*(DY3:DY42=BW21)*(EG3:EG42="L"))+SUMPRODUCT((DV3:DV42=BW23)*(DY3:DY42=BW21)*(EG3:EG42="L"))+SUMPRODUCT((DV3:DV42=BW20)*(DY3:DY42=BW21)*(EG3:EG42="L")) -> 0 | CA21: =IF(BW21<>"",VLOOKUP(BW21,B4:F29,5,FALSE),0) -> 0 | CB21: =IF(BW21<>"",VLOOKUP(BW21,B4:G29,6,FALSE),0) -> 0 | CC21: =CA21-CB21+1000 -> 1000 | CD21: =IF(BW21<>"",VLOOKUP(BW21,B4:I29,8,FALSE),0) -> 0 | CE21: =IF(BW21<>"",VLOOKUP(BW21,B4:J29,9,FALSE),0) -> 0 | CF21: =CD21-CE21+1000 -> 1000 | CG21: =IF(BW21<>"",VLOOKUP(BW21,B18:F22,5,FALSE),"") | CH21: =IF(BW21<>"",VLOOKUP(BW21,B18:I22,8,FALSE),"") | CI21: =IF(BW21<>"",VLOOKUP(BW21,B18:P22,15,FALSE),"") | CJ21: =SUMPRODUCT((DV3:DV42=BW21)*(DY3:DY42=BW22)*EB3:EB42)+SUMPRODUCT((DV3:DV42=BW21)*(DY3:DY42=BW23)*EB3:EB42)+SUMPRODUCT((DV3:DV42=BW21)*(DY3:DY42=BW20)*EB3:EB42)+SUMPRODUCT((DV3:DV42=BW22)*(DY3:DY42=BW21)*EC3:EC42)+SUMPRODUCT((DV3:DV42=BW23)*(DY3:DY42=BW21)*EC3:EC42)+SUMPRODUCT((DV3:DV42=BW20)*(DY3:DY42=BW21)*EC3:EC42) -> 0 | CK21: =SUMPRODUCT((DV3:DV42=BW21)*(DY3:DY42=BW22)*ED3:ED42)+SUMPRODUCT((DV3:DV42=BW21)*(DY3:DY42=BW23)*ED3:ED42)+SUMPRODUCT((DV3:DV42=BW21)*(DY3:DY42=BW20)*ED3:ED42)+SUMPRODUCT((DV3:DV42=BW22)*(DY3:DY42=BW21)*EE3:EE42)+SUMPRODUCT((DV3:DV42=BW23)*(DY3:DY42=BW21)*EE3:EE42)+SUMPRODUCT((DV3:DV42=BW20)*(DY3:DY42=BW21)*EE3:EE42) -> 0 | CL21: =BX21*4+BY21*2+CJ21+CK21 -> 0 | CM21: =IF(BW21<>"",RANK(CL21,CL20:CL23),"") | CN21: =SUMPRODUCT((CL20:CL23=CL21)*(CC20:CC23>CC21)) -> 0 | CO21: =SUMPRODUCT((CL20:CL23=CL21)*(CC20:CC23=CC21)*(CF20:CF23>CF21)) -> 0 | CP21: =SUMPRODUCT((CL18:CL22=CL21)*(CC18:CC22=CC21)*(CF18:CF22=CF21)*(CG18:CG22>CG21)) -> 0 | CQ21: =SUMPRODUCT((CL18:CL22=CL21)*(CC18:CC22=CC21)*(CF18:CF22=CF21)*(CG18:CG22=CG21)*(CH18:CH22>CH21)) -> 0 | CR21: =SUMPRODUCT((CL18:CL22=CL21)*(CC18:CC22=CC21)*(CF18:CF22=CF21)*(CG18:CG22=CG21)*(CH18:CH22=CH21)*(CI18:CI22>CI21)) -> 0 | CS21: =IF(BW21<>"",SUM(CM21:CR21)+2,"") | CT21: =IF(BW21<>"",INDEX(BW20:BW22,MATCH(4,CS20:CS22,0),0),"") | CU21: =IF(Y18<>"",Y18,"") | CV21: =SUMPRODUCT((DV3:DV42=CU21)*(DY3:DY42=CU22)*(EF3:EF42="W"))+SUMPRODUCT((DV3:DV42=CU21)*(DY3:DY42=CU23)*(EF3:EF42="W"))+SUMPRODUCT((DV3:DV42=CU21)*(DY3:DY42=CU24)*(EF3:EF42="W"))+SUMPRODUCT((DV3:DV42=CU22)*(DY3:DY42=CU21)*(EG3:EG42="W"))+SUMPRODUCT((DV3:DV42=CU23)*(DY3:DY42=CU21)*(EG3:EG42="W"))+SUMPRODUCT((DV3:DV42=CU24)*(DY3:DY42=CU21)*(EG3:EG42="W")) -> 0 | CW21: =SUMPRODUCT((DV3:DV42=CU21)*(DY3:DY42=CU22)*(EF3:EF42="D"))+SUMPRODUCT((DV3:DV42=CU21)*(DY3:DY42=CU23)*(EF3:EF42="D"))+SUMPRODUCT((DV3:DV42=CU21)*(DY3:DY42=CU24)*(EF3:EF42="D"))+SUMPRODUCT((DV3:DV42=CU22)*(DY3:DY42=CU21)*(EF3:EF42="D"))+SUMPRODUCT((DV3:DV42=CU23)*(DY3:DY42=CU21)*(EF3:EF42="D"))+SUMPRODUCT((DV3:DV42=CU24)*(DY3:DY42=CU21)*(EF3:EF42="D")) -> 0 | CX21: =SUMPRODUCT((DV3:DV42=CU21)*(DY3:DY42=CU22)*(EF3:EF42="L"))+SUMPRODUCT((DV3:DV42=CU21)*(DY3:DY42=CU23)*(EF3:EF42="L"))+SUMPRODUCT((DV3:DV42=CU21)*(DY3:DY42=CU24)*(EF3:EF42="L"))+SUMPRODUCT((DV3:DV42=CU22)*(DY3:DY42=CU21)*(EG3:EG42="L"))+SUMPRODUCT((DV3:DV42=CU23)*(DY3:DY42=CU21)*(EG3:EG42="L"))+SUMPRODUCT((DV3:DV42=CU24)*(DY3:DY42=CU21)*(EG3:EG42="L")) -> 0 | CY21: =IF(CU21<>"",VLOOKUP(CU21,B4:F29,5,FALSE),0) -> 0 | CZ21: =IF(CU21<>"",VLOOKUP(CU21,B4:G29,6,FALSE),0) -> 0 | DA21: =CY21-CZ21+1000 -> 1000 | DB21: =IF(CU21<>"",VLOOKUP(CU21,B4:I29,8,FALSE),0) -> 0 | DC21: =IF(CU21<>"",VLOOKUP(CU21,B4:J29,9,FALSE),0) -> 0 | DD21: =DB21-DC21+1000 -> 1000 | DE21: =IF(CU21<>"",VLOOKUP(CU21,B18:F22,5,FALSE),"") | DF21: =IF(CU21<>"",VLOOKUP(CU21,B18:I22,8,FALSE),"") | DG21: =IF(CU21<>"",VLOOKUP(CU21,B18:P22,15,FALSE),"") | DH21: =SUMPRODUCT((DV3:DV42=CU21)*(DY3:DY42=CU22)*EB3:EB42)+SUMPRODUCT((DV3:DV42=CU21)*(DY3:DY42=CU23)*EB3:EB42)+SUMPRODUCT((DV3:DV42=CU21)*(DY3:DY42=CU24)*EB3:EB42)+SUMPRODUCT((DV3:DV42=CU22)*(DY3:DY42=CU21)*EC3:EC42)+SUMPRODUCT((DV3:DV42=CU23)*(DY3:DY42=CU21)*EC3:EC42)+SUMPRODUCT((DV3:DV42=CU24)*(DY3:DY42=CU21)*EC3:EC42) -> 0 | DI21: =SUMPRODUCT((DV3:DV42=CU21)*(DY3:DY42=CU22)*ED3:ED42)+SUMPRODUCT((DV3:DV42=CU21)*(DY3:DY42=CU23)*ED3:ED42)+SUMPRODUCT((DV3:DV42=CU21)*(DY3:DY42=CU24)*ED3:ED42)+SUMPRODUCT((DV3:DV42=CU22)*(DY3:DY42=CU21)*EE3:EE42)+SUMPRODUCT((DV3:DV42=CU23)*(DY3:DY42=CU21)*EE3:EE42)+SUMPRODUCT((DV3:DV42=CU24)*(DY3:DY42=CU21)*EE3:EE42) -> 0 | DJ21: =CV21*4+CW21*2+DH21+DI21 -> 0 | DK21: =IF(CU21<>"",RANK(DJ21,DJ21:DJ24),"") | DL21: =SUMPRODUCT((DJ21:DJ24=DJ21)*(DA21:DA24>DA21)) -> 0 | DM21: =SUMPRODUCT((DJ21:DJ24=DJ21)*(DA21:DA24=DA21)*(DD21:DD24>DD21)) -> 0 | DN21: =SUMPRODUCT((DJ18:DJ22=DJ21)*(DA18:DA22=DA21)*(DD18:DD22=DD21)*(DE18:DE22>DE21)) -> 0 | DO21: =SUMPRODUCT((DJ18:DJ22=DJ21)*(DA18:DA22=DA21)*(DD18:DD22=DD21)*(DE18:DE22=DE21)*(DF18:DF22>DF21)) -> 0 | DP21: =SUMPRODUCT((DJ18:DJ22=DJ21)*(DA18:DA22=DA21)*(DD18:DD22=DD21)*(DE18:DE22=DE21)*(DF18:DF22=DF21)*(DG18:DG22>DG21)) -> 0 | DQ21: =IF(CU21<>"",SUM(DK21:DP21)+3,"") | DR21: =IF(CU21<>"",IF(DQ21=4,CU21,CU22),"") | DS21: =IF(DR21<>"",DR21,IF(CT21<>"",CT21,IF(BV21<>"",BV21,IF(AX21<>"",AX21,T21)))) -> Georgia | DT21: 4 | DU21: 19 | DV21: =Tournament!H30 -> Argentina | DW21: =IF(AND(Tournament!J30<>"",Tournament!L30<>""),Tournament!J30,0) -> 0 | DX21: =IF(AND(Tournament!L30<>"",Tournament!J30<>""),Tournament!L30,0) -> 0 | DY21: =Tournament!N30 -> Samoa | DZ21: =IF(Tournament!O30<>"",Tournament!O30,0) -> 0 | EA21: =IF(Tournament!Q30<>"",Tournament!Q30,0) -> 0 | EB21: =IF(DW21<>"",IF(Tournament!O30>3,1,0),0) -> 0 | EC21: =IF(DX21<>"",IF(Tournament!Q30>3,1,0),0) -> 0 | ED21: =IFERROR(IF(AND(DW21<>"",DW21<DX21,DX21-DW21<8),1,0),0) -> 0 | EE21: =IFERROR(IF(AND(DX21<>"",DX21<DW21,DW21-DX21<8),1,0),0) -> 0 | EF21: =IF(AND(Tournament!J30<>"",Tournament!L30<>""),IF(DW21>DX21,"W",IF(DW21=DX21,"D","L")),"") | EG21: =IF(EF21<>"",IF(EF21="W","L",IF(EF21="L","W","D")),"")
A22: =VLOOKUP(B22,DS18:DT22,2,FALSE) -> 3 | B22: Wales | C22: =COUNTIFS(DV3:DV42,B22,EF3:EF42,"W")+COUNTIFS(DY3:DY42,B22,EG3:EG42,"W") -> 0 | D22: =COUNTIFS(DV3:DV42,B22,EF3:EF42,"D")+COUNTIFS(DY3:DY42,B22,EG3:EG42,"D") -> 0 | E22: =COUNTIFS(DV3:DV42,B22,EF3:EF42,"L")+COUNTIFS(DY3:DY42,B22,EG3:EG42,"L") -> 0 | F22: =SUMIF(DV3:DV60,B22,DW3:DW60)+SUMIF(DY3:DY60,B22,DX3:DX60) -> 0 | G22: =SUMIF(DY3:DY60,B22,DW3:DW60)+SUMIF(DV3:DV60,B22,DX3:DX60) -> 0 | H22: =F22-G22+1000 -> 1000 | I22: =SUMIF(Tournament!H12:H51,B22,Tournament!O12:O51)+SUMIF(Tournament!N12:N51,B22,Tournament!Q12:Q51) -> 0 | J22: =SUMIF(Tournament!N12:N51,B22,Tournament!O12:O51)+SUMIF(Tournament!H12:H51,B22,Tournament!Q12:Q51) -> 0 | K22: =I22-J22+1000 -> 1000 | L22: =C22*4+D22*2 -> 0 | M22: =SUMIF(DV:DV,B22,EB:EB)+SUMIF(DY:DY,B22,EC:EC) -> 0 | N22: =SUMIF(DV:DV,B22,ED:ED)+SUMIF(DY:DY,B22,EE:EE) -> 0 | O22: =N22+M22+L22 -> 0 | P22: 13 | Q22: =RANK(O22,O18:O22) -> 1 | S22: =RANK(O22,O18:O22)+COUNTIF(O18:O22,O22)-1 -> 5 | T22: =INDEX(B18:B22,MATCH(5,S18:S22,0),0) -> Wales | U22: =INDEX(Q18:Q22,MATCH(T22,B18:B22,0),0) -> 1 | V22: =IF(AND(V21<>"",U22=1),T22,"") -> Wales | AA22: =IF(V22<>"",V22,"") -> Wales | AB22: =SUMPRODUCT((DV3:DV42=AA22)*(DY3:DY42=AA18)*(EF3:EF42="W"))+SUMPRODUCT((DV3:DV42=AA22)*(DY3:DY42=AA19)*(EF3:EF42="W"))+SUMPRODUCT((DV3:DV42=AA22)*(DY3:DY42=AA20)*(EF3:EF42="W"))+SUMPRODUCT((DV3:DV42=AA22)*(DY3:DY42=AA21)*(EF3:EF42="W"))+SUMPRODUCT((DV3:DV42=AA18)*(DY3:DY42=AA22)*(EG3:EG42="W"))+SUMPRODUCT((DV3:DV42=AA19)*(DY3:DY42=AA22)*(EG3:EG42="W"))+SUMPRODUCT((DV3:DV42=AA20)*(DY3:DY42=AA22)*(EG3:EG42="W"))+SUMPRODUCT((DV3:DV42=AA21)*(DY3:DY42=AA22)*(EG3:EG42="W")) -> 0 | AC22: =SUMPRODUCT((DV3:DV42=AA22)*(DY3:DY42=AA18)*(EF3:EF42="D"))+SUMPRODUCT((DV3:DV42=AA22)*(DY3:DY42=AA19)*(EF3:EF42="D"))+SUMPRODUCT((DV3:DV42=AA22)*(DY3:DY42=AA20)*(EF3:EF42="D"))+SUMPRODUCT((DV3:DV42=AA22)*(DY3:DY42=AA21)*(EF3:EF42="D"))+SUMPRODUCT((DV3:DV42=AA18)*(DY3:DY42=AA22)*(EF3:EF42="D"))+SUMPRODUCT((DV3:DV42=AA19)*(DY3:DY42=AA22)*(EF3:EF42="D"))+SUMPRODUCT((DV3:DV42=AA20)*(DY3:DY42=AA22)*(EF3:EF42="D"))+SUMPRODUCT((DV3:DV42=AA21)*(DY3:DY42=AA22)*(EF3:EF42="D")) -> 0 | AD22: =SUMPRODUCT((DV3:DV42=AA22)*(DY3:DY42=AA18)*(EF3:EF42="L"))+SUMPRODUCT((DV3:DV42=AA22)*(DY3:DY42=AA19)*(EF3:EF42="L"))+SUMPRODUCT((DV3:DV42=AA22)*(DY3:DY42=AA20)*(EF3:EF42="L"))+SUMPRODUCT((DV3:DV42=AA22)*(DY3:DY42=AA21)*(EF3:EF42="L"))+SUMPRODUCT((DV3:DV42=AA18)*(DY3:DY42=AA22)*(EG3:EG42="L"))+SUMPRODUCT((DV3:DV42=AA19)*(DY3:DY42=AA22)*(EG3:EG42="L"))+SUMPRODUCT((DV3:DV42=AA20)*(DY3:DY42=AA22)*(EG3:EG42="L"))+SUMPRODUCT((DV3:DV42=AA21)*(DY3:DY42=AA22)*(EG3:EG42="L")) -> 0 | AE22: =IF(AA22<>"",VLOOKUP(AA22,B4:F29,5,FALSE),0) -> 0 | AF22: =IF(AA22<>"",VLOOKUP(AA22,B4:G29,6,FALSE),0) -> 0 | AG22: =AE22-AF22+1000 -> 1000 | AH22: =IF(AA22<>"",VLOOKUP(AA22,B4:I29,8,FALSE),0) -> 0 | AI22: =IF(AA22<>"",VLOOKUP(AA22,B4:J29,9,FALSE),0) -> 0 | AJ22: =IF(AA22<>"",AH22-AI22+1000,"") -> 1000 | AK22: =IF(AA22<>"",VLOOKUP(AA22,B18:F22,5,FALSE),"") -> 0 | AL22: =IF(AA22<>"",VLOOKUP(AA22,B18:I22,8,FALSE),"") -> 0 | AM22: =IF(AA22<>"",VLOOKUP(AA22,B18:P22,15,FALSE),"") -> 13 | AN22: =SUMPRODUCT((DV3:DV42=AA22)*(DY3:DY42=AA18)*EB3:EB42)+SUMPRODUCT((DV3:DV42=AA22)*(DY3:DY42=AA19)*EB3:EB42)+SUMPRODUCT((DV3:DV42=AA22)*(DY3:DY42=AA20)*EB3:EB42)+SUMPRODUCT((DV3:DV42=AA22)*(DY3:DY42=AA21)*EB3:EB42)+SUMPRODUCT((DV3:DV42=AA18)*(DY3:DY42=AA22)*EC3:EC42)+SUMPRODUCT((DV3:DV42=AA19)*(DY3:DY42=AA22)*EC3:EC42)+SUMPRODUCT((DV3:DV42=AA20)*(DY3:DY42=AA22)*EC3:EC42)+SUMPRODUCT((DV3:DV42=AA21)*(DY3:DY42=AA22)*EC3:EC42) -> 0 | AO22: =SUMPRODUCT((DV3:DV42=AA22)*(DY3:DY42=AA18)*ED3:ED42)+SUMPRODUCT((DV3:DV42=AA22)*(DY3:DY42=AA19)*ED3:ED42)+SUMPRODUCT((DV3:DV42=AA22)*(DY3:DY42=AA20)*ED3:ED42)+SUMPRODUCT((DV3:DV42=AA22)*(DY3:DY42=AA21)*ED3:ED42)+SUMPRODUCT((DV3:DV42=AA18)*(DY3:DY42=AA22)*EE3:EE42)+SUMPRODUCT((DV3:DV42=AA19)*(DY3:DY42=AA22)*EE3:EE42)+SUMPRODUCT((DV3:DV42=AA20)*(DY3:DY42=AA22)*EE3:EE42)+SUMPRODUCT((DV3:DV42=AA21)*(DY3:DY42=AA22)*EE3:EE42) -> 0 | AP22: =IF(AA22<>"",AB22*4+AC22*2+AN22+AO22,"") -> 0 | AQ22: =IF(AA22<>"",RANK(AP22,AP18:AP22),"") -> 1 | AR22: =SUMPRODUCT((AP18:AP22=AP22)*(AG18:AG22>AG22)) -> 0 | AS22: =SUMPRODUCT((AP18:AP22=AP22)*(AG18:AG22=AG22)*(AJ18:AJ22>AJ22)) -> 0 | AT22: =SUMPRODUCT((AP18:AP22=AP22)*(AG18:AG22=AG22)*(AJ18:AJ22=AJ22)*(AK18:AK22>AK22)) -> 0 | AU22: =SUMPRODUCT((AP18:AP22=AP22)*(AG18:AG22=AG22)*(AJ18:AJ22=AJ22)*(AK18:AK22=AK22)*(AL18:AL22>AL22)) -> 0 | AV22: =SUMPRODUCT((AP18:AP22=AP22)*(AG18:AG22=AG22)*(AJ18:AJ22=AJ22)*(AK18:AK22=AK22)*(AL18:AL22=AL22)*(AM18:AM22>AM22)) -> 2 | AW22: =IF(AA22<>"",SUM(AQ22:AV22),"") -> 3 | AX22: =IF(AA22<>"",INDEX(AA18:AA22,MATCH(5,AW18:AW22,0),0),"") -> Portugal | AY22: =IF(W21<>"",W21,"") | AZ22: =IF(AY22<>"",SUMPRODUCT((DV3:DV42=AY22)*(DY3:DY42=AY19)*(EF3:EF42="W"))+SUMPRODUCT((DV3:DV42=AY22)*(DY3:DY42=AY20)*(EF3:EF42="W"))+SUMPRODUCT((DV3:DV42=AY22)*(DY3:DY42=AY21)*(EF3:EF42="W"))+SUMPRODUCT((DV3:DV42=AY19)*(DY3:DY42=AY22)*(EF3:EF42="W"))+SUMPRODUCT((DV3:DV42=AY20)*(DY3:DY42=AY22)*(EF3:EF42="W"))+SUMPRODUCT((DV3:DV42=AY21)*(DY3:DY42=AY22)*(EF3:EF42="W")),"") | BA22: =IF(AY22<>"",SUMPRODUCT((DV3:DV42=AY22)*(DY3:DY42=AY19)*(EF3:EF42="D"))+SUMPRODUCT((DV3:DV42=AY22)*(DY3:DY42=AY20)*(EF3:EF42="D"))+SUMPRODUCT((DV3:DV42=AY22)*(DY3:DY42=AY21)*(EF3:EF42="D"))+SUMPRODUCT((DV3:DV42=AY19)*(DY3:DY42=AY22)*(EF3:EF42="D"))+SUMPRODUCT((DV3:DV42=AY20)*(DY3:DY42=AY22)*(EF3:EF42="D"))+SUMPRODUCT((DV3:DV42=AY21)*(DY3:DY42=AY22)*(EF3:EF42="D")),"") | BB22: =IF(AY22<>"",SUMPRODUCT((DV3:DV42=AY22)*(DY3:DY42=AY19)*(EF3:EF42="L"))+SUMPRODUCT((DV3:DV42=AY22)*(DY3:DY42=AY20)*(EF3:EF42="L"))+SUMPRODUCT((DV3:DV42=AY22)*(DY3:DY42=AY21)*(EF3:EF42="L"))+SUMPRODUCT((DV3:DV42=AY19)*(DY3:DY42=AY22)*(EF3:EF42="L"))+SUMPRODUCT((DV3:DV42=AY20)*(DY3:DY42=AY22)*(EF3:EF42="L"))+SUMPRODUCT((DV3:DV42=AY21)*(DY3:DY42=AY22)*(EF3:EF42="L")),"") | BC22: =IF(AY22<>"",VLOOKUP(AY22,B4:F29,5,FALSE),0) -> 0 | BD22: =IF(AY22<>"",VLOOKUP(AY22,B4:G29,6,FALSE),0) -> 0 | BE22: =BC22-BD22+1000 -> 1000 | BF22: =IF(AY22<>"",VLOOKUP(AY22,B4:I29,8,FALSE),0) -> 0 | BG22: =IF(AY22<>"",VLOOKUP(AY22,B4:J29,9,FALSE),0) -> 0 | BH22: =IF(AY22<>"",BF22-BG22+1000,"") | BI22: =IF(AY22<>"",VLOOKUP(AY22,B18:F22,5,FALSE),"") | BJ22: =IF(AY22<>"",VLOOKUP(AY22,B18:I22,8,FALSE),"") | BK22: =IF(AY22<>"",VLOOKUP(AY22,B18:P22,15,FALSE),"") | BL22: =IF(AY22<>"",SUMPRODUCT((DV3:DV42=AY22)*(DY3:DY42=AY19)*EB3:EB42)+SUMPRODUCT((DV3:DV42=AY22)*(DY3:DY42=AY20)*EB3:EB42)+SUMPRODUCT((DV3:DV42=AY22)*(DY3:DY42=AY21)*EB3:EB42)+SUMPRODUCT((DV3:DV42=AY19)*(DY3:DY42=AY22)*EC3:EC42)+SUMPRODUCT((DV3:DV42=AY20)*(DY3:DY42=AY22)*EC3:EC42)+SUMPRODUCT((DV3:DV42=AY21)*(DY3:DY42=AY22)*EC3:EC42),"") | BM22: =IF(AY22<>"",SUMPRODUCT((DV3:DV42=AY22)*(DY3:DY42=AY19)*ED3:ED42)+SUMPRODUCT((DV3:DV42=AY22)*(DY3:DY42=AY20)*ED3:ED42)+SUMPRODUCT((DV3:DV42=AY22)*(DY3:DY42=AY21)*ED3:ED42)+SUMPRODUCT((DV3:DV42=AY19)*(DY3:DY42=AY22)*EE3:EE42)+SUMPRODUCT((DV3:DV42=AY20)*(DY3:DY42=AY22)*EE3:EE42)+SUMPRODUCT((DV3:DV42=AY21)*(DY3:DY42=AY22)*EE3:EE42),"") | BN22: =IF(AY22<>"",AZ22*4+BA22*2+BL22+BM22,"") | BO22: =IF(AY22<>"",RANK(BN22,BN19:BN22),"") | BP22: =SUMPRODUCT((BN19:BN22=BN22)*(BE19:BE22>BE22)) -> 0 | BQ22: =SUMPRODUCT((BN19:BN22=BN22)*(BE19:BE22=BE22)*(BH19:BH22>BH22)) -> 0 | BR22: =SUMPRODUCT((BN18:BN22=BN22)*(BE18:BE22=BE22)*(BH18:BH22=BH22)*(BI18:BI22>BI22)) -> 0 | BS22: =SUMPRODUCT((BN18:BN22=BN22)*(BE18:BE22=BE22)*(BH18:BH22=BH22)*(BI18:BI22=BI22)*(BJ18:BJ22>BJ22)) -> 0 | BT22: =SUMPRODUCT((BN18:BN22=BN22)*(BE18:BE22=BE22)*(BH18:BH22=BH22)*(BI18:BI22=BI22)*(BJ18:BJ22=BJ22)*(BK18:BK22>BK22)) -> 0 | BU22: =IF(AY22<>"",SUM(BO22:BT22)+1,"") | BV22: =IF(AY22<>"",INDEX(AY19:AY22,MATCH(5,BU19:BU22,0),0),"") | BW22: =IF(X20<>"",X20,"") | BX22: =IF(BW22<>"",SUMPRODUCT((DV3:DV42=BW22)*(DY3:DY42=BW23)*(EF3:EF42="W"))+SUMPRODUCT((DV3:DV42=BW22)*(DY3:DY42=BW20)*(EF3:EF42="W"))+SUMPRODUCT((DV3:DV42=BW22)*(DY3:DY42=BW21)*(EF3:EF42="W"))+SUMPRODUCT((DV3:DV42=BW23)*(DY3:DY42=BW22)*(EG3:EG42="W"))+SUMPRODUCT((DV3:DV42=BW20)*(DY3:DY42=BW22)*(EG3:EG42="W"))+SUMPRODUCT((DV3:DV42=BW21)*(DY3:DY42=BW22)*(EG3:EG42="W")),"") | BY22: =IF(BW22<>"",SUMPRODUCT((DV3:DV42=BW22)*(DY3:DY42=BW23)*(EF3:EF42="D"))+SUMPRODUCT((DV3:DV42=BW22)*(DY3:DY42=BW20)*(EF3:EF42="D"))+SUMPRODUCT((DV3:DV42=BW22)*(DY3:DY42=BW21)*(EF3:EF42="D"))+SUMPRODUCT((DV3:DV42=BW23)*(DY3:DY42=BW22)*(EF3:EF42="D"))+SUMPRODUCT((DV3:DV42=BW20)*(DY3:DY42=BW22)*(EF3:EF42="D"))+SUMPRODUCT((DV3:DV42=BW21)*(DY3:DY42=BW22)*(EF3:EF42="D")),"") | BZ22: =IF(BW22<>"",SUMPRODUCT((DV3:DV42=BW22)*(DY3:DY42=BW23)*(EF3:EF42="L"))+SUMPRODUCT((DV3:DV42=BW22)*(DY3:DY42=BW20)*(EF3:EF42="L"))+SUMPRODUCT((DV3:DV42=BW22)*(DY3:DY42=BW21)*(EF3:EF42="L"))+SUMPRODUCT((DV3:DV42=BW23)*(DY3:DY42=BW22)*(EG3:EG42="L"))+SUMPRODUCT((DV3:DV42=BW20)*(DY3:DY42=BW22)*(EG3:EG42="L"))+SUMPRODUCT((DV3:DV42=BW21)*(DY3:DY42=BW22)*(EG3:EG42="L")),"") | CA22: =IF(BW22<>"",VLOOKUP(BW22,B4:F29,5,FALSE),0) -> 0 | CB22: =IF(BW22<>"",VLOOKUP(BW22,B4:G29,6,FALSE),0) -> 0 | CC22: =CA22-CB22+1000 -> 1000 | CD22: =IF(BW22<>"",VLOOKUP(BW22,B4:I29,8,FALSE),0) -> 0 | CE22: =IF(BW22<>"",VLOOKUP(BW22,B4:J29,9,FALSE),0) -> 0 | CF22: =IF(BW22<>"",CD22-CE22+1000,"") | CG22: =IF(BW22<>"",VLOOKUP(BW22,B18:F22,5,FALSE),"") | CH22: =IF(BW22<>"",VLOOKUP(BW22,B18:I22,8,FALSE),"") | CI22: =IF(BW22<>"",VLOOKUP(BW22,B18:P22,15,FALSE),"") | CJ22: =IF(BW22<>"",SUMPRODUCT((DV3:DV42=BW22)*(DY3:DY42=BW23)*EB3:EB42)+SUMPRODUCT((DV3:DV42=BW22)*(DY3:DY42=BW20)*EB3:EB42)+SUMPRODUCT((DV3:DV42=BW22)*(DY3:DY42=BW21)*EB3:EB42)+SUMPRODUCT((DV3:DV42=BW23)*(DY3:DY42=BW22)*EC3:EC42)+SUMPRODUCT((DV3:DV42=BW20)*(DY3:DY42=BW22)*EC3:EC42)+SUMPRODUCT((DV3:DV42=BW21)*(DY3:DY42=BW22)*EC3:EC42),"") | CK22: =IF(BW22<>"",SUMPRODUCT((DV3:DV42=BW22)*(DY3:DY42=BW23)*ED3:ED42)+SUMPRODUCT((DV3:DV42=BW22)*(DY3:DY42=BW20)*ED3:ED42)+SUMPRODUCT((DV3:DV42=BW22)*(DY3:DY42=BW21)*ED3:ED42)+SUMPRODUCT((DV3:DV42=BW23)*(DY3:DY42=BW22)*EE3:EE42)+SUMPRODUCT((DV3:DV42=BW20)*(DY3:DY42=BW22)*EE3:EE42)+SUMPRODUCT((DV3:DV42=BW21)*(DY3:DY42=BW22)*EE3:EE42),"") | CL22: =IF(BW22<>"",BX22*4+BY22*2+CJ22+CK22,"") | CM22: =IF(BW22<>"",RANK(CL22,CL20:CL23),"") | CN22: =SUMPRODUCT((CL20:CL23=CL22)*(CC20:CC23>CC22)) -> 0 | CO22: =SUMPRODUCT((CL20:CL23=CL22)*(CC20:CC23=CC22)*(CF20:CF23>CF22)) -> 0 | CP22: =SUMPRODUCT((CL18:CL22=CL22)*(CC18:CC22=CC22)*(CF18:CF22=CF22)*(CG18:CG22>CG22)) -> 0 | CQ22: =SUMPRODUCT((CL18:CL22=CL22)*(CC18:CC22=CC22)*(CF18:CF22=CF22)*(CG18:CG22=CG22)*(CH18:CH22>CH22)) -> 0 | CR22: =SUMPRODUCT((CL18:CL22=CL22)*(CC18:CC22=CC22)*(CF18:CF22=CF22)*(CG18:CG22=CG22)*(CH18:CH22=CH22)*(CI18:CI22>CI22)) -> 0 | CS22: =IF(BW22<>"",SUM(CM22:CR22)+2,"") | CT22: =IF(BW22<>"",INDEX(BW20:BW22,MATCH(5,CS20:CS22,0),0),"") | CU22: =IF(Y19<>"",Y19,"") | CV22: =SUMPRODUCT((DV3:DV42=CU22)*(DY3:DY42=CU23)*(EF3:EF42="W"))+SUMPRODUCT((DV3:DV42=CU22)*(DY3:DY42=CU24)*(EF3:EF42="W"))+SUMPRODUCT((DV3:DV42=CU22)*(DY3:DY42=CU21)*(EF3:EF42="W"))+SUMPRODUCT((DV3:DV42=CU23)*(DY3:DY42=CU22)*(EG3:EG42="W"))+SUMPRODUCT((DV3:DV42=CU24)*(DY3:DY42=CU22)*(EG3:EG42="W"))+SUMPRODUCT((DV3:DV42=CU21)*(DY3:DY42=CU22)*(EG3:EG42="W")) -> 0 | CW22: =SUMPRODUCT((DV3:DV42=CU22)*(DY3:DY42=CU23)*(EF3:EF42="D"))+SUMPRODUCT((DV3:DV42=CU22)*(DY3:DY42=CU24)*(EF3:EF42="D"))+SUMPRODUCT((DV3:DV42=CU22)*(DY3:DY42=CU21)*(EF3:EF42="D"))+SUMPRODUCT((DV3:DV42=CU23)*(DY3:DY42=CU22)*(EF3:EF42="D"))+SUMPRODUCT((DV3:DV42=CU24)*(DY3:DY42=CU22)*(EF3:EF42="D"))+SUMPRODUCT((DV3:DV42=CU21)*(DY3:DY42=CU22)*(EF3:EF42="D")) -> 0 | CX22: =SUMPRODUCT((DV3:DV42=CU22)*(DY3:DY42=CU23)*(EF3:EF42="L"))+SUMPRODUCT((DV3:DV42=CU22)*(DY3:DY42=CU24)*(EF3:EF42="L"))+SUMPRODUCT((DV3:DV42=CU22)*(DY3:DY42=CU21)*(EF3:EF42="L"))+SUMPRODUCT((DV3:DV42=CU23)*(DY3:DY42=CU22)*(EG3:EG42="L"))+SUMPRODUCT((DV3:DV42=CU24)*(DY3:DY42=CU22)*(EG3:EG42="L"))+SUMPRODUCT((DV3:DV42=CU21)*(DY3:DY42=CU22)*(EG3:EG42="L")) -> 0 | CY22: =IF(CU22<>"",VLOOKUP(CU22,B4:F29,5,FALSE),0) -> 0 | CZ22: =IF(CU22<>"",VLOOKUP(CU22,B4:G29,6,FALSE),0) -> 0 | DA22: =CY22-CZ22+1000 -> 1000 | DB22: =IF(CU22<>"",VLOOKUP(CU22,B4:I29,8,FALSE),0) -> 0 | DC22: =IF(CU22<>"",VLOOKUP(CU22,B4:J29,9,FALSE),0) -> 0 | DD22: =DB22-DC22+1000 -> 1000 | DE22: =IF(CU22<>"",VLOOKUP(CU22,B18:F22,5,FALSE),"") | DF22: =IF(CU22<>"",VLOOKUP(CU22,B18:I22,8,FALSE),"") | DG22: =IF(CU22<>"",VLOOKUP(CU22,B18:P22,15,FALSE),"") | DH22: =SUMPRODUCT((DV3:DV42=CU22)*(DY3:DY42=CU23)*EB3:EB42)+SUMPRODUCT((DV3:DV42=CU22)*(DY3:DY42=CU24)*EB3:EB42)+SUMPRODUCT((DV3:DV42=CU22)*(DY3:DY42=CU21)*EB3:EB42)+SUMPRODUCT((DV3:DV42=CU23)*(DY3:DY42=CU22)*EC3:EC42)+SUMPRODUCT((DV3:DV42=CU24)*(DY3:DY42=CU22)*EC3:EC42)+SUMPRODUCT((DV3:DV42=CU21)*(DY3:DY42=CU22)*EC3:EC42) -> 0 | DI22: =SUMPRODUCT((DV3:DV42=CU22)*(DY3:DY42=CU23)*ED3:ED42)+SUMPRODUCT((DV3:DV42=CU22)*(DY3:DY42=CU24)*ED3:ED42)+SUMPRODUCT((DV3:DV42=CU22)*(DY3:DY42=CU21)*ED3:ED42)+SUMPRODUCT((DV3:DV42=CU23)*(DY3:DY42=CU22)*EE3:EE42)+SUMPRODUCT((DV3:DV42=CU24)*(DY3:DY42=CU22)*EE3:EE42)+SUMPRODUCT((DV3:DV42=CU21)*(DY3:DY42=CU22)*EE3:EE42) -> 0 | DJ22: =CV22*4+CW22*2+DH22+DI22 -> 0 | DK22: =IF(CU22<>"",RANK(DJ22,DJ21:DJ24),"") | DL22: =SUMPRODUCT((DJ21:DJ24=DJ22)*(DA21:DA24>DA22)) -> 0 | DM22: =SUMPRODUCT((DJ21:DJ24=DJ22)*(DA21:DA24=DA22)*(DD21:DD24>DD22)) -> 0 | DN22: =SUMPRODUCT((DJ18:DJ22=DJ22)*(DA18:DA22=DA22)*(DD18:DD22=DD22)*(DE18:DE22>DE22)) -> 0 | DO22: =SUMPRODUCT((DJ18:DJ22=DJ22)*(DA18:DA22=DA22)*(DD18:DD22=DD22)*(DE18:DE22=DE22)*(DF18:DF22>DF22)) -> 0 | DP22: =SUMPRODUCT((DJ18:DJ22=DJ22)*(DA18:DA22=DA22)*(DD18:DD22=DD22)*(DE18:DE22=DE22)*(DF18:DF22=DF22)*(DG18:DG22>DG22)) -> 0 | DQ22: =IF(CU22<>"",SUM(DK22:DP22)+3,"") | DR22: =IF(CU21<>"",IF(CU21=DR21,CU22,CU21),"") | DS22: =IF(DR22<>"",DR22,IF(CT22<>"",CT22,IF(BV22<>"",BV22,IF(AX22<>"",AX22,T22)))) -> Portugal | DT22: 5 | DU22: 20 | DV22: =Tournament!H31 -> Georgia | DW22: =IF(AND(Tournament!J31<>"",Tournament!L31<>""),Tournament!J31,0) -> 0 | DX22: =IF(AND(Tournament!L31<>"",Tournament!J31<>""),Tournament!L31,0) -> 0 | DY22: =Tournament!N31 -> Portugal | DZ22: =IF(Tournament!O31<>"",Tournament!O31,0) -> 0 | EA22: =IF(Tournament!Q31<>"",Tournament!Q31,0) -> 0 | EB22: =IF(DW22<>"",IF(Tournament!O31>3,1,0),0) -> 0 | EC22: =IF(DX22<>"",IF(Tournament!Q31>3,1,0),0) -> 0 | ED22: =IFERROR(IF(AND(DW22<>"",DW22<DX22,DX22-DW22<8),1,0),0) -> 0 | EE22: =IFERROR(IF(AND(DX22<>"",DX22<DW22,DW22-DX22<8),1,0),0) -> 0 | EF22: =IF(AND(Tournament!J31<>"",Tournament!L31<>""),IF(DW22>DX22,"W",IF(DW22=DX22,"D","L")),"") | EG22: =IF(EF22<>"",IF(EF22="W","L",IF(EF22="L","W","D")),"")
DU23: 21 | DV23: =Tournament!H32 -> England | DW23: =IF(AND(Tournament!J32<>"",Tournament!L32<>""),Tournament!J32,0) -> 0 | DX23: =IF(AND(Tournament!L32<>"",Tournament!J32<>""),Tournament!L32,0) -> 0 | DY23: =Tournament!N32 -> Chile | DZ23: =IF(Tournament!O32<>"",Tournament!O32,0) -> 0 | EA23: =IF(Tournament!Q32<>"",Tournament!Q32,0) -> 0 | EB23: =IF(DW23<>"",IF(Tournament!O32>3,1,0),0) -> 0 | EC23: =IF(DX23<>"",IF(Tournament!Q32>3,1,0),0) -> 0 | ED23: =IFERROR(IF(AND(DW23<>"",DW23<DX23,DX23-DW23<8),1,0),0) -> 0 | EE23: =IFERROR(IF(AND(DX23<>"",DX23<DW23,DW23-DX23<8),1,0),0) -> 0 | EF23: =IF(AND(Tournament!J32<>"",Tournament!L32<>""),IF(DW23>DX23,"W",IF(DW23=DX23,"D","L")),"") | EG23: =IF(EF23<>"",IF(EF23="W","L",IF(EF23="L","W","D")),"")
DU24: 22 | DV24: =Tournament!H33 -> South Africa | DW24: =IF(AND(Tournament!J33<>"",Tournament!L33<>""),Tournament!J33,0) -> 0 | DX24: =IF(AND(Tournament!L33<>"",Tournament!J33<>""),Tournament!L33,0) -> 0 | DY24: =Tournament!N33 -> Ireland | DZ24: =IF(Tournament!O33<>"",Tournament!O33,0) -> 0 | EA24: =IF(Tournament!Q33<>"",Tournament!Q33,0) -> 0 | EB24: =IF(DW24<>"",IF(Tournament!O33>3,1,0),0) -> 0 | EC24: =IF(DX24<>"",IF(Tournament!Q33>3,1,0),0) -> 0 | ED24: =IFERROR(IF(AND(DW24<>"",DW24<DX24,DX24-DW24<8),1,0),0) -> 0 | EE24: =IFERROR(IF(AND(DX24<>"",DX24<DW24,DW24-DX24<8),1,0),0) -> 0 | EF24: =IF(AND(Tournament!J33<>"",Tournament!L33<>""),IF(DW24>DX24,"W",IF(DW24=DX24,"D","L")),"") | EG24: =IF(EF24<>"",IF(EF24="W","L",IF(EF24="L","W","D")),"")
A25: =VLOOKUP(B25,DS25:DT29,2,FALSE) -> 1 | B25: Argentina | C25: =COUNTIFS(DV3:DV42,B25,EF3:EF42,"W")+COUNTIFS(DY3:DY42,B25,EG3:EG42,"W") -> 0 | D25: =COUNTIFS(DV3:DV42,B25,EF3:EF42,"D")+COUNTIFS(DY3:DY42,B25,EG3:EG42,"D") -> 0 | E25: =COUNTIFS(DV3:DV42,B25,EF3:EF42,"L")+COUNTIFS(DY3:DY42,B25,EG3:EG42,"L") -> 0 | F25: =SUMIF(DV3:DV60,B25,DW3:DW60)+SUMIF(DY3:DY60,B25,DX3:DX60) -> 0 | G25: =SUMIF(DY3:DY60,B25,DW3:DW60)+SUMIF(DV3:DV60,B25,DX3:DX60) -> 0 | H25: =F25-G25+1000 -> 1000 | I25: =SUMIF(Tournament!H12:H51,B25,Tournament!O12:O51)+SUMIF(Tournament!N12:N51,B25,Tournament!Q12:Q51) -> 0 | J25: =SUMIF(Tournament!N12:N51,B25,Tournament!O12:O51)+SUMIF(Tournament!H12:H51,B25,Tournament!Q12:Q51) -> 0 | K25: =I25-J25+1000 -> 1000 | L25: =C25*4+D25*2 -> 0 | M25: =SUMIF(DV:DV,B25,EB:EB)+SUMIF(DY:DY,B25,EC:EC) -> 0 | N25: =SUMIF(DV:DV,B25,ED:ED)+SUMIF(DY:DY,B25,EE:EE) -> 0 | O25: =N25+M25+L25 -> 0 | P25: 17 | Q25: =RANK(O25,O25:O29) -> 1 | S25: =RANK(O25,O25:O29)+COUNTIF(O25:O25,O25)-1 -> 1 | T25: =INDEX(B25:B29,MATCH(1,S25:S29,0),0) -> Argentina | U25: =INDEX(Q25:Q29,MATCH(T25,B25:B29,0),0) -> 1 | V25: =IF(U26=1,T25,"") -> Argentina | W25: =IF(U27=2,T26,"") | X25: =IF(U28=3,T27,"") | Y25: =IF(U29=4,T28,"") | AA25: =IF(V25<>"",V25,"") -> Argentina | AB25: =SUMPRODUCT((DV3:DV42=AA25)*(DY3:DY42=AA26)*(EF3:EF42="W"))+SUMPRODUCT((DV3:DV42=AA25)*(DY3:DY42=AA27)*(EF3:EF42="W"))+SUMPRODUCT((DV3:DV42=AA25)*(DY3:DY42=AA28)*(EF3:EF42="W"))+SUMPRODUCT((DV3:DV42=AA25)*(DY3:DY42=AA29)*(EF3:EF42="W"))+SUMPRODUCT((DV3:DV42=AA26)*(DY3:DY42=AA25)*(EG3:EG42="W"))+SUMPRODUCT((DV3:DV42=AA27)*(DY3:DY42=AA25)*(EG3:EG42="W"))+SUMPRODUCT((DV3:DV42=AA28)*(DY3:DY42=AA25)*(EG3:EG42="W"))+SUMPRODUCT((DV3:DV42=AA29)*(DY3:DY42=AA25)*(EG3:EG42="W")) -> 0 | AC25: =SUMPRODUCT((DV3:DV42=AA25)*(DY3:DY42=AA26)*(EF3:EF42="D"))+SUMPRODUCT((DV3:DV42=AA25)*(DY3:DY42=AA27)*(EF3:EF42="D"))+SUMPRODUCT((DV3:DV42=AA25)*(DY3:DY42=AA28)*(EF3:EF42="D"))+SUMPRODUCT((DV3:DV42=AA25)*(DY3:DY42=AA29)*(EF3:EF42="D"))+SUMPRODUCT((DV3:DV42=AA26)*(DY3:DY42=AA25)*(EF3:EF42="D"))+SUMPRODUCT((DV3:DV42=AA27)*(DY3:DY42=AA25)*(EF3:EF42="D"))+SUMPRODUCT((DV3:DV42=AA28)*(DY3:DY42=AA25)*(EF3:EF42="D"))+SUMPRODUCT((DV3:DV42=AA29)*(DY3:DY42=AA25)*(EF3:EF42="D")) -> 0 | AD25: =SUMPRODUCT((DV3:DV42=AA25)*(DY3:DY42=AA26)*(EF3:EF42="L"))+SUMPRODUCT((DV3:DV42=AA25)*(DY3:DY42=AA27)*(EF3:EF42="L"))+SUMPRODUCT((DV3:DV42=AA25)*(DY3:DY42=AA28)*(EF3:EF42="L"))+SUMPRODUCT((DV3:DV42=AA25)*(DY3:DY42=AA29)*(EF3:EF42="L"))+SUMPRODUCT((DV3:DV42=AA26)*(DY3:DY42=AA25)*(EG3:EG42="L"))+SUMPRODUCT((DV3:DV42=AA27)*(DY3:DY42=AA25)*(EG3:EG42="L"))+SUMPRODUCT((DV3:DV42=AA28)*(DY3:DY42=AA25)*(EG3:EG42="L"))+SUMPRODUCT((DV3:DV42=AA29)*(DY3:DY42=AA25)*(EG3:EG42="L")) -> 0 | AE25: =IF(AA25<>"",VLOOKUP(AA25,B4:F29,5,FALSE),0) -> 0 | AF25: =IF(AA25<>"",VLOOKUP(AA25,B4:G29,6,FALSE),0) -> 0 | AG25: =AE25-AF25+1000 -> 1000 | AH25: =IF(AA25<>"",VLOOKUP(AA25,B4:I29,8,FALSE),0) -> 0 | AI25: =IF(AA25<>"",VLOOKUP(AA25,B4:J29,9,FALSE),0) -> 0 | AJ25: =AH25-AI25+1000 -> 1000 | AK25: =IF(AA25<>"",VLOOKUP(AA25,B25:F29,5,FALSE),"") -> 0 | AL25: =IF(AA25<>"",VLOOKUP(AA25,B25:I29,8,FALSE),"") -> 0 | AM25: =IF(AA25<>"",VLOOKUP(AA25,B25:P29,15,FALSE),"") -> 17 | AN25: =SUMPRODUCT((DV3:DV42=AA25)*(DY3:DY42=AA26)*EB3:EB42)+SUMPRODUCT((DV3:DV42=AA25)*(DY3:DY42=AA27)*EB3:EB42)+SUMPRODUCT((DV3:DV42=AA25)*(DY3:DY42=AA28)*EB3:EB42)+SUMPRODUCT((DV3:DV42=AA25)*(DY3:DY42=AA29)*EB3:EB42)+SUMPRODUCT((DV3:DV42=AA26)*(DY3:DY42=AA25)*EC3:EC42)+SUMPRODUCT((DV3:DV42=AA27)*(DY3:DY42=AA25)*EC3:EC42)+SUMPRODUCT((DV3:DV42=AA28)*(DY3:DY42=AA25)*EC3:EC42)+SUMPRODUCT((DV3:DV42=AA29)*(DY3:DY42=AA25)*EC3:EC42) -> 0 | AO25: =SUMPRODUCT((DV3:DV42=AA25)*(DY3:DY42=AA26)*ED3:ED42)+SUMPRODUCT((DV3:DV42=AA25)*(DY3:DY42=AA27)*ED3:ED42)+SUMPRODUCT((DV3:DV42=AA25)*(DY3:DY42=AA28)*ED3:ED42)+SUMPRODUCT((DV3:DV42=AA25)*(DY3:DY42=AA29)*ED3:ED42)+SUMPRODUCT((DV3:DV42=AA26)*(DY3:DY42=AA25)*EE3:EE42)+SUMPRODUCT((DV3:DV42=AA27)*(DY3:DY42=AA25)*EE3:EE42)+SUMPRODUCT((DV3:DV42=AA28)*(DY3:DY42=AA25)*EE3:EE42)+SUMPRODUCT((DV3:DV42=AA29)*(DY3:DY42=AA25)*EE3:EE42) -> 0 | AP25: =AB25*4+AC25*2+AN25+AO25 -> 0 | AQ25: =IF(AA25<>"",RANK(AP25,AP25:AP29),"") -> 1 | AR25: =SUMPRODUCT((AP25:AP29=AP25)*(AG25:AG29>AG25)) -> 0 | AS25: =SUMPRODUCT((AP25:AP29=AP25)*(AG25:AG29=AG25)*(AJ25:AJ29>AJ25)) -> 0 | AT25: =SUMPRODUCT((AP25:AP29=AP25)*(AG25:AG29=AG25)*(AJ25:AJ29=AJ25)*(AK25:AK29>AK25)) -> 0 | AU25: =SUMPRODUCT((AP25:AP29=AP25)*(AG25:AG29=AG25)*(AJ25:AJ29=AJ25)*(AK25:AK29=AK25)*(AL25:AL29>AL25)) -> 0 | AV25: =SUMPRODUCT((AP25:AP29=AP25)*(AG25:AG29=AG25)*(AJ25:AJ29=AJ25)*(AK25:AK29=AK25)*(AL25:AL29=AL25)*(AM25:AM29>AM25)) -> 0 | AW25: =IF(AA25<>"",SUM(AQ25:AV25),"") -> 1 | AX25: =IF(AA25<>"",INDEX(AA25:AA29,MATCH(1,AW25:AW29,0),0),"") -> Argentina | DS25: =IF(AX25<>"",AX25,T25) -> Argentina | DT25: 1 | DU25: 23 | DV25: =Tournament!H34 -> Scotland | DW25: =IF(AND(Tournament!J34<>"",Tournament!L34<>""),Tournament!J34,0) -> 0 | DX25: =IF(AND(Tournament!L34<>"",Tournament!J34<>""),Tournament!L34,0) -> 0 | DY25: =Tournament!N34 -> Tonga | DZ25: =IF(Tournament!O34<>"",Tournament!O34,0) -> 0 | EA25: =IF(Tournament!Q34<>"",Tournament!Q34,0) -> 0 | EB25: =IF(DW25<>"",IF(Tournament!O34>3,1,0),0) -> 0 | EC25: =IF(DX25<>"",IF(Tournament!Q34>3,1,0),0) -> 0 | ED25: =IFERROR(IF(AND(DW25<>"",DW25<DX25,DX25-DW25<8),1,0),0) -> 0 | EE25: =IFERROR(IF(AND(DX25<>"",DX25<DW25,DW25-DX25<8),1,0),0) -> 0 | EF25: =IF(AND(Tournament!J34<>"",Tournament!L34<>""),IF(DW25>DX25,"W",IF(DW25=DX25,"D","L")),"") | EG25: =IF(EF25<>"",IF(EF25="W","L",IF(EF25="L","W","D")),"")
