Workbook
Name PoolTeam: Tournament!$AT$8:$AT$27
Name Venues: Tournament!$AU$8:$AU$18

Sheet Tournament
C3: Pool | E3: : | F3: B | J3: Country | M3: : | N3: France | P3: Venue | R3: : | S3: Stade de France, Paris | AC3: PURCHASE THE UNPROTECTED VERSION HERE | AV3: ◄ | AW3: Select Pool #, Country and Venue to highlight particular rows
DD4: r musadya
C6: RUGBY WORLD CUP 2023
C8: GROUP STAGES | AC8: Standings | AT8: Argentina | AU8: Parc OL, Lyon
AT9: Russia | AU9: Stade de Bordeaux, Bordeaux
D10: # | E10: Gr | F10: Date | G10: Time | H10: Team 1 | J10: Score | N10: Team 2 | O10: Tries | R10: Venue | AC10: Pool A | AG10: P | AH10: W | AI10: D | AJ10: L | AK10: PF | AL10: PA | AM10: PD | AN10: TF | AO10: TA | AP10: BP | AQ10: Pts | AT10: Australia | AU10: Stade de France, Paris
AC11: 1 | AD11: =VLOOKUP(1,'Dummy Table'!A4:B8,2,FALSE) -> France | AG11: =SUM(AH11:AJ11) -> 0 | AH11: =VLOOKUP(AD11,'Dummy Table'!B4:C29,2,FALSE) -> 0 | AI11: =VLOOKUP(AD11,'Dummy Table'!B4:D29,3,FALSE) -> 0 | AJ11: =VLOOKUP(AD11,'Dummy Table'!B4:E29,4,FALSE) -> 0 | AK11: =VLOOKUP(AD11,'Dummy Table'!B4:F29,5,FALSE) -> 0 | AL11: =VLOOKUP(AD11,'Dummy Table'!B4:G29,6,FALSE) -> 0 | AM11: =AK11-AL11 -> 0 | AN11: =VLOOKUP(AD11,'Dummy Table'!B4:I29,8,FALSE) -> 0 | AO11: =VLOOKUP(AD11,'Dummy Table'!B4:J29,9,FALSE) -> 0 | AP11: =VLOOKUP(AD11,'Dummy Table'!B4:M29,12,FALSE)+VLOOKUP(AD11,'Dummy Table'!B4:N29,13,FALSE) -> 0 | AQ11: =VLOOKUP(AD11,'Dummy Table'!B4:O29,14,FALSE) -> 0 | AT11: Canada | AU11: Stade de la Beaujoire, Nantes
D12: 1 | E12: A | F12: 45177 | G12: 0.84375 | H12: France | K12: - | N12: New Zealand | R12: Stade de France, Paris | AC12: 2 | AD12: =VLOOKUP(2,'Dummy Table'!A4:B8,2,FALSE) -> New Zealand | AG12: =SUM(AH12:AJ12) -> 0 | AH12: =VLOOKUP(AD12,'Dummy Table'!B4:C29,2,FALSE) -> 0 | AI12: =VLOOKUP(AD12,'Dummy Table'!B4:D29,3,FALSE) -> 0 | AJ12: =VLOOKUP(AD12,'Dummy Table'!B4:E29,4,FALSE) -> 0 | AK12: =VLOOKUP(AD12,'Dummy Table'!B4:F29,5,FALSE) -> 0 | AL12: =VLOOKUP(AD12,'Dummy Table'!B4:G29,6,FALSE) -> 0 | AM12: =AK12-AL12 -> 0 | AN12: =VLOOKUP(AD12,'Dummy Table'!B4:I29,8,FALSE) -> 0 | AO12: =VLOOKUP(AD12,'Dummy Table'!B4:J29,9,FALSE) -> 0 | AP12: =VLOOKUP(AD12,'Dummy Table'!B4:M29,12,FALSE)+VLOOKUP(AD12,'Dummy Table'!B4:N29,13,FALSE) -> 0 | AQ12: =VLOOKUP(AD12,'Dummy Table'!B4:O29,14,FALSE) -> 0 | AT12: England | AU12: Stade de Nice, Nice
D13: 2 | E13: A | F13: 45178 | G13: 0.5 | H13: Italy | K13: - | N13: Namibia | R13: Stade Geoffroy Guichard, Saint-Étienne | AC13: 3 | AD13: =VLOOKUP(3,'Dummy Table'!A4:B8,2,FALSE) -> Italy | AG13: =SUM(AH13:AJ13) -> 0 | AH13: =VLOOKUP(AD13,'Dummy Table'!B4:C29,2,FALSE) -> 0 | AI13: =VLOOKUP(AD13,'Dummy Table'!B4:D29,3,FALSE) -> 0 | AJ13: =VLOOKUP(AD13,'Dummy Table'!B4:E29,4,FALSE) -> 0 | AK13: =VLOOKUP(AD13,'Dummy Table'!B4:F29,5,FALSE) -> 0 | AL13: =VLOOKUP(AD13,'Dummy Table'!B4:G29,6,FALSE) -> 0 | AM13: =AK13-AL13 -> 0 | AN13: =VLOOKUP(AD13,'Dummy Table'!B4:I29,8,FALSE) -> 0 | AO13: =VLOOKUP(AD13,'Dummy Table'!B4:J29,9,FALSE) -> 0 | AP13: =VLOOKUP(AD13,'Dummy Table'!B4:M29,12,FALSE)+VLOOKUP(AD13,'Dummy Table'!B4:N29,13,FALSE) -> 0 | AQ13: =VLOOKUP(AD13,'Dummy Table'!B4:O29,14,FALSE) -> 0 | AT13: Fiji | AU13: Stade Geoffroy Guichard, Saint-Étienne
D14: 3 | E14: B | F14: 45178 | G14: 0.60416667 | H14: Ireland | K14: - | N14: Romania | R14: Stade de Bordeaux, Bordeaux | AC14: 4 | AD14: =VLOOKUP(4,'Dummy Table'!A4:B8,2,FALSE) -> Uruguay | AG14: =SUM(AH14:AJ14) -> 0 | AH14: =VLOOKUP(AD14,'Dummy Table'!B4:C29,2,FALSE) -> 0 | AI14: =VLOOKUP(AD14,'Dummy Table'!B4:D29,3,FALSE) -> 0 | AJ14: =VLOOKUP(AD14,'Dummy Table'!B4:E29,4,FALSE) -> 0 | AK14: =VLOOKUP(AD14,'Dummy Table'!B4:F29,5,FALSE) -> 0 | AL14: =VLOOKUP(AD14,'Dummy Table'!B4:G29,6,FALSE) -> 0 | AM14: =AK14-AL14 -> 0 | AN14: =VLOOKUP(AD14,'Dummy Table'!B4:I29,8,FALSE) -> 0 | AO14: =VLOOKUP(AD14,'Dummy Table'!B4:J29,9,FALSE) -> 0 | AP14: =VLOOKUP(AD14,'Dummy Table'!B4:M29,12,FALSE)+VLOOKUP(AD14,'Dummy Table'!B4:N29,13,FALSE) -> 0 | AQ14: =VLOOKUP(AD14,'Dummy Table'!B4:O29,14,FALSE) -> 0 | AT14: France | AU14: Stade Pierre Mauroy, Lille
D15: 4 | E15: C | F15: 45178 | G15: 0.70833333 | H15: Australia | K15: - | N15: Georgia | R15: Stade de France, Paris | AC15: 5 | AD15: =VLOOKUP(5,'Dummy Table'!A4:B8,2,FALSE) -> Namibia | AG15: =SUM(AH15:AJ15) -> 0 | AH15: =VLOOKUP(AD15,'Dummy Table'!B4:C29,2,FALSE) -> 0 | AI15: =VLOOKUP(AD15,'Dummy Table'!B4:D29,3,FALSE) -> 0 | AJ15: =VLOOKUP(AD15,'Dummy Table'!B4:E29,4,FALSE) -> 0 | AK15: =VLOOKUP(AD15,'Dummy Table'!B4:F29,5,FALSE) -> 0 | AL15: =VLOOKUP(AD15,'Dummy Table'!B4:G29,6,FALSE) -> 0 | AM15: =AK15-AL15 -> 0 | AN15: =VLOOKUP(AD15,'Dummy Table'!B4:I29,8,FALSE) -> 0 | AO15: =VLOOKUP(AD15,'Dummy Table'!B4:J29,9,FALSE) -> 0 | AP15: =VLOOKUP(AD15,'Dummy Table'!B4:M29,12,FALSE)+VLOOKUP(AD15,'Dummy Table'!B4:N29,13,FALSE) -> 0 | AQ15: =VLOOKUP(AD15,'Dummy Table'!B4:O29,14,FALSE) -> 0 | AT15: Georgia | AU15: Stade Vélodrome, Marseille
D16: 5 | E16: D | F16: 45178 | G16: 0.83333333 | H16: England | K16: - | N16: Argentina | R16: Stade Vélodrome, Marseille | AT16: Ireland | AU16: Stadium de Toulouse, Toulouse
D17: 6 | E17: D | F17: 45179 | G17: 0.5 | H17: Japan | K17: - | N17: Chile | R17: Stadium de Toulouse, Toulouse | AC17: Pool B | AG17: P | AH17: W | AI17: D | AJ17: L | AK17: PF | AL17: PA | AM17: PD | AN17: TF | AO17: TA | AP17: BP | AQ17: Pts | AT17: Italy | AU17: Stade de Bordeaux, Bordeaux
D18: 7 | E18: B | F18: 45179 | G18: 0.69791667 | H18: South Africa | K18: - | N18: Scotland | R18: Stade Vélodrome, Marseille | AC18: 1 | AD18: =VLOOKUP(1,'Dummy Table'!A11:B15,2,FALSE) -> Ireland | AG18: =SUM(AH18:AJ18) -> 0 | AH18: =VLOOKUP(AD18,'Dummy Table'!B4:C29,2,FALSE) -> 0 | AI18: =VLOOKUP(AD18,'Dummy Table'!B4:D29,3,FALSE) -> 0 | AJ18: =VLOOKUP(AD18,'Dummy Table'!B4:E29,4,FALSE) -> 0 | AK18: =VLOOKUP(AD18,'Dummy Table'!B4:F29,5,FALSE) -> 0 | AL18: =VLOOKUP(AD18,'Dummy Table'!B4:G29,6,FALSE) -> 0 | AM18: =AK18-AL18 -> 0 | AN18: =VLOOKUP(AD18,'Dummy Table'!B4:I29,8,FALSE) -> 0 | AO18: =VLOOKUP(AD18,'Dummy Table'!B4:J29,9,FALSE) -> 0 | AP18: =VLOOKUP(AD18,'Dummy Table'!B4:M29,12,FALSE)+VLOOKUP(AD18,'Dummy Table'!B4:N29,13,FALSE) -> 0 | AQ18: =VLOOKUP(AD18,'Dummy Table'!B4:O29,14,FALSE) -> 0 | AT18: Japan
D19: 8 | E19: C | F19: 45179 | G19: 0.83333333 | H19: Wales | K19: - | N19: Fiji | R19: Stade de Bordeaux, Bordeaux | AC19: 2 | AD19: =VLOOKUP(2,'Dummy Table'!A11:B15,2,FALSE) -> South Africa | AG19: =SUM(AH19:AJ19) -> 0 | AH19: =VLOOKUP(AD19,'Dummy Table'!B4:C29,2,FALSE) -> 0 | AI19: =VLOOKUP(AD19,'Dummy Table'!B4:D29,3,FALSE) -> 0 | AJ19: =VLOOKUP(AD19,'Dummy Table'!B4:E29,4,FALSE) -> 0 | AK19: =VLOOKUP(AD19,'Dummy Table'!B4:F29,5,FALSE) -> 0 | AL19: =VLOOKUP(AD19,'Dummy Table'!B4:G29,6,FALSE) -> 0 | AM19: =AK19-AL19 -> 0 | AN19: =VLOOKUP(AD19,'Dummy Table'!B4:I29,8,FALSE) -> 0 | AO19: =VLOOKUP(AD19,'Dummy Table'!B4:J29,9,FALSE) -> 0 | AP19: =VLOOKUP(AD19,'Dummy Table'!B4:M29,12,FALSE)+VLOOKUP(AD19,'Dummy Table'!B4:N29,13,FALSE) -> 0 | AQ19: =VLOOKUP(AD19,'Dummy Table'!B4:O29,14,FALSE) -> 0 | AT19: Namibia
D20: 9 | E20: A | F20: 45183 | G20: 0.83333333 | H20: France | K20: - | N20: Uruguay | R20: Stade Pierre Mauroy, Lille | AC20: 3 | AD20: =VLOOKUP(3,'Dummy Table'!A11:B15,2,FALSE) -> Scotland | AG20: =SUM(AH20:AJ20) -> 0 | AH20: =VLOOKUP(AD20,'Dummy Table'!B4:C29,2,FALSE) -> 0 | AI20: =VLOOKUP(AD20,'Dummy Table'!B4:D29,3,FALSE) -> 0 | AJ20: =VLOOKUP(AD20,'Dummy Table'!B4:E29,4,FALSE) -> 0 | AK20: =VLOOKUP(AD20,'Dummy Table'!B4:F29,5,FALSE) -> 0 | AL20: =VLOOKUP(AD20,'Dummy Table'!B4:G29,6,FALSE) -> 0 | AM20: =AK20-AL20 -> 0 | AN20: =VLOOKUP(AD20,'Dummy Table'!B4:I29,8,FALSE) -> 0 | AO20: =VLOOKUP(AD20,'Dummy Table'!B4:J29,9,FALSE) -> 0 | AP20: =VLOOKUP(AD20,'Dummy Table'!B4:M29,12,FALSE)+VLOOKUP(AD20,'Dummy Table'!B4:N29,13,FALSE) -> 0 | AQ20: =VLOOKUP(AD20,'Dummy Table'!B4:O29,14,FALSE) -> 0 | AT20: New Zealand
D21: 10 | E21: A | F21: 45184 | G21: 0.83333333 | H21: New Zealand | K21: - | N21: Namibia | R21: Stadium de Toulouse, Toulouse | AC21: 4 | AD21: =VLOOKUP(4,'Dummy Table'!A11:B15,2,FALSE) -> Tonga | AG21: =SUM(AH21:AJ21) -> 0 | AH21: =VLOOKUP(AD21,'Dummy Table'!B4:C29,2,FALSE) -> 0 | AI21: =VLOOKUP(AD21,'Dummy Table'!B4:D29,3,FALSE) -> 0 | AJ21: =VLOOKUP(AD21,'Dummy Table'!B4:E29,4,FALSE) -> 0 | AK21: =VLOOKUP(AD21,'Dummy Table'!B4:F29,5,FALSE) -> 0 | AL21: =VLOOKUP(AD21,'Dummy Table'!B4:G29,6,FALSE) -> 0 | AM21: =AK21-AL21 -> 0 | AN21: =VLOOKUP(AD21,'Dummy Table'!B4:I29,8,FALSE) -> 0 | AO21: =VLOOKUP(AD21,'Dummy Table'!B4:J29,9,FALSE) -> 0 | AP21: =VLOOKUP(AD21,'Dummy Table'!B4:M29,12,FALSE)+VLOOKUP(AD21,'Dummy Table'!B4:N29,13,FALSE) -> 0 | AQ21: =VLOOKUP(AD21,'Dummy Table'!B4:O29,14,FALSE) -> 0 | AT21: Samoa
D22: 11 | E22: D | F22: 45185 | G22: 0.58333333 | H22: Samoa | K22: - | N22: Chile | R22: Stade de Bordeaux, Bordeaux | AC22: 5 | AD22: =VLOOKUP(5,'Dummy Table'!A11:B15,2,FALSE) -> Romania | AG22: =SUM(AH22:AJ22) -> 0 | AH22: =VLOOKUP(AD22,'Dummy Table'!B4:C29,2,FALSE) -> 0 | AI22: =VLOOKUP(AD22,'Dummy Table'!B4:D29,3,FALSE) -> 0 | AJ22: =VLOOKUP(AD22,'Dummy Table'!B4:E29,4,FALSE) -> 0 | AK22: =VLOOKUP(AD22,'Dummy Table'!B4:F29,5,FALSE) -> 0 | AL22: =VLOOKUP(AD22,'Dummy Table'!B4:G29,6,FALSE) -> 0 | AM22: =AK22-AL22 -> 0 | AN22: =VLOOKUP(AD22,'Dummy Table'!B4:I29,8,FALSE) -> 0 | AO22: =VLOOKUP(AD22,'Dummy Table'!B4:J29,9,FALSE) -> 0 | AP22: =VLOOKUP(AD22,'Dummy Table'!B4:M29,12,FALSE)+VLOOKUP(AD22,'Dummy Table'!B4:N29,13,FALSE) -> 0 | AQ22: =VLOOKUP(AD22,'Dummy Table'!B4:O29,14,FALSE) -> 0 | AT22: Scotland
D23: 12 | E23: C | F23: 45185 | G23: 0.69791667 | H23: Wales | K23: - | N23: Portugal | R23: Stade de Nice, Nice | AT23: South Africa
D24: 13 | E24: B | F24: 45185 | G24: 0.83333333 | H24: Ireland | K24: - | N24: Tonga | R24: Stade de la Beaujoire, Nantes | AC24: Pool C | AG24: P | AH24: W | AI24: D | AJ24: L | AK24: PF | AL24: PA | AM24: PD | AN24: TF | AO24: TA | AP24: BP | AQ24: Pts | AT24: Tonga
D25: 14 | E25: B | F25: 45186 | G25: 0.58333333 | H25: South Africa | K25: - | N25: Romania | R25: Stade de Bordeaux, Bordeaux | AC25: 1 | AD25: =VLOOKUP(1,'Dummy Table'!A18:B22,2,FALSE) -> Fiji | AG25: =SUM(AH25:AJ25) -> 0 | AH25: =VLOOKUP(AD25,'Dummy Table'!B4:C29,2,FALSE) -> 0 | AI25: =VLOOKUP(AD25,'Dummy Table'!B4:D29,3,FALSE) -> 0 | AJ25: =VLOOKUP(AD25,'Dummy Table'!B4:E29,4,FALSE) -> 0 | AK25: =VLOOKUP(AD25,'Dummy Table'!B4:F29,5,FALSE) -> 0 | AL25: =VLOOKUP(AD25,'Dummy Table'!B4:G29,6,FALSE) -> 0 | AM25: =AK25-AL25 -> 0 | AN25: =VLOOKUP(AD25,'Dummy Table'!B4:I29,8,FALSE) -> 0 | AO25: =VLOOKUP(AD25,'Dummy Table'!B4:J29,9,FALSE) -> 0 | AP25: =VLOOKUP(AD25,'Dummy Table'!B4:M29,12,FALSE)+VLOOKUP(AD25,'Dummy Table'!B4:N29,13,FALSE) -> 0 | AQ25: =VLOOKUP(AD25,'Dummy Table'!B4:O29,14,FALSE) -> 0 | AT25: United States
D26: 15 | E26: C | F26: 45186 | G26: 0.69791667 | H26: Australia | K26: - | N26: Fiji | R26: Stade Geoffroy Guichard, Saint-Étienne | AC26: 2 | AD26: =VLOOKUP(2,'Dummy Table'!A18:B22,2,FALSE) -> Australia | AG26: =SUM(AH26:AJ26) -> 0 | AH26: =VLOOKUP(AD26,'Dummy Table'!B4:C29,2,FALSE) -> 0 | AI26: =VLOOKUP(AD26,'Dummy Table'!B4:D29,3,FALSE) -> 0 | AJ26: =VLOOKUP(AD26,'Dummy Table'!B4:E29,4,FALSE) -> 0 | AK26: =VLOOKUP(AD26,'Dummy Table'!B4:F29,5,FALSE) -> 0 | AL26: =VLOOKUP(AD26,'Dummy Table'!B4:G29,6,FALSE) -> 0 | AM26: =AK26-AL26 -> 0 | AN26: =VLOOKUP(AD26,'Dummy Table'!B4:I29,8,FALSE) -> 0 | AO26: =VLOOKUP(AD26,'Dummy Table'!B4:J29,9,FALSE) -> 0 | AP26: =VLOOKUP(AD26,'Dummy Table'!B4:M29,12,FALSE)+VLOOKUP(AD26,'Dummy Table'!B4:N29,13,FALSE) -> 0 | AQ26: =VLOOKUP(AD26,'Dummy Table'!B4:O29,14,FALSE) -> 0 | AT26: Uruguay
D27: 16 | E27: D | F27: 45186 | G27: 0.83333333 | H27: England | K27: - | N27: Japan | R27: Stade de Nice, Nice | AC27: 3 | AD27: =VLOOKUP(3,'Dummy Table'!A18:B22,2,FALSE) -> Wales | AG27: =SUM(AH27:AJ27) -> 0 | AH27: =VLOOKUP(AD27,'Dummy Table'!B4:C29,2,FALSE) -> 0 | AI27: =VLOOKUP(AD27,'Dummy Table'!B4:D29,3,FALSE) -> 0 | AJ27: =VLOOKUP(AD27,'Dummy Table'!B4:E29,4,FALSE) -> 0 | AK27: =VLOOKUP(AD27,'Dummy Table'!B4:F29,5,FALSE) -> 0 | AL27: =VLOOKUP(AD27,'Dummy Table'!B4:G29,6,FALSE) -> 0 | AM27: =AK27-AL27 -> 0 | AN27: =VLOOKUP(AD27,'Dummy Table'!B4:I29,8,FALSE) -> 0 | AO27: =VLOOKUP(AD27,'Dummy Table'!B4:J29,9,FALSE) -> 0 | AP27: =VLOOKUP(AD27,'Dummy Table'!B4:M29,12,FALSE)+VLOOKUP(AD27,'Dummy Table'!B4:N29,13,FALSE) -> 0 | AQ27: =VLOOKUP(AD27,'Dummy Table'!B4:O29,14,FALSE) -> 0 | AT27: Wales
D28: 17 | E28: A | F28: 45189 | G28: 0.69791667 | H28: Italy | K28: - | N28: Uruguay | R28: Stade de Nice, Nice | AC28: 4 | AD28: =VLOOKUP(4,'Dummy Table'!A18:B22,2,FALSE) -> Georgia | AG28: =SUM(AH28:AJ28) -> 0 | AH28: =VLOOKUP(AD28,'Dummy Table'!B4:C29,2,FALSE) -> 0 | AI28: =VLOOKUP(AD28,'Dummy Table'!B4:D29,3,FALSE) -> 0 | AJ28: =VLOOKUP(AD28,'Dummy Table'!B4:E29,4,FALSE) -> 0 | AK28: =VLOOKUP(AD28,'Dummy Table'!B4:F29,5,FALSE) -> 0 | AL28: =VLOOKUP(AD28,'Dummy Table'!B4:G29,6,FALSE) -> 0 | AM28: =AK28-AL28 -> 0 | AN28: =VLOOKUP(AD28,'Dummy Table'!B4:I29,8,FALSE) -> 0 | AO28: =VLOOKUP(AD28,'Dummy Table'!B4:J29,9,FALSE) -> 0 | AP28: =VLOOKUP(AD28,'Dummy Table'!B4:M29,12,FALSE)+VLOOKUP(AD28,'Dummy Table'!B4:N29,13,FALSE) -> 0 | AQ28: =VLOOKUP(AD28,'Dummy Table'!B4:O29,14,FALSE) -> 0
D29: 18 | E29: A | F29: 45190 | G29: 0.83333333 | H29: France | K29: - | N29: Namibia | R29: Stade Vélodrome, Marseille | AC29: 5 | AD29: =VLOOKUP(5,'Dummy Table'!A18:B22,2,FALSE) -> Portugal | AG29: =SUM(AH29:AJ29) -> 0 | AH29: =VLOOKUP(AD29,'Dummy Table'!B4:C29,2,FALSE) -> 0 | AI29: =VLOOKUP(AD29,'Dummy Table'!B4:D29,3,FALSE) -> 0 | AJ29: =VLOOKUP(AD29,'Dummy Table'!B4:E29,4,FALSE) -> 0 | AK29: =VLOOKUP(AD29,'Dummy Table'!B4:F29,5,FALSE) -> 0 | AL29: =VLOOKUP(AD29,'Dummy Table'!B4:G29,6,FALSE) -> 0 | AM29: =AK29-AL29 -> 0 | AN29: =VLOOKUP(AD29,'Dummy Table'!B4:I29,8,FALSE) -> 0 | AO29: =VLOOKUP(AD29,'Dummy Table'!B4:J29,9,FALSE) -> 0 | AP29: =VLOOKUP(AD29,'Dummy Table'!B4:M29,12,FALSE)+VLOOKUP(AD29,'Dummy Table'!B4:N29,13,FALSE) -> 0 | AQ29: =VLOOKUP(AD29,'Dummy Table'!B4:O29,14,FALSE) -> 0
D30: 19 | E30: D | F30: 45191 | G30: 0.69791667 | H30: Argentina | K30: - | N30: Samoa | R30: Stade Geoffroy Guichard, Saint-Étienne
D31: 20 | E31: C | F31: 45192 | G31: 0.54166667 | H31: Georgia | K31: - | N31: Portugal | R31: Stadium de Toulouse, Toulouse | AC31: Pool D | AG31: P | AH31: W | AI31: D | AJ31: L | AK31: PF | AL31: PA | AM31: PD | AN31: TF | AO31: TA | AP31: BP | AQ31: Pts
D32: 21 | E32: D | F32: 45192 | G32: 0.69791667 | H32: England | K32: - | N32: Chile | R32: Stade Pierre Mauroy, Lille | AC32: 1 | AD32: =VLOOKUP(1,'Dummy Table'!A25:B29,2,FALSE) -> Argentina | AG32: =SUM(AH32:AJ32) -> 0 | AH32: =VLOOKUP(AD32,'Dummy Table'!B4:C29,2,FALSE) -> 0 | AI32: =VLOOKUP(AD32,'Dummy Table'!B4:D29,3,FALSE) -> 0 | AJ32: =VLOOKUP(AD32,'Dummy Table'!B4:E29,4,FALSE) -> 0 | AK32: =VLOOKUP(AD32,'Dummy Table'!B4:F29,5,FALSE) -> 0 | AL32: =VLOOKUP(AD32,'Dummy Table'!B4:G29,6,FALSE) -> 0 | AM32: =AK32-AL32 -> 0 | AN32: =VLOOKUP(AD32,'Dummy Table'!B4:I29,8,FALSE) -> 0 | AO32: =VLOOKUP(AD32,'Dummy Table'!B4:J29,9,FALSE) -> 0 | AP32: =VLOOKUP(AD32,'Dummy Table'!B4:M29,12,FALSE)+VLOOKUP(AD32,'Dummy Table'!B4:N29,13,FALSE) -> 0 | AQ32: =VLOOKUP(AD32,'Dummy Table'!B4:O29,14,FALSE) -> 0
D33: 22 | E33: B | F33: 45192 | G33: 0.83333333 | H33: South Africa | K33: - | N33: Ireland | R33: Stade de France, Paris | AC33: 2 | AD33: =VLOOKUP(2,'Dummy Table'!A25:B29,2,FALSE) -> England | AG33: =SUM(AH33:AJ33) -> 0 | AH33: =VLOOKUP(AD33,'Dummy Table'!B4:C29,2,FALSE) -> 0 | AI33: =VLOOKUP(AD33,'Dummy Table'!B4:D29,3,FALSE) -> 0 | AJ33: =VLOOKUP(AD33,'Dummy Table'!B4:E29,4,FALSE) -> 0 | AK33: =VLOOKUP(AD33,'Dummy Table'!B4:F29,5,FALSE) -> 0 | AL33: =VLOOKUP(AD33,'Dummy Table'!B4:G29,6,FALSE) -> 0 | AM33: =AK33-AL33 -> 0 | AN33: =VLOOKUP(AD33,'Dummy Table'!B4:I29,8,FALSE) -> 0 | AO33: =VLOOKUP(AD33,'Dummy Table'!B4:J29,9,FALSE) -> 0 | AP33: =VLOOKUP(AD33,'Dummy Table'!B4:M29,12,FALSE)+VLOOKUP(AD33,'Dummy Table'!B4:N29,13,FALSE) -> 0 | AQ33: =VLOOKUP(AD33,'Dummy Table'!B4:O29,14,FALSE) -> 0
D34: 23 | E34: B | F34: 45193 | G34: 0.69791667 | H34: Scotland | K34: - | N34: Tonga | R34: Stade de Nice, Nice | AC34: 3 | AD34: =VLOOKUP(3,'Dummy Table'!A25:B29,2,FALSE) -> Samoa | AG34: =SUM(AH34:AJ34) -> 0 | AH34: =VLOOKUP(AD34,'Dummy Table'!B4:C29,2,FALSE) -> 0 | AI34: =VLOOKUP(AD34,'Dummy Table'!B4:D29,3,FALSE) -> 0 | AJ34: =VLOOKUP(AD34,'Dummy Table'!B4:E29,4,FALSE) -> 0 | AK34: =VLOOKUP(AD34,'Dummy Table'!B4:F29,5,FALSE) -> 0 | AL34: =VLOOKUP(AD34,'Dummy Table'!B4:G29,6,FALSE) -> 0 | AM34: =AK34-AL34 -> 0 | AN34: =VLOOKUP(AD34,'Dummy Table'!B4:I29,8,FALSE) -> 0 | AO34: =VLOOKUP(AD34,'Dummy Table'!B4:J29,9,FALSE) -> 0 | AP34: =VLOOKUP(AD34,'Dummy Table'!B4:M29,12,FALSE)+VLOOKUP(AD34,'Dummy Table'!B4:N29,13,FALSE) -> 0 | AQ34: =VLOOKUP(AD34,'Dummy Table'!B4:O29,14,FALSE) -> 0
D35: 24 | E35: C | F35: 45193 | G35: 0.83333333 | H35: Wales | K35: - | N35: Australia | R35: Parc OL, Lyon | AC35: 4 | AD35: =VLOOKUP(4,'Dummy Table'!A25:B29,2,FALSE) -> Japan | AG35: =SUM(AH35:AJ35) -> 0 | AH35: =VLOOKUP(AD35,'Dummy Table'!B4:C29,2,FALSE) -> 0 | AI35: =VLOOKUP(AD35,'Dummy Table'!B4:D29,3,FALSE) -> 0 | AJ35: =VLOOKUP(AD35,'Dummy Table'!B4:E29,4,FALSE) -> 0 | AK35: =VLOOKUP(AD35,'Dummy Table'!B4:F29,5,FALSE) -> 0 | AL35: =VLOOKUP(AD35,'Dummy Table'!B4:G29,6,FALSE) -> 0 | AM35: =AK35-AL35 -> 0 | AN35: =VLOOKUP(AD35,'Dummy Table'!B4:I29,8,FALSE) -> 0 | AO35: =VLOOKUP(AD35,'Dummy Table'!B4:J29,9,FALSE) -> 0 | AP35: =VLOOKUP(AD35,'Dummy Table'!B4:M29,12,FALSE)+VLOOKUP(AD35,'Dummy Table'!B4:N29,13,FALSE) -> 0 | AQ35: =VLOOKUP(AD35,'Dummy Table'!B4:O29,14,FALSE) -> 0
D36: 25 | E36: A | F36: 45196 | G36: 0.69791667 | H36: Uruguay | K36: - | N36: Namibia | R36: Parc OL, Lyon | AC36: 5 | AD36: =VLOOKUP(5,'Dummy Table'!A25:B29,2,FALSE) -> Chile | AG36: =SUM(AH36:AJ36) -> 0 | AH36: =VLOOKUP(AD36,'Dummy Table'!B4:C29,2,FALSE) -> 0 | AI36: =VLOOKUP(AD36,'Dummy Table'!B4:D29,3,FALSE) -> 0 | AJ36: =VLOOKUP(AD36,'Dummy Table'!B4:E29,4,FALSE) -> 0 | AK36: =VLOOKUP(AD36,'Dummy Table'!B4:F29,5,FALSE) -> 0 | AL36: =VLOOKUP(AD36,'Dummy Table'!B4:G29,6,FALSE) -> 0 | AM36: =AK36-AL36 -> 0 | AN36: =VLOOKUP(AD36,'Dummy Table'!B4:I29,8,FALSE) -> 0 | AO36: =VLOOKUP(AD36,'Dummy Table'!B4:J29,9,FALSE) -> 0 | AP36: =VLOOKUP(AD36,'Dummy Table'!B4:M29,12,FALSE)+VLOOKUP(AD36,'Dummy Table'!B4:N29,13,FALSE) -> 0 | AQ36: =VLOOKUP(AD36,'Dummy Table'!B4:O29,14,FALSE) -> 0
D37: 26 | E37: D | F37: 45197 | G37: 0.83333333 | H37: Japan | K37: - | N37: Samoa | R37: Stadium de Toulouse, Toulouse | AP37: =IF(SUM('Dummy Table'!BP32:BP35)>0,IF(ISNA(VLOOKUP(3,'Dummy Table'!BP32:BQ35,2,FALSE)),"",VLOOKUP(3,'Dummy Table'!BP32:BQ35,2,FALSE)),"")
D38: 27 | E38: A | F38: 45198 | G38: 0.83333333 | H38: New Zealand | K38: - | N38: Italy | R38: Parc OL, Lyon | AC38: Color Description | AP38: =IF(SUM('Dummy Table'!BP32:BP35)>0,IF(ISNA(VLOOKUP(4,'Dummy Table'!BP32:BQ35,2,FALSE)),"",VLOOKUP(4,'Dummy Table'!BP32:BQ35,2,FALSE)),"")
D39: 28 | E39: D | F39: 45199 | G39: 0.58333333 | H39: Argentina | K39: - | N39: Chile | R39: Stade de la Beaujoire, Nantes | AC39: Pool Winner
D40: 29 | E40: C | F40: 45199 | G40: 0.69791667 | H40: Fiji | K40: - | N40: Georgia | R40: Stade de Bordeaux, Bordeaux | AC40: Qualified for Knock Out Round and 2023 Rugby World Cup
D41: 30 | E41: B | F41: 45199 | G41: 0.83333333 | H41: Scotland | K41: - | N41: Romania | R41: Stade Pierre Mauroy, Lille | AC41: Qualified for 2023 Rugby World Cup
D42: 31 | E42: C | F42: 45200 | G42: 0.69791667 | H42: Australia | K42: - | N42: Portugal | R42: Stade Geoffroy Guichard, Saint-Étienne
D43: 32 | E43: B | F43: 45200 | G43: 0.83333333 | H43: South Africa | K43: - | N43: Tonga | R43: Stade Vélodrome, Marseille | AC43: Abbreviation Description
D44: 33 | E44: A | F44: 45204 | G44: 0.83333333 | H44: New Zealand | K44: - | N44: Uruguay | R44: Parc OL, Lyon | AC44: P : Played - W : Win - D : Draw - L : Loss
...

Sheet Dummy Table
DU3: 1 | DV3: =Tournament!H12 -> France | DW3: =IF(AND(Tournament!J12<>"",Tournament!L12<>""),Tournament!J12,0) -> 0 | DX3: =IF(AND(Tournament!L12<>"",Tournament!J12<>""),Tournament!L12,0) -> 0 | DY3: =Tournament!N12 -> New Zealand | DZ3: =IF(Tournament!O12<>"",Tournament!O12,0) -> 0 | EA3: =IF(Tournament!Q12<>"",Tournament!Q12,0) -> 0 | EB3: =IF(DW3<>"",IF(Tournament!O12>3,1,0),0) -> 0 | EC3: =IF(DX3<>"",IF(Tournament!Q12>3,1,0),0) -> 0 | ED3: =IFERROR(IF(AND(DW3<>"",DW3<DX3,DX3-DW3<8),1,0),0) -> 0 | EE3: =IFERROR(IF(AND(DX3<>"",DX3<DW3,DW3-DX3<8),1,0),0) -> 0 | EF3: =IF(AND(Tournament!J12<>"",Tournament!L12<>""),IF(DW3>DX3,"W",IF(DW3=DX3,"D","L")),"") | EG3: =IF(EF3<>"",IF(EF3="W","L",IF(EF3="L","W","D")),"")
A4: =VLOOKUP(B4,DS4:DT8,2,FALSE) -> 1 | B4: France | C4: =COUNTIFS(DV3:DV42,B4,EF3:EF42,"W")+COUNTIFS(DY3:DY42,B4,EG3:EG42,"W") -> 0 | D4: =COUNTIFS(DV3:DV42,B4,EF3:EF42,"D")+COUNTIFS(DY3:DY42,B4,EG3:EG42,"D") -> 0 | E4: =COUNTIFS(DV3:DV42,B4,EF3:EF42,"L")+COUNTIFS(DY3:DY42,B4,EG3:EG42,"L") -> 0 | F4: =SUMIF(DV3:DV60,B4,DW3:DW60)+SUMIF(DY3:DY60,B4,DX3:DX60) -> 0 | G4: =SUMIF(DY3:DY60,B4,DW3:DW60)+SUMIF(DV3:DV60,B4,DX3:DX60) -> 0 | H4: =F4-G4+1000 -> 1000 | I4: =SUMIF(Tournament!H12:H51,B4,Tournament!O12:O51)+SUMIF(Tournament!N12:N51,B4,Tournament!Q12:Q51) -> 0 | J4: =SUMIF(Tournament!N12:N51,B4,Tournament!O12:O51)+SUMIF(Tournament!H12:H51,B4,Tournament!Q12:Q51) -> 0 | K4: =I4-J4+1000 -> 1000 | L4: =C4*4+D4*2 -> 0 | M4: =SUMIF(DV:DV,B4,EB:EB)+SUMIF(DY:DY,B4,EC:EC) -> 0 | N4: =SUMIF(DV:DV,B4,ED:ED)+SUMIF(DY:DY,B4,EE:EE) -> 0 | O4: =N4+M4+L4 -> 0 | P4: 20 | Q4: =RANK(O4,O4:O8) -> 1 | S4: =RANK(O4,O4:O8)+COUNTIF(O4:O4,O4)-1 -> 1 | T4: =INDEX(B4:B8,MATCH(1,S4:S8,0),0) -> France | U4: =INDEX(Q4:Q8,MATCH(T4,B4:B8,0),0) -> 1 | V4: =IF(U5=1,T4,"") -> France | W4: =IF(U6=2,T5,"") | X4: =IF(U7=3,T6,"") | Y4: =IF(U8=4,T7,"") | AA4: =IF(V4<>"",V4,"") -> France | AB4: =SUMPRODUCT((DV3:DV42=AA4)*(DY3:DY42=AA5)*(EF3:EF42="W"))+SUMPRODUCT((DV3:DV42=AA4)*(DY3:DY42=AA6)*(EF3:EF42="W"))+SUMPRODUCT((DV3:DV42=AA4)*(DY3:DY42=AA7)*(EF3:EF42="W"))+SUMPRODUCT((DV3:DV42=AA4)*(DY3:DY42=AA8)*(EF3:EF42="W"))+SUMPRODUCT((DV3:DV42=AA5)*(DY3:DY42=AA4)*(EG3:EG42="W"))+SUMPRODUCT((DV3:DV42=AA6)*(DY3:DY42=AA4)*(EG3:EG42="W"))+SUMPRODUCT((DV3:DV42=AA7)*(DY3:DY42=AA4)*(EG3:EG42="W"))+SUMPRODUCT((DV3:DV42=AA8)*(DY3:DY42=AA4)*(EG3:EG42="W")) -> 0 | AC4: =SUMPRODUCT((DV3:DV42=AA4)*(DY3:DY42=AA5)*(EF3:EF42="D"))+SUMPRODUCT((DV3:DV42=AA4)*(DY3:DY42=AA6)*(EF3:EF42="D"))+SUMPRODUCT((DV3:DV42=AA4)*(DY3:DY42=AA7)*(EF3:EF42="D"))+SUMPRODUCT((DV3:DV42=AA4)*(DY3:DY42=AA8)*(EF3:EF42="D"))+SUMPRODUCT((DV3:DV42=AA5)*(DY3:DY42=AA4)*(EF3:EF42="D"))+SUMPRODUCT((DV3:DV42=AA6)*(DY3:DY42=AA4)*(EF3:EF42="D"))+SUMPRODUCT((DV3:DV42=AA7)*(DY3:DY42=AA4)*(EF3:EF42="D"))+SUMPRODUCT((DV3:DV42=AA8)*(DY3:DY42=AA4)*(EF3:EF42="D")) -> 0 | AD4: =SUMPRODUCT((DV3:DV42=AA4)*(DY3:DY42=AA5)*(EF3:EF42="L"))+SUMPRODUCT((DV3:DV42=AA4)*(DY3:DY42=AA6)*(EF3:EF42="L"))+SUMPRODUCT((DV3:DV42=AA4)*(DY3:DY42=AA7)*(EF3:EF42="L"))+SUMPRODUCT((DV3:DV42=AA4)*(DY3:DY42=AA8)*(EF3:EF42="L"))+SUMPRODUCT((DV3:DV42=AA5)*(DY3:DY42=AA4)*(EG3:EG42="L"))+SUMPRODUCT((DV3:DV42=AA6)*(DY3:DY42=AA4)*(EG3:EG42="L"))+SUMPRODUCT((DV3:DV42=AA7)*(DY3:DY42=AA4)*(EG3:EG42="L"))+SUMPRODUCT((DV3:DV42=AA8)*(DY3:DY42=AA4)*(EG3:EG42="L")) -> 0 | AE4: =IF(AA4<>"",VLOOKUP(AA4,B4:F29,5,FALSE),0) -> 0 | AF4: =IF(AA4<>"",VLOOKUP(AA4,B4:G29,6,FALSE),0) -> 0 | AG4: =AE4-AF4+1000 -> 1000 | AH4: =IF(AA4<>"",VLOOKUP(AA4,B4:I29,8,FALSE),0) -> 0 | AI4: =IF(AA4<>"",VLOOKUP(AA4,B4:J29,9,FALSE),0) -> 0 | AJ4: =AH4-AI4+1000 -> 1000 | AK4: =IF(AA4<>"",VLOOKUP(AA4,B4:F8,5,FALSE),"") -> 0 | AL4: =IF(AA4<>"",VLOOKUP(AA4,B4:I8,8,FALSE),"") -> 0 | AM4: =IF(AA4<>"",VLOOKUP(AA4,B4:P8,15,FALSE),"") -> 20 | AN4: =SUMPRODUCT((DV3:DV42=AA4)*(DY3:DY42=AA5)*EB3:EB42)+SUMPRODUCT((DV3:DV42=AA4)*(DY3:DY42=AA6)*EB3:EB42)+SUMPRODUCT((DV3:DV42=AA4)*(DY3:DY42=AA7)*EB3:EB42)+SUMPRODUCT((DV3:DV42=AA4)*(DY3:DY42=AA8)*EB3:EB42)+SUMPRODUCT((DV3:DV42=AA5)*(DY3:DY42=AA4)*EC3:EC42)+SUMPRODUCT((DV3:DV42=AA6)*(DY3:DY42=AA4)*EC3:EC42)+SUMPRODUCT((DV3:DV42=AA7)*(DY3:DY42=AA4)*EC3:EC42)+SUMPRODUCT((DV3:DV42=AA8)*(DY3:DY42=AA4)*EC3:EC42) -> 0 | AO4: =SUMPRODUCT((DV3:DV42=AA4)*(DY3:DY42=AA5)*ED3:ED42)+SUMPRODUCT((DV3:DV42=AA4)*(DY3:DY42=AA6)*ED3:ED42)+SUMPRODUCT((DV3:DV42=AA4)*(DY3:DY42=AA7)*ED3:ED42)+SUMPRODUCT((DV3:DV42=AA4)*(DY3:DY42=AA8)*ED3:ED42)+SUMPRODUCT((DV3:DV42=AA5)*(DY3:DY42=AA4)*EE3:EE42)+SUMPRODUCT((DV3:DV42=AA6)*(DY3:DY42=AA4)*EE3:EE42)+SUMPRODUCT((DV3:DV42=AA7)*(DY3:DY42=AA4)*EE3:EE42)+SUMPRODUCT((DV3:DV42=AA8)*(DY3:DY42=AA4)*EE3:EE42) -> 0 | AP4: =AB4*4+AC4*2+AN4+AO4 -> 0 | AQ4: =IF(AA4<>"",RANK(AP4,AP4:AP8),"") -> 1 | AR4: =SUMPRODUCT((AP4:AP8=AP4)*(AG4:AG8>AG4)) -> 0 | AS4: =SUMPRODUCT((AP4:AP8=AP4)*(AG4:AG8=AG4)*(AJ4:AJ8>AJ4)) -> 0 | AT4: =SUMPRODUCT((AP4:AP8=AP4)*(AG4:AG8=AG4)*(AJ4:AJ8=AJ4)*(AK4:AK8>AK4)) -> 0 | AU4: =SUMPRODUCT((AP4:AP8=AP4)*(AG4:AG8=AG4)*(AJ4:AJ8=AJ4)*(AK4:AK8=AK4)*(AL4:AL8>AL4)) -> 0 | AV4: =SUMPRODUCT((AP4:AP8=AP4)*(AG4:AG8=AG4)*(AJ4:AJ8=AJ4)*(AK4:AK8=AK4)*(AL4:AL8=AL4)*(AM4:AM8>AM4)) -> 0 | AW4: =IF(AA4<>"",SUM(AQ4:AV4),"") -> 1 | AX4: =IF(AA4<>"",INDEX(AA4:AA8,MATCH(1,AW4:AW8,0),0),"") -> France | DS4: =IF(AX4<>"",AX4,T4) -> France | DT4: 1 | DU4: 2 | DV4: =Tournament!H13 -> Italy | DW4: =IF(AND(Tournament!J13<>"",Tournament!L13<>""),Tournament!J13,0) -> 0 | DX4: =IF(AND(Tournament!L13<>"",Tournament!J13<>""),Tournament!L13,0) -> 0 | DY4: =Tournament!N13 -> Namibia | DZ4: =IF(Tournament!O13<>"",Tournament!O13,0) -> 0 | EA4: =IF(Tournament!Q13<>"",Tournament!Q13,0) -> 0 | EB4: =IF(DW4<>"",IF(Tournament!O13>3,1,0),0) -> 0 | EC4: =IF(DX4<>"",IF(Tournament!Q13>3,1,0),0) -> 0 | ED4: =IFERROR(IF(AND(DW4<>"",DW4<DX4,DX4-DW4<8),1,0),0) -> 0 | EE4: =IFERROR(IF(AND(DX4<>"",DX4<DW4,DW4-DX4<8),1,0),0) -> 0 | EF4: =IF(AND(Tournament!J13<>"",Tournament!L13<>""),IF(DW4>DX4,"W",IF(DW4=DX4,"D","L")),"") | EG4: =IF(EF4<>"",IF(EF4="W","L",IF(EF4="L","W","D")),"")
A5: =VLOOKUP(B5,DS4:DT8,2,FALSE) -> 3 | B5: Italy | C5: =COUNTIFS(DV3:DV42,B5,EF3:EF42,"W")+COUNTIFS(DY3:DY42,B5,EG3:EG42,"W") -> 0 | D5: =COUNTIFS(DV3:DV42,B5,EF3:EF42,"D")+COUNTIFS(DY3:DY42,B5,EG3:EG42,"D") -> 0 | E5: =COUNTIFS(DV3:DV42,B5,EF3:EF42,"L")+COUNTIFS(DY3:DY42,B5,EG3:EG42,"L") -> 0 | F5: =SUMIF(DV3:DV60,B5,DW3:DW60)+SUMIF(DY3:DY60,B5,DX3:DX60) -> 0 | G5: =SUMIF(DY3:DY60,B5,DW3:DW60)+SUMIF(DV3:DV60,B5,DX3:DX60) -> 0 | H5: =F5-G5+1000 -> 1000 | I5: =SUMIF(Tournament!H12:H51,B5,Tournament!O12:O51)+SUMIF(Tournament!N12:N51,B5,Tournament!Q12:Q51) -> 0 | J5: =SUMIF(Tournament!N12:N51,B5,Tournament!O12:O51)+SUMIF(Tournament!H12:H51,B5,Tournament!Q12:Q51) -> 0 | K5: =I5-J5+1000 -> 1000 | L5: =C5*4+D5*2 -> 0 | M5: =SUMIF(DV:DV,B5,EB:EB)+SUMIF(DY:DY,B5,EC:EC) -> 0 | N5: =SUMIF(DV:DV,B5,ED:ED)+SUMIF(DY:DY,B5,EE:EE) -> 0 | O5: =N5+M5+L5 -> 0 | P5: 10 | Q5: =RANK(O5,O4:O8) -> 1 | S5: =RANK(O5,O4:O8)+COUNTIF(O4:O5,O5)-1 -> 2 | T5: =INDEX(B4:B8,MATCH(2,S4:S8,0),0) -> Italy | U5: =INDEX(Q4:Q8,MATCH(T5,B4:B8,0),0) -> 1 | V5: =IF(V4<>"",T5,"") -> Italy | W5: =IF(W4<>"",T6,"") | X5: =IF(X4<>"",T7,"") | Y5: =IF(Y4<>"",T8,"") | AA5: =IF(V5<>"",V5,"") -> Italy | AB5: =SUMPRODUCT((DV3:DV42=AA5)*(DY3:DY42=AA6)*(EF3:EF42="W"))+SUMPRODUCT((DV3:DV42=AA5)*(DY3:DY42=AA7)*(EF3:EF42="W"))+SUMPRODUCT((DV3:DV42=AA5)*(DY3:DY42=AA8)*(EF3:EF42="W"))+SUMPRODUCT((DV3:DV42=AA5)*(DY3:DY42=AA4)*(EF3:EF42="W"))+SUMPRODUCT((DV3:DV42=AA6)*(DY3:DY42=AA5)*(EG3:EG42="W"))+SUMPRODUCT((DV3:DV42=AA7)*(DY3:DY42=AA5)*(EG3:EG42="W"))+SUMPRODUCT((DV3:DV42=AA8)*(DY3:DY42=AA5)*(EG3:EG42="W"))+SUMPRODUCT((DV3:DV42=AA4)*(DY3:DY42=AA5)*(EG3:EG42="W")) -> 0 | AC5: =SUMPRODUCT((DV3:DV42=AA5)*(DY3:DY42=AA6)*(EF3:EF42="D"))+SUMPRODUCT((DV3:DV42=AA5)*(DY3:DY42=AA7)*(EF3:EF42="D"))+SUMPRODUCT((DV3:DV42=AA5)*(DY3:DY42=AA8)*(EF3:EF42="D"))+SUMPRODUCT((DV3:DV42=AA5)*(DY3:DY42=AA4)*(EF3:EF42="D"))+SUMPRODUCT((DV3:DV42=AA6)*(DY3:DY42=AA5)*(EF3:EF42="D"))+SUMPRODUCT((DV3:DV42=AA7)*(DY3:DY42=AA5)*(EF3:EF42="D"))+SUMPRODUCT((DV3:DV42=AA8)*(DY3:DY42=AA5)*(EF3:EF42="D"))+SUMPRODUCT((DV3:DV42=AA4)*(DY3:DY42=AA5)*(EF3:EF42="D")) -> 0 | AD5: =SUMPRODUCT((DV3:DV42=AA5)*(DY3:DY42=AA6)*(EF3:EF42="L"))+SUMPRODUCT((DV3:DV42=AA5)*(DY3:DY42=AA7)*(EF3:EF42="L"))+SUMPRODUCT((DV3:DV42=AA5)*(DY3:DY42=AA8)*(EF3:EF42="L"))+SUMPRODUCT((DV3:DV42=AA5)*(DY3:DY42=AA4)*(EF3:EF42="L"))+SUMPRODUCT((DV3:DV42=AA6)*(DY3:DY42=AA5)*(EG3:EG42="L"))+SUMPRODUCT((DV3:DV42=AA7)*(DY3:DY42=AA5)*(EG3:EG42="L"))+SUMPRODUCT((DV3:DV42=AA8)*(DY3:DY42=AA5)*(EG3:EG42="L"))+SUMPRODUCT((DV3:DV42=AA4)*(DY3:DY42=AA5)*(EG3:EG42="L")) -> 0 | AE5: =IF(AA5<>"",VLOOKUP(AA5,B4:F29,5,FALSE),0) -> 0 | AF5: =IF(AA5<>"",VLOOKUP(AA5,B4:G29,6,FALSE),0) -> 0 | AG5: =AE5-AF5+1000 -> 1000 | AH5: =IF(AA5<>"",VLOOKUP(AA5,B4:I29,8,FALSE),0) -> 0 | AI5: =IF(AA5<>"",VLOOKUP(AA5,B4:J29,9,FALSE),0) -> 0 | AJ5: =AH5-AI5+1000 -> 1000 | AK5: =IF(AA5<>"",VLOOKUP(AA5,B4:F8,5,FALSE),"") -> 0 | AL5: =IF(AA5<>"",VLOOKUP(AA5,B4:I8,8,FALSE),"") -> 0 | AM5: =IF(AA5<>"",VLOOKUP(AA5,B4:P8,15,FALSE),"") -> 10 | AN5: =SUMPRODUCT((DV3:DV42=AA5)*(DY3:DY42=AA6)*EB3:EB42)+SUMPRODUCT((DV3:DV42=AA5)*(DY3:DY42=AA7)*EB3:EB42)+SUMPRODUCT((DV3:DV42=AA5)*(DY3:DY42=AA8)*EB3:EB42)+SUMPRODUCT((DV3:DV42=AA5)*(DY3:DY42=AA4)*EB3:EB42)+SUMPRODUCT((DV3:DV42=AA6)*(DY3:DY42=AA5)*EC3:EC42)+SUMPRODUCT((DV3:DV42=AA7)*(DY3:DY42=AA5)*EC3:EC42)+SUMPRODUCT((DV3:DV42=AA8)*(DY3:DY42=AA5)*EC3:EC42)+SUMPRODUCT((DV3:DV42=AA4)*(DY3:DY42=AA5)*EC3:EC42) -> 0 | AO5: =SUMPRODUCT((DV3:DV42=AA5)*(DY3:DY42=AA6)*ED3:ED42)+SUMPRODUCT((DV3:DV42=AA5)*(DY3:DY42=AA7)*ED3:ED42)+SUMPRODUCT((DV3:DV42=AA5)*(DY3:DY42=AA8)*ED3:ED42)+SUMPRODUCT((DV3:DV42=AA5)*(DY3:DY42=AA4)*ED3:ED42)+SUMPRODUCT((DV3:DV42=AA6)*(DY3:DY42=AA5)*EE3:EE42)+SUMPRODUCT((DV3:DV42=AA7)*(DY3:DY42=AA5)*EE3:EE42)+SUMPRODUCT((DV3:DV42=AA8)*(DY3:DY42=AA5)*EE3:EE42)+SUMPRODUCT((DV3:DV42=AA4)*(DY3:DY42=AA5)*EE3:EE42) -> 0 | AP5: =AB5*4+AC5*2+AN5+AO5 -> 0 | AQ5: =IF(AA5<>"",RANK(AP5,AP4:AP8),"") -> 1 | AR5: =SUMPRODUCT((AP4:AP8=AP5)*(AG4:AG8>AG5)) -> 0 | AS5: =SUMPRODUCT((AP4:AP8=AP5)*(AG4:AG8=AG5)*(AJ4:AJ8>AJ5)) -> 0 | AT5: =SUMPRODUCT((AP4:AP8=AP5)*(AG4:AG8=AG5)*(AJ4:AJ8=AJ5)*(AK4:AK8>AK5)) -> 0 | AU5: =SUMPRODUCT((AP4:AP8=AP5)*(AG4:AG8=AG5)*(AJ4:AJ8=AJ5)*(AK4:AK8=AK5)*(AL4:AL8>AL5)) -> 0 | AV5: =SUMPRODUCT((AP4:AP8=AP5)*(AG4:AG8=AG5)*(AJ4:AJ8=AJ5)*(AK4:AK8=AK5)*(AL4:AL8=AL5)*(AM4:AM8>AM5)) -> 2 | AW5: =IF(AA5<>"",SUM(AQ5:AV5),"") -> 3 | AX5: =IF(AA5<>"",INDEX(AA4:AA8,MATCH(2,AW4:AW8,0),0),"") -> New Zealand | AY5: =IF(W4<>"",W4,"") | AZ5: =SUMPRODUCT((DV3:DV42=AY5)*(DY3:DY42=AY6)*(EF3:EF42="W"))+SUMPRODUCT((DV3:DV42=AY5)*(DY3:DY42=AY7)*(EF3:EF42="W"))+SUMPRODUCT((DV3:DV42=AY5)*(DY3:DY42=AY8)*(EF3:EF42="W"))+SUMPRODUCT((DV3:DV42=AY6)*(DY3:DY42=AY5)*(EG3:EG42="W"))+SUMPRODUCT((DV3:DV42=AY7)*(DY3:DY42=AY5)*(EG3:EG42="W"))+SUMPRODUCT((DV3:DV42=AY8)*(DY3:DY42=AY5)*(EG3:EG42="W")) -> 0 | BA5: =SUMPRODUCT((DV3:DV42=AY5)*(DY3:DY42=AY6)*(EF3:EF42="D"))+SUMPRODUCT((DV3:DV42=AY5)*(DY3:DY42=AY7)*(EF3:EF42="D"))+SUMPRODUCT((DV3:DV42=AY5)*(DY3:DY42=AY8)*(EF3:EF42="D"))+SUMPRODUCT((DV3:DV42=AY6)*(DY3:DY42=AY5)*(EF3:EF42="D"))+SUMPRODUCT((DV3:DV42=AY7)*(DY3:DY42=AY5)*(EF3:EF42="D"))+SUMPRODUCT((DV3:DV42=AY8)*(DY3:DY42=AY5)*(EF3:EF42="D")) -> 0 | BB5: =SUMPRODUCT((DV3:DV42=AY5)*(DY3:DY42=AY6)*(EF3:EF42="L"))+SUMPRODUCT((DV3:DV42=AY5)*(DY3:DY42=AY7)*(EF3:EF42="L"))+SUMPRODUCT((DV3:DV42=AY5)*(DY3:DY42=AY8)*(EF3:EF42="L"))+SUMPRODUCT((DV3:DV42=AY6)*(DY3:DY42=AY5)*(EG3:EG42="L"))+SUMPRODUCT((DV3:DV42=AY7)*(DY3:DY42=AY5)*(EG3:EG42="L"))+SUMPRODUCT((DV3:DV42=AY8)*(DY3:DY42=AY5)*(EG3:EG42="L")) -> 0 | BC5: =IF(AY5<>"",VLOOKUP(AY5,B4:F29,5,FALSE),0) -> 0 | BD5: =IF(AY5<>"",VLOOKUP(AY5,B4:G29,6,FALSE),0) -> 0 | BE5: =BC5-BD5+1000 -> 1000 | BF5: =IF(AY5<>"",VLOOKUP(AY5,B4:I29,8,FALSE),0) -> 0 | BG5: =IF(AY5<>"",VLOOKUP(AY5,B4:J29,9,FALSE),0) -> 0 | BH5: =BF5-BG5+1000 -> 1000 | BI5: =IF(AY5<>"",VLOOKUP(AY5,B4:F8,5,FALSE),"") | BJ5: =IF(AY5<>"",VLOOKUP(AY5,B4:I8,8,FALSE),"") | BK5: =IF(AY5<>"",VLOOKUP(AY5,B4:P8,15,FALSE),"") | BL5: =SUMPRODUCT((DV3:DV42=AY5)*(DY3:DY42=AY6)*EB3:EB42)+SUMPRODUCT((DV3:DV42=AY5)*(DY3:DY42=AY7)*EB3:EB42)+SUMPRODUCT((DV3:DV42=AY5)*(DY3:DY42=AY8)*EB3:EB42)+SUMPRODUCT((DV3:DV42=AY6)*(DY3:DY42=AY5)*EC3:EC42)+SUMPRODUCT((DV3:DV42=AY7)*(DY3:DY42=AY5)*EC3:EC42)+SUMPRODUCT((DV3:DV42=AY8)*(DY3:DY42=AY5)*EC3:EC42) -> 0 | BM5: =SUMPRODUCT((DV3:DV42=AY5)*(DY3:DY42=AY6)*ED3:ED42)+SUMPRODUCT((DV3:DV42=AY5)*(DY3:DY42=AY7)*ED3:ED42)+SUMPRODUCT((DV3:DV42=AY5)*(DY3:DY42=AY8)*ED3:ED42)+SUMPRODUCT((DV3:DV42=AY6)*(DY3:DY42=AY5)*EE3:EE42)+SUMPRODUCT((DV3:DV42=AY7)*(DY3:DY42=AY5)*EE3:EE42)+SUMPRODUCT((DV3:DV42=AY8)*(DY3:DY42=AY5)*EE3:EE42) -> 0 | BN5: =AZ5*4+BA5*2+BL5+BM5 -> 0 | BO5: =IF(AY5<>"",RANK(BN5,BN5:BN8),"") | BP5: =SUMPRODUCT((BN5:BN8=BN5)*(BE5:BE8>BE5)) -> 0 | BQ5: =SUMPRODUCT((BN5:BN8=BN5)*(BE5:BE8=BE5)*(BH5:BH8>BH5)) -> 0 | BR5: =SUMPRODUCT((BN4:BN8=BN5)*(BE4:BE8=BE5)*(BH4:BH8=BH5)*(BI4:BI8>BI5)) -> 0 | BS5: =SUMPRODUCT((BN4:BN8=BN5)*(BE4:BE8=BE5)*(BH4:BH8=BH5)*(BI4:BI8=BI5)*(BJ4:BJ8>BJ5)) -> 0 | BT5: =SUMPRODUCT((BN4:BN8=BN5)*(BE4:BE8=BE5)*(BH4:BH8=BH5)*(BI4:BI8=BI5)*(BJ4:BJ8=BJ5)*(BK4:BK8>BK5)) -> 0 | BU5: =IF(AY5<>"",SUM(BO5:BT5)+1,"") | BV5: =IF(AY5<>"",INDEX(AY5:AY8,MATCH(2,BU5:BU8,0),0),"") | DS5: =IF(BV5<>"",BV5,IF(AX5<>"",AX5,T5)) -> New Zealand | DT5: 2 | DU5: 3 | DV5: =Tournament!H14 -> Ireland | DW5: =IF(AND(Tournament!J14<>"",Tournament!L14<>""),Tournament!J14,0) -> 0 | DX5: =IF(AND(Tournament!L14<>"",Tournament!J14<>""),Tournament!L14,0) -> 0 | DY5: =Tournament!N14 -> Romania | DZ5: =IF(Tournament!O14<>"",Tournament!O14,0) -> 0 | EA5: =IF(Tournament!Q14<>"",Tournament!Q14,0) -> 0 | EB5: =IF(DW5<>"",IF(Tournament!O14>3,1,0),0) -> 0 | EC5: =IF(DX5<>"",IF(Tournament!Q14>3,1,0),0) -> 0 | ED5: =IFERROR(IF(AND(DW5<>"",DW5<DX5,DX5-DW5<8),1,0),0) -> 0 | EE5: =IFERROR(IF(AND(DX5<>"",DX5<DW5,DW5-DX5<8),1,0),0) -> 0 | EF5: =IF(AND(Tournament!J14<>"",Tournament!L14<>""),IF(DW5>DX5,"W",IF(DW5=DX5,"D","L")),"") | EG5: =IF(EF5<>"",IF(EF5="W","L",IF(EF5="L","W","D")),"")
A6: =VLOOKUP(B6,DS4:DT8,2,FALSE) -> 5 | B6: Namibia | C6: =COUNTIFS(DV3:DV42,B6,EF3:EF42,"W")+COUNTIFS(DY3:DY42,B6,EG3:EG42,"W") -> 0 | D6: =COUNTIFS(DV3:DV42,B6,EF3:EF42,"D")+COUNTIFS(DY3:DY42,B6,EG3:EG42,"D") -> 0 | E6: =COUNTIFS(DV3:DV42,B6,EF3:EF42,"L")+COUNTIFS(DY3:DY42,B6,EG3:EG42,"L") -> 0 | F6: =SUMIF(DV3:DV60,B6,DW3:DW60)+SUMIF(DY3:DY60,B6,DX3:DX60) -> 0 | G6: =SUMIF(DY3:DY60,B6,DW3:DW60)+SUMIF(DV3:DV60,B6,DX3:DX60) -> 0 | H6: =F6-G6+1000 -> 1000 | I6: =SUMIF(Tournament!H12:H51,B6,Tournament!O12:O51)+SUMIF(Tournament!N12:N51,B6,Tournament!Q12:Q51) -> 0 | J6: =SUMIF(Tournament!N12:N51,B6,Tournament!O12:O51)+SUMIF(Tournament!H12:H51,B6,Tournament!Q12:Q51) -> 0 | K6: =I6-J6+1000 -> 1000 | L6: =C6*4+D6*2 -> 0 | M6: =SUMIF(DV:DV,B6,EB:EB)+SUMIF(DY:DY,B6,EC:EC) -> 0 | N6: =SUMIF(DV:DV,B6,ED:ED)+SUMIF(DY:DY,B6,EE:EE) -> 0 | O6: =N6+M6+L6 -> 0 | P6: 2 | Q6: =RANK(O6,O4:O8) -> 1 | S6: =RANK(O6,O4:O8)+COUNTIF(O4:O6,O6)-1 -> 3 | T6: =INDEX(B4:B8,MATCH(3,S4:S8,0),0) -> Namibia | U6: =INDEX(Q4:Q8,MATCH(T6,B4:B8,0),0) -> 1 | V6: =IF(AND(V5<>"",U6=1),T6,"") -> Namibia | W6: =IF(AND(W5<>"",U7=2),T7,"") | X6: =IF(AND(X5<>"",U8=3),T8,"") | AA6: =IF(V6<>"",V6,"") -> Namibia | AB6: =SUMPRODUCT((DV3:DV42=AA6)*(DY3:DY42=AA7)*(EF3:EF42="W"))+SUMPRODUCT((DV3:DV42=AA6)*(DY3:DY42=AA8)*(EF3:EF42="W"))+SUMPRODUCT((DV3:DV42=AA6)*(DY3:DY42=AA4)*(EF3:EF42="W"))+SUMPRODUCT((DV3:DV42=AA6)*(DY3:DY42=AA5)*(EF3:EF42="W"))+SUMPRODUCT((DV3:DV42=AA7)*(DY3:DY42=AA6)*(EG3:EG42="W"))+SUMPRODUCT((DV3:DV42=AA8)*(DY3:DY42=AA6)*(EG3:EG42="W"))+SUMPRODUCT((DV3:DV42=AA4)*(DY3:DY42=AA6)*(EG3:EG42="W"))+SUMPRODUCT((DV3:DV42=AA5)*(DY3:DY42=AA6)*(EG3:EG42="W")) -> 0 | AC6: =SUMPRODUCT((DV3:DV42=AA6)*(DY3:DY42=AA7)*(EF3:EF42="D"))+SUMPRODUCT((DV3:DV42=AA6)*(DY3:DY42=AA8)*(EF3:EF42="D"))+SUMPRODUCT((DV3:DV42=AA6)*(DY3:DY42=AA4)*(EF3:EF42="D"))+SUMPRODUCT((DV3:DV42=AA6)*(DY3:DY42=AA5)*(EF3:EF42="D"))+SUMPRODUCT((DV3:DV42=AA7)*(DY3:DY42=AA6)*(EF3:EF42="D"))+SUMPRODUCT((DV3:DV42=AA8)*(DY3:DY42=AA6)*(EF3:EF42="D"))+SUMPRODUCT((DV3:DV42=AA4)*(DY3:DY42=AA6)*(EF3:EF42="D"))+SUMPRODUCT((DV3:DV42=AA5)*(DY3:DY42=AA6)*(EF3:EF42="D")) -> 0 | AD6: =SUMPRODUCT((DV3:DV42=AA6)*(DY3:DY42=AA7)*(EF3:EF42="L"))+SUMPRODUCT((DV3:DV42=AA6)*(DY3:DY42=AA8)*(EF3:EF42="L"))+SUMPRODUCT((DV3:DV42=AA6)*(DY3:DY42=AA4)*(EF3:EF42="L"))+SUMPRODUCT((DV3:DV42=AA6)*(DY3:DY42=AA5)*(EF3:EF42="L"))+SUMPRODUCT((DV3:DV42=AA7)*(DY3:DY42=AA6)*(EG3:EG42="L"))+SUMPRODUCT((DV3:DV42=AA8)*(DY3:DY42=AA6)*(EG3:EG42="L"))+SUMPRODUCT((DV3:DV42=AA4)*(DY3:DY42=AA6)*(EG3:EG42="L"))+SUMPRODUCT((DV3:DV42=AA5)*(DY3:DY42=AA6)*(EG3:EG42="L")) -> 0 | AE6: =IF(AA6<>"",VLOOKUP(AA6,B4:F29,5,FALSE),0) -> 0 | AF6: =IF(AA6<>"",VLOOKUP(AA6,B4:G29,6,FALSE),0) -> 0 | AG6: =AE6-AF6+1000 -> 1000 | AH6: =IF(AA6<>"",VLOOKUP(AA6,B4:I29,8,FALSE),0) -> 0 | AI6: =IF(AA6<>"",VLOOKUP(AA6,B4:J29,9,FALSE),0) -> 0 | AJ6: =AH6-AI6+1000 -> 1000 | AK6: =IF(AA6<>"",VLOOKUP(AA6,B4:F8,5,FALSE),"") -> 0 | AL6: =IF(AA6<>"",VLOOKUP(AA6,B4:I8,8,FALSE),"") -> 0 | AM6: =IF(AA6<>"",VLOOKUP(AA6,B4:P8,15,FALSE),"") -> 2 | AN6: =SUMPRODUCT((DV3:DV42=AA6)*(DY3:DY42=AA7)*EB3:EB42)+SUMPRODUCT((DV3:DV42=AA6)*(DY3:DY42=AA8)*EB3:EB42)+SUMPRODUCT((DV3:DV42=AA6)*(DY3:DY42=AA4)*EB3:EB42)+SUMPRODUCT((DV3:DV42=AA6)*(DY3:DY42=AA5)*EB3:EB42)+SUMPRODUCT((DV3:DV42=AA7)*(DY3:DY42=AA6)*EC3:EC42)+SUMPRODUCT((DV3:DV42=AA8)*(DY3:DY42=AA6)*EC3:EC42)+SUMPRODUCT((DV3:DV42=AA4)*(DY3:DY42=AA6)*EC3:EC42)+SUMPRODUCT((DV3:DV42=AA5)*(DY3:DY42=AA6)*EC3:EC42) -> 0 | AO6: =SUMPRODUCT((DV3:DV42=AA6)*(DY3:DY42=AA7)*ED3:ED42)+SUMPRODUCT((DV3:DV42=AA6)*(DY3:DY42=AA8)*ED3:ED42)+SUMPRODUCT((DV3:DV42=AA6)*(DY3:DY42=AA4)*ED3:ED42)+SUMPRODUCT((DV3:DV42=AA6)*(DY3:DY42=AA5)*ED3:ED42)+SUMPRODUCT((DV3:DV42=AA7)*(DY3:DY42=AA6)*EE3:EE42)+SUMPRODUCT((DV3:DV42=AA8)*(DY3:DY42=AA6)*EE3:EE42)+SUMPRODUCT((DV3:DV42=AA4)*(DY3:DY42=AA6)*EE3:EE42)+SUMPRODUCT((DV3:DV42=AA5)*(DY3:DY42=AA6)*EE3:EE42) -> 0 | AP6: =AB6*4+AC6*2+AN6+AO6 -> 0 | AQ6: =IF(AA6<>"",RANK(AP6,AP4:AP8),"") -> 1 | AR6: =SUMPRODUCT((AP4:AP8=AP6)*(AG4:AG8>AG6)) -> 0 | AS6: =SUMPRODUCT((AP4:AP8=AP6)*(AG4:AG8=AG6)*(AJ4:AJ8>AJ6)) -> 0 | AT6: =SUMPRODUCT((AP4:AP8=AP6)*(AG4:AG8=AG6)*(AJ4:AJ8=AJ6)*(AK4:AK8>AK6)) -> 0 | AU6: =SUMPRODUCT((AP4:AP8=AP6)*(AG4:AG8=AG6)*(AJ4:AJ8=AJ6)*(AK4:AK8=AK6)*(AL4:AL8>AL6)) -> 0 | AV6: =SUMPRODUCT((AP4:AP8=AP6)*(AG4:AG8=AG6)*(AJ4:AJ8=AJ6)*(AK4:AK8=AK6)*(AL4:AL8=AL6)*(AM4:AM8>AM6)) -> 4 | AW6: =IF(AA6<>"",SUM(AQ6:AV6),"") -> 5 | AX6: =IF(AA6<>"",INDEX(AA4:AA8,MATCH(3,AW4:AW8,0),0),"") -> Italy | AY6: =IF(W5<>"",W5,"") | AZ6: =SUMPRODUCT((DV3:DV42=AY6)*(DY3:DY42=AY7)*(EF3:EF42="W"))+SUMPRODUCT((DV3:DV42=AY6)*(DY3:DY42=AY8)*(EF3:EF42="W"))+SUMPRODUCT((DV3:DV42=AY6)*(DY3:DY42=AY5)*(EF3:EF42="W"))+SUMPRODUCT((DV3:DV42=AY7)*(DY3:DY42=AY6)*(EG3:EG42="W"))+SUMPRODUCT((DV3:DV42=AY8)*(DY3:DY42=AY6)*(EG3:EG42="W"))+SUMPRODUCT((DV3:DV42=AY5)*(DY3:DY42=AY6)*(EG3:EG42="W")) -> 0 | BA6: =SUMPRODUCT((DV3:DV42=AY6)*(DY3:DY42=AY7)*(EF3:EF42="D"))+SUMPRODUCT((DV3:DV42=AY6)*(DY3:DY42=AY8)*(EF3:EF42="D"))+SUMPRODUCT((DV3:DV42=AY6)*(DY3:DY42=AY5)*(EF3:EF42="D"))+SUMPRODUCT((DV3:DV42=AY7)*(DY3:DY42=AY6)*(EF3:EF42="D"))+SUMPRODUCT((DV3:DV42=AY8)*(DY3:DY42=AY6)*(EF3:EF42="D"))+SUMPRODUCT((DV3:DV42=AY5)*(DY3:DY42=AY6)*(EF3:EF42="D")) -> 0 | BB6: =SUMPRODUCT((DV3:DV42=AY6)*(DY3:DY42=AY7)*(EF3:EF42="L"))+SUMPRODUCT((DV3:DV42=AY6)*(DY3:DY42=AY8)*(EF3:EF42="L"))+SUMPRODUCT((DV3:DV42=AY6)*(DY3:DY42=AY5)*(EF3:EF42="L"))+SUMPRODUCT((DV3:DV42=AY7)*(DY3:DY42=AY6)*(EG3:EG42="L"))+SUMPRODUCT((DV3:DV42=AY8)*(DY3:DY42=AY6)*(EG3:EG42="L"))+SUMPRODUCT((DV3:DV42=AY5)*(DY3:DY42=AY6)*(EG3:EG42="L")) -> 0 | BC6: =IF(AY6<>"",VLOOKUP(AY6,B4:F29,5,FALSE),0) -> 0 | BD6: =IF(AY6<>"",VLOOKUP(AY6,B4:G29,6,FALSE),0) -> 0 | BE6: =BC6-BD6+1000 -> 1000 | BF6: =IF(AY6<>"",VLOOKUP(AY6,B4:I29,8,FALSE),0) -> 0 | BG6: =IF(AY6<>"",VLOOKUP(AY6,B4:J29,9,FALSE),0) -> 0 | BH6: =BF6-BG6+1000 -> 1000 | BI6: =IF(AY6<>"",VLOOKUP(AY6,B4:F8,5,FALSE),"") | BJ6: =IF(AY6<>"",VLOOKUP(AY6,B4:I8,8,FALSE),"") | BK6: =IF(AY6<>"",VLOOKUP(AY6,B4:P8,15,FALSE),"") | BL6: =SUMPRODUCT((DV3:DV42=AY6)*(DY3:DY42=AY7)*EB3:EB42)+SUMPRODUCT((DV3:DV42=AY6)*(DY3:DY42=AY8)*EB3:EB42)+SUMPRODUCT((DV3:DV42=AY6)*(DY3:DY42=AY5)*EB3:EB42)+SUMPRODUCT((DV3:DV42=AY7)*(DY3:DY42=AY6)*EC3:EC42)+SUMPRODUCT((DV3:DV42=AY8)*(DY3:DY42=AY6)*EC3:EC42)+SUMPRODUCT((DV3:DV42=AY5)*(DY3:DY42=AY6)*EC3:EC42) -> 0 | BM6: =SUMPRODUCT((DV3:DV42=AY6)*(DY3:DY42=AY7)*ED3:ED42)+SUMPRODUCT((DV3:DV42=AY6)*(DY3:DY42=AY8)*ED3:ED42)+SUMPRODUCT((DV3:DV42=AY6)*(DY3:DY42=AY5)*ED3:ED42)+SUMPRODUCT((DV3:DV42=AY7)*(DY3:DY42=AY6)*EE3:EE42)+SUMPRODUCT((DV3:DV42=AY8)*(DY3:DY42=AY6)*EE3:EE42)+SUMPRODUCT((DV3:DV42=AY5)*(DY3:DY42=AY6)*EE3:EE42) -> 0 | BN6: =AZ6*4+BA6*2+BL6+BM6 -> 0 | BO6: =IF(AY6<>"",RANK(BN6,BN5:BN8),"") | BP6: =SUMPRODUCT((BN5:BN8=BN6)*(BE5:BE8>BE6)) -> 0 | BQ6: =SUMPRODUCT((BN5:BN8=BN6)*(BE5:BE8=BE6)*(BH5:BH8>BH6)) -> 0 | BR6: =SUMPRODUCT((BN4:BN8=BN6)*(BE4:BE8=BE6)*(BH4:BH8=BH6)*(BI4:BI8>BI6)) -> 0 | BS6: =SUMPRODUCT((BN4:BN8=BN6)*(BE4:BE8=BE6)*(BH4:BH8=BH6)*(BI4:BI8=BI6)*(BJ4:BJ8>BJ6)) -> 0 | BT6: =SUMPRODUCT((BN4:BN8=BN6)*(BE4:BE8=BE6)*(BH4:BH8=BH6)*(BI4:BI8=BI6)*(BJ4:BJ8=BJ6)*(BK4:BK8>BK6)) -> 0 | BU6: =IF(AY6<>"",SUM(BO6:BT6)+1,"") | BV6: =IF(AY6<>"",INDEX(AY5:AY8,MATCH(3,BU5:BU8,0),0),"") | BW6: =IF(X4<>"",X4,"") | BX6: =SUMPRODUCT((DV3:DV42=BW6)*(DY3:DY42=BW7)*(EF3:EF42="W"))+SUMPRODUCT((DV3:DV42=BW6)*(DY3:DY42=BW8)*(EF3:EF42="W"))+SUMPRODUCT((DV3:DV42=BW6)*(DY3:DY42=BW9)*(EF3:EF42="W"))+SUMPRODUCT((DV3:DV42=BW7)*(DY3:DY42=BW6)*(EG3:EG42="W"))+SUMPRODUCT((DV3:DV42=BW8)*(DY3:DY42=BW6)*(EG3:EG42="W"))+SUMPRODUCT((DV3:DV42=BW9)*(DY3:DY42=BW6)*(EG3:EG42="W")) -> 0 | BY6: =SUMPRODUCT((DV3:DV42=BW6)*(DY3:DY42=BW7)*(EF3:EF42="D"))+SUMPRODUCT((DV3:DV42=BW6)*(DY3:DY42=BW8)*(EF3:EF42="D"))+SUMPRODUCT((DV3:DV42=BW6)*(DY3:DY42=BW9)*(EF3:EF42="D"))+SUMPRODUCT((DV3:DV42=BW7)*(DY3:DY42=BW6)*(EF3:EF42="D"))+SUMPRODUCT((DV3:DV42=BW8)*(DY3:DY42=BW6)*(EF3:EF42="D"))+SUMPRODUCT((DV3:DV42=BW9)*(DY3:DY42=BW6)*(EF3:EF42="D")) -> 0 | BZ6: =SUMPRODUCT((DV3:DV42=BW6)*(DY3:DY42=BW7)*(EF3:EF42="L"))+SUMPRODUCT((DV3:DV42=BW6)*(DY3:DY42=BW8)*(EF3:EF42="L"))+SUMPRODUCT((DV3:DV42=BW6)*(DY3:DY42=BW9)*(EF3:EF42="L"))+SUMPRODUCT((DV3:DV42=BW7)*(DY3:DY42=BW6)*(EG3:EG42="L"))+SUMPRODUCT((DV3:DV42=BW8)*(DY3:DY42=BW6)*(EG3:EG42="L"))+SUMPRODUCT((DV3:DV42=BW9)*(DY3:DY42=BW6)*(EG3:EG42="L")) -> 0 | CA6: =IF(BW6<>"",VLOOKUP(BW6,B4:F29,5,FALSE),0) -> 0 | CB6: =IF(BW6<>"",VLOOKUP(BW6,B4:G29,6,FALSE),0) -> 0 | CC6: =CA6-CB6+1000 -> 1000 | CD6: =IF(BW6<>"",VLOOKUP(BW6,B4:I29,8,FALSE),0) -> 0 | CE6: =IF(BW6<>"",VLOOKUP(BW6,B4:J29,9,FALSE),0) -> 0 | CF6: =CD6-CE6+1000 -> 1000 | CG6: =IF(BW6<>"",VLOOKUP(BW6,B4:F8,5,FALSE),"") | CH6: =IF(BW6<>"",VLOOKUP(BW6,B4:I8,8,FALSE),"") | CI6: =IF(BW6<>"",VLOOKUP(BW6,B4:P8,15,FALSE),"") | CJ6: =SUMPRODUCT((DV3:DV42=BW6)*(DY3:DY42=BW7)*EB3:EB42)+SUMPRODUCT((DV3:DV42=BW6)*(DY3:DY42=BW8)*EB3:EB42)+SUMPRODUCT((DV3:DV42=BW6)*(DY3:DY42=BW9)*EB3:EB42)+SUMPRODUCT((DV3:DV42=BW7)*(DY3:DY42=BW6)*EC3:EC42)+SUMPRODUCT((DV3:DV42=BW8)*(DY3:DY42=BW6)*EC3:EC42)+SUMPRODUCT((DV3:DV42=BW9)*(DY3:DY42=BW6)*EC3:EC42) -> 0 | CK6: =SUMPRODUCT((DV3:DV42=BW6)*(DY3:DY42=BW7)*ED3:ED42)+SUMPRODUCT((DV3:DV42=BW6)*(DY3:DY42=BW8)*ED3:ED42)+SUMPRODUCT((DV3:DV42=BW6)*(DY3:DY42=BW9)*ED3:ED42)+SUMPRODUCT((DV3:DV42=BW7)*(DY3:DY42=BW6)*EE3:EE42)+SUMPRODUCT((DV3:DV42=BW8)*(DY3:DY42=BW6)*EE3:EE42)+SUMPRODUCT((DV3:DV42=BW9)*(DY3:DY42=BW6)*EE3:EE42) -> 0 | CL6: =BX6*4+BY6*2+CJ6+CK6 -> 0 | CM6: =IF(BW6<>"",RANK(CL6,CL6:CL9),"") | CN6: =SUMPRODUCT((CL6:CL9=CL6)*(CC6:CC9>CC6)) -> 0 | CO6: =SUMPRODUCT((CL6:CL9=CL6)*(CC6:CC9=CC6)*(CF6:CF9>CF6)) -> 0 | CP6: =SUMPRODUCT((CL4:CL8=CL6)*(CC4:CC8=CC6)*(CF4:CF8=CF6)*(CG4:CG8>CG6)) -> 0 | CQ6: =SUMPRODUCT((CL4:CL8=CL6)*(CC4:CC8=CC6)*(CF4:CF8=CF6)*(CG4:CG8=CG6)*(CH4:CH8>CH6)) -> 0 | CR6: =SUMPRODUCT((CL4:CL8=CL6)*(CC4:CC8=CC6)*(CF4:CF8=CF6)*(CG4:CG8=CG6)*(CH4:CH8=CH6)*(CI4:CI8>CI6)) -> 0 | CS6: =IF(BW6<>"",SUM(CM6:CR6)+2,"") | CT6: =IF(BW6<>"",INDEX(BW6:BW8,MATCH(3,CS6:CS8,0),0),"") | DS6: =IF(CT6<>"",CT6,IF(BV6<>"",BV6,IF(AX6<>"",AX6,T6))) -> Italy | DT6: 3 | DU6: 4 | DV6: =Tournament!H15 -> Australia | DW6: =IF(AND(Tournament!J15<>"",Tournament!L15<>""),Tournament!J15,0) -> 0 | DX6: =IF(AND(Tournament!L15<>"",Tournament!J15<>""),Tournament!L15,0) -> 0 | DY6: =Tournament!N15 -> Georgia | DZ6: =IF(Tournament!O15<>"",Tournament!O15,0) -> 0 | EA6: =IF(Tournament!Q15<>"",Tournament!Q15,0) -> 0 | EB6: =IF(DW6<>"",IF(Tournament!O15>3,1,0),0) -> 0 | EC6: =IF(DX6<>"",IF(Tournament!Q15>3,1,0),0) -> 0 | ED6: =IFERROR(IF(AND(DW6<>"",DW6<DX6,DX6-DW6<8),1,0),0) -> 0 | EE6: =IFERROR(IF(AND(DX6<>"",DX6<DW6,DW6-DX6<8),1,0),0) -> 0 | EF6: =IF(AND(Tournament!J15<>"",Tournament!L15<>""),IF(DW6>DX6,"W",IF(DW6=DX6,"D","L")),"") | EG6: =IF(EF6<>"",IF(EF6="W","L",IF(EF6="L","W","D")),"")
A7: =VLOOKUP(B7,DS4:DT8,2,FALSE) -> 2 | B7: New Zealand | C7: =COUNTIFS(DV3:DV42,B7,EF3:EF42,"W")+COUNTIFS(DY3:DY42,B7,EG3:EG42,"W") -> 0 | D7: =COUNTIFS(DV3:DV42,B7,EF3:EF42,"D")+COUNTIFS(DY3:DY42,B7,EG3:EG42,"D") -> 0 | E7: =COUNTIFS(DV3:DV42,B7,EF3:EF42,"L")+COUNTIFS(DY3:DY42,B7,EG3:EG42,"L") -> 0 | F7: =SUMIF(DV3:DV60,B7,DW3:DW60)+SUMIF(DY3:DY60,B7,DX3:DX60) -> 0 | G7: =SUMIF(DY3:DY60,B7,DW3:DW60)+SUMIF(DV3:DV60,B7,DX3:DX60) -> 0 | H7: =F7-G7+1000 -> 1000 | I7: =SUMIF(Tournament!H12:H51,B7,Tournament!O12:O51)+SUMIF(Tournament!N12:N51,B7,Tournament!Q12:Q51) -> 0 | J7: =SUMIF(Tournament!N12:N51,B7,Tournament!O12:O51)+SUMIF(Tournament!H12:H51,B7,Tournament!Q12:Q51) -> 0 | K7: =I7-J7+1000 -> 1000 | L7: =C7*4+D7*2 -> 0 | M7: =SUMIF(DV:DV,B7,EB:EB)+SUMIF(DY:DY,B7,EC:EC) -> 0 | N7: =SUMIF(DV:DV,B7,ED:ED)+SUMIF(DY:DY,B7,EE:EE) -> 0 | O7: =N7+M7+L7 -> 0 | P7: 19 | Q7: =RANK(O7,O4:O8) -> 1 | S7: =RANK(O7,O4:O8)+COUNTIF(O4:O7,O7)-1 -> 4 | T7: =INDEX(B4:B8,MATCH(4,S4:S8,0),0) -> New Zealand | U7: =INDEX(Q4:Q8,MATCH(T7,B4:B8,0),0) -> 1 | V7: =IF(AND(V6<>"",U7=1),T7,"") -> New Zealand | W7: =IF(AND(W6<>"",U8=2),T8,"") | AA7: =IF(V7<>"",V7,"") -> New Zealand | AB7: =SUMPRODUCT((DV3:DV42=AA7)*(DY3:DY42=AA8)*(EF3:EF42="W"))+SUMPRODUCT((DV3:DV42=AA7)*(DY3:DY42=AA4)*(EF3:EF42="W"))+SUMPRODUCT((DV3:DV42=AA7)*(DY3:DY42=AA5)*(EF3:EF42="W"))+SUMPRODUCT((DV3:DV42=AA7)*(DY3:DY42=AA6)*(EF3:EF42="W"))+SUMPRODUCT((DV3:DV42=AA8)*(DY3:DY42=AA7)*(EG3:EG42="W"))+SUMPRODUCT((DV3:DV42=AA4)*(DY3:DY42=AA7)*(EG3:EG42="W"))+SUMPRODUCT((DV3:DV42=AA5)*(DY3:DY42=AA7)*(EG3:EG42="W"))+SUMPRODUCT((DV3:DV42=AA6)*(DY3:DY42=AA7)*(EG3:EG42="W")) -> 0 | AC7: =SUMPRODUCT((DV3:DV42=AA7)*(DY3:DY42=AA8)*(EF3:EF42="D"))+SUMPRODUCT((DV3:DV42=AA7)*(DY3:DY42=AA4)*(EF3:EF42="D"))+SUMPRODUCT((DV3:DV42=AA7)*(DY3:DY42=AA5)*(EF3:EF42="D"))+SUMPRODUCT((DV3:DV42=AA7)*(DY3:DY42=AA6)*(EF3:EF42="D"))+SUMPRODUCT((DV3:DV42=AA8)*(DY3:DY42=AA7)*(EF3:EF42="D"))+SUMPRODUCT((DV3:DV42=AA4)*(DY3:DY42=AA7)*(EF3:EF42="D"))+SUMPRODUCT((DV3:DV42=AA5)*(DY3:DY42=AA7)*(EF3:EF42="D"))+SUMPRODUCT((DV3:DV42=AA6)*(DY3:DY42=AA7)*(EF3:EF42="D")) -> 0 | AD7: =SUMPRODUCT((DV3:DV42=AA7)*(DY3:DY42=AA8)*(EF3:EF42="L"))+SUMPRODUCT((DV3:DV42=AA7)*(DY3:DY42=AA4)*(EF3:EF42="L"))+SUMPRODUCT((DV3:DV42=AA7)*(DY3:DY42=AA5)*(EF3:EF42="L"))+SUMPRODUCT((DV3:DV42=AA7)*(DY3:DY42=AA6)*(EF3:EF42="L"))+SUMPRODUCT((DV3:DV42=AA8)*(DY3:DY42=AA7)*(EG3:EG42="L"))+SUMPRODUCT((DV3:DV42=AA4)*(DY3:DY42=AA7)*(EG3:EG42="L"))+SUMPRODUCT((DV3:DV42=AA5)*(DY3:DY42=AA7)*(EG3:EG42="L"))+SUMPRODUCT((DV3:DV42=AA6)*(DY3:DY42=AA7)*(EG3:EG42="L")) -> 0 | AE7: =IF(AA7<>"",VLOOKUP(AA7,B4:F29,5,FALSE),0) -> 0 | AF7: =IF(AA7<>"",VLOOKUP(AA7,B4:G29,6,FALSE),0) -> 0 | AG7: =AE7-AF7+1000 -> 1000 | AH7: =IF(AA7<>"",VLOOKUP(AA7,B4:I29,8,FALSE),0) -> 0 | AI7: =IF(AA7<>"",VLOOKUP(AA7,B4:J29,9,FALSE),0) -> 0 | AJ7: =AH7-AI7+1000 -> 1000 | AK7: =IF(AA7<>"",VLOOKUP(AA7,B4:F8,5,FALSE),"") -> 0 | AL7: =IF(AA7<>"",VLOOKUP(AA7,B4:I8,8,FALSE),"") -> 0 | AM7: =IF(AA7<>"",VLOOKUP(AA7,B4:P8,15,FALSE),"") -> 19 | AN7: =SUMPRODUCT((DV3:DV42=AA7)*(DY3:DY42=AA8)*EB3:EB42)+SUMPRODUCT((DV3:DV42=AA7)*(DY3:DY42=AA4)*EB3:EB42)+SUMPRODUCT((DV3:DV42=AA7)*(DY3:DY42=AA5)*EB3:EB42)+SUMPRODUCT((DV3:DV42=AA7)*(DY3:DY42=AA6)*EB3:EB42)+SUMPRODUCT((DV3:DV42=AA8)*(DY3:DY42=AA7)*EC3:EC42)+SUMPRODUCT((DV3:DV42=AA4)*(DY3:DY42=AA7)*EC3:EC42)+SUMPRODUCT((DV3:DV42=AA5)*(DY3:DY42=AA7)*EC3:EC42)+SUMPRODUCT((DV3:DV42=AA6)*(DY3:DY42=AA7)*EC3:EC42) -> 0 | AO7: =SUMPRODUCT((DV3:DV42=AA7)*(DY3:DY42=AA8)*ED3:ED42)+SUMPRODUCT((DV3:DV42=AA7)*(DY3:DY42=AA4)*ED3:ED42)+SUMPRODUCT((DV3:DV42=AA7)*(DY3:DY42=AA5)*ED3:ED42)+SUMPRODUCT((DV3:DV42=AA7)*(DY3:DY42=AA6)*ED3:ED42)+SUMPRODUCT((DV3:DV42=AA8)*(DY3:DY42=AA7)*EE3:EE42)+SUMPRODUCT((DV3:DV42=AA4)*(DY3:DY42=AA7)*EE3:EE42)+SUMPRODUCT((DV3:DV42=AA5)*(DY3:DY42=AA7)*EE3:EE42)+SUMPRODUCT((DV3:DV42=AA6)*(DY3:DY42=AA7)*EE3:EE42) -> 0 | AP7: =AB7*4+AC7*2+AN7+AO7 -> 0 | AQ7: =IF(AA7<>"",RANK(AP7,AP4:AP8),"") -> 1 | AR7: =SUMPRODUCT((AP4:AP8=AP7)*(AG4:AG8>AG7)) -> 0 | AS7: =SUMPRODUCT((AP4:AP8=AP7)*(AG4:AG8=AG7)*(AJ4:AJ8>AJ7)) -> 0 | AT7: =SUMPRODUCT((AP4:AP8=AP7)*(AG4:AG8=AG7)*(AJ4:AJ8=AJ7)*(AK4:AK8>AK7)) -> 0 | AU7: =SUMPRODUCT((AP4:AP8=AP7)*(AG4:AG8=AG7)*(AJ4:AJ8=AJ7)*(AK4:AK8=AK7)*(AL4:AL8>AL7)) -> 0 | AV7: =SUMPRODUCT((AP4:AP8=AP7)*(AG4:AG8=AG7)*(AJ4:AJ8=AJ7)*(AK4:AK8=AK7)*(AL4:AL8=AL7)*(AM4:AM8>AM7)) -> 1 | AW7: =IF(AA7<>"",SUM(AQ7:AV7),"") -> 2 | AX7: =IF(AA7<>"",INDEX(AA4:AA8,MATCH(4,AW4:AW8,0),0),"") -> Uruguay | AY7: =IF(W6<>"",W6,"") | AZ7: =IF(AY7<>"",SUMPRODUCT((DV3:DV42=AY7)*(DY3:DY42=AY8)*(EF3:EF42="W"))+SUMPRODUCT((DV3:DV42=AY7)*(DY3:DY42=AY5)*(EF3:EF42="W"))+SUMPRODUCT((DV3:DV42=AY7)*(DY3:DY42=AY6)*(EF3:EF42="W"))+SUMPRODUCT((DV3:DV42=AY8)*(DY3:DY42=AY7)*(EG3:EG42="W"))+SUMPRODUCT((DV3:DV42=AY5)*(DY3:DY42=AY7)*(EG3:EG42="W"))+SUMPRODUCT((DV3:DV42=AY6)*(DY3:DY42=AY7)*(EG3:EG42="W")),"") | BA7: =IF(AY7<>"",SUMPRODUCT((DV3:DV42=AY7)*(DY3:DY42=AY8)*(EF3:EF42="D"))+SUMPRODUCT((DV3:DV42=AY7)*(DY3:DY42=AY5)*(EF3:EF42="D"))+SUMPRODUCT((DV3:DV42=AY7)*(DY3:DY42=AY6)*(EF3:EF42="D"))+SUMPRODUCT((DV3:DV42=AY8)*(DY3:DY42=AY7)*(EF3:EF42="D"))+SUMPRODUCT((DV3:DV42=AY5)*(DY3:DY42=AY7)*(EF3:EF42="D"))+SUMPRODUCT((DV3:DV42=AY6)*(DY3:DY42=AY7)*(EF3:EF42="D")),"") | BB7: =IF(AY7<>"",SUMPRODUCT((DV3:DV42=AY7)*(DY3:DY42=AY8)*(EF3:EF42="L"))+SUMPRODUCT((DV3:DV42=AY7)*(DY3:DY42=AY5)*(EF3:EF42="L"))+SUMPRODUCT((DV3:DV42=AY7)*(DY3:DY42=AY6)*(EF3:EF42="L"))+SUMPRODUCT((DV3:DV42=AY8)*(DY3:DY42=AY7)*(EG3:EG42="L"))+SUMPRODUCT((DV3:DV42=AY5)*(DY3:DY42=AY7)*(EG3:EG42="L"))+SUMPRODUCT((DV3:DV42=AY6)*(DY3:DY42=AY7)*(EG3:EG42="L")),"") | BC7: =IF(AY7<>"",VLOOKUP(AY7,B4:F29,5,FALSE),0) -> 0 | BD7: =IF(AY7<>"",VLOOKUP(AY7,B4:G29,6,FALSE),0) -> 0 | BE7: =BC7-BD7+1000 -> 1000 | BF7: =IF(AY7<>"",VLOOKUP(AY7,B4:I29,8,FALSE),0) -> 0 | BG7: =IF(AY7<>"",VLOOKUP(AY7,B4:J29,9,FALSE),0) -> 0 | BH7: =IF(AY7<>"",BF7-BG7+1000,"") | BI7: =IF(AY7<>"",VLOOKUP(AY7,B4:F8,5,FALSE),"") | BJ7: =IF(AY7<>"",VLOOKUP(AY7,B4:I8,8,FALSE),"") | BK7: =IF(AY7<>"",VLOOKUP(AY7,B4:P8,15,FALSE),"") | BL7: =IF(AY7<>"",SUMPRODUCT((DV3:DV42=AY7)*(DY3:DY42=AY8)*EB3:EB42)+SUMPRODUCT((DV3:DV42=AY7)*(DY3:DY42=AY5)*EB3:EB42)+SUMPRODUCT((DV3:DV42=AY7)*(DY3:DY42=AY6)*EB3:EB42)+SUMPRODUCT((DV3:DV42=AY8)*(DY3:DY42=AY7)*EC3:EC42)+SUMPRODUCT((DV3:DV42=AY5)*(DY3:DY42=AY7)*EC3:EC42)+SUMPRODUCT((DV3:DV42=AY6)*(DY3:DY42=AY7)*EC3:EC42),"") | BM7: =IF(AY7<>"",SUMPRODUCT((DV3:DV42=AY7)*(DY3:DY42=AY8)*ED3:ED42)+SUMPRODUCT((DV3:DV42=AY7)*(DY3:DY42=AY5)*ED3:ED42)+SUMPRODUCT((DV3:DV42=AY7)*(DY3:DY42=AY6)*ED3:ED42)+SUMPRODUCT((DV3:DV42=AY8)*(DY3:DY42=AY7)*EE3:EE42)+SUMPRODUCT((DV3:DV42=AY5)*(DY3:DY42=AY7)*EE3:EE42)+SUMPRODUCT((DV3:DV42=AY6)*(DY3:DY42=AY7)*EE3:EE42),"") | BN7: =IF(AY7<>"",AZ7*4+BA7*2+BL7+BM7,"") | BO7: =IF(AY7<>"",RANK(BN7,BN5:BN8),"") | BP7: =SUMPRODUCT((BN5:BN8=BN7)*(BE5:BE8>BE7)) -> 0 | BQ7: =SUMPRODUCT((BN5:BN8=BN7)*(BE5:BE8=BE7)*(BH5:BH8>BH7)) -> 0 | BR7: =SUMPRODUCT((BN4:BN8=BN7)*(BE4:BE8=BE7)*(BH4:BH8=BH7)*(BI4:BI8>BI7)) -> 0 | BS7: =SUMPRODUCT((BN4:BN8=BN7)*(BE4:BE8=BE7)*(BH4:BH8=BH7)*(BI4:BI8=BI7)*(BJ4:BJ8>BJ7)) -> 0 | BT7: =SUMPRODUCT((BN4:BN8=BN7)*(BE4:BE8=BE7)*(BH4:BH8=BH7)*(BI4:BI8=BI7)*(BJ4:BJ8=BJ7)*(BK4:BK8>BK7)) -> 0 | BU7: =IF(AY7<>"",SUM(BO7:BT7)+1,"") | BV7: =IF(AY7<>"",INDEX(AY5:AY8,MATCH(4,BU5:BU8,0),0),"") | BW7: =IF(X5<>"",X5,"") | BX7: =SUMPRODUCT((DV3:DV42=BW7)*(DY3:DY42=BW8)*(EF3:EF42="W"))+SUMPRODUCT((DV3:DV42=BW7)*(DY3:DY42=BW9)*(EF3:EF42="W"))+SUMPRODUCT((DV3:DV42=BW7)*(DY3:DY42=BW6)*(EF3:EF42="W"))+SUMPRODUCT((DV3:DV42=BW8)*(DY3:DY42=BW7)*(EG3:EG42="W"))+SUMPRODUCT((DV3:DV42=BW9)*(DY3:DY42=BW7)*(EG3:EG42="W"))+SUMPRODUCT((DV3:DV42=BW6)*(DY3:DY42=BW7)*(EG3:EG42="W")) -> 0 | BY7: =SUMPRODUCT((DV3:DV42=BW7)*(DY3:DY42=BW8)*(EF3:EF42="D"))+SUMPRODUCT((DV3:DV42=BW7)*(DY3:DY42=BW9)*(EF3:EF42="D"))+SUMPRODUCT((DV3:DV42=BW7)*(DY3:DY42=BW6)*(EF3:EF42="D"))+SUMPRODUCT((DV3:DV42=BW8)*(DY3:DY42=BW7)*(EF3:EF42="D"))+SUMPRODUCT((DV3:DV42=BW9)*(DY3:DY42=BW7)*(EF3:EF42="D"))+SUMPRODUCT((DV3:DV42=BW6)*(DY3:DY42=BW7)*(EF3:EF42="D")) -> 0 | BZ7: =SUMPRODUCT((DV3:DV42=BW7)*(DY3:DY42=BW8)*(EF3:EF42="L"))+SUMPRODUCT((DV3:DV42=BW7)*(DY3:DY42=BW9)*(EF3:EF42="L"))+SUMPRODUCT((DV3:DV42=BW7)*(DY3:DY42=BW6)*(EF3:EF42="L"))+SUMPRODUCT((DV3:DV42=BW8)*(DY3:DY42=BW7)*(EG3:EG42="L"))+SUMPRODUCT((DV3:DV42=BW9)*(DY3:DY42=BW7)*(EG3:EG42="L"))+SUMPRODUCT((DV3:DV42=BW6)*(DY3:DY42=BW7)*(EG3:EG42="L")) -> 0 | CA7: =IF(BW7<>"",VLOOKUP(BW7,B4:F29,5,FALSE),0) -> 0 | CB7: =IF(BW7<>"",VLOOKUP(BW7,B4:G29,6,FALSE),0) -> 0 | CC7: =CA7-CB7+1000 -> 1000 | CD7: =IF(BW7<>"",VLOOKUP(BW7,B4:I29,8,FALSE),0) -> 0 | CE7: =IF(BW7<>"",VLOOKUP(BW7,B4:J29,9,FALSE),0) -> 0 | CF7: =CD7-CE7+1000 -> 1000 | CG7: =IF(BW7<>"",VLOOKUP(BW7,B4:F8,5,FALSE),"") | CH7: =IF(BW7<>"",VLOOKUP(BW7,B4:I8,8,FALSE),"") | CI7: =IF(BW7<>"",VLOOKUP(BW7,B4:P8,15,FALSE),"") | CJ7: =SUMPRODUCT((DV3:DV42=BW7)*(DY3:DY42=BW8)*EB3:EB42)+SUMPRODUCT((DV3:DV42=BW7)*(DY3:DY42=BW9)*EB3:EB42)+SUMPRODUCT((DV3:DV42=BW7)*(DY3:DY42=BW6)*EB3:EB42)+SUMPRODUCT((DV3:DV42=BW8)*(DY3:DY42=BW7)*EC3:EC42)+SUMPRODUCT((DV3:DV42=BW9)*(DY3:DY42=BW7)*EC3:EC42)+SUMPRODUCT((DV3:DV42=BW6)*(DY3:DY42=BW7)*EC3:EC42) -> 0 | CK7: =SUMPRODUCT((DV3:DV42=BW7)*(DY3:DY42=BW8)*ED3:ED42)+SUMPRODUCT((DV3:DV42=BW7)*(DY3:DY42=BW9)*ED3:ED42)+SUMPRODUCT((DV3:DV42=BW7)*(DY3:DY42=BW6)*ED3:ED42)+SUMPRODUCT((DV3:DV42=BW8)*(DY3:DY42=BW7)*EE3:EE42)+SUMPRODUCT((DV3:DV42=BW9)*(DY3:DY42=BW7)*EE3:EE42)+SUMPRODUCT((DV3:DV42=BW6)*(DY3:DY42=BW7)*EE3:EE42) -> 0 | CL7: =BX7*4+BY7*2+CJ7+CK7 -> 0 | CM7: =IF(BW7<>"",RANK(CL7,CL6:CL9),"") | CN7: =SUMPRODUCT((CL6:CL9=CL7)*(CC6:CC9>CC7)) -> 0 | CO7: =SUMPRODUCT((CL6:CL9=CL7)*(CC6:CC9=CC7)*(CF6:CF9>CF7)) -> 0 | CP7: =SUMPRODUCT((CL4:CL8=CL7)*(CC4:CC8=CC7)*(CF4:CF8=CF7)*(CG4:CG8>CG7)) -> 0 | CQ7: =SUMPRODUCT((CL4:CL8=CL7)*(CC4:CC8=CC7)*(CF4:CF8=CF7)*(CG4:CG8=CG7)*(CH4:CH8>CH7)) -> 0 | CR7: =SUMPRODUCT((CL4:CL8=CL7)*(CC4:CC8=CC7)*(CF4:CF8=CF7)*(CG4:CG8=CG7)*(CH4:CH8=CH7)*(CI4:CI8>CI7)) -> 0 | CS7: =IF(BW7<>"",SUM(CM7:CR7)+2,"") | CT7: =IF(BW7<>"",INDEX(BW6:BW8,MATCH(4,CS6:CS8,0),0),"") | CU7: =IF(Y4<>"",Y4,"") | CV7: =SUMPRODUCT((DV3:DV42=CU7)*(DY3:DY42=CU8)*(EF3:EF42="W"))+SUMPRODUCT((DV3:DV42=CU7)*(DY3:DY42=CU9)*(EF3:EF42="W"))+SUMPRODUCT((DV3:DV42=CU7)*(DY3:DY42=CU10)*(EF3:EF42="W"))+SUMPRODUCT((DV3:DV42=CU8)*(DY3:DY42=CU7)*(EG3:EG42="W"))+SUMPRODUCT((DV3:DV42=CU9)*(DY3:DY42=CU7)*(EG3:EG42="W"))+SUMPRODUCT((DV3:DV42=CU10)*(DY3:DY42=CU7)*(EG3:EG42="W")) -> 0 | CW7: =SUMPRODUCT((DV3:DV42=CU7)*(DY3:DY42=CU8)*(EF3:EF42="D"))+SUMPRODUCT((DV3:DV42=CU7)*(DY3:DY42=CU9)*(EF3:EF42="D"))+SUMPRODUCT((DV3:DV42=CU7)*(DY3:DY42=CU10)*(EF3:EF42="D"))+SUMPRODUCT((DV3:DV42=CU8)*(DY3:DY42=CU7)*(EF3:EF42="D"))+SUMPRODUCT((DV3:DV42=CU9)*(DY3:DY42=CU7)*(EF3:EF42="D"))+SUMPRODUCT((DV3:DV42=CU10)*(DY3:DY42=CU7)*(EF3:EF42="D")) -> 0 | CX7: =SUMPRODUCT((DV3:DV42=CU7)*(DY3:DY42=CU8)*(EF3:EF42="L"))+SUMPRODUCT((DV3:DV42=CU7)*(DY3:DY42=CU9)*(EF3:EF42="L"))+SUMPRODUCT((DV3:DV42=CU7)*(DY3:DY42=CU10)*(EF3:EF42="L"))+SUMPRODUCT((DV3:DV42=CU8)*(DY3:DY42=CU7)*(EG3:EG42="L"))+SUMPRODUCT((DV3:DV42=CU9)*(DY3:DY42=CU7)*(EG3:EG42="L"))+SUMPRODUCT((DV3:DV42=CU10)*(DY3:DY42=CU7)*(EG3:EG42="L")) -> 0 | CY7: =IF(CU7<>"",VLOOKUP(CU7,B4:F29,5,FALSE),0) -> 0 | CZ7: =IF(CU7<>"",VLOOKUP(CU7,B4:G29,6,FALSE),0) -> 0 | DA7: =CY7-CZ7+1000 -> 1000 | DB7: =IF(CU7<>"",VLOOKUP(CU7,B4:I29,8,FALSE),0) -> 0 | DC7: =IF(CU7<>"",VLOOKUP(CU7,B4:J29,9,FALSE),0) -> 0 | DD7: =DB7-DC7+1000 -> 1000 | DE7: =IF(CU7<>"",VLOOKUP(CU7,B4:F8,5,FALSE),"") | DF7: =IF(CU7<>"",VLOOKUP(CU7,B4:I8,8,FALSE),"") | DG7: =IF(CU7<>"",VLOOKUP(CU7,B4:P8,15,FALSE),"") | DH7: =SUMPRODUCT((DV3:DV42=CU7)*(DY3:DY42=CU8)*EB3:EB42)+SUMPRODUCT((DV3:DV42=CU7)*(DY3:DY42=CU9)*EB3:EB42)+SUMPRODUCT((DV3:DV42=CU7)*(DY3:DY42=CU10)*EB3:EB42)+SUMPRODUCT((DV3:DV42=CU8)*(DY3:DY42=CU7)*EC3:EC42)+SUMPRODUCT((DV3:DV42=CU9)*(DY3:DY42=CU7)*EC3:EC42)+SUMPRODUCT((DV3:DV42=CU10)*(DY3:DY42=CU7)*EC3:EC42) -> 0 | DI7: =SUMPRODUCT((DV3:DV42=CU7)*(DY3:DY42=CU8)*ED3:ED42)+SUMPRODUCT((DV3:DV42=CU7)*(DY3:DY42=CU9)*ED3:ED42)+SUMPRODUCT((DV3:DV42=CU7)*(DY3:DY42=CU10)*ED3:ED42)+SUMPRODUCT((DV3:DV42=CU8)*(DY3:DY42=CU7)*EE3:EE42)+SUMPRODUCT((DV3:DV42=CU9)*(DY3:DY42=CU7)*EE3:EE42)+SUMPRODUCT((DV3:DV42=CU10)*(DY3:DY42=CU7)*EE3:EE42) -> 0 | DJ7: =CV7*4+CW7*2+DH7+DI7 -> 0 | DK7: =IF(CU7<>"",RANK(DJ7,DJ7:DJ10),"") | DL7: =SUMPRODUCT((DJ7:DJ10=DJ7)*(DA7:DA10>DA7)) -> 0 | DM7: =SUMPRODUCT((DJ7:DJ10=DJ7)*(DA7:DA10=DA7)*(DD7:DD10>DD7)) -> 0 | DN7: =SUMPRODUCT((DJ4:DJ8=DJ7)*(DA4:DA8=DA7)*(DD4:DD8=DD7)*(DE4:DE8>DE7)) -> 0 | DO7: =SUMPRODUCT((DJ4:DJ8=DJ7)*(DA4:DA8=DA7)*(DD4:DD8=DD7)*(DE4:DE8=DE7)*(DF4:DF8>DF7)) -> 0 | DP7: =SUMPRODUCT((DJ4:DJ8=DJ7)*(DA4:DA8=DA7)*(DD4:DD8=DD7)*(DE4:DE8=DE7)*(DF4:DF8=DF7)*(DG4:DG8>DG7)) -> 0 | DQ7: =IF(CU7<>"",SUM(DK7:DP7)+3,"") | DR7: =IF(CU7<>"",IF(DQ7=4,CU7,CU8),"") | DS7: =IF(DR7<>"",DR7,IF(CT7<>"",CT7,IF(BV7<>"",BV7,IF(AX7<>"",AX7,T7)))) -> Uruguay | DT7: 4 | DU7: 5 | DV7: =Tournament!H16 -> England | DW7: =IF(AND(Tournament!J16<>"",Tournament!L16<>""),Tournament!J16,0) -> 0 | DX7: =IF(AND(Tournament!L16<>"",Tournament!J16<>""),Tournament!L16,0) -> 0 | DY7: =Tournament!N16 -> Argentina | DZ7: =IF(Tournament!O16<>"",Tournament!O16,0) -> 0 | EA7: =IF(Tournament!Q16<>"",Tournament!Q16,0) -> 0 | EB7: =IF(DW7<>"",IF(Tournament!O16>3,1,0),0) -> 0 | EC7: =IF(DX7<>"",IF(Tournament!Q16>3,1,0),0) -> 0 | ED7: =IFERROR(IF(AND(DW7<>"",DW7<DX7,DX7-DW7<8),1,0),0) -> 0 | EE7: =IFERROR(IF(AND(DX7<>"",DX7<DW7,DW7-DX7<8),1,0),0) -> 0 | EF7: =IF(AND(Tournament!J16<>"",Tournament!L16<>""),IF(DW7>DX7,"W",IF(DW7=DX7,"D","L")),"") | EG7: =IF(EF7<>"",IF(EF7="W","L",IF(EF7="L","W","D")),"")
