Workbook
Name BaseSalary: Setup!$C$48:$C$50
Name BenefitPlan: Setup!$C$67:$C$76
Name Bonus: Setup!$G$55:$G$57
Name Classification: Setup!$O$24:$O$43
Name Commission: Setup!$G$46:$G$47
Name CompanyName: Setup!$E$8
Name CompanyProperty: Setup!$E$67:$E$81
Name Department: Setup!$C$24:$C$43
Name Disciplines: Setup!$G$86:$G$100
Name Employee1: 'Employee (1)'!$A$1
Name EmployeeWS: 'Employee List'!$A$1
Name LeaveNames: Setup!$E$86:$E$100
Name OtherCategory: Setup!$C$86:$C$100
Name PaidLeave: Setup!$E$86:$E$100
Name PayFrek: Setup!$G$55:$G$59
Name Position: Setup!$E$24:$E$43
Name Salaried: Setup!$G$48
Name SalGrade: Setup!$G$24:$G$43
Name StartYear: Setup!$E$5
Name THPFrek: Setup!$G$48:$G$52
Name Title: Setup!$K$24:$K$43
Name UnpaidLeave: Setup!$G$63:$G$63
Name Workhour: Setup!$C$48:$C$50

Sheet Setup
B2: SETUP
C5: Starting Database Year | E5: 2016 | L5: CLICK BELOW FOR MORE PREMIUM VERSION INFORMATION
L6: https://journalsheet.com/product/js500hr-%e2%97%89-employee-database-manager
B7: COMPANY INFORMATION
C8: Name | E8: Neat Heat
C9: Address
C11: City
C12: State
C13: Country
C14: ZIP Code
C15: Phone
C16: Fax
C17: Website
C18: Email
C19: Tax ID
B21: EMPLOYEE POSITION CATEGORY
B22: DEPARTMENT | D22: POSITION | F22: SALARY GRADE
B23: NO | C23: NAME | D23: NO | E23: NAME | F23: NO | G23: NAME | H23: RANGE
B24: 1 | C24: Sales | D24: 1 | E24: Director | F24: 1 | G24: Level 15
B25: 2 | C25: Marketing | D25: 2 | E25: Vice President | F25: 2 | G25: Level 14
B26: 3 | C26: Warehouse | D26: 3 | E26: Senior Manager | F26: 3 | G26: Level 13
B27: 4 | C27: Office | D27: 4 | E27: Manager | F27: 4 | G27: Level 12
B28: 5 | C28: Treasury | D28: 5 | E28: Junior Manager | F28: 5 | G28: Level 11
B29: 6 | C29: Budget | D29: 6 | E29: Specialist | F29: 6 | G29: Level 10
B30: 7 | C30: General Affair | D30: 7 | E30: Staff | F30: 7 | G30: Level 9
B31: 8 | C31: Human Resources | D31: 8 | E31: Clerk | F31: 8 | G31: Level 8
B32: 9 | C32: Secretary | D32: 9 | F32: 9 | G32: Level 7
B33: 10 | C33: Operation | D33: 10 | F33: 10 | G33: Level 6
B34: 11 | D34: 11 | F34: 11 | G34: Level 5
B35: 12 | D35: 12 | F35: 12 | G35: Level 4
B36: 13 | D36: 13 | F36: 13 | G36: Level 3
B37: 14 | D37: 14 | F37: 14 | G37: Level 2
B38: 15 | D38: 15 | F38: 15 | G38: Level 1
B39: 16 | D39: 16 | F39: 16
B40: 17 | D40: 17 | F40: 17
B41: 18 | D41: 18 | F41: 18
B42: 19 | D42: 19 | F42: 19
B43: 20 | D43: 20 | F43: 20
B45: EMPLOYEE TAKE HOME PAY
B46: EARNING CATEGORY | D46: DEDUCTION CATEGORY | F46: BASE SALARY CATEGORY
...

Sheet Employee (1)
B2: EMPLOYEE DATABASE | J2: EMPLOYEE LIST MENU | N2: DO NOT INSERT/DELETE ROWS/COLUMNS & CUT/PASTE CELLS | R2: RECORD DATA UP TO 10 YEARS IN PREMIUM VERSION
B5: EMPLOYEE DATA ENTRY | N5: YOU CAN COPY/PASTE BUT PASTE IT AS VALUES
O6: Contain formula. DO NOT write | R6: CLICK BELOW FOR MORE PREMIUM VERSION INFORMATION
B7: 1 | C7: Record No | D7: 1 | O7: Contain dropdown list. Select item from list | R7: https://journalsheet.com/product/js500hr-%e2%97%89-employee-database-manager
B8: 2 | C8: Employee ID | D8: E00001 | O8: Cells to fill
B10: PERSONAL INFORMATION | H10: JOB INFORMATION | N10: WORK SUMMARY
C12: Application Document | I12: Offering Document
B14: A | C14: PERSONAL DETAILS | H14: A | I14: JOB DETAILS | N14: A | O14: JOB PROGRESS | P14: =StartYear -> 2016 | U14: =P14+1 -> 2017
B16: 1 | C16: Name | H16: 1 | I16: Join Date | J16: 42375 | O16: Effective Date - Start | P16: 42375 | U16: 42802
C17: First Name | D17: John | H17: 2 | I17: Resign Date | O17: Paperwork
C18: Middle Name | D18: Middle | H18: 3 | I18: Department | J18: Budget | O18: Department | P18: Marketing | U18: Marketing
C19: Last Name | D19: Doe | H19: 4 | I19: Title/Position | J19: Senior Manager | O19: Title/Position | P19: Senior Manager | U19: Senior Manager
B20: 2 | C20: Nickname | D20: John Travo | H20: 5 | I20: Salary Grade | J20: Level 12 | O20: Salary Grade | P20: Level 12 | U20: Level 13
B21: 3 | C21: Gender | D21: Male | H21: 6 | I21: Take Home Pay | J21: Salaried | O21: Take Home Pay | P21: Salaried | U21: Salaried
B22: 4 | C22: Place and Date of Birth | H22: 7 | I22: Payment Frequency | J22: Monthly | O22: Payment Frequency | P22: Monthly | U22: Monthly
C23: Date | D23: 29090 | H23: 8 | I23: Classification | J23: Exempt | O23: Classification | P23: Exempt | U23: Exempt
C24: Place | D24: Miami
B25: 5 | C25: Marital Status | D25: Married | H25: B | I25: BASE GROSS PAY DETAILS | N25: B | O25: BASE GROSS PAY | P25: =StartYear -> 2016 | U25: =P25+1 -> 2017
B26: 6 | C26: Dependents | P26: Base Amount | Q26: Start Date | R26: End Date | S26: Category | T26: Notes | U26: =P26 -> Base Amount | V26: =Q26 -> Start Date | W26: =R26 -> End Date | X26: =S26 -> Category | Y26: =T26 -> Notes
C27: Spouse | D27: Jane Travo | H27: 1 | I27: =IF(Setup!C48<>"",Setup!C48,"") -> Regular - Salaried | J27: 5000 | O27: =IF(I27<>"",I27,"") -> Regular - Salaried | P27: 5000 | Q27: 42375 | S27: Salaried | U27: 6500 | V27: 42802 | X27: Salaried
C28: Children 1 | D28: Travo Jr 1 | H28: 2 | I28: =IF(Setup!C49<>"",Setup!C49,"") -> Regular - Hourly | O28: =IF(I28<>"",I28,"") -> Regular - Hourly
C29: Children 2 | D29: Travo Jr 2 | H29: 3 | I29: =IF(Setup!C50<>"",Setup!C50,"") -> Overtime | O29: =IF(I29<>"",I29,"") -> Overtime
C30: Children 3 | D30: Travo Jr 3 | H30: 4 | I30: =IF(Setup!C51<>"",Setup!C51,"") -> Holiday | O30: =IF(I30<>"",I30,"") -> Holiday
C31: Children 4 | D31: Travo Jr 4 | H31: 5 | I31: =IF(Setup!C52<>"",Setup!C52,"") -> Vacation | O31: =IF(I31<>"",I31,"") -> Vacation
B32: 7 | C32: ID Number | H32: 6 | I32: =IF(Setup!C53<>"",Setup!C53,"") -> Bonus | O32: =IF(I32<>"",I32,"") -> Bonus
C33: Passport | D33: Pass123 | H33: 7 | I33: =IF(Setup!C54<>"",Setup!C54,"") -> Commission | O33: =IF(I33<>"",I33,"") -> Commission
C34: SSN | D34: SSN123 | H34: 8 | I34: =IF(Setup!C55<>"",Setup!C55,"") -> Other 1 | O34: =IF(I34<>"",I34,"") -> Other 1
C35: Driver License | D35: Driver123 | H35: 9 | I35: =IF(Setup!C56<>"",Setup!C56,"") -> Other 2 | O35: =IF(I35<>"",I35,"") -> Other 2
C36: Other License | D36: Other123 | H36: 10 | I36: =IF(Setup!C57<>"",Setup!C57,"") -> Other 3 | O36: =IF(I36<>"",I36,"") -> Other 3
B37: 8 | C37: Saving Account | H37: 11 | I37: =IF(Setup!C58<>"",Setup!C58,"") -> Other 4 | O37: =IF(I37<>"",I37,"") -> Other 4
C38: Name | D38: John Travo | H38: 12 | I38: =IF(Setup!C59<>"",Setup!C59,"") -> Other 5 | O38: =IF(I38<>"",I38,"") -> Other 5
C39: Bank | D39: Central America | H39: 13 | I39: =IF(Setup!C60<>"",Setup!C60,"") -> Other 6 | O39: =IF(I39<>"",I39,"") -> Other 6
C40: Bank Code | D40: 889 | H40: 14 | I40: =IF(Setup!C61<>"",Setup!C61,"") -> Other 7 | O40: =IF(I40<>"",I40,"") -> Other 7
C41: Account # | D41: 94945859944 | H41: 15 | I41: =IF(Setup!C62<>"",Setup!C62,"") -> Other 8 | O41: =IF(I41<>"",I41,"") -> Other 8
B42: 9 | C42: Taxes
C43: Taxes 1 | D43: TAX666 | H43: C | I43: BASE DEDUCTION DETAILS | N43: C | O43: BASE DEDUCTION | P43: =StartYear -> 2016 | U43: =P43+1 -> 2017
C44: Taxes 2 | D44: Tax777 | P44: Amount | Q44: Start Date | R44: End Date | S44: Category | T44: Notes | U44: =P44 -> Amount | V44: =Q44 -> Start Date | W44: =R44 -> End Date | X44: =S44 -> Category | Y44: =T44 -> Notes
C45: Taxes 3 | D45: Tax888 | H45: 1 | I45: =IF(Setup!E48<>"",Setup!E48,"") -> Federal Income Tax | J45: 0.1 | O45: =IF(I45<>"",I45,"") -> Federal Income Tax | P45: 0.1 | U45: 0.1
H46: 2 | I46: =IF(Setup!E49<>"",Setup!E49,"") -> Social Security Tax | J46: 0.062 | O46: =IF(I46<>"",I46,"") -> Social Security Tax | P46: 0.062 | U46: 0.062
B47: B | C47: CONTACT DETAILS | H47: 3 | I47: =IF(Setup!E50<>"",Setup!E50,"") -> Medicare Tax | J47: 0.029 | O47: =IF(I47<>"",I47,"") -> Medicare Tax | P47: 0.029 | U47: 0.029
...

Sheet Employee List
B2: EMPLOYEE LIST (VISUAL VIEW ONLY)
P4: CLICK BELOW FOR MORE PREMIUM VERSION INFORMATION
P5: https://journalsheet.com/product/js500hr-%e2%97%89-employee-database-manager

Sheet Individual Employee Summary
B2: INDIVIDUAL EMPLOYEE SUMMARY (VISUAL VIEW ONLY)
T5: CLICK BELOW FOR MORE PREMIUM VERSION INFORMATION
T6: https://journalsheet.com/product/js500hr-%e2%97%89-employee-database-manager

Sheet Company Summary
B2: COMPANY EMPLOYEE SUMMARY (VISUAL VIEW ONLY)
O5: CLICK BELOW FOR MORE PREMIUM VERSION INFORMATION
O6: https://journalsheet.com/product/js500hr-%e2%97%89-employee-database-manager

Sheet Dashboard
B2: DASHBOARD (VISUAL VIEW ONLY)
T4: CLICK BELOW FOR MORE PREMIUM VERSION INFORMATION
T5: https://journalsheet.com/product/js500hr-%e2%97%89-employee-database-manager

Sheet About
B2: ABOUT
C5: EMPLOYEE DATABASE MANAGER
C7: Version | D7: : | E7: 2.64
C8: License | D8: : | E8: Multi User
C9: Product Info | D9: : | E9: journalsheet
C10: Support | D10: : | E10: support@journalsheet.com
C11: Copyright © | D11: : | E11: 2023 | | F11: journalsheet.com
B14: CLICK BELOW FOR MORE PREMIUM VERSION INFORMATION
B15: https://journalsheet.com/product/js500hr-%e2%97%89-employee-database-manager
