Workbook
Name A1A2: 'Dummy Top Scorer'!$B$3:$B$54
Name A1A3: 'Dummy Top Scorer'!$B$57:$B$108
Name A1A4: 'Dummy Top Scorer'!$B$111:$B$162
Name A2A1: 'Dummy Top Scorer'!$C$3:$C$54
Name A2A3: 'Dummy Top Scorer'!$C$57:$C$108
Name A2A4: 'Dummy Top Scorer'!$C$111:$C$162
Name A3A1: 'Dummy Top Scorer'!$D$3:$D$54
Name A3A2: 'Dummy Top Scorer'!$D$57:$D$108
Name A3A4: 'Dummy Top Scorer'!$D$111:$D$162
Name A4A1: 'Dummy Top Scorer'!$E$3:$E$54
Name A4A2: 'Dummy Top Scorer'!$E$57:$E$108
Name A4A3: 'Dummy Top Scorer'!$E$111:$E$162
Name AC1C2: 'Dummy Top Scorer'!$J$3:$J$54
Name AC1C3: 'Dummy Top Scorer'!$J$57:$J$108
Name AC1C4: 'Dummy Top Scorer'!$J$111:$J$162
Name AC2C1: 'Dummy Top Scorer'!$K$3:$K$54
Name AC2C3: 'Dummy Top Scorer'!$K$57:$K$108
Name AC2C4: 'Dummy Top Scorer'!$K$111:$K$162
Name AC3C1: 'Dummy Top Scorer'!$L$3:$L$54
Name AC3C2: 'Dummy Top Scorer'!$L$57:$L$108
Name AC3C4: 'Dummy Top Scorer'!$L$111:$L$162
Name AC4C1: 'Dummy Top Scorer'!$M$3:$M$54
Name AC4C2: 'Dummy Top Scorer'!$M$57:$M$108
Name AC4C3: 'Dummy Top Scorer'!$M$111:$M$162
Name B1B2: 'Dummy Top Scorer'!$F$3:$F$54
Name B1B3: 'Dummy Top Scorer'!$F$57:$F$108
Name B1B4: 'Dummy Top Scorer'!$F$111:$F$162
Name B2B1: 'Dummy Top Scorer'!$G$3:$G$54
Name B2B3: 'Dummy Top Scorer'!$G$57:$G$108
Name B2B4: 'Dummy Top Scorer'!$G$111:$G$162
Name B3B1: 'Dummy Top Scorer'!$H$3:$H$54
Name B3B2: 'Dummy Top Scorer'!$H$57:$H$108
Name B3B4: 'Dummy Top Scorer'!$H$111:$H$162
Name B4B1: 'Dummy Top Scorer'!$I$3:$I$54
Name B4B2: 'Dummy Top Scorer'!$I$57:$I$108
Name B4B3: 'Dummy Top Scorer'!$I$111:$I$162
Name BIGQ11: 'Dummy Top Scorer'!$AZ$3:$AZ$54
Name BIGQ12: 'Dummy Top Scorer'!$BA$3:$BA$54
Name BIGQ21: 'Dummy Top Scorer'!$BB$3:$BB$54
Name BIGQ22: 'Dummy Top Scorer'!$BC$3:$BC$54
Name BIGQ31: 'Dummy Top Scorer'!$BD$3:$BD$54
Name BIGQ32: 'Dummy Top Scorer'!$BE$3:$BE$54
Name BIGQ41: 'Dummy Top Scorer'!$BF$3:$BF$54
Name BIGQ42: 'Dummy Top Scorer'!$BG$3:$BG$54
Name CountMax: 'Top Scorer'!$A$7
Name Countries: Language!$C$1:$J$1
Name D1D2: 'Dummy Top Scorer'!$N$3:$N$54
Name D1D3: 'Dummy Top Scorer'!$N$57:$N$108
Name D1D4: 'Dummy Top Scorer'!$N$111:$N$162
Name D2D1: 'Dummy Top Scorer'!$O$3:$O$54
Name D2D3: 'Dummy Top Scorer'!$O$57:$O$108
Name D2D4: 'Dummy Top Scorer'!$O$111:$O$162
Name D3D1: 'Dummy Top Scorer'!$P$3:$P$54
Name D3D2: 'Dummy Top Scorer'!$P$57:$P$108
Name D3D4: 'Dummy Top Scorer'!$P$111:$P$162
Name D4D1: 'Dummy Top Scorer'!$Q$3:$Q$54
Name D4D2: 'Dummy Top Scorer'!$Q$57:$Q$108
Name D4D3: 'Dummy Top Scorer'!$Q$111:$Q$162
Name E1E2: 'Dummy Top Scorer'!$R$3:$R$54
Name E1E3: 'Dummy Top Scorer'!$R$57:$R$108

Sheet Setup
B2: SETUP
B4: Time Difference with Qatar Time ► | C4: 0 | J4: ◄ | K4: Select your time preference by adding or subtracting your local time with Qatar time
B5: Language ► | C5: English | E5: FIFA World Ranking Points | F5: Fair Play Points | J5: ◄ | K5: Select your language. There are only 6 translated language. You can translate default English language to your own by typing its translation in column C. YOU NEED TO TRANSLATE ALL TEXTS FROM COLUMN B if you want to use your own translation.
B6: Custom Language Translation Title ► | C6: MY LANGUAGE | K6: Do not forget to select your Custom Language translation title in cell C5 to translate matches worksheet to your language after you filling all translation rows in column C
B7: Original Language (English) | C7: Your Language Translation | J7: ◄ | K7: FIFA World Ranking points for your reference only. Do not need to change.
B8: Senegal | D8:  | E8: 1584 | K8: Do not change or sort country order. It will break country reference formula
B9: Netherlands | D9:  | E9: 1658 | J9: ◄ | K9: You may need to type FAIR PLAY points if two or more teams in group standings have to go through tie-breaker 7 where their standings is decided by fair play point
B10: Qatar | D10:  | E10: 1441 | J10: TIE BREAKER REGULATION | L10: source : | M10: https://digitalhub.fifa.com/m/2744a0a5e3ded185/original/FIFA-World-Cup-Qatar-2022-Regulations_EN.pdf
B11: Ecuador | D11:  | E11: 1453 | J11: The ranking of teams in the group stage is determined as follows:
B12: England | D12:  | E12: 1762 | J12: 1 | K12: Points obtained in all group matches;
B13: Iran | D13:  | E13: 1564 | J13: 2 | K13: Goal difference in all group matches;
B14: United States | D14:  | E14: 1634 | J14: 3 | K14: Number of goals scored in all group matches;
B15: Wales | D15:  | E15: 1588 | J15: 4 | K15: Points obtained in the matches played between the teams in question;
B16: Argentina | D16:  | E16: 1765 | J16: 5 | K16: Goal difference in the matches played between the teams in question;
B17: Saudi Arabia | D17:  | E17: 1445 | J17: 6 | K17: Number of goals scored in the matches played between the teams in question;
B18: Mexico | D18:  | E18: 1659 | J18: 7 | K18: Fair play points in all group matches (only one deduction can be applied to a player in a single match):
B19: Poland | D19:  | E19: 1544 | K19: > Yellow card: −1 point;
B20: Denmark | D20:  | E20: 1654 | K20: > Indirect red card (second yellow card): −3 points;
B21: Tunisia | D21:  | E21: 1500 | K21: > Direct red card: −4 points;
B22: France | D22:  | E22: 1790 | K22: > Yellow card and direct red card: −5 points;
B23: Australia | D23:  | E23: 1462 | J23: 8 | K23: Drawing of lots.
B24: Germany | D24:  | E24: 1651
B25: Japan | D25:  | E25: 1553 | J25: You can watch youtube video below to see how this spreadsheet works
B26: Spain | D26:  | E26: 1709 | J26: https://www.youtube.com/watch?v=xl4FcUrubVQ
B27: Costa Rica | D27:  | E27: 1503
B28: Morocco | D28:  | E28: 1552
B29: Croatia | D29:  | E29: 1621
B30: Belgium | D30:  | E30: 1827
B31: Canada | D31:  | E31: 1479
B32: Switzerland | D32:  | E32: 1635
B33: Cameroon | D33:  | E33: 1480
B34: Brazil | D34:  | E34: 1833
B35: Serbia | D35:  | E35: 1548
B36: Uruguay | D36:  | E36: 1636
B37: South Korea | D37:  | E37: 1520
B38: Portugal | D38:  | E38: 1675
B39: Ghana | D39:  | E39: 1387
B40: Language | E40: *as of March 31st, 2022
B41: Timezone
B42: Group Stages
B43: Matches
B44: Standings
B45: Group
B46: Date
B47: Country
B48: Score
B49: Time
B50: Round of 16
B51: Quarter Finals
B52: Semi Finals
... B116: World Cup 2022 3rd Place

Sheet Tournament
B2: =UPPER(INDEX(Translation,MATCH("World Cup 2022 Fixtures",TransRef,0),MATCH(Setup!C5,LanguageRef,0))) -> WORLD CUP 2022 SCHEDULE | N2: CLICK HERE TO PURCHASE FULLY EDITABLE VERSION
B3: =INDEX(Translation,MATCH("Match #",TransRef,0),MATCH(Setup!C5,LanguageRef,0)) -> Match # | D3: =INDEX(Translation,MATCH("Date",TransRef,0),MATCH(Setup!C5,LanguageRef,0)) -> Date | E3: =INDEX(Translation,MATCH("Time",TransRef,0),MATCH(Setup!C5,LanguageRef,0)) -> Time | F3: =INDEX(Translation,MATCH("Country",TransRef,0),MATCH(Setup!C5,LanguageRef,0)) -> Country | H3: =INDEX(Translation,MATCH("Score",TransRef,0),MATCH(Setup!C5,LanguageRef,0)) -> Score | K3: =INDEX(Translation,MATCH("Country",TransRef,0),MATCH(Setup!C5,LanguageRef,0)) -> Country | N3: =INDEX(Translation,MATCH("Venue",TransRef,0),MATCH(Setup!C5,LanguageRef,0)) -> Venue | P3: =INDEX(Translation,MATCH("Standings",TransRef,0),MATCH(Setup!C5,LanguageRef,0)) -> Standings
B4: =INDEX(Translation,MATCH("Group Stages",TransRef,0),MATCH(Setup!C5,LanguageRef,0)) -> Group Stages | P4: =INDEX(Translation,MATCH("Group A",TransRef,0),MATCH(Setup!$C$5,LanguageRef,0)) -> Group A | R4: P | S4: W | T4: D | U4: L | V4: F - A | W4: Pt | AA4: Notes :
A5: 0 | B5: 1 | C5: A | D5: =E5 -> 44885.792 | E5: =Calculator!BX7 -> 44885.792 | F5: =INDEX(Translation,MATCH(Setup!B10,TransRef,0),MATCH(Setup!$C$5,LanguageRef,0)) -> Qatar | H5: =IF(OFFSET('Group Stages'!$H$7,A5,0)<>"",OFFSET('Group Stages'!$H$7,A5,0),"") | I5: =IF(OFFSET('Group Stages'!$H$8,A5,0)<>"",OFFSET('Group Stages'!$H$8,A5,0),"") | K5: =INDEX(Translation,MATCH(Setup!B11,TransRef,0),MATCH(Setup!$C$5,LanguageRef,0)) -> Ecuador | N5: Al Bayt | P5: 1 | Q5: =INDEX(Calculator!$U$4:$U$7,MATCH(1,Calculator!$BK$4:$BK$7,0),0) -> Netherlands | R5: =VLOOKUP($Q5,Calculator!$C$4:$K$35,2,FALSE) -> 0 | S5: =VLOOKUP($Q5,Calculator!$C$4:$K$35,3,FALSE) -> 0 | T5: =VLOOKUP($Q5,Calculator!$C$4:$K$35,4,FALSE) -> 0 | U5: =VLOOKUP($Q5,Calculator!$C$4:$K$35,5,FALSE) -> 0 | V5: =VLOOKUP($Q5,Calculator!$C$4:$K$35,6,FALSE)&" - "&VLOOKUP($Q5,Calculator!$C$4:$K$35,7,FALSE) -> 0 - 0 | W5: =VLOOKUP($Q5,Calculator!$C$4:$K$35,9,FALSE) -> 0 | AA5: MATCHES ARE SORTED BY MATCH TIME NOT MATCH NUMBER
A6: =A5+2 -> 2 | B6: 3 | C6: B | D6: =E6 -> 44886.667 | E6: =Calculator!BX8 -> 44886.667 | F6: =INDEX(Translation,MATCH(Setup!B12,TransRef,0),MATCH(Setup!$C$5,LanguageRef,0)) -> England | H6: =IF(OFFSET('Group Stages'!$H$7,A6,0)<>"",OFFSET('Group Stages'!$H$7,A6,0),"") | I6: =IF(OFFSET('Group Stages'!$H$8,A6,0)<>"",OFFSET('Group Stages'!$H$8,A6,0),"") | K6: =INDEX(Translation,MATCH(Setup!B13,TransRef,0),MATCH(Setup!$C$5,LanguageRef,0)) -> Iran | N6: Khalifa International | P6: 2 | Q6: =INDEX(Calculator!$U$4:$U$7,MATCH(2,Calculator!$BK$4:$BK$7,0),0) -> Senegal | R6: =VLOOKUP($Q6,Calculator!$C$4:$K$35,2,FALSE) -> 0 | S6: =VLOOKUP($Q6,Calculator!$C$4:$K$35,3,FALSE) -> 0 | T6: =VLOOKUP($Q6,Calculator!$C$4:$K$35,4,FALSE) -> 0 | U6: =VLOOKUP($Q6,Calculator!$C$4:$K$35,5,FALSE) -> 0 | V6: =VLOOKUP($Q6,Calculator!$C$4:$K$35,6,FALSE)&" - "&VLOOKUP($Q6,Calculator!$C$4:$K$35,7,FALSE) -> 0 - 0 | W6: =VLOOKUP($Q6,Calculator!$C$4:$K$35,9,FALSE) -> 0 | AA6: matches source reference : | AE6: https://www.fifa.com/tournaments/mens/worldcup/qatar2022/news/match-schedule-fwc22
A7: =A6+2 -> 4 | B7: 2 | C7: A | D7: =E7 -> 44886.792 | E7: =Calculator!BX9 -> 44886.792 | F7: =INDEX(Translation,MATCH(Setup!B8,TransRef,0),MATCH(Setup!$C$5,LanguageRef,0)) -> Senegal | H7: =IF(OFFSET('Group Stages'!$H$7,A7,0)<>"",OFFSET('Group Stages'!$H$7,A7,0),"") | I7: =IF(OFFSET('Group Stages'!$H$8,A7,0)<>"",OFFSET('Group Stages'!$H$8,A7,0),"") | K7: =INDEX(Translation,MATCH(Setup!B9,TransRef,0),MATCH(Setup!$C$5,LanguageRef,0)) -> Netherlands | N7: Al Thumama | P7: 3 | Q7: =INDEX(Calculator!$U$4:$U$7,MATCH(3,Calculator!$BK$4:$BK$7,0),0) -> Ecuador | R7: =VLOOKUP($Q7,Calculator!$C$4:$K$35,2,FALSE) -> 0 | S7: =VLOOKUP($Q7,Calculator!$C$4:$K$35,3,FALSE) -> 0 | T7: =VLOOKUP($Q7,Calculator!$C$4:$K$35,4,FALSE) -> 0 | U7: =VLOOKUP($Q7,Calculator!$C$4:$K$35,5,FALSE) -> 0 | V7: =VLOOKUP($Q7,Calculator!$C$4:$K$35,6,FALSE)&" - "&VLOOKUP($Q7,Calculator!$C$4:$K$35,7,FALSE) -> 0 - 0 | W7: =VLOOKUP($Q7,Calculator!$C$4:$K$35,9,FALSE) -> 0 | AA7: DO NOT SORT MATCHES BY MATCH NUMBER. IT WILL BREAK COUNTRY REFERENCE FORMULA
A8: =A7+2 -> 6 | B8: 4 | C8: B | D8: =E8 -> 44886.917 | E8: =Calculator!BX10 -> 44886.917 | F8: =INDEX(Translation,MATCH(Setup!B14,TransRef,0),MATCH(Setup!$C$5,LanguageRef,0)) -> United States | H8: =IF(OFFSET('Group Stages'!$H$7,A8,0)<>"",OFFSET('Group Stages'!$H$7,A8,0),"") | I8: =IF(OFFSET('Group Stages'!$H$8,A8,0)<>"",OFFSET('Group Stages'!$H$8,A8,0),"") | K8: =INDEX(Translation,MATCH(Setup!B15,TransRef,0),MATCH(Setup!$C$5,LanguageRef,0)) -> Wales | N8: Ahmad Bin Ali | P8: 4 | Q8: =INDEX(Calculator!$U$4:$U$7,MATCH(4,Calculator!$BK$4:$BK$7,0),0) -> Qatar | R8: =VLOOKUP($Q8,Calculator!$C$4:$K$35,2,FALSE) -> 0 | S8: =VLOOKUP($Q8,Calculator!$C$4:$K$35,3,FALSE) -> 0 | T8: =VLOOKUP($Q8,Calculator!$C$4:$K$35,4,FALSE) -> 0 | U8: =VLOOKUP($Q8,Calculator!$C$4:$K$35,5,FALSE) -> 0 | V8: =VLOOKUP($Q8,Calculator!$C$4:$K$35,6,FALSE)&" - "&VLOOKUP($Q8,Calculator!$C$4:$K$35,7,FALSE) -> 0 - 0 | W8: =VLOOKUP($Q8,Calculator!$C$4:$K$35,9,FALSE) -> 0 | AA8: ● | AB8: Fill full time scores in column H and I
A9: =A8+2 -> 8 | B9: 8 | C9: C | D9: =E9 -> 44887.542 | E9: =Calculator!BX11 -> 44887.542 | F9: =INDEX(Translation,MATCH(Setup!B16,TransRef,0),MATCH(Setup!$C$5,LanguageRef,0)) -> Argentina | H9: =IF(OFFSET('Group Stages'!$H$7,A9,0)<>"",OFFSET('Group Stages'!$H$7,A9,0),"") | I9: =IF(OFFSET('Group Stages'!$H$8,A9,0)<>"",OFFSET('Group Stages'!$H$8,A9,0),"") | K9: =INDEX(Translation,MATCH(Setup!B17,TransRef,0),MATCH(Setup!$C$5,LanguageRef,0)) -> Saudi Arabia | N9: Lusail | AA9: ● | AB9: Fill penalty shoot out scores in column L and M
A10: =A9+2 -> 10 | B10: 6 | C10: D | D10: =E10 -> 44887.667 | E10: =Calculator!BX12 -> 44887.667 | F10: =INDEX(Translation,MATCH(Setup!B20,TransRef,0),MATCH(Setup!$C$5,LanguageRef,0)) -> Denmark | H10: =IF(OFFSET('Group Stages'!$H$7,A10,0)<>"",OFFSET('Group Stages'!$H$7,A10,0),"") | I10: =IF(OFFSET('Group Stages'!$H$8,A10,0)<>"",OFFSET('Group Stages'!$H$8,A10,0),"") | K10: =INDEX(Translation,MATCH(Setup!B21,TransRef,0),MATCH(Setup!$C$5,LanguageRef,0)) -> Tunisia | N10: Education City | P10: =INDEX(Translation,MATCH("Group B",TransRef,0),MATCH(Setup!$C$5,LanguageRef,0)) -> Group B | R10: P | S10: W | T10: D | U10: L | V10: F - A | W10: Pt | AA10: ● | AB10: Group standings will be calculated automatically based on official FIFA World Cup Tie Breaker regulation
A11: =A10+2 -> 12 | B11: 7 | C11: C | D11: =E11 -> 44887.792 | E11: =Calculator!BX13 -> 44887.792 | F11: =INDEX(Translation,MATCH(Setup!B18,TransRef,0),MATCH(Setup!$C$5,LanguageRef,0)) -> Mexico | H11: =IF(OFFSET('Group Stages'!$H$7,A11,0)<>"",OFFSET('Group Stages'!$H$7,A11,0),"") | I11: =IF(OFFSET('Group Stages'!$H$8,A11,0)<>"",OFFSET('Group Stages'!$H$8,A11,0),"") | K11: =INDEX(Translation,MATCH(Setup!B19,TransRef,0),MATCH(Setup!$C$5,LanguageRef,0)) -> Poland | N11: Stadium 974 | P11: 1 | Q11: =INDEX(Calculator!$U$8:$U$11,MATCH(1,Calculator!$BK$8:$BK$11,0),0) -> England | R11: =VLOOKUP($Q11,Calculator!$C$4:$K$35,2,FALSE) -> 0 | S11: =VLOOKUP($Q11,Calculator!$C$4:$K$35,3,FALSE) -> 0 | T11: =VLOOKUP($Q11,Calculator!$C$4:$K$35,4,FALSE) -> 0 | U11: =VLOOKUP($Q11,Calculator!$C$4:$K$35,5,FALSE) -> 0 | V11: =VLOOKUP($Q11,Calculator!$C$4:$K$35,6,FALSE)&" - "&VLOOKUP($Q11,Calculator!$C$4:$K$35,7,FALSE) -> 0 - 0 | W11: =VLOOKUP($Q11,Calculator!$C$4:$K$35,9,FALSE) -> 0 | AA11: ● | AB11: Pairing teams in Knock Out rounds will be placed automatically
A12: =A11+2 -> 14 | B12: 5 | C12: D | D12: =E12 -> 44887.917 | E12: =Calculator!BX14 -> 44887.917 | F12: =INDEX(Translation,MATCH(Setup!B22,TransRef,0),MATCH(Setup!$C$5,LanguageRef,0)) -> France | H12: =IF(OFFSET('Group Stages'!$H$7,A12,0)<>"",OFFSET('Group Stages'!$H$7,A12,0),"") | I12: =IF(OFFSET('Group Stages'!$H$8,A12,0)<>"",OFFSET('Group Stages'!$H$8,A12,0),"") | K12: =INDEX(Translation,MATCH(Setup!B23,TransRef,0),MATCH(Setup!$C$5,LanguageRef,0)) -> Australia | N12: Al Janoub | P12: 2 | Q12: =INDEX(Calculator!$U$8:$U$11,MATCH(2,Calculator!$BK$8:$BK$11,0),0) -> United States | R12: =VLOOKUP($Q12,Calculator!$C$4:$K$35,2,FALSE) -> 0 | S12: =VLOOKUP($Q12,Calculator!$C$4:$K$35,3,FALSE) -> 0 | T12: =VLOOKUP($Q12,Calculator!$C$4:$K$35,4,FALSE) -> 0 | U12: =VLOOKUP($Q12,Calculator!$C$4:$K$35,5,FALSE) -> 0 | V12: =VLOOKUP($Q12,Calculator!$C$4:$K$35,6,FALSE)&" - "&VLOOKUP($Q12,Calculator!$C$4:$K$35,7,FALSE) -> 0 - 0 | W12: =VLOOKUP($Q12,Calculator!$C$4:$K$35,9,FALSE) -> 0 | AA12: Color meaning :
A13: =A12+2 -> 16 | B13: 12 | C13: F | D13: =E13 -> 44888.542 | E13: =Calculator!BX15 -> 44888.542 | F13: =INDEX(Translation,MATCH(Setup!B28,TransRef,0),MATCH(Setup!$C$5,LanguageRef,0)) -> Morocco | H13: =IF(OFFSET('Group Stages'!$H$7,A13,0)<>"",OFFSET('Group Stages'!$H$7,A13,0),"") | I13: =IF(OFFSET('Group Stages'!$H$8,A13,0)<>"",OFFSET('Group Stages'!$H$8,A13,0),"") | K13: =INDEX(Translation,MATCH(Setup!B29,TransRef,0),MATCH(Setup!$C$5,LanguageRef,0)) -> Croatia | N13: Al Bayt | P13: 3 | Q13: =INDEX(Calculator!$U$8:$U$11,MATCH(3,Calculator!$BK$8:$BK$11,0),0) -> Wales | R13: =VLOOKUP($Q13,Calculator!$C$4:$K$35,2,FALSE) -> 0 | S13: =VLOOKUP($Q13,Calculator!$C$4:$K$35,3,FALSE) -> 0 | T13: =VLOOKUP($Q13,Calculator!$C$4:$K$35,4,FALSE) -> 0 | U13: =VLOOKUP($Q13,Calculator!$C$4:$K$35,5,FALSE) -> 0 | V13: =VLOOKUP($Q13,Calculator!$C$4:$K$35,6,FALSE)&" - "&VLOOKUP($Q13,Calculator!$C$4:$K$35,7,FALSE) -> 0 - 0 | W13: =VLOOKUP($Q13,Calculator!$C$4:$K$35,9,FALSE) -> 0 | AB13: Team Name | AD13: Won in Group Stages
A14: =A13+2 -> 18 | B14: 11 | C14: E | D14: =E14 -> 44888.667 | E14: =Calculator!BX16 -> 44888.667 | F14: =INDEX(Translation,MATCH(Setup!B24,TransRef,0),MATCH(Setup!$C$5,LanguageRef,0)) -> Germany | H14: =IF(OFFSET('Group Stages'!$H$7,A14,0)<>"",OFFSET('Group Stages'!$H$7,A14,0),"") | I14: =IF(OFFSET('Group Stages'!$H$8,A14,0)<>"",OFFSET('Group Stages'!$H$8,A14,0),"") | K14: =INDEX(Translation,MATCH(Setup!B25,TransRef,0),MATCH(Setup!$C$5,LanguageRef,0)) -> Japan | N14: Khalifa International | P14: 4 | Q14: =INDEX(Calculator!$U$8:$U$11,MATCH(4,Calculator!$BK$8:$BK$11,0),0) -> Iran | R14: =VLOOKUP($Q14,Calculator!$C$4:$K$35,2,FALSE) -> 0 | S14: =VLOOKUP($Q14,Calculator!$C$4:$K$35,3,FALSE) -> 0 | T14: =VLOOKUP($Q14,Calculator!$C$4:$K$35,4,FALSE) -> 0 | U14: =VLOOKUP($Q14,Calculator!$C$4:$K$35,5,FALSE) -> 0 | V14: =VLOOKUP($Q14,Calculator!$C$4:$K$35,6,FALSE)&" - "&VLOOKUP($Q14,Calculator!$C$4:$K$35,7,FALSE) -> 0 - 0 | W14: =VLOOKUP($Q14,Calculator!$C$4:$K$35,9,FALSE) -> 0 | AB14: Team Name | AD14: Won by KO Rounds
A15: =A14+2 -> 20 | B15: 10 | C15: E | D15: =E15 -> 44888.792 | E15: =Calculator!BX17 -> 44888.792 | F15: =INDEX(Translation,MATCH(Setup!B26,TransRef,0),MATCH(Setup!$C$5,LanguageRef,0)) -> Spain | H15: =IF(OFFSET('Group Stages'!$H$7,A15,0)<>"",OFFSET('Group Stages'!$H$7,A15,0),"") | I15: =IF(OFFSET('Group Stages'!$H$8,A15,0)<>"",OFFSET('Group Stages'!$H$8,A15,0),"") | K15: =INDEX(Translation,MATCH(Setup!B27,TransRef,0),MATCH(Setup!$C$5,LanguageRef,0)) -> Costa Rica | N15: Al Thumama | AB15: Team Name | AD15: Lose in Group and KO Stages
A16: =A15+2 -> 22 | B16: 9 | C16: F | D16: =E16 -> 44888.917 | E16: =Calculator!BX18 -> 44888.917 | F16: =INDEX(Translation,MATCH(Setup!B30,TransRef,0),MATCH(Setup!$C$5,LanguageRef,0)) -> Belgium | H16: =IF(OFFSET('Group Stages'!$H$7,A16,0)<>"",OFFSET('Group Stages'!$H$7,A16,0),"") | I16: =IF(OFFSET('Group Stages'!$H$8,A16,0)<>"",OFFSET('Group Stages'!$H$8,A16,0),"") | K16: =INDEX(Translation,MATCH(Setup!B31,TransRef,0),MATCH(Setup!$C$5,LanguageRef,0)) -> Canada | N16: Ahmad Bin Ali | P16: =INDEX(Translation,MATCH("Group C",TransRef,0),MATCH(Setup!$C$5,LanguageRef,0)) -> Group C | R16: P | S16: W | T16: D | U16: L | V16: F - A | W16: Pt
A17: =A16+2 -> 24 | B17: 13 | C17: G | D17: =E17 -> 44889.542 | E17: =Calculator!BX19 -> 44889.542 | F17: =INDEX(Translation,MATCH(Setup!B32,TransRef,0),MATCH(Setup!$C$5,LanguageRef,0)) -> Switzerland | H17: =IF(OFFSET('Group Stages'!$H$7,A17,0)<>"",OFFSET('Group Stages'!$H$7,A17,0),"") | I17: =IF(OFFSET('Group Stages'!$H$8,A17,0)<>"",OFFSET('Group Stages'!$H$8,A17,0),"") | K17: =INDEX(Translation,MATCH(Setup!B33,TransRef,0),MATCH(Setup!$C$5,LanguageRef,0)) -> Cameroon | N17: Al Janoub | P17: 1 | Q17: =INDEX(Calculator!$U$12:$U$15,MATCH(1,Calculator!$BK$12:$BK$15,0),0) -> Argentina | R17: =VLOOKUP($Q17,Calculator!$C$4:$K$35,2,FALSE) -> 0 | S17: =VLOOKUP($Q17,Calculator!$C$4:$K$35,3,FALSE) -> 0 | T17: =VLOOKUP($Q17,Calculator!$C$4:$K$35,4,FALSE) -> 0 | U17: =VLOOKUP($Q17,Calculator!$C$4:$K$35,5,FALSE) -> 0 | V17: =VLOOKUP($Q17,Calculator!$C$4:$K$35,6,FALSE)&" - "&VLOOKUP($Q17,Calculator!$C$4:$K$35,7,FALSE) -> 0 - 0 | W17: =VLOOKUP($Q17,Calculator!$C$4:$K$35,9,FALSE) -> 0
A18: =A17+2 -> 26 | B18: 14 | C18: H | D18: =E18 -> 44889.667 | E18: =Calculator!BX20 -> 44889.667 | F18: =INDEX(Translation,MATCH(Setup!B36,TransRef,0),MATCH(Setup!$C$5,LanguageRef,0)) -> Uruguay | H18: =IF(OFFSET('Group Stages'!$H$7,A18,0)<>"",OFFSET('Group Stages'!$H$7,A18,0),"") | I18: =IF(OFFSET('Group Stages'!$H$8,A18,0)<>"",OFFSET('Group Stages'!$H$8,A18,0),"") | K18: =INDEX(Translation,MATCH(Setup!B37,TransRef,0),MATCH(Setup!$C$5,LanguageRef,0)) -> South Korea | N18: Education City | P18: 2 | Q18: =INDEX(Calculator!$U$12:$U$15,MATCH(2,Calculator!$BK$12:$BK$15,0),0) -> Mexico | R18: =VLOOKUP($Q18,Calculator!$C$4:$K$35,2,FALSE) -> 0 | S18: =VLOOKUP($Q18,Calculator!$C$4:$K$35,3,FALSE) -> 0 | T18: =VLOOKUP($Q18,Calculator!$C$4:$K$35,4,FALSE) -> 0 | U18: =VLOOKUP($Q18,Calculator!$C$4:$K$35,5,FALSE) -> 0 | V18: =VLOOKUP($Q18,Calculator!$C$4:$K$35,6,FALSE)&" - "&VLOOKUP($Q18,Calculator!$C$4:$K$35,7,FALSE) -> 0 - 0 | W18: =VLOOKUP($Q18,Calculator!$C$4:$K$35,9,FALSE) -> 0
A19: =A18+2 -> 28 | B19: 15 | C19: H | D19: =E19 -> 44889.792 | E19: =Calculator!BX21 -> 44889.792 | F19: =INDEX(Translation,MATCH(Setup!B38,TransRef,0),MATCH(Setup!$C$5,LanguageRef,0)) -> Portugal | H19: =IF(OFFSET('Group Stages'!$H$7,A19,0)<>"",OFFSET('Group Stages'!$H$7,A19,0),"") | I19: =IF(OFFSET('Group Stages'!$H$8,A19,0)<>"",OFFSET('Group Stages'!$H$8,A19,0),"") | K19: =INDEX(Translation,MATCH(Setup!B39,TransRef,0),MATCH(Setup!$C$5,LanguageRef,0)) -> Ghana | N19: Stadium 974 | P19: 3 | Q19: =INDEX(Calculator!$U$12:$U$15,MATCH(3,Calculator!$BK$12:$BK$15,0),0) -> Poland | R19: =VLOOKUP($Q19,Calculator!$C$4:$K$35,2,FALSE) -> 0 | S19: =VLOOKUP($Q19,Calculator!$C$4:$K$35,3,FALSE) -> 0 | T19: =VLOOKUP($Q19,Calculator!$C$4:$K$35,4,FALSE) -> 0 | U19: =VLOOKUP($Q19,Calculator!$C$4:$K$35,5,FALSE) -> 0 | V19: =VLOOKUP($Q19,Calculator!$C$4:$K$35,6,FALSE)&" - "&VLOOKUP($Q19,Calculator!$C$4:$K$35,7,FALSE) -> 0 - 0 | W19: =VLOOKUP($Q19,Calculator!$C$4:$K$35,9,FALSE) -> 0
A20: =A19+2 -> 30 | B20: 16 | C20: G | D20: =E20 -> 44889.917 | E20: =Calculator!BX22 -> 44889.917 | F20: =INDEX(Translation,MATCH(Setup!B34,TransRef,0),MATCH(Setup!$C$5,LanguageRef,0)) -> Brazil | H20: =IF(OFFSET('Group Stages'!$H$7,A20,0)<>"",OFFSET('Group Stages'!$H$7,A20,0),"") | I20: =IF(OFFSET('Group Stages'!$H$8,A20,0)<>"",OFFSET('Group Stages'!$H$8,A20,0),"") | K20: =INDEX(Translation,MATCH(Setup!B35,TransRef,0),MATCH(Setup!$C$5,LanguageRef,0)) -> Serbia | N20: Lusail | P20: 4 | Q20: =INDEX(Calculator!$U$12:$U$15,MATCH(4,Calculator!$BK$12:$BK$15,0),0) -> Saudi Arabia | R20: =VLOOKUP($Q20,Calculator!$C$4:$K$35,2,FALSE) -> 0 | S20: =VLOOKUP($Q20,Calculator!$C$4:$K$35,3,FALSE) -> 0 | T20: =VLOOKUP($Q20,Calculator!$C$4:$K$35,4,FALSE) -> 0 | U20: =VLOOKUP($Q20,Calculator!$C$4:$K$35,5,FALSE) -> 0 | V20: =VLOOKUP($Q20,Calculator!$C$4:$K$35,6,FALSE)&" - "&VLOOKUP($Q20,Calculator!$C$4:$K$35,7,FALSE) -> 0 - 0 | W20: =VLOOKUP($Q20,Calculator!$C$4:$K$35,9,FALSE) -> 0
A21: =A20+2 -> 32 | B21: 17 | C21: B | D21: =E21 -> 44890.542 | E21: =Calculator!BX23 -> 44890.542 | F21: =K8 -> Wales | H21: =IF(OFFSET('Group Stages'!$H$7,A21,0)<>"",OFFSET('Group Stages'!$H$7,A21,0),"") | I21: =IF(OFFSET('Group Stages'!$H$8,A21,0)<>"",OFFSET('Group Stages'!$H$8,A21,0),"") | K21: =K6 -> Iran | N21: Ahmad Bin Ali
A22: =A21+2 -> 34 | B22: 18 | C22: A | D22: =E22 -> 44890.667 | E22: =Calculator!BX24 -> 44890.667 | F22: =F5 -> Qatar | H22: =IF(OFFSET('Group Stages'!$H$7,A22,0)<>"",OFFSET('Group Stages'!$H$7,A22,0),"") | I22: =IF(OFFSET('Group Stages'!$H$8,A22,0)<>"",OFFSET('Group Stages'!$H$8,A22,0),"") | K22: =F7 -> Senegal | N22: Al Thumama | P22: =INDEX(Translation,MATCH("Group D",TransRef,0),MATCH(Setup!$C$5,LanguageRef,0)) -> Group D | R22: P | S22: W | T22: D | U22: L | V22: F - A | W22: Pt
A23: =A22+2 -> 36 | B23: 19 | C23: A | D23: =E23 -> 44890.792 | E23: =Calculator!BX25 -> 44890.792 | F23: =K7 -> Netherlands | H23: =IF(OFFSET('Group Stages'!$H$7,A23,0)<>"",OFFSET('Group Stages'!$H$7,A23,0),"") | I23: =IF(OFFSET('Group Stages'!$H$8,A23,0)<>"",OFFSET('Group Stages'!$H$8,A23,0),"") | K23: =K5 -> Ecuador | N23: Khalifa International | P23: 1 | Q23: =INDEX(Calculator!$U$16:$U$19,MATCH(1,Calculator!$BK$16:$BK$19,0),0) -> France | R23: =VLOOKUP($Q23,Calculator!$C$4:$K$35,2,FALSE) -> 0 | S23: =VLOOKUP($Q23,Calculator!$C$4:$K$35,3,FALSE) -> 0 | T23: =VLOOKUP($Q23,Calculator!$C$4:$K$35,4,FALSE) -> 0 | U23: =VLOOKUP($Q23,Calculator!$C$4:$K$35,5,FALSE) -> 0 | V23: =VLOOKUP($Q23,Calculator!$C$4:$K$35,6,FALSE)&" - "&VLOOKUP($Q23,Calculator!$C$4:$K$35,7,FALSE) -> 0 - 0 | W23: =VLOOKUP($Q23,Calculator!$C$4:$K$35,9,FALSE) -> 0
A24: =A23+2 -> 38 | B24: 20 | C24: B | D24: =E24 -> 44890.917 | E24: =Calculator!BX26 -> 44890.917 | F24: =F6 -> England | H24: =IF(OFFSET('Group Stages'!$H$7,A24,0)<>"",OFFSET('Group Stages'!$H$7,A24,0),"") | I24: =IF(OFFSET('Group Stages'!$H$8,A24,0)<>"",OFFSET('Group Stages'!$H$8,A24,0),"") | K24: =F8 -> United States | N24: Al Bayt | P24: 2 | Q24: =INDEX(Calculator!$U$16:$U$19,MATCH(2,Calculator!$BK$16:$BK$19,0),0) -> Denmark | R24: =VLOOKUP($Q24,Calculator!$C$4:$K$35,2,FALSE) -> 0 | S24: =VLOOKUP($Q24,Calculator!$C$4:$K$35,3,FALSE) -> 0 | T24: =VLOOKUP($Q24,Calculator!$C$4:$K$35,4,FALSE) -> 0 | U24: =VLOOKUP($Q24,Calculator!$C$4:$K$35,5,FALSE) -> 0 | V24: =VLOOKUP($Q24,Calculator!$C$4:$K$35,6,FALSE)&" - "&VLOOKUP($Q24,Calculator!$C$4:$K$35,7,FALSE) -> 0 - 0 | W24: =VLOOKUP($Q24,Calculator!$C$4:$K$35,9,FALSE) -> 0
A25: =A24+2 -> 40 | B25: 21 | C25: D | D25: =E25 -> 44891.542 | E25: =Calculator!BX27 -> 44891.542 | F25: =K10 -> Tunisia | H25: =IF(OFFSET('Group Stages'!$H$7,A25,0)<>"",OFFSET('Group Stages'!$H$7,A25,0),"") | I25: =IF(OFFSET('Group Stages'!$H$8,A25,0)<>"",OFFSET('Group Stages'!$H$8,A25,0),"") | K25: =K12 -> Australia | N25: Al Janoub | P25: 3 | Q25: =INDEX(Calculator!$U$16:$U$19,MATCH(3,Calculator!$BK$16:$BK$19,0),0) -> Tunisia | R25: =VLOOKUP($Q25,Calculator!$C$4:$K$35,2,FALSE) -> 0 | S25: =VLOOKUP($Q25,Calculator!$C$4:$K$35,3,FALSE) -> 0 | T25: =VLOOKUP($Q25,Calculator!$C$4:$K$35,4,FALSE) -> 0 | U25: =VLOOKUP($Q25,Calculator!$C$4:$K$35,5,FALSE) -> 0 | V25: =VLOOKUP($Q25,Calculator!$C$4:$K$35,6,FALSE)&" - "&VLOOKUP($Q25,Calculator!$C$4:$K$35,7,FALSE) -> 0 - 0 | W25: =VLOOKUP($Q25,Calculator!$C$4:$K$35,9,FALSE) -> 0
A26: =A25+2 -> 42 | B26: 22 | C26: C | D26: =E26 -> 44891.667 | E26: =Calculator!BX28 -> 44891.667 | F26: =K11 -> Poland | H26: =IF(OFFSET('Group Stages'!$H$7,A26,0)<>"",OFFSET('Group Stages'!$H$7,A26,0),"") | I26: =IF(OFFSET('Group Stages'!$H$8,A26,0)<>"",OFFSET('Group Stages'!$H$8,A26,0),"") | K26: =K9 -> Saudi Arabia | N26: Education City | P26: 4 | Q26: =INDEX(Calculator!$U$16:$U$19,MATCH(4,Calculator!$BK$16:$BK$19,0),0) -> Australia | R26: =VLOOKUP($Q26,Calculator!$C$4:$K$35,2,FALSE) -> 0 | S26: =VLOOKUP($Q26,Calculator!$C$4:$K$35,3,FALSE) -> 0 | T26: =VLOOKUP($Q26,Calculator!$C$4:$K$35,4,FALSE) -> 0 | U26: =VLOOKUP($Q26,Calculator!$C$4:$K$35,5,FALSE) -> 0 | V26: =VLOOKUP($Q26,Calculator!$C$4:$K$35,6,FALSE)&" - "&VLOOKUP($Q26,Calculator!$C$4:$K$35,7,FALSE) -> 0 - 0 | W26: =VLOOKUP($Q26,Calculator!$C$4:$K$35,9,FALSE) -> 0
A27: =A26+2 -> 44 | B27: 23 | C27: D | D27: =E27 -> 44891.792 | E27: =Calculator!BX29 -> 44891.792 | F27: =F12 -> France | H27: =IF(OFFSET('Group Stages'!$H$7,A27,0)<>"",OFFSET('Group Stages'!$H$7,A27,0),"") | I27: =IF(OFFSET('Group Stages'!$H$8,A27,0)<>"",OFFSET('Group Stages'!$H$8,A27,0),"") | K27: =F10 -> Denmark | N27: Stadium 974
A28: =A27+2 -> 46 | B28: 24 | C28: C | D28: =E28 -> 44891.917 | E28: =Calculator!BX30 -> 44891.917 | F28: =F9 -> Argentina | H28: =IF(OFFSET('Group Stages'!$H$7,A28,0)<>"",OFFSET('Group Stages'!$H$7,A28,0),"") | I28: =IF(OFFSET('Group Stages'!$H$8,A28,0)<>"",OFFSET('Group Stages'!$H$8,A28,0),"") | K28: =F11 -> Mexico | N28: Lusail | P28: =INDEX(Translation,MATCH("Group E",TransRef,0),MATCH(Setup!$C$5,LanguageRef,0)) -> Group E | R28: P | S28: W | T28: D | U28: L | V28: F - A | W28: Pt
A29: =A28+2 -> 48 | B29: 25 | C29: E | D29: =E29 -> 44892.542 | E29: =Calculator!BX31 -> 44892.542 | F29: =K14 -> Japan | H29: =IF(OFFSET('Group Stages'!$H$7,A29,0)<>"",OFFSET('Group Stages'!$H$7,A29,0),"") | I29: =IF(OFFSET('Group Stages'!$H$8,A29,0)<>"",OFFSET('Group Stages'!$H$8,A29,0),"") | K29: =K15 -> Costa Rica | N29: Ahmad Bin Ali | P29: 1 | Q29: =INDEX(Calculator!$U$20:$U$23,MATCH(1,Calculator!$BK$20:$BK$23,0),0) -> Spain | R29: =VLOOKUP($Q29,Calculator!$C$4:$K$35,2,FALSE) -> 0 | S29: =VLOOKUP($Q29,Calculator!$C$4:$K$35,3,FALSE) -> 0 | T29: =VLOOKUP($Q29,Calculator!$C$4:$K$35,4,FALSE) -> 0 | U29: =VLOOKUP($Q29,Calculator!$C$4:$K$35,5,FALSE) -> 0 | V29: =VLOOKUP($Q29,Calculator!$C$4:$K$35,6,FALSE)&" - "&VLOOKUP($Q29,Calculator!$C$4:$K$35,7,FALSE) -> 0 - 0 | W29: =VLOOKUP($Q29,Calculator!$C$4:$K$35,9,FALSE) -> 0
A30: =A29+2 -> 50 | B30: 26 | C30: F | D30: =E30 -> 44892.667 | E30: =Calculator!BX32 -> 44892.667 | F30: =F16 -> Belgium | H30: =IF(OFFSET('Group Stages'!$H$7,A30,0)<>"",OFFSET('Group Stages'!$H$7,A30,0),"") | I30: =IF(OFFSET('Group Stages'!$H$8,A30,0)<>"",OFFSET('Group Stages'!$H$8,A30,0),"") | K30: =F13 -> Morocco | N30: Al Thumama | P30: 2 | Q30: =INDEX(Calculator!$U$20:$U$23,MATCH(2,Calculator!$BK$20:$BK$23,0),0) -> Germany | R30: =VLOOKUP($Q30,Calculator!$C$4:$K$35,2,FALSE) -> 0 | S30: =VLOOKUP($Q30,Calculator!$C$4:$K$35,3,FALSE) -> 0 | T30: =VLOOKUP($Q30,Calculator!$C$4:$K$35,4,FALSE) -> 0 | U30: =VLOOKUP($Q30,Calculator!$C$4:$K$35,5,FALSE) -> 0 | V30: =VLOOKUP($Q30,Calculator!$C$4:$K$35,6,FALSE)&" - "&VLOOKUP($Q30,Calculator!$C$4:$K$35,7,FALSE) -> 0 - 0 | W30: =VLOOKUP($Q30,Calculator!$C$4:$K$35,9,FALSE) -> 0
A31: =A30+2 -> 52 | B31: 27 | C31: F | D31: =E31 -> 44892.792 | E31: =Calculator!BX33 -> 44892.792 | F31: =K13 -> Croatia | H31: =IF(OFFSET('Group Stages'!$H$7,A31,0)<>"",OFFSET('Group Stages'!$H$7,A31,0),"") | I31: =IF(OFFSET('Group Stages'!$H$8,A31,0)<>"",OFFSET('Group Stages'!$H$8,A31,0),"") | K31: =K16 -> Canada | N31: Khalifa International | P31: 3 | Q31: =INDEX(Calculator!$U$20:$U$23,MATCH(3,Calculator!$BK$20:$BK$23,0),0) -> Japan | R31: =VLOOKUP($Q31,Calculator!$C$4:$K$35,2,FALSE) -> 0 | S31: =VLOOKUP($Q31,Calculator!$C$4:$K$35,3,FALSE) -> 0 | T31: =VLOOKUP($Q31,Calculator!$C$4:$K$35,4,FALSE) -> 0 | U31: =VLOOKUP($Q31,Calculator!$C$4:$K$35,5,FALSE) -> 0 | V31: =VLOOKUP($Q31,Calculator!$C$4:$K$35,6,FALSE)&" - "&VLOOKUP($Q31,Calculator!$C$4:$K$35,7,FALSE) -> 0 - 0 | W31: =VLOOKUP($Q31,Calculator!$C$4:$K$35,9,FALSE) -> 0
A32: =A31+2 -> 54 | B32: 28 | C32: E | D32: =E32 -> 44892.917 | E32: =Calculator!BX34 -> 44892.917 | F32: =F15 -> Spain | H32: =IF(OFFSET('Group Stages'!$H$7,A32,0)<>"",OFFSET('Group Stages'!$H$7,A32,0),"") | I32: =IF(OFFSET('Group Stages'!$H$8,A32,0)<>"",OFFSET('Group Stages'!$H$8,A32,0),"") | K32: =F14 -> Germany | N32: Al Bayt | P32: 4 | Q32: =INDEX(Calculator!$U$20:$U$23,MATCH(4,Calculator!$BK$20:$BK$23,0),0) -> Costa Rica | R32: =VLOOKUP($Q32,Calculator!$C$4:$K$35,2,FALSE) -> 0 | S32: =VLOOKUP($Q32,Calculator!$C$4:$K$35,3,FALSE) -> 0 | T32: =VLOOKUP($Q32,Calculator!$C$4:$K$35,4,FALSE) -> 0 | U32: =VLOOKUP($Q32,Calculator!$C$4:$K$35,5,FALSE) -> 0 | V32: =VLOOKUP($Q32,Calculator!$C$4:$K$35,6,FALSE)&" - "&VLOOKUP($Q32,Calculator!$C$4:$K$35,7,FALSE) -> 0 - 0 | W32: =VLOOKUP($Q32,Calculator!$C$4:$K$35,9,FALSE) -> 0
A33: =A32+2 -> 56 | B33: 29 | C33: G | D33: =E33 -> 44893.542 | E33: =Calculator!BX35 -> 44893.542 | F33: =K17 -> Cameroon | H33: =IF(OFFSET('Group Stages'!$H$7,A33,0)<>"",OFFSET('Group Stages'!$H$7,A33,0),"") | I33: =IF(OFFSET('Group Stages'!$H$8,A33,0)<>"",OFFSET('Group Stages'!$H$8,A33,0),"") | K33: =K20 -> Serbia | N33: Al Janoub
A34: =A33+2 -> 58 | B34: 30 | C34: H | D34: =E34 -> 44893.667 | E34: =Calculator!BX36 -> 44893.667 | F34: =K18 -> South Korea | H34: =IF(OFFSET('Group Stages'!$H$7,A34,0)<>"",OFFSET('Group Stages'!$H$7,A34,0),"") | I34: =IF(OFFSET('Group Stages'!$H$8,A34,0)<>"",OFFSET('Group Stages'!$H$8,A34,0),"") | K34: =K19 -> Ghana | N34: Education City | P34: =INDEX(Translation,MATCH("Group F",TransRef,0),MATCH(Setup!$C$5,LanguageRef,0)) -> Group F | R34: P | S34: W | T34: D | U34: L | V34: F - A | W34: Pt
A35: =A34+2 -> 60 | B35: 31 | C35: G | D35: =E35 -> 44893.792 | E35: =Calculator!BX37 -> 44893.792 | F35: =F20 -> Brazil | H35: =IF(OFFSET('Group Stages'!$H$7,A35,0)<>"",OFFSET('Group Stages'!$H$7,A35,0),"") | I35: =IF(OFFSET('Group Stages'!$H$8,A35,0)<>"",OFFSET('Group Stages'!$H$8,A35,0),"") | K35: =F17 -> Switzerland | N35: Stadium 974 | P35: 1 | Q35: =INDEX(Calculator!$U$24:$U$27,MATCH(1,Calculator!$BK$24:$BK$27,0),0) -> Belgium | R35: =VLOOKUP($Q35,Calculator!$C$4:$K$35,2,FALSE) -> 0 | S35: =VLOOKUP($Q35,Calculator!$C$4:$K$35,3,FALSE) -> 0 | T35: =VLOOKUP($Q35,Calculator!$C$4:$K$35,4,FALSE) -> 0 | U35: =VLOOKUP($Q35,Calculator!$C$4:$K$35,5,FALSE) -> 0 | V35: =VLOOKUP($Q35,Calculator!$C$4:$K$35,6,FALSE)&" - "&VLOOKUP($Q35,Calculator!$C$4:$K$35,7,FALSE) -> 0 - 0 | W35: =VLOOKUP($Q35,Calculator!$C$4:$K$35,9,FALSE) -> 0
A36: =A35+2 -> 62 | B36: 32 | C36: H | D36: =E36 -> 44893.917 | E36: =Calculator!BX38 -> 44893.917 | F36: =F19 -> Portugal | H36: =IF(OFFSET('Group Stages'!$H$7,A36,0)<>"",OFFSET('Group Stages'!$H$7,A36,0),"") | I36: =IF(OFFSET('Group Stages'!$H$8,A36,0)<>"",OFFSET('Group Stages'!$H$8,A36,0),"") | K36: =F18 -> Uruguay | N36: Lusail | P36: 2 | Q36: =INDEX(Calculator!$U$24:$U$27,MATCH(2,Calculator!$BK$24:$BK$27,0),0) -> Croatia | R36: =VLOOKUP($Q36,Calculator!$C$4:$K$35,2,FALSE) -> 0 | S36: =VLOOKUP($Q36,Calculator!$C$4:$K$35,3,FALSE) -> 0 | T36: =VLOOKUP($Q36,Calculator!$C$4:$K$35,4,FALSE) -> 0 | U36: =VLOOKUP($Q36,Calculator!$C$4:$K$35,5,FALSE) -> 0 | V36: =VLOOKUP($Q36,Calculator!$C$4:$K$35,6,FALSE)&" - "&VLOOKUP($Q36,Calculator!$C$4:$K$35,7,FALSE) -> 0 - 0 | W36: =VLOOKUP($Q36,Calculator!$C$4:$K$35,9,FALSE) -> 0
A37: =A36+2 -> 64 | B37: 35 | C37: A | D37: =E37 -> 44894.75 | E37: =Calculator!BX39 -> 44894.75 | F37: =K5 -> Ecuador | H37: =IF(OFFSET('Group Stages'!$H$7,A37,0)<>"",OFFSET('Group Stages'!$H$7,A37,0),"") | I37: =IF(OFFSET('Group Stages'!$H$8,A37,0)<>"",OFFSET('Group Stages'!$H$8,A37,0),"") | K37: =F7 -> Senegal | N37: Khalifa International | P37: 3 | Q37: =INDEX(Calculator!$U$24:$U$27,MATCH(3,Calculator!$BK$24:$BK$27,0),0) -> Morocco | R37: =VLOOKUP($Q37,Calculator!$C$4:$K$35,2,FALSE) -> 0 | S37: =VLOOKUP($Q37,Calculator!$C$4:$K$35,3,FALSE) -> 0 | T37: =VLOOKUP($Q37,Calculator!$C$4:$K$35,4,FALSE) -> 0 | U37: =VLOOKUP($Q37,Calculator!$C$4:$K$35,5,FALSE) -> 0 | V37: =VLOOKUP($Q37,Calculator!$C$4:$K$35,6,FALSE)&" - "&VLOOKUP($Q37,Calculator!$C$4:$K$35,7,FALSE) -> 0 - 0 | W37: =VLOOKUP($Q37,Calculator!$C$4:$K$35,9,FALSE) -> 0
A38: =A37+2 -> 66 | B38: 36 | C38: A | D38: =E38 -> 44894.75 | E38: =Calculator!BX40 -> 44894.75 | F38: =K7 -> Netherlands | H38: =IF(OFFSET('Group Stages'!$H$7,A38,0)<>"",OFFSET('Group Stages'!$H$7,A38,0),"") | I38: =IF(OFFSET('Group Stages'!$H$8,A38,0)<>"",OFFSET('Group Stages'!$H$8,A38,0),"") | K38: =F5 -> Qatar | N38: Al Bayt | P38: 4 | Q38: =INDEX(Calculator!$U$24:$U$27,MATCH(4,Calculator!$BK$24:$BK$27,0),0) -> Canada | R38: =VLOOKUP($Q38,Calculator!$C$4:$K$35,2,FALSE) -> 0 | S38: =VLOOKUP($Q38,Calculator!$C$4:$K$35,3,FALSE) -> 0 | T38: =VLOOKUP($Q38,Calculator!$C$4:$K$35,4,FALSE) -> 0 | U38: =VLOOKUP($Q38,Calculator!$C$4:$K$35,5,FALSE) -> 0 | V38: =VLOOKUP($Q38,Calculator!$C$4:$K$35,6,FALSE)&" - "&VLOOKUP($Q38,Calculator!$C$4:$K$35,7,FALSE) -> 0 - 0 | W38: =VLOOKUP($Q38,Calculator!$C$4:$K$35,9,FALSE) -> 0
A39: =A38+2 -> 68 | B39: 33 | C39: B | D39: =E39 -> 44894.917 | E39: =Calculator!BX41 -> 44894.917 | F39: =K8 -> Wales | H39: =IF(OFFSET('Group Stages'!$H$7,A39,0)<>"",OFFSET('Group Stages'!$H$7,A39,0),"") | I39: =IF(OFFSET('Group Stages'!$H$8,A39,0)<>"",OFFSET('Group Stages'!$H$8,A39,0),"") | K39: =F6 -> England | N39: Ahmad Bin Ali
A40: =A39+2 -> 70 | B40: 34 | C40: B | D40: =E40 -> 44894.917 | E40: =Calculator!BX42 -> 44894.917 | F40: =K6 -> Iran | H40: =IF(OFFSET('Group Stages'!$H$7,A40,0)<>"",OFFSET('Group Stages'!$H$7,A40,0),"") | I40: =IF(OFFSET('Group Stages'!$H$8,A40,0)<>"",OFFSET('Group Stages'!$H$8,A40,0),"") | K40: =F8 -> United States | N40: Al Thumama | P40: =INDEX(Translation,MATCH("Group G",TransRef,0),MATCH(Setup!$C$5,LanguageRef,0)) -> Group G | R40: P | S40: W | T40: D | U40: L | V40: F - A | W40: Pt
A41: =A40+2 -> 72 | B41: 37 | C41: D | D41: =E41 -> 44895.75 | E41: =Calculator!BX43 -> 44895.75 | F41: =K12 -> Australia | H41: =IF(OFFSET('Group Stages'!$H$7,A41,0)<>"",OFFSET('Group Stages'!$H$7,A41,0),"") | I41: =IF(OFFSET('Group Stages'!$H$8,A41,0)<>"",OFFSET('Group Stages'!$H$8,A41,0),"") | K41: =F10 -> Denmark | N41: Al Janoub | P41: 1 | Q41: =INDEX(Calculator!$U$28:$U$31,MATCH(1,Calculator!$BK$28:$BK$31,0),0) -> Brazil | R41: =VLOOKUP($Q41,Calculator!$C$4:$K$35,2,FALSE) -> 0 | S41: =VLOOKUP($Q41,Calculator!$C$4:$K$35,3,FALSE) -> 0 | T41: =VLOOKUP($Q41,Calculator!$C$4:$K$35,4,FALSE) -> 0 | U41: =VLOOKUP($Q41,Calculator!$C$4:$K$35,5,FALSE) -> 0 | V41: =VLOOKUP($Q41,Calculator!$C$4:$K$35,6,FALSE)&" - "&VLOOKUP($Q41,Calculator!$C$4:$K$35,7,FALSE) -> 0 - 0 | W41: =VLOOKUP($Q41,Calculator!$C$4:$K$35,9,FALSE) -> 0
A42: =A41+2 -> 74 | B42: 38 | C42: D | D42: =E42 -> 44895.75 | E42: =Calculator!BX44 -> 44895.75 | F42: =K10 -> Tunisia | H42: =IF(OFFSET('Group Stages'!$H$7,A42,0)<>"",OFFSET('Group Stages'!$H$7,A42,0),"") | I42: =IF(OFFSET('Group Stages'!$H$8,A42,0)<>"",OFFSET('Group Stages'!$H$8,A42,0),"") | K42: =F12 -> France | N42: Education City | P42: 2 | Q42: =INDEX(Calculator!$U$28:$U$31,MATCH(2,Calculator!$BK$28:$BK$31,0),0) -> Switzerland | R42: =VLOOKUP($Q42,Calculator!$C$4:$K$35,2,FALSE) -> 0 | S42: =VLOOKUP($Q42,Calculator!$C$4:$K$35,3,FALSE) -> 0 | T42: =VLOOKUP($Q42,Calculator!$C$4:$K$35,4,FALSE) -> 0 | U42: =VLOOKUP($Q42,Calculator!$C$4:$K$35,5,FALSE) -> 0 | V42: =VLOOKUP($Q42,Calculator!$C$4:$K$35,6,FALSE)&" - "&VLOOKUP($Q42,Calculator!$C$4:$K$35,7,FALSE) -> 0 - 0 | W42: =VLOOKUP($Q42,Calculator!$C$4:$K$35,9,FALSE) -> 0
A43: =A42+2 -> 76 | B43: 39 | C43: C | D43: =E43 -> 44895.917 | E43: =Calculator!BX45 -> 44895.917 | F43: =K11 -> Poland | H43: =IF(OFFSET('Group Stages'!$H$7,A43,0)<>"",OFFSET('Group Stages'!$H$7,A43,0),"") | I43: =IF(OFFSET('Group Stages'!$H$8,A43,0)<>"",OFFSET('Group Stages'!$H$8,A43,0),"") | K43: =F9 -> Argentina | N43: Stadium 974 | P43: 3 | Q43: =INDEX(Calculator!$U$28:$U$31,MATCH(3,Calculator!$BK$28:$BK$31,0),0) -> Serbia | R43: =VLOOKUP($Q43,Calculator!$C$4:$K$35,2,FALSE) -> 0 | S43: =VLOOKUP($Q43,Calculator!$C$4:$K$35,3,FALSE) -> 0 | T43: =VLOOKUP($Q43,Calculator!$C$4:$K$35,4,FALSE) -> 0 | U43: =VLOOKUP($Q43,Calculator!$C$4:$K$35,5,FALSE) -> 0 | V43: =VLOOKUP($Q43,Calculator!$C$4:$K$35,6,FALSE)&" - "&VLOOKUP($Q43,Calculator!$C$4:$K$35,7,FALSE) -> 0 - 0 | W43: =VLOOKUP($Q43,Calculator!$C$4:$K$35,9,FALSE) -> 0
A44: =A43+2 -> 78 | B44: 40 | C44: C | D44: =E44 -> 44895.917 | E44: =Calculator!BX46 -> 44895.917 | F44: =K9 -> Saudi Arabia | H44: =IF(OFFSET('Group Stages'!$H$7,A44,0)<>"",OFFSET('Group Stages'!$H$7,A44,0),"") | I44: =IF(OFFSET('Group Stages'!$H$8,A44,0)<>"",OFFSET('Group Stages'!$H$8,A44,0),"") | K44: =F11 -> Mexico | N44: Lusail | P44: 4 | Q44: =INDEX(Calculator!$U$28:$U$31,MATCH(4,Calculator!$BK$28:$BK$31,0),0) -> Cameroon | R44: =VLOOKUP($Q44,Calculator!$C$4:$K$35,2,FALSE) -> 0 | S44: =VLOOKUP($Q44,Calculator!$C$4:$K$35,3,FALSE) -> 0 | T44: =VLOOKUP($Q44,Calculator!$C$4:$K$35,4,FALSE) -> 0 | U44: =VLOOKUP($Q44,Calculator!$C$4:$K$35,5,FALSE) -> 0 | V44: =VLOOKUP($Q44,Calculator!$C$4:$K$35,6,FALSE)&" - "&VLOOKUP($Q44,Calculator!$C$4:$K$35,7,FALSE) -> 0 - 0 | W44: =VLOOKUP($Q44,Calculator!$C$4:$K$35,9,FALSE) -> 0
A45: =A44+2 -> 80 | B45: 41 | C45: F | D45: =E45 -> 44896.75 | E45: =Calculator!BX47 -> 44896.75 | F45: =K13 -> Croatia | H45: =IF(OFFSET('Group Stages'!$H$7,A45,0)<>"",OFFSET('Group Stages'!$H$7,A45,0),"") | I45: =IF(OFFSET('Group Stages'!$H$8,A45,0)<>"",OFFSET('Group Stages'!$H$8,A45,0),"") | K45: =F16 -> Belgium | N45: Ahmad Bin Ali
A46: =A45+2 -> 82 | B46: 42 | C46: F | D46: =E46 -> 44896.75 | E46: =Calculator!BX48 -> 44896.75 | F46: =K16 -> Canada | H46: =IF(OFFSET('Group Stages'!$H$7,A46,0)<>"",OFFSET('Group Stages'!$H$7,A46,0),"") | I46: =IF(OFFSET('Group Stages'!$H$8,A46,0)<>"",OFFSET('Group Stages'!$H$8,A46,0),"") | K46: =F13 -> Morocco | N46: Al Thumama | P46: =INDEX(Translation,MATCH("Group H",TransRef,0),MATCH(Setup!$C$5,LanguageRef,0)) -> Group H | R46: P | S46: W | T46: D | U46: L | V46: F - A | W46: Pt
A47: =A46+2 -> 84 | B47: 43 | C47: E | D47: =E47 -> 44896.917 | E47: =Calculator!BX49 -> 44896.917 | F47: =K14 -> Japan | H47: =IF(OFFSET('Group Stages'!$H$7,A47,0)<>"",OFFSET('Group Stages'!$H$7,A47,0),"") | I47: =IF(OFFSET('Group Stages'!$H$8,A47,0)<>"",OFFSET('Group Stages'!$H$8,A47,0),"") | K47: =F15 -> Spain | N47: Khalifa International | P47: 1 | Q47: =INDEX(Calculator!$U$32:$U$35,MATCH(1,Calculator!$BK$32:$BK$35,0),0) -> Portugal | R47: =VLOOKUP($Q47,Calculator!$C$4:$K$35,2,FALSE) -> 0 | S47: =VLOOKUP($Q47,Calculator!$C$4:$K$35,3,FALSE) -> 0 | T47: =VLOOKUP($Q47,Calculator!$C$4:$K$35,4,FALSE) -> 0 | U47: =VLOOKUP($Q47,Calculator!$C$4:$K$35,5,FALSE) -> 0 | V47: =VLOOKUP($Q47,Calculator!$C$4:$K$35,6,FALSE)&" - "&VLOOKUP($Q47,Calculator!$C$4:$K$35,7,FALSE) -> 0 - 0 | W47: =VLOOKUP($Q47,Calculator!$C$4:$K$35,9,FALSE) -> 0
A48: =A47+2 -> 86 | B48: 44 | C48: E | D48: =E48 -> 44896.917 | E48: =Calculator!BX50 -> 44896.917 | F48: =K15 -> Costa Rica | H48: =IF(OFFSET('Group Stages'!$H$7,A48,0)<>"",OFFSET('Group Stages'!$H$7,A48,0),"") | I48: =IF(OFFSET('Group Stages'!$H$8,A48,0)<>"",OFFSET('Group Stages'!$H$8,A48,0),"") | K48: =F14 -> Germany | N48: Al Bayt | P48: 2 | Q48: =INDEX(Calculator!$U$32:$U$35,MATCH(2,Calculator!$BK$32:$BK$35,0),0) -> Uruguay | R48: =VLOOKUP($Q48,Calculator!$C$4:$K$35,2,FALSE) -> 0 | S48: =VLOOKUP($Q48,Calculator!$C$4:$K$35,3,FALSE) -> 0 | T48: =VLOOKUP($Q48,Calculator!$C$4:$K$35,4,FALSE) -> 0 | U48: =VLOOKUP($Q48,Calculator!$C$4:$K$35,5,FALSE) -> 0 | V48: =VLOOKUP($Q48,Calculator!$C$4:$K$35,6,FALSE)&" - "&VLOOKUP($Q48,Calculator!$C$4:$K$35,7,FALSE) -> 0 - 0 | W48: =VLOOKUP($Q48,Calculator!$C$4:$K$35,9,FALSE) -> 0
A49: =A48+2 -> 88 | B49: 45 | C49: H | D49: =E49 -> 44897.75 | E49: =Calculator!BX51 -> 44897.75 | F49: =K19 -> Ghana | H49: =IF(OFFSET('Group Stages'!$H$7,A49,0)<>"",OFFSET('Group Stages'!$H$7,A49,0),"") | I49: =IF(OFFSET('Group Stages'!$H$8,A49,0)<>"",OFFSET('Group Stages'!$H$8,A49,0),"") | K49: =F18 -> Uruguay | N49: Al Janoub | P49: 3 | Q49: =INDEX(Calculator!$U$32:$U$35,MATCH(3,Calculator!$BK$32:$BK$35,0),0) -> South Korea | R49: =VLOOKUP($Q49,Calculator!$C$4:$K$35,2,FALSE) -> 0 | S49: =VLOOKUP($Q49,Calculator!$C$4:$K$35,3,FALSE) -> 0 | T49: =VLOOKUP($Q49,Calculator!$C$4:$K$35,4,FALSE) -> 0 | U49: =VLOOKUP($Q49,Calculator!$C$4:$K$35,5,FALSE) -> 0 | V49: =VLOOKUP($Q49,Calculator!$C$4:$K$35,6,FALSE)&" - "&VLOOKUP($Q49,Calculator!$C$4:$K$35,7,FALSE) -> 0 - 0 | W49: =VLOOKUP($Q49,Calculator!$C$4:$K$35,9,FALSE) -> 0
A50: =A49+2 -> 90 | B50: 46 | C50: H | D50: =E50 -> 44897.75 | E50: =Calculator!BX52 -> 44897.75 | F50: =K18 -> South Korea | H50: =IF(OFFSET('Group Stages'!$H$7,A50,0)<>"",OFFSET('Group Stages'!$H$7,A50,0),"") | I50: =IF(OFFSET('Group Stages'!$H$8,A50,0)<>"",OFFSET('Group Stages'!$H$8,A50,0),"") | K50: =F19 -> Portugal | N50: Education City | P50: 4 | Q50: =INDEX(Calculator!$U$32:$U$35,MATCH(4,Calculator!$BK$32:$BK$35,0),0) -> Ghana | R50: =VLOOKUP($Q50,Calculator!$C$4:$K$35,2,FALSE) -> 0 | S50: =VLOOKUP($Q50,Calculator!$C$4:$K$35,3,FALSE) -> 0 | T50: =VLOOKUP($Q50,Calculator!$C$4:$K$35,4,FALSE) -> 0 | U50: =VLOOKUP($Q50,Calculator!$C$4:$K$35,5,FALSE) -> 0 | V50: =VLOOKUP($Q50,Calculator!$C$4:$K$35,6,FALSE)&" - "&VLOOKUP($Q50,Calculator!$C$4:$K$35,7,FALSE) -> 0 - 0 | W50: =VLOOKUP($Q50,Calculator!$C$4:$K$35,9,FALSE) -> 0
A51: =A50+2 -> 92 | B51: 47 | C51: G | D51: =E51 -> 44897.917 | E51: =Calculator!BX53 -> 44897.917 | F51: =K20 -> Serbia | H51: =IF(OFFSET('Group Stages'!$H$7,A51,0)<>"",OFFSET('Group Stages'!$H$7,A51,0),"") | I51: =IF(OFFSET('Group Stages'!$H$8,A51,0)<>"",OFFSET('Group Stages'!$H$8,A51,0),"") | K51: =F17 -> Switzerland | N51: Stadium 974
A52: =A51+2 -> 94 | B52: 48 | C52: G | D52: =E52 -> 44897.917 | E52: =Calculator!BX54 -> 44897.917 | F52: =K17 -> Cameroon | H52: =IF(OFFSET('Group Stages'!$H$7,A52,0)<>"",OFFSET('Group Stages'!$H$7,A52,0),"") | I52: =IF(OFFSET('Group Stages'!$H$8,A52,0)<>"",OFFSET('Group Stages'!$H$8,A52,0),"") | K52: =F20 -> Brazil | N52: Lusail
B53: =INDEX(Translation,MATCH("Knock Out Rounds",TransRef,0),MATCH(Setup!C5,LanguageRef,0)) -> Knock Out Rounds | L53: PSO | P53: =UPPER(INDEX(Translation,MATCH("World Cup 2022 Champion",TransRef,0),MATCH(Setup!$C$5,LanguageRef,0))) -> WORLD CUP 2022 CHAMPION
A54: 0 | B54: 49 | C54: R16 | D54: =E54 -> 44898.75 | E54: =Calculator!BX55 -> 44898.75 | F54: =IF(SUM(R5:R8)=12,Q5,INDEX(Translation,MATCH("Group A Winner",TransRef,0),MATCH(Setup!C5,LanguageRef,0))) -> Group A Winner | H54: =IF(OFFSET('Knock Out Stages'!$H$7,A54,0)<>"",OFFSET('Knock Out Stages'!$H$7,A54,0),"") | I54: =IF(OFFSET('Knock Out Stages'!$H$8,A54,0)<>"",OFFSET('Knock Out Stages'!$H$8,A54,0),"") | K54: =IF(SUM(R11:R14)=12,Q12,INDEX(Translation,MATCH("Group B Runner Up",TransRef,0),MATCH(Setup!C5,LanguageRef,0))) -> Group B Runner Up | L54: =OFFSET('Knock Out Stages'!$I$7,A54,0) -> 0 | M54: =OFFSET('Knock Out Stages'!$I$8,A54,0) -> 0 | N54: Khalifa International
A55: =A54+2 -> 2 | B55: 50 | D55: =E55 -> 44898.917 | E55: =Calculator!BX56 -> 44898.917 | F55: =IF(SUM(R17:R20)=12,Q17,INDEX(Translation,MATCH("Group C Winner",TransRef,0),MATCH(Setup!C5,LanguageRef,0))) -> Group C Winner | H55: =IF(OFFSET('Knock Out Stages'!$H$7,A55,0)<>"",OFFSET('Knock Out Stages'!$H$7,A55,0),"") | I55: =IF(OFFSET('Knock Out Stages'!$H$8,A55,0)<>"",OFFSET('Knock Out Stages'!$H$8,A55,0),"") | K55: =IF(SUM(R23:R26)=12,Q24,INDEX(Translation,MATCH("Group D Runner Up",TransRef,0),MATCH(Setup!C5,LanguageRef,0))) -> Group D Runner Up | L55: =OFFSET('Knock Out Stages'!$I$7,A55,0) -> 0 | M55: =OFFSET('Knock Out Stages'!$I$8,A55,0) -> 0 | N55: Ahmad Bin Ali
A56: =A55+2 -> 4 | B56: 52 | D56: =E56 -> 44899.75 | E56: =Calculator!BX57 -> 44899.75 | F56: =IF(SUM(R23:R26)=12,Q23,INDEX(Translation,MATCH("Group D Winner",TransRef,0),MATCH(Setup!C5,LanguageRef,0))) -> Group D Winner | H56: =IF(OFFSET('Knock Out Stages'!$H$7,A56,0)<>"",OFFSET('Knock Out Stages'!$H$7,A56,0),"") | I56: =IF(OFFSET('Knock Out Stages'!$H$8,A56,0)<>"",OFFSET('Knock Out Stages'!$H$8,A56,0),"") | K56: =IF(SUM(R17:R20)=12,Q18,INDEX(Translation,MATCH("Group C Runner Up",TransRef,0),MATCH(Setup!C5,LanguageRef,0))) -> Group C Runner Up | L56: =OFFSET('Knock Out Stages'!$I$7,A56,0) -> 0 | M56: =OFFSET('Knock Out Stages'!$I$8,A56,0) -> 0 | N56: Al Thumama | CQ56: Cairo
A57: =A56+2 -> 6 | B57: 51 | D57: =E57 -> 44899.917 | E57: =Calculator!BX58 -> 44899.917 | F57: =IF(SUM(R11:R14)=12,Q11,INDEX(Translation,MATCH("Group B Winner",TransRef,0),MATCH(Setup!C5,LanguageRef,0))) -> Group B Winner | H57: =IF(OFFSET('Knock Out Stages'!$H$7,A57,0)<>"",OFFSET('Knock Out Stages'!$H$7,A57,0),"") | I57: =IF(OFFSET('Knock Out Stages'!$H$8,A57,0)<>"",OFFSET('Knock Out Stages'!$H$8,A57,0),"") | K57: =IF(SUM(R5:R8)=12,Q6,INDEX(Translation,MATCH("Group A Runner Up",TransRef,0),MATCH(Setup!C5,LanguageRef,0))) -> Group A Runner Up | L57: =OFFSET('Knock Out Stages'!$I$7,A57,0) -> 0 | M57: =OFFSET('Knock Out Stages'!$I$8,A57,0) -> 0 | N57: Al Bayt | P57: =UPPER(IF(AND(H69<>"",I69<>""),IF((H69+L69)>(I69+M69),F69,IF((H69+L69)<(I69+M69),K69,INDEX(Translation,MATCH("World Cup 2022 Champion",TransRef,0),MATCH(Setup!C5,LanguageRef,0)))),INDEX(Translation,MATCH("World Cup 2022 Champion",TransRef,0),MATCH(Setup!C5,LanguageRef,0)))) -> WORLD CUP 2022 CHAMPION | CQ57: Canberra
A58: =A57+2 -> 8 | B58: 53 | D58: =E58 -> 44900.75 | E58: =Calculator!BX59 -> 44900.75 | F58: =IF(SUM(R29:R32)=12,Q29,INDEX(Translation,MATCH("Group E Winner",TransRef,0),MATCH(Setup!C5,LanguageRef,0))) -> Group E Winner | H58: =IF(OFFSET('Knock Out Stages'!$H$7,A58,0)<>"",OFFSET('Knock Out Stages'!$H$7,A58,0),"") | I58: =IF(OFFSET('Knock Out Stages'!$H$8,A58,0)<>"",OFFSET('Knock Out Stages'!$H$8,A58,0),"") | K58: =IF(SUM(R35:R38)=12,Q36,INDEX(Translation,MATCH("Group F Runner Up",TransRef,0),MATCH(Setup!C5,LanguageRef,0))) -> Group F Runner Up | L58: =OFFSET('Knock Out Stages'!$I$7,A58,0) -> 0 | M58: =OFFSET('Knock Out Stages'!$I$8,A58,0) -> 0 | N58: Al Janoub | CQ58: Cape Town
A59: =A58+2 -> 10 | B59: 54 | D59: =E59 -> 44900.917 | E59: =Calculator!BX60 -> 44900.917 | F59: =IF(SUM(R41:R44)=12,Q41,INDEX(Translation,MATCH("Group G Winner",TransRef,0),MATCH(Setup!C5,LanguageRef,0))) -> Group G Winner | H59: =IF(OFFSET('Knock Out Stages'!$H$7,A59,0)<>"",OFFSET('Knock Out Stages'!$H$7,A59,0),"") | I59: =IF(OFFSET('Knock Out Stages'!$H$8,A59,0)<>"",OFFSET('Knock Out Stages'!$H$8,A59,0),"") | K59: =IF(SUM(R47:R50)=12,Q48,INDEX(Translation,MATCH("Group H Runner Up",TransRef,0),MATCH(Setup!C5,LanguageRef,0))) -> Group H Runner Up | L59: =OFFSET('Knock Out Stages'!$I$7,A59,0) -> 0 | M59: =OFFSET('Knock Out Stages'!$I$8,A59,0) -> 0 | N59: Stadium 974 | CQ59: Caracas
A60: =A59+2 -> 12 | B60: 55 | D60: =E60 -> 44901.75 | E60: =Calculator!BX61 -> 44901.75 | F60: =IF(SUM(R35:R38)=12,Q35,INDEX(Translation,MATCH("Group F Winner",TransRef,0),MATCH(Setup!C5,LanguageRef,0))) -> Group F Winner | H60: =IF(OFFSET('Knock Out Stages'!$H$7,A60,0)<>"",OFFSET('Knock Out Stages'!$H$7,A60,0),"") | I60: =IF(OFFSET('Knock Out Stages'!$H$8,A60,0)<>"",OFFSET('Knock Out Stages'!$H$8,A60,0),"") | K60: =IF(SUM(R29:R32)=12,Q30,INDEX(Translation,MATCH("Group E Runner Up",TransRef,0),MATCH(Setup!C5,LanguageRef,0))) -> Group E Runner Up | L60: =OFFSET('Knock Out Stages'!$I$7,A60,0) -> 0 | M60: =OFFSET('Knock Out Stages'!$I$8,A60,0) -> 0 | N60: Education City | CQ60: Casablanca
A61: =A60+2 -> 14 | B61: 56 | D61: =E61 -> 44901.917 | E61: =Calculator!BX62 -> 44901.917 | F61: =IF(SUM(R47:R50)=12,Q47,INDEX(Translation,MATCH("Group H Winner",TransRef,0),MATCH(Setup!C5,LanguageRef,0))) -> Group H Winner | H61: =IF(OFFSET('Knock Out Stages'!$H$7,A61,0)<>"",OFFSET('Knock Out Stages'!$H$7,A61,0),"") | I61: =IF(OFFSET('Knock Out Stages'!$H$8,A61,0)<>"",OFFSET('Knock Out Stages'!$H$8,A61,0),"") | K61: =IF(SUM(R41:R44)=12,Q42,INDEX(Translation,MATCH("Group G Runner Up",TransRef,0),MATCH(Setup!C5,LanguageRef,0))) -> Group G Runner Up | L61: =OFFSET('Knock Out Stages'!$I$7,A61,0) -> 0 | M61: =OFFSET('Knock Out Stages'!$I$8,A61,0) -> 0 | N61: Lusail | CQ61: Chicago
A62: 0 | B62: 58 | C62: QF | D62: =E62 -> 44904.75 | E62: =Calculator!BX63 -> 44904.75 | F62: =IF(AND(H58<>"",I58<>""),IF((H58+L58)>(I58+M58),F58,IF((H58+L58)<(I58+M58),K58,INDEX(Translation,MATCH("Match 53 Winner",TransRef,0),MATCH(Setup!C5,LanguageRef,0)))),INDEX(Translation,MATCH("Match 53 Winner",TransRef,0),MATCH(Setup!C5,LanguageRef,0))) -> Match 53 Winner | H62: =IF(OFFSET('Knock Out Stages'!$H$26,A62,0)<>"",OFFSET('Knock Out Stages'!$H$26,A62,0),"") | I62: =IF(OFFSET('Knock Out Stages'!$H$27,A62,0)<>"",OFFSET('Knock Out Stages'!$H$27,A62,0),"") | K62: =IF(AND(H59<>"",I59<>""),IF((H59+L59)>(I59+M59),F59,IF((H59+L59)<(I59+M59),K59,INDEX(Translation,MATCH("Match 54 Winner",TransRef,0),MATCH(Setup!C5,LanguageRef,0)))),INDEX(Translation,MATCH("Match 54 Winner",TransRef,0),MATCH(Setup!C5,LanguageRef,0))) -> Match 54 Winner | L62: =OFFSET('Knock Out Stages'!$I$26,A62,0) -> 0 | M62: =OFFSET('Knock Out Stages'!$I$27,A62,0) -> 0 | N62: Education City | P62: =INDEX(Translation,MATCH("Second Place",TransRef,0),MATCH(Setup!$C$5,LanguageRef,0)) -> Second place | CQ62: Copenhagen
A63: =A62+2 -> 2 | B63: 57 | D63: =E63 -> 44904.917 | E63: =Calculator!BX64 -> 44904.917 | F63: =IF(AND(H54<>"",I54<>""),IF((H54+L54)>(I54+M54),F54,IF((H54+L54)<(I54+M54),K54,INDEX(Translation,MATCH("Match 49 Winner",TransRef,0),MATCH(Setup!C5,LanguageRef,0)))),INDEX(Translation,MATCH("Match 49 Winner",TransRef,0),MATCH(Setup!C5,LanguageRef,0))) -> Match 49 Winner | H63: =IF(OFFSET('Knock Out Stages'!$H$26,A63,0)<>"",OFFSET('Knock Out Stages'!$H$26,A63,0),"") | I63: =IF(OFFSET('Knock Out Stages'!$H$27,A63,0)<>"",OFFSET('Knock Out Stages'!$H$27,A63,0),"") | K63: =IF(AND(H55<>"",I55<>""),IF((H55+L55)>(I55+M55),F55,IF((H55+L55)<(I55+M55),K55,INDEX(Translation,MATCH("Match 50 Winner",TransRef,0),MATCH(Setup!C5,LanguageRef,0)))),INDEX(Translation,MATCH("Match 50 Winner",TransRef,0),MATCH(Setup!C5,LanguageRef,0))) -> Match 50 Winner | L63: =OFFSET('Knock Out Stages'!$I$26,A63,0) -> 0 | M63: =OFFSET('Knock Out Stages'!$I$27,A63,0) -> 0 | N63: Lusail
A64: =A63+2 -> 4 | B64: 60 | D64: =E64 -> 44905.75 | E64: =Calculator!BX65 -> 44905.75 | F64: =IF(AND(H60<>"",I60<>""),IF((H60+L60)>(I60+M60),F60,IF((H60+L60)<(I60+M60),K60,INDEX(Translation,MATCH("Match 55 Winner",TransRef,0),MATCH(Setup!C5,LanguageRef,0)))),INDEX(Translation,MATCH("Match 55 Winner",TransRef,0),MATCH(Setup!C5,LanguageRef,0))) -> Match 55 Winner | H64: =IF(OFFSET('Knock Out Stages'!$H$26,A64,0)<>"",OFFSET('Knock Out Stages'!$H$26,A64,0),"") | I64: =IF(OFFSET('Knock Out Stages'!$H$27,A64,0)<>"",OFFSET('Knock Out Stages'!$H$27,A64,0),"") | K64: =IF(AND(H61<>"",I61<>""),IF((H61+L61)>(I61+M61),F61,IF((H61+L61)<(I61+M61),K61,INDEX(Translation,MATCH("Match 56 Winner",TransRef,0),MATCH(Setup!C5,LanguageRef,0)))),INDEX(Translation,MATCH("Match 56 Winner",TransRef,0),MATCH(Setup!C5,LanguageRef,0))) -> Match 56 Winner | L64: =OFFSET('Knock Out Stages'!$I$26,A64,0) -> 0 | M64: =OFFSET('Knock Out Stages'!$I$27,A64,0) -> 0 | N64: Al Thumama | P64: =UPPER(IF(AND(H69<>"",I69<>""),IF((H69+L69)<(I69+M69),F69,IF((H69+L69)>(I69+M69),K69,INDEX(Translation,MATCH("World Cup 2022 Runner Up",TransRef,0),MATCH(Setup!C5,LanguageRef,0)))),INDEX(Translation,MATCH("World Cup 2022 Runner Up",TransRef,0),MATCH(Setup!C5,LanguageRef,0)))) -> WORLD CUP 2022 RUNNER UP
A65: =A64+2 -> 6 | B65: 59 | D65: =E65 -> 44905.917 | E65: =Calculator!BX66 -> 44905.917 | F65: =IF(AND(H57<>"",I57<>""),IF((H57+L57)>(I57+M57),F57,IF((H57+L57)<(I57+M57),K57,INDEX(Translation,MATCH("Match 51 Winner",TransRef,0),MATCH(Setup!C5,LanguageRef,0)))),INDEX(Translation,MATCH("Match 51 Winner",TransRef,0),MATCH(Setup!C5,LanguageRef,0))) -> Match 51 Winner | H65: =IF(OFFSET('Knock Out Stages'!$H$26,A65,0)<>"",OFFSET('Knock Out Stages'!$H$26,A65,0),"") | I65: =IF(OFFSET('Knock Out Stages'!$H$27,A65,0)<>"",OFFSET('Knock Out Stages'!$H$27,A65,0),"") | K65: =IF(AND(H56<>"",I56<>""),IF((H56+L56)>(I56+M56),F56,IF((H56+L56)<(I56+M56),K56,INDEX(Translation,MATCH("Match 52 Winner",TransRef,0),MATCH(Setup!C5,LanguageRef,0)))),INDEX(Translation,MATCH("Match 52 Winner",TransRef,0),MATCH(Setup!C5,LanguageRef,0))) -> Match 52 Winner | L65: =OFFSET('Knock Out Stages'!$I$26,A65,0) -> 0 | M65: =OFFSET('Knock Out Stages'!$I$27,A65,0) -> 0 | N65: Al Bayt
A66: 0 | B66: 61 | C66: SF | D66: =E66 -> 44908.917 | E66: =Calculator!BX67 -> 44908.917 | F66: =IF(AND(H63<>"",I63<>""),IF((H63+L63)>(I63+M63),F63,IF((H63+L63)<(I63+M63),K63,INDEX(Translation,MATCH("Match 57 Winner",TransRef,0),MATCH(Setup!C5,LanguageRef,0)))),INDEX(Translation,MATCH("Match 57 Winner",TransRef,0),MATCH(Setup!C5,LanguageRef,0))) -> Match 57 Winner | H66: =IF(OFFSET('Knock Out Stages'!$H$37,A66,0)<>"",OFFSET('Knock Out Stages'!$H$37,A66,0),"") | I66: =IF(OFFSET('Knock Out Stages'!$H$38,A66,0)<>"",OFFSET('Knock Out Stages'!$H$38,A66,0),"") | K66: =IF(AND(H62<>"",I62<>""),IF((H62+L62)>(I62+M62),F62,IF((H62+L62)<(I62+M62),K62,INDEX(Translation,MATCH("Match 58 Winner",TransRef,0),MATCH(Setup!C5,LanguageRef,0)))),INDEX(Translation,MATCH("Match 58 Winner",TransRef,0),MATCH(Setup!C5,LanguageRef,0))) -> Match 58 Winner | L66: =OFFSET('Knock Out Stages'!$I$37,A66,0) -> 0 | M66: =OFFSET('Knock Out Stages'!$I$38,A66,0) -> 0 | N66: Lusail | P66: =INDEX(Translation,MATCH("Third Place",TransRef,0),MATCH(Setup!$C$5,LanguageRef,0)) -> Third Place
A67: =A66+2 -> 2 | B67: 62 | D67: =E67 -> 44909.917 | E67: =Calculator!BX68 -> 44909.917 | F67: =IF(AND(H65<>"",I65<>""),IF((H65+L65)>(I65+M65),F65,IF((H65+L65)<(I65+M65),K65,INDEX(Translation,MATCH("Match 59 Winner",TransRef,0),MATCH(Setup!C5,LanguageRef,0)))),INDEX(Translation,MATCH("Match 59 Winner",TransRef,0),MATCH(Setup!C5,LanguageRef,0))) -> Match 59 Winner | H67: =IF(OFFSET('Knock Out Stages'!$H$37,A67,0)<>"",OFFSET('Knock Out Stages'!$H$37,A67,0),"") | I67: =IF(OFFSET('Knock Out Stages'!$H$38,A67,0)<>"",OFFSET('Knock Out Stages'!$H$38,A67,0),"") | K67: =IF(AND(H64<>"",I64<>""),IF((H64+L64)>(I64+M64),F64,IF((H64+L64)<(I64+M64),K64,INDEX(Translation,MATCH("Match 60 Winner",TransRef,0),MATCH(Setup!C5,LanguageRef,0)))),INDEX(Translation,MATCH("Match 60 Winner",TransRef,0),MATCH(Setup!C5,LanguageRef,0))) -> Match 60 Winner | L67: =OFFSET('Knock Out Stages'!$I$37,A67,0) -> 0 | M67: =OFFSET('Knock Out Stages'!$I$38,A67,0) -> 0 | N67: Al Bayt
A68: 0 | B68: 63 | C68: 3rd | D68: =E68 -> 44912.75 | E68: =Calculator!BX69 -> 44912.75 | F68: =IF(AND(H66<>"",I66<>""),IF((H66+L66)<(I66+M66),F66,IF((H66+L66)>(I66+M66),K66,INDEX(Translation,MATCH("Match 61 Loser",TransRef,0),MATCH(Setup!C5,LanguageRef,0)))),INDEX(Translation,MATCH("Match 61 Loser",TransRef,0),MATCH(Setup!C5,LanguageRef,0))) -> Match 61 Loser | H68: =IF(OFFSET('Knock Out Stages'!$H$44,A68,0)<>"",OFFSET('Knock Out Stages'!$H$44,A68,0),"") | I68: =IF(OFFSET('Knock Out Stages'!$H$45,A68,0)<>"",OFFSET('Knock Out Stages'!$H$45,A68,0),"") | K68: =IF(AND(H67<>"",I67<>""),IF((H67+L67)<(I67+M67),F67,IF((H67+L67)>(I67+M67),K67,INDEX(Translation,MATCH("Match 62 Loser",TransRef,0),MATCH(Setup!C5,LanguageRef,0)))),INDEX(Translation,MATCH("Match 62 Loser",TransRef,0),MATCH(Setup!C5,LanguageRef,0))) -> Match 62 Loser | L68: =OFFSET('Knock Out Stages'!$I$44,A68,0) -> 0 | M68: =OFFSET('Knock Out Stages'!$I$45,A68,0) -> 0 | N68: Khalifa International | P68: =UPPER(IF(AND(H68<>"",I68<>""),IF((H68+L68)>(I68+M68),F68,IF((H68+L68)<(I68+M68),K68,INDEX(Translation,MATCH("World Cup 2022 3rd Place",TransRef,0),MATCH(Setup!C5,LanguageRef,0)))),INDEX(Translation,MATCH("World Cup 2022 3rd Place",TransRef,0),MATCH(Setup!C5,LanguageRef,0)))) -> WORLD CUP 2022 3RD PLACE
A69: 0 | B69: 64 | C69: F | D69: =E69 -> 44913.75 | E69: =Calculator!BX70 -> 44913.75 | F69: =IF(AND(H66<>"",I66<>""),IF((H66+L66)>(I66+M66),F66,IF((H66+L66)<(I66+M66),K66,INDEX(Translation,MATCH("Match 61 Winner",TransRef,0),MATCH(Setup!C5,LanguageRef,0)))),INDEX(Translation,MATCH("Match 61 Winner",TransRef,0),MATCH(Setup!C5,LanguageRef,0))) -> Match 61 Winner | H69: =IF(OFFSET('Knock Out Stages'!$H$49,A69,0)<>"",OFFSET('Knock Out Stages'!$H$49,A69,0),"") | I69: =IF(OFFSET('Knock Out Stages'!$H$50,A69,0)<>"",OFFSET('Knock Out Stages'!$H$50,A69,0),"") | K69: =IF(AND(H67<>"",I67<>""),IF((H67+L67)>(I67+M67),F67,IF((H67+L67)<(I67+M67),K67,INDEX(Translation,MATCH("Match 62 Winner",TransRef,0),MATCH(Setup!C5,LanguageRef,0)))),INDEX(Translation,MATCH("Match 62 Winner",TransRef,0),MATCH(Setup!C5,LanguageRef,0))) -> Match 62 Winner | L69: =OFFSET('Knock Out Stages'!$I$49,A69,0) -> 0 | M69: =OFFSET('Knock Out Stages'!$I$49,A69,0) -> 0 | N69: Lusail
B70: © 2022 | journalSHEET.com

Sheet Group Stages
J1: 1 | K1: 2 | L1: 3 | M1: 4 | N1: 5 | O1: 6 | P1: 7 | Q1: 8
B3: =UPPER(INDEX(Language!$A$1:$H$112,MATCH("Group Stages",Language!$B$1:$B$122,0),MATCH(Setup!$C$5,Language!$A$1:$G$1,0))) -> GROUP STAGES | J3: Goal Scorer
B4: =INDEX(Language!$A$1:$H$112,MATCH("Group",Language!$B$1:$B$122,0),MATCH(Setup!$C$5,Language!$A$1:$G$1,0)) -> Group | C4: =INDEX(Language!$A$1:$H$112,MATCH("Match #",Language!$B$1:$B$122,0),MATCH(Setup!$C$5,Language!$A$1:$G$1,0)) -> Match # | D4: =INDEX(Language!$A$1:$H$112,MATCH("Date",Language!$B$1:$B$122,0),MATCH(Setup!$C$5,Language!$A$1:$G$1,0)) -> Date | E4: =INDEX(Language!$A$1:$H$112,MATCH("Time",Language!$B$1:$B$122,0),MATCH(Setup!$C$5,Language!$A$1:$G$1,0)) -> Time | F4: =INDEX(Language!$A$1:$H$112,MATCH("Country",Language!$B$1:$B$122,0),MATCH(Setup!$C$5,Language!$A$1:$G$1,0)) -> Country | H4: =INDEX(Language!$A$1:$H$112,MATCH("Score",Language!$B$1:$B$122,0),MATCH(Setup!$C$5,Language!$A$1:$G$1,0)) -> Score | J4: 1st | K4: 2nd | L4: 3rd | M4: 4th | N4: 5th | O4: 6th | P4: 7th | Q4: 8th
B7: A | C7: 2 | D7: =E7 -> 44885.792 | E7: =Tournament!E5 -> 44885.792 | F7: =Tournament!F5 -> Qatar
D8: =Tournament!N5 -> Al Bayt | F8: =Tournament!K5 -> Ecuador | T8: musadya
B9: B | C9: 3 | D9: =E9 -> 44886.667 | E9: =Tournament!E6 -> 44886.667 | F9: =Tournament!F6 -> England
D10: =Tournament!N6 -> Khalifa International | F10: =Tournament!K6 -> Iran
B11: A | C11: 1 | D11: =E11 -> 44886.792 | E11: =Tournament!E7 -> 44886.792 | F11: =Tournament!F7 -> Senegal
D12: =Tournament!N7 -> Al Thumama | F12: =Tournament!K7 -> Netherlands
B13: B | C13: 4 | D13: =E13 -> 44886.917 | E13: =Tournament!E8 -> 44886.917 | F13: =Tournament!F8 -> United States
D14: =Tournament!N8 -> Ahmad Bin Ali | F14: =Tournament!K8 -> Wales
B15: C | C15: 8 | D15: =E15 -> 44887.542 | E15: =Tournament!E9 -> 44887.542 | F15: =Tournament!F9 -> Argentina
D16: =Tournament!N9 -> Lusail | F16: =Tournament!K9 -> Saudi Arabia
B17: D | C17: 6 | D17: =E17 -> 44887.667 | E17: =Tournament!E10 -> 44887.667 | F17: =Tournament!F10 -> Denmark
D18: =Tournament!N10 -> Education City | F18: =Tournament!K10 -> Tunisia
B19: C | C19: 7 | D19: =E19 -> 44887.792 | E19: =Tournament!E11 -> 44887.792 | F19: =Tournament!F11 -> Mexico
D20: =Tournament!N11 -> Stadium 974 | F20: =Tournament!K11 -> Poland
B21: D | C21: 5 | D21: =E21 -> 44887.917 | E21: =Tournament!E12 -> 44887.917 | F21: =Tournament!F12 -> France
D22: =Tournament!N12 -> Al Janoub | F22: =Tournament!K12 -> Australia
B23: F | C23: 12 | D23: =E23 -> 44888.542 | E23: =Tournament!E13 -> 44888.542 | F23: =Tournament!F13 -> Morocco
D24: =Tournament!N13 -> Al Bayt | F24: =Tournament!K13 -> Croatia
B25: E | C25: 11 | D25: =E25 -> 44888.667 | E25: =Tournament!E14 -> 44888.667 | F25: =Tournament!F14 -> Germany
D26: =Tournament!N14 -> Khalifa International | F26: =Tournament!K14 -> Japan
B27: E | C27: 10 | D27: =E27 -> 44888.792 | E27: =Tournament!E15 -> 44888.792 | F27: =Tournament!F15 -> Spain
D28: =Tournament!N15 -> Al Thumama | F28: =Tournament!K15 -> Costa Rica
B29: F | C29: 9 | D29: =E29 -> 44888.917 | E29: =Tournament!E16 -> 44888.917 | F29: =Tournament!F16 -> Belgium
D30: =Tournament!N16 -> Ahmad Bin Ali | F30: =Tournament!K16 -> Canada
B31: G | C31: 13 | D31: =E31 -> 44889.542 | E31: =Tournament!E17 -> 44889.542 | F31: =Tournament!F17 -> Switzerland
D32: =Tournament!N17 -> Al Janoub | F32: =Tournament!K17 -> Cameroon
B33: H | C33: 14 | D33: =E33 -> 44889.667 | E33: =Tournament!E18 -> 44889.667 | F33: =Tournament!F18 -> Uruguay
D34: =Tournament!N18 -> Education City | F34: =Tournament!K18 -> South Korea
B35: H | C35: 15 | D35: =E35 -> 44889.792 | E35: =Tournament!E19 -> 44889.792 | F35: =Tournament!F19 -> Portugal
D36: =Tournament!N19 -> Stadium 974 | F36: =Tournament!K19 -> Ghana
B37: G | C37: 16 | D37: =E37 -> 44889.917 | E37: =Tournament!E20 -> 44889.917 | F37: =Tournament!F20 -> Brazil
D38: =Tournament!N20 -> Lusail | F38: =Tournament!K20 -> Serbia
B39: B | C39: 17 | D39: =E39 -> 44890.542 | E39: =Tournament!E21 -> 44890.542 | F39: =Tournament!F21 -> Wales
D40: =Tournament!N21 -> Ahmad Bin Ali | F40: =Tournament!K21 -> Iran
B41: A | C41: 18 | D41: =E41 -> 44890.667 | E41: =Tournament!E22 -> 44890.667 | F41: =Tournament!F22 -> Qatar
D42: =Tournament!N22 -> Al Thumama | F42: =Tournament!K22 -> Senegal
B43: A | C43: 19 | D43: =E43 -> 44890.792 | E43: =Tournament!E23 -> 44890.792 | F43: =Tournament!F23 -> Netherlands
D44: =Tournament!N23 -> Khalifa International | F44: =Tournament!K23 -> Ecuador
B45: B | C45: 20 | D45: =E45 -> 44890.917 | E45: =Tournament!E24 -> 44890.917 | F45: =Tournament!F24 -> England
D46: =Tournament!N24 -> Al Bayt | F46: =Tournament!K24 -> United States
B47: D | C47: 21 | D47: =E47 -> 44891.542 | E47: =Tournament!E25 -> 44891.542 | F47: =Tournament!F25 -> Tunisia
D48: =Tournament!N25 -> Al Janoub | F48: =Tournament!K25 -> Australia
B49: C | C49: 22 | D49: =E49 -> 44891.667 | E49: =Tournament!E26 -> 44891.667 | F49: =Tournament!F26 -> Poland
D50: =Tournament!N26 -> Education City | F50: =Tournament!K26 -> Saudi Arabia
B51: D | C51: 23 | D51: =E51 -> 44891.792 | E51: =Tournament!E27 -> 44891.792 | F51: =Tournament!F27 -> France
D52: =Tournament!N27 -> Stadium 974 | F52: =Tournament!K27 -> Denmark
B53: C | C53: 24 | D53: =E53 -> 44891.917 | E53: =Tournament!E28 -> 44891.917 | F53: =Tournament!F28 -> Argentina
D54: =Tournament!N28 -> Lusail | F54: =Tournament!K28 -> Mexico
B55: E | C55: 25 | D55: =E55 -> 44892.542 | E55: =Tournament!E29 -> 44892.542 | F55: =Tournament!F29 -> Japan
D56: =Tournament!N29 -> Ahmad Bin Ali | F56: =Tournament!K29 -> Costa Rica
B57: F | C57: 26 | D57: =E57 -> 44892.667 | E57: =Tournament!E30 -> 44892.667 | F57: =Tournament!F30 -> Belgium
D58: =Tournament!N30 -> Al Thumama | F58: =Tournament!K30 -> Morocco
B59: F | C59: 27 | D59: =E59 -> 44892.792 | E59: =Tournament!E31 -> 44892.792 | F59: =Tournament!F31 -> Croatia
D60: =Tournament!N31 -> Khalifa International | F60: =Tournament!K31 -> Canada
B61: E | C61: 28 | D61: =E61 -> 44892.917 | E61: =Tournament!E32 -> 44892.917 | F61: =Tournament!F32 -> Spain
D62: =Tournament!N32 -> Al Bayt | F62: =Tournament!K32 -> Germany
B63: G | C63: 29 | D63: =E63 -> 44893.542 | E63: =Tournament!E33 -> 44893.542 | F63: =Tournament!F33 -> Cameroon
D64: =Tournament!N33 -> Al Janoub | F64: =Tournament!K33 -> Serbia
B65: H | C65: 30 | D65: =E65 -> 44893.667 | E65: =Tournament!E34 -> 44893.667 | F65: =Tournament!F34 -> South Korea
D66: =Tournament!N34 -> Education City | F66: =Tournament!K34 -> Ghana
B67: G | C67: 31 | D67: =E67 -> 44893.792 | E67: =Tournament!E35 -> 44893.792 | F67: =Tournament!F35 -> Brazil
D68: =Tournament!N35 -> Stadium 974 | F68: =Tournament!K35 -> Switzerland
B69: H | C69: 32 | D69: =Tournament!E36 -> 44893.917 | E69: =Tournament!E36 -> 44893.917 | F69: =Tournament!F36 -> Portugal
D70: =Tournament!N36 -> Lusail | F70: =Tournament!K36 -> Uruguay
B71: A | C71: 35 | D71: =Tournament!E37 -> 44894.75 | E71: =Tournament!E37 -> 44894.75 | F71: =Tournament!F37 -> Ecuador
D72: =Tournament!N37 -> Khalifa International | F72: =Tournament!K37 -> Senegal
B73: A | C73: 36 | D73: =Tournament!E38 -> 44894.75 | E73: =Tournament!E38 -> 44894.75 | F73: =Tournament!F38 -> Netherlands
D74: =Tournament!N38 -> Al Bayt | F74: =Tournament!K38 -> Qatar
B75: B | C75: 33 | D75: =E75 -> 44894.917 | E75: =Tournament!E39 -> 44894.917 | F75: =Tournament!F39 -> Wales
D76: =Tournament!N39 -> Ahmad Bin Ali | F76: =Tournament!K39 -> England
B77: B | C77: 34 | D77: =E77 -> 44894.917 | E77: =Tournament!E40 -> 44894.917 | F77: =Tournament!F40 -> Iran
D78: =Tournament!N40 -> Al Thumama | F78: =Tournament!K40 -> United States
B79: D | C79: 37 | D79: =E79 -> 44895.75 | E79: =Tournament!E41 -> 44895.75 | F79: =Tournament!F41 -> Australia
D80: =Tournament!N41 -> Al Janoub | F80: =Tournament!K41 -> Denmark
B81: D | C81: 38 | D81: =E81 -> 44895.75 | E81: =Tournament!E42 -> 44895.75 | F81: =Tournament!F42 -> Tunisia
D82: =Tournament!N42 -> Education City | F82: =Tournament!K42 -> France
B83: C | C83: 39 | D83: =E83 -> 44895.917 | E83: =Tournament!E43 -> 44895.917 | F83: =Tournament!F43 -> Poland
D84: =Tournament!N43 -> Stadium 974 | F84: =Tournament!K43 -> Argentina
B85: C | C85: 40 | D85: =E85 -> 44895.917 | E85: =Tournament!E44 -> 44895.917 | F85: =Tournament!F44 -> Saudi Arabia
D86: =Tournament!N44 -> Lusail | F86: =Tournament!K44 -> Mexico
B87: F | C87: 41 | D87: =E87 -> 44896.75 | E87: =Tournament!E45 -> 44896.75 | F87: =Tournament!F45 -> Croatia
D88: =Tournament!N45 -> Ahmad Bin Ali | F88: =Tournament!K45 -> Belgium
B89: F | C89: 42 | D89: =E89 -> 44896.75 | E89: =Tournament!E46 -> 44896.75 | F89: =Tournament!F46 -> Canada
D90: =Tournament!N46 -> Al Thumama | F90: =Tournament!K46 -> Morocco
B91: E | C91: 43 | D91: =E91 -> 44896.917 | E91: =Tournament!E47 -> 44896.917 | F91: =Tournament!F47 -> Japan
D92: =Tournament!N47 -> Khalifa International | F92: =Tournament!K47 -> Spain
B93: E | C93: 44 | D93: =E93 -> 44896.917 | E93: =Tournament!E48 -> 44896.917 | F93: =Tournament!F48 -> Costa Rica
D94: =Tournament!N48 -> Al Bayt | F94: =Tournament!K48 -> Germany
B95: H | C95: 45 | D95: =E95 -> 44897.75 | E95: =Tournament!E49 -> 44897.75 | F95: =Tournament!F49 -> Ghana
D96: =Tournament!N49 -> Al Janoub | F96: =Tournament!K49 -> Uruguay
B97: H | C97: 46 | D97: =E97 -> 44897.75 | E97: =Tournament!E50 -> 44897.75 | F97: =Tournament!F50 -> South Korea
D98: =Tournament!N50 -> Education City | F98: =Tournament!K50 -> Portugal
B99: G | C99: 47 | D99: =E99 -> 44897.917 | E99: =Tournament!E51 -> 44897.917 | F99: =Tournament!F51 -> Serbia
D100: =Tournament!N51 -> Stadium 974 | F100: =Tournament!K51 -> Switzerland
B101: G | C101: 48 | D101: =E101 -> 44897.917 | E101: =Tournament!E52 -> 44897.917 | F101: =Tournament!F52 -> Cameroon
D102: =Tournament!N52 -> Lusail | F102: =Tournament!K52 -> Brazil
B105: © 2022 | journalSHEET.com

Sheet Knock Out Stages
K1: 1 | L1: 2 | M1: 3 | N1: 4 | O1: 5 | P1: 6 | Q1: 7 | R1: 8
B3: =UPPER(INDEX(Language!$A$1:$H$112,MATCH("Knock Out Rounds",Language!$B$1:$B$122,0),MATCH(Setup!$C$5,Language!$A$1:$G$1,0))) -> KNOCK OUT ROUNDS | K3: Goal Scorer
H4: FT | I4: PSO | K4: 1st | L4: 2nd | M4: 3rd | N4: 4th | O4: 5th | P4: 6th | Q4: 7th | R4: 8th
B7: =INDEX(Language!$A$1:$H$112,MATCH("Round of 16",Language!$B$1:$B$122,0),MATCH(Setup!$C$5,Language!$A$1:$G$1,0)) -> Round of 16 | C7: 49 | D7: =E7 -> 44898.75 | E7: =Tournament!E54 -> 44898.75 | F7: =Tournament!F54 -> Group A Winner
D8: =Tournament!N54 -> Khalifa International | F8: =Tournament!K54 -> Group B Runner Up
C9: 50 | D9: =E9 -> 44898.917 | E9: =Tournament!E55 -> 44898.917 | F9: =Tournament!F55 -> Group C Winner
D10: =Tournament!N55 -> Ahmad Bin Ali | F10: =Tournament!K55 -> Group D Runner Up
C11: 52 | D11: =E11 -> 44899.75 | E11: =Tournament!E56 -> 44899.75 | F11: =Tournament!F56 -> Group D Winner
D12: =Tournament!N56 -> Al Thumama | F12: =Tournament!K56 -> Group C Runner Up
C13: 51 | D13: =E13 -> 44899.917 | E13: =Tournament!E57 -> 44899.917 | F13: =Tournament!F57 -> Group B Winner
D14: =Tournament!N57 -> Al Bayt | F14: =Tournament!K57 -> Group A Runner Up
C15: 53 | D15: =E15 -> 44900.75 | E15: =Tournament!E58 -> 44900.75 | F15: =Tournament!F58 -> Group E Winner
D16: =Tournament!N58 -> Al Janoub | F16: =Tournament!K58 -> Group F Runner Up
C17: 54 | D17: =E17 -> 44900.917 | E17: =Tournament!E59 -> 44900.917 | F17: =Tournament!F59 -> Group G Winner
D18: =Tournament!N59 -> Stadium 974 | F18: =Tournament!K59 -> Group H Runner Up
C19: 55 | D19: =E19 -> 44901.75 | E19: =Tournament!E60 -> 44901.75 | F19: =Tournament!F60 -> Group F Winner
D20: =Tournament!N60 -> Education City | F20: =Tournament!K60 -> Group E Runner Up
C21: 56 | D21: =E21 -> 44901.917 | E21: =Tournament!E61 -> 44901.917 | F21: =Tournament!F61 -> Group H Winner
D22: =Tournament!N61 -> Lusail | F22: =Tournament!K61 -> Group G Runner Up
B26: =INDEX(Language!$A$1:$H$112,MATCH("Quarter Finals",Language!$B$1:$B$122,0),MATCH(Setup!$C$5,Language!$A$1:$G$1,0)) -> Quarter Finals | C26: 58 | D26: =E26 -> 44904.75 | E26: =Tournament!E62 -> 44904.75 | F26: =Tournament!F62 -> Match 53 Winner
D27: =Tournament!N62 -> Education City | F27: =Tournament!K62 -> Match 54 Winner
C28: 57 | D28: =E28 -> 44904.917 | E28: =Tournament!E63 -> 44904.917 | F28: =Tournament!F63 -> Match 49 Winner
D29: =Tournament!N63 -> Lusail | F29: =Tournament!K63 -> Match 50 Winner
C30: 60 | D30: =E30 -> 44905.75 | E30: =Tournament!E64 -> 44905.75 | F30: =Tournament!F64 -> Match 55 Winner
D31: =Tournament!N64 -> Al Thumama | F31: =Tournament!K64 -> Match 56 Winner
C32: 59 | D32: =E32 -> 44905.917 | E32: =Tournament!E65 -> 44905.917 | F32: =Tournament!F65 -> Match 51 Winner
D33: Samara | F33: =Tournament!K65 -> Match 52 Winner
B37: =INDEX(Language!$A$1:$H$112,MATCH("Semi Finals",Language!$B$1:$B$122,0),MATCH(Setup!$C$5,Language!$A$1:$G$1,0)) -> Semi Finals | C37: 61 | D37: =E37 -> 44908.917 | E37: =Tournament!E66 -> 44908.917 | F37: =Tournament!F66 -> Match 57 Winner
D38: =Tournament!N66 -> Lusail | F38: =Tournament!K66 -> Match 58 Winner
C39: 62 | D39: =E39 -> 44909.917 | E39: =Tournament!E67 -> 44909.917 | F39: =Tournament!F67 -> Match 59 Winner
D40: =Tournament!N67 -> Al Bayt | F40: =Tournament!K67 -> Match 60 Winner
B44: =INDEX(Language!$A$1:$H$112,MATCH("Third Place",Language!$B$1:$B$122,0),MATCH(Setup!$C$5,Language!$A$1:$G$1,0)) -> Third Place | C44: 63 | D44: =E44 -> 44912.75 | E44: =Tournament!E68 -> 44912.75 | F44: =Tournament!F68 -> Match 61 Loser
D45: =Tournament!N68 -> Khalifa International | F45: =Tournament!K68 -> Match 62 Loser
B49: =INDEX(Language!$A$1:$H$112,MATCH("Final",Language!$B$1:$B$122,0),MATCH(Setup!$C$5,Language!$A$1:$G$1,0)) -> Final | C49: 64 | D49: =E49 -> 44913.75 | E49: =Tournament!E69 -> 44913.75 | F49: =Tournament!F69 -> Match 61 Winner
D50: =Tournament!N69 -> Lusail | F50: =Tournament!K69 -> Match 62 Winner
C53: =INDEX(Language!$A$1:$H$112,MATCH("World Cup 2022 Champion",Language!$B$1:$B$122,0),MATCH(Setup!$C$5,Language!$A$1:$G$1,0)) -> World Cup 2022 Champion | F53: =Tournament!P57 -> WORLD CUP 2022 CHAMPION | J53: Top Scorer | L53: ='Top Scorer'!C8
B55: © 2022 | journalSHEET.com

Sheet Top Scorer
F1: 1 | G1: 2 | H1: 3 | I1: 4 | J1: 5 | K1: 6 | L1: 7 | M1: 8
B3: WORLD CUP 2022 TOP SCORER | H3: CLICK HERE TO PURCHASE FULLY EDITABLE VERSION
B5: Goals | C5: Player Name | E5: =IF(AND(B9="",'Knock Out Stages'!H49<>"",'Knock Out Stages'!H50<>""),"Reorder Rank","")
A7: =COUNTIF(B8:B57,MaxGoal) -> 50
A8: 1 | B8: =INDEX('Dummy Top Scorer'!CN:CN,MATCH(A8,'Dummy Top Scorer'!CO:CO,0),0) -> 0 | C8: =IF(B8=0,"",IF(E8<>"",INDEX(F$8:F$17,MATCH(A8,E$8:E$17,0),0),INDEX('Dummy Top Scorer'!CP:CP,MATCH(A8,'Dummy Top Scorer'!CO:CO,0),0))) | F8: =IF(B8<>0,IF(AND(CountMax>1,B8=MaxGoal),INDEX('Dummy Top Scorer'!CP:CP,MATCH(A8,'Dummy Top Scorer'!CO:CO,0),0),""),"") | G8: 1 | H8: By purchasing the fully editable version you can :
A9: 2 | B9: =INDEX('Dummy Top Scorer'!CN:CN,MATCH(A9,'Dummy Top Scorer'!CO:CO,0),0) -> 0 | C9: =IF(B9=0,"",IF(E9<>"",INDEX(F$8:F$17,MATCH(A9,E$8:E$17,0),0),INDEX('Dummy Top Scorer'!CP:CP,MATCH(A9,'Dummy Top Scorer'!CO:CO,0),0))) | F9: =IF(B9<>0,IF(AND(CountMax>1,B9=MaxGoal),INDEX('Dummy Top Scorer'!CP:CP,MATCH(A9,'Dummy Top Scorer'!CO:CO,0),0),""),"") | G9: 2 | H9: 1 | I9: Learn all the formulas
A10: 3 | B10: =INDEX('Dummy Top Scorer'!CN:CN,MATCH(A10,'Dummy Top Scorer'!CO:CO,0),0) -> 0 | C10: =IF(B10=0,"",IF(E10<>"",INDEX(F$8:F$17,MATCH(A10,E$8:E$17,0),0),INDEX('Dummy Top Scorer'!CP:CP,MATCH(A10,'Dummy Top Scorer'!CO:CO,0),0))) | F10: =IF(B10<>0,IF(AND(CountMax>1,B10=MaxGoal),INDEX('Dummy Top Scorer'!CP:CP,MATCH(A10,'Dummy Top Scorer'!CO:CO,0),0),""),"") | G10: 3 | H10: 2 | I10: Put your own business logo/brand
A11: 4 | B11: =INDEX('Dummy Top Scorer'!CN:CN,MATCH(A11,'Dummy Top Scorer'!CO:CO,0),0) -> 0 | C11: =IF(B11=0,"",IF(E11<>"",INDEX(F$8:F$17,MATCH(A11,E$8:E$17,0),0),INDEX('Dummy Top Scorer'!CP:CP,MATCH(A11,'Dummy Top Scorer'!CO:CO,0),0))) | F11: =IF(B11<>0,IF(AND(CountMax>1,B11=MaxGoal),INDEX('Dummy Top Scorer'!CP:CP,MATCH(A11,'Dummy Top Scorer'!CO:CO,0),0),""),"") | G11: 4 | H11: 3 | I11: Hide all copyright notices (not delete it)
A12: 5 | B12: =INDEX('Dummy Top Scorer'!CN:CN,MATCH(A12,'Dummy Top Scorer'!CO:CO,0),0) -> 0 | C12: =IF(B12=0,"",IF(E12<>"",INDEX(F$8:F$17,MATCH(A12,E$8:E$17,0),0),INDEX('Dummy Top Scorer'!CP:CP,MATCH(A12,'Dummy Top Scorer'!CO:CO,0),0))) | F12: =IF(B12<>0,IF(AND(CountMax>1,B12=MaxGoal),INDEX('Dummy Top Scorer'!CP:CP,MATCH(A12,'Dummy Top Scorer'!CO:CO,0),0),""),"") | G12: 5 | H12: 4 | I12: Thank me for creating this spreadsheet :-)
A13: 6 | B13: =INDEX('Dummy Top Scorer'!CN:CN,MATCH(A13,'Dummy Top Scorer'!CO:CO,0),0) -> 0 | C13: =IF(B13=0,"",IF(E13<>"",INDEX(F$8:F$17,MATCH(A13,E$8:E$17,0),0),INDEX('Dummy Top Scorer'!CP:CP,MATCH(A13,'Dummy Top Scorer'!CO:CO,0),0))) | F13: =IF(B13<>0,IF(AND(CountMax>1,B13=MaxGoal),INDEX('Dummy Top Scorer'!CP:CP,MATCH(A13,'Dummy Top Scorer'!CO:CO,0),0),""),"") | G13: 6 | H13: 5 | I13: do whatever you want
A14: 7 | B14: =INDEX('Dummy Top Scorer'!CN:CN,MATCH(A14,'Dummy Top Scorer'!CO:CO,0),0) -> 0 | C14: =IF(B14=0,"",IF(E14<>"",INDEX(F$8:F$17,MATCH(A14,E$8:E$17,0),0),INDEX('Dummy Top Scorer'!CP:CP,MATCH(A14,'Dummy Top Scorer'!CO:CO,0),0))) | F14: =IF(B14<>0,IF(AND(CountMax>1,B14=MaxGoal),INDEX('Dummy Top Scorer'!CP:CP,MATCH(A14,'Dummy Top Scorer'!CO:CO,0),0),""),"") | G14: 7
A15: 8 | B15: =INDEX('Dummy Top Scorer'!CN:CN,MATCH(A15,'Dummy Top Scorer'!CO:CO,0),0) -> 0 | C15: =IF(B15=0,"",IF(E15<>"",INDEX(F$8:F$17,MATCH(A15,E$8:E$17,0),0),INDEX('Dummy Top Scorer'!CP:CP,MATCH(A15,'Dummy Top Scorer'!CO:CO,0),0))) | F15: =IF(B15<>0,IF(AND(CountMax>1,B15=MaxGoal),INDEX('Dummy Top Scorer'!CP:CP,MATCH(A15,'Dummy Top Scorer'!CO:CO,0),0),""),"") | G15: 8
A16: 9 | B16: =INDEX('Dummy Top Scorer'!CN:CN,MATCH(A16,'Dummy Top Scorer'!CO:CO,0),0) -> 0 | C16: =IF(B16=0,"",IF(E16<>"",INDEX(F$8:F$17,MATCH(A16,E$8:E$17,0),0),INDEX('Dummy Top Scorer'!CP:CP,MATCH(A16,'Dummy Top Scorer'!CO:CO,0),0))) | F16: =IF(B16<>0,IF(AND(CountMax>1,B16=MaxGoal),INDEX('Dummy Top Scorer'!CP:CP,MATCH(A16,'Dummy Top Scorer'!CO:CO,0),0),""),"") | G16: 9
A17: 10 | B17: =INDEX('Dummy Top Scorer'!CN:CN,MATCH(A17,'Dummy Top Scorer'!CO:CO,0),0) -> 0 | C17: =IF(B17=0,"",IF(E17<>"",INDEX(F$8:F$17,MATCH(A17,E$8:E$17,0),0),INDEX('Dummy Top Scorer'!CP:CP,MATCH(A17,'Dummy Top Scorer'!CO:CO,0),0))) | F17: =IF(B17<>0,IF(AND(CountMax>1,B17=MaxGoal),INDEX('Dummy Top Scorer'!CP:CP,MATCH(A17,'Dummy Top Scorer'!CO:CO,0),0),""),"") | G17: 10
A18: 11 | B18: =INDEX('Dummy Top Scorer'!CN:CN,MATCH(A18,'Dummy Top Scorer'!CO:CO,0),0) -> 0 | C18: =IF(B18=0,"",INDEX('Dummy Top Scorer'!CP:CP,MATCH(A18,'Dummy Top Scorer'!CO:CO,0),0))
A19: 12 | B19: =INDEX('Dummy Top Scorer'!CN:CN,MATCH(A19,'Dummy Top Scorer'!CO:CO,0),0) -> 0 | C19: =IF(B19=0,"",INDEX('Dummy Top Scorer'!CP:CP,MATCH(A19,'Dummy Top Scorer'!CO:CO,0),0))
A20: 13 | B20: =INDEX('Dummy Top Scorer'!CN:CN,MATCH(A20,'Dummy Top Scorer'!CO:CO,0),0) -> 0 | C20: =IF(B20=0,"",INDEX('Dummy Top Scorer'!CP:CP,MATCH(A20,'Dummy Top Scorer'!CO:CO,0),0))
A21: 14 | B21: =INDEX('Dummy Top Scorer'!CN:CN,MATCH(A21,'Dummy Top Scorer'!CO:CO,0),0) -> 0 | C21: =IF(B21=0,"",INDEX('Dummy Top Scorer'!CP:CP,MATCH(A21,'Dummy Top Scorer'!CO:CO,0),0))
A22: 15 | B22: =INDEX('Dummy Top Scorer'!CN:CN,MATCH(A22,'Dummy Top Scorer'!CO:CO,0),0) -> 0 | C22: =IF(B22=0,"",INDEX('Dummy Top Scorer'!CP:CP,MATCH(A22,'Dummy Top Scorer'!CO:CO,0),0))
A23: 16 | B23: =INDEX('Dummy Top Scorer'!CN:CN,MATCH(A23,'Dummy Top Scorer'!CO:CO,0),0) -> 0 | C23: =IF(B23=0,"",INDEX('Dummy Top Scorer'!CP:CP,MATCH(A23,'Dummy Top Scorer'!CO:CO,0),0))
A24: 17 | B24: =INDEX('Dummy Top Scorer'!CN:CN,MATCH(A24,'Dummy Top Scorer'!CO:CO,0),0) -> 0 | C24: =IF(B24=0,"",INDEX('Dummy Top Scorer'!CP:CP,MATCH(A24,'Dummy Top Scorer'!CO:CO,0),0))
A25: 18 | B25: =INDEX('Dummy Top Scorer'!CN:CN,MATCH(A25,'Dummy Top Scorer'!CO:CO,0),0) -> 0 | C25: =IF(B25=0,"",INDEX('Dummy Top Scorer'!CP:CP,MATCH(A25,'Dummy Top Scorer'!CO:CO,0),0))
A26: 19 | B26: =INDEX('Dummy Top Scorer'!CN:CN,MATCH(A26,'Dummy Top Scorer'!CO:CO,0),0) -> 0 | C26: =IF(B26=0,"",INDEX('Dummy Top Scorer'!CP:CP,MATCH(A26,'Dummy Top Scorer'!CO:CO,0),0))
A27: 20 | B27: =INDEX('Dummy Top Scorer'!CN:CN,MATCH(A27,'Dummy Top Scorer'!CO:CO,0),0) -> 0 | C27: =IF(B27=0,"",INDEX('Dummy Top Scorer'!CP:CP,MATCH(A27,'Dummy Top Scorer'!CO:CO,0),0))
A28: 21 | B28: =INDEX('Dummy Top Scorer'!CN:CN,MATCH(A28,'Dummy Top Scorer'!CO:CO,0),0) -> 0 | C28: =IF(B28=0,"",INDEX('Dummy Top Scorer'!CP:CP,MATCH(A28,'Dummy Top Scorer'!CO:CO,0),0))
A29: 22 | B29: =INDEX('Dummy Top Scorer'!CN:CN,MATCH(A29,'Dummy Top Scorer'!CO:CO,0),0) -> 0 | C29: =IF(B29=0,"",INDEX('Dummy Top Scorer'!CP:CP,MATCH(A29,'Dummy Top Scorer'!CO:CO,0),0))
... A57: 50 | B57: =INDEX('Dummy Top Scorer'!CN:CN,MATCH(A57,'Dummy Top Scorer'!CO:CO,0),0) -> 0 | C57: =IF(B57=0,"",INDEX('Dummy Top Scorer'!CP:CP,MATCH(A57,'Dummy Top Scorer'!CO:CO,0),0))

Sheet Player Database
C1: 0 | D1: 1 | E1: 2 | F1: 3 | G1: 4 | H1: 5 | I1: 6 | J1: 7 | K1: 8 | L1: 9 | M1: 10 | N1: 11 | O1: 12 | P1: 13 | Q1: 14 | R1: 15 | S1: 16 | T1: 17 | U1: 18 | V1: 19 | W1: 20 | X1: 21 | Y1: 22 | Z1: 23 | AA1: 24 | AB1: 25 | AC1: 26 | AD1: 27 | AE1: 28 | AF1: 29 | AG1: 30 | AH1: 31
B3: WORLD CUP 2022 PLAYER DATA
B5: ='Group Stages'!F4&">>" -> Country>> | C5: =OFFSET(Calculator!$C$4,C1,0) -> Senegal | D5: =OFFSET(Calculator!$C$4,D1,0) -> Netherlands | E5: =OFFSET(Calculator!$C$4,E1,0) -> Qatar | F5: =OFFSET(Calculator!$C$4,F1,0) -> Ecuador | G5: =OFFSET(Calculator!$C$4,G1,0) -> England | H5: =OFFSET(Calculator!$C$4,H1,0) -> Iran | I5: =OFFSET(Calculator!$C$4,I1,0) -> United States | J5: =OFFSET(Calculator!$C$4,J1,0) -> Wales | ... Z5: =OFFSET(Calculator!$C$4,Z1,0) -> Canada | AA5: =Calculator!C30 -> Brazil | AB5: =Calculator!C31 -> Serbia | AC5: =Calculator!C28 -> Switzerland | AD5: =Calculator!C29 -> Cameroon | AE5: =Calculator!C34 -> Portugal | AF5: =Calculator!C35 -> Ghana | AG5: =Calculator!C32 -> Uruguay | AH5: =Calculator!C33 -> South Korea
B6: Player 1 | C6: Abdou Diallo | D6: Andries Noppert | E6: Abdelkarim Hassan | F6: Alan Franco | G6: Aaron Ramsdale | H6: Abolfazl Jalali | I6: Aaron Long | J6: Aaron Ramsey | K6: Alejandro Gómez | L6: Abdulelah Al-Amri | M6: Alexis Vega | N6: Arkadiusz Milik | O6: Alexander Bah | P6: Aïssa Laïdouni | Q6: Adrien Rabiot | R6: Aaron Mooy | S6: Antonio Rüdiger | T6: Ao Tanaka | U6: Álvaro Morata | V6: Álvaro Zamora | W6: Abde Ezzalzouli | X6: Andrej Kramarić | Y6: Amadou Onana | Z6: Alistair Johnston | AA6: Alex Sandro | AB6: Aleksandar Mitrović | AC6: Ardon Jashari | AD6: André Onana | AE6: André Silva | AF6: Abdul Fatawu Issahaku | AG6: Agustín Canobbio | AH6: Cho Gue-sung
B7: Player 2 | C7: Alfred Gomis | D7: Cody Gakpo | E7: Abdulaziz Hatem | F7: Alexander Domínguez | G7: Ben White | H7: Ahmad Nourollahi | I7: Antonee Robinson | J7: Adam Davies | K7: Alexis Mac Allister | L7: Abdulellah Al-Malki | M7: Alfredo Talavera | N7: Artur Jędrzejczyk | O7: Andreas Christensen | P7: Ali Abdi | Q7: Alphonse Areola | R7: Ajdin Hrustic | S7: Armel Bella-Kotchap | T7: Ayase Ueda | U7: Ansu Fati | V7: Anthony Contreras | W7: Abdelhamid Sabiri | X7: Ante Budimir | Y7: Arthur Theate | Z7: Alphonso Davies | AA7: Alex Telles | AB7: Andrija Živković | AC7: Breel Embolo | AD7: André-Frank Zambo Anguissa | AE7: António Silva | AF7: Abdul Manaf Nurudeen | AG7: Darwin Núñez | AH7: Cho Yu-min
B8: Player 3 | C8: Bamba Dieng | D8: Daley Blind | E8: Ahmed Alaaeldin | F8: Ángel Mena | G8: Bukayo Saka | H8: Ali Gholizadeh | I8: Brenden Aaronson | J8: Ben Cabango | K8: Ángel Di María | L8: Abdullah Madu | M8: Andrés Guardado | N8: Bartłomiej Drągowski | O8: Andreas Cornelius | P8: Ali Maâloul | Q8: Antoine Griezmann | R8: Andrew Redmayne | S8: Christian Günter | T8: Daichi Kamada | U8: Aymeric Laporte | V8: Anthony Hernández | W8: Abderrazak Hamdallah | X8: Borna Barišić | Y8: Axel Witsel | Z8: Atiba Hutchinson | AA8: Alisson | AB8: Darko Lazović | AC8: Christian Fassnacht | AD8: Bryan Mbeumo | AE8: Bernardo Silva | AF8: Alexander Djiku | AG8: Diego Godín | AH8: Hong Chul
B9: Player 4 | C9: Boulaye Dia | D9: Davy Klaassen | E9: Akram Afif | F9: Ángelo Preciado | G9: Callum Wilson | H9: Ali Karimi | I9: Cameron Carter-Vickers | J9: Ben Davies | K9: Cristian Romero | L9: Abdullah Otayf | M9: Carlos Rodríguez | N9: Bartosz Bereszyński | O9: Andreas Skov Olsen | P9: Anis Ben Slimane | Q9: Aurélien Tchouaméni | R9: Awer Mabil | S9: David Raum | T9: Daizen Maeda | U9: Carlos Soler | V9: Brandon Aguilera | W9: Achraf Dari | X9: Borna Sosa | Y9: Charles De Ketelaere | Z9: Cyle Larin | AA9: Antony | AB9: Dušan Tadić | AC9: Denis Zakaria | AD9: Christian Bassogog | AE9: Bruno Fernandes | AF9: Alidu Seidu | AG9: Edinson Cavani | AH9: Hwang Hee-chan
B10: Player 5 | C10: Cheikhou Kouyaté | D10: Denzel Dumfries | E10: Ali Assadalla | F10: Ayrton Preciado | G10: Conor Coady | H10: Alireza Beiranvand | I10: Christian Pulisic | J10: Brennan Johnson | K10: Emiliano Martínez | L10: Abdulrahman Al-Aboud | M10: César Montes | N10: Damian Szymański | O10: Christian Eriksen | P10: Aymen Dahmen | Q10: Benjamin Pavard | R10: Aziz Behich | S10: İlkay Gündoğan | T10: Daniel Schmidt | U10: César Azpilicueta | V10: Bryan Oviedo | W10: Achraf Hakimi | X10: Bruno Petković | Y10: Dries Mertens | Z10: David Wotherspoon | AA10: Bremer | AB10: Dušan Vlahović | AC10: Djibril Sow | AD10: Christopher Wooh | AE10: Cristiano Ronaldo | AF10: André Ayew | AG10: Facundo Pellistri | AH10: Hwang In-beom
B11: Player 6 | C11: Édouard Mendy | D11: Frenkie de Jong | E11: Almoez Ali | F11: Carlos Gruezo | G11: Conor Gallagher | H11: Alireza Jahanbakhsh | I11: Cristian Roldan | J11: Chris Gunter | K11: Enzo Fernández | L11: Ali Al-Bulaihi | M11: Edson Álvarez | N11: Grzegorz Krychowiak | O11: Christian Nørgaard | P11: Aymen Mathlouthi | Q11: Benoit Badiashile | R11: Bailey Wright | S11: Jamal Musiala | T11: Eiji Kawashima | U11: Dani Carvajal | V11: Bryan Ruiz | W11: Ahmed Reda Tagnaouti | X11: Dejan Lovren | Y11: Eden Hazard | Z11: Dayne St. Clair | AA11: Bruno Guimarães | AB11: Filip Đuričić | AC11: Edimilson Fernandes | AD11: Collins Fai | AE11: Danilo Pereira | AF11: Antoine Semenyo | AG11: Facundo Torres | AH11: Hwang Ui-jo
B12: Player 7 | C12: Famara Diédhiou | D12: Jeremie Frimpong | E12: Assim Madibo | F12: Diego Palacios | G12: Declan Rice | H12: Amir Abedzadeh | I12: DeAndre Yedlin | J12: Chris Mepham | K12: Exequiel Palacios | L12: Ali Al-Hassan | M12: Érick Gutiérrez | N12: Jakub Kamiński | O12: Daniel Wass | P12: Bechir Ben Saïd | Q12: Christopher Nkunku | R12: Cameron Devlin | S12: Jonas Hofmann | T12: Gaku Shibasaki | U12: Dani Olmo | V12: Carlos Martínez | W12: Amine Harit | X12: Domagoj Vida | Y12: Hans Vanaken | Z12: Derek Cornelius | AA12: Casemiro | AB12: Filip Kostić | AC12: Eray Cömert | AD12: Devis Epassy | AE12: Diogo Costa | AF12: Baba Rahman | AG12: Federico Valverde | AH12: Jeong Woo-yeong
B13: Player 8 | C13: Fodé Ballo-Touré | D13: Jurriën Timber | E13: Bassam Al-Rawi | F13: Djorkaeff Reasco | G13: Eric Dier | H13: Ehsan Hajsafi | I13: Ethan Horvath | J13: Connor Roberts | K13: Franco Armani | L13: Fahad Al-Muwallad | M13: Gerardo Arteaga | N13: Jakub Kiwior | O13: Frederik Rønnow | P13: Bilel Ifa | Q13: Dayot Upamecano | R13: Craig Goodwin | S13: Joshua Kimmich | T13: Hidemasa Morita | U13: David Raya | V13: Celso Borges | W13: Azzedine Ounahi | X13: Dominik Livaković | Y13: Jan Vertonghen | Z13: Iké Ugbo | AA13: Dani Alves | AB13: Filip Mladenović | AC13: Fabian Frei | AD13: Enzo Ebosse | AE13: Diogo Dalot | AF13: Daniel Afriyie | AG13: Fernando Muslera | AH13: Jo Hyeon-woo
B14: Player 9 | C14: Formose Mendy | D14: Justin Bijlow | E14: Boualem Khoukhi | F14: Enner Valencia | G14: Harry Kane | H14: Hossein Hosseini | I14: Giovanni Reyna | J14: Daniel James | K14: Germán Pezzella | L14: Firas Al-Buraikan | M14: Guillermo Ochoa | N14: Jan Bednarek | O14: Jens Stryger Larsen | P14: Dylan Bronn | Q14: Eduardo Camavinga | R14: Danny Vukovic | S14: Julian Brandt | T14: Hiroki Itō | U14: Eric García | V14: Daniel Chacón | W14: Badr Benoun | X14: Ivan Perišić | Y14: Jérémy Doku | Z14: Ismaël Koné | AA14: Danilo | AB14: Ivan Ilić | AC14: Fabian Rieder | AD14: Eric Maxim Choupo-Moting | AE14: Gonçalo Ramos | AF14: Daniel Amartey | AG14: Giorgian de Arrascaeta | AH14: Jung Woo-young
B15: Player 10 | C15: Idrissa Gueye | D15: Kenneth Taylor | E15: Hassan Al-Haydos | F15: Félix Torres | G15: Harry Maguire | H15: Hossein Kanaanizadegan | I15: Haji Wright | J15: Danny Ward | K15: Gerónimo Rulli | L15: Haitham Asiri | M15: Héctor Herrera | N15: Kamil Glik | O15: Jesper Lindstrøm | P15: Ellyes Skhiri | Q15: Hugo Lloris | R15: Fran Karačić | S15: Kai Havertz | T15: Hiroki Sakai | U15: Ferran Torres | V15: Douglas López | W15: Bilal El Khannous | X15: Ivica Ivušić | Y15: Kevin De Bruyne | Z15: James Pantemis | AA15: Éder Militão | AB15: Luka Jović | AC15: Fabian Schär | AD15: Gaël Ondoua | AE15: João Cancelo | AF15: Daniel-Kofi Kyereh | AG15: Guillermo Varela | AH15: Kim Jin-su
B16: Player 11 | C16: Iliman Ndiaye | D16: Luuk de Jong | E16: Homam Ahmed | F16: Gonzalo Plata | G16: Jack Grealish | H16: Karim Ansarifard | I16: Jesús Ferreira | J16: Dylan Levitt | K16: Gonzalo Montiel | L16: Hassan Tambakti | M16: Héctor Moreno | N16: Kamil Grosicki | O16: Joachim Andersen | P16: Ferjani Sassi | Q16: Ibrahima Konaté | R16: Garang Kuol | S16: Karim Adeyemi | T16: Junya Ito | U16: Gavi | V16: Esteban Alvarado | W16: Hakim Ziyech | X16: Ivo Grbić | Y16: Koen Casteels | Z16: Joel Waterman | AA16: Ederson | AB16: Marko Dmitrović | AC16: Granit Xhaka | AD16: Georges-Kévin Nkoudou | AE16: João Félix | AF16: Denis Odoi | AG16: José Giménez | AH16: Kim Min-jae
B17: Player 12 | C17: Ismail Jakobs | D17: Marten de Roon | E17: Ismaeel Mohammad | F17: Hernán Galíndez | G17: James Maddison | H17: Majid Hosseini | I17: Joe Scally | J17: Ethan Ampadu | K17: Guido Rodríguez | L17: Hattan Bahebri | M17: Henry Martín | N17: Karol Świderski | O17: Joakim Mæhle | P17: Ghailene Chaalali | Q17: Jordan Veretout | R17: Harry Souttar | S17: Kevin Trapp | T17: Kaoru Mitoma | U17: Hugo Guillamón | V17: Francisco Calvo | W17: Ilias Chair | X17: Josip Juranović | Y17: Leander Dendoncker | Z17: Jonathan David | AA17: Éverton Ribeiro | AB17: Marko Grujić | AC17: Gregor Kobel | AD17: Jean-Charles Castelletto | AE17: João Mário | AF17: Elisha Owusu | AG17: José Luis Rodríguez | AH17: Kim Moon-hwan
... B30: Player 25 | C30: Seny Dieng | D30: Wout Weghorst | E30: Tarek Salman | F30: William Pacho | G30: Raheem Sterling | H30: Vahid Amiri | I30: Weston McKennie | J30: Tom Lockyer | K30: Paulo Dybala | L30: Sultan Al-Ghanam | M30: Rogelio Funes Mori | N30: Szymon Żurkowski | O30: Victor Nelsson | P30: Yassine Meriah | Q30: William Saliba | R30: Riley McGree | S30: Thomas Müller | T30: Yūki Sōma | U30: Unai Simón | V30: Yeltsin Tejeda | W30: Youssef En-Nesyri | X30: Mislav Oršić | Y30: Youri Tielemans | Z30: Steven Vitória | AA30: Vinícius Júnior | AB30: Uroš Račić | AC30: Xherdan Shaqiri | AD30: Simon Ngapandouetnbu | AE30: Vitinha | AF30: Tariq Lamptey | AG30: Sebastián Sosa | AH30: Song Min-kyu
B31: Player 26 | C31: Youssouf Sabaly | D31: Xavi Simons | E31: Yousef Hassan | F31: Xavier Arreaga | G31: Trent Alexander-Arnold | I31: Yunus Musah | J31: Wayne Hennessey | K31: Rodrigo De Paul | L31: Yasser Al-Shahrani | M31: Uriel Antuna | N31: Wojciech Szczęsny | O31: Yussuf Poulsen | P31: Youssef Msakni | Q31: Youssouf Fofana | R31: Thomas Deng | S31: Youssoufa Moukoko | T31: Yūto Nagatomo | U31: Yeremy Pino | V31: Youstin Salas | W31: Zakaria Aboukhlal | X31: Nikola Vlašić | Y31: Zeno Debast | Z31: Tajon Buchanan | AA31: Weverton | AB31: Vanja Milinković-Savić | AC31: Yann Sommer | AD31: Vincent Aboubakar | AE31: William Carvalho | AF31: Thomas Partey | AG31: Sergio Rochet | AH31: Yoon Jong-gyu

Sheet Calculator
A4: =INDEX(M4:M35,MATCH(U4,C4:C35,0),0) -> 1584 | B4: 1 | C4: =BZ7 -> Senegal | D4: =SUM(E4:G4) -> 0 | E4: =SUMPRODUCT((Tournament!H5:H52<>"")*(Tournament!F5:F52=C4)*(Tournament!H5:H52>Tournament!I5:I52)*1)+SUMPRODUCT((Tournament!H5:H52<>"")*(Tournament!K5:K52=C4)*(Tournament!I5:I52>Tournament!H5:H52)*1) -> 0 | F4: =SUMPRODUCT((Tournament!H5:H52<>"")*(Tournament!F5:F52=C4)*(Tournament!H5:H52=Tournament!I5:I52)*1)+SUMPRODUCT((Tournament!H5:H52<>"")*(Tournament!K5:K52=C4)*(Tournament!H5:H52=Tournament!I5:I52)*1) -> 0 | G4: =SUMPRODUCT((Tournament!H5:H52<>"")*(Tournament!F5:F52=C4)*(Tournament!H5:H52<Tournament!I5:I52)*1)+SUMPRODUCT((Tournament!H5:H52<>"")*(Tournament!K5:K52=C4)*(Tournament!I5:I52<Tournament!H5:H52)*1) -> 0 | H4: =SUMIF(Tournament!F5:F52,C4,Tournament!H5:H52)+SUMIF(Tournament!K5:K52,C4,Tournament!I5:I52) -> 0 | I4: =SUMIF(Tournament!F5:F52,C4,Tournament!I5:I52)+SUMIF(Tournament!K5:K52,C4,Tournament!H5:H52) -> 0 | J4: =H4-I4 -> 0 | K4: =F4*1+E4*3 -> 0 | L4: =Setup!E8 -> 1584 | M4: =IF(Setup!F8<>"",Setup!F8,Setup!E8) -> 1584 | N4: =RANK(K4,K4:K7) -> 1 | O4: =SUMPRODUCT((N4:N7=N4)*(J4:J7>J4)*1) -> 0 | P4: =N4+O4 -> 1 | Q4: =SUMPRODUCT((N4:N7=N4)*(J4:J7=J4)*(H4:H7>H4)*1) -> 0 | R4: =P4+Q4 -> 1 | S4: =RANK(R4,R4:R7,1)+COUNTIF(R4:R4,R4)-1 -> 1 | T4: 1 | U4: =INDEX(C4:C7,MATCH(T4,S4:S7,0),0) -> Senegal | V4: =INDEX(R4:R7,MATCH(U4,C4:C7,0),0) -> 1 | W4: =IF(V5=1,U4,"") -> Senegal | Z4: =SUMPRODUCT((Tournament!F5:F52=W4)*(Tournament!K5:K52=W5)*(Tournament!H5:H52>Tournament!I5:I52)*1)+SUMPRODUCT((Tournament!K5:K52=W4)*(Tournament!F5:F52=W5)*(Tournament!I5:I52>Tournament!H5:H52)*1)+SUMPRODUCT((Tournament!F5:F52=W4)*(Tournament!K5:K52=W6)*(Tournament!H5:H52>Tournament!I5:I52)*1)+SUMPRODUCT((Tournament!K5:K52=W4)*(Tournament!F5:F52=W6)*(Tournament!I5:I52>Tournament!H5:H52)*1)+SUMPRODUCT((Tournament!F5:F52=W4)*(Tournament!K5:K52=W7)*(Tournament!H5:H52>Tournament!I5:I52)*1)+SUMPRODUCT((Tournament!K5:K52=W4)*(Tournament!F5:F52=W7)*(Tournament!I5:I52>Tournament!H5:H52)*1) -> 0 | AA4: =SUMPRODUCT((Tournament!F5:F52=W4)*(Tournament!K5:K52=W5)*(Tournament!H5:H52=Tournament!I5:I52)*1)+SUMPRODUCT((Tournament!K5:K52=W4)*(Tournament!F5:F52=W5)*(Tournament!H5:H52=Tournament!I5:I52)*1)+SUMPRODUCT((Tournament!F5:F52=W4)*(Tournament!K5:K52=W6)*(Tournament!H5:H52=Tournament!I5:I52)*1)+SUMPRODUCT((Tournament!K5:K52=W4)*(Tournament!F5:F52=W6)*(Tournament!H5:H52=Tournament!I5:I52)*1)+SUMPRODUCT((Tournament!F5:F52=W4)*(Tournament!K5:K52=W7)*(Tournament!H5:H52=Tournament!I5:I52)*1)+SUMPRODUCT((Tournament!K5:K52=W4)*(Tournament!F5:F52=W7)*(Tournament!H5:H52=Tournament!I5:I52)*1) -> 3 | AB4: =SUMPRODUCT((Tournament!F5:F52=W4)*(Tournament!K5:K52=W5)*(Tournament!H5:H52<Tournament!I5:I52)*1)+SUMPRODUCT((Tournament!K5:K52=W4)*(Tournament!F5:F52=W5)*(Tournament!I5:I52<Tournament!H5:H52)*1)+SUMPRODUCT((Tournament!F5:F52=W4)*(Tournament!K5:K52=W6)*(Tournament!H5:H52<Tournament!I5:I52)*1)+SUMPRODUCT((Tournament!K5:K52=W4)*(Tournament!F5:F52=W6)*(Tournament!I5:I52<Tournament!H5:H52)*1)+SUMPRODUCT((Tournament!F5:F52=W4)*(Tournament!K5:K52=W7)*(Tournament!H5:H52<Tournament!I5:I52)*1)+SUMPRODUCT((Tournament!K5:K52=W4)*(Tournament!F5:F52=W7)*(Tournament!I5:I52<Tournament!H5:H52)*1) -> 0 | AC4: =SUMIFS(Tournament!H5:H52,Tournament!F5:F52,W4,Tournament!K5:K52,W5)+SUMIFS(Tournament!H5:H52,Tournament!F5:F52,W4,Tournament!K5:K52,W6)+SUMIFS(Tournament!H5:H52,Tournament!F5:F52,W4,Tournament!K5:K52,W7)+SUMIFS(Tournament!I5:I52,Tournament!K5:K52,W4,Tournament!F5:F52,W5)+SUMIFS(Tournament!I5:I52,Tournament!K5:K52,W4,Tournament!F5:F52,W6)+SUMIFS(Tournament!I5:I52,Tournament!K5:K52,W4,Tournament!F5:F52,W7) -> 0 | AD4: =SUMIFS(Tournament!I5:I52,Tournament!F5:F52,W4,Tournament!K5:K52,W5)+SUMIFS(Tournament!I5:I52,Tournament!F5:F52,W4,Tournament!K5:K52,W6)+SUMIFS(Tournament!I5:I52,Tournament!F5:F52,W4,Tournament!K5:K52,W7)+SUMIFS(Tournament!H5:H52,Tournament!K5:K52,W4,Tournament!F5:F52,W5)+SUMIFS(Tournament!H5:H52,Tournament!K5:K52,W4,Tournament!F5:F52,W6)+SUMIFS(Tournament!H5:H52,Tournament!K5:K52,W4,Tournament!F5:F52,W7) -> 0 | AE4: =AC4-AD4 -> 0 | AF4: =AA4*1+Z4*3 -> 3 | AG4: =IF(W4<>"",SUMPRODUCT((V4:V7=V4)*(AF4:AF7>AF4)*1),0) -> 0 | AH4: =IF(W4<>"",SUMPRODUCT((AG4:AG7=AG4)*(AE4:AE7>AE4)*1),0) -> 0 | AI4: =AG4+AH4 -> 0 | AJ4: =IF(W4<>"",SUMPRODUCT((AI4:AI7=AI4)*(AG4:AG7=AG4)*(AC4:AC7>AC4)*1),0) -> 0 | AK4: =V4+AI4+AJ4 -> 1 | AL4: 0 | AM4: 0 | AN4: 0 | AO4: 0 | AP4: 0 | AQ4: 0 | AR4: 0 | AS4: 0 | AT4: 0 | AU4: 0 | AV4: 0 | AW4: =AK4+AU4+AV4 -> 1 | AX4: 0 | AY4: 0 | AZ4: 0 | BA4: 0 | BB4: 0 | BC4: 0 | BD4: 0 | BE4: 0 | BF4: 0 | BG4: 0 | BH4: 0 | BI4: =AW4+BG4+BH4 -> 1 | BJ4: =SUMPRODUCT((BI4:BI7=BI4)*(A4:A7>A4)*1) -> 1 | BK4: =BJ4+BI4 -> 2
A5: =INDEX(M4:M35,MATCH(U5,C4:C35,0),0) -> 1658 | B5: 2 | C5: =BZ8 -> Netherlands | D5: =SUM(E5:G5) -> 0 | E5: =SUMPRODUCT((Tournament!H5:H52<>"")*(Tournament!F5:F52=C5)*(Tournament!H5:H52>Tournament!I5:I52)*1)+SUMPRODUCT((Tournament!H5:H52<>"")*(Tournament!K5:K52=C5)*(Tournament!I5:I52>Tournament!H5:H52)*1) -> 0 | F5: =SUMPRODUCT((Tournament!H5:H52<>"")*(Tournament!F5:F52=C5)*(Tournament!H5:H52=Tournament!I5:I52)*1)+SUMPRODUCT((Tournament!H5:H52<>"")*(Tournament!K5:K52=C5)*(Tournament!H5:H52=Tournament!I5:I52)*1) -> 0 | G5: =SUMPRODUCT((Tournament!H5:H52<>"")*(Tournament!F5:F52=C5)*(Tournament!H5:H52<Tournament!I5:I52)*1)+SUMPRODUCT((Tournament!H5:H52<>"")*(Tournament!K5:K52=C5)*(Tournament!I5:I52<Tournament!H5:H52)*1) -> 0 | H5: =SUMIF(Tournament!F5:F52,C5,Tournament!H5:H52)+SUMIF(Tournament!K5:K52,C5,Tournament!I5:I52) -> 0 | I5: =SUMIF(Tournament!F5:F52,C5,Tournament!I5:I52)+SUMIF(Tournament!K5:K52,C5,Tournament!H5:H52) -> 0 | J5: =H5-I5 -> 0 | K5: =F5*1+E5*3 -> 0 | L5: =Setup!E9 -> 1658 | M5: =IF(Setup!F9<>"",Setup!F9,Setup!E9) -> 1658 | N5: =RANK(K5,K4:K7) -> 1 | O5: =SUMPRODUCT((N4:N7=N5)*(J4:J7>J5)*1) -> 0 | P5: =N5+O5 -> 1 | Q5: =SUMPRODUCT((N4:N7=N5)*(J4:J7=J5)*(H4:H7>H5)*1) -> 0 | R5: =P5+Q5 -> 1 | S5: =RANK(R5,R4:R7,1)+COUNTIF(R4:R5,R5)-1 -> 2 | T5: 2 | U5: =INDEX(C4:C7,MATCH(T5,S4:S7,0),0) -> Netherlands | V5: =INDEX(R4:R7,MATCH(U5,C4:C7,0),0) -> 1 | W5: =IF(W4<>"",U5,"") -> Netherlands | X5: =IF(V6=2,U5,"") | Z5: =SUMPRODUCT((Tournament!F5:F52=W5)*(Tournament!K5:K52=W4)*(Tournament!H5:H52>Tournament!I5:I52)*1)+SUMPRODUCT((Tournament!K5:K52=W5)*(Tournament!F5:F52=W4)*(Tournament!I5:I52>Tournament!H5:H52)*1)+SUMPRODUCT((Tournament!F5:F52=W5)*(Tournament!K5:K52=W6)*(Tournament!H5:H52>Tournament!I5:I52)*1)+SUMPRODUCT((Tournament!K5:K52=W5)*(Tournament!F5:F52=W6)*(Tournament!I5:I52>Tournament!H5:H52)*1)+SUMPRODUCT((Tournament!F5:F52=W5)*(Tournament!K5:K52=W7)*(Tournament!H5:H52>Tournament!I5:I52)*1)+SUMPRODUCT((Tournament!K5:K52=W5)*(Tournament!F5:F52=W7)*(Tournament!I5:I52>Tournament!H5:H52)*1) -> 0 | AA5: =SUMPRODUCT((Tournament!F5:F52=W5)*(Tournament!K5:K52=W4)*(Tournament!H5:H52=Tournament!I5:I52)*1)+SUMPRODUCT((Tournament!K5:K52=W5)*(Tournament!F5:F52=W4)*(Tournament!H5:H52=Tournament!I5:I52)*1)+SUMPRODUCT((Tournament!F5:F52=W5)*(Tournament!K5:K52=W6)*(Tournament!H5:H52=Tournament!I5:I52)*1)+SUMPRODUCT((Tournament!K5:K52=W5)*(Tournament!F5:F52=W6)*(Tournament!H5:H52=Tournament!I5:I52)*1)+SUMPRODUCT((Tournament!F5:F52=W5)*(Tournament!K5:K52=W7)*(Tournament!H5:H52=Tournament!I5:I52)*1)+SUMPRODUCT((Tournament!K5:K52=W5)*(Tournament!F5:F52=W7)*(Tournament!H5:H52=Tournament!I5:I52)*1) -> 3 | AB5: =SUMPRODUCT((Tournament!F5:F52=W5)*(Tournament!K5:K52=W4)*(Tournament!H5:H52<Tournament!I5:I52)*1)+SUMPRODUCT((Tournament!K5:K52=W5)*(Tournament!F5:F52=W4)*(Tournament!I5:I52<Tournament!H5:H52)*1)+SUMPRODUCT((Tournament!F5:F52=W5)*(Tournament!K5:K52=W6)*(Tournament!H5:H52<Tournament!I5:I52)*1)+SUMPRODUCT((Tournament!K5:K52=W5)*(Tournament!F5:F52=W6)*(Tournament!I5:I52<Tournament!H5:H52)*1)+SUMPRODUCT((Tournament!F5:F52=W5)*(Tournament!K5:K52=W7)*(Tournament!H5:H52<Tournament!I5:I52)*1)+SUMPRODUCT((Tournament!K5:K52=W5)*(Tournament!F5:F52=W7)*(Tournament!I5:I52<Tournament!H5:H52)*1) -> 0 | AC5: =SUMIFS(Tournament!H5:H52,Tournament!F5:F52,W5,Tournament!K5:K52,W4)+SUMIFS(Tournament!H5:H52,Tournament!F5:F52,W5,Tournament!K5:K52,W6)+SUMIFS(Tournament!H5:H52,Tournament!F5:F52,W5,Tournament!K5:K52,W7)+SUMIFS(Tournament!I5:I52,Tournament!K5:K52,W5,Tournament!F5:F52,W4)+SUMIFS(Tournament!I5:I52,Tournament!K5:K52,W5,Tournament!F5:F52,W6)+SUMIFS(Tournament!I5:I52,Tournament!K5:K52,W5,Tournament!F5:F52,W7) -> 0 | AD5: =SUMIFS(Tournament!I5:I52,Tournament!F5:F52,W5,Tournament!K5:K52,W4)+SUMIFS(Tournament!I5:I52,Tournament!F5:F52,W5,Tournament!K5:K52,W6)+SUMIFS(Tournament!I5:I52,Tournament!F5:F52,W5,Tournament!K5:K52,W7)+SUMIFS(Tournament!H5:H52,Tournament!K5:K52,W5,Tournament!F5:F52,W4)+SUMIFS(Tournament!H5:H52,Tournament!K5:K52,W5,Tournament!F5:F52,W6)+SUMIFS(Tournament!H5:H52,Tournament!K5:K52,W5,Tournament!F5:F52,W7) -> 0 | AE5: =AC5-AD5 -> 0 | AF5: =AA5*1+Z5*3 -> 3 | AG5: =IF(W5<>"",SUMPRODUCT((V4:V7=V5)*(AF4:AF7>AF5)*1),0) -> 0 | AH5: =IF(W5<>"",SUMPRODUCT((AG4:AG7=AG5)*(AE4:AE7>AE5)*1),0) -> 0 | AI5: =AG5+AH5 -> 0 | AJ5: =IF(W5<>"",SUMPRODUCT((AI4:AI7=AI5)*(AG4:AG7=AG5)*(AC4:AC7>AC5)*1),0) -> 0 | AK5: =V5+AI5+AJ5 -> 1 | AL5: =SUMPRODUCT((Tournament!F5:F52=X5)*(Tournament!K5:K52=X6)*(Tournament!H5:H52>Tournament!I5:I52)*1)+SUMPRODUCT((Tournament!K5:K52=X5)*(Tournament!F5:F52=X6)*(Tournament!I5:I52>Tournament!H5:H52)*1)+SUMPRODUCT((Tournament!F5:F52=X5)*(Tournament!K5:K52=X7)*(Tournament!H5:H52>Tournament!I5:I52)*1)+SUMPRODUCT((Tournament!K5:K52=X5)*(Tournament!F5:F52=X7)*(Tournament!I5:I52>Tournament!H5:H52)*1) -> 0 | AM5: =SUMPRODUCT((Tournament!F5:F52=X5)*(Tournament!K5:K52=X6)*(Tournament!H5:H52=Tournament!I5:I52)*1)+SUMPRODUCT((Tournament!K5:K52=X5)*(Tournament!F5:F52=X6)*(Tournament!H5:H52=Tournament!I5:I52)*1)+SUMPRODUCT((Tournament!F5:F52=X5)*(Tournament!K5:K52=X7)*(Tournament!H5:H52=Tournament!I5:I52)*1)+SUMPRODUCT((Tournament!K5:K52=X5)*(Tournament!F5:F52=X7)*(Tournament!H5:H52=Tournament!I5:I52)*1) -> 0 | AN5: =SUMPRODUCT((Tournament!F5:F52=X5)*(Tournament!K5:K52=X6)*(Tournament!H5:H52<Tournament!I5:I52)*1)+SUMPRODUCT((Tournament!K5:K52=X5)*(Tournament!F5:F52=X6)*(Tournament!I5:I52<Tournament!H5:H52)*1)+SUMPRODUCT((Tournament!F5:F52=X5)*(Tournament!K5:K52=X7)*(Tournament!H5:H52<Tournament!I5:I52)*1)+SUMPRODUCT((Tournament!K5:K52=X5)*(Tournament!F5:F52=X7)*(Tournament!I5:I52<Tournament!H5:H52)*1) -> 0 | AO5: =SUMIFS(Tournament!H5:H52,Tournament!F5:F52,X5,Tournament!K5:K52,X6)+SUMIFS(Tournament!H5:H52,Tournament!F5:F52,X5,Tournament!K5:K52,X7)+SUMIFS(Tournament!I5:I52,Tournament!K5:K52,X5,Tournament!F5:F52,X6)+SUMIFS(Tournament!I5:I52,Tournament!K5:K52,X5,Tournament!F5:F52,X7) -> 0 | AP5: =SUMIFS(Tournament!I5:I52,Tournament!F5:F52,X5,Tournament!K5:K52,X6)+SUMIFS(Tournament!I5:I52,Tournament!F5:F52,X5,Tournament!K5:K52,X7)+SUMIFS(Tournament!H5:H52,Tournament!K5:K52,X5,Tournament!F5:F52,X6)+SUMIFS(Tournament!H5:H52,Tournament!K5:K52,X5,Tournament!F5:F52,X7) -> 0 | AQ5: =AO5-AP5 -> 0 | AR5: =AM5*1+AL5*3 -> 0 | AS5: =IF(X5<>"",SUMPRODUCT((V4:V7=V5)*(AR4:AR7>AR5)*1),0) -> 0 | AT5: =IF(X5<>"",SUMPRODUCT((AS4:AS7=AS5)*(AQ4:AQ7>AQ5)*1),0) -> 0 | AU5: =AS5+AT5 -> 0 | AV5: =IF(X5<>"",SUMPRODUCT((AU4:AU7=AU5)*(AS4:AS7=AS5)*(AO4:AO7>AO5)*1),0) -> 0 | AW5: =AK5+AU5+AV5 -> 1 | AX5: 0 | AY5: 0 | AZ5: 0 | BA5: 0 | BB5: 0 | BC5: 0 | BD5: 0 | BE5: 0 | BF5: 0 | BG5: 0 | BH5: 0 | BI5: =AW5+BG5+BH5 -> 1 | BJ5: =SUMPRODUCT((BI4:BI7=BI5)*(A4:A7>A5)*1) -> 0 | BK5: =BJ5+BI5 -> 1
A6: =INDEX(M4:M35,MATCH(U6,C4:C35,0),0) -> 1441 | B6: 3 | C6: =BZ9 -> Qatar | D6: =SUM(E6:G6) -> 0 | E6: =SUMPRODUCT((Tournament!H5:H52<>"")*(Tournament!F5:F52=C6)*(Tournament!H5:H52>Tournament!I5:I52)*1)+SUMPRODUCT((Tournament!H5:H52<>"")*(Tournament!K5:K52=C6)*(Tournament!I5:I52>Tournament!H5:H52)*1) -> 0 | F6: =SUMPRODUCT((Tournament!H5:H52<>"")*(Tournament!F5:F52=C6)*(Tournament!H5:H52=Tournament!I5:I52)*1)+SUMPRODUCT((Tournament!H5:H52<>"")*(Tournament!K5:K52=C6)*(Tournament!H5:H52=Tournament!I5:I52)*1) -> 0 | G6: =SUMPRODUCT((Tournament!H5:H52<>"")*(Tournament!F5:F52=C6)*(Tournament!H5:H52<Tournament!I5:I52)*1)+SUMPRODUCT((Tournament!H5:H52<>"")*(Tournament!K5:K52=C6)*(Tournament!I5:I52<Tournament!H5:H52)*1) -> 0 | H6: =SUMIF(Tournament!F5:F52,C6,Tournament!H5:H52)+SUMIF(Tournament!K5:K52,C6,Tournament!I5:I52) -> 0 | I6: =SUMIF(Tournament!F5:F52,C6,Tournament!I5:I52)+SUMIF(Tournament!K5:K52,C6,Tournament!H5:H52) -> 0 | J6: =H6-I6 -> 0 | K6: =F6*1+E6*3 -> 0 | L6: =Setup!E10 -> 1441 | M6: =IF(Setup!F10<>"",Setup!F10,Setup!E10) -> 1441 | N6: =RANK(K6,K4:K7) -> 1 | O6: =SUMPRODUCT((N4:N7=N6)*(J4:J7>J6)*1) -> 0 | P6: =N6+O6 -> 1 | Q6: =SUMPRODUCT((N4:N7=N6)*(J4:J7=J6)*(H4:H7>H6)*1) -> 0 | R6: =P6+Q6 -> 1 | S6: =RANK(R6,R4:R7,1)+COUNTIF(R4:R6,R6)-1 -> 3 | T6: 3 | U6: =INDEX(C4:C7,MATCH(T6,S4:S7,0),0) -> Qatar | V6: =INDEX(R4:R7,MATCH(U6,C4:C7,0),0) -> 1 | W6: =IF(AND(W5<>"",V6=1),U6,"") -> Qatar | X6: =IF(X5<>"",U6,"") | Y6: =IF(V7=3,U6,"") | Z6: =SUMPRODUCT((Tournament!F5:F52=W6)*(Tournament!K5:K52=W4)*(Tournament!H5:H52>Tournament!I5:I52)*1)+SUMPRODUCT((Tournament!K5:K52=W6)*(Tournament!F5:F52=W4)*(Tournament!I5:I52>Tournament!H5:H52)*1)+SUMPRODUCT((Tournament!F5:F52=W6)*(Tournament!K5:K52=W5)*(Tournament!H5:H52>Tournament!I5:I52)*1)+SUMPRODUCT((Tournament!K5:K52=W6)*(Tournament!F5:F52=W5)*(Tournament!I5:I52>Tournament!H5:H52)*1)+SUMPRODUCT((Tournament!F5:F52=W6)*(Tournament!K5:K52=W7)*(Tournament!H5:H52>Tournament!I5:I52)*1)+SUMPRODUCT((Tournament!K5:K52=W6)*(Tournament!F5:F52=W7)*(Tournament!I5:I52>Tournament!H5:H52)*1) -> 0 | AA6: =SUMPRODUCT((Tournament!F5:F52=W6)*(Tournament!K5:K52=W4)*(Tournament!H5:H52=Tournament!I5:I52)*1)+SUMPRODUCT((Tournament!K5:K52=W6)*(Tournament!F5:F52=W4)*(Tournament!H5:H52=Tournament!I5:I52)*1)+SUMPRODUCT((Tournament!F5:F52=W6)*(Tournament!K5:K52=W5)*(Tournament!H5:H52=Tournament!I5:I52)*1)+SUMPRODUCT((Tournament!K5:K52=W6)*(Tournament!F5:F52=W5)*(Tournament!H5:H52=Tournament!I5:I52)*1)+SUMPRODUCT((Tournament!F5:F52=W6)*(Tournament!K5:K52=W7)*(Tournament!H5:H52=Tournament!I5:I52)*1)+SUMPRODUCT((Tournament!K5:K52=W6)*(Tournament!F5:F52=W7)*(Tournament!H5:H52=Tournament!I5:I52)*1) -> 3 | AB6: =SUMPRODUCT((Tournament!F5:F52=W6)*(Tournament!K5:K52=W4)*(Tournament!H5:H52<Tournament!I5:I52)*1)+SUMPRODUCT((Tournament!K5:K52=W6)*(Tournament!F5:F52=W4)*(Tournament!I5:I52<Tournament!H5:H52)*1)+SUMPRODUCT((Tournament!F5:F52=W6)*(Tournament!K5:K52=W5)*(Tournament!H5:H52<Tournament!I5:I52)*1)+SUMPRODUCT((Tournament!K5:K52=W6)*(Tournament!F5:F52=W5)*(Tournament!I5:I52<Tournament!H5:H52)*1)+SUMPRODUCT((Tournament!F5:F52=W6)*(Tournament!K5:K52=W7)*(Tournament!H5:H52<Tournament!I5:I52)*1)+SUMPRODUCT((Tournament!K5:K52=W6)*(Tournament!F5:F52=W7)*(Tournament!I5:I52<Tournament!H5:H52)*1) -> 0 | AC6: =SUMIFS(Tournament!H5:H52,Tournament!F5:F52,W6,Tournament!K5:K52,W4)+SUMIFS(Tournament!H5:H52,Tournament!F5:F52,W6,Tournament!K5:K52,W5)+SUMIFS(Tournament!H5:H52,Tournament!F5:F52,W6,Tournament!K5:K52,W7)+SUMIFS(Tournament!I5:I52,Tournament!K5:K52,W6,Tournament!F5:F52,W4)+SUMIFS(Tournament!I5:I52,Tournament!K5:K52,W6,Tournament!F5:F52,W5)+SUMIFS(Tournament!I5:I52,Tournament!K5:K52,W6,Tournament!F5:F52,W7) -> 0 | AD6: =SUMIFS(Tournament!I5:I52,Tournament!F5:F52,W6,Tournament!K5:K52,W4)+SUMIFS(Tournament!I5:I52,Tournament!F5:F52,W6,Tournament!K5:K52,W5)+SUMIFS(Tournament!I5:I52,Tournament!F5:F52,W6,Tournament!K5:K52,W7)+SUMIFS(Tournament!H5:H52,Tournament!K5:K52,W6,Tournament!F5:F52,W4)+SUMIFS(Tournament!H5:H52,Tournament!K5:K52,W6,Tournament!F5:F52,W5)+SUMIFS(Tournament!H5:H52,Tournament!K5:K52,W6,Tournament!F5:F52,W7) -> 0 | AE6: =AC6-AD6 -> 0 | AF6: =AA6*1+Z6*3 -> 3 | AG6: =IF(W6<>"",SUMPRODUCT((V4:V7=V6)*(AF4:AF7>AF6)*1),0) -> 0 | AH6: =IF(W6<>"",SUMPRODUCT((AG4:AG7=AG6)*(AE4:AE7>AE6)*1),0) -> 0 | AI6: =AG6+AH6 -> 0 | AJ6: =IF(W6<>"",SUMPRODUCT((AI4:AI7=AI6)*(AG4:AG7=AG6)*(AC4:AC7>AC6)*1),0) -> 0 | AK6: =V6+AI6+AJ6 -> 1 | AL6: =SUMPRODUCT((Tournament!F5:F52=X6)*(Tournament!K5:K52=X5)*(Tournament!H5:H52>Tournament!I5:I52)*1)+SUMPRODUCT((Tournament!K5:K52=X6)*(Tournament!F5:F52=X5)*(Tournament!I5:I52>Tournament!H5:H52)*1)+SUMPRODUCT((Tournament!F5:F52=X6)*(Tournament!K5:K52=X7)*(Tournament!H5:H52>Tournament!I5:I52)*1)+SUMPRODUCT((Tournament!K5:K52=X6)*(Tournament!F5:F52=X7)*(Tournament!I5:I52>Tournament!H5:H52)*1) -> 0 | AM6: =SUMPRODUCT((Tournament!F5:F52=X6)*(Tournament!K5:K52=X5)*(Tournament!H5:H52=Tournament!I5:I52)*1)+SUMPRODUCT((Tournament!K5:K52=X6)*(Tournament!F5:F52=X5)*(Tournament!H5:H52=Tournament!I5:I52)*1)+SUMPRODUCT((Tournament!F5:F52=X6)*(Tournament!K5:K52=X7)*(Tournament!H5:H52=Tournament!I5:I52)*1)+SUMPRODUCT((Tournament!K5:K52=X6)*(Tournament!F5:F52=X7)*(Tournament!H5:H52=Tournament!I5:I52)*1) -> 0 | AN6: =SUMPRODUCT((Tournament!F5:F52=X6)*(Tournament!K5:K52=X5)*(Tournament!H5:H52<Tournament!I5:I52)*1)+SUMPRODUCT((Tournament!K5:K52=X6)*(Tournament!F5:F52=X5)*(Tournament!I5:I52<Tournament!H5:H52)*1)+SUMPRODUCT((Tournament!F5:F52=X6)*(Tournament!K5:K52=X7)*(Tournament!H5:H52<Tournament!I5:I52)*1)+SUMPRODUCT((Tournament!K5:K52=X6)*(Tournament!F5:F52=X7)*(Tournament!I5:I52<Tournament!H5:H52)*1) -> 0 | AO6: =SUMIFS(Tournament!H5:H52,Tournament!F5:F52,X6,Tournament!K5:K52,X5)+SUMIFS(Tournament!H5:H52,Tournament!F5:F52,X6,Tournament!K5:K52,X7)+SUMIFS(Tournament!I5:I52,Tournament!K5:K52,X6,Tournament!F5:F52,X5)+SUMIFS(Tournament!I5:I52,Tournament!K5:K52,X6,Tournament!F5:F52,X7) -> 0 | AP6: =SUMIFS(Tournament!I5:I52,Tournament!F5:F52,X6,Tournament!K5:K52,X5)+SUMIFS(Tournament!I5:I52,Tournament!F5:F52,X6,Tournament!K5:K52,X7)+SUMIFS(Tournament!H5:H52,Tournament!K5:K52,X6,Tournament!F5:F52,X5)+SUMIFS(Tournament!H5:H52,Tournament!K5:K52,X6,Tournament!F5:F52,X7) -> 0 | AQ6: =AO6-AP6 -> 0 | AR6: =AM6*1+AL6*3 -> 0 | AS6: =IF(X6<>"",SUMPRODUCT((V4:V7=V6)*(AR4:AR7>AR6)*1),0) -> 0 | AT6: =IF(X6<>"",SUMPRODUCT((AS4:AS7=AS6)*(AQ4:AQ7>AQ6)*1),0) -> 0 | AU6: =AS6+AT6 -> 0 | AV6: =IF(X6<>"",SUMPRODUCT((AU4:AU7=AU6)*(AS4:AS7=AS6)*(AO4:AO7>AO6)*1),0) -> 0 | AW6: =AK6+AU6+AV6 -> 1 | AX6: =SUMPRODUCT((Tournament!F5:F52=Y6)*(Tournament!K5:K52=Y7)*(Tournament!H5:H52>Tournament!I5:I52)*1)+SUMPRODUCT((Tournament!K5:K52=Y6)*(Tournament!F5:F52=Y7)*(Tournament!I5:I52>Tournament!H5:H52)*1) -> 0 | AY6: =SUMPRODUCT((Tournament!F5:F52=Y6)*(Tournament!K5:K52=Y7)*(Tournament!H5:H52=Tournament!I5:I52)*1)+SUMPRODUCT((Tournament!K5:K52=Y6)*(Tournament!F5:F52=Y7)*(Tournament!I5:I52=Tournament!H5:H52)*1) -> 0 | AZ6: =SUMPRODUCT((Tournament!F5:F52=Y6)*(Tournament!K5:K52=Y7)*(Tournament!H5:H52<Tournament!I5:I52)*1)+SUMPRODUCT((Tournament!K5:K52=Y6)*(Tournament!F5:F52=Y7)*(Tournament!I5:I52<Tournament!H5:H52)*1) -> 0 | BA6: =SUMIFS(Tournament!H5:H52,Tournament!F5:F52,Y6,Tournament!K5:K52,Y7)+SUMIFS(Tournament!I5:I52,Tournament!K5:K52,Y6,Tournament!F5:F52,Y7) -> 0 | BB6: =SUMIFS(Tournament!I5:I52,Tournament!F5:F52,Y6,Tournament!K5:K52,Y7)+SUMIFS(Tournament!H5:H52,Tournament!K5:K52,Y6,Tournament!F5:F52,Y7) -> 0 | BC6: =BA6-BB6 -> 0 | BD6: =AY6*1+AX6*3 -> 0 | BE6: =IF(Y6<>"",SUMPRODUCT((AH4:AH7=AH6)*(BD4:BD7>BD6)*1),0) -> 0 | BF6: =IF(Y6<>"",SUMPRODUCT((BE4:BE7=BE6)*(BC4:BC7>BC6)*1),0) -> 0 | BG6: =BE6+BF6 -> 0 | BH6: =IF(Y6<>"",SUMPRODUCT((BG4:BG7=BG6)*(BE4:BE7=BE6)*(BA4:BA7>BA6)*1),0) -> 0 | BI6: =AW6+BG6+BH6 -> 1 | BJ6: =SUMPRODUCT((BI4:BI7=BI6)*(A4:A7>A6)*1) -> 3 | BK6: =BJ6+BI6 -> 4
A7: =INDEX(M4:M35,MATCH(U7,C4:C35,0),0) -> 1453 | B7: 4 | C7: =BZ10 -> Ecuador | D7: =SUM(E7:G7) -> 0 | E7: =SUMPRODUCT((Tournament!H5:H52<>"")*(Tournament!F5:F52=C7)*(Tournament!H5:H52>Tournament!I5:I52)*1)+SUMPRODUCT((Tournament!H5:H52<>"")*(Tournament!K5:K52=C7)*(Tournament!I5:I52>Tournament!H5:H52)*1) -> 0 | F7: =SUMPRODUCT((Tournament!H5:H52<>"")*(Tournament!F5:F52=C7)*(Tournament!H5:H52=Tournament!I5:I52)*1)+SUMPRODUCT((Tournament!H5:H52<>"")*(Tournament!K5:K52=C7)*(Tournament!H5:H52=Tournament!I5:I52)*1) -> 0 | G7: =SUMPRODUCT((Tournament!H5:H52<>"")*(Tournament!F5:F52=C7)*(Tournament!H5:H52<Tournament!I5:I52)*1)+SUMPRODUCT((Tournament!H5:H52<>"")*(Tournament!K5:K52=C7)*(Tournament!I5:I52<Tournament!H5:H52)*1) -> 0 | H7: =SUMIF(Tournament!F5:F52,C7,Tournament!H5:H52)+SUMIF(Tournament!K5:K52,C7,Tournament!I5:I52) -> 0 | I7: =SUMIF(Tournament!F5:F52,C7,Tournament!I5:I52)+SUMIF(Tournament!K5:K52,C7,Tournament!H5:H52) -> 0 | J7: =H7-I7 -> 0 | K7: =F7*1+E7*3 -> 0 | L7: =Setup!E11 -> 1453 | M7: =IF(Setup!F11<>"",Setup!F11,Setup!E11) -> 1453 | N7: =RANK(K7,K4:K7) -> 1 | O7: =SUMPRODUCT((N4:N7=N7)*(J4:J7>J7)*1) -> 0 | P7: =N7+O7 -> 1 | Q7: =SUMPRODUCT((N4:N7=N7)*(J4:J7=J7)*(H4:H7>H7)*1) -> 0 | R7: =P7+Q7 -> 1 | S7: =RANK(R7,R4:R7,1)+COUNTIF(R4:R7,R7)-1 -> 4 | T7: 4 | U7: =INDEX(C4:C7,MATCH(T7,S4:S7,0),0) -> Ecuador | V7: =INDEX(R4:R7,MATCH(U7,C4:C7,0),0) -> 1 | W7: =IF(AND(W6<>"",V7=1),U7,"") -> Ecuador | X7: =IF(AND(X6<>"",V7=2),U7,"") | Y7: =IF(AND(Y6<>"",V7=3),U7,"") | Z7: =SUMPRODUCT((Tournament!F5:F52=W7)*(Tournament!K5:K52=W4)*(Tournament!H5:H52>Tournament!I5:I52)*1)+SUMPRODUCT((Tournament!K5:K52=W7)*(Tournament!F5:F52=W4)*(Tournament!I5:I52>Tournament!H5:H52)*1)+SUMPRODUCT((Tournament!F5:F52=W7)*(Tournament!K5:K52=W5)*(Tournament!H5:H52>Tournament!I5:I52)*1)+SUMPRODUCT((Tournament!K5:K52=W7)*(Tournament!F5:F52=W5)*(Tournament!I5:I52>Tournament!H5:H52)*1)+SUMPRODUCT((Tournament!F5:F52=W7)*(Tournament!K5:K52=W6)*(Tournament!H5:H52>Tournament!I5:I52)*1)+SUMPRODUCT((Tournament!K5:K52=W7)*(Tournament!F5:F52=W6)*(Tournament!I5:I52>Tournament!H5:H52)*1) -> 0 | AA7: =SUMPRODUCT((Tournament!F5:F52=W7)*(Tournament!K5:K52=W4)*(Tournament!H5:H52=Tournament!I5:I52)*1)+SUMPRODUCT((Tournament!K5:K52=W7)*(Tournament!F5:F52=W4)*(Tournament!H5:H52=Tournament!I5:I52)*1)+SUMPRODUCT((Tournament!F5:F52=W7)*(Tournament!K5:K52=W5)*(Tournament!H5:H52=Tournament!I5:I52)*1)+SUMPRODUCT((Tournament!K5:K52=W7)*(Tournament!F5:F52=W5)*(Tournament!H5:H52=Tournament!I5:I52)*1)+SUMPRODUCT((Tournament!F5:F52=W7)*(Tournament!K5:K52=W6)*(Tournament!H5:H52=Tournament!I5:I52)*1)+SUMPRODUCT((Tournament!K5:K52=W7)*(Tournament!F5:F52=W6)*(Tournament!H5:H52=Tournament!I5:I52)*1) -> 3 | AB7: =SUMPRODUCT((Tournament!F5:F52=W7)*(Tournament!K5:K52=W4)*(Tournament!H5:H52<Tournament!I5:I52)*1)+SUMPRODUCT((Tournament!K5:K52=W7)*(Tournament!F5:F52=W4)*(Tournament!I5:I52<Tournament!H5:H52)*1)+SUMPRODUCT((Tournament!F5:F52=W7)*(Tournament!K5:K52=W5)*(Tournament!H5:H52<Tournament!I5:I52)*1)+SUMPRODUCT((Tournament!K5:K52=W7)*(Tournament!F5:F52=W5)*(Tournament!I5:I52<Tournament!H5:H52)*1)+SUMPRODUCT((Tournament!F5:F52=W7)*(Tournament!K5:K52=W6)*(Tournament!H5:H52<Tournament!I5:I52)*1)+SUMPRODUCT((Tournament!K5:K52=W7)*(Tournament!F5:F52=W6)*(Tournament!I5:I52<Tournament!H5:H52)*1) -> 0 | AC7: =SUMIFS(Tournament!H5:H52,Tournament!F5:F52,W7,Tournament!K5:K52,W4)+SUMIFS(Tournament!H5:H52,Tournament!F5:F52,W7,Tournament!K5:K52,W5)+SUMIFS(Tournament!H5:H52,Tournament!F5:F52,W7,Tournament!K5:K52,W6)+SUMIFS(Tournament!I5:I52,Tournament!K5:K52,W7,Tournament!F5:F52,W4)+SUMIFS(Tournament!I5:I52,Tournament!K5:K52,W7,Tournament!F5:F52,W5)+SUMIFS(Tournament!I5:I52,Tournament!K5:K52,W7,Tournament!F5:F52,W6) -> 0 | AD7: =SUMIFS(Tournament!I5:I52,Tournament!F5:F52,W7,Tournament!K5:K52,W4)+SUMIFS(Tournament!I5:I52,Tournament!F5:F52,W7,Tournament!K5:K52,W5)+SUMIFS(Tournament!I5:I52,Tournament!F5:F52,W7,Tournament!K5:K52,W6)+SUMIFS(Tournament!H5:H52,Tournament!K5:K52,W7,Tournament!F5:F52,W4)+SUMIFS(Tournament!H5:H52,Tournament!K5:K52,W7,Tournament!F5:F52,W5)+SUMIFS(Tournament!H5:H52,Tournament!K5:K52,W7,Tournament!F5:F52,W6) -> 0 | AE7: =AC7-AD7 -> 0 | AF7: =AA7*1+Z7*3 -> 3 | AG7: =IF(W7<>"",SUMPRODUCT((V4:V7=V7)*(AF4:AF7>AF7)*1),0) -> 0 | AH7: =IF(W7<>"",SUMPRODUCT((AG4:AG7=AG7)*(AE4:AE7>AE7)*1),0) -> 0 | AI7: =AG7+AH7 -> 0 | AJ7: =IF(W7<>"",SUMPRODUCT((AI4:AI7=AI7)*(AG4:AG7=AG7)*(AC4:AC7>AC7)*1),0) -> 0 | AK7: =V7+AI7+AJ7 -> 1 | AL7: =SUMPRODUCT((Tournament!F5:F52=X7)*(Tournament!K5:K52=X5)*(Tournament!H5:H52>Tournament!I5:I52)*1)+SUMPRODUCT((Tournament!K5:K52=X7)*(Tournament!F5:F52=X5)*(Tournament!I5:I52>Tournament!H5:H52)*1)+SUMPRODUCT((Tournament!F5:F52=X7)*(Tournament!K5:K52=X6)*(Tournament!H5:H52>Tournament!I5:I52)*1)+SUMPRODUCT((Tournament!K5:K52=X7)*(Tournament!F5:F52=X6)*(Tournament!I5:I52>Tournament!H5:H52)*1) -> 0 | AM7: =SUMPRODUCT((Tournament!F5:F52=X7)*(Tournament!K5:K52=X5)*(Tournament!H5:H52=Tournament!I5:I52)*1)+SUMPRODUCT((Tournament!K5:K52=X7)*(Tournament!F5:F52=X5)*(Tournament!H5:H52=Tournament!I5:I52)*1)+SUMPRODUCT((Tournament!F5:F52=X7)*(Tournament!K5:K52=X6)*(Tournament!H5:H52=Tournament!I5:I52)*1)+SUMPRODUCT((Tournament!K5:K52=X7)*(Tournament!F5:F52=X6)*(Tournament!H5:H52=Tournament!I5:I52)*1) -> 0 | AN7: =SUMPRODUCT((Tournament!F5:F52=X7)*(Tournament!K5:K52=X5)*(Tournament!H5:H52<Tournament!I5:I52)*1)+SUMPRODUCT((Tournament!K5:K52=X7)*(Tournament!F5:F52=X5)*(Tournament!I5:I52<Tournament!H5:H52)*1)+SUMPRODUCT((Tournament!F5:F52=X7)*(Tournament!K5:K52=X6)*(Tournament!H5:H52<Tournament!I5:I52)*1)+SUMPRODUCT((Tournament!K5:K52=X7)*(Tournament!F5:F52=X6)*(Tournament!I5:I52<Tournament!H5:H52)*1) -> 0 | AO7: =SUMIFS(Tournament!H5:H52,Tournament!F5:F52,X7,Tournament!K5:K52,X5)+SUMIFS(Tournament!H5:H52,Tournament!F5:F52,X7,Tournament!K5:K52,X6)+SUMIFS(Tournament!I5:I52,Tournament!K5:K52,X7,Tournament!F5:F52,X5)+SUMIFS(Tournament!I5:I52,Tournament!K5:K52,X7,Tournament!F5:F52,X6) -> 0 | AP7: =SUMIFS(Tournament!H5:H52,Tournament!F5:F52,X7,Tournament!K5:K52,X5)+SUMIFS(Tournament!H5:H52,Tournament!F5:F52,X7,Tournament!K5:K52,X6)+SUMIFS(Tournament!I5:I52,Tournament!K5:K52,X7,Tournament!F5:F52,X5)+SUMIFS(Tournament!I5:I52,Tournament!K5:K52,X7,Tournament!F5:F52,X6) -> 0 | AQ7: =AO7-AP7 -> 0 | AR7: =AM7*1+AL7*3 -> 0 | AS7: =IF(X7<>"",SUMPRODUCT((V4:V7=V7)*(AR4:AR7>AR7)*1),0) -> 0 | AT7: =IF(X7<>"",SUMPRODUCT((AS4:AS7=AS7)*(AQ4:AQ7>AQ7)*1),0) -> 0 | AU7: =AS7+AT7 -> 0 | AV7: =IF(X7<>"",SUMPRODUCT((AU4:AU7=AU7)*(AS4:AS7=AS7)*(AO4:AO7>AO7)*1),0) -> 0 | AW7: =AK7+AU7+AV7 -> 1 | AX7: =SUMPRODUCT((Tournament!F5:F52=Y7)*(Tournament!K5:K52=Y6)*(Tournament!H5:H52>Tournament!I5:I52)*1)+SUMPRODUCT((Tournament!K5:K52=Y7)*(Tournament!F5:F52=Y6)*(Tournament!I5:I52>Tournament!H5:H52)*1) -> 0 | AY7: =SUMPRODUCT((Tournament!F5:F52=Y7)*(Tournament!K5:K52=Y6)*(Tournament!H5:H52=Tournament!I5:I52)*1)+SUMPRODUCT((Tournament!K5:K52=Y7)*(Tournament!F5:F52=Y6)*(Tournament!I5:I52=Tournament!H5:H52)*1) -> 0 | AZ7: =SUMPRODUCT((Tournament!F5:F52=Y7)*(Tournament!K5:K52=Y6)*(Tournament!H5:H52<Tournament!I5:I52)*1)+SUMPRODUCT((Tournament!K5:K52=Y7)*(Tournament!F5:F52=Y6)*(Tournament!I5:I52<Tournament!H5:H52)*1) -> 0 | BA7: =SUMIFS(Tournament!H5:H52,Tournament!F5:F52,Y7,Tournament!K5:K52,Y6)+SUMIFS(Tournament!I5:I52,Tournament!K5:K52,Y7,Tournament!F5:F52,Y6) -> 0 | BB7: =SUMIFS(Tournament!H5:H52,Tournament!F5:F52,Y7,Tournament!K5:K52,Y6)+SUMIFS(Tournament!I5:I52,Tournament!K5:K52,Y7,Tournament!F5:F52,Y6) -> 0 | BC7: =BA7-BB7 -> 0 | BD7: =AY7*1+AX7*3 -> 0 | BE7: =IF(Y7<>"",SUMPRODUCT((AH4:AH7=AH7)*(BD4:BD7>BD7)*1),0) -> 0 | BF7: =IF(Y7<>"",SUMPRODUCT((BE4:BE7=BE7)*(BC4:BC7>BC7)*1),0) -> 0 | BG7: =BE7+BF7 -> 0 | BH7: =IF(Y7<>"",SUMPRODUCT((BG4:BG7=BG7)*(BE4:BE7=BE7)*(BA4:BA7>BA7)*1),0) -> 0 | BI7: =AW7+BG7+BH7 -> 1 | BJ7: =SUMPRODUCT((BI4:BI7=BI7)*(A4:A7>A7)*1) -> 2 | BK7: =BJ7+BI7 -> 3 | BM7: A | BO7: =Calculator!C4 -> Senegal | BP7: BN7 | BR7: 1 | BS7: -12 | BT7: =TimeZoneData -> 0 | BU7: 1 | BV7: =BW7 -> 44885.792 | BW7: 44885.792 | BX7: =BW7+TimeZoneData/24 -> 44885.792 | BY7: =SUM(Tournament!R5:R8) -> 0 | BZ7: =INDEX(Language!A1:K117,MATCH(Setup!B8,Language!B1:B117,0),MATCH(Setup!C5,Language!A1:J1,0)) -> Senegal
A8: =INDEX(M4:M35,MATCH(U8,C4:C35,0),0) -> 1762 | B8: =B4 -> 1 | C8: =BZ11 -> England | D8: =SUM(E8:G8) -> 0 | E8: =SUMPRODUCT((Tournament!H5:H52<>"")*(Tournament!F5:F52=C8)*(Tournament!H5:H52>Tournament!I5:I52)*1)+SUMPRODUCT((Tournament!H5:H52<>"")*(Tournament!K5:K52=C8)*(Tournament!I5:I52>Tournament!H5:H52)*1) -> 0 | F8: =SUMPRODUCT((Tournament!H5:H52<>"")*(Tournament!F5:F52=C8)*(Tournament!H5:H52=Tournament!I5:I52)*1)+SUMPRODUCT((Tournament!H5:H52<>"")*(Tournament!K5:K52=C8)*(Tournament!H5:H52=Tournament!I5:I52)*1) -> 0 | G8: =SUMPRODUCT((Tournament!H5:H52<>"")*(Tournament!F5:F52=C8)*(Tournament!H5:H52<Tournament!I5:I52)*1)+SUMPRODUCT((Tournament!H5:H52<>"")*(Tournament!K5:K52=C8)*(Tournament!I5:I52<Tournament!H5:H52)*1) -> 0 | H8: =SUMIF(Tournament!F5:F52,C8,Tournament!H5:H52)+SUMIF(Tournament!K5:K52,C8,Tournament!I5:I52) -> 0 | I8: =SUMIF(Tournament!F5:F52,C8,Tournament!I5:I52)+SUMIF(Tournament!K5:K52,C8,Tournament!H5:H52) -> 0 | J8: =H8-I8 -> 0 | K8: =F8*1+E8*3 -> 0 | L8: =Setup!E12 -> 1762 | M8: =IF(Setup!F12<>"",Setup!F12,Setup!E12) -> 1762 | N8: =RANK(K8,K8:K11) -> 1 | O8: =SUMPRODUCT((N8:N11=N8)*(J8:J11>J8)*1) -> 0 | P8: =N8+O8 -> 1 | Q8: =SUMPRODUCT((N8:N11=N8)*(J8:J11=J8)*(H8:H11>H8)*1) -> 0 | R8: =P8+Q8 -> 1 | S8: =RANK(R8,R8:R11,1)+COUNTIF(R8:R8,R8)-1 -> 1 | T8: 1 | U8: =INDEX(C8:C11,MATCH(T8,S8:S11,0),0) -> England | V8: =INDEX(R8:R11,MATCH(U8,C8:C11,0),0) -> 1 | W8: =IF(V9=1,U8,"") -> England | Z8: =SUMPRODUCT((Tournament!F5:F52=W8)*(Tournament!K5:K52=W9)*(Tournament!H5:H52>Tournament!I5:I52)*1)+SUMPRODUCT((Tournament!K5:K52=W8)*(Tournament!F5:F52=W9)*(Tournament!I5:I52>Tournament!H5:H52)*1)+SUMPRODUCT((Tournament!F5:F52=W8)*(Tournament!K5:K52=W10)*(Tournament!H5:H52>Tournament!I5:I52)*1)+SUMPRODUCT((Tournament!K5:K52=W8)*(Tournament!F5:F52=W10)*(Tournament!I5:I52>Tournament!H5:H52)*1)+SUMPRODUCT((Tournament!F5:F52=W8)*(Tournament!K5:K52=W11)*(Tournament!H5:H52>Tournament!I5:I52)*1)+SUMPRODUCT((Tournament!K5:K52=W8)*(Tournament!F5:F52=W11)*(Tournament!I5:I52>Tournament!H5:H52)*1) -> 0 | AA8: =SUMPRODUCT((Tournament!F5:F52=W8)*(Tournament!K5:K52=W9)*(Tournament!H5:H52=Tournament!I5:I52)*1)+SUMPRODUCT((Tournament!K5:K52=W8)*(Tournament!F5:F52=W9)*(Tournament!H5:H52=Tournament!I5:I52)*1)+SUMPRODUCT((Tournament!F5:F52=W8)*(Tournament!K5:K52=W10)*(Tournament!H5:H52=Tournament!I5:I52)*1)+SUMPRODUCT((Tournament!K5:K52=W8)*(Tournament!F5:F52=W10)*(Tournament!H5:H52=Tournament!I5:I52)*1)+SUMPRODUCT((Tournament!F5:F52=W8)*(Tournament!K5:K52=W11)*(Tournament!H5:H52=Tournament!I5:I52)*1)+SUMPRODUCT((Tournament!K5:K52=W8)*(Tournament!F5:F52=W11)*(Tournament!H5:H52=Tournament!I5:I52)*1) -> 3 | AB8: =SUMPRODUCT((Tournament!F5:F52=W8)*(Tournament!K5:K52=W9)*(Tournament!H5:H52<Tournament!I5:I52)*1)+SUMPRODUCT((Tournament!K5:K52=W8)*(Tournament!F5:F52=W9)*(Tournament!I5:I52<Tournament!H5:H52)*1)+SUMPRODUCT((Tournament!F5:F52=W8)*(Tournament!K5:K52=W10)*(Tournament!H5:H52<Tournament!I5:I52)*1)+SUMPRODUCT((Tournament!K5:K52=W8)*(Tournament!F5:F52=W10)*(Tournament!I5:I52<Tournament!H5:H52)*1)+SUMPRODUCT((Tournament!F5:F52=W8)*(Tournament!K5:K52=W11)*(Tournament!H5:H52<Tournament!I5:I52)*1)+SUMPRODUCT((Tournament!K5:K52=W8)*(Tournament!F5:F52=W11)*(Tournament!I5:I52<Tournament!H5:H52)*1) -> 0 | AC8: =SUMIFS(Tournament!H5:H52,Tournament!F5:F52,W8,Tournament!K5:K52,W9)+SUMIFS(Tournament!H5:H52,Tournament!F5:F52,W8,Tournament!K5:K52,W10)+SUMIFS(Tournament!H5:H52,Tournament!F5:F52,W8,Tournament!K5:K52,W11)+SUMIFS(Tournament!I5:I52,Tournament!K5:K52,W8,Tournament!F5:F52,W9)+SUMIFS(Tournament!I5:I52,Tournament!K5:K52,W8,Tournament!F5:F52,W10)+SUMIFS(Tournament!I5:I52,Tournament!K5:K52,W8,Tournament!F5:F52,W11) -> 0 | AD8: =SUMIFS(Tournament!I5:I52,Tournament!F5:F52,W8,Tournament!K5:K52,W9)+SUMIFS(Tournament!I5:I52,Tournament!F5:F52,W8,Tournament!K5:K52,W10)+SUMIFS(Tournament!I5:I52,Tournament!F5:F52,W8,Tournament!K5:K52,W11)+SUMIFS(Tournament!H5:H52,Tournament!K5:K52,W8,Tournament!F5:F52,W9)+SUMIFS(Tournament!H5:H52,Tournament!K5:K52,W8,Tournament!F5:F52,W10)+SUMIFS(Tournament!H5:H52,Tournament!K5:K52,W8,Tournament!F5:F52,W11) -> 0 | AE8: =AC8-AD8 -> 0 | AF8: =AA8*1+Z8*3 -> 3 | AG8: =IF(W8<>"",SUMPRODUCT((V8:V11=V8)*(AF8:AF11>AF8)*1),0) -> 0 | AH8: =IF(W8<>"",SUMPRODUCT((AG8:AG11=AG8)*(AE8:AE11>AE8)*1),0) -> 0 | AI8: =AG8+AH8 -> 0 | AJ8: =IF(W8<>"",SUMPRODUCT((AI8:AI11=AI8)*(AG8:AG11=AG8)*(AC8:AC11>AC8)*1),0) -> 0 | AK8: =V8+AI8+AJ8 -> 1 | AL8: 0 | AM8: 0 | AN8: 0 | AO8: 0 | AP8: 0 | AQ8: =AO8-AP8 -> 0 | AR8: =AM8*1+AL8*3 -> 0 | AS8: 0 | AT8: 0 | AU8: =AS8+AT8 -> 0 | AV8: 0 | AW8: =AK8+AU8+AV8 -> 1 | AX8: 0 | AY8: 0 | AZ8: 0 | BA8: 0 | BB8: 0 | BC8: 0 | BD8: 0 | BE8: 0 | BF8: 0 | BG8: 0 | BH8: 0 | BI8: =AW8+BG8+BH8 -> 1 | BJ8: =SUMPRODUCT((BI8:BI11=BI8)*(A8:A11>A8)*1) -> 0 | BK8: =BJ8+BI8 -> 1 | BO8: =Calculator!C5 -> Netherlands | BP8: BN8 | BR8: 2 | BS8: -11.5 | BU8: 2 | BV8: =BW8 -> 44886.667 | BW8: 44886.667 | BX8: =BW8+TimeZoneData/24 -> 44886.667 | BZ8: =INDEX(Language!A1:K117,MATCH(Setup!B9,Language!B1:B117,0),MATCH(Setup!C5,Language!A1:J1,0)) -> Netherlands
A9: =INDEX(M4:M35,MATCH(U9,C4:C35,0),0) -> 1564 | B9: =B5 -> 2 | C9: =BZ12 -> Iran | D9: =SUM(E9:G9) -> 0 | E9: =SUMPRODUCT((Tournament!H5:H52<>"")*(Tournament!F5:F52=C9)*(Tournament!H5:H52>Tournament!I5:I52)*1)+SUMPRODUCT((Tournament!H5:H52<>"")*(Tournament!K5:K52=C9)*(Tournament!I5:I52>Tournament!H5:H52)*1) -> 0 | F9: =SUMPRODUCT((Tournament!H5:H52<>"")*(Tournament!F5:F52=C9)*(Tournament!H5:H52=Tournament!I5:I52)*1)+SUMPRODUCT((Tournament!H5:H52<>"")*(Tournament!K5:K52=C9)*(Tournament!H5:H52=Tournament!I5:I52)*1) -> 0 | G9: =SUMPRODUCT((Tournament!H5:H52<>"")*(Tournament!F5:F52=C9)*(Tournament!H5:H52<Tournament!I5:I52)*1)+SUMPRODUCT((Tournament!H5:H52<>"")*(Tournament!K5:K52=C9)*(Tournament!I5:I52<Tournament!H5:H52)*1) -> 0 | H9: =SUMIF(Tournament!F5:F52,C9,Tournament!H5:H52)+SUMIF(Tournament!K5:K52,C9,Tournament!I5:I52) -> 0 | I9: =SUMIF(Tournament!F5:F52,C9,Tournament!I5:I52)+SUMIF(Tournament!K5:K52,C9,Tournament!H5:H52) -> 0 | J9: =H9-I9 -> 0 | K9: =F9*1+E9*3 -> 0 | L9: =Setup!E13 -> 1564 | M9: =IF(Setup!F13<>"",Setup!F13,Setup!E13) -> 1564 | N9: =RANK(K9,K8:K11) -> 1 | O9: =SUMPRODUCT((N8:N11=N9)*(J8:J11>J9)*1) -> 0 | P9: =N9+O9 -> 1 | Q9: =SUMPRODUCT((N8:N11=N9)*(J8:J11=J9)*(H8:H11>H9)*1) -> 0 | R9: =P9+Q9 -> 1 | S9: =RANK(R9,R8:R11,1)+COUNTIF(R8:R9,R9)-1 -> 2 | T9: 2 | U9: =INDEX(C8:C11,MATCH(T9,S8:S11,0),0) -> Iran | V9: =INDEX(R8:R11,MATCH(U9,C8:C11,0),0) -> 1 | W9: =IF(W8<>"",U9,"") -> Iran | X9: =IF(V10=2,U9,"") | Z9: =SUMPRODUCT((Tournament!F5:F52=W9)*(Tournament!K5:K52=W8)*(Tournament!H5:H52>Tournament!I5:I52)*1)+SUMPRODUCT((Tournament!K5:K52=W9)*(Tournament!F5:F52=W8)*(Tournament!I5:I52>Tournament!H5:H52)*1)+SUMPRODUCT((Tournament!F5:F52=W9)*(Tournament!K5:K52=W10)*(Tournament!H5:H52>Tournament!I5:I52)*1)+SUMPRODUCT((Tournament!K5:K52=W9)*(Tournament!F5:F52=W10)*(Tournament!I5:I52>Tournament!H5:H52)*1)+SUMPRODUCT((Tournament!F5:F52=W9)*(Tournament!K5:K52=W11)*(Tournament!H5:H52>Tournament!I5:I52)*1)+SUMPRODUCT((Tournament!K5:K52=W9)*(Tournament!F5:F52=W11)*(Tournament!I5:I52>Tournament!H5:H52)*1) -> 0 | AA9: =SUMPRODUCT((Tournament!F5:F52=W9)*(Tournament!K5:K52=W8)*(Tournament!H5:H52=Tournament!I5:I52)*1)+SUMPRODUCT((Tournament!K5:K52=W9)*(Tournament!F5:F52=W8)*(Tournament!H5:H52=Tournament!I5:I52)*1)+SUMPRODUCT((Tournament!F5:F52=W9)*(Tournament!K5:K52=W10)*(Tournament!H5:H52=Tournament!I5:I52)*1)+SUMPRODUCT((Tournament!K5:K52=W9)*(Tournament!F5:F52=W10)*(Tournament!H5:H52=Tournament!I5:I52)*1)+SUMPRODUCT((Tournament!F5:F52=W9)*(Tournament!K5:K52=W11)*(Tournament!H5:H52=Tournament!I5:I52)*1)+SUMPRODUCT((Tournament!K5:K52=W9)*(Tournament!F5:F52=W11)*(Tournament!H5:H52=Tournament!I5:I52)*1) -> 3 | AB9: =SUMPRODUCT((Tournament!F5:F52=W9)*(Tournament!K5:K52=W8)*(Tournament!H5:H52<Tournament!I5:I52)*1)+SUMPRODUCT((Tournament!K5:K52=W9)*(Tournament!F5:F52=W8)*(Tournament!I5:I52<Tournament!H5:H52)*1)+SUMPRODUCT((Tournament!F5:F52=W9)*(Tournament!K5:K52=W10)*(Tournament!H5:H52<Tournament!I5:I52)*1)+SUMPRODUCT((Tournament!K5:K52=W9)*(Tournament!F5:F52=W10)*(Tournament!I5:I52<Tournament!H5:H52)*1)+SUMPRODUCT((Tournament!F5:F52=W9)*(Tournament!K5:K52=W11)*(Tournament!H5:H52<Tournament!I5:I52)*1)+SUMPRODUCT((Tournament!K5:K52=W9)*(Tournament!F5:F52=W11)*(Tournament!I5:I52<Tournament!H5:H52)*1) -> 0 | AC9: =SUMIFS(Tournament!H5:H52,Tournament!F5:F52,W9,Tournament!K5:K52,W8)+SUMIFS(Tournament!H5:H52,Tournament!F5:F52,W9,Tournament!K5:K52,W10)+SUMIFS(Tournament!H5:H52,Tournament!F5:F52,W9,Tournament!K5:K52,W11)+SUMIFS(Tournament!I5:I52,Tournament!K5:K52,W9,Tournament!F5:F52,W8)+SUMIFS(Tournament!I5:I52,Tournament!K5:K52,W9,Tournament!F5:F52,W10)+SUMIFS(Tournament!I5:I52,Tournament!K5:K52,W9,Tournament!F5:F52,W11) -> 0 | AD9: =SUMIFS(Tournament!I5:I52,Tournament!F5:F52,W9,Tournament!K5:K52,W8)+SUMIFS(Tournament!I5:I52,Tournament!F5:F52,W9,Tournament!K5:K52,W10)+SUMIFS(Tournament!I5:I52,Tournament!F5:F52,W9,Tournament!K5:K52,W11)+SUMIFS(Tournament!H5:H52,Tournament!K5:K52,W9,Tournament!F5:F52,W8)+SUMIFS(Tournament!H5:H52,Tournament!K5:K52,W9,Tournament!F5:F52,W10)+SUMIFS(Tournament!H5:H52,Tournament!K5:K52,W9,Tournament!F5:F52,W11) -> 0 | AE9: =AC9-AD9 -> 0 | AF9: =AA9*1+Z9*3 -> 3 | AG9: =IF(W9<>"",SUMPRODUCT((V8:V11=V9)*(AF8:AF11>AF9)*1),0) -> 0 | AH9: =IF(W9<>"",SUMPRODUCT((AG8:AG11=AG9)*(AE8:AE11>AE9)*1),0) -> 0 | AI9: =AG9+AH9 -> 0 | AJ9: =IF(W9<>"",SUMPRODUCT((AI8:AI11=AI9)*(AG8:AG11=AG9)*(AC8:AC11>AC9)*1),0) -> 0 | AK9: =V9+AI9+AJ9 -> 1 | AL9: =SUMPRODUCT((Tournament!F5:F52=X9)*(Tournament!K5:K52=X10)*(Tournament!H5:H52>Tournament!I5:I52)*1)+SUMPRODUCT((Tournament!K5:K52=X9)*(Tournament!F5:F52=X10)*(Tournament!I5:I52>Tournament!H5:H52)*1)+SUMPRODUCT((Tournament!F5:F52=X9)*(Tournament!K5:K52=X11)*(Tournament!H5:H52>Tournament!I5:I52)*1)+SUMPRODUCT((Tournament!K5:K52=X9)*(Tournament!F5:F52=X11)*(Tournament!I5:I52>Tournament!H5:H52)*1) -> 0 | AM9: =SUMPRODUCT((Tournament!F5:F52=X9)*(Tournament!K5:K52=X10)*(Tournament!H5:H52=Tournament!I5:I52)*1)+SUMPRODUCT((Tournament!K5:K52=X9)*(Tournament!F5:F52=X10)*(Tournament!H5:H52=Tournament!I5:I52)*1)+SUMPRODUCT((Tournament!F5:F52=X9)*(Tournament!K5:K52=X11)*(Tournament!H5:H52=Tournament!I5:I52)*1)+SUMPRODUCT((Tournament!K5:K52=X9)*(Tournament!F5:F52=X11)*(Tournament!H5:H52=Tournament!I5:I52)*1) -> 0 | AN9: =SUMPRODUCT((Tournament!F5:F52=X9)*(Tournament!K5:K52=X10)*(Tournament!H5:H52<Tournament!I5:I52)*1)+SUMPRODUCT((Tournament!K5:K52=X9)*(Tournament!F5:F52=X10)*(Tournament!I5:I52<Tournament!H5:H52)*1)+SUMPRODUCT((Tournament!F5:F52=X9)*(Tournament!K5:K52=X11)*(Tournament!H5:H52<Tournament!I5:I52)*1)+SUMPRODUCT((Tournament!K5:K52=X9)*(Tournament!F5:F52=X11)*(Tournament!I5:I52<Tournament!H5:H52)*1) -> 0 | AO9: =SUMIFS(Tournament!H5:H52,Tournament!F5:F52,X9,Tournament!K5:K52,X10)+SUMIFS(Tournament!H5:H52,Tournament!F5:F52,X9,Tournament!K5:K52,X11)+SUMIFS(Tournament!I5:I52,Tournament!K5:K52,X9,Tournament!F5:F52,X10)+SUMIFS(Tournament!I5:I52,Tournament!K5:K52,X9,Tournament!F5:F52,X11) -> 0 | AP9: =SUMIFS(Tournament!I5:I52,Tournament!F5:F52,X9,Tournament!K5:K52,X10)+SUMIFS(Tournament!I5:I52,Tournament!F5:F52,X9,Tournament!K5:K52,X11)+SUMIFS(Tournament!H5:H52,Tournament!K5:K52,X9,Tournament!F5:F52,X10)+SUMIFS(Tournament!H5:H52,Tournament!K5:K52,X9,Tournament!F5:F52,X11) -> 0 | AQ9: =AO9-AP9 -> 0 | AR9: =AM9*1+AL9*3 -> 0 | AS9: =IF(X9<>"",SUMPRODUCT((V8:V11=V9)*(AR8:AR11>AR9)*1),0) -> 0 | AT9: =IF(X9<>"",SUMPRODUCT((AS8:AS11=AS9)*(AQ8:AQ11>AQ9)*1),0) -> 0 | AU9: =AS9+AT9 -> 0 | AV9: =IF(X9<>"",SUMPRODUCT((AU8:AU11=AU9)*(AS8:AS11=AS9)*(AO8:AO11>AO9)*1),0) -> 0 | AW9: =AK9+AU9+AV9 -> 1 | AX9: 0 | AY9: 0 | AZ9: 0 | BA9: 0 | BB9: 0 | BC9: 0 | BD9: 0 | BE9: 0 | BF9: 0 | BG9: 0 | BH9: 0 | BI9: =AW9+BG9+BH9 -> 1 | BJ9: =SUMPRODUCT((BI8:BI11=BI9)*(A8:A11>A9)*1) -> 3 | BK9: =BJ9+BI9 -> 4 | BO9: =Calculator!C6 -> Qatar | BP9: BN9 | BR9: 3 | BS9: -11 | BU9: 3 | BV9: =BW9 -> 44886.792 | BW9: 44886.792 | BX9: =BW9+TimeZoneData/24 -> 44886.792 | BZ9: =INDEX(Language!A1:K117,MATCH(Setup!B10,Language!B1:B117,0),MATCH(Setup!C5,Language!A1:J1,0)) -> Qatar
A10: =INDEX(M4:M35,MATCH(U10,C4:C35,0),0) -> 1634 | B10: =B6 -> 3 | C10: =BZ13 -> United States | D10: =SUM(E10:G10) -> 0 | E10: =SUMPRODUCT((Tournament!H5:H52<>"")*(Tournament!F5:F52=C10)*(Tournament!H5:H52>Tournament!I5:I52)*1)+SUMPRODUCT((Tournament!H5:H52<>"")*(Tournament!K5:K52=C10)*(Tournament!I5:I52>Tournament!H5:H52)*1) -> 0 | F10: =SUMPRODUCT((Tournament!H5:H52<>"")*(Tournament!F5:F52=C10)*(Tournament!H5:H52=Tournament!I5:I52)*1)+SUMPRODUCT((Tournament!H5:H52<>"")*(Tournament!K5:K52=C10)*(Tournament!H5:H52=Tournament!I5:I52)*1) -> 0 | G10: =SUMPRODUCT((Tournament!H5:H52<>"")*(Tournament!F5:F52=C10)*(Tournament!H5:H52<Tournament!I5:I52)*1)+SUMPRODUCT((Tournament!H5:H52<>"")*(Tournament!K5:K52=C10)*(Tournament!I5:I52<Tournament!H5:H52)*1) -> 0 | H10: =SUMIF(Tournament!F5:F52,C10,Tournament!H5:H52)+SUMIF(Tournament!K5:K52,C10,Tournament!I5:I52) -> 0 | I10: =SUMIF(Tournament!F5:F52,C10,Tournament!I5:I52)+SUMIF(Tournament!K5:K52,C10,Tournament!H5:H52) -> 0 | J10: =H10-I10 -> 0 | K10: =F10*1+E10*3 -> 0 | L10: =Setup!E14 -> 1634 | M10: =IF(Setup!F14<>"",Setup!F14,Setup!E14) -> 1634 | N10: =RANK(K10,K8:K11) -> 1 | O10: =SUMPRODUCT((N8:N11=N10)*(J8:J11>J10)*1) -> 0 | P10: =N10+O10 -> 1 | Q10: =SUMPRODUCT((N8:N11=N10)*(J8:J11=J10)*(H8:H11>H10)*1) -> 0 | R10: =P10+Q10 -> 1 | S10: =RANK(R10,R8:R11,1)+COUNTIF(R8:R10,R10)-1 -> 3 | T10: 3 | U10: =INDEX(C8:C11,MATCH(T10,S8:S11,0),0) -> United States | V10: =INDEX(R8:R11,MATCH(U10,C8:C11,0),0) -> 1 | W10: =IF(AND(W9<>"",V10=1),U10,"") -> United States | X10: =IF(X9<>"",U10,"") | Y10: =IF(V11=3,U10,"") | Z10: =SUMPRODUCT((Tournament!F5:F52=W10)*(Tournament!K5:K52=W8)*(Tournament!H5:H52>Tournament!I5:I52)*1)+SUMPRODUCT((Tournament!K5:K52=W10)*(Tournament!F5:F52=W8)*(Tournament!I5:I52>Tournament!H5:H52)*1)+SUMPRODUCT((Tournament!F5:F52=W10)*(Tournament!K5:K52=W9)*(Tournament!H5:H52>Tournament!I5:I52)*1)+SUMPRODUCT((Tournament!K5:K52=W10)*(Tournament!F5:F52=W9)*(Tournament!I5:I52>Tournament!H5:H52)*1)+SUMPRODUCT((Tournament!F5:F52=W10)*(Tournament!K5:K52=W11)*(Tournament!H5:H52>Tournament!I5:I52)*1)+SUMPRODUCT((Tournament!K5:K52=W10)*(Tournament!F5:F52=W11)*(Tournament!I5:I52>Tournament!H5:H52)*1) -> 0 | AA10: =SUMPRODUCT((Tournament!F5:F52=W10)*(Tournament!K5:K52=W8)*(Tournament!H5:H52=Tournament!I5:I52)*1)+SUMPRODUCT((Tournament!K5:K52=W10)*(Tournament!F5:F52=W8)*(Tournament!H5:H52=Tournament!I5:I52)*1)+SUMPRODUCT((Tournament!F5:F52=W10)*(Tournament!K5:K52=W9)*(Tournament!H5:H52=Tournament!I5:I52)*1)+SUMPRODUCT((Tournament!K5:K52=W10)*(Tournament!F5:F52=W9)*(Tournament!H5:H52=Tournament!I5:I52)*1)+SUMPRODUCT((Tournament!F5:F52=W10)*(Tournament!K5:K52=W11)*(Tournament!H5:H52=Tournament!I5:I52)*1)+SUMPRODUCT((Tournament!K5:K52=W10)*(Tournament!F5:F52=W11)*(Tournament!H5:H52=Tournament!I5:I52)*1) -> 3 | AB10: =SUMPRODUCT((Tournament!F5:F52=W10)*(Tournament!K5:K52=W8)*(Tournament!H5:H52<Tournament!I5:I52)*1)+SUMPRODUCT((Tournament!K5:K52=W10)*(Tournament!F5:F52=W8)*(Tournament!I5:I52<Tournament!H5:H52)*1)+SUMPRODUCT((Tournament!F5:F52=W10)*(Tournament!K5:K52=W9)*(Tournament!H5:H52<Tournament!I5:I52)*1)+SUMPRODUCT((Tournament!K5:K52=W10)*(Tournament!F5:F52=W9)*(Tournament!I5:I52<Tournament!H5:H52)*1)+SUMPRODUCT((Tournament!F5:F52=W10)*(Tournament!K5:K52=W11)*(Tournament!H5:H52<Tournament!I5:I52)*1)+SUMPRODUCT((Tournament!K5:K52=W10)*(Tournament!F5:F52=W11)*(Tournament!I5:I52<Tournament!H5:H52)*1) -> 0 | AC10: =SUMIFS(Tournament!H5:H52,Tournament!F5:F52,W10,Tournament!K5:K52,W8)+SUMIFS(Tournament!H5:H52,Tournament!F5:F52,W10,Tournament!K5:K52,W9)+SUMIFS(Tournament!H5:H52,Tournament!F5:F52,W10,Tournament!K5:K52,W11)+SUMIFS(Tournament!I5:I52,Tournament!K5:K52,W10,Tournament!F5:F52,W8)+SUMIFS(Tournament!I5:I52,Tournament!K5:K52,W10,Tournament!F5:F52,W9)+SUMIFS(Tournament!I5:I52,Tournament!K5:K52,W10,Tournament!F5:F52,W11) -> 0 | AD10: =SUMIFS(Tournament!I5:I52,Tournament!F5:F52,W10,Tournament!K5:K52,W8)+SUMIFS(Tournament!I5:I52,Tournament!F5:F52,W10,Tournament!K5:K52,W9)+SUMIFS(Tournament!I5:I52,Tournament!F5:F52,W10,Tournament!K5:K52,W11)+SUMIFS(Tournament!H5:H52,Tournament!K5:K52,W10,Tournament!F5:F52,W8)+SUMIFS(Tournament!H5:H52,Tournament!K5:K52,W10,Tournament!F5:F52,W9)+SUMIFS(Tournament!H5:H52,Tournament!K5:K52,W10,Tournament!F5:F52,W11) -> 0 | AE10: =AC10-AD10 -> 0 | AF10: =AA10*1+Z10*3 -> 3 | AG10: =IF(W10<>"",SUMPRODUCT((V8:V11=V10)*(AF8:AF11>AF10)*1),0) -> 0 | AH10: =IF(W10<>"",SUMPRODUCT((AG8:AG11=AG10)*(AE8:AE11>AE10)*1),0) -> 0 | AI10: =AG10+AH10 -> 0 | AJ10: =IF(W10<>"",SUMPRODUCT((AI8:AI11=AI10)*(AG8:AG11=AG10)*(AC8:AC11>AC10)*1),0) -> 0 | AK10: =V10+AI10+AJ10 -> 1 | AL10: =SUMPRODUCT((Tournament!F5:F52=X10)*(Tournament!K5:K52=X9)*(Tournament!H5:H52>Tournament!I5:I52)*1)+SUMPRODUCT((Tournament!K5:K52=X10)*(Tournament!F5:F52=X9)*(Tournament!I5:I52>Tournament!H5:H52)*1)+SUMPRODUCT((Tournament!F5:F52=X10)*(Tournament!K5:K52=X11)*(Tournament!H5:H52>Tournament!I5:I52)*1)+SUMPRODUCT((Tournament!K5:K52=X10)*(Tournament!F5:F52=X11)*(Tournament!I5:I52>Tournament!H5:H52)*1) -> 0 | AM10: =SUMPRODUCT((Tournament!F5:F52=X10)*(Tournament!K5:K52=X9)*(Tournament!H5:H52=Tournament!I5:I52)*1)+SUMPRODUCT((Tournament!K5:K52=X10)*(Tournament!F5:F52=X9)*(Tournament!H5:H52=Tournament!I5:I52)*1)+SUMPRODUCT((Tournament!F5:F52=X10)*(Tournament!K5:K52=X11)*(Tournament!H5:H52=Tournament!I5:I52)*1)+SUMPRODUCT((Tournament!K5:K52=X10)*(Tournament!F5:F52=X11)*(Tournament!H5:H52=Tournament!I5:I52)*1) -> 0 | AN10: =SUMPRODUCT((Tournament!F5:F52=X10)*(Tournament!K5:K52=X9)*(Tournament!H5:H52<Tournament!I5:I52)*1)+SUMPRODUCT((Tournament!K5:K52=X10)*(Tournament!F5:F52=X9)*(Tournament!I5:I52<Tournament!H5:H52)*1)+SUMPRODUCT((Tournament!F5:F52=X10)*(Tournament!K5:K52=X11)*(Tournament!H5:H52<Tournament!I5:I52)*1)+SUMPRODUCT((Tournament!K5:K52=X10)*(Tournament!F5:F52=X11)*(Tournament!I5:I52<Tournament!H5:H52)*1) -> 0 | AO10: =SUMIFS(Tournament!H5:H52,Tournament!F5:F52,X10,Tournament!K5:K52,X9)+SUMIFS(Tournament!H5:H52,Tournament!F5:F52,X10,Tournament!K5:K52,X11)+SUMIFS(Tournament!I5:I52,Tournament!K5:K52,X10,Tournament!F5:F52,X9)+SUMIFS(Tournament!I5:I52,Tournament!K5:K52,X10,Tournament!F5:F52,X11) -> 0 | AP10: =SUMIFS(Tournament!I5:I52,Tournament!F5:F52,X10,Tournament!K5:K52,X9)+SUMIFS(Tournament!I5:I52,Tournament!F5:F52,X10,Tournament!K5:K52,X11)+SUMIFS(Tournament!H5:H52,Tournament!K5:K52,X10,Tournament!F5:F52,X9)+SUMIFS(Tournament!H5:H52,Tournament!K5:K52,X10,Tournament!F5:F52,X11) -> 0 | AQ10: =AO10-AP10 -> 0 | AR10: =AM10*1+AL10*3 -> 0 | AS10: =IF(X10<>"",SUMPRODUCT((V8:V11=V10)*(AR8:AR11>AR10)*1),0) -> 0 | AT10: =IF(X10<>"",SUMPRODUCT((AS8:AS11=AS10)*(AQ8:AQ11>AQ10)*1),0) -> 0 | AU10: =AS10+AT10 -> 0 | AV10: =IF(X10<>"",SUMPRODUCT((AU8:AU11=AU10)*(AS8:AS11=AS10)*(AO8:AO11>AO10)*1),0) -> 0 | AW10: =AK10+AU10+AV10 -> 1 | AX10: =SUMPRODUCT((Tournament!F5:F52=Y10)*(Tournament!K5:K52=Y11)*(Tournament!H5:H52>Tournament!I5:I52)*1)+SUMPRODUCT((Tournament!K5:K52=Y10)*(Tournament!F5:F52=Y11)*(Tournament!I5:I52>Tournament!H5:H52)*1) -> 0 | AY10: =SUMPRODUCT((Tournament!F5:F52=Y10)*(Tournament!K5:K52=Y11)*(Tournament!H5:H52=Tournament!I5:I52)*1)+SUMPRODUCT((Tournament!K5:K52=Y10)*(Tournament!F5:F52=Y11)*(Tournament!I5:I52=Tournament!H5:H52)*1) -> 0 | AZ10: =SUMPRODUCT((Tournament!F5:F52=Y10)*(Tournament!K5:K52=Y11)*(Tournament!H5:H52<Tournament!I5:I52)*1)+SUMPRODUCT((Tournament!K5:K52=Y10)*(Tournament!F5:F52=Y11)*(Tournament!I5:I52<Tournament!H5:H52)*1) -> 0 | BA10: =SUMIFS(Tournament!H5:H52,Tournament!F5:F52,Y10,Tournament!K5:K52,Y11)+SUMIFS(Tournament!I5:I52,Tournament!K5:K52,Y10,Tournament!F5:F52,Y11) -> 0 | BB10: =SUMIFS(Tournament!I5:I52,Tournament!F5:F52,Y10,Tournament!K5:K52,Y11)+SUMIFS(Tournament!H5:H52,Tournament!K5:K52,Y10,Tournament!F5:F52,Y11) -> 0 | BC10: =BA10-BB10 -> 0 | BD10: =AY10*1+AX10*3 -> 0 | BE10: =IF(Y10<>"",SUMPRODUCT((AH8:AH11=AH10)*(BD8:BD11>BD10)*1),0) -> 0 | BF10: =IF(Y10<>"",SUMPRODUCT((BE8:BE11=BE10)*(BC8:BC11>BC10)*1),0) -> 0 | BG10: =BE10+BF10 -> 0 | BH10: =IF(Y10<>"",SUMPRODUCT((BG8:BG11=BG10)*(BE8:BE11=BE10)*(BA8:BA11>BA10)*1),0) -> 0 | BI10: =AW10+BG10+BH10 -> 1 | BJ10: =SUMPRODUCT((BI8:BI11=BI10)*(A8:A11>A10)*1) -> 1 | BK10: =BJ10+BI10 -> 2 | BO10: =Calculator!C7 -> Ecuador | BP10: BN10 | BR10: 4 | BS10: -10.5 | BU10: 4 | BV10: =BW10 -> 44886.917 | BW10: 44886.917 | BX10: =BW10+TimeZoneData/24 -> 44886.917 | BZ10: =INDEX(Language!A1:K117,MATCH(Setup!B11,Language!B1:B117,0),MATCH(Setup!C5,Language!A1:J1,0)) -> Ecuador
A11: =INDEX(M4:M35,MATCH(U11,C4:C35,0),0) -> 1588 | B11: =B7 -> 4 | C11: =BZ14 -> Wales | D11: =SUM(E11:G11) -> 0 | E11: =SUMPRODUCT((Tournament!H5:H52<>"")*(Tournament!F5:F52=C11)*(Tournament!H5:H52>Tournament!I5:I52)*1)+SUMPRODUCT((Tournament!H5:H52<>"")*(Tournament!K5:K52=C11)*(Tournament!I5:I52>Tournament!H5:H52)*1) -> 0 | F11: =SUMPRODUCT((Tournament!H5:H52<>"")*(Tournament!F5:F52=C11)*(Tournament!H5:H52=Tournament!I5:I52)*1)+SUMPRODUCT((Tournament!H5:H52<>"")*(Tournament!K5:K52=C11)*(Tournament!H5:H52=Tournament!I5:I52)*1) -> 0 | G11: =SUMPRODUCT((Tournament!H5:H52<>"")*(Tournament!F5:F52=C11)*(Tournament!H5:H52<Tournament!I5:I52)*1)+SUMPRODUCT((Tournament!H5:H52<>"")*(Tournament!K5:K52=C11)*(Tournament!I5:I52<Tournament!H5:H52)*1) -> 0 | H11: =SUMIF(Tournament!F5:F52,C11,Tournament!H5:H52)+SUMIF(Tournament!K5:K52,C11,Tournament!I5:I52) -> 0 | I11: =SUMIF(Tournament!F5:F52,C11,Tournament!I5:I52)+SUMIF(Tournament!K5:K52,C11,Tournament!H5:H52) -> 0 | J11: =H11-I11 -> 0 | K11: =F11*1+E11*3 -> 0 | L11: =Setup!E15 -> 1588 | M11: =IF(Setup!F15<>"",Setup!F15,Setup!E15) -> 1588 | N11: =RANK(K11,K8:K11) -> 1 | O11: =SUMPRODUCT((N8:N11=N11)*(J8:J11>J11)*1) -> 0 | P11: =N11+O11 -> 1 | Q11: =SUMPRODUCT((N8:N11=N11)*(J8:J11=J11)*(H8:H11>H11)*1) -> 0 | R11: =P11+Q11 -> 1 | S11: =RANK(R11,R8:R11,1)+COUNTIF(R8:R11,R11)-1 -> 4 | T11: 4 | U11: =INDEX(C8:C11,MATCH(T11,S8:S11,0),0) -> Wales | V11: =INDEX(R8:R11,MATCH(U11,C8:C11,0),0) -> 1 | W11: =IF(AND(W10<>"",V11=1),U11,"") -> Wales | X11: =IF(AND(X10<>"",V11=2),U11,"") | Y11: =IF(AND(Y10<>"",V11=3),U11,"") | Z11: =SUMPRODUCT((Tournament!F5:F52=W11)*(Tournament!K5:K52=W8)*(Tournament!H5:H52>Tournament!I5:I52)*1)+SUMPRODUCT((Tournament!K5:K52=W11)*(Tournament!F5:F52=W8)*(Tournament!I5:I52>Tournament!H5:H52)*1)+SUMPRODUCT((Tournament!F5:F52=W11)*(Tournament!K5:K52=W9)*(Tournament!H5:H52>Tournament!I5:I52)*1)+SUMPRODUCT((Tournament!K5:K52=W11)*(Tournament!F5:F52=W9)*(Tournament!I5:I52>Tournament!H5:H52)*1)+SUMPRODUCT((Tournament!F5:F52=W11)*(Tournament!K5:K52=W10)*(Tournament!H5:H52>Tournament!I5:I52)*1)+SUMPRODUCT((Tournament!K5:K52=W11)*(Tournament!F5:F52=W10)*(Tournament!I5:I52>Tournament!H5:H52)*1) -> 0 | AA11: =SUMPRODUCT((Tournament!F5:F52=W11)*(Tournament!K5:K52=W8)*(Tournament!H5:H52>=Tournament!I5:I52)*1)+SUMPRODUCT((Tournament!K5:K52=W11)*(Tournament!F5:F52=W8)*(Tournament!H5:H52=Tournament!I5:I52)*1)+SUMPRODUCT((Tournament!F5:F52=W11)*(Tournament!K5:K52=W9)*(Tournament!H5:H52=Tournament!I5:I52)*1)+SUMPRODUCT((Tournament!K5:K52=W11)*(Tournament!F5:F52=W9)*(Tournament!H5:H52=Tournament!I5:I52)*1)+SUMPRODUCT((Tournament!F5:F52=W11)*(Tournament!K5:K52=W10)*(Tournament!H5:H52=Tournament!I5:I52)*1)+SUMPRODUCT((Tournament!K5:K52=W11)*(Tournament!F5:F52=W10)*(Tournament!H5:H52=Tournament!I5:I52)*1) -> 3 | AB11: =SUMPRODUCT((Tournament!F5:F52=W11)*(Tournament!K5:K52=W8)*(Tournament!H5:H52<Tournament!I5:I52)*1)+SUMPRODUCT((Tournament!K5:K52=W11)*(Tournament!F5:F52=W8)*(Tournament!I5:I52<Tournament!H5:H52)*1)+SUMPRODUCT((Tournament!F5:F52=W11)*(Tournament!K5:K52=W9)*(Tournament!H5:H52<Tournament!I5:I52)*1)+SUMPRODUCT((Tournament!K5:K52=W11)*(Tournament!F5:F52=W9)*(Tournament!I5:I52<Tournament!H5:H52)*1)+SUMPRODUCT((Tournament!F5:F52=W11)*(Tournament!K5:K52=W10)*(Tournament!H5:H52<Tournament!I5:I52)*1)+SUMPRODUCT((Tournament!K5:K52=W11)*(Tournament!F5:F52=W10)*(Tournament!I5:I52<Tournament!H5:H52)*1) -> 0 | AC11: =SUMIFS(Tournament!H5:H52,Tournament!F5:F52,W11,Tournament!K5:K52,W8)+SUMIFS(Tournament!H5:H52,Tournament!F5:F52,W11,Tournament!K5:K52,W9)+SUMIFS(Tournament!H5:H52,Tournament!F5:F52,W11,Tournament!K5:K52,W10)+SUMIFS(Tournament!I5:I52,Tournament!K5:K52,W11,Tournament!F5:F52,W8)+SUMIFS(Tournament!I5:I52,Tournament!K5:K52,W11,Tournament!F5:F52,W9)+SUMIFS(Tournament!I5:I52,Tournament!K5:K52,W11,Tournament!F5:F52,W10) -> 0 | AD11: =SUMIFS(Tournament!I5:I52,Tournament!F5:F52,W11,Tournament!K5:K52,W8)+SUMIFS(Tournament!I5:I52,Tournament!F5:F52,W11,Tournament!K5:K52,W9)+SUMIFS(Tournament!I5:I52,Tournament!F5:F52,W11,Tournament!K5:K52,W10)+SUMIFS(Tournament!H5:H52,Tournament!K5:K52,W11,Tournament!F5:F52,W8)+SUMIFS(Tournament!H5:H52,Tournament!K5:K52,W11,Tournament!F5:F52,W9)+SUMIFS(Tournament!H5:H52,Tournament!K5:K52,W11,Tournament!F5:F52,W10) -> 0 | AE11: =AC11-AD11 -> 0 | AF11: =AA11*1+Z11*3 -> 3 | AG11: =IF(W11<>"",SUMPRODUCT((V8:V11=V11)*(AF8:AF11>AF11)*1),0) -> 0 | AH11: =IF(W11<>"",SUMPRODUCT((AG8:AG11=AG11)*(AE8:AE11>AE11)*1),0) -> 0 | AI11: =AG11+AH11 -> 0 | AJ11: =IF(W11<>"",SUMPRODUCT((AI8:AI11=AI11)*(AG8:AG11=AG11)*(AC8:AC11>AC11)*1),0) -> 0 | AK11: =V11+AI11+AJ11 -> 1 | AL11: =SUMPRODUCT((Tournament!F5:F52=X11)*(Tournament!K5:K52=X9)*(Tournament!H5:H52>Tournament!I5:I52)*1)+SUMPRODUCT((Tournament!K5:K52=X11)*(Tournament!F5:F52=X9)*(Tournament!I5:I52>Tournament!H5:H52)*1)+SUMPRODUCT((Tournament!F5:F52=X11)*(Tournament!K5:K52=X10)*(Tournament!H5:H52>Tournament!I5:I52)*1)+SUMPRODUCT((Tournament!K5:K52=X11)*(Tournament!F5:F52=X10)*(Tournament!I5:I52>Tournament!H5:H52)*1) -> 0 | AM11: =SUMPRODUCT((Tournament!F5:F52=X11)*(Tournament!K5:K52=X9)*(Tournament!H5:H52=Tournament!I5:I52)*1)+SUMPRODUCT((Tournament!K5:K52=X11)*(Tournament!F5:F52=X9)*(Tournament!H5:H52=Tournament!I5:I52)*1)+SUMPRODUCT((Tournament!F5:F52=X11)*(Tournament!K5:K52=X10)*(Tournament!H5:H52=Tournament!I5:I52)*1)+SUMPRODUCT((Tournament!K5:K52=X11)*(Tournament!F5:F52=X10)*(Tournament!H5:H52=Tournament!I5:I52)*1) -> 0 | AN11: =SUMPRODUCT((Tournament!F5:F52=X11)*(Tournament!K5:K52=X9)*(Tournament!H5:H52<Tournament!I5:I52)*1)+SUMPRODUCT((Tournament!K5:K52=X11)*(Tournament!F5:F52=X9)*(Tournament!I5:I52<Tournament!H5:H52)*1)+SUMPRODUCT((Tournament!F5:F52=X11)*(Tournament!K5:K52=X10)*(Tournament!H5:H52<Tournament!I5:I52)*1)+SUMPRODUCT((Tournament!K5:K52=X11)*(Tournament!F5:F52=X10)*(Tournament!I5:I52<Tournament!H5:H52)*1) -> 0 | AO11: =SUMIFS(Tournament!H5:H52,Tournament!F5:F52,X11,Tournament!K5:K52,X9)+SUMIFS(Tournament!H5:H52,Tournament!F5:F52,X11,Tournament!K5:K52,X10)+SUMIFS(Tournament!I5:I52,Tournament!K5:K52,X11,Tournament!F5:F52,X9)+SUMIFS(Tournament!I5:I52,Tournament!K5:K52,X11,Tournament!F5:F52,X10) -> 0 | AP11: =SUMIFS(Tournament!H5:H52,Tournament!F5:F52,X11,Tournament!K5:K52,X9)+SUMIFS(Tournament!H5:H52,Tournament!F5:F52,X11,Tournament!K5:K52,X10)+SUMIFS(Tournament!I5:I52,Tournament!K5:K52,X11,Tournament!F5:F52,X9)+SUMIFS(Tournament!I5:I52,Tournament!K5:K52,X11,Tournament!F5:F52,X10) -> 0 | AQ11: =AO11-AP11 -> 0 | AR11: =AM11*1+AL11*3 -> 0 | AS11: =IF(X11<>"",SUMPRODUCT((V8:V11=V11)*(AR8:AR11>AR11)*1),0) -> 0 | AT11: =IF(X11<>"",SUMPRODUCT((AS8:AS11=AS11)*(AQ8:AQ11>AQ11)*1),0) -> 0 | AU11: =AS11+AT11 -> 0 | AV11: =IF(X11<>"",SUMPRODUCT((AU8:AU11=AU11)*(AS8:AS11=AS11)*(AO8:AO11>AO11)*1),0) -> 0 | AW11: =AK11+AU11+AV11 -> 1 | AX11: =SUMPRODUCT((Tournament!F5:F52=Y11)*(Tournament!K5:K52=Y10)*(Tournament!H5:H52>Tournament!I5:I52)*1)+SUMPRODUCT((Tournament!K5:K52=Y11)*(Tournament!F5:F52=Y10)*(Tournament!I5:I52>Tournament!H5:H52)*1) -> 0 | AY11: =SUMPRODUCT((Tournament!F5:F52=Y11)*(Tournament!K5:K52=Y10)*(Tournament!H5:H52=Tournament!I5:I52)*1)+SUMPRODUCT((Tournament!K5:K52=Y11)*(Tournament!F5:F52=Y10)*(Tournament!I5:I52=Tournament!H5:H52)*1) -> 0 | AZ11: =SUMPRODUCT((Tournament!F5:F52=Y11)*(Tournament!K5:K52=Y10)*(Tournament!H5:H52<Tournament!I5:I52)*1)+SUMPRODUCT((Tournament!K5:K52=Y11)*(Tournament!F5:F52=Y10)*(Tournament!I5:I52<Tournament!H5:H52)*1) -> 0 | BA11: =SUMIFS(Tournament!H5:H52,Tournament!F5:F52,Y11,Tournament!K5:K52,Y10)+SUMIFS(Tournament!I5:I52,Tournament!K5:K52,Y11,Tournament!F5:F52,Y10) -> 0 | BB11: =SUMIFS(Tournament!H5:H52,Tournament!F5:F52,Y11,Tournament!K5:K52,Y10)+SUMIFS(Tournament!I5:I52,Tournament!K5:K52,Y11,Tournament!F5:F52,Y10) -> 0 | BC11: =BA11-BB11 -> 0 | BD11: =AY11*1+AX11*3 -> 0 | BE11: =IF(Y11<>"",SUMPRODUCT((AH8:AH11=AH11)*(BD8:BD11>BD11)*1),0) -> 0 | BF11: =IF(Y11<>"",SUMPRODUCT((BE8:BE11=BE11)*(BC8:BC11>BC11)*1),0) -> 0 | BG11: =BE11+BF11 -> 0 | BH11: =IF(Y11<>"",SUMPRODUCT((BG8:BG11=BG11)*(BE8:BE11=BE11)*(BA8:BA11>BA11)*1),0) -> 0 | BI11: =AW11+BG11+BH11 -> 1 | BJ11: =SUMPRODUCT((BI8:BI11=BI11)*(A8:A11>A11)*1) -> 2 | BK11: =BJ11+BI11 -> 3 | BM11: B | BO11: =Calculator!C8 -> England | BP11: BN11 | BR11: 5 | BS11: -10 | BU11: 5 | BV11: =BW11 -> 44887.542 | BW11: 44887.542 | BX11: =BW11+TimeZoneData/24 -> 44887.542 | BZ11: =INDEX(Language!A1:K117,MATCH(Setup!B12,Language!B1:B117,0),MATCH(Setup!C5,Language!A1:J1,0)) -> England
A12: =INDEX(M4:M35,MATCH(U12,C4:C35,0),0) -> 1765 | B12: =B8 -> 1 | C12: =BZ15 -> Argentina | D12: =SUM(E12:G12) -> 0 | E12: =SUMPRODUCT((Tournament!H5:H52<>"")*(Tournament!F5:F52=C12)*(Tournament!H5:H52>Tournament!I5:I52)*1)+SUMPRODUCT((Tournament!H5:H52<>"")*(Tournament!K5:K52=C12)*(Tournament!I5:I52>Tournament!H5:H52)*1) -> 0 | F12: =SUMPRODUCT((Tournament!H5:H52<>"")*(Tournament!F5:F52=C12)*(Tournament!H5:H52=Tournament!I5:I52)*1)+SUMPRODUCT((Tournament!H5:H52<>"")*(Tournament!K5:K52=C12)*(Tournament!H5:H52=Tournament!I5:I52)*1) -> 0 | G12: =SUMPRODUCT((Tournament!H5:H52<>"")*(Tournament!F5:F52=C12)*(Tournament!H5:H52<Tournament!I5:I52)*1)+SUMPRODUCT((Tournament!H5:H52<>"")*(Tournament!K5:K52=C12)*(Tournament!I5:I52<Tournament!H5:H52)*1) -> 0 | H12: =SUMIF(Tournament!F5:F52,C12,Tournament!H5:H52)+SUMIF(Tournament!K5:K52,C12,Tournament!I5:I52) -> 0 | I12: =SUMIF(Tournament!F5:F52,C12,Tournament!I5:I52)+SUMIF(Tournament!K5:K52,C12,Tournament!H5:H52) -> 0 | J12: =H12-I12 -> 0 | K12: =F12*1+E12*3 -> 0 | L12: =Setup!E16 -> 1765 | M12: =IF(Setup!F16<>"",Setup!F16,Setup!E16) -> 1765 | N12: =RANK(K12,K12:K15) -> 1 | O12: =SUMPRODUCT((N12:N15=N12)*(J12:J15>J12)*1) -> 0 | P12: =N12+O12 -> 1 | Q12: =SUMPRODUCT((N12:N15=N12)*(J12:J15=J12)*(H12:H15>H12)*1) -> 0 | R12: =P12+Q12 -> 1 | S12: =RANK(R12,R12:R15,1)+COUNTIF(R12:R12,R12)-1 -> 1 | T12: 1 | U12: =INDEX(C12:C15,MATCH(T12,S12:S15,0),0) -> Argentina | V12: =INDEX(R12:R15,MATCH(U12,C12:C15,0),0) -> 1 | W12: =IF(V13=1,U12,"") -> Argentina | Z12: =SUMPRODUCT((Tournament!F5:F52=W12)*(Tournament!K5:K52=W13)*(Tournament!H5:H52>Tournament!I5:I52)*1)+SUMPRODUCT((Tournament!K5:K52=W12)*(Tournament!F5:F52=W13)*(Tournament!I5:I52>Tournament!H5:H52)*1)+SUMPRODUCT((Tournament!F5:F52=W12)*(Tournament!K5:K52=W14)*(Tournament!H5:H52>Tournament!I5:I52)*1)+SUMPRODUCT((Tournament!K5:K52=W12)*(Tournament!F5:F52=W14)*(Tournament!I5:I52>Tournament!H5:H52)*1)+SUMPRODUCT((Tournament!F5:F52=W12)*(Tournament!K5:K52=W15)*(Tournament!H5:H52>Tournament!I5:I52)*1)+SUMPRODUCT((Tournament!K5:K52=W12)*(Tournament!F5:F52=W15)*(Tournament!I5:I52>Tournament!H5:H52)*1) -> 0 | AA12: =SUMPRODUCT((Tournament!F5:F52=W12)*(Tournament!K5:K52=W13)*(Tournament!H5:H52=Tournament!I5:I52)*1)+SUMPRODUCT((Tournament!K5:K52=W12)*(Tournament!F5:F52=W13)*(Tournament!H5:H52=Tournament!I5:I52)*1)+SUMPRODUCT((Tournament!F5:F52=W12)*(Tournament!K5:K52=W14)*(Tournament!H5:H52=Tournament!I5:I52)*1)+SUMPRODUCT((Tournament!K5:K52=W12)*(Tournament!F5:F52=W14)*(Tournament!H5:H52=Tournament!I5:I52)*1)+SUMPRODUCT((Tournament!F5:F52=W12)*(Tournament!K5:K52=W15)*(Tournament!H5:H52=Tournament!I5:I52)*1)+SUMPRODUCT((Tournament!K5:K52=W12)*(Tournament!F5:F52=W15)*(Tournament!H5:H52=Tournament!I5:I52)*1) -> 3 | AB12: =SUMPRODUCT((Tournament!F5:F52=W12)*(Tournament!K5:K52=W13)*(Tournament!H5:H52<Tournament!I5:I52)*1)+SUMPRODUCT((Tournament!K5:K52=W12)*(Tournament!F5:F52=W13)*(Tournament!I5:I52<Tournament!H5:H52)*1)+SUMPRODUCT((Tournament!F5:F52=W12)*(Tournament!K5:K52=W14)*(Tournament!H5:H52<Tournament!I5:I52)*1)+SUMPRODUCT((Tournament!K5:K52=W12)*(Tournament!F5:F52=W14)*(Tournament!I5:I52<Tournament!H5:H52)*1)+SUMPRODUCT((Tournament!F5:F52=W12)*(Tournament!K5:K52=W15)*(Tournament!H5:H52<Tournament!I5:I52)*1)+SUMPRODUCT((Tournament!K5:K52=W12)*(Tournament!F5:F52=W15)*(Tournament!I5:I52<Tournament!H5:H52)*1) -> 0 | AC12: =SUMIFS(Tournament!H5:H52,Tournament!F5:F52,W12,Tournament!K5:K52,W13)+SUMIFS(Tournament!H5:H52,Tournament!F5:F52,W12,Tournament!K5:K52,W14)+SUMIFS(Tournament!H5:H52,Tournament!F5:F52,W12,Tournament!K5:K52,W15)+SUMIFS(Tournament!I5:I52,Tournament!K5:K52,W12,Tournament!F5:F52,W13)+SUMIFS(Tournament!I5:I52,Tournament!K5:K52,W12,Tournament!F5:F52,W14)+SUMIFS(Tournament!I5:I52,Tournament!K5:K52,W12,Tournament!F5:F52,W15) -> 0 | AD12: =SUMIFS(Tournament!I5:I52,Tournament!F5:F52,W12,Tournament!K5:K52,W13)+SUMIFS(Tournament!I5:I52,Tournament!F5:F52,W12,Tournament!K5:K52,W14)+SUMIFS(Tournament!I5:I52,Tournament!F5:F52,W12,Tournament!K5:K52,W15)+SUMIFS(Tournament!H5:H52,Tournament!K5:K52,W12,Tournament!F5:F52,W13)+SUMIFS(Tournament!H5:H52,Tournament!K5:K52,W12,Tournament!F5:F52,W14)+SUMIFS(Tournament!H5:H52,Tournament!K5:K52,W12,Tournament!F5:F52,W15) -> 0 | AE12: =AC12-AD12 -> 0 | AF12: =AA12*1+Z12*3 -> 3 | AG12: =IF(W12<>"",SUMPRODUCT((V12:V15=V12)*(AF12:AF15>AF12)*1),0) -> 0 | AH12: =IF(W12<>"",SUMPRODUCT((AG12:AG15=AG12)*(AE12:AE15>AE12)*1),0) -> 0 | AI12: =AG12+AH12 -> 0 | AJ12: =IF(W12<>"",SUMPRODUCT((AI12:AI15=AI12)*(AG12:AG15=AG12)*(AC12:AC15>AC12)*1),0) -> 0 | AK12: =V12+AI12+AJ12 -> 1 | AL12: 0 | AM12: 0 | AN12: 0 | AO12: 0 | AP12: 0 | AQ12: =AO12-AP12 -> 0 | AR12: =AM12*1+AL12*3 -> 0 | AS12: 0 | AT12: 0 | AU12: =AS12+AT12 -> 0 | AV12: 0 | AW12: =AK12+AU12+AV12 -> 1 | AX12: 0 | AY12: 0 | AZ12: 0 | BA12: 0 | BB12: 0 | BC12: 0 | BD12: 0 | BE12: 0 | BF12: 0 | BG12: 0 | BH12: 0 | BI12: =AW12+BG12+BH12 -> 1 | BJ12: =SUMPRODUCT((BI12:BI15=BI12)*(A12:A15>A12)*1) -> 0 | BK12: =BJ12+BI12 -> 1 | BO12: =Calculator!C9 -> Iran | BP12: BN12 | BR12: 6 | BS12: -9.5 | BU12: 6 | BV12: =BW12 -> 44887.667 | BW12: 44887.667 | BX12: =BW12+TimeZoneData/24 -> 44887.667 | BZ12: =INDEX(Language!A1:K117,MATCH(Setup!B13,Language!B1:B117,0),MATCH(Setup!C5,Language!A1:J1,0)) -> Iran
A13: =INDEX(M4:M35,MATCH(U13,C4:C35,0),0) -> 1445 | B13: =B9 -> 2 | C13: =BZ16 -> Saudi Arabia | D13: =SUM(E13:G13) -> 0 | E13: =SUMPRODUCT((Tournament!H5:H52<>"")*(Tournament!F5:F52=C13)*(Tournament!H5:H52>Tournament!I5:I52)*1)+SUMPRODUCT((Tournament!H5:H52<>"")*(Tournament!K5:K52=C13)*(Tournament!I5:I52>Tournament!H5:H52)*1) -> 0 | F13: =SUMPRODUCT((Tournament!H5:H52<>"")*(Tournament!F5:F52=C13)*(Tournament!H5:H52=Tournament!I5:I52)*1)+SUMPRODUCT((Tournament!H5:H52<>"")*(Tournament!K5:K52=C13)*(Tournament!H5:H52=Tournament!I5:I52)*1) -> 0 | G13: =SUMPRODUCT((Tournament!H5:H52<>"")*(Tournament!F5:F52=C13)*(Tournament!H5:H52<Tournament!I5:I52)*1)+SUMPRODUCT((Tournament!H5:H52<>"")*(Tournament!K5:K52=C13)*(Tournament!I5:I52<Tournament!H5:H52)*1) -> 0 | H13: =SUMIF(Tournament!F5:F52,C13,Tournament!H5:H52)+SUMIF(Tournament!K5:K52,C13,Tournament!I5:I52) -> 0 | I13: =SUMIF(Tournament!F5:F52,C13,Tournament!I5:I52)+SUMIF(Tournament!K5:K52,C13,Tournament!H5:H52) -> 0 | J13: =H13-I13 -> 0 | K13: =F13*1+E13*3 -> 0 | L13: =Setup!E17 -> 1445 | M13: =IF(Setup!F17<>"",Setup!F17,Setup!E17) -> 1445 | N13: =RANK(K13,K12:K15) -> 1 | O13: =SUMPRODUCT((N12:N15=N13)*(J12:J15>J13)*1) -> 0 | P13: =N13+O13 -> 1 | Q13: =SUMPRODUCT((N12:N15=N13)*(J12:J15=J13)*(H12:H15>H13)*1) -> 0 | R13: =P13+Q13 -> 1 | S13: =RANK(R13,R12:R15,1)+COUNTIF(R12:R13,R13)-1 -> 2 | T13: 2 | U13: =INDEX(C12:C15,MATCH(T13,S12:S15,0),0) -> Saudi Arabia | V13: =INDEX(R12:R15,MATCH(U13,C12:C15,0),0) -> 1 | W13: =IF(W12<>"",U13,"") -> Saudi Arabia | X13: =IF(V14=2,U13,"") | Z13: =SUMPRODUCT((Tournament!F5:F52=W13)*(Tournament!K5:K52=W12)*(Tournament!H5:H52>Tournament!I5:I52)*1)+SUMPRODUCT((Tournament!K5:K52=W13)*(Tournament!F5:F52=W12)*(Tournament!I5:I52>Tournament!H5:H52)*1)+SUMPRODUCT((Tournament!F5:F52=W13)*(Tournament!K5:K52=W14)*(Tournament!H5:H52>Tournament!I5:I52)*1)+SUMPRODUCT((Tournament!K5:K52=W13)*(Tournament!F5:F52=W14)*(Tournament!I5:I52>Tournament!H5:H52)*1)+SUMPRODUCT((Tournament!F5:F52=W13)*(Tournament!K5:K52=W15)*(Tournament!H5:H52>Tournament!I5:I52)*1)+SUMPRODUCT((Tournament!K5:K52=W13)*(Tournament!F5:F52=W15)*(Tournament!I5:I52>Tournament!H5:H52)*1) -> 0 | AA13: =SUMPRODUCT((Tournament!F5:F52=W13)*(Tournament!K5:K52=W12)*(Tournament!H5:H52=Tournament!I5:I52)*1)+SUMPRODUCT((Tournament!K5:K52=W13)*(Tournament!F5:F52=W12)*(Tournament!H5:H52=Tournament!I5:I52)*1)+SUMPRODUCT((Tournament!F5:F52=W13)*(Tournament!K5:K52=W14)*(Tournament!H5:H52=Tournament!I5:I52)*1)+SUMPRODUCT((Tournament!K5:K52=W13)*(Tournament!F5:F52=W14)*(Tournament!H5:H52=Tournament!I5:I52)*1)+SUMPRODUCT((Tournament!F5:F52=W13)*(Tournament!K5:K52=W15)*(Tournament!H5:H52=Tournament!I5:I52)*1)+SUMPRODUCT((Tournament!K5:K52=W13)*(Tournament!F5:F52=W15)*(Tournament!H5:H52=Tournament!I5:I52)*1) -> 3 | AB13: =SUMPRODUCT((Tournament!F5:F52=W13)*(Tournament!K5:K52=W12)*(Tournament!H5:H52<Tournament!I5:I52)*1)+SUMPRODUCT((Tournament!K5:K52=W13)*(Tournament!F5:F52=W12)*(Tournament!I5:I52<Tournament!H5:H52)*1)+SUMPRODUCT((Tournament!F5:F52=W13)*(Tournament!K5:K52=W14)*(Tournament!H5:H52<Tournament!I5:I52)*1)+SUMPRODUCT((Tournament!K5:K52=W13)*(Tournament!F5:F52=W14)*(Tournament!I5:I52<Tournament!H5:H52)*1)+SUMPRODUCT((Tournament!F5:F52=W13)*(Tournament!K5:K52=W15)*(Tournament!H5:H52<Tournament!I5:I52)*1)+SUMPRODUCT((Tournament!K5:K52=W13)*(Tournament!F5:F52=W15)*(Tournament!I5:I52<Tournament!H5:H52)*1) -> 0 | AC13: =SUMIFS(Tournament!H5:H52,Tournament!F5:F52,W13,Tournament!K5:K52,W12)+SUMIFS(Tournament!H5:H52,Tournament!F5:F52,W13,Tournament!K5:K52,W14)+SUMIFS(Tournament!H5:H52,Tournament!F5:F52,W13,Tournament!K5:K52,W15)+SUMIFS(Tournament!I5:I52,Tournament!K5:K52,W13,Tournament!F5:F52,W12)+SUMIFS(Tournament!I5:I52,Tournament!K5:K52,W13,Tournament!F5:F52,W14)+SUMIFS(Tournament!I5:I52,Tournament!K5:K52,W13,Tournament!F5:F52,W15) -> 0 | AD13: =SUMIFS(Tournament!I5:I52,Tournament!F5:F52,W13,Tournament!K5:K52,W12)+SUMIFS(Tournament!I5:I52,Tournament!F5:F52,W13,Tournament!K5:K52,W14)+SUMIFS(Tournament!I5:I52,Tournament!F5:F52,W13,Tournament!K5:K52,W15)+SUMIFS(Tournament!H5:H52,Tournament!K5:K52,W13,Tournament!F5:F52,W12)+SUMIFS(Tournament!H5:H52,Tournament!K5:K52,W13,Tournament!F5:F52,W14)+SUMIFS(Tournament!H5:H52,Tournament!K5:K52,W13,Tournament!F5:F52,W15) -> 0 | AE13: =AC13-AD13 -> 0 | AF13: =AA13*1+Z13*3 -> 3 | AG13: =IF(W13<>"",SUMPRODUCT((V12:V15=V13)*(AF12:AF15>AF13)*1),0) -> 0 | AH13: =IF(W13<>"",SUMPRODUCT((AG12:AG15=AG13)*(AE12:AE15>AE13)*1),0) -> 0 | AI13: =AG13+AH13 -> 0 | AJ13: =IF(W13<>"",SUMPRODUCT((AI12:AI15=AI13)*(AG12:AG15=AG13)*(AC12:AC15>AC13)*1),0) -> 0 | AK13: =V13+AI13+AJ13 -> 1 | AL13: =SUMPRODUCT((Tournament!F5:F52=X13)*(Tournament!K5:K52=X14)*(Tournament!H5:H52>Tournament!I5:I52)*1)+SUMPRODUCT((Tournament!K5:K52=X13)*(Tournament!F5:F52=X14)*(Tournament!I5:I52>Tournament!H5:H52)*1)+SUMPRODUCT((Tournament!F5:F52=X13)*(Tournament!K5:K52=X15)*(Tournament!H5:H52>Tournament!I5:I52)*1)+SUMPRODUCT((Tournament!K5:K52=X13)*(Tournament!F5:F52=X15)*(Tournament!I5:I52>Tournament!H5:H52)*1) -> 0 | AM13: =SUMPRODUCT((Tournament!F5:F52=X13)*(Tournament!K5:K52=X14)*(Tournament!H5:H52=Tournament!I5:I52)*1)+SUMPRODUCT((Tournament!K5:K52=X13)*(Tournament!F5:F52=X14)*(Tournament!H5:H52=Tournament!I5:I52)*1)+SUMPRODUCT((Tournament!F5:F52=X13)*(Tournament!K5:K52=X15)*(Tournament!H5:H52=Tournament!I5:I52)*1)+SUMPRODUCT((Tournament!K5:K52=X13)*(Tournament!F5:F52=X15)*(Tournament!H5:H52=Tournament!I5:I52)*1) -> 0 | AN13: =SUMPRODUCT((Tournament!F5:F52=X13)*(Tournament!K5:K52=X14)*(Tournament!H5:H52<Tournament!I5:I52)*1)+SUMPRODUCT((Tournament!K5:K52=X13)*(Tournament!F5:F52=X14)*(Tournament!I5:I52<Tournament!H5:H52)*1)+SUMPRODUCT((Tournament!F5:F52=X13)*(Tournament!K5:K52=X15)*(Tournament!H5:H52<Tournament!I5:I52)*1)+SUMPRODUCT((Tournament!K5:K52=X13)*(Tournament!F5:F52=X15)*(Tournament!I5:I52<Tournament!H5:H52)*1) -> 0 | AO13: =SUMIFS(Tournament!H5:H52,Tournament!F5:F52,X13,Tournament!K5:K52,X14)+SUMIFS(Tournament!H5:H52,Tournament!F5:F52,X13,Tournament!K5:K52,X15)+SUMIFS(Tournament!I5:I52,Tournament!K5:K52,X13,Tournament!F5:F52,X14)+SUMIFS(Tournament!I5:I52,Tournament!K5:K52,X13,Tournament!F5:F52,X15) -> 0 | AP13: =SUMIFS(Tournament!I5:I52,Tournament!F5:F52,X13,Tournament!K5:K52,X14)+SUMIFS(Tournament!I5:I52,Tournament!F5:F52,X13,Tournament!K5:K52,X15)+SUMIFS(Tournament!H5:H52,Tournament!K5:K52,X13,Tournament!F5:F52,X14)+SUMIFS(Tournament!H5:H52,Tournament!K5:K52,X13,Tournament!F5:F52,X15) -> 0 | AQ13: =AO13-AP13 -> 0 | AR13: =AM13*1+AL13*3 -> 0 | AS13: =IF(X13<>"",SUMPRODUCT((V12:V15=V13)*(AR12:AR15>AR13)*1),0) -> 0 | AT13: =IF(X13<>"",SUMPRODUCT((AS12:AS15=AS13)*(AQ12:AQ15>AQ13)*1),0) -> 0 | AU13: =AS13+AT13 -> 0 | AV13: =IF(X13<>"",SUMPRODUCT((AU12:AU15=AU13)*(AS12:AS15=AS13)*(AO12:AO15>AO13)*1),0) -> 0 | AW13: =AK13+AU13+AV13 -> 1 | AX13: 0 | AY13: 0 | AZ13: 0 | BA13: 0 | BB13: 0 | BC13: 0 | BD13: 0 | BE13: 0 | BF13: 0 | BG13: 0 | BH13: 0 | BI13: =AW13+BG13+BH13 -> 1 | BJ13: =SUMPRODUCT((BI12:BI15=BI13)*(A12:A15>A13)*1) -> 3 | BK13: =BJ13+BI13 -> 4 | BO13: =Calculator!C10 -> United States | BP13: BN13 | BR13: 7 | BS13: -9 | BU13: 7 | BV13: =BW13 -> 44887.792 | BW13: 44887.792 | BX13: =BW13+TimeZoneData/24 -> 44887.792 | BY13: =SUM(Tournament!R11:R14) -> 0 | BZ13: =INDEX(Language!A1:K117,MATCH(Setup!B14,Language!B1:B117,0),MATCH(Setup!C5,Language!A1:J1,0)) -> United States
A14: =INDEX(M4:M35,MATCH(U14,C4:C35,0),0) -> 1659 | B14: =B10 -> 3 | C14: =BZ17 -> Mexico | D14: =SUM(E14:G14) -> 0 | E14: =SUMPRODUCT((Tournament!H5:H52<>"")*(Tournament!F5:F52=C14)*(Tournament!H5:H52>Tournament!I5:I52)*1)+SUMPRODUCT((Tournament!H5:H52<>"")*(Tournament!K5:K52=C14)*(Tournament!I5:I52>Tournament!H5:H52)*1) -> 0 | F14: =SUMPRODUCT((Tournament!H5:H52<>"")*(Tournament!F5:F52=C14)*(Tournament!H5:H52=Tournament!I5:I52)*1)+SUMPRODUCT((Tournament!H5:H52<>"")*(Tournament!K5:K52=C14)*(Tournament!H5:H52=Tournament!I5:I52)*1) -> 0 | G14: =SUMPRODUCT((Tournament!H5:H52<>"")*(Tournament!F5:F52=C14)*(Tournament!H5:H52<Tournament!I5:I52)*1)+SUMPRODUCT((Tournament!H5:H52<>"")*(Tournament!K5:K52=C14)*(Tournament!I5:I52<Tournament!H5:H52)*1) -> 0 | H14: =SUMIF(Tournament!F5:F52,C14,Tournament!H5:H52)+SUMIF(Tournament!K5:K52,C14,Tournament!I5:I52) -> 0 | I14: =SUMIF(Tournament!F5:F52,C14,Tournament!I5:I52)+SUMIF(Tournament!K5:K52,C14,Tournament!H5:H52) -> 0 | J14: =H14-I14 -> 0 | K14: =F14*1+E14*3 -> 0 | L14: =Setup!E18 -> 1659 | M14: =IF(Setup!F18<>"",Setup!F18,Setup!E18) -> 1659 | N14: =RANK(K14,K12:K15) -> 1 | O14: =SUMPRODUCT((N12:N15=N14)*(J12:J15>J14)*1) -> 0 | P14: =N14+O14 -> 1 | Q14: =SUMPRODUCT((N12:N15=N14)*(J12:J15=J14)*(H12:H15>H14)*1) -> 0 | R14: =P14+Q14 -> 1 | S14: =RANK(R14,R12:R15,1)+COUNTIF(R12:R14,R14)-1 -> 3 | T14: 3 | U14: =INDEX(C12:C15,MATCH(T14,S12:S15,0),0) -> Mexico | V14: =INDEX(R12:R15,MATCH(U14,C12:C15,0),0) -> 1 | W14: =IF(AND(W13<>"",V14=1),U14,"") -> Mexico | X14: =IF(X13<>"",U14,"") | Y14: =IF(V15=3,U14,"") | Z14: =SUMPRODUCT((Tournament!F5:F52=W14)*(Tournament!K5:K52=W12)*(Tournament!H5:H52>Tournament!I5:I52)*1)+SUMPRODUCT((Tournament!K5:K52=W14)*(Tournament!F5:F52=W12)*(Tournament!I5:I52>Tournament!H5:H52)*1)+SUMPRODUCT((Tournament!F5:F52=W14)*(Tournament!K5:K52=W13)*(Tournament!H5:H52>Tournament!I5:I52)*1)+SUMPRODUCT((Tournament!K5:K52=W14)*(Tournament!F5:F52=W13)*(Tournament!I5:I52>Tournament!H5:H52)*1)+SUMPRODUCT((Tournament!F5:F52=W14)*(Tournament!K5:K52=W15)*(Tournament!H5:H52>Tournament!I5:I52)*1)+SUMPRODUCT((Tournament!K5:K52=W14)*(Tournament!F5:F52=W15)*(Tournament!I5:I52>Tournament!H5:H52)*1) -> 0 | AA14: =SUMPRODUCT((Tournament!F5:F52=W14)*(Tournament!K5:K52=W12)*(Tournament!H5:H52=Tournament!I5:I52)*1)+SUMPRODUCT((Tournament!K5:K52=W14)*(Tournament!F5:F52=W12)*(Tournament!H5:H52=Tournament!I5:I52)*1)+SUMPRODUCT((Tournament!F5:F52=W14)*(Tournament!K5:K52=W13)*(Tournament!H5:H52=Tournament!I5:I52)*1)+SUMPRODUCT((Tournament!K5:K52=W14)*(Tournament!F5:F52=W13)*(Tournament!H5:H52=Tournament!I5:I52)*1)+SUMPRODUCT((Tournament!F5:F52=W14)*(Tournament!K5:K52=W15)*(Tournament!H5:H52=Tournament!I5:I52)*1)+SUMPRODUCT((Tournament!K5:K52=W14)*(Tournament!F5:F52=W15)*(Tournament!H5:H52=Tournament!I5:I52)*1) -> 3 | AB14: =SUMPRODUCT((Tournament!F5:F52=W14)*(Tournament!K5:K52=W12)*(Tournament!H5:H52<Tournament!I5:I52)*1)+SUMPRODUCT((Tournament!K5:K52=W14)*(Tournament!F5:F52=W12)*(Tournament!I5:I52<Tournament!H5:H52)*1)+SUMPRODUCT((Tournament!F5:F52=W14)*(Tournament!K5:K52=W13)*(Tournament!H5:H52<Tournament!I5:I52)*1)+SUMPRODUCT((Tournament!K5:K52=W14)*(Tournament!F5:F52=W13)*(Tournament!I5:I52<Tournament!H5:H52)*1)+SUMPRODUCT((Tournament!F5:F52=W14)*(Tournament!K5:K52=W15)*(Tournament!H5:H52<Tournament!I5:I52)*1)+SUMPRODUCT((Tournament!K5:K52=W14)*(Tournament!F5:F52=W15)*(Tournament!I5:I52<Tournament!H5:H52)*1) -> 0 | AC14: =SUMIFS(Tournament!H5:H52,Tournament!F5:F52,W14,Tournament!K5:K52,W12)+SUMIFS(Tournament!H5:H52,Tournament!F5:F52,W14,Tournament!K5:K52,W13)+SUMIFS(Tournament!H5:H52,Tournament!F5:F52,W14,Tournament!K5:K52,W15)+SUMIFS(Tournament!I5:I52,Tournament!K5:K52,W14,Tournament!F5:F52,W12)+SUMIFS(Tournament!I5:I52,Tournament!K5:K52,W14,Tournament!F5:F52,W13)+SUMIFS(Tournament!I5:I52,Tournament!K5:K52,W14,Tournament!F5:F52,W15) -> 0 | AD14: =SUMIFS(Tournament!I5:I52,Tournament!F5:F52,W14,Tournament!K5:K52,W12)+SUMIFS(Tournament!I5:I52,Tournament!F5:F52,W14,Tournament!K5:K52,W13)+SUMIFS(Tournament!I5:I52,Tournament!F5:F52,W14,Tournament!K5:K52,W15)+SUMIFS(Tournament!H5:H52,Tournament!K5:K52,W14,Tournament!F5:F52,W12)+SUMIFS(Tournament!H5:H52,Tournament!K5:K52,W14,Tournament!F5:F52,W13)+SUMIFS(Tournament!H5:H52,Tournament!K5:K52,W14,Tournament!F5:F52,W15) -> 0 | AE14: =AC14-AD14 -> 0 | AF14: =AA14*1+Z14*3 -> 3 | AG14: =IF(W14<>"",SUMPRODUCT((V12:V15=V14)*(AF12:AF15>AF14)*1),0) -> 0 | AH14: =IF(W14<>"",SUMPRODUCT((AG12:AG15=AG14)*(AE12:AE15>AE14)*1),0) -> 0 | AI14: =AG14+AH14 -> 0 | AJ14: =IF(W14<>"",SUMPRODUCT((AI12:AI15=AI14)*(AG12:AG15=AG14)*(AC12:AC15>AC14)*1),0) -> 0 | AK14: =V14+AI14+AJ14 -> 1 | AL14: =SUMPRODUCT((Tournament!F5:F52=X14)*(Tournament!K5:K52=X13)*(Tournament!H5:H52>Tournament!I5:I52)*1)+SUMPRODUCT((Tournament!K5:K52=X14)*(Tournament!F5:F52=X13)*(Tournament!I5:I52>Tournament!H5:H52)*1)+SUMPRODUCT((Tournament!F5:F52=X14)*(Tournament!K5:K52=X15)*(Tournament!H5:H52>Tournament!I5:I52)*1)+SUMPRODUCT((Tournament!K5:K52=X14)*(Tournament!F5:F52=X15)*(Tournament!I5:I52>Tournament!H5:H52)*1) -> 0 | AM14: =SUMPRODUCT((Tournament!F5:F52=X14)*(Tournament!K5:K52=X13)*(Tournament!H5:H52=Tournament!I5:I52)*1)+SUMPRODUCT((Tournament!K5:K52=X14)*(Tournament!F5:F52=X13)*(Tournament!H5:H52=Tournament!I5:I52)*1)+SUMPRODUCT((Tournament!F5:F52=X14)*(Tournament!K5:K52=X15)*(Tournament!H5:H52=Tournament!I5:I52)*1)+SUMPRODUCT((Tournament!K5:K52=X14)*(Tournament!F5:F52=X15)*(Tournament!H5:H52=Tournament!I5:I52)*1) -> 0 | AN14: =SUMPRODUCT((Tournament!F5:F52=X14)*(Tournament!K5:K52=X13)*(Tournament!H5:H52<Tournament!I5:I52)*1)+SUMPRODUCT((Tournament!K5:K52=X14)*(Tournament!F5:F52=X13)*(Tournament!I5:I52<Tournament!H5:H52)*1)+SUMPRODUCT((Tournament!F5:F52=X14)*(Tournament!K5:K52=X15)*(Tournament!H5:H52<Tournament!I5:I52)*1)+SUMPRODUCT((Tournament!K5:K52=X14)*(Tournament!F5:F52=X15)*(Tournament!I5:I52<Tournament!H5:H52)*1) -> 0 | AO14: =SUMIFS(Tournament!H5:H52,Tournament!F5:F52,X14,Tournament!K5:K52,X13)+SUMIFS(Tournament!H5:H52,Tournament!F5:F52,X14,Tournament!K5:K52,X15)+SUMIFS(Tournament!I5:I52,Tournament!K5:K52,X14,Tournament!F5:F52,X13)+SUMIFS(Tournament!I5:I52,Tournament!K5:K52,X14,Tournament!F5:F52,X15) -> 0 | AP14: =SUMIFS(Tournament!I5:I52,Tournament!F5:F52,X14,Tournament!K5:K52,X13)+SUMIFS(Tournament!I5:I52,Tournament!F5:F52,X14,Tournament!K5:K52,X15)+SUMIFS(Tournament!H5:H52,Tournament!K5:K52,X14,Tournament!F5:F52,X13)+SUMIFS(Tournament!H5:H52,Tournament!K5:K52,X14,Tournament!F5:F52,X15) -> 0 | AQ14: =AO14-AP14 -> 0 | AR14: =AM14*1+AL14*3 -> 0 | AS14: =IF(X14<>"",SUMPRODUCT((V12:V15=V14)*(AR12:AR15>AR14)*1),0) -> 0 | AT14: =IF(X14<>"",SUMPRODUCT((AS12:AS15=AS14)*(AQ12:AQ15>AQ14)*1),0) -> 0 | AU14: =AS14+AT14 -> 0 | AV14: =IF(X14<>"",SUMPRODUCT((AU12:AU15=AU14)*(AS12:AS15=AS14)*(AO12:AO15>AO14)*1),0) -> 0 | AW14: =AK14+AU14+AV14 -> 1 | AX14: =SUMPRODUCT((Tournament!F5:F52=Y14)*(Tournament!K5:K52=Y15)*(Tournament!H5:H52>Tournament!I5:I52)*1)+SUMPRODUCT((Tournament!K5:K52=Y14)*(Tournament!F5:F52=Y15)*(Tournament!I5:I52>Tournament!H5:H52)*1) -> 0 | AY14: =SUMPRODUCT((Tournament!F5:F52=Y14)*(Tournament!K5:K52=Y15)*(Tournament!H5:H52=Tournament!I5:I52)*1)+SUMPRODUCT((Tournament!K5:K52=Y14)*(Tournament!F5:F52=Y15)*(Tournament!I5:I52=Tournament!H5:H52)*1) -> 0 | AZ14: =SUMPRODUCT((Tournament!F5:F52=Y14)*(Tournament!K5:K52=Y15)*(Tournament!H5:H52<Tournament!I5:I52)*1)+SUMPRODUCT((Tournament!K5:K52=Y14)*(Tournament!F5:F52=Y15)*(Tournament!I5:I52<Tournament!H5:H52)*1) -> 0 | BA14: =SUMIFS(Tournament!H5:H52,Tournament!F5:F52,Y14,Tournament!K5:K52,Y15)+SUMIFS(Tournament!I5:I52,Tournament!K5:K52,Y14,Tournament!F5:F52,Y15) -> 0 | BB14: =SUMIFS(Tournament!I5:I52,Tournament!F5:F52,Y14,Tournament!K5:K52,Y15)+SUMIFS(Tournament!H5:H52,Tournament!K5:K52,Y14,Tournament!F5:F52,Y15) -> 0 | BC14: =BA14-BB14 -> 0 | BD14: =AY14*1+AX14*3 -> 0 | BE14: =IF(Y14<>"",SUMPRODUCT((AH12:AH15=AH14)*(BD12:BD15>BD14)*1),0) -> 0 | BF14: =IF(Y14<>"",SUMPRODUCT((BE12:BE15=BE14)*(BC12:BC15>BC14)*1),0) -> 0 | BG14: =BE14+BF14 -> 0 | BH14: =IF(Y14<>"",SUMPRODUCT((BG12:BG15=BG14)*(BE12:BE15=BE14)*(BA12:BA15>BA14)*1),0) -> 0 | BI14: =AW14+BG14+BH14 -> 1 | BJ14: =SUMPRODUCT((BI12:BI15=BI14)*(A12:A15>A14)*1) -> 1 | BK14: =BJ14+BI14 -> 2 | BO14: =Calculator!C11 -> Wales | BP14: BN14 | BR14: 8 | BS14: -8.5 | BU14: 8 | BV14: =BW14 -> 44887.917 | BW14: 44887.917 | BX14: =BW14+TimeZoneData/24 -> 44887.917 | BZ14: =INDEX(Language!A1:K117,MATCH(Setup!B15,Language!B1:B117,0),MATCH(Setup!C5,Language!A1:J1,0)) -> Wales
A15: =INDEX(M4:M35,MATCH(U15,C4:C35,0),0) -> 1544 | B15: =B11 -> 4 | C15: =BZ18 -> Poland | D15: =SUM(E15:G15) -> 0 | E15: =SUMPRODUCT((Tournament!H5:H52<>"")*(Tournament!F5:F52=C15)*(Tournament!H5:H52>Tournament!I5:I52)*1)+SUMPRODUCT((Tournament!H5:H52<>"")*(Tournament!K5:K52=C15)*(Tournament!I5:I52>Tournament!H5:H52)*1) -> 0 | F15: =SUMPRODUCT((Tournament!H5:H52<>"")*(Tournament!F5:F52=C15)*(Tournament!H5:H52=Tournament!I5:I52)*1)+SUMPRODUCT((Tournament!H5:H52<>"")*(Tournament!K5:K52=C15)*(Tournament!H5:H52=Tournament!I5:I52)*1) -> 0 | G15: =SUMPRODUCT((Tournament!H5:H52<>"")*(Tournament!F5:F52=C15)*(Tournament!H5:H52<Tournament!I5:I52)*1)+SUMPRODUCT((Tournament!H5:H52<>"")*(Tournament!K5:K52=C15)*(Tournament!I5:I52<Tournament!H5:H52)*1) -> 0 | H15: =SUMIF(Tournament!F5:F52,C15,Tournament!H5:H52)+SUMIF(Tournament!K5:K52,C15,Tournament!I5:I52) -> 0 | I15: =SUMIF(Tournament!F5:F52,C15,Tournament!I5:I52)+SUMIF(Tournament!K5:K52,C15,Tournament!H5:H52) -> 0 | J15: =H15-I15 -> 0 | K15: =F15*1+E15*3 -> 0 | L15: =Setup!E19 -> 1544 | M15: =IF(Setup!F19<>"",Setup!F19,Setup!E19) -> 1544 | N15: =RANK(K15,K12:K15) -> 1 | O15: =SUMPRODUCT((N12:N15=N15)*(J12:J15>J15)*1) -> 0 | P15: =N15+O15 -> 1 | Q15: =SUMPRODUCT((N12:N15=N15)*(J12:J15=J15)*(H12:H15>H15)*1) -> 0 | R15: =P15+Q15 -> 1 | S15: =RANK(R15,R12:R15,1)+COUNTIF(R12:R15,R15)-1 -> 4 | T15: 4 | U15: =INDEX(C12:C15,MATCH(T15,S12:S15,0),0) -> Poland | V15: =INDEX(R12:R15,MATCH(U15,C12:C15,0),0) -> 1 | W15: =IF(AND(W14<>"",V15=1),U15,"") -> Poland | X15: =IF(AND(X14<>"",V15=2),U15,"") | Y15: =IF(AND(Y14<>"",V15=3),U15,"") | Z15: =SUMPRODUCT((Tournament!F5:F52=W15)*(Tournament!K5:K52=W12)*(Tournament!H5:H52>Tournament!I5:I52)*1)+SUMPRODUCT((Tournament!K5:K52=W15)*(Tournament!F5:F52=W12)*(Tournament!I5:I52>Tournament!H5:H52)*1)+SUMPRODUCT((Tournament!F5:F52=W15)*(Tournament!K5:K52=W13)*(Tournament!H5:H52>Tournament!I5:I52)*1)+SUMPRODUCT((Tournament!K5:K52=W15)*(Tournament!F5:F52=W13)*(Tournament!I5:I52>Tournament!H5:H52)*1)+SUMPRODUCT((Tournament!F5:F52=W15)*(Tournament!K5:K52=W14)*(Tournament!H5:H52>Tournament!I5:I52)*1)+SUMPRODUCT((Tournament!K5:K52=W15)*(Tournament!F5:F52=W14)*(Tournament!I5:I52>Tournament!H5:H52)*1) -> 0 | AA15: =SUMPRODUCT((Tournament!F5:F52=W15)*(Tournament!K5:K52=W12)*(Tournament!H5:H52>=Tournament!I5:I52)*1)+SUMPRODUCT((Tournament!K5:K52=W15)*(Tournament!F5:F52=W12)*(Tournament!H5:H52=Tournament!I5:I52)*1)+SUMPRODUCT((Tournament!F5:F52=W15)*(Tournament!K5:K52=W13)*(Tournament!H5:H52=Tournament!I5:I52)*1)+SUMPRODUCT((Tournament!K5:K52=W15)*(Tournament!F5:F52=W13)*(Tournament!H5:H52=Tournament!I5:I52)*1)+SUMPRODUCT((Tournament!F5:F52=W15)*(Tournament!K5:K52=W14)*(Tournament!H5:H52=Tournament!I5:I52)*1)+SUMPRODUCT((Tournament!K5:K52=W15)*(Tournament!F5:F52=W14)*(Tournament!H5:H52=Tournament!I5:I52)*1) -> 3 | AB15: =SUMPRODUCT((Tournament!F5:F52=W15)*(Tournament!K5:K52=W12)*(Tournament!H5:H52<Tournament!I5:I52)*1)+SUMPRODUCT((Tournament!K5:K52=W15)*(Tournament!F5:F52=W12)*(Tournament!I5:I52<Tournament!H5:H52)*1)+SUMPRODUCT((Tournament!F5:F52=W15)*(Tournament!K5:K52=W13)*(Tournament!H5:H52<Tournament!I5:I52)*1)+SUMPRODUCT((Tournament!K5:K52=W15)*(Tournament!F5:F52=W13)*(Tournament!I5:I52<Tournament!H5:H52)*1)+SUMPRODUCT((Tournament!F5:F52=W15)*(Tournament!K5:K52=W14)*(Tournament!H5:H52<Tournament!I5:I52)*1)+SUMPRODUCT((Tournament!K5:K52=W15)*(Tournament!F5:F52=W14)*(Tournament!I5:I52<Tournament!H5:H52)*1) -> 0 | AC15: =SUMIFS(Tournament!H5:H52,Tournament!F5:F52,W15,Tournament!K5:K52,W12)+SUMIFS(Tournament!H5:H52,Tournament!F5:F52,W15,Tournament!K5:K52,W13)+SUMIFS(Tournament!H5:H52,Tournament!F5:F52,W15,Tournament!K5:K52,W14)+SUMIFS(Tournament!I5:I52,Tournament!K5:K52,W15,Tournament!F5:F52,W12)+SUMIFS(Tournament!I5:I52,Tournament!K5:K52,W15,Tournament!F5:F52,W13)+SUMIFS(Tournament!I5:I52,Tournament!K5:K52,W15,Tournament!F5:F52,W14) -> 0 | AD15: =SUMIFS(Tournament!I5:I52,Tournament!F5:F52,W15,Tournament!K5:K52,W12)+SUMIFS(Tournament!I5:I52,Tournament!F5:F52,W15,Tournament!K5:K52,W13)+SUMIFS(Tournament!I5:I52,Tournament!F5:F52,W15,Tournament!K5:K52,W14)+SUMIFS(Tournament!H5:H52,Tournament!K5:K52,W15,Tournament!F5:F52,W12)+SUMIFS(Tournament!H5:H52,Tournament!K5:K52,W15,Tournament!F5:F52,W13)+SUMIFS(Tournament!H5:H52,Tournament!K5:K52,W15,Tournament!F5:F52,W14) -> 0 | AE15: =AC15-AD15 -> 0 | AF15: =AA15*1+Z15*3 -> 3 | AG15: =IF(W15<>"",SUMPRODUCT((V12:V15=V15)*(AF12:AF15>AF15)*1),0) -> 0 | AH15: =IF(W15<>"",SUMPRODUCT((AG12:AG15=AG15)*(AE12:AE15>AE15)*1),0) -> 0 | AI15: =AG15+AH15 -> 0 | AJ15: =IF(W15<>"",SUMPRODUCT((AI12:AI15=AI15)*(AG12:AG15=AG15)*(AC12:AC15>AC15)*1),0) -> 0 | AK15: =V15+AI15+AJ15 -> 1 | AL15: =SUMPRODUCT((Tournament!F5:F52=X15)*(Tournament!K5:K52=X13)*(Tournament!H5:H52>Tournament!I5:I52)*1)+SUMPRODUCT((Tournament!K5:K52=X15)*(Tournament!F5:F52=X13)*(Tournament!I5:I52>Tournament!H5:H52)*1)+SUMPRODUCT((Tournament!F5:F52=X15)*(Tournament!K5:K52=X14)*(Tournament!H5:H52>Tournament!I5:I52)*1)+SUMPRODUCT((Tournament!K5:K52=X15)*(Tournament!F5:F52=X14)*(Tournament!I5:I52>Tournament!H5:H52)*1) -> 0 | AM15: =SUMPRODUCT((Tournament!F5:F52=X15)*(Tournament!K5:K52=X13)*(Tournament!H5:H52=Tournament!I5:I52)*1)+SUMPRODUCT((Tournament!K5:K52=X15)*(Tournament!F5:F52=X13)*(Tournament!H5:H52=Tournament!I5:I52)*1)+SUMPRODUCT((Tournament!F5:F52=X15)*(Tournament!K5:K52=X14)*(Tournament!H5:H52=Tournament!I5:I52)*1)+SUMPRODUCT((Tournament!K5:K52=X15)*(Tournament!F5:F52=X14)*(Tournament!H5:H52=Tournament!I5:I52)*1) -> 0 | AN15: =SUMPRODUCT((Tournament!F5:F52=X15)*(Tournament!K5:K52=X13)*(Tournament!H5:H52<Tournament!I5:I52)*1)+SUMPRODUCT((Tournament!K5:K52=X15)*(Tournament!F5:F52=X13)*(Tournament!I5:I52<Tournament!H5:H52)*1)+SUMPRODUCT((Tournament!F5:F52=X15)*(Tournament!K5:K52=X14)*(Tournament!H5:H52<Tournament!I5:I52)*1)+SUMPRODUCT((Tournament!K5:K52=X15)*(Tournament!F5:F52=X14)*(Tournament!I5:I52<Tournament!H5:H52)*1) -> 0 | AO15: =SUMIFS(Tournament!H5:H52,Tournament!F5:F52,X15,Tournament!K5:K52,X13)+SUMIFS(Tournament!H5:H52,Tournament!F5:F52,X15,Tournament!K5:K52,X14)+SUMIFS(Tournament!I5:I52,Tournament!K5:K52,X15,Tournament!F5:F52,X13)+SUMIFS(Tournament!I5:I52,Tournament!K5:K52,X15,Tournament!F5:F52,X14) -> 0 | AP15: =SUMIFS(Tournament!H5:H52,Tournament!F5:F52,X15,Tournament!K5:K52,X13)+SUMIFS(Tournament!H5:H52,Tournament!F5:F52,X15,Tournament!K5:K52,X14)+SUMIFS(Tournament!I5:I52,Tournament!K5:K52,X15,Tournament!F5:F52,X13)+SUMIFS(Tournament!I5:I52,Tournament!K5:K52,X15,Tournament!F5:F52,X14) -> 0 | AQ15: =AO15-AP15 -> 0 | AR15: =AM15*1+AL15*3 -> 0 | AS15: =IF(X15<>"",SUMPRODUCT((V12:V15=V15)*(AR12:AR15>AR15)*1),0) -> 0 | AT15: =IF(X15<>"",SUMPRODUCT((AS12:AS15=AS15)*(AQ12:AQ15>AQ15)*1),0) -> 0 | AU15: =AS15+AT15 -> 0 | AV15: =IF(X15<>"",SUMPRODUCT((AU12:AU15=AU15)*(AS12:AS15=AS15)*(AO12:AO15>AO15)*1),0) -> 0 | AW15: =AK15+AU15+AV15 -> 1 | AX15: =SUMPRODUCT((Tournament!F5:F52=Y15)*(Tournament!K5:K52=Y14)*(Tournament!H5:H52>Tournament!I5:I52)*1)+SUMPRODUCT((Tournament!K5:K52=Y15)*(Tournament!F5:F52=Y14)*(Tournament!I5:I52>Tournament!H5:H52)*1) -> 0 | AY15: =SUMPRODUCT((Tournament!F5:F52=Y15)*(Tournament!K5:K52=Y14)*(Tournament!H5:H52=Tournament!I5:I52)*1)+SUMPRODUCT((Tournament!K5:K52=Y15)*(Tournament!F5:F52=Y14)*(Tournament!I5:I52=Tournament!H5:H52)*1) -> 0 | AZ15: =SUMPRODUCT((Tournament!F5:F52=Y15)*(Tournament!K5:K52=Y14)*(Tournament!H5:H52<Tournament!I5:I52)*1)+SUMPRODUCT((Tournament!K5:K52=Y15)*(Tournament!F5:F52=Y14)*(Tournament!I5:I52<Tournament!H5:H52)*1) -> 0 | BA15: =SUMIFS(Tournament!H5:H52,Tournament!F5:F52,Y15,Tournament!K5:K52,Y14)+SUMIFS(Tournament!I5:I52,Tournament!K5:K52,Y15,Tournament!F5:F52,Y14) -> 0 | BB15: =SUMIFS(Tournament!H5:H52,Tournament!F5:F52,Y15,Tournament!K5:K52,Y14)+SUMIFS(Tournament!I5:I52,Tournament!K5:K52,Y15,Tournament!F5:F52,Y14) -> 0 | BC15: =BA15-BB15 -> 0 | BD15: =AY15*1+AX15*3 -> 0 | BE15: =IF(Y15<>"",SUMPRODUCT((AH12:AH15=AH15)*(BD12:BD15>BD15)*1),0) -> 0 | BF15: =IF(Y15<>"",SUMPRODUCT((BE12:BE15=BE15)*(BC12:BC15>BC15)*1),0) -> 0 | BG15: =BE15+BF15 -> 0 | BH15: =IF(Y15<>"",SUMPRODUCT((BG12:BG15=BG15)*(BE12:BE15=BE15)*(BA12:BA15>BA15)*1),0) -> 0 | BI15: =AW15+BG15+BH15 -> 1 | BJ15: =SUMPRODUCT((BI12:BI15=BI15)*(A12:A15>A15)*1) -> 2 | BK15: =BJ15+BI15 -> 3 | BM15: C | BO15: =Calculator!C12 -> Argentina | BP15: BN15 | BR15: 9 | BS15: -8 | BU15: 9 | BV15: =BW15 -> 44888.542 | BW15: 44888.542 | BX15: =BW15+TimeZoneData/24 -> 44888.542 | BZ15: =INDEX(Language!A1:K117,MATCH(Setup!B16,Language!B1:B117,0),MATCH(Setup!C5,Language!A1:J1,0)) -> Argentina
A16: =INDEX(M4:M35,MATCH(U16,C4:C35,0),0) -> 1654 | B16: =B12 -> 1 | C16: =BZ19 -> Denmark | D16: =SUM(E16:G16) -> 0 | E16: =SUMPRODUCT((Tournament!H5:H52<>"")*(Tournament!F5:F52=C16)*(Tournament!H5:H52>Tournament!I5:I52)*1)+SUMPRODUCT((Tournament!H5:H52<>"")*(Tournament!K5:K52=C16)*(Tournament!I5:I52>Tournament!H5:H52)*1) -> 0 | F16: =SUMPRODUCT((Tournament!H5:H52<>"")*(Tournament!F5:F52=C16)*(Tournament!H5:H52=Tournament!I5:I52)*1)+SUMPRODUCT((Tournament!H5:H52<>"")*(Tournament!K5:K52=C16)*(Tournament!H5:H52=Tournament!I5:I52)*1) -> 0 | G16: =SUMPRODUCT((Tournament!H5:H52<>"")*(Tournament!F5:F52=C16)*(Tournament!H5:H52<Tournament!I5:I52)*1)+SUMPRODUCT((Tournament!H5:H52<>"")*(Tournament!K5:K52=C16)*(Tournament!I5:I52<Tournament!H5:H52)*1) -> 0 | H16: =SUMIF(Tournament!F5:F52,C16,Tournament!H5:H52)+SUMIF(Tournament!K5:K52,C16,Tournament!I5:I52) -> 0 | I16: =SUMIF(Tournament!F5:F52,C16,Tournament!I5:I52)+SUMIF(Tournament!K5:K52,C16,Tournament!H5:H52) -> 0 | J16: =H16-I16 -> 0 | K16: =F16*1+E16*3 -> 0 | L16: =Setup!E20 -> 1654 | M16: =IF(Setup!F20<>"",Setup!F20,Setup!E20) -> 1654 | N16: =RANK(K16,K16:K19) -> 1 | O16: =SUMPRODUCT((N16:N19=N16)*(J16:J19>J16)*1) -> 0 | P16: =N16+O16 -> 1 | Q16: =SUMPRODUCT((N16:N19=N16)*(J16:J19=J16)*(H16:H19>H16)*1) -> 0 | R16: =P16+Q16 -> 1 | S16: =RANK(R16,R16:R19,1)+COUNTIF(R16:R16,R16)-1 -> 1 | T16: 1 | U16: =INDEX(C16:C19,MATCH(T16,S16:S19,0),0) -> Denmark | V16: =INDEX(R16:R19,MATCH(U16,C16:C19,0),0) -> 1 | W16: =IF(V17=1,U16,"") -> Denmark | Z16: =SUMPRODUCT((Tournament!F5:F52=W16)*(Tournament!K5:K52=W17)*(Tournament!H5:H52>Tournament!I5:I52)*1)+SUMPRODUCT((Tournament!K5:K52=W16)*(Tournament!F5:F52=W17)*(Tournament!I5:I52>Tournament!H5:H52)*1)+SUMPRODUCT((Tournament!F5:F52=W16)*(Tournament!K5:K52=W18)*(Tournament!H5:H52>Tournament!I5:I52)*1)+SUMPRODUCT((Tournament!K5:K52=W16)*(Tournament!F5:F52=W18)*(Tournament!I5:I52>Tournament!H5:H52)*1)+SUMPRODUCT((Tournament!F5:F52=W16)*(Tournament!K5:K52=W19)*(Tournament!H5:H52>Tournament!I5:I52)*1)+SUMPRODUCT((Tournament!K5:K52=W16)*(Tournament!F5:F52=W19)*(Tournament!I5:I52>Tournament!H5:H52)*1) -> 0 | AA16: =SUMPRODUCT((Tournament!F5:F52=W16)*(Tournament!K5:K52=W17)*(Tournament!H5:H52=Tournament!I5:I52)*1)+SUMPRODUCT((Tournament!K5:K52=W16)*(Tournament!F5:F52=W17)*(Tournament!H5:H52=Tournament!I5:I52)*1)+SUMPRODUCT((Tournament!F5:F52=W16)*(Tournament!K5:K52=W18)*(Tournament!H5:H52=Tournament!I5:I52)*1)+SUMPRODUCT((Tournament!K5:K52=W16)*(Tournament!F5:F52=W18)*(Tournament!H5:H52=Tournament!I5:I52)*1)+SUMPRODUCT((Tournament!F5:F52=W16)*(Tournament!K5:K52=W19)*(Tournament!H5:H52=Tournament!I5:I52)*1)+SUMPRODUCT((Tournament!K5:K52=W16)*(Tournament!F5:F52=W19)*(Tournament!H5:H52=Tournament!I5:I52)*1) -> 3 | AB16: =SUMPRODUCT((Tournament!F5:F52=W16)*(Tournament!K5:K52=W17)*(Tournament!H5:H52<Tournament!I5:I52)*1)+SUMPRODUCT((Tournament!K5:K52=W16)*(Tournament!F5:F52=W17)*(Tournament!I5:I52<Tournament!H5:H52)*1)+SUMPRODUCT((Tournament!F5:F52=W16)*(Tournament!K5:K52=W18)*(Tournament!H5:H52<Tournament!I5:I52)*1)+SUMPRODUCT((Tournament!K5:K52=W16)*(Tournament!F5:F52=W18)*(Tournament!I5:I52<Tournament!H5:H52)*1)+SUMPRODUCT((Tournament!F5:F52=W16)*(Tournament!K5:K52=W19)*(Tournament!H5:H52<Tournament!I5:I52)*1)+SUMPRODUCT((Tournament!K5:K52=W16)*(Tournament!F5:F52=W19)*(Tournament!I5:I52<Tournament!H5:H52)*1) -> 0 | AC16: =SUMIFS(Tournament!H5:H52,Tournament!F5:F52,W16,Tournament!K5:K52,W17)+SUMIFS(Tournament!H5:H52,Tournament!F5:F52,W16,Tournament!K5:K52,W18)+SUMIFS(Tournament!H5:H52,Tournament!F5:F52,W16,Tournament!K5:K52,W19)+SUMIFS(Tournament!I5:I52,Tournament!K5:K52,W16,Tournament!F5:F52,W17)+SUMIFS(Tournament!I5:I52,Tournament!K5:K52,W16,Tournament!F5:F52,W18)+SUMIFS(Tournament!I5:I52,Tournament!K5:K52,W16,Tournament!F5:F52,W19) -> 0 | AD16: =SUMIFS(Tournament!I5:I52,Tournament!F5:F52,W16,Tournament!K5:K52,W17)+SUMIFS(Tournament!I5:I52,Tournament!F5:F52,W16,Tournament!K5:K52,W18)+SUMIFS(Tournament!I5:I52,Tournament!F5:F52,W16,Tournament!K5:K52,W19)+SUMIFS(Tournament!H5:H52,Tournament!K5:K52,W16,Tournament!F5:F52,W17)+SUMIFS(Tournament!H5:H52,Tournament!K5:K52,W16,Tournament!F5:F52,W18)+SUMIFS(Tournament!H5:H52,Tournament!K5:K52,W16,Tournament!F5:F52,W19) -> 0 | AE16: =AC16-AD16 -> 0 | AF16: =AA16*1+Z16*3 -> 3 | AG16: =IF(W16<>"",SUMPRODUCT((V16:V19=V16)*(AF16:AF19>AF16)*1),0) -> 0 | AH16: =IF(W16<>"",SUMPRODUCT((AG16:AG19=AG16)*(AE16:AE19>AE16)*1),0) -> 0 | AI16: =AG16+AH16 -> 0 | AJ16: =IF(W16<>"",SUMPRODUCT((AI16:AI19=AI16)*(AG16:AG19=AG16)*(AC16:AC19>AC16)*1),0) -> 0 | AK16: =V16+AI16+AJ16 -> 1 | AL16: 0 | AM16: 0 | AN16: 0 | AO16: 0 | AP16: 0 | AQ16: =AO16-AP16 -> 0 | AR16: =AM16*1+AL16*3 -> 0 | AS16: 0 | AT16: 0 | AU16: =AS16+AT16 -> 0 | AV16: 0 | AW16: =AK16+AU16+AV16 -> 1 | AX16: 0 | AY16: 0 | AZ16: 0 | BA16: 0 | BB16: 0 | BC16: 0 | BD16: 0 | BE16: 0 | BF16: 0 | BG16: 0 | BH16: 0 | BI16: =AW16+BG16+BH16 -> 1 | BJ16: =SUMPRODUCT((BI16:BI19=BI16)*(A16:A19>A16)*1) -> 1 | BK16: =BJ16+BI16 -> 2 | BO16: =Calculator!C13 -> Saudi Arabia | BP16: BN16 | BR16: 10 | BS16: -7.5 | BU16: 10 | BV16: =BW16 -> 44888.667 | BW16: 44888.667 | BX16: =BW16+TimeZoneData/24 -> 44888.667 | BZ16: =INDEX(Language!A1:K117,MATCH(Setup!B17,Language!B1:B117,0),MATCH(Setup!C5,Language!A1:J1,0)) -> Saudi Arabia
A17: =INDEX(M4:M35,MATCH(U17,C4:C35,0),0) -> 1500 | B17: =B13 -> 2 | C17: =BZ20 -> Tunisia | D17: =SUM(E17:G17) -> 0 | E17: =SUMPRODUCT((Tournament!H5:H52<>"")*(Tournament!F5:F52=C17)*(Tournament!H5:H52>Tournament!I5:I52)*1)+SUMPRODUCT((Tournament!H5:H52<>"")*(Tournament!K5:K52=C17)*(Tournament!I5:I52>Tournament!H5:H52)*1) -> 0 | F17: =SUMPRODUCT((Tournament!H5:H52<>"")*(Tournament!F5:F52=C17)*(Tournament!H5:H52=Tournament!I5:I52)*1)+SUMPRODUCT((Tournament!H5:H52<>"")*(Tournament!K5:K52=C17)*(Tournament!H5:H52=Tournament!I5:I52)*1) -> 0 | G17: =SUMPRODUCT((Tournament!H5:H52<>"")*(Tournament!F5:F52=C17)*(Tournament!H5:H52<Tournament!I5:I52)*1)+SUMPRODUCT((Tournament!H5:H52<>"")*(Tournament!K5:K52=C17)*(Tournament!I5:I52<Tournament!H5:H52)*1) -> 0 | H17: =SUMIF(Tournament!F5:F52,C17,Tournament!H5:H52)+SUMIF(Tournament!K5:K52,C17,Tournament!I5:I52) -> 0 | I17: =SUMIF(Tournament!F5:F52,C17,Tournament!I5:I52)+SUMIF(Tournament!K5:K52,C17,Tournament!H5:H52) -> 0 | J17: =H17-I17 -> 0 | K17: =F17*1+E17*3 -> 0 | L17: =Setup!E21 -> 1500 | M17: =IF(Setup!F21<>"",Setup!F21,Setup!E21) -> 1500 | N17: =RANK(K17,K16:K19) -> 1 | O17: =SUMPRODUCT((N16:N19=N17)*(J16:J19>J17)*1) -> 0 | P17: =N17+O17 -> 1 | Q17: =SUMPRODUCT((N16:N19=N17)*(J16:J19=J17)*(H16:H19>H17)*1) -> 0 | R17: =P17+Q17 -> 1 | S17: =RANK(R17,R16:R19,1)+COUNTIF(R16:R17,R17)-1 -> 2 | T17: 2 | U17: =INDEX(C16:C19,MATCH(T17,S16:S19,0),0) -> Tunisia | V17: =INDEX(R16:R19,MATCH(U17,C16:C19,0),0) -> 1 | W17: =IF(W16<>"",U17,"") -> Tunisia | X17: =IF(V18=2,U17,"") | Z17: =SUMPRODUCT((Tournament!F5:F52=W17)*(Tournament!K5:K52=W16)*(Tournament!H5:H52>Tournament!I5:I52)*1)+SUMPRODUCT((Tournament!K5:K52=W17)*(Tournament!F5:F52=W16)*(Tournament!I5:I52>Tournament!H5:H52)*1)+SUMPRODUCT((Tournament!F5:F52=W17)*(Tournament!K5:K52=W18)*(Tournament!H5:H52>Tournament!I5:I52)*1)+SUMPRODUCT((Tournament!K5:K52=W17)*(Tournament!F5:F52=W18)*(Tournament!I5:I52>Tournament!H5:H52)*1)+SUMPRODUCT((Tournament!F5:F52=W17)*(Tournament!K5:K52=W19)*(Tournament!H5:H52>Tournament!I5:I52)*1)+SUMPRODUCT((Tournament!K5:K52=W17)*(Tournament!F5:F52=W19)*(Tournament!I5:I52>Tournament!H5:H52)*1) -> 0 | AA17: =SUMPRODUCT((Tournament!F5:F52=W17)*(Tournament!K5:K52=W16)*(Tournament!H5:H52=Tournament!I5:I52)*1)+SUMPRODUCT((Tournament!K5:K52=W17)*(Tournament!F5:F52=W16)*(Tournament!H5:H52=Tournament!I5:I52)*1)+SUMPRODUCT((Tournament!F5:F52=W17)*(Tournament!K5:K52=W18)*(Tournament!H5:H52=Tournament!I5:I52)*1)+SUMPRODUCT((Tournament!K5:K52=W17)*(Tournament!F5:F52=W18)*(Tournament!H5:H52=Tournament!I5:I52)*1)+SUMPRODUCT((Tournament!F5:F52=W17)*(Tournament!K5:K52=W19)*(Tournament!H5:H52=Tournament!I5:I52)*1)+SUMPRODUCT((Tournament!K5:K52=W17)*(Tournament!F5:F52=W19)*(Tournament!H5:H52=Tournament!I5:I52)*1) -> 3 | AB17: =SUMPRODUCT((Tournament!F5:F52=W17)*(Tournament!K5:K52=W16)*(Tournament!H5:H52<Tournament!I5:I52)*1)+SUMPRODUCT((Tournament!K5:K52=W17)*(Tournament!F5:F52=W16)*(Tournament!I5:I52<Tournament!H5:H52)*1)+SUMPRODUCT((Tournament!F5:F52=W17)*(Tournament!K5:K52=W18)*(Tournament!H5:H52<Tournament!I5:I52)*1)+SUMPRODUCT((Tournament!K5:K52=W17)*(Tournament!F5:F52=W18)*(Tournament!I5:I52<Tournament!H5:H52)*1)+SUMPRODUCT((Tournament!F5:F52=W17)*(Tournament!K5:K52=W19)*(Tournament!H5:H52<Tournament!I5:I52)*1)+SUMPRODUCT((Tournament!K5:K52=W17)*(Tournament!F5:F52=W19)*(Tournament!I5:I52<Tournament!H5:H52)*1) -> 0 | AC17: =SUMIFS(Tournament!H5:H52,Tournament!F5:F52,W17,Tournament!K5:K52,W16)+SUMIFS(Tournament!H5:H52,Tournament!F5:F52,W17,Tournament!K5:K52,W18)+SUMIFS(Tournament!H5:H52,Tournament!F5:F52,W17,Tournament!K5:K52,W19)+SUMIFS(Tournament!I5:I52,Tournament!K5:K52,W17,Tournament!F5:F52,W16)+SUMIFS(Tournament!I5:I52,Tournament!K5:K52,W17,Tournament!F5:F52,W18)+SUMIFS(Tournament!I5:I52,Tournament!K5:K52,W17,Tournament!F5:F52,W19) -> 0 | AD17: =SUMIFS(Tournament!I5:I52,Tournament!F5:F52,W17,Tournament!K5:K52,W16)+SUMIFS(Tournament!I5:I52,Tournament!F5:F52,W17,Tournament!K5:K52,W18)+SUMIFS(Tournament!I5:I52,Tournament!F5:F52,W17,Tournament!K5:K52,W19)+SUMIFS(Tournament!H5:H52,Tournament!K5:K52,W17,Tournament!F5:F52,W16)+SUMIFS(Tournament!H5:H52,Tournament!K5:K52,W17,Tournament!F5:F52,W18)+SUMIFS(Tournament!H5:H52,Tournament!K5:K52,W17,Tournament!F5:F52,W19) -> 0 | AE17: =AC17-AD17 -> 0 | AF17: =AA17*1+Z17*3 -> 3 | AG17: =IF(W17<>"",SUMPRODUCT((V16:V19=V17)*(AF16:AF19>AF17)*1),0) -> 0 | AH17: =IF(W17<>"",SUMPRODUCT((AG16:AG19=AG17)*(AE16:AE19>AE17)*1),0) -> 0 | AI17: =AG17+AH17 -> 0 | AJ17: =IF(W17<>"",SUMPRODUCT((AI16:AI19=AI17)*(AG16:AG19=AG17)*(AC16:AC19>AC17)*1),0) -> 0 | AK17: =V17+AI17+AJ17 -> 1 | AL17: =SUMPRODUCT((Tournament!F5:F52=X17)*(Tournament!K5:K52=X18)*(Tournament!H5:H52>Tournament!I5:I52)*1)+SUMPRODUCT((Tournament!K5:K52=X17)*(Tournament!F5:F52=X18)*(Tournament!I5:I52>Tournament!H5:H52)*1)+SUMPRODUCT((Tournament!F5:F52=X17)*(Tournament!K5:K52=X19)*(Tournament!H5:H52>Tournament!I5:I52)*1)+SUMPRODUCT((Tournament!K5:K52=X17)*(Tournament!F5:F52=X19)*(Tournament!I5:I52>Tournament!H5:H52)*1) -> 0 | AM17: =SUMPRODUCT((Tournament!F5:F52=X17)*(Tournament!K5:K52=X18)*(Tournament!H5:H52=Tournament!I5:I52)*1)+SUMPRODUCT((Tournament!K5:K52=X17)*(Tournament!F5:F52=X18)*(Tournament!H5:H52=Tournament!I5:I52)*1)+SUMPRODUCT((Tournament!F5:F52=X17)*(Tournament!K5:K52=X19)*(Tournament!H5:H52=Tournament!I5:I52)*1)+SUMPRODUCT((Tournament!K5:K52=X17)*(Tournament!F5:F52=X19)*(Tournament!H5:H52=Tournament!I5:I52)*1) -> 0 | AN17: =SUMPRODUCT((Tournament!F5:F52=X17)*(Tournament!K5:K52=X18)*(Tournament!H5:H52<Tournament!I5:I52)*1)+SUMPRODUCT((Tournament!K5:K52=X17)*(Tournament!F5:F52=X18)*(Tournament!I5:I52<Tournament!H5:H52)*1)+SUMPRODUCT((Tournament!F5:F52=X17)*(Tournament!K5:K52=X19)*(Tournament!H5:H52<Tournament!I5:I52)*1)+SUMPRODUCT((Tournament!K5:K52=X17)*(Tournament!F5:F52=X19)*(Tournament!I5:I52<Tournament!H5:H52)*1) -> 0 | AO17: =SUMIFS(Tournament!H5:H52,Tournament!F5:F52,X17,Tournament!K5:K52,X18)+SUMIFS(Tournament!H5:H52,Tournament!F5:F52,X17,Tournament!K5:K52,X19)+SUMIFS(Tournament!I5:I52,Tournament!K5:K52,X17,Tournament!F5:F52,X18)+SUMIFS(Tournament!I5:I52,Tournament!K5:K52,X17,Tournament!F5:F52,X19) -> 0 | AP17: =SUMIFS(Tournament!I5:I52,Tournament!F5:F52,X17,Tournament!K5:K52,X18)+SUMIFS(Tournament!I5:I52,Tournament!F5:F52,X17,Tournament!K5:K52,X19)+SUMIFS(Tournament!H5:H52,Tournament!K5:K52,X17,Tournament!F5:F52,X18)+SUMIFS(Tournament!H5:H52,Tournament!K5:K52,X17,Tournament!F5:F52,X19) -> 0 | AQ17: =AO17-AP17 -> 0 | AR17: =AM17*1+AL17*3 -> 0 | AS17: =IF(X17<>"",SUMPRODUCT((V16:V19=V17)*(AR16:AR19>AR17)*1),0) -> 0 | AT17: =IF(X17<>"",SUMPRODUCT((AS16:AS19=AS17)*(AQ16:AQ19>AQ17)*1),0) -> 0 | AU17: =AS17+AT17 -> 0 | AV17: =IF(X17<>"",SUMPRODUCT((AU16:AU19=AU17)*(AS16:AS19=AS17)*(AO16:AO19>AO17)*1),0) -> 0 | AW17: =AK17+AU17+AV17 -> 1 | AX17: 0 | AY17: 0 | AZ17: 0 | BA17: 0 | BB17: 0 | BC17: 0 | BD17: 0 | BE17: 0 | BF17: 0 | BG17: 0 | BH17: 0 | BI17: =AW17+BG17+BH17 -> 1 | BJ17: =SUMPRODUCT((BI16:BI19=BI17)*(A16:A19>A17)*1) -> 2 | BK17: =BJ17+BI17 -> 3 | BO17: =Calculator!C14 -> Mexico | BP17: BN17 | BR17: 11 | BS17: -7 | BU17: 11 | BV17: =BW17 -> 44888.792 | BW17: 44888.792 | BX17: =BW17+TimeZoneData/24 -> 44888.792 | BZ17: =INDEX(Language!A1:K117,MATCH(Setup!B18,Language!B1:B117,0),MATCH(Setup!C5,Language!A1:J1,0)) -> Mexico
A18: =INDEX(M4:M35,MATCH(U18,C4:C35,0),0) -> 1790 | B18: =B14 -> 3 | C18: =BZ21 -> France | D18: =SUM(E18:G18) -> 0 | E18: =SUMPRODUCT((Tournament!H5:H52<>"")*(Tournament!F5:F52=C18)*(Tournament!H5:H52>Tournament!I5:I52)*1)+SUMPRODUCT((Tournament!H5:H52<>"")*(Tournament!K5:K52=C18)*(Tournament!I5:I52>Tournament!H5:H52)*1) -> 0 | F18: =SUMPRODUCT((Tournament!H5:H52<>"")*(Tournament!F5:F52=C18)*(Tournament!H5:H52=Tournament!I5:I52)*1)+SUMPRODUCT((Tournament!H5:H52<>"")*(Tournament!K5:K52=C18)*(Tournament!H5:H52=Tournament!I5:I52)*1) -> 0 | G18: =SUMPRODUCT((Tournament!H5:H52<>"")*(Tournament!F5:F52=C18)*(Tournament!H5:H52<Tournament!I5:I52)*1)+SUMPRODUCT((Tournament!H5:H52<>"")*(Tournament!K5:K52=C18)*(Tournament!I5:I52<Tournament!H5:H52)*1) -> 0 | H18: =SUMIF(Tournament!F5:F52,C18,Tournament!H5:H52)+SUMIF(Tournament!K5:K52,C18,Tournament!I5:I52) -> 0 | I18: =SUMIF(Tournament!F5:F52,C18,Tournament!I5:I52)+SUMIF(Tournament!K5:K52,C18,Tournament!H5:H52) -> 0 | J18: =H18-I18 -> 0 | K18: =F18*1+E18*3 -> 0 | L18: =Setup!E22 -> 1790 | M18: =IF(Setup!F22<>"",Setup!F22,Setup!E22) -> 1790 | N18: =RANK(K18,K16:K19) -> 1 | O18: =SUMPRODUCT((N16:N19=N18)*(J16:J19>J18)*1) -> 0 | P18: =N18+O18 -> 1 | Q18: =SUMPRODUCT((N16:N19=N18)*(J16:J19=J18)*(H16:H19>H18)*1) -> 0 | R18: =P18+Q18 -> 1 | S18: =RANK(R18,R16:R19,1)+COUNTIF(R16:R18,R18)-1 -> 3 | T18: 3 | U18: =INDEX(C16:C19,MATCH(T18,S16:S19,0),0) -> France | V18: =INDEX(R16:R19,MATCH(U18,C16:C19,0),0) -> 1 | W18: =IF(AND(W17<>"",V18=1),U18,"") -> France | X18: =IF(X17<>"",U18,"") | Y18: =IF(V19=3,U18,"") | Z18: =SUMPRODUCT((Tournament!F5:F52=W18)*(Tournament!K5:K52=W16)*(Tournament!H5:H52>Tournament!I5:I52)*1)+SUMPRODUCT((Tournament!K5:K52=W18)*(Tournament!F5:F52=W16)*(Tournament!I5:I52>Tournament!H5:H52)*1)+SUMPRODUCT((Tournament!F5:F52=W18)*(Tournament!K5:K52=W17)*(Tournament!H5:H52>Tournament!I5:I52)*1)+SUMPRODUCT((Tournament!K5:K52=W18)*(Tournament!F5:F52=W17)*(Tournament!I5:I52>Tournament!H5:H52)*1)+SUMPRODUCT((Tournament!F5:F52=W18)*(Tournament!K5:K52=W19)*(Tournament!H5:H52>Tournament!I5:I52)*1)+SUMPRODUCT((Tournament!K5:K52=W18)*(Tournament!F5:F52=W19)*(Tournament!I5:I52>Tournament!H5:H52)*1) -> 0 | AA18: =SUMPRODUCT((Tournament!F5:F52=W18)*(Tournament!K5:K52=W16)*(Tournament!H5:H52=Tournament!I5:I52)*1)+SUMPRODUCT((Tournament!K5:K52=W18)*(Tournament!F5:F52=W16)*(Tournament!H5:H52=Tournament!I5:I52)*1)+SUMPRODUCT((Tournament!F5:F52=W18)*(Tournament!K5:K52=W17)*(Tournament!H5:H52=Tournament!I5:I52)*1)+SUMPRODUCT((Tournament!K5:K52=W18)*(Tournament!F5:F52=W17)*(Tournament!H5:H52=Tournament!I5:I52)*1)+SUMPRODUCT((Tournament!F5:F52=W18)*(Tournament!K5:K52=W19)*(Tournament!H5:H52=Tournament!I5:I52)*1)+SUMPRODUCT((Tournament!K5:K52=W18)*(Tournament!F5:F52=W19)*(Tournament!H5:H52=Tournament!I5:I52)*1) -> 3 | AB18: =SUMPRODUCT((Tournament!F5:F52=W18)*(Tournament!K5:K52=W16)*(Tournament!H5:H52<Tournament!I5:I52)*1)+SUMPRODUCT((Tournament!K5:K52=W18)*(Tournament!F5:F52=W16)*(Tournament!I5:I52<Tournament!H5:H52)*1)+SUMPRODUCT((Tournament!F5:F52=W18)*(Tournament!K5:K52=W17)*(Tournament!H5:H52<Tournament!I5:I52)*1)+SUMPRODUCT((Tournament!K5:K52=W18)*(Tournament!F5:F52=W17)*(Tournament!I5:I52<Tournament!H5:H52)*1)+SUMPRODUCT((Tournament!F5:F52=W18)*(Tournament!K5:K52=W19)*(Tournament!H5:H52<Tournament!I5:I52)*1)+SUMPRODUCT((Tournament!K5:K52=W18)*(Tournament!F5:F52=W19)*(Tournament!I5:I52<Tournament!H5:H52)*1) -> 0 | AC18: =SUMIFS(Tournament!H5:H52,Tournament!F5:F52,W18,Tournament!K5:K52,W16)+SUMIFS(Tournament!H5:H52,Tournament!F5:F52,W18,Tournament!K5:K52,W17)+SUMIFS(Tournament!H5:H52,Tournament!F5:F52,W18,Tournament!K5:K52,W19)+SUMIFS(Tournament!I5:I52,Tournament!K5:K52,W18,Tournament!F5:F52,W16)+SUMIFS(Tournament!I5:I52,Tournament!K5:K52,W18,Tournament!F5:F52,W17)+SUMIFS(Tournament!I5:I52,Tournament!K5:K52,W18,Tournament!F5:F52,W19) -> 0 | AD18: =SUMIFS(Tournament!I5:I52,Tournament!F5:F52,W18,Tournament!K5:K52,W16)+SUMIFS(Tournament!I5:I52,Tournament!F5:F52,W18,Tournament!K5:K52,W17)+SUMIFS(Tournament!I5:I52,Tournament!F5:F52,W18,Tournament!K5:K52,W19)+SUMIFS(Tournament!H5:H52,Tournament!K5:K52,W18,Tournament!F5:F52,W16)+SUMIFS(Tournament!H5:H52,Tournament!K5:K52,W18,Tournament!F5:F52,W17)+SUMIFS(Tournament!H5:H52,Tournament!K5:K52,W18,Tournament!F5:F52,W19) -> 0 | AE18: =AC18-AD18 -> 0 | AF18: =AA18*1+Z18*3 -> 3 | AG18: =IF(W18<>"",SUMPRODUCT((V16:V19=V18)*(AF16:AF19>AF18)*1),0) -> 0 | AH18: =IF(W18<>"",SUMPRODUCT((AG16:AG19=AG18)*(AE16:AE19>AE18)*1),0) -> 0 | AI18: =AG18+AH18 -> 0 | AJ18: =IF(W18<>"",SUMPRODUCT((AI16:AI19=AI18)*(AG16:AG19=AG18)*(AC16:AC19>AC18)*1),0) -> 0 | AK18: =V18+AI18+AJ18 -> 1 | AL18: =SUMPRODUCT((Tournament!F5:F52=X18)*(Tournament!K5:K52=X17)*(Tournament!H5:H52>Tournament!I5:I52)*1)+SUMPRODUCT((Tournament!K5:K52=X18)*(Tournament!F5:F52=X17)*(Tournament!I5:I52>Tournament!H5:H52)*1)+SUMPRODUCT((Tournament!F5:F52=X18)*(Tournament!K5:K52=X19)*(Tournament!H5:H52>Tournament!I5:I52)*1)+SUMPRODUCT((Tournament!K5:K52=X18)*(Tournament!F5:F52=X19)*(Tournament!I5:I52>Tournament!H5:H52)*1) -> 0 | AM18: =SUMPRODUCT((Tournament!F5:F52=X18)*(Tournament!K5:K52=X17)*(Tournament!H5:H52=Tournament!I5:I52)*1)+SUMPRODUCT((Tournament!K5:K52=X18)*(Tournament!F5:F52=X17)*(Tournament!H5:H52=Tournament!I5:I52)*1)+SUMPRODUCT((Tournament!F5:F52=X18)*(Tournament!K5:K52=X19)*(Tournament!H5:H52=Tournament!I5:I52)*1)+SUMPRODUCT((Tournament!K5:K52=X18)*(Tournament!F5:F52=X19)*(Tournament!H5:H52=Tournament!I5:I52)*1) -> 0 | AN18: =SUMPRODUCT((Tournament!F5:F52=X18)*(Tournament!K5:K52=X17)*(Tournament!H5:H52<Tournament!I5:I52)*1)+SUMPRODUCT((Tournament!K5:K52=X18)*(Tournament!F5:F52=X17)*(Tournament!I5:I52<Tournament!H5:H52)*1)+SUMPRODUCT((Tournament!F5:F52=X18)*(Tournament!K5:K52=X19)*(Tournament!H5:H52<Tournament!I5:I52)*1)+SUMPRODUCT((Tournament!K5:K52=X18)*(Tournament!F5:F52=X19)*(Tournament!I5:I52<Tournament!H5:H52)*1) -> 0 | AO18: =SUMIFS(Tournament!H5:H52,Tournament!F5:F52,X18,Tournament!K5:K52,X17)+SUMIFS(Tournament!H5:H52,Tournament!F5:F52,X18,Tournament!K5:K52,X19)+SUMIFS(Tournament!I5:I52,Tournament!K5:K52,X18,Tournament!F5:F52,X17)+SUMIFS(Tournament!I5:I52,Tournament!K5:K52,X18,Tournament!F5:F52,X19) -> 0 | AP18: =SUMIFS(Tournament!I5:I52,Tournament!F5:F52,X18,Tournament!K5:K52,X17)+SUMIFS(Tournament!I5:I52,Tournament!F5:F52,X18,Tournament!K5:K52,X19)+SUMIFS(Tournament!H5:H52,Tournament!K5:K52,X18,Tournament!F5:F52,X17)+SUMIFS(Tournament!H5:H52,Tournament!K5:K52,X18,Tournament!F5:F52,X19) -> 0 | AQ18: =AO18-AP18 -> 0 | AR18: =AM18*1+AL18*3 -> 0 | AS18: =IF(X18<>"",SUMPRODUCT((V16:V19=V18)*(AR16:AR19>AR18)*1),0) -> 0 | AT18: =IF(X18<>"",SUMPRODUCT((AS16:AS19=AS18)*(AQ16:AQ19>AQ18)*1),0) -> 0 | AU18: =AS18+AT18 -> 0 | AV18: =IF(X18<>"",SUMPRODUCT((AU16:AU19=AU18)*(AS16:AS19=AS18)*(AO16:AO19>AO18)*1),0) -> 0 | AW18: =AK18+AU18+AV18 -> 1 | AX18: =SUMPRODUCT((Tournament!F5:F52=Y18)*(Tournament!K5:K52=Y19)*(Tournament!H5:H52>Tournament!I5:I52)*1)+SUMPRODUCT((Tournament!K5:K52=Y18)*(Tournament!F5:F52=Y19)*(Tournament!I5:I52>Tournament!H5:H52)*1) -> 0 | AY18: =SUMPRODUCT((Tournament!F5:F52=Y18)*(Tournament!K5:K52=Y19)*(Tournament!H5:H52=Tournament!I5:I52)*1)+SUMPRODUCT((Tournament!K5:K52=Y18)*(Tournament!F5:F52=Y19)*(Tournament!I5:I52=Tournament!H5:H52)*1) -> 0 | AZ18: =SUMPRODUCT((Tournament!F5:F52=Y18)*(Tournament!K5:K52=Y19)*(Tournament!H5:H52<Tournament!I5:I52)*1)+SUMPRODUCT((Tournament!K5:K52=Y18)*(Tournament!F5:F52=Y19)*(Tournament!I5:I52<Tournament!H5:H52)*1) -> 0 | BA18: =SUMIFS(Tournament!H5:H52,Tournament!F5:F52,Y18,Tournament!K5:K52,Y19)+SUMIFS(Tournament!I5:I52,Tournament!K5:K52,Y18,Tournament!F5:F52,Y19) -> 0 | BB18: =SUMIFS(Tournament!I5:I52,Tournament!F5:F52,Y18,Tournament!K5:K52,Y19)+SUMIFS(Tournament!H5:H52,Tournament!K5:K52,Y18,Tournament!F5:F52,Y19) -> 0 | BC18: =BA18-BB18 -> 0 | BD18: =AY18*1+AX18*3 -> 0 | BE18: =IF(Y18<>"",SUMPRODUCT((AH16:AH19=AH18)*(BD16:BD19>BD18)*1),0) -> 0 | BF18: =IF(Y18<>"",SUMPRODUCT((BE16:BE19=BE18)*(BC16:BC19>BC18)*1),0) -> 0 | BG18: =BE18+BF18 -> 0 | BH18: =IF(Y18<>"",SUMPRODUCT((BG16:BG19=BG18)*(BE16:BE19=BE18)*(BA16:BA19>BA18)*1),0) -> 0 | BI18: =AW18+BG18+BH18 -> 1 | BJ18: =SUMPRODUCT((BI16:BI19=BI18)*(A16:A19>A18)*1) -> 0 | BK18: =BJ18+BI18 -> 1 | BO18: =Calculator!C15 -> Poland | BP18: BN18 | BR18: 12 | BS18: -6.5 | BU18: 12 | BV18: =BW18 -> 44888.917 | BW18: 44888.917 | BX18: =BW18+TimeZoneData/24 -> 44888.917 | BZ18: =INDEX(Language!A1:K117,MATCH(Setup!B19,Language!B1:B117,0),MATCH(Setup!C5,Language!A1:J1,0)) -> Poland
