Workbook
Name A1A2: 'Dummy Top Scorer'!$B$3:$B$54
Name A1A3: 'Dummy Top Scorer'!$B$57:$B$108
Name A1A4: 'Dummy Top Scorer'!$B$111:$B$162
Name A2A1: 'Dummy Top Scorer'!$C$3:$C$54
Name A2A3: 'Dummy Top Scorer'!$C$57:$C$108
Name A2A4: 'Dummy Top Scorer'!$C$111:$C$162
Name A3A1: 'Dummy Top Scorer'!$D$3:$D$54
Name A3A2: 'Dummy Top Scorer'!$D$57:$D$108
Name A3A4: 'Dummy Top Scorer'!$D$111:$D$162
Name A4A1: 'Dummy Top Scorer'!$E$3:$E$54
Name A4A2: 'Dummy Top Scorer'!$E$57:$E$108
Name A4A3: 'Dummy Top Scorer'!$E$111:$E$162
Name AC1C2: 'Dummy Top Scorer'!$J$3:$J$54
Name AC1C3: 'Dummy Top Scorer'!$J$57:$J$108
Name AC1C4: 'Dummy Top Scorer'!$J$111:$J$162
Name AC2C1: 'Dummy Top Scorer'!$K$3:$K$54
Name AC2C3: 'Dummy Top Scorer'!$K$57:$K$108
Name AC2C4: 'Dummy Top Scorer'!$K$111:$K$162
Name AC3C1: 'Dummy Top Scorer'!$L$3:$L$54
Name AC3C2: 'Dummy Top Scorer'!$L$57:$L$108
Name AC3C4: 'Dummy Top Scorer'!$L$111:$L$162
Name AC4C1: 'Dummy Top Scorer'!$M$3:$M$54
Name AC4C2: 'Dummy Top Scorer'!$M$57:$M$108
Name AC4C3: 'Dummy Top Scorer'!$M$111:$M$162
Name B1B2: 'Dummy Top Scorer'!$F$3:$F$54
Name B1B3: 'Dummy Top Scorer'!$F$57:$F$108
Name B1B4: 'Dummy Top Scorer'!$F$111:$F$162
Name B2B1: 'Dummy Top Scorer'!$G$3:$G$54
Name B2B3: 'Dummy Top Scorer'!$G$57:$G$108
Name B2B4: 'Dummy Top Scorer'!$G$111:$G$162
Name B3B1: 'Dummy Top Scorer'!$H$3:$H$54
Name B3B2: 'Dummy Top Scorer'!$H$57:$H$108
Name B3B4: 'Dummy Top Scorer'!$H$111:$H$162
Name B4B1: 'Dummy Top Scorer'!$I$3:$I$54
Name B4B2: 'Dummy Top Scorer'!$I$57:$I$108
Name B4B3: 'Dummy Top Scorer'!$I$111:$I$162
Name BIGQ11: 'Dummy Top Scorer'!$AZ$3:$AZ$54
Name BIGQ12: 'Dummy Top Scorer'!$BA$3:$BA$54
Name BIGQ21: 'Dummy Top Scorer'!$BB$3:$BB$54
Name BIGQ22: 'Dummy Top Scorer'!$BC$3:$BC$54
Name BIGQ31: 'Dummy Top Scorer'!$BD$3:$BD$54
Name BIGQ32: 'Dummy Top Scorer'!$BE$3:$BE$54
Name BIGQ41: 'Dummy Top Scorer'!$BF$3:$BF$54
Name BIGQ42: 'Dummy Top Scorer'!$BG$3:$BG$54
Name CountMax: 'Top Scorer'!$A$7
Name Countries: Language!$C$1:$J$1
Name D1D2: 'Dummy Top Scorer'!$N$3:$N$54
Name D1D3: 'Dummy Top Scorer'!$N$57:$N$108
Name D1D4: 'Dummy Top Scorer'!$N$111:$N$162
Name D2D1: 'Dummy Top Scorer'!$O$3:$O$54
Name D2D3: 'Dummy Top Scorer'!$O$57:$O$108
Name D2D4: 'Dummy Top Scorer'!$O$111:$O$162
Name D3D1: 'Dummy Top Scorer'!$P$3:$P$54
Name D3D2: 'Dummy Top Scorer'!$P$57:$P$108
Name D3D4: 'Dummy Top Scorer'!$P$111:$P$162
Name D4D1: 'Dummy Top Scorer'!$Q$3:$Q$54
Name D4D2: 'Dummy Top Scorer'!$Q$57:$Q$108
Name D4D3: 'Dummy Top Scorer'!$Q$111:$Q$162
Name E1E2: 'Dummy Top Scorer'!$R$3:$R$54
Name E1E3: 'Dummy Top Scorer'!$R$57:$R$108

Sheet Setup
B2: SETUP
B4: Time Difference with Qatar Time ► | C4: 0 | J4: ◄ | K4: Select your time preference by adding or subtracting your local time with Qatar time
B5: Language ► | C5: English | E5: FIFA World Ranking Points | F5: Fair Play Points | J5: ◄ | K5: Select your language. There are only 6 translated language. You can translate default English language to your own by typing its translation in column C. YOU NEED TO TRANSLATE ALL TEXTS FROM COLUMN B if you want to use your own translation.
B6: Custom Language Translation Title ► | C6: MY LANGUAGE | K6: Do not forget to select your Custom Language translation title in cell C5 to translate matches worksheet to your language after you filling all translation rows in column C
B7: Original Language (English) | C7: Your Language Translation | J7: ◄ | K7: FIFA World Ranking points for your reference only. Do not need to change.
B8: Senegal | D8:  | E8: 1584 | K8: Do not change or sort country order. It will break country reference formula
B9: Netherlands | D9:  | E9: 1658 | J9: ◄ | K9: You may need to type FAIR PLAY points if two or more teams in group standings have to go through tie-breaker 7 where their standings is decided by fair play point
B10: Qatar | D10:  | E10: 1441 | J10: TIE BREAKER REGULATION | L10: source : | M10: https://digitalhub.fifa.com/m/2744a0a5e3ded185/original/FIFA-World-Cup-Qatar-2022-Regulations_EN.pdf
B11: Ecuador | D11:  | E11: 1453 | J11: The ranking of teams in the group stage is determined as follows:
B12: England | D12:  | E12: 1762 | J12: 1 | K12: Points obtained in all group matches;
B13: Iran | D13:  | E13: 1564 | J13: 2 | K13: Goal difference in all group matches;
B14: United States | D14:  | E14: 1634 | J14: 3 | K14: Number of goals scored in all group matches;
B15: Wales | D15:  | E15: 1588 | J15: 4 | K15: Points obtained in the matches played between the teams in question;
B16: Argentina | D16:  | E16: 1765 | J16: 5 | K16: Goal difference in the matches played between the teams in question;
B17: Saudi Arabia | D17:  | E17: 1445 | J17: 6 | K17: Number of goals scored in the matches played between the teams in question;
B18: Mexico | D18:  | E18: 1659 | J18: 7 | K18: Fair play points in all group matches (only one deduction can be applied to a player in a single match):
B19: Poland | D19:  | E19: 1544 | K19: > Yellow card: −1 point;
B20: Denmark | D20:  | E20: 1654 | K20: > Indirect red card (second yellow card): −3 points;
B21: Tunisia | D21:  | E21: 1500 | K21: > Direct red card: −4 points;
B22: France | D22:  | E22: 1790 | K22: > Yellow card and direct red card: −5 points;
B23: Australia | D23:  | E23: 1462 | J23: 8 | K23: Drawing of lots.
B24: Germany | D24:  | E24: 1651
B25: Japan | D25:  | E25: 1553 | J25: You can watch youtube video below to see how this spreadsheet works
B26: Spain | D26:  | E26: 1709 | J26: https://www.youtube.com/watch?v=xl4FcUrubVQ
B27: Costa Rica | D27:  | E27: 1503
B28: Morocco | D28:  | E28: 1552
B29: Croatia | D29:  | E29: 1621
B30: Belgium | D30:  | E30: 1827
B31: Canada | D31:  | E31: 1479
B32: Switzerland | D32:  | E32: 1635
B33: Cameroon | D33:  | E33: 1480
B34: Brazil | D34:  | E34: 1833
B35: Serbia | D35:  | E35: 1548
B36: Uruguay | D36:  | E36: 1636
B37: South Korea | D37:  | E37: 1520
B38: Portugal | D38:  | E38: 1675
B39: Ghana | D39:  | E39: 1387
B40: Language | E40: *as of March 31st, 2022
B41: Timezone
B42: Group Stages
...

Sheet Tournament
B2: =UPPER(INDEX(Translation,MATCH("World Cup 2022 Fixtures",TransRef,0),MATCH(Setup!C5,LanguageRef,0))) -> WORLD CUP 2022 SCHEDULE | N2: CLICK HERE TO PURCHASE FULLY EDITABLE VERSION
B3: =INDEX(Translation,MATCH("Match #",TransRef,0),MATCH(Setup!C5,LanguageRef,0)) -> Match # | D3: =INDEX(Translation,MATCH("Date",TransRef,0),MATCH(Setup!C5,LanguageRef,0)) -> Date | E3: =INDEX(Translation,MATCH("Time",TransRef,0),MATCH(Setup!C5,LanguageRef,0)) -> Time | F3: =INDEX(Translation,MATCH("Country",TransRef,0),MATCH(Setup!C5,LanguageRef,0)) -> Country | H3: =INDEX(Translation,MATCH("Score",TransRef,0),MATCH(Setup!C5,LanguageRef,0)) -> Score | K3: =INDEX(Translation,MATCH("Country",TransRef,0),MATCH(Setup!C5,LanguageRef,0)) -> Country | N3: =INDEX(Translation,MATCH("Venue",TransRef,0),MATCH(Setup!C5,LanguageRef,0)) -> Venue | P3: =INDEX(Translation,MATCH("Standings",TransRef,0),MATCH(Setup!C5,LanguageRef,0)) -> Standings
B4: =INDEX(Translation,MATCH("Group Stages",TransRef,0),MATCH(Setup!C5,LanguageRef,0)) -> Group Stages | P4: =INDEX(Translation,MATCH("Group A",TransRef,0),MATCH(Setup!$C$5,LanguageRef,0)) -> Group A | R4: P | S4: W | T4: D | U4: L | V4: F - A | W4: Pt | AA4: Notes :
A5: 0 | B5: 1 | C5: A | D5: =E5 -> 44885.792 | E5: =Calculator!BX7 -> 44885.792 | F5: =INDEX(Translation,MATCH(Setup!B10,TransRef,0),MATCH(Setup!$C$5,LanguageRef,0)) -> Qatar | H5: =IF(OFFSET('Group Stages'!$H$7,A5,0)<>"",OFFSET('Group Stages'!$H$7,A5,0),"") | I5: =IF(OFFSET('Group Stages'!$H$8,A5,0)<>"",OFFSET('Group Stages'!$H$8,A5,0),"") | K5: =INDEX(Translation,MATCH(Setup!B11,TransRef,0),MATCH(Setup!$C$5,LanguageRef,0)) -> Ecuador | N5: Al Bayt | P5: 1 | Q5: =INDEX(Calculator!$U$4:$U$7,MATCH(1,Calculator!$BK$4:$BK$7,0),0) -> Netherlands | R5: =VLOOKUP($Q5,Calculator!$C$4:$K$35,2,FALSE) -> 0 | S5: =VLOOKUP($Q5,Calculator!$C$4:$K$35,3,FALSE) -> 0 | T5: =VLOOKUP($Q5,Calculator!$C$4:$K$35,4,FALSE) -> 0 | U5: =VLOOKUP($Q5,Calculator!$C$4:$K$35,5,FALSE) -> 0 | V5: =VLOOKUP($Q5,Calculator!$C$4:$K$35,6,FALSE)&" - "&VLOOKUP($Q5,Calculator!$C$4:$K$35,7,FALSE) -> 0 - 0 | W5: =VLOOKUP($Q5,Calculator!$C$4:$K$35,9,FALSE) -> 0 | AA5: MATCHES ARE SORTED BY MATCH TIME NOT MATCH NUMBER
A6: =A5+2 -> 2 | B6: 3 | C6: B | D6: =E6 -> 44886.667 | E6: =Calculator!BX8 -> 44886.667 | F6: =INDEX(Translation,MATCH(Setup!B12,TransRef,0),MATCH(Setup!$C$5,LanguageRef,0)) -> England | H6: =IF(OFFSET('Group Stages'!$H$7,A6,0)<>"",OFFSET('Group Stages'!$H$7,A6,0),"") | I6: =IF(OFFSET('Group Stages'!$H$8,A6,0)<>"",OFFSET('Group Stages'!$H$8,A6,0),"") | K6: =INDEX(Translation,MATCH(Setup!B13,TransRef,0),MATCH(Setup!$C$5,LanguageRef,0)) -> Iran | N6: Khalifa International | P6: 2 | Q6: =INDEX(Calculator!$U$4:$U$7,MATCH(2,Calculator!$BK$4:$BK$7,0),0) -> Senegal | R6: =VLOOKUP($Q6,Calculator!$C$4:$K$35,2,FALSE) -> 0 | S6: =VLOOKUP($Q6,Calculator!$C$4:$K$35,3,FALSE) -> 0 | T6: =VLOOKUP($Q6,Calculator!$C$4:$K$35,4,FALSE) -> 0 | U6: =VLOOKUP($Q6,Calculator!$C$4:$K$35,5,FALSE) -> 0 | V6: =VLOOKUP($Q6,Calculator!$C$4:$K$35,6,FALSE)&" - "&VLOOKUP($Q6,Calculator!$C$4:$K$35,7,FALSE) -> 0 - 0 | W6: =VLOOKUP($Q6,Calculator!$C$4:$K$35,9,FALSE) -> 0 | AA6: matches source reference : | AE6: https://www.fifa.com/tournaments/mens/worldcup/qatar2022/news/match-schedule-fwc22
A7: =A6+2 -> 4 | B7: 2 | C7: A | D7: =E7 -> 44886.792 | E7: =Calculator!BX9 -> 44886.792 | F7: =INDEX(Translation,MATCH(Setup!B8,TransRef,0),MATCH(Setup!$C$5,LanguageRef,0)) -> Senegal | H7: =IF(OFFSET('Group Stages'!$H$7,A7,0)<>"",OFFSET('Group Stages'!$H$7,A7,0),"") | I7: =IF(OFFSET('Group Stages'!$H$8,A7,0)<>"",OFFSET('Group Stages'!$H$8,A7,0),"") | K7: =INDEX(Translation,MATCH(Setup!B9,TransRef,0),MATCH(Setup!$C$5,LanguageRef,0)) -> Netherlands | N7: Al Thumama | P7: 3 | Q7: =INDEX(Calculator!$U$4:$U$7,MATCH(3,Calculator!$BK$4:$BK$7,0),0) -> Ecuador | R7: =VLOOKUP($Q7,Calculator!$C$4:$K$35,2,FALSE) -> 0 | S7: =VLOOKUP($Q7,Calculator!$C$4:$K$35,3,FALSE) -> 0 | T7: =VLOOKUP($Q7,Calculator!$C$4:$K$35,4,FALSE) -> 0 | U7: =VLOOKUP($Q7,Calculator!$C$4:$K$35,5,FALSE) -> 0 | V7: =VLOOKUP($Q7,Calculator!$C$4:$K$35,6,FALSE)&" - "&VLOOKUP($Q7,Calculator!$C$4:$K$35,7,FALSE) -> 0 - 0 | W7: =VLOOKUP($Q7,Calculator!$C$4:$K$35,9,FALSE) -> 0 | AA7: DO NOT SORT MATCHES BY MATCH NUMBER. IT WILL BREAK COUNTRY REFERENCE FORMULA
A8: =A7+2 -> 6 | B8: 4 | C8: B | D8: =E8 -> 44886.917 | E8: =Calculator!BX10 -> 44886.917 | F8: =INDEX(Translation,MATCH(Setup!B14,TransRef,0),MATCH(Setup!$C$5,LanguageRef,0)) -> United States | H8: =IF(OFFSET('Group Stages'!$H$7,A8,0)<>"",OFFSET('Group Stages'!$H$7,A8,0),"") | I8: =IF(OFFSET('Group Stages'!$H$8,A8,0)<>"",OFFSET('Group Stages'!$H$8,A8,0),"") | K8: =INDEX(Translation,MATCH(Setup!B15,TransRef,0),MATCH(Setup!$C$5,LanguageRef,0)) -> Wales | N8: Ahmad Bin Ali | P8: 4 | Q8: =INDEX(Calculator!$U$4:$U$7,MATCH(4,Calculator!$BK$4:$BK$7,0),0) -> Qatar | R8: =VLOOKUP($Q8,Calculator!$C$4:$K$35,2,FALSE) -> 0 | S8: =VLOOKUP($Q8,Calculator!$C$4:$K$35,3,FALSE) -> 0 | T8: =VLOOKUP($Q8,Calculator!$C$4:$K$35,4,FALSE) -> 0 | U8: =VLOOKUP($Q8,Calculator!$C$4:$K$35,5,FALSE) -> 0 | V8: =VLOOKUP($Q8,Calculator!$C$4:$K$35,6,FALSE)&" - "&VLOOKUP($Q8,Calculator!$C$4:$K$35,7,FALSE) -> 0 - 0 | W8: =VLOOKUP($Q8,Calculator!$C$4:$K$35,9,FALSE) -> 0 | AA8: ● | AB8: Fill full time scores in column H and I
A9: =A8+2 -> 8 | B9: 8 | C9: C | D9: =E9 -> 44887.542 | E9: =Calculator!BX11 -> 44887.542 | F9: =INDEX(Translation,MATCH(Setup!B16,TransRef,0),MATCH(Setup!$C$5,LanguageRef,0)) -> Argentina | H9: =IF(OFFSET('Group Stages'!$H$7,A9,0)<>"",OFFSET('Group Stages'!$H$7,A9,0),"") | I9: =IF(OFFSET('Group Stages'!$H$8,A9,0)<>"",OFFSET('Group Stages'!$H$8,A9,0),"") | K9: =INDEX(Translation,MATCH(Setup!B17,TransRef,0),MATCH(Setup!$C$5,LanguageRef,0)) -> Saudi Arabia | N9: Lusail | AA9: ● | AB9: Fill penalty shoot out scores in column L and M
A10: =A9+2 -> 10 | B10: 6 | C10: D | D10: =E10 -> 44887.667 | E10: =Calculator!BX12 -> 44887.667 | F10: =INDEX(Translation,MATCH(Setup!B20,TransRef,0),MATCH(Setup!$C$5,LanguageRef,0)) -> Denmark | H10: =IF(OFFSET('Group Stages'!$H$7,A10,0)<>"",OFFSET('Group Stages'!$H$7,A10,0),"") | I10: =IF(OFFSET('Group Stages'!$H$8,A10,0)<>"",OFFSET('Group Stages'!$H$8,A10,0),"") | K10: =INDEX(Translation,MATCH(Setup!B21,TransRef,0),MATCH(Setup!$C$5,LanguageRef,0)) -> Tunisia | N10: Education City | P10: =INDEX(Translation,MATCH("Group B",TransRef,0),MATCH(Setup!$C$5,LanguageRef,0)) -> Group B | R10: P | S10: W | T10: D | U10: L | V10: F - A | W10: Pt | AA10: ● | AB10: Group standings will be calculated automatically based on official FIFA World Cup Tie Breaker regulation
A11: =A10+2 -> 12 | B11: 7 | C11: C | D11: =E11 -> 44887.792 | E11: =Calculator!BX13 -> 44887.792 | F11: =INDEX(Translation,MATCH(Setup!B18,TransRef,0),MATCH(Setup!$C$5,LanguageRef,0)) -> Mexico | H11: =IF(OFFSET('Group Stages'!$H$7,A11,0)<>"",OFFSET('Group Stages'!$H$7,A11,0),"") | I11: =IF(OFFSET('Group Stages'!$H$8,A11,0)<>"",OFFSET('Group Stages'!$H$8,A11,0),"") | K11: =INDEX(Translation,MATCH(Setup!B19,TransRef,0),MATCH(Setup!$C$5,LanguageRef,0)) -> Poland | N11: Stadium 974 | P11: 1 | Q11: =INDEX(Calculator!$U$8:$U$11,MATCH(1,Calculator!$BK$8:$BK$11,0),0) -> England | R11: =VLOOKUP($Q11,Calculator!$C$4:$K$35,2,FALSE) -> 0 | S11: =VLOOKUP($Q11,Calculator!$C$4:$K$35,3,FALSE) -> 0 | T11: =VLOOKUP($Q11,Calculator!$C$4:$K$35,4,FALSE) -> 0 | U11: =VLOOKUP($Q11,Calculator!$C$4:$K$35,5,FALSE) -> 0 | V11: =VLOOKUP($Q11,Calculator!$C$4:$K$35,6,FALSE)&" - "&VLOOKUP($Q11,Calculator!$C$4:$K$35,7,FALSE) -> 0 - 0 | W11: =VLOOKUP($Q11,Calculator!$C$4:$K$35,9,FALSE) -> 0 | AA11: ● | AB11: Pairing teams in Knock Out rounds will be placed automatically
A12: =A11+2 -> 14 | B12: 5 | C12: D | D12: =E12 -> 44887.917 | E12: =Calculator!BX14 -> 44887.917 | F12: =INDEX(Translation,MATCH(Setup!B22,TransRef,0),MATCH(Setup!$C$5,LanguageRef,0)) -> France | H12: =IF(OFFSET('Group Stages'!$H$7,A12,0)<>"",OFFSET('Group Stages'!$H$7,A12,0),"") | I12: =IF(OFFSET('Group Stages'!$H$8,A12,0)<>"",OFFSET('Group Stages'!$H$8,A12,0),"") | K12: =INDEX(Translation,MATCH(Setup!B23,TransRef,0),MATCH(Setup!$C$5,LanguageRef,0)) -> Australia | N12: Al Janoub | P12: 2 | Q12: =INDEX(Calculator!$U$8:$U$11,MATCH(2,Calculator!$BK$8:$BK$11,0),0) -> United States | R12: =VLOOKUP($Q12,Calculator!$C$4:$K$35,2,FALSE) -> 0 | S12: =VLOOKUP($Q12,Calculator!$C$4:$K$35,3,FALSE) -> 0 | T12: =VLOOKUP($Q12,Calculator!$C$4:$K$35,4,FALSE) -> 0 | U12: =VLOOKUP($Q12,Calculator!$C$4:$K$35,5,FALSE) -> 0 | V12: =VLOOKUP($Q12,Calculator!$C$4:$K$35,6,FALSE)&" - "&VLOOKUP($Q12,Calculator!$C$4:$K$35,7,FALSE) -> 0 - 0 | W12: =VLOOKUP($Q12,Calculator!$C$4:$K$35,9,FALSE) -> 0 | AA12: Color meaning :
A13: =A12+2 -> 16 | B13: 12 | C13: F | D13: =E13 -> 44888.542 | E13: =Calculator!BX15 -> 44888.542 | F13: =INDEX(Translation,MATCH(Setup!B28,TransRef,0),MATCH(Setup!$C$5,LanguageRef,0)) -> Morocco | H13: =IF(OFFSET('Group Stages'!$H$7,A13,0)<>"",OFFSET('Group Stages'!$H$7,A13,0),"") | I13: =IF(OFFSET('Group Stages'!$H$8,A13,0)<>"",OFFSET('Group Stages'!$H$8,A13,0),"") | K13: =INDEX(Translation,MATCH(Setup!B29,TransRef,0),MATCH(Setup!$C$5,LanguageRef,0)) -> Croatia | N13: Al Bayt | P13: 3 | Q13: =INDEX(Calculator!$U$8:$U$11,MATCH(3,Calculator!$BK$8:$BK$11,0),0) -> Wales | R13: =VLOOKUP($Q13,Calculator!$C$4:$K$35,2,FALSE) -> 0 | S13: =VLOOKUP($Q13,Calculator!$C$4:$K$35,3,FALSE) -> 0 | T13: =VLOOKUP($Q13,Calculator!$C$4:$K$35,4,FALSE) -> 0 | U13: =VLOOKUP($Q13,Calculator!$C$4:$K$35,5,FALSE) -> 0 | V13: =VLOOKUP($Q13,Calculator!$C$4:$K$35,6,FALSE)&" - "&VLOOKUP($Q13,Calculator!$C$4:$K$35,7,FALSE) -> 0 - 0 | W13: =VLOOKUP($Q13,Calculator!$C$4:$K$35,9,FALSE) -> 0 | AB13: Team Name | AD13: Won in Group Stages
A14: =A13+2 -> 18 | B14: 11 | C14: E | D14: =E14 -> 44888.667 | E14: =Calculator!BX16 -> 44888.667 | F14: =INDEX(Translation,MATCH(Setup!B24,TransRef,0),MATCH(Setup!$C$5,LanguageRef,0)) -> Germany | H14: =IF(OFFSET('Group Stages'!$H$7,A14,0)<>"",OFFSET('Group Stages'!$H$7,A14,0),"") | I14: =IF(OFFSET('Group Stages'!$H$8,A14,0)<>"",OFFSET('Group Stages'!$H$8,A14,0),"") | K14: =INDEX(Translation,MATCH(Setup!B25,TransRef,0),MATCH(Setup!$C$5,LanguageRef,0)) -> Japan | N14: Khalifa International | P14: 4 | Q14: =INDEX(Calculator!$U$8:$U$11,MATCH(4,Calculator!$BK$8:$BK$11,0),0) -> Iran | R14: =VLOOKUP($Q14,Calculator!$C$4:$K$35,2,FALSE) -> 0 | S14: =VLOOKUP($Q14,Calculator!$C$4:$K$35,3,FALSE) -> 0 | T14: =VLOOKUP($Q14,Calculator!$C$4:$K$35,4,FALSE) -> 0 | U14: =VLOOKUP($Q14,Calculator!$C$4:$K$35,5,FALSE) -> 0 | V14: =VLOOKUP($Q14,Calculator!$C$4:$K$35,6,FALSE)&" - "&VLOOKUP($Q14,Calculator!$C$4:$K$35,7,FALSE) -> 0 - 0 | W14: =VLOOKUP($Q14,Calculator!$C$4:$K$35,9,FALSE) -> 0 | AB14: Team Name | AD14: Won by KO Rounds
A15: =A14+2 -> 20 | B15: 10 | C15: E | D15: =E15 -> 44888.792 | E15: =Calculator!BX17 -> 44888.792 | F15: =INDEX(Translation,MATCH(Setup!B26,TransRef,0),MATCH(Setup!$C$5,LanguageRef,0)) -> Spain | H15: =IF(OFFSET('Group Stages'!$H$7,A15,0)<>"",OFFSET('Group Stages'!$H$7,A15,0),"") | I15: =IF(OFFSET('Group Stages'!$H$8,A15,0)<>"",OFFSET('Group Stages'!$H$8,A15,0),"") | K15: =INDEX(Translation,MATCH(Setup!B27,TransRef,0),MATCH(Setup!$C$5,LanguageRef,0)) -> Costa Rica | N15: Al Thumama | AB15: Team Name | AD15: Lose in Group and KO Stages
A16: =A15+2 -> 22 | B16: 9 | C16: F | D16: =E16 -> 44888.917 | E16: =Calculator!BX18 -> 44888.917 | F16: =INDEX(Translation,MATCH(Setup!B30,TransRef,0),MATCH(Setup!$C$5,LanguageRef,0)) -> Belgium | H16: =IF(OFFSET('Group Stages'!$H$7,A16,0)<>"",OFFSET('Group Stages'!$H$7,A16,0),"") | I16: =IF(OFFSET('Group Stages'!$H$8,A16,0)<>"",OFFSET('Group Stages'!$H$8,A16,0),"") | K16: =INDEX(Translation,MATCH(Setup!B31,TransRef,0),MATCH(Setup!$C$5,LanguageRef,0)) -> Canada | N16: Ahmad Bin Ali | P16: =INDEX(Translation,MATCH("Group C",TransRef,0),MATCH(Setup!$C$5,LanguageRef,0)) -> Group C | R16: P | S16: W | T16: D | U16: L | V16: F - A | W16: Pt
A17: =A16+2 -> 24 | B17: 13 | C17: G | D17: =E17 -> 44889.542 | E17: =Calculator!BX19 -> 44889.542 | F17: =INDEX(Translation,MATCH(Setup!B32,TransRef,0),MATCH(Setup!$C$5,LanguageRef,0)) -> Switzerland | H17: =IF(OFFSET('Group Stages'!$H$7,A17,0)<>"",OFFSET('Group Stages'!$H$7,A17,0),"") | I17: =IF(OFFSET('Group Stages'!$H$8,A17,0)<>"",OFFSET('Group Stages'!$H$8,A17,0),"") | K17: =INDEX(Translation,MATCH(Setup!B33,TransRef,0),MATCH(Setup!$C$5,LanguageRef,0)) -> Cameroon | N17: Al Janoub | P17: 1 | Q17: =INDEX(Calculator!$U$12:$U$15,MATCH(1,Calculator!$BK$12:$BK$15,0),0) -> Argentina | R17: =VLOOKUP($Q17,Calculator!$C$4:$K$35,2,FALSE) -> 0 | S17: =VLOOKUP($Q17,Calculator!$C$4:$K$35,3,FALSE) -> 0 | T17: =VLOOKUP($Q17,Calculator!$C$4:$K$35,4,FALSE) -> 0 | U17: =VLOOKUP($Q17,Calculator!$C$4:$K$35,5,FALSE) -> 0 | V17: =VLOOKUP($Q17,Calculator!$C$4:$K$35,6,FALSE)&" - "&VLOOKUP($Q17,Calculator!$C$4:$K$35,7,FALSE) -> 0 - 0 | W17: =VLOOKUP($Q17,Calculator!$C$4:$K$35,9,FALSE) -> 0
A18: =A17+2 -> 26 | B18: 14 | C18: H | D18: =E18 -> 44889.667 | E18: =Calculator!BX20 -> 44889.667 | F18: =INDEX(Translation,MATCH(Setup!B36,TransRef,0),MATCH(Setup!$C$5,LanguageRef,0)) -> Uruguay | H18: =IF(OFFSET('Group Stages'!$H$7,A18,0)<>"",OFFSET('Group Stages'!$H$7,A18,0),"") | I18: =IF(OFFSET('Group Stages'!$H$8,A18,0)<>"",OFFSET('Group Stages'!$H$8,A18,0),"") | K18: =INDEX(Translation,MATCH(Setup!B37,TransRef,0),MATCH(Setup!$C$5,LanguageRef,0)) -> South Korea | N18: Education City | P18: 2 | Q18: =INDEX(Calculator!$U$12:$U$15,MATCH(2,Calculator!$BK$12:$BK$15,0),0) -> Mexico | R18: =VLOOKUP($Q18,Calculator!$C$4:$K$35,2,FALSE) -> 0 | S18: =VLOOKUP($Q18,Calculator!$C$4:$K$35,3,FALSE) -> 0 | T18: =VLOOKUP($Q18,Calculator!$C$4:$K$35,4,FALSE) -> 0 | U18: =VLOOKUP($Q18,Calculator!$C$4:$K$35,5,FALSE) -> 0 | V18: =VLOOKUP($Q18,Calculator!$C$4:$K$35,6,FALSE)&" - "&VLOOKUP($Q18,Calculator!$C$4:$K$35,7,FALSE) -> 0 - 0 | W18: =VLOOKUP($Q18,Calculator!$C$4:$K$35,9,FALSE) -> 0
A19: =A18+2 -> 28 | B19: 15 | C19: H | D19: =E19 -> 44889.792 | E19: =Calculator!BX21 -> 44889.792 | F19: =INDEX(Translation,MATCH(Setup!B38,TransRef,0),MATCH(Setup!$C$5,LanguageRef,0)) -> Portugal | H19: =IF(OFFSET('Group Stages'!$H$7,A19,0)<>"",OFFSET('Group Stages'!$H$7,A19,0),"") | I19: =IF(OFFSET('Group Stages'!$H$8,A19,0)<>"",OFFSET('Group Stages'!$H$8,A19,0),"") | K19: =INDEX(Translation,MATCH(Setup!B39,TransRef,0),MATCH(Setup!$C$5,LanguageRef,0)) -> Ghana | N19: Stadium 974 | P19: 3 | Q19: =INDEX(Calculator!$U$12:$U$15,MATCH(3,Calculator!$BK$12:$BK$15,0),0) -> Poland | R19: =VLOOKUP($Q19,Calculator!$C$4:$K$35,2,FALSE) -> 0 | S19: =VLOOKUP($Q19,Calculator!$C$4:$K$35,3,FALSE) -> 0 | T19: =VLOOKUP($Q19,Calculator!$C$4:$K$35,4,FALSE) -> 0 | U19: =VLOOKUP($Q19,Calculator!$C$4:$K$35,5,FALSE) -> 0 | V19: =VLOOKUP($Q19,Calculator!$C$4:$K$35,6,FALSE)&" - "&VLOOKUP($Q19,Calculator!$C$4:$K$35,7,FALSE) -> 0 - 0 | W19: =VLOOKUP($Q19,Calculator!$C$4:$K$35,9,FALSE) -> 0
A20: =A19+2 -> 30 | B20: 16 | C20: G | D20: =E20 -> 44889.917 | E20: =Calculator!BX22 -> 44889.917 | F20: =INDEX(Translation,MATCH(Setup!B34,TransRef,0),MATCH(Setup!$C$5,LanguageRef,0)) -> Brazil | H20: =IF(OFFSET('Group Stages'!$H$7,A20,0)<>"",OFFSET('Group Stages'!$H$7,A20,0),"") | I20: =IF(OFFSET('Group Stages'!$H$8,A20,0)<>"",OFFSET('Group Stages'!$H$8,A20,0),"") | K20: =INDEX(Translation,MATCH(Setup!B35,TransRef,0),MATCH(Setup!$C$5,LanguageRef,0)) -> Serbia | N20: Lusail | P20: 4 | Q20: =INDEX(Calculator!$U$12:$U$15,MATCH(4,Calculator!$BK$12:$BK$15,0),0) -> Saudi Arabia | R20: =VLOOKUP($Q20,Calculator!$C$4:$K$35,2,FALSE) -> 0 | S20: =VLOOKUP($Q20,Calculator!$C$4:$K$35,3,FALSE) -> 0 | T20: =VLOOKUP($Q20,Calculator!$C$4:$K$35,4,FALSE) -> 0 | U20: =VLOOKUP($Q20,Calculator!$C$4:$K$35,5,FALSE) -> 0 | V20: =VLOOKUP($Q20,Calculator!$C$4:$K$35,6,FALSE)&" - "&VLOOKUP($Q20,Calculator!$C$4:$K$35,7,FALSE) -> 0 - 0 | W20: =VLOOKUP($Q20,Calculator!$C$4:$K$35,9,FALSE) -> 0
A21: =A20+2 -> 32 | B21: 17 | C21: B | D21: =E21 -> 44890.542 | E21: =Calculator!BX23 -> 44890.542 | F21: =K8 -> Wales | H21: =IF(OFFSET('Group Stages'!$H$7,A21,0)<>"",OFFSET('Group Stages'!$H$7,A21,0),"") | I21: =IF(OFFSET('Group Stages'!$H$8,A21,0)<>"",OFFSET('Group Stages'!$H$8,A21,0),"") | K21: =K6 -> Iran | N21: Ahmad Bin Ali
A22: =A21+2 -> 34 | B22: 18 | C22: A | D22: =E22 -> 44890.667 | E22: =Calculator!BX24 -> 44890.667 | F22: =F5 -> Qatar | H22: =IF(OFFSET('Group Stages'!$H$7,A22,0)<>"",OFFSET('Group Stages'!$H$7,A22,0),"") | I22: =IF(OFFSET('Group Stages'!$H$8,A22,0)<>"",OFFSET('Group Stages'!$H$8,A22,0),"") | K22: =F7 -> Senegal | N22: Al Thumama | P22: =INDEX(Translation,MATCH("Group D",TransRef,0),MATCH(Setup!$C$5,LanguageRef,0)) -> Group D | R22: P | S22: W | T22: D | U22: L | V22: F - A | W22: Pt
A23: =A22+2 -> 36 | B23: 19 | C23: A | D23: =E23 -> 44890.792 | E23: =Calculator!BX25 -> 44890.792 | F23: =K7 -> Netherlands | H23: =IF(OFFSET('Group Stages'!$H$7,A23,0)<>"",OFFSET('Group Stages'!$H$7,A23,0),"") | I23: =IF(OFFSET('Group Stages'!$H$8,A23,0)<>"",OFFSET('Group Stages'!$H$8,A23,0),"") | K23: =K5 -> Ecuador | N23: Khalifa International | P23: 1 | Q23: =INDEX(Calculator!$U$16:$U$19,MATCH(1,Calculator!$BK$16:$BK$19,0),0) -> France | R23: =VLOOKUP($Q23,Calculator!$C$4:$K$35,2,FALSE) -> 0 | S23: =VLOOKUP($Q23,Calculator!$C$4:$K$35,3,FALSE) -> 0 | T23: =VLOOKUP($Q23,Calculator!$C$4:$K$35,4,FALSE) -> 0 | U23: =VLOOKUP($Q23,Calculator!$C$4:$K$35,5,FALSE) -> 0 | V23: =VLOOKUP($Q23,Calculator!$C$4:$K$35,6,FALSE)&" - "&VLOOKUP($Q23,Calculator!$C$4:$K$35,7,FALSE) -> 0 - 0 | W23: =VLOOKUP($Q23,Calculator!$C$4:$K$35,9,FALSE) -> 0
A24: =A23+2 -> 38 | B24: 20 | C24: B | D24: =E24 -> 44890.917 | E24: =Calculator!BX26 -> 44890.917 | F24: =F6 -> England | H24: =IF(OFFSET('Group Stages'!$H$7,A24,0)<>"",OFFSET('Group Stages'!$H$7,A24,0),"") | I24: =IF(OFFSET('Group Stages'!$H$8,A24,0)<>"",OFFSET('Group Stages'!$H$8,A24,0),"") | K24: =F8 -> United States | N24: Al Bayt | P24: 2 | Q24: =INDEX(Calculator!$U$16:$U$19,MATCH(2,Calculator!$BK$16:$BK$19,0),0) -> Denmark | R24: =VLOOKUP($Q24,Calculator!$C$4:$K$35,2,FALSE) -> 0 | S24: =VLOOKUP($Q24,Calculator!$C$4:$K$35,3,FALSE) -> 0 | T24: =VLOOKUP($Q24,Calculator!$C$4:$K$35,4,FALSE) -> 0 | U24: =VLOOKUP($Q24,Calculator!$C$4:$K$35,5,FALSE) -> 0 | V24: =VLOOKUP($Q24,Calculator!$C$4:$K$35,6,FALSE)&" - "&VLOOKUP($Q24,Calculator!$C$4:$K$35,7,FALSE) -> 0 - 0 | W24: =VLOOKUP($Q24,Calculator!$C$4:$K$35,9,FALSE) -> 0
A25: =A24+2 -> 40 | B25: 21 | C25: D | D25: =E25 -> 44891.542 | E25: =Calculator!BX27 -> 44891.542 | F25: =K10 -> Tunisia | H25: =IF(OFFSET('Group Stages'!$H$7,A25,0)<>"",OFFSET('Group Stages'!$H$7,A25,0),"") | I25: =IF(OFFSET('Group Stages'!$H$8,A25,0)<>"",OFFSET('Group Stages'!$H$8,A25,0),"") | K25: =K12 -> Australia | N25: Al Janoub | P25: 3 | Q25: =INDEX(Calculator!$U$16:$U$19,MATCH(3,Calculator!$BK$16:$BK$19,0),0) -> Tunisia | R25: =VLOOKUP($Q25,Calculator!$C$4:$K$35,2,FALSE) -> 0 | S25: =VLOOKUP($Q25,Calculator!$C$4:$K$35,3,FALSE) -> 0 | T25: =VLOOKUP($Q25,Calculator!$C$4:$K$35,4,FALSE) -> 0 | U25: =VLOOKUP($Q25,Calculator!$C$4:$K$35,5,FALSE) -> 0 | V25: =VLOOKUP($Q25,Calculator!$C$4:$K$35,6,FALSE)&" - "&VLOOKUP($Q25,Calculator!$C$4:$K$35,7,FALSE) -> 0 - 0 | W25: =VLOOKUP($Q25,Calculator!$C$4:$K$35,9,FALSE) -> 0
A26: =A25+2 -> 42 | B26: 22 | C26: C | D26: =E26 -> 44891.667 | E26: =Calculator!BX28 -> 44891.667 | F26: =K11 -> Poland | H26: =IF(OFFSET('Group Stages'!$H$7,A26,0)<>"",OFFSET('Group Stages'!$H$7,A26,0),"") | I26: =IF(OFFSET('Group Stages'!$H$8,A26,0)<>"",OFFSET('Group Stages'!$H$8,A26,0),"") | K26: =K9 -> Saudi Arabia | N26: Education City | P26: 4 | Q26: =INDEX(Calculator!$U$16:$U$19,MATCH(4,Calculator!$BK$16:$BK$19,0),0) -> Australia | R26: =VLOOKUP($Q26,Calculator!$C$4:$K$35,2,FALSE) -> 0 | S26: =VLOOKUP($Q26,Calculator!$C$4:$K$35,3,FALSE) -> 0 | T26: =VLOOKUP($Q26,Calculator!$C$4:$K$35,4,FALSE) -> 0 | U26: =VLOOKUP($Q26,Calculator!$C$4:$K$35,5,FALSE) -> 0 | V26: =VLOOKUP($Q26,Calculator!$C$4:$K$35,6,FALSE)&" - "&VLOOKUP($Q26,Calculator!$C$4:$K$35,7,FALSE) -> 0 - 0 | W26: =VLOOKUP($Q26,Calculator!$C$4:$K$35,9,FALSE) -> 0
A27: =A26+2 -> 44 | B27: 23 | C27: D | D27: =E27 -> 44891.792 | E27: =Calculator!BX29 -> 44891.792 | F27: =F12 -> France | H27: =IF(OFFSET('Group Stages'!$H$7,A27,0)<>"",OFFSET('Group Stages'!$H$7,A27,0),"") | I27: =IF(OFFSET('Group Stages'!$H$8,A27,0)<>"",OFFSET('Group Stages'!$H$8,A27,0),"") | K27: =F10 -> Denmark | N27: Stadium 974
A28: =A27+2 -> 46 | B28: 24 | C28: C | D28: =E28 -> 44891.917 | E28: =Calculator!BX30 -> 44891.917 | F28: =F9 -> Argentina | H28: =IF(OFFSET('Group Stages'!$H$7,A28,0)<>"",OFFSET('Group Stages'!$H$7,A28,0),"") | I28: =IF(OFFSET('Group Stages'!$H$8,A28,0)<>"",OFFSET('Group Stages'!$H$8,A28,0),"") | K28: =F11 -> Mexico | N28: Lusail | P28: =INDEX(Translation,MATCH("Group E",TransRef,0),MATCH(Setup!$C$5,LanguageRef,0)) -> Group E | R28: P | S28: W | T28: D | U28: L | V28: F - A | W28: Pt
A29: =A28+2 -> 48 | B29: 25 | C29: E | D29: =E29 -> 44892.542 | E29: =Calculator!BX31 -> 44892.542 | F29: =K14 -> Japan | H29: =IF(OFFSET('Group Stages'!$H$7,A29,0)<>"",OFFSET('Group Stages'!$H$7,A29,0),"") | I29: =IF(OFFSET('Group Stages'!$H$8,A29,0)<>"",OFFSET('Group Stages'!$H$8,A29,0),"") | K29: =K15 -> Costa Rica | N29: Ahmad Bin Ali | P29: 1 | Q29: =INDEX(Calculator!$U$20:$U$23,MATCH(1,Calculator!$BK$20:$BK$23,0),0) -> Spain | R29: =VLOOKUP($Q29,Calculator!$C$4:$K$35,2,FALSE) -> 0 | S29: =VLOOKUP($Q29,Calculator!$C$4:$K$35,3,FALSE) -> 0 | T29: =VLOOKUP($Q29,Calculator!$C$4:$K$35,4,FALSE) -> 0 | U29: =VLOOKUP($Q29,Calculator!$C$4:$K$35,5,FALSE) -> 0 | V29: =VLOOKUP($Q29,Calculator!$C$4:$K$35,6,FALSE)&" - "&VLOOKUP($Q29,Calculator!$C$4:$K$35,7,FALSE) -> 0 - 0 | W29: =VLOOKUP($Q29,Calculator!$C$4:$K$35,9,FALSE) -> 0
A30: =A29+2 -> 50 | B30: 26 | C30: F | D30: =E30 -> 44892.667 | E30: =Calculator!BX32 -> 44892.667 | F30: =F16 -> Belgium | H30: =IF(OFFSET('Group Stages'!$H$7,A30,0)<>"",OFFSET('Group Stages'!$H$7,A30,0),"") | I30: =IF(OFFSET('Group Stages'!$H$8,A30,0)<>"",OFFSET('Group Stages'!$H$8,A30,0),"") | K30: =F13 -> Morocco | N30: Al Thumama | P30: 2 | Q30: =INDEX(Calculator!$U$20:$U$23,MATCH(2,Calculator!$BK$20:$BK$23,0),0) -> Germany | R30: =VLOOKUP($Q30,Calculator!$C$4:$K$35,2,FALSE) -> 0 | S30: =VLOOKUP($Q30,Calculator!$C$4:$K$35,3,FALSE) -> 0 | T30: =VLOOKUP($Q30,Calculator!$C$4:$K$35,4,FALSE) -> 0 | U30: =VLOOKUP($Q30,Calculator!$C$4:$K$35,5,FALSE) -> 0 | V30: =VLOOKUP($Q30,Calculator!$C$4:$K$35,6,FALSE)&" - "&VLOOKUP($Q30,Calculator!$C$4:$K$35,7,FALSE) -> 0 - 0 | W30: =VLOOKUP($Q30,Calculator!$C$4:$K$35,9,FALSE) -> 0
A31: =A30+2 -> 52 | B31: 27 | C31: F | D31: =E31 -> 44892.792 | E31: =Calculator!BX33 -> 44892.792 | F31: =K13 -> Croatia | H31: =IF(OFFSET('Group Stages'!$H$7,A31,0)<>"",OFFSET('Group Stages'!$H$7,A31,0),"") | I31: =IF(OFFSET('Group Stages'!$H$8,A31,0)<>"",OFFSET('Group Stages'!$H$8,A31,0),"") | K31: =K16 -> Canada | N31: Khalifa International | P31: 3 | Q31: =INDEX(Calculator!$U$20:$U$23,MATCH(3,Calculator!$BK$20:$BK$23,0),0) -> Japan | R31: =VLOOKUP($Q31,Calculator!$C$4:$K$35,2,FALSE) -> 0 | S31: =VLOOKUP($Q31,Calculator!$C$4:$K$35,3,FALSE) -> 0 | T31: =VLOOKUP($Q31,Calculator!$C$4:$K$35,4,FALSE) -> 0 | U31: =VLOOKUP($Q31,Calculator!$C$4:$K$35,5,FALSE) -> 0 | V31: =VLOOKUP($Q31,Calculator!$C$4:$K$35,6,FALSE)&" - "&VLOOKUP($Q31,Calculator!$C$4:$K$35,7,FALSE) -> 0 - 0 | W31: =VLOOKUP($Q31,Calculator!$C$4:$K$35,9,FALSE) -> 0
A32: =A31+2 -> 54 | B32: 28 | C32: E | D32: =E32 -> 44892.917 | E32: =Calculator!BX34 -> 44892.917 | F32: =F15 -> Spain | H32: =IF(OFFSET('Group Stages'!$H$7,A32,0)<>"",OFFSET('Group Stages'!$H$7,A32,0),"") | I32: =IF(OFFSET('Group Stages'!$H$8,A32,0)<>"",OFFSET('Group Stages'!$H$8,A32,0),"") | K32: =F14 -> Germany | N32: Al Bayt | P32: 4 | Q32: =INDEX(Calculator!$U$20:$U$23,MATCH(4,Calculator!$BK$20:$BK$23,0),0) -> Costa Rica | R32: =VLOOKUP($Q32,Calculator!$C$4:$K$35,2,FALSE) -> 0 | S32: =VLOOKUP($Q32,Calculator!$C$4:$K$35,3,FALSE) -> 0 | T32: =VLOOKUP($Q32,Calculator!$C$4:$K$35,4,FALSE) -> 0 | U32: =VLOOKUP($Q32,Calculator!$C$4:$K$35,5,FALSE) -> 0 | V32: =VLOOKUP($Q32,Calculator!$C$4:$K$35,6,FALSE)&" - "&VLOOKUP($Q32,Calculator!$C$4:$K$35,7,FALSE) -> 0 - 0 | W32: =VLOOKUP($Q32,Calculator!$C$4:$K$35,9,FALSE) -> 0
A33: =A32+2 -> 56 | B33: 29 | C33: G | D33: =E33 -> 44893.542 | E33: =Calculator!BX35 -> 44893.542 | F33: =K17 -> Cameroon | H33: =IF(OFFSET('Group Stages'!$H$7,A33,0)<>"",OFFSET('Group Stages'!$H$7,A33,0),"") | I33: =IF(OFFSET('Group Stages'!$H$8,A33,0)<>"",OFFSET('Group Stages'!$H$8,A33,0),"") | K33: =K20 -> Serbia | N33: Al Janoub
A34: =A33+2 -> 58 | B34: 30 | C34: H | D34: =E34 -> 44893.667 | E34: =Calculator!BX36 -> 44893.667 | F34: =K18 -> South Korea | H34: =IF(OFFSET('Group Stages'!$H$7,A34,0)<>"",OFFSET('Group Stages'!$H$7,A34,0),"") | I34: =IF(OFFSET('Group Stages'!$H$8,A34,0)<>"",OFFSET('Group Stages'!$H$8,A34,0),"") | K34: =K19 -> Ghana | N34: Education City | P34: =INDEX(Translation,MATCH("Group F",TransRef,0),MATCH(Setup!$C$5,LanguageRef,0)) -> Group F | R34: P | S34: W | T34: D | U34: L | V34: F - A | W34: Pt
A35: =A34+2 -> 60 | B35: 31 | C35: G | D35: =E35 -> 44893.792 | E35: =Calculator!BX37 -> 44893.792 | F35: =F20 -> Brazil | H35: =IF(OFFSET('Group Stages'!$H$7,A35,0)<>"",OFFSET('Group Stages'!$H$7,A35,0),"") | I35: =IF(OFFSET('Group Stages'!$H$8,A35,0)<>"",OFFSET('Group Stages'!$H$8,A35,0),"") | K35: =F17 -> Switzerland | N35: Stadium 974 | P35: 1 | Q35: =INDEX(Calculator!$U$24:$U$27,MATCH(1,Calculator!$BK$24:$BK$27,0),0) -> Belgium | R35: =VLOOKUP($Q35,Calculator!$C$4:$K$35,2,FALSE) -> 0 | S35: =VLOOKUP($Q35,Calculator!$C$4:$K$35,3,FALSE) -> 0 | T35: =VLOOKUP($Q35,Calculator!$C$4:$K$35,4,FALSE) -> 0 | U35: =VLOOKUP($Q35,Calculator!$C$4:$K$35,5,FALSE) -> 0 | V35: =VLOOKUP($Q35,Calculator!$C$4:$K$35,6,FALSE)&" - "&VLOOKUP($Q35,Calculator!$C$4:$K$35,7,FALSE) -> 0 - 0 | W35: =VLOOKUP($Q35,Calculator!$C$4:$K$35,9,FALSE) -> 0
A36: =A35+2 -> 62 | B36: 32 | C36: H | D36: =E36 -> 44893.917 | E36: =Calculator!BX38 -> 44893.917 | F36: =F19 -> Portugal | H36: =IF(OFFSET('Group Stages'!$H$7,A36,0)<>"",OFFSET('Group Stages'!$H$7,A36,0),"") | I36: =IF(OFFSET('Group Stages'!$H$8,A36,0)<>"",OFFSET('Group Stages'!$H$8,A36,0),"") | K36: =F18 -> Uruguay | N36: Lusail | P36: 2 | Q36: =INDEX(Calculator!$U$24:$U$27,MATCH(2,Calculator!$BK$24:$BK$27,0),0) -> Croatia | R36: =VLOOKUP($Q36,Calculator!$C$4:$K$35,2,FALSE) -> 0 | S36: =VLOOKUP($Q36,Calculator!$C$4:$K$35,3,FALSE) -> 0 | T36: =VLOOKUP($Q36,Calculator!$C$4:$K$35,4,FALSE) -> 0 | U36: =VLOOKUP($Q36,Calculator!$C$4:$K$35,5,FALSE) -> 0 | V36: =VLOOKUP($Q36,Calculator!$C$4:$K$35,6,FALSE)&" - "&VLOOKUP($Q36,Calculator!$C$4:$K$35,7,FALSE) -> 0 - 0 | W36: =VLOOKUP($Q36,Calculator!$C$4:$K$35,9,FALSE) -> 0
A37: =A36+2 -> 64 | B37: 35 | C37: A | D37: =E37 -> 44894.75 | E37: =Calculator!BX39 -> 44894.75 | F37: =K5 -> Ecuador | H37: =IF(OFFSET('Group Stages'!$H$7,A37,0)<>"",OFFSET('Group Stages'!$H$7,A37,0),"") | I37: =IF(OFFSET('Group Stages'!$H$8,A37,0)<>"",OFFSET('Group Stages'!$H$8,A37,0),"") | K37: =F7 -> Senegal | N37: Khalifa International | P37: 3 | Q37: =INDEX(Calculator!$U$24:$U$27,MATCH(3,Calculator!$BK$24:$BK$27,0),0) -> Morocco | R37: =VLOOKUP($Q37,Calculator!$C$4:$K$35,2,FALSE) -> 0 | S37: =VLOOKUP($Q37,Calculator!$C$4:$K$35,3,FALSE) -> 0 | T37: =VLOOKUP($Q37,Calculator!$C$4:$K$35,4,FALSE) -> 0 | U37: =VLOOKUP($Q37,Calculator!$C$4:$K$35,5,FALSE) -> 0 | V37: =VLOOKUP($Q37,Calculator!$C$4:$K$35,6,FALSE)&" - "&VLOOKUP($Q37,Calculator!$C$4:$K$35,7,FALSE) -> 0 - 0 | W37: =VLOOKUP($Q37,Calculator!$C$4:$K$35,9,FALSE) -> 0
A38: =A37+2 -> 66 | B38: 36 | C38: A | D38: =E38 -> 44894.75 | E38: =Calculator!BX40 -> 44894.75 | F38: =K7 -> Netherlands | H38: =IF(OFFSET('Group Stages'!$H$7,A38,0)<>"",OFFSET('Group Stages'!$H$7,A38,0),"") | I38: =IF(OFFSET('Group Stages'!$H$8,A38,0)<>"",OFFSET('Group Stages'!$H$8,A38,0),"") | K38: =F5 -> Qatar | N38: Al Bayt | P38: 4 | Q38: =INDEX(Calculator!$U$24:$U$27,MATCH(4,Calculator!$BK$24:$BK$27,0),0) -> Canada | R38: =VLOOKUP($Q38,Calculator!$C$4:$K$35,2,FALSE) -> 0 | S38: =VLOOKUP($Q38,Calculator!$C$4:$K$35,3,FALSE) -> 0 | T38: =VLOOKUP($Q38,Calculator!$C$4:$K$35,4,FALSE) -> 0 | U38: =VLOOKUP($Q38,Calculator!$C$4:$K$35,5,FALSE) -> 0 | V38: =VLOOKUP($Q38,Calculator!$C$4:$K$35,6,FALSE)&" - "&VLOOKUP($Q38,Calculator!$C$4:$K$35,7,FALSE) -> 0 - 0 | W38: =VLOOKUP($Q38,Calculator!$C$4:$K$35,9,FALSE) -> 0
A39: =A38+2 -> 68 | B39: 33 | C39: B | D39: =E39 -> 44894.917 | E39: =Calculator!BX41 -> 44894.917 | F39: =K8 -> Wales | H39: =IF(OFFSET('Group Stages'!$H$7,A39,0)<>"",OFFSET('Group Stages'!$H$7,A39,0),"") | I39: =IF(OFFSET('Group Stages'!$H$8,A39,0)<>"",OFFSET('Group Stages'!$H$8,A39,0),"") | K39: =F6 -> England | N39: Ahmad Bin Ali
A40: =A39+2 -> 70 | B40: 34 | C40: B | D40: =E40 -> 44894.917 | E40: =Calculator!BX42 -> 44894.917 | F40: =K6 -> Iran | H40: =IF(OFFSET('Group Stages'!$H$7,A40,0)<>"",OFFSET('Group Stages'!$H$7,A40,0),"") | I40: =IF(OFFSET('Group Stages'!$H$8,A40,0)<>"",OFFSET('Group Stages'!$H$8,A40,0),"") | K40: =F8 -> United States | N40: Al Thumama | P40: =INDEX(Translation,MATCH("Group G",TransRef,0),MATCH(Setup!$C$5,LanguageRef,0)) -> Group G | R40: P | S40: W | T40: D | U40: L | V40: F - A | W40: Pt
A41: =A40+2 -> 72 | B41: 37 | C41: D | D41: =E41 -> 44895.75 | E41: =Calculator!BX43 -> 44895.75 | F41: =K12 -> Australia | H41: =IF(OFFSET('Group Stages'!$H$7,A41,0)<>"",OFFSET('Group Stages'!$H$7,A41,0),"") | I41: =IF(OFFSET('Group Stages'!$H$8,A41,0)<>"",OFFSET('Group Stages'!$H$8,A41,0),"") | K41: =F10 -> Denmark | N41: Al Janoub | P41: 1 | Q41: =INDEX(Calculator!$U$28:$U$31,MATCH(1,Calculator!$BK$28:$BK$31,0),0) -> Brazil | R41: =VLOOKUP($Q41,Calculator!$C$4:$K$35,2,FALSE) -> 0 | S41: =VLOOKUP($Q41,Calculator!$C$4:$K$35,3,FALSE) -> 0 | T41: =VLOOKUP($Q41,Calculator!$C$4:$K$35,4,FALSE) -> 0 | U41: =VLOOKUP($Q41,Calculator!$C$4:$K$35,5,FALSE) -> 0 | V41: =VLOOKUP($Q41,Calculator!$C$4:$K$35,6,FALSE)&" - "&VLOOKUP($Q41,Calculator!$C$4:$K$35,7,FALSE) -> 0 - 0 | W41: =VLOOKUP($Q41,Calculator!$C$4:$K$35,9,FALSE) -> 0
...

Sheet Group Stages
J1: 1 | K1: 2 | L1: 3 | M1: 4 | N1: 5 | O1: 6 | P1: 7 | Q1: 8
B3: =UPPER(INDEX(Language!$A$1:$H$112,MATCH("Group Stages",Language!$B$1:$B$122,0),MATCH(Setup!$C$5,Language!$A$1:$G$1,0))) -> GROUP STAGES | J3: Goal Scorer
B4: =INDEX(Language!$A$1:$H$112,MATCH("Group",Language!$B$1:$B$122,0),MATCH(Setup!$C$5,Language!$A$1:$G$1,0)) -> Group | C4: =INDEX(Language!$A$1:$H$112,MATCH("Match #",Language!$B$1:$B$122,0),MATCH(Setup!$C$5,Language!$A$1:$G$1,0)) -> Match # | D4: =INDEX(Language!$A$1:$H$112,MATCH("Date",Language!$B$1:$B$122,0),MATCH(Setup!$C$5,Language!$A$1:$G$1,0)) -> Date | E4: =INDEX(Language!$A$1:$H$112,MATCH("Time",Language!$B$1:$B$122,0),MATCH(Setup!$C$5,Language!$A$1:$G$1,0)) -> Time | F4: =INDEX(Language!$A$1:$H$112,MATCH("Country",Language!$B$1:$B$122,0),MATCH(Setup!$C$5,Language!$A$1:$G$1,0)) -> Country | H4: =INDEX(Language!$A$1:$H$112,MATCH("Score",Language!$B$1:$B$122,0),MATCH(Setup!$C$5,Language!$A$1:$G$1,0)) -> Score | J4: 1st | K4: 2nd | L4: 3rd | M4: 4th | N4: 5th | O4: 6th | P4: 7th | Q4: 8th
B7: A | C7: 2 | D7: =E7 -> 44885.792 | E7: =Tournament!E5 -> 44885.792 | F7: =Tournament!F5 -> Qatar
D8: =Tournament!N5 -> Al Bayt | F8: =Tournament!K5 -> Ecuador | T8: musadya
B9: B | C9: 3 | D9: =E9 -> 44886.667 | E9: =Tournament!E6 -> 44886.667 | F9: =Tournament!F6 -> England
D10: =Tournament!N6 -> Khalifa International | F10: =Tournament!K6 -> Iran
B11: A | C11: 1 | D11: =E11 -> 44886.792 | E11: =Tournament!E7 -> 44886.792 | F11: =Tournament!F7 -> Senegal
D12: =Tournament!N7 -> Al Thumama | F12: =Tournament!K7 -> Netherlands
B13: B | C13: 4 | D13: =E13 -> 44886.917 | E13: =Tournament!E8 -> 44886.917 | F13: =Tournament!F8 -> United States
D14: =Tournament!N8 -> Ahmad Bin Ali | F14: =Tournament!K8 -> Wales
B15: C | C15: 8 | D15: =E15 -> 44887.542 | E15: =Tournament!E9 -> 44887.542 | F15: =Tournament!F9 -> Argentina
D16: =Tournament!N9 -> Lusail | F16: =Tournament!K9 -> Saudi Arabia
B17: D | C17: 6 | D17: =E17 -> 44887.667 | E17: =Tournament!E10 -> 44887.667 | F17: =Tournament!F10 -> Denmark
D18: =Tournament!N10 -> Education City | F18: =Tournament!K10 -> Tunisia
B19: C | C19: 7 | D19: =E19 -> 44887.792 | E19: =Tournament!E11 -> 44887.792 | F19: =Tournament!F11 -> Mexico
D20: =Tournament!N11 -> Stadium 974 | F20: =Tournament!K11 -> Poland
B21: D | C21: 5 | D21: =E21 -> 44887.917 | E21: =Tournament!E12 -> 44887.917 | F21: =Tournament!F12 -> France
D22: =Tournament!N12 -> Al Janoub | F22: =Tournament!K12 -> Australia
B23: F | C23: 12 | D23: =E23 -> 44888.542 | E23: =Tournament!E13 -> 44888.542 | F23: =Tournament!F13 -> Morocco
D24: =Tournament!N13 -> Al Bayt | F24: =Tournament!K13 -> Croatia
B25: E | C25: 11 | D25: =E25 -> 44888.667 | E25: =Tournament!E14 -> 44888.667 | F25: =Tournament!F14 -> Germany
D26: =Tournament!N14 -> Khalifa International | F26: =Tournament!K14 -> Japan
B27: E | C27: 10 | D27: =E27 -> 44888.792 | E27: =Tournament!E15 -> 44888.792 | F27: =Tournament!F15 -> Spain
D28: =Tournament!N15 -> Al Thumama | F28: =Tournament!K15 -> Costa Rica
B29: F | C29: 9 | D29: =E29 -> 44888.917 | E29: =Tournament!E16 -> 44888.917 | F29: =Tournament!F16 -> Belgium
D30: =Tournament!N16 -> Ahmad Bin Ali | F30: =Tournament!K16 -> Canada
B31: G | C31: 13 | D31: =E31 -> 44889.542 | E31: =Tournament!E17 -> 44889.542 | F31: =Tournament!F17 -> Switzerland
D32: =Tournament!N17 -> Al Janoub | F32: =Tournament!K17 -> Cameroon
B33: H | C33: 14 | D33: =E33 -> 44889.667 | E33: =Tournament!E18 -> 44889.667 | F33: =Tournament!F18 -> Uruguay
D34: =Tournament!N18 -> Education City | F34: =Tournament!K18 -> South Korea
B35: H | C35: 15 | D35: =E35 -> 44889.792 | E35: =Tournament!E19 -> 44889.792 | F35: =Tournament!F19 -> Portugal
D36: =Tournament!N19 -> Stadium 974 | F36: =Tournament!K19 -> Ghana
B37: G | C37: 16 | D37: =E37 -> 44889.917 | E37: =Tournament!E20 -> 44889.917 | F37: =Tournament!F20 -> Brazil
D38: =Tournament!N20 -> Lusail | F38: =Tournament!K20 -> Serbia
B39: B | C39: 17 | D39: =E39 -> 44890.542 | E39: =Tournament!E21 -> 44890.542 | F39: =Tournament!F21 -> Wales
D40: =Tournament!N21 -> Ahmad Bin Ali | F40: =Tournament!K21 -> Iran
B41: A | C41: 18 | D41: =E41 -> 44890.667 | E41: =Tournament!E22 -> 44890.667 | F41: =Tournament!F22 -> Qatar
D42: =Tournament!N22 -> Al Thumama | F42: =Tournament!K22 -> Senegal
B43: A | C43: 19 | D43: =E43 -> 44890.792 | E43: =Tournament!E23 -> 44890.792 | F43: =Tournament!F23 -> Netherlands
...

Sheet Knock Out Stages
K1: 1 | L1: 2 | M1: 3 | N1: 4 | O1: 5 | P1: 6 | Q1: 7 | R1: 8
B3: =UPPER(INDEX(Language!$A$1:$H$112,MATCH("Knock Out Rounds",Language!$B$1:$B$122,0),MATCH(Setup!$C$5,Language!$A$1:$G$1,0))) -> KNOCK OUT ROUNDS | K3: Goal Scorer
H4: FT | I4: PSO | K4: 1st | L4: 2nd | M4: 3rd | N4: 4th | O4: 5th | P4: 6th | Q4: 7th | R4: 8th
B7: =INDEX(Language!$A$1:$H$112,MATCH("Round of 16",Language!$B$1:$B$122,0),MATCH(Setup!$C$5,Language!$A$1:$G$1,0)) -> Round of 16 | C7: 49 | D7: =E7 -> 44898.75 | E7: =Tournament!E54 -> 44898.75 | F7: =Tournament!F54 -> Group A Winner
D8: =Tournament!N54 -> Khalifa International | F8: =Tournament!K54 -> Group B Runner Up
C9: 50 | D9: =E9 -> 44898.917 | E9: =Tournament!E55 -> 44898.917 | F9: =Tournament!F55 -> Group C Winner
D10: =Tournament!N55 -> Ahmad Bin Ali | F10: =Tournament!K55 -> Group D Runner Up
C11: 52 | D11: =E11 -> 44899.75 | E11: =Tournament!E56 -> 44899.75 | F11: =Tournament!F56 -> Group D Winner
D12: =Tournament!N56 -> Al Thumama | F12: =Tournament!K56 -> Group C Runner Up
C13: 51 | D13: =E13 -> 44899.917 | E13: =Tournament!E57 -> 44899.917 | F13: =Tournament!F57 -> Group B Winner
D14: =Tournament!N57 -> Al Bayt | F14: =Tournament!K57 -> Group A Runner Up
C15: 53 | D15: =E15 -> 44900.75 | E15: =Tournament!E58 -> 44900.75 | F15: =Tournament!F58 -> Group E Winner
D16: =Tournament!N58 -> Al Janoub | F16: =Tournament!K58 -> Group F Runner Up
C17: 54 | D17: =E17 -> 44900.917 | E17: =Tournament!E59 -> 44900.917 | F17: =Tournament!F59 -> Group G Winner
D18: =Tournament!N59 -> Stadium 974 | F18: =Tournament!K59 -> Group H Runner Up
C19: 55 | D19: =E19 -> 44901.75 | E19: =Tournament!E60 -> 44901.75 | F19: =Tournament!F60 -> Group F Winner
D20: =Tournament!N60 -> Education City | F20: =Tournament!K60 -> Group E Runner Up
C21: 56 | D21: =E21 -> 44901.917 | E21: =Tournament!E61 -> 44901.917 | F21: =Tournament!F61 -> Group H Winner
D22: =Tournament!N61 -> Lusail | F22: =Tournament!K61 -> Group G Runner Up
B26: =INDEX(Language!$A$1:$H$112,MATCH("Quarter Finals",Language!$B$1:$B$122,0),MATCH(Setup!$C$5,Language!$A$1:$G$1,0)) -> Quarter Finals | C26: 58 | D26: =E26 -> 44904.75 | E26: =Tournament!E62 -> 44904.75 | F26: =Tournament!F62 -> Match 53 Winner
D27: =Tournament!N62 -> Education City | F27: =Tournament!K62 -> Match 54 Winner
C28: 57 | D28: =E28 -> 44904.917 | E28: =Tournament!E63 -> 44904.917 | F28: =Tournament!F63 -> Match 49 Winner
D29: =Tournament!N63 -> Lusail | F29: =Tournament!K63 -> Match 50 Winner
C30: 60 | D30: =E30 -> 44905.75 | E30: =Tournament!E64 -> 44905.75 | F30: =Tournament!F64 -> Match 55 Winner
D31: =Tournament!N64 -> Al Thumama | F31: =Tournament!K64 -> Match 56 Winner
C32: 59 | D32: =E32 -> 44905.917 | E32: =Tournament!E65 -> 44905.917 | F32: =Tournament!F65 -> Match 51 Winner
D33: Samara | F33: =Tournament!K65 -> Match 52 Winner
B37: =INDEX(Language!$A$1:$H$112,MATCH("Semi Finals",Language!$B$1:$B$122,0),MATCH(Setup!$C$5,Language!$A$1:$G$1,0)) -> Semi Finals | C37: 61 | D37: =E37 -> 44908.917 | E37: =Tournament!E66 -> 44908.917 | F37: =Tournament!F66 -> Match 57 Winner
D38: =Tournament!N66 -> Lusail | F38: =Tournament!K66 -> Match 58 Winner
C39: 62 | D39: =E39 -> 44909.917 | E39: =Tournament!E67 -> 44909.917 | F39: =Tournament!F67 -> Match 59 Winner
D40: =Tournament!N67 -> Al Bayt | F40: =Tournament!K67 -> Match 60 Winner
B44: =INDEX(Language!$A$1:$H$112,MATCH("Third Place",Language!$B$1:$B$122,0),MATCH(Setup!$C$5,Language!$A$1:$G$1,0)) -> Third Place | C44: 63 | D44: =E44 -> 44912.75 | E44: =Tournament!E68 -> 44912.75 | F44: =Tournament!F68 -> Match 61 Loser
D45: =Tournament!N68 -> Khalifa International | F45: =Tournament!K68 -> Match 62 Loser
B49: =INDEX(Language!$A$1:$H$112,MATCH("Final",Language!$B$1:$B$122,0),MATCH(Setup!$C$5,Language!$A$1:$G$1,0)) -> Final | C49: 64 | D49: =E49 -> 44913.75 | E49: =Tournament!E69 -> 44913.75 | F49: =Tournament!F69 -> Match 61 Winner
D50: =Tournament!N69 -> Lusail | F50: =Tournament!K69 -> Match 62 Winner
C53: =INDEX(Language!$A$1:$H$112,MATCH("World Cup 2022 Champion",Language!$B$1:$B$122,0),MATCH(Setup!$C$5,Language!$A$1:$G$1,0)) -> World Cup 2022 Champion | F53: =Tournament!P57 -> WORLD CUP 2022 CHAMPION | J53: Top Scorer | L53: ='Top Scorer'!C8
B55: © 2022 | journalSHEET.com

Sheet Top Scorer
F1: 1 | G1: 2 | H1: 3 | I1: 4 | J1: 5 | K1: 6 | L1: 7 | M1: 8
B3: WORLD CUP 2022 TOP SCORER | H3: CLICK HERE TO PURCHASE FULLY EDITABLE VERSION
B5: Goals | C5: Player Name | E5: =IF(AND(B9="",'Knock Out Stages'!H49<>"",'Knock Out Stages'!H50<>""),"Reorder Rank","")
A7: =COUNTIF(B8:B57,MaxGoal) -> 50
A8: 1 | B8: =INDEX('Dummy Top Scorer'!CN:CN,MATCH(A8,'Dummy Top Scorer'!CO:CO,0),0) -> 0 | C8: =IF(B8=0,"",IF(E8<>"",INDEX(F$8:F$17,MATCH(A8,E$8:E$17,0),0),INDEX('Dummy Top Scorer'!CP:CP,MATCH(A8,'Dummy Top Scorer'!CO:CO,0),0))) | F8: =IF(B8<>0,IF(AND(CountMax>1,B8=MaxGoal),INDEX('Dummy Top Scorer'!CP:CP,MATCH(A8,'Dummy Top Scorer'!CO:CO,0),0),""),"") | G8: 1 | H8: By purchasing the fully editable version you can :
A9: 2 | B9: =INDEX('Dummy Top Scorer'!CN:CN,MATCH(A9,'Dummy Top Scorer'!CO:CO,0),0) -> 0 | C9: =IF(B9=0,"",IF(E9<>"",INDEX(F$8:F$17,MATCH(A9,E$8:E$17,0),0),INDEX('Dummy Top Scorer'!CP:CP,MATCH(A9,'Dummy Top Scorer'!CO:CO,0),0))) | F9: =IF(B9<>0,IF(AND(CountMax>1,B9=MaxGoal),INDEX('Dummy Top Scorer'!CP:CP,MATCH(A9,'Dummy Top Scorer'!CO:CO,0),0),""),"") | G9: 2 | H9: 1 | I9: Learn all the formulas
A10: 3 | B10: =INDEX('Dummy Top Scorer'!CN:CN,MATCH(A10,'Dummy Top Scorer'!CO:CO,0),0) -> 0 | C10: =IF(B10=0,"",IF(E10<>"",INDEX(F$8:F$17,MATCH(A10,E$8:E$17,0),0),INDEX('Dummy Top Scorer'!CP:CP,MATCH(A10,'Dummy Top Scorer'!CO:CO,0),0))) | F10: =IF(B10<>0,IF(AND(CountMax>1,B10=MaxGoal),INDEX('Dummy Top Scorer'!CP:CP,MATCH(A10,'Dummy Top Scorer'!CO:CO,0),0),""),"") | G10: 3 | H10: 2 | I10: Put your own business logo/brand
A11: 4 | B11: =INDEX('Dummy Top Scorer'!CN:CN,MATCH(A11,'Dummy Top Scorer'!CO:CO,0),0) -> 0 | C11: =IF(B11=0,"",IF(E11<>"",INDEX(F$8:F$17,MATCH(A11,E$8:E$17,0),0),INDEX('Dummy Top Scorer'!CP:CP,MATCH(A11,'Dummy Top Scorer'!CO:CO,0),0))) | F11: =IF(B11<>0,IF(AND(CountMax>1,B11=MaxGoal),INDEX('Dummy Top Scorer'!CP:CP,MATCH(A11,'Dummy Top Scorer'!CO:CO,0),0),""),"") | G11: 4 | H11: 3 | I11: Hide all copyright notices (not delete it)
A12: 5 | B12: =INDEX('Dummy Top Scorer'!CN:CN,MATCH(A12,'Dummy Top Scorer'!CO:CO,0),0) -> 0 | C12: =IF(B12=0,"",IF(E12<>"",INDEX(F$8:F$17,MATCH(A12,E$8:E$17,0),0),INDEX('Dummy Top Scorer'!CP:CP,MATCH(A12,'Dummy Top Scorer'!CO:CO,0),0))) | F12: =IF(B12<>0,IF(AND(CountMax>1,B12=MaxGoal),INDEX('Dummy Top Scorer'!CP:CP,MATCH(A12,'Dummy Top Scorer'!CO:CO,0),0),""),"") | G12: 5 | H12: 4 | I12: Thank me for creating this spreadsheet :-)
A13: 6 | B13: =INDEX('Dummy Top Scorer'!CN:CN,MATCH(A13,'Dummy Top Scorer'!CO:CO,0),0) -> 0 | C13: =IF(B13=0,"",IF(E13<>"",INDEX(F$8:F$17,MATCH(A13,E$8:E$17,0),0),INDEX('Dummy Top Scorer'!CP:CP,MATCH(A13,'Dummy Top Scorer'!CO:CO,0),0))) | F13: =IF(B13<>0,IF(AND(CountMax>1,B13=MaxGoal),INDEX('Dummy Top Scorer'!CP:CP,MATCH(A13,'Dummy Top Scorer'!CO:CO,0),0),""),"") | G13: 6 | H13: 5 | I13: do whatever you want
A14: 7 | B14: =INDEX('Dummy Top Scorer'!CN:CN,MATCH(A14,'Dummy Top Scorer'!CO:CO,0),0) -> 0 | C14: =IF(B14=0,"",IF(E14<>"",INDEX(F$8:F$17,MATCH(A14,E$8:E$17,0),0),INDEX('Dummy Top Scorer'!CP:CP,MATCH(A14,'Dummy Top Scorer'!CO:CO,0),0))) | F14: =IF(B14<>0,IF(AND(CountMax>1,B14=MaxGoal),INDEX('Dummy Top Scorer'!CP:CP,MATCH(A14,'Dummy Top Scorer'!CO:CO,0),0),""),"") | G14: 7
A15: 8 | B15: =INDEX('Dummy Top Scorer'!CN:CN,MATCH(A15,'Dummy Top Scorer'!CO:CO,0),0) -> 0 | C15: =IF(B15=0,"",IF(E15<>"",INDEX(F$8:F$17,MATCH(A15,E$8:E$17,0),0),INDEX('Dummy Top Scorer'!CP:CP,MATCH(A15,'Dummy Top Scorer'!CO:CO,0),0))) | F15: =IF(B15<>0,IF(AND(CountMax>1,B15=MaxGoal),INDEX('Dummy Top Scorer'!CP:CP,MATCH(A15,'Dummy Top Scorer'!CO:CO,0),0),""),"") | G15: 8
A16: 9 | B16: =INDEX('Dummy Top Scorer'!CN:CN,MATCH(A16,'Dummy Top Scorer'!CO:CO,0),0) -> 0 | C16: =IF(B16=0,"",IF(E16<>"",INDEX(F$8:F$17,MATCH(A16,E$8:E$17,0),0),INDEX('Dummy Top Scorer'!CP:CP,MATCH(A16,'Dummy Top Scorer'!CO:CO,0),0))) | F16: =IF(B16<>0,IF(AND(CountMax>1,B16=MaxGoal),INDEX('Dummy Top Scorer'!CP:CP,MATCH(A16,'Dummy Top Scorer'!CO:CO,0),0),""),"") | G16: 9
A17: 10 | B17: =INDEX('Dummy Top Scorer'!CN:CN,MATCH(A17,'Dummy Top Scorer'!CO:CO,0),0) -> 0 | C17: =IF(B17=0,"",IF(E17<>"",INDEX(F$8:F$17,MATCH(A17,E$8:E$17,0),0),INDEX('Dummy Top Scorer'!CP:CP,MATCH(A17,'Dummy Top Scorer'!CO:CO,0),0))) | F17: =IF(B17<>0,IF(AND(CountMax>1,B17=MaxGoal),INDEX('Dummy Top Scorer'!CP:CP,MATCH(A17,'Dummy Top Scorer'!CO:CO,0),0),""),"") | G17: 10
A18: 11 | B18: =INDEX('Dummy Top Scorer'!CN:CN,MATCH(A18,'Dummy Top Scorer'!CO:CO,0),0) -> 0 | C18: =IF(B18=0,"",INDEX('Dummy Top Scorer'!CP:CP,MATCH(A18,'Dummy Top Scorer'!CO:CO,0),0))
A19: 12 | B19: =INDEX('Dummy Top Scorer'!CN:CN,MATCH(A19,'Dummy Top Scorer'!CO:CO,0),0) -> 0 | C19: =IF(B19=0,"",INDEX('Dummy Top Scorer'!CP:CP,MATCH(A19,'Dummy Top Scorer'!CO:CO,0),0))
A20: 13 | B20: =INDEX('Dummy Top Scorer'!CN:CN,MATCH(A20,'Dummy Top Scorer'!CO:CO,0),0) -> 0 | C20: =IF(B20=0,"",INDEX('Dummy Top Scorer'!CP:CP,MATCH(A20,'Dummy Top Scorer'!CO:CO,0),0))
A21: 14 | B21: =INDEX('Dummy Top Scorer'!CN:CN,MATCH(A21,'Dummy Top Scorer'!CO:CO,0),0) -> 0 | C21: =IF(B21=0,"",INDEX('Dummy Top Scorer'!CP:CP,MATCH(A21,'Dummy Top Scorer'!CO:CO,0),0))
A22: 15 | B22: =INDEX('Dummy Top Scorer'!CN:CN,MATCH(A22,'Dummy Top Scorer'!CO:CO,0),0) -> 0 | C22: =IF(B22=0,"",INDEX('Dummy Top Scorer'!CP:CP,MATCH(A22,'Dummy Top Scorer'!CO:CO,0),0))
A23: 16 | B23: =INDEX('Dummy Top Scorer'!CN:CN,MATCH(A23,'Dummy Top Scorer'!CO:CO,0),0) -> 0 | C23: =IF(B23=0,"",INDEX('Dummy Top Scorer'!CP:CP,MATCH(A23,'Dummy Top Scorer'!CO:CO,0),0))
A24: 17 | B24: =INDEX('Dummy Top Scorer'!CN:CN,MATCH(A24,'Dummy Top Scorer'!CO:CO,0),0) -> 0 | C24: =IF(B24=0,"",INDEX('Dummy Top Scorer'!CP:CP,MATCH(A24,'Dummy Top Scorer'!CO:CO,0),0))
A25: 18 | B25: =INDEX('Dummy Top Scorer'!CN:CN,MATCH(A25,'Dummy Top Scorer'!CO:CO,0),0) -> 0 | C25: =IF(B25=0,"",INDEX('Dummy Top Scorer'!CP:CP,MATCH(A25,'Dummy Top Scorer'!CO:CO,0),0))
A26: 19 | B26: =INDEX('Dummy Top Scorer'!CN:CN,MATCH(A26,'Dummy Top Scorer'!CO:CO,0),0) -> 0 | C26: =IF(B26=0,"",INDEX('Dummy Top Scorer'!CP:CP,MATCH(A26,'Dummy Top Scorer'!CO:CO,0),0))
A27: 20 | B27: =INDEX('Dummy Top Scorer'!CN:CN,MATCH(A27,'Dummy Top Scorer'!CO:CO,0),0) -> 0 | C27: =IF(B27=0,"",INDEX('Dummy Top Scorer'!CP:CP,MATCH(A27,'Dummy Top Scorer'!CO:CO,0),0))
A28: 21 | B28: =INDEX('Dummy Top Scorer'!CN:CN,MATCH(A28,'Dummy Top Scorer'!CO:CO,0),0) -> 0 | C28: =IF(B28=0,"",INDEX('Dummy Top Scorer'!CP:CP,MATCH(A28,'Dummy Top Scorer'!CO:CO,0),0))
A29: 22 | B29: =INDEX('Dummy Top Scorer'!CN:CN,MATCH(A29,'Dummy Top Scorer'!CO:CO,0),0) -> 0 | C29: =IF(B29=0,"",INDEX('Dummy Top Scorer'!CP:CP,MATCH(A29,'Dummy Top Scorer'!CO:CO,0),0))
... A57: 50 | B57: =INDEX('Dummy Top Scorer'!CN:CN,MATCH(A57,'Dummy Top Scorer'!CO:CO,0),0) -> 0 | C57: =IF(B57=0,"",INDEX('Dummy Top Scorer'!CP:CP,MATCH(A57,'Dummy Top Scorer'!CO:CO,0),0))

Sheet Player Database
C1: 0 | D1: 1 | E1: 2 | F1: 3 | G1: 4 | H1: 5 | I1: 6 | J1: 7 | K1: 8 | L1: 9 | M1: 10 | N1: 11 | O1: 12 | P1: 13 | Q1: 14 | R1: 15 | S1: 16 | T1: 17 | U1: 18 | V1: 19 | W1: 20 | X1: 21 | Y1: 22 | Z1: 23 | AA1: 24 | AB1: 25 | AC1: 26 | AD1: 27 | AE1: 28 | AF1: 29 | AG1: 30 | AH1: 31
B3: WORLD CUP 2022 PLAYER DATA
B5: ='Group Stages'!F4&">>" -> Country>> | C5: =OFFSET(Calculator!$C$4,C1,0) -> Senegal | D5: =OFFSET(Calculator!$C$4,D1,0) -> Netherlands | E5: =OFFSET(Calculator!$C$4,E1,0) -> Qatar | F5: =OFFSET(Calculator!$C$4,F1,0) -> Ecuador | G5: =OFFSET(Calculator!$C$4,G1,0) -> England | H5: =OFFSET(Calculator!$C$4,H1,0) -> Iran | I5: =OFFSET(Calculator!$C$4,I1,0) -> United States | J5: =OFFSET(Calculator!$C$4,J1,0) -> Wales | ... Z5: =OFFSET(Calculator!$C$4,Z1,0) -> Canada | AA5: =Calculator!C30 -> Brazil | AB5: =Calculator!C31 -> Serbia | AC5: =Calculator!C28 -> Switzerland | AD5: =Calculator!C29 -> Cameroon | AE5: =Calculator!C34 -> Portugal | AF5: =Calculator!C35 -> Ghana | AG5: =Calculator!C32 -> Uruguay | AH5: =Calculator!C33 -> South Korea
B6: Player 1 | C6: Abdou Diallo | D6: Andries Noppert | E6: Abdelkarim Hassan | F6: Alan Franco | G6: Aaron Ramsdale | H6: Abolfazl Jalali | I6: Aaron Long | J6: Aaron Ramsey | K6: Alejandro Gómez | L6: Abdulelah Al-Amri | M6: Alexis Vega | N6: Arkadiusz Milik | O6: Alexander Bah | P6: Aïssa Laïdouni | Q6: Adrien Rabiot | R6: Aaron Mooy | S6: Antonio Rüdiger | T6: Ao Tanaka | U6: Álvaro Morata | V6: Álvaro Zamora | W6: Abde Ezzalzouli | X6: Andrej Kramarić | Y6: Amadou Onana | Z6: Alistair Johnston | AA6: Alex Sandro | AB6: Aleksandar Mitrović | AC6: Ardon Jashari | AD6: André Onana | AE6: André Silva | AF6: Abdul Fatawu Issahaku | AG6: Agustín Canobbio | AH6: Cho Gue-sung
B7: Player 2 | C7: Alfred Gomis | D7: Cody Gakpo | E7: Abdulaziz Hatem | F7: Alexander Domínguez | G7: Ben White | H7: Ahmad Nourollahi | I7: Antonee Robinson | J7: Adam Davies | K7: Alexis Mac Allister | L7: Abdulellah Al-Malki | M7: Alfredo Talavera | N7: Artur Jędrzejczyk | O7: Andreas Christensen | P7: Ali Abdi | Q7: Alphonse Areola | R7: Ajdin Hrustic | S7: Armel Bella-Kotchap | T7: Ayase Ueda | U7: Ansu Fati | V7: Anthony Contreras | W7: Abdelhamid Sabiri | X7: Ante Budimir | Y7: Arthur Theate | Z7: Alphonso Davies | AA7: Alex Telles | AB7: Andrija Živković | AC7: Breel Embolo | AD7: André-Frank Zambo Anguissa | AE7: António Silva | AF7: Abdul Manaf Nurudeen | AG7: Darwin Núñez | AH7: Cho Yu-min
B8: Player 3 | C8: Bamba Dieng | D8: Daley Blind | E8: Ahmed Alaaeldin | F8: Ángel Mena | G8: Bukayo Saka | H8: Ali Gholizadeh | I8: Brenden Aaronson | J8: Ben Cabango | K8: Ángel Di María | L8: Abdullah Madu | M8: Andrés Guardado | N8: Bartłomiej Drągowski | O8: Andreas Cornelius | P8: Ali Maâloul | Q8: Antoine Griezmann | R8: Andrew Redmayne | S8: Christian Günter | T8: Daichi Kamada | U8: Aymeric Laporte | V8: Anthony Hernández | W8: Abderrazak Hamdallah | X8: Borna Barišić | Y8: Axel Witsel | Z8: Atiba Hutchinson | AA8: Alisson | AB8: Darko Lazović | AC8: Christian Fassnacht | AD8: Bryan Mbeumo | AE8: Bernardo Silva | AF8: Alexander Djiku | AG8: Diego Godín | AH8: Hong Chul
B9: Player 4 | C9: Boulaye Dia | D9: Davy Klaassen | E9: Akram Afif | F9: Ángelo Preciado | G9: Callum Wilson | H9: Ali Karimi | I9: Cameron Carter-Vickers | J9: Ben Davies | K9: Cristian Romero | L9: Abdullah Otayf | M9: Carlos Rodríguez | N9: Bartosz Bereszyński | O9: Andreas Skov Olsen | P9: Anis Ben Slimane | Q9: Aurélien Tchouaméni | R9: Awer Mabil | S9: David Raum | T9: Daizen Maeda | U9: Carlos Soler | V9: Brandon Aguilera | W9: Achraf Dari | X9: Borna Sosa | Y9: Charles De Ketelaere | Z9: Cyle Larin | AA9: Antony | AB9: Dušan Tadić | AC9: Denis Zakaria | AD9: Christian Bassogog | AE9: Bruno Fernandes | AF9: Alidu Seidu | AG9: Edinson Cavani | AH9: Hwang Hee-chan
B10: Player 5 | C10: Cheikhou Kouyaté | D10: Denzel Dumfries | E10: Ali Assadalla | F10: Ayrton Preciado | G10: Conor Coady | H10: Alireza Beiranvand | I10: Christian Pulisic | J10: Brennan Johnson | K10: Emiliano Martínez | L10: Abdulrahman Al-Aboud | M10: César Montes | N10: Damian Szymański | O10: Christian Eriksen | P10: Aymen Dahmen | Q10: Benjamin Pavard | R10: Aziz Behich | S10: İlkay Gündoğan | T10: Daniel Schmidt | U10: César Azpilicueta | V10: Bryan Oviedo | W10: Achraf Hakimi | X10: Bruno Petković | Y10: Dries Mertens | Z10: David Wotherspoon | AA10: Bremer | AB10: Dušan Vlahović | AC10: Djibril Sow | AD10: Christopher Wooh | AE10: Cristiano Ronaldo | AF10: André Ayew | AG10: Facundo Pellistri | AH10: Hwang In-beom
B11: Player 6 | C11: Édouard Mendy | D11: Frenkie de Jong | E11: Almoez Ali | F11: Carlos Gruezo | G11: Conor Gallagher | H11: Alireza Jahanbakhsh | I11: Cristian Roldan | J11: Chris Gunter | K11: Enzo Fernández | L11: Ali Al-Bulaihi | M11: Edson Álvarez | N11: Grzegorz Krychowiak | O11: Christian Nørgaard | P11: Aymen Mathlouthi | Q11: Benoit Badiashile | R11: Bailey Wright | S11: Jamal Musiala | T11: Eiji Kawashima | U11: Dani Carvajal | V11: Bryan Ruiz | W11: Ahmed Reda Tagnaouti | X11: Dejan Lovren | Y11: Eden Hazard | Z11: Dayne St. Clair | AA11: Bruno Guimarães | AB11: Filip Đuričić | AC11: Edimilson Fernandes | AD11: Collins Fai | AE11: Danilo Pereira | AF11: Antoine Semenyo | AG11: Facundo Torres | AH11: Hwang Ui-jo
B12: Player 7 | C12: Famara Diédhiou | D12: Jeremie Frimpong | E12: Assim Madibo | F12: Diego Palacios | G12: Declan Rice | H12: Amir Abedzadeh | I12: DeAndre Yedlin | J12: Chris Mepham | K12: Exequiel Palacios | L12: Ali Al-Hassan | M12: Érick Gutiérrez | N12: Jakub Kamiński | O12: Daniel Wass | P12: Bechir Ben Saïd | Q12: Christopher Nkunku | R12: Cameron Devlin | S12: Jonas Hofmann | T12: Gaku Shibasaki | U12: Dani Olmo | V12: Carlos Martínez | W12: Amine Harit | X12: Domagoj Vida | Y12: Hans Vanaken | Z12: Derek Cornelius | AA12: Casemiro | AB12: Filip Kostić | AC12: Eray Cömert | AD12: Devis Epassy | AE12: Diogo Costa | AF12: Baba Rahman | AG12: Federico Valverde | AH12: Jeong Woo-yeong
B13: Player 8 | C13: Fodé Ballo-Touré | D13: Jurriën Timber | E13: Bassam Al-Rawi | F13: Djorkaeff Reasco | G13: Eric Dier | H13: Ehsan Hajsafi | I13: Ethan Horvath | J13: Connor Roberts | K13: Franco Armani | L13: Fahad Al-Muwallad | M13: Gerardo Arteaga | N13: Jakub Kiwior | O13: Frederik Rønnow | P13: Bilel Ifa | Q13: Dayot Upamecano | R13: Craig Goodwin | S13: Joshua Kimmich | T13: Hidemasa Morita | U13: David Raya | V13: Celso Borges | W13: Azzedine Ounahi | X13: Dominik Livaković | Y13: Jan Vertonghen | Z13: Iké Ugbo | AA13: Dani Alves | AB13: Filip Mladenović | AC13: Fabian Frei | AD13: Enzo Ebosse | AE13: Diogo Dalot | AF13: Daniel Afriyie | AG13: Fernando Muslera | AH13: Jo Hyeon-woo
B14: Player 9 | C14: Formose Mendy | D14: Justin Bijlow | E14: Boualem Khoukhi | F14: Enner Valencia | G14: Harry Kane | H14: Hossein Hosseini | I14: Giovanni Reyna | J14: Daniel James | K14: Germán Pezzella | L14: Firas Al-Buraikan | M14: Guillermo Ochoa | N14: Jan Bednarek | O14: Jens Stryger Larsen | P14: Dylan Bronn | Q14: Eduardo Camavinga | R14: Danny Vukovic | S14: Julian Brandt | T14: Hiroki Itō | U14: Eric García | V14: Daniel Chacón | W14: Badr Benoun | X14: Ivan Perišić | Y14: Jérémy Doku | Z14: Ismaël Koné | AA14: Danilo | AB14: Ivan Ilić | AC14: Fabian Rieder | AD14: Eric Maxim Choupo-Moting | AE14: Gonçalo Ramos | AF14: Daniel Amartey | AG14: Giorgian de Arrascaeta | AH14: Jung Woo-young
B15: Player 10 | C15: Idrissa Gueye | D15: Kenneth Taylor | E15: Hassan Al-Haydos | F15: Félix Torres | G15: Harry Maguire | H15: Hossein Kanaanizadegan | I15: Haji Wright | J15: Danny Ward | K15: Gerónimo Rulli | L15: Haitham Asiri | M15: Héctor Herrera | N15: Kamil Glik | O15: Jesper Lindstrøm | P15: Ellyes Skhiri | Q15: Hugo Lloris | R15: Fran Karačić | S15: Kai Havertz | T15: Hiroki Sakai | U15: Ferran Torres | V15: Douglas López | W15: Bilal El Khannous | X15: Ivica Ivušić | Y15: Kevin De Bruyne | Z15: James Pantemis | AA15: Éder Militão | AB15: Luka Jović | AC15: Fabian Schär | AD15: Gaël Ondoua | AE15: João Cancelo | AF15: Daniel-Kofi Kyereh | AG15: Guillermo Varela | AH15: Kim Jin-su
