Workbook
Name DunDay: 'Gantt Chart'!$G$7:$G$13
Name National: 'Holiday List'!$A$3:$A$26
Name WorkDay: 'Gantt Chart'!$G$7:$G$13

Sheet Gantt Chart
B1: click here to buy premium edition at excelindo.com
B2: SETTING
B3: Start Date | D3: : | E3: 40910 | J3: PROJECT NAME | M3: New Product Package
B4: End Date | D4: : | J4: DESCRIPTION
B5: v | C5: End Date | D5: =IF(B5<>"",TRUE,FALSE) -> TRUE | E5: 40940 | W5: =IF(W17<>"",N10*'Gantt Chart'!F27+1,"") -> 1 | X5: =IF(W17<>"",W17,"") -> 40910 | AD5: =IF(AD17<>"",W5+1,"") -> 2 | AE5: =IF(AD17<>"",AD17,"") -> 40917 | AK5: =IF(AK17<>"",AD5+1,"") -> 3 | AL5: =IF(AK17<>"",AK17,"") -> 40924 | AR5: =IF(AR17<>"",AK5+1,"") -> 4 | AS5: =IF(AR17<>"",AR17,"") -> 40931 | AY5: =IF(AY17<>"",AR5+1,"") -> 5 | AZ5: =IF(AY17<>"",AY17,"") -> 40938 | BF5: =IF(BF17<>"",AY5+1,"") | BG5: =IF(BF17<>"",BF17,"") | BM5: =IF(BM17<>"",BF5+1,"") | BN5: =IF(BM17<>"",BM17,"") | BT5: =IF(BT17<>"",BM5+1,"") | BU5: =IF(BT17<>"",BT17,"") | CA5: =IF(CA17<>"",BT5+1,"") | CB5: =IF(CA17<>"",CA17,"") | CH5: =IF(CH17<>"",CA5+1,"") | CI5: =IF(CH17<>"",CH17,"") | CO5: =IF(CO17<>"",CH5+1,"") | CP5: =IF(CO17<>"",CO17,"") | CV5: =IF(CV17<>"",CO5+1,"") | CW5: =IF(CV17<>"",CV17,"") | DC5: =IF(DC17<>"",CV5+1,"") | DD5: =IF(DC17<>"",DC17,"") | DJ5: =IF(DJ17<>"",DC5+1,"") | DK5: =IF(DJ17<>"",DJ17,"") | DQ5: =IF(DQ17<>"",DJ5+1,"") | DR5: =IF(DQ17<>"",DQ17,"") | DX5: =IF(DX17<>"",DQ5+1,"") | DY5: =IF(DX17<>"",DX17,"") | EE5: =IF(EE17<>"",DX5+1,"") | EF5: =IF(EE17<>"",EE17,"") | EL5: =IF(EL17<>"",EE5+1,"") | EM5: =IF(EL17<>"",EL17,"") | ES5: =IF(ES17<>"",EL5+1,"") | ET5: =IF(ES17<>"",ES17,"") | EZ5: =IF(EZ17<>"",ES5+1,"") | FA5: =IF(EZ17<>"",EZ17,"") | FG5: =IF(FG17<>"",EZ5+1,"") | FH5: =IF(FG17<>"",FG17,"") | FN5: =IF(FN17<>"",FG5+1,"") | FO5: =IF(FN17<>"",FN17,"") | FU5: =IF(FU17<>"",FN5+1,"") | FV5: =IF(FU17<>"",FU17,"") | GB5: =IF(GB17<>"",FU5+1,"") | GC5: =IF(GB17<>"",GB17,"") | GI5: =IF(GI17<>"",GB5+1,"") | GJ5: =IF(GI17<>"",GI17,"") | GP5: =IF(GP17<>"",GI5+1,"") | GQ5: =IF(GP17<>"",GP17,"") | GW5: =IF(GW17<>"",GP5+1,"") | GX5: =IF(GW17<>"",GW17,"") | HD5: =IF(HD17<>"",GW5+1,"") | HE5: =IF(HD17<>"",HD17,"") | HK5: =IF(HK17<>"",HD5+1,"") | HL5: =IF(HK17<>"",HK17,"") | HR5: =IF(HR17<>"",HK5+1,"") | HS5: =IF(HR17<>"",HR17,"") | HY5: =IF(HY17<>"",HR5+1,"") | HZ5: =IF(HY17<>"",HY17,"") | IF5: =IF(IF17<>"",HY5+1,"") | IG5: =IF(IF17<>"",IF17,"") | IM5: =IF(IM17<>"",IF5+1,"") | IN5: =IF(IM17<>"",IM17,"") | IT5: =IF(IT17<>"",IM5+1,"") | IU5: =IF(IT17<>"",IT17,"") | JA5: =IF(JA17<>"",IT5+1,"") | JB5: =IF(JA17<>"",JA17,"") | JH5: =IF(JH17<>"",JA5+1,"") | JI5: =IF(JH17<>"",JH17,"") | JO5: =IF(JO17<>"",JH5+1,"") | JP5: =IF(JO17<>"",JO17,"") | JV5: =IF(JV17<>"",JO5+1,"") | JW5: =IF(JV17<>"",JV17,"") | KC5: =IF(KC17<>"",JV5+1,"") | KD5: =IF(KC17<>"",KC17,"") | KJ5: =IF(KJ17<>"",KC5+1,"") | KK5: =IF(KJ17<>"",KJ17,"") | KQ5: =IF(KQ17<>"",KJ5+1,"") | KR5: =IF(KQ17<>"",KQ17,"") | KX5: =IF(KX17<>"",KQ5+1,"") | KY5: =IF(KX17<>"",KX17,"") | LE5: =IF(LE17<>"",KX5+1,"") | LF5: =IF(LE17<>"",LE17,"") | LL5: =IF(LL17<>"",LE5+1,"") | LM5: =IF(LL17<>"",LL17,"") | LS5: =IF(LS17<>"",LL5+1,"") | LT5: =IF(LS17<>"",LS17,"") | LZ5: =IF(LZ17<>"",LS5+1,"") | MA5: =IF(LZ17<>"",LZ17,"") | MG5: =IF(MG17<>"",LZ5+1,"") | MH5: =IF(MG17<>"",MG17,"") | MN5: =IF(MN17<>"",MG5+1,"") | MO5: =IF(MN17<>"",MN17,"") | MU5: =IF(MU17<>"",MN5+1,"") | MV5: =IF(MU17<>"",MU17,"") | NB5: =IF(NB17<>"",MU5+1,"") | NC5: =IF(NB17<>"",NB17,"") | NI5: =IF(NI17<>"",NB5+1,"") | NJ5: =IF(NI17<>"",NI17,"") | NP5: =IF(NP17<>"",NI5+1,"") | NQ5: =IF(NP17<>"",NP17,"")
C6: Week Period | D6: =IF(B6<>"",TRUE,FALSE) -> FALSE | E6: 20 | J6: LEADER | M6: Bruce Jenner
B7: Working Days | D7: v | E7: Monday
D8: v | E8: Tuesday | J8: Start Date | M8: =E3 -> 40910 | P8: End Date : | Q8: =IF(AND(D6=TRUE,E6<>""),E6*7+M8-1,E5) -> 40940
D9: v | E9: Wednesday | J9: Project Length | M9: =IF(D5=TRUE,ROUNDUP((E5-M8+1)/7,0)&" Week",E6&" Week") -> 5 Week
D10: v | E10: Thursday | J10: ="Week Period ("&'Gantt Chart'!E26&")" -> Week Period (52 Week) | M10: =IF(AD12<>"","W"&MIN(AD12:CC12)&" - W"&MAX(AD12:CC12),"") -> W1 - W5 | N10: =J11-1 -> 0
D11: v | E11: Friday | J11: 1 | M11: =IF(X5<>"",TEXT(X5,"m/d/yy")&" - "&TEXT(N11,"m/d/yy"),"") -> 1/2/12 - 2/5/12 | N11: =X5+(MAX(AD12:CC12)-AD12+1)*7-1 -> 40944
E12: Saturday | F12: =IF(D12<>"",TRUE,FALSE) -> FALSE | G12: =IF(F12=FALSE,6,"") -> 6 | W12: =IF(M8<>"",IF(WEEKDAY(M8,2)=1,M8+N10*'Gantt Chart'!F27*7,M8-WEEKDAY(M8,2)+1+N10*'Gantt Chart'!F27*7),"") -> 40910 | X12: =IF(BG5<>"",BG5,IF(AZ5<>"",AZ5,IF(AS5<>"",AS5,IF(AL5<>"",AL5,IF(AE5<>"",AE5,X5))))) -> 40938 | AD12: =W5 -> 1 | AE12: =AD5 -> 2 | AF12: =AK5 -> 3 | AG12: =AR5 -> 4 | AH12: =AY5 -> 5 | AI12: =BF5 | AJ12: =BM5 | AK12: =BT5 | AL12: =CA5 | AM12: =CH5 | AN12: =CO5 | AO12: =CV5 | AP12: =DC5 | AQ12: =DJ5 | AR12: =DQ5 | AS12: =DX5 | AT12: =EE5 | AU12: =EL5 | AV12: =ES5 | AW12: =EZ5 | AX12: =FG5 | AY12: =FN5 | AZ12: =FU5 | BA12: =GB5 | BB12: =GI5 | BC12: =GP5 | BD12: =GW5 | BE12: =HD5 | BF12: =HK5 | BG12: =HR5 | BH12: =HY5 | BI12: =IF5 | BJ12: =IM5 | BK12: =IT5 | BL12: =JA5 | BM12: =JH5 | BN12: =JO5 | BO12: =JV5 | BP12: =KC5 | BQ12: =KJ5 | BR12: =KQ5 | BS12: =KX5 | BT12: =LE5 | BU12: =LL5 | BV12: =LS5 | BW12: =LZ5 | BX12: =MG5 | BY12: =MN5 | BZ12: =MU5 | CA12: =NB5 | CB12: =NI5 | CC12: =NP5
E13: Sunday | F13: =IF(D13<>"",TRUE,FALSE) -> FALSE | G13: =IF(F13=FALSE,7,"") -> 7 | J13: Level | K13: Task | M13: Assignment | P13: Start Date | Q13: Finish Date | R13: Work Days | U13: Remaining WD | W13: =IF(W17<>"","W"&W5,"") -> W1 | AD13: =IF(AD17<>"","W"&AD5,"") -> W2 | AK13: =IF(AK17<>"","W"&AK5,"") -> W3 | AR13: =IF(AR17<>"","W"&AR5,"") -> W4 | AY13: =IF(AY17<>"","W"&AY5,"") -> W5 | BF13: =IF(BF17<>"","W"&BF5,"") | BM13: =IF(BM17<>"","W"&BM5,"") | BT13: =IF(BT17<>"","W"&BT5,"") | CA13: =IF(CA17<>"","W"&CA5,"") | CH13: =IF(CH17<>"","W"&CH5,"") | CO13: =IF(CO17<>"","W"&CO5,"") | CV13: =IF(CV17<>"","W"&CV5,"") | DC13: =IF(DC17<>"","W"&DC5,"") | DJ13: =IF(DJ17<>"","W"&DJ5,"") | DQ13: =IF(DQ17<>"","W"&DQ5,"") | DX13: =IF(DX17<>"","W"&DX5,"") | EE13: =IF(EE17<>"","W"&EE5,"") | EL13: =IF(EL17<>"","W"&EL5,"") | ES13: =IF(ES17<>"","W"&ES5,"") | EZ13: =IF(EZ17<>"","W"&EZ5,"") | FG13: =IF(FG17<>"","W"&FG5,"") | FN13: =IF(FN17<>"","W"&FN5,"") | FU13: =IF(FU17<>"","W"&FU5,"") | GB13: =IF(GB17<>"","W"&GB5,"") | GI13: =IF(GI17<>"","W"&GI5,"") | GP13: =IF(GP17<>"","W"&GP5,"") | GW13: =IF(GW17<>"","W"&GW5,"") | HD13: =IF(HD17<>"","W"&HD5,"") | HK13: =IF(HK17<>"","W"&HK5,"") | HR13: =IF(HR17<>"","W"&HR5,"") | HY13: =IF(HY17<>"","W"&HY5,"") | IF13: =IF(IF17<>"","W"&IF5,"") | IM13: =IF(IM17<>"","W"&IM5,"") | IT13: =IF(IT17<>"","W"&IT5,"") | JA13: =IF(JA17<>"","W"&JA5,"") | JH13: =IF(JH17<>"","W"&JH5,"") | JO13: =IF(JO17<>"","W"&JO5,"") | JV13: =IF(JV17<>"","W"&JV5,"") | KC13: =IF(KC17<>"","W"&KC5,"") | KJ13: =IF(KJ17<>"","W"&KJ5,"") | KQ13: =IF(KQ17<>"","W"&KQ5,"") | KX13: =IF(KX17<>"","W"&KX5,"") | LE13: =IF(LE17<>"","W"&LE5,"") | LL13: =IF(LL17<>"","W"&LL5,"") | LS13: =IF(LS17<>"","W"&LS5,"") | LZ13: =IF(LZ17<>"","W"&LZ5,"") | MG13: =IF(MG17<>"","W"&MG5,"") | MN13: =IF(MN17<>"","W"&MN5,"") | MU13: =IF(MU17<>"","W"&MU5,"") | NB13: =IF(NB17<>"","W"&NB5,"") | NI13: =IF(NI17<>"","W"&NI5,"") | NP13: =IF(NP17<>"","W"&NP5,"")
B14: Today's Date | D14: : | W14: =W17 -> 40910 | X14: =X17 -> 40911 | Y14: =Y17 -> 40912 | Z14: =Z17 -> 40913 | AA14: =AA17 -> 40914 | AB14: =AB17 -> 40915 | AC14: =AC17 -> 40916 | AD14: =AD17 -> 40917 | ... NV14: =NV17
B15: v | C15: Actual | D15: =IF(B15<>"",TRUE,FALSE) -> TRUE | E15: =TODAY() -> 42194
C16: User Defined | D16: =IF(B16<>"",TRUE,FALSE) -> FALSE | E16: 40884
G17: =IF(D15=TRUE,E15,E16) -> 42194 | J17: 0 | W17: =IF(OR(W12="",AND(W12<>"",D5=TRUE,W12>E5),AND(W12<>"",D6=TRUE,W12>Q8)),"",W12) -> 40910 | X17: =IF(W17<>"",W17+1,"") -> 40911 | Y17: =IF(X17<>"",X17+1,"") -> 40912 | Z17: =IF(Y17<>"",Y17+1,"") -> 40913 | AA17: =IF(Z17<>"",Z17+1,"") -> 40914 | AB17: =IF(AA17<>"",AA17+1,"") -> 40915 | AC17: =IF(AB17<>"",AB17+1,"") -> 40916 | AD17: =IF(AC17<>"",IF($D$6=TRUE,IF(AC17>=$Q$8,"",AC17+1),IF(AC17>=$E$5,"",AC17+1)),"") -> 40917 | AE17: =IF(AD17<>"",AD17+1,"") -> 40918 | AF17: =IF(AE17<>"",AE17+1,"") -> 40919 | AG17: =IF(AF17<>"",AF17+1,"") -> 40920 | AH17: =IF(AG17<>"",AG17+1,"") -> 40921 | AI17: =IF(AH17<>"",AH17+1,"") -> 40922 | AJ17: =IF(AI17<>"",AI17+1,"") -> 40923 | AK17: =IF(AJ17<>"",IF($D$6=TRUE,IF(AJ17>=$Q$8,"",AJ17+1),IF(AJ17>=$E$5,"",AJ17+1)),"") -> 40924 | AL17: =IF(AK17<>"",AK17+1,"") -> 40925 | AM17: =IF(AL17<>"",AL17+1,"") -> 40926 | AN17: =IF(AM17<>"",AM17+1,"") -> 40927 | AO17: =IF(AN17<>"",AN17+1,"") -> 40928 | AP17: =IF(AO17<>"",AO17+1,"") -> 40929 | AQ17: =IF(AP17<>"",AP17+1,"") -> 40930 | AR17: =IF(AQ17<>"",IF($D$6=TRUE,IF(AQ17>=$Q$8,"",AQ17+1),IF(AQ17>=$E$5,"",AQ17+1)),"") -> 40931 | AS17: =IF(AR17<>"",AR17+1,"") -> 40932 | AT17: =IF(AS17<>"",AS17+1,"") -> 40933 | AU17: =IF(AT17<>"",AT17+1,"") -> 40934 | AV17: =IF(AU17<>"",AU17+1,"") -> 40935 | AW17: =IF(AV17<>"",AV17+1,"") -> 40936 | AX17: =IF(AW17<>"",AW17+1,"") -> 40937 | AY17: =IF(AX17<>"",IF($D$6=TRUE,IF(AX17>=$Q$8,"",AX17+1),IF(AX17>=$E$5,"",AX17+1)),"") -> 40938 | AZ17: =IF(AY17<>"",AY17+1,"") -> 40939 | BA17: =IF(AZ17<>"",AZ17+1,"") -> 40940 | BB17: =IF(BA17<>"",BA17+1,"") -> 40941 | BC17: =IF(BB17<>"",BB17+1,"") -> 40942 | BD17: =IF(BC17<>"",BC17+1,"") -> 40943 | BE17: =IF(BD17<>"",BD17+1,"") -> 40944 | BF17: =IF(BE17<>"",IF($D$6=TRUE,IF(BE17>=$Q$8,"",BE17+1),IF(BE17>=$E$5,"",BE17+1)),"") | BG17: =IF(BF17<>"",BF17+1,"") | BH17: =IF(BG17<>"",BG17+1,"") | BI17: =IF(BH17<>"",BH17+1,"") | BJ17: =IF(BI17<>"",BI17+1,"") | BK17: =IF(BJ17<>"",BJ17+1,"") | BL17: =IF(BK17<>"",BK17+1,"") | BM17: =IF(BL17<>"",IF($D$6=TRUE,IF(BL17>=$Q$8,"",BL17+1),IF(BL17>=$E$5,"",BL17+1)),"") | BN17: =IF(BM17<>"",BM17+1,"") | BO17: =IF(BN17<>"",BN17+1,"") | BP17: =IF(BO17<>"",BO17+1,"") | BQ17: =IF(BP17<>"",BP17+1,"") | BR17: =IF(BQ17<>"",BQ17+1,"") | BS17: =IF(BR17<>"",BR17+1,"") | BT17: =IF(BS17<>"",IF($D$6=TRUE,IF(BS17>=$Q$8,"",BS17+1),IF(BS17>=$E$5,"",BS17+1)),"") | BU17: =IF(BT17<>"",BT17+1,"") | BV17: =IF(BU17<>"",BU17+1,"") | BW17: =IF(BV17<>"",BV17+1,"") | BX17: =IF(BW17<>"",BW17+1,"") | BY17: =IF(BX17<>"",BX17+1,"") | BZ17: =IF(BY17<>"",BY17+1,"") | CA17: =IF('Gantt Chart'!F26=1,"",IF(BZ17<>"",IF($D$6=TRUE,IF(BZ17>=$Q$8,"",BZ17+1),IF(BZ17>=$E$5,"",BZ17+1)),"")) | CB17: =IF(CA17<>"",CA17+1,"") | CC17: =IF(CB17<>"",CB17+1,"") | CD17: =IF(CC17<>"",CC17+1,"") | CE17: =IF(CD17<>"",CD17+1,"") | CF17: =IF(CE17<>"",CE17+1,"") | CG17: =IF(CF17<>"",CF17+1,"") | CH17: =IF(CG17<>"",IF($D$6=TRUE,IF(CG17>=$Q$8,"",CG17+1),IF(CG17>=$E$5,"",CG17+1)),"") | CI17: =IF(CH17<>"",CH17+1,"") | CJ17: =IF(CI17<>"",CI17+1,"") | CK17: =IF(CJ17<>"",CJ17+1,"") | CL17: =IF(CK17<>"",CK17+1,"") | CM17: =IF(CL17<>"",CL17+1,"") | CN17: =IF(CM17<>"",CM17+1,"") | CO17: =IF(CN17<>"",IF($D$6=TRUE,IF(CN17>=$Q$8,"",CN17+1),IF(CN17>=$E$5,"",CN17+1)),"") | CP17: =IF(CO17<>"",CO17+1,"") | CQ17: =IF(CP17<>"",CP17+1,"") | CR17: =IF(CQ17<>"",CQ17+1,"") | CS17: =IF(CR17<>"",CR17+1,"") | CT17: =IF(CS17<>"",CS17+1,"") | CU17: =IF(CT17<>"",CT17+1,"") | CV17: =IF(CU17<>"",IF($D$6=TRUE,IF(CU17>=$Q$8,"",CU17+1),IF(CU17>=$E$5,"",CU17+1)),"") | CW17: =IF(CV17<>"",CV17+1,"") | CX17: =IF(CW17<>"",CW17+1,"") | CY17: =IF(CX17<>"",CX17+1,"") | CZ17: =IF(CY17<>"",CY17+1,"") | DA17: =IF(CZ17<>"",CZ17+1,"") | DB17: =IF(DA17<>"",DA17+1,"") | DC17: =IF(DB17<>"",IF($D$6=TRUE,IF(DB17>=$Q$8,"",DB17+1),IF(DB17>=$E$5,"",DB17+1)),"") | DD17: =IF(DC17<>"",DC17+1,"") | DE17: =IF(DD17<>"",DD17+1,"") | DF17: =IF(DE17<>"",DE17+1,"") | DG17: =IF(DF17<>"",DF17+1,"") | DH17: =IF(DG17<>"",DG17+1,"") | DI17: =IF(DH17<>"",DH17+1,"") | DJ17: =IF(DI17<>"",IF($D$6=TRUE,IF(DI17>=$Q$8,"",DI17+1),IF(DI17>=$E$5,"",DI17+1)),"") | DK17: =IF(DJ17<>"",DJ17+1,"") | DL17: =IF(DK17<>"",DK17+1,"") | DM17: =IF(DL17<>"",DL17+1,"") | DN17: =IF(DM17<>"",DM17+1,"") | DO17: =IF(DN17<>"",DN17+1,"") | DP17: =IF(DO17<>"",DO17+1,"") | DQ17: =IF(DP17<>"",IF($D$6=TRUE,IF(DP17>=$Q$8,"",DP17+1),IF(DP17>=$E$5,"",DP17+1)),"") | DR17: =IF(DQ17<>"",DQ17+1,"") | DS17: =IF(DR17<>"",DR17+1,"") | DT17: =IF(DS17<>"",DS17+1,"") | DU17: =IF(DT17<>"",DT17+1,"") | DV17: =IF(DU17<>"",DU17+1,"") | DW17: =IF(DV17<>"",DV17+1,"") | DX17: =IF(DW17<>"",IF($D$6=TRUE,IF(DW17>=$Q$8,"",DW17+1),IF(DW17>=$E$5,"",DW17+1)),"") | DY17: =IF(DX17<>"",DX17+1,"") | DZ17: =IF(DY17<>"",DY17+1,"") | EA17: =IF(DZ17<>"",DZ17+1,"") | EB17: =IF(EA17<>"",EA17+1,"") | EC17: =IF(EB17<>"",EB17+1,"") | ED17: =IF(EC17<>"",EC17+1,"") | EE17: =IF('Gantt Chart'!F26=2,"",IF(ED17<>"",IF($D$6=TRUE,IF(ED17>=$Q$8,"",ED17+1),IF(ED17>=$E$5,"",ED17+1)),"")) | EF17: =IF(EE17<>"",EE17+1,"") | EG17: =IF(EF17<>"",EF17+1,"") | EH17: =IF(EG17<>"",EG17+1,"") | EI17: =IF(EH17<>"",EH17+1,"") | EJ17: =IF(EI17<>"",EI17+1,"") | EK17: =IF(EJ17<>"",EJ17+1,"") | EL17: =IF(EK17<>"",IF($D$6=TRUE,IF(EK17>=$Q$8,"",EK17+1),IF(EK17>=$E$5,"",EK17+1)),"") | EM17: =IF(EL17<>"",EL17+1,"") | EN17: =IF(EM17<>"",EM17+1,"") | EO17: =IF(EN17<>"",EN17+1,"") | EP17: =IF(EO17<>"",EO17+1,"") | EQ17: =IF(EP17<>"",EP17+1,"") | ER17: =IF(EQ17<>"",EQ17+1,"") | ES17: =IF(ER17<>"",IF($D$6=TRUE,IF(ER17>=$Q$8,"",ER17+1),IF(ER17>=$E$5,"",ER17+1)),"") | ET17: =IF(ES17<>"",ES17+1,"") | EU17: =IF(ET17<>"",ET17+1,"") | EV17: =IF(EU17<>"",EU17+1,"") | EW17: =IF(EV17<>"",EV17+1,"") | EX17: =IF(EW17<>"",EW17+1,"") | EY17: =IF(EX17<>"",EX17+1,"") | EZ17: =IF(EY17<>"",IF($D$6=TRUE,IF(EY17>=$Q$8,"",EY17+1),IF(EY17>=$E$5,"",EY17+1)),"") | FA17: =IF(EZ17<>"",EZ17+1,"") | FB17: =IF(FA17<>"",FA17+1,"") | FC17: =IF(FB17<>"",FB17+1,"") | FD17: =IF(FC17<>"",FC17+1,"") | FE17: =IF(FD17<>"",FD17+1,"") | FF17: =IF(FE17<>"",FE17+1,"") | FG17: =IF(FF17<>"",IF($D$6=TRUE,IF(FF17>=$Q$8,"",FF17+1),IF(FF17>=$E$5,"",FF17+1)),"") | FH17: =IF(FG17<>"",FG17+1,"") | FI17: =IF(FH17<>"",FH17+1,"") | FJ17: =IF(FI17<>"",FI17+1,"") | FK17: =IF(FJ17<>"",FJ17+1,"") | FL17: =IF(FK17<>"",FK17+1,"") | FM17: =IF(FL17<>"",FL17+1,"") | FN17: =IF(FM17<>"",IF($D$6=TRUE,IF(FM17>=$Q$8,"",FM17+1),IF(FM17>=$E$5,"",FM17+1)),"") | FO17: =IF(FN17<>"",FN17+1,"") | FP17: =IF(FO17<>"",FO17+1,"") | FQ17: =IF(FP17<>"",FP17+1,"") | FR17: =IF(FQ17<>"",FQ17+1,"") | FS17: =IF(FR17<>"",FR17+1,"") | FT17: =IF(FS17<>"",FS17+1,"") | FU17: =IF(FT17<>"",IF($D$6=TRUE,IF(FT17>=$Q$8,"",FT17+1),IF(FT17>=$E$5,"",FT17+1)),"") | FV17: =IF(FU17<>"",FU17+1,"") | FW17: =IF(FV17<>"",FV17+1,"") | FX17: =IF(FW17<>"",FW17+1,"") | FY17: =IF(FX17<>"",FX17+1,"") | FZ17: =IF(FY17<>"",FY17+1,"") | GA17: =IF(FZ17<>"",FZ17+1,"") | GB17: =IF(GA17<>"",IF($D$6=TRUE,IF(GA17>=$Q$8,"",GA17+1),IF(GA17>=$E$5,"",GA17+1)),"") | GC17: =IF(GB17<>"",GB17+1,"") | GD17: =IF(GC17<>"",GC17+1,"") | GE17: =IF(GD17<>"",GD17+1,"") | GF17: =IF(GE17<>"",GE17+1,"") | GG17: =IF(GF17<>"",GF17+1,"") | GH17: =IF(GG17<>"",GG17+1,"") | GI17: =IF(GH17<>"",IF($D$6=TRUE,IF(GH17>=$Q$8,"",GH17+1),IF(GH17>=$E$5,"",GH17+1)),"") | GJ17: =IF(GI17<>"",GI17+1,"") | GK17: =IF(GJ17<>"",GJ17+1,"") | GL17: =IF(GK17<>"",GK17+1,"") | GM17: =IF(GL17<>"",GL17+1,"") | GN17: =IF(GM17<>"",GM17+1,"") | GO17: =IF(GN17<>"",GN17+1,"") | GP17: =IF(GO17<>"",IF($D$6=TRUE,IF(GO17>=$Q$8,"",GO17+1),IF(GO17>=$E$5,"",GO17+1)),"") | GQ17: =IF(GP17<>"",GP17+1,"") | GR17: =IF(GQ17<>"",GQ17+1,"") | GS17: =IF(GR17<>"",GR17+1,"") | GT17: =IF(GS17<>"",GS17+1,"") | GU17: =IF(GT17<>"",GT17+1,"") | GV17: =IF(GU17<>"",GU17+1,"") | GW17: =IF(GV17<>"",IF($D$6=TRUE,IF(GV17>=$Q$8,"",GV17+1),IF(GV17>=$E$5,"",GV17+1)),"") | GX17: =IF(GW17<>"",GW17+1,"") | GY17: =IF(GX17<>"",GX17+1,"") | GZ17: =IF(GY17<>"",GY17+1,"") | HA17: =IF(GZ17<>"",GZ17+1,"") | HB17: =IF(HA17<>"",HA17+1,"") | HC17: =IF(HB17<>"",HB17+1,"") | HD17: =IF(HC17<>"",IF($D$6=TRUE,IF(HC17>=$Q$8,"",HC17+1),IF(HC17>=$E$5,"",HC17+1)),"") | HE17: =IF(HD17<>"",HD17+1,"") | HF17: =IF(HE17<>"",HE17+1,"") | HG17: =IF(HF17<>"",HF17+1,"") | HH17: =IF(HG17<>"",HG17+1,"") | HI17: =IF(HH17<>"",HH17+1,"") | HJ17: =IF(HI17<>"",HI17+1,"") | HK17: =IF(HJ17<>"",IF($D$6=TRUE,IF(HJ17>=$Q$8,"",HJ17+1),IF(HJ17>=$E$5,"",HJ17+1)),"") | HL17: =IF(HK17<>"",HK17+1,"") | HM17: =IF(HL17<>"",HL17+1,"") | HN17: =IF(HM17<>"",HM17+1,"") | HO17: =IF(HN17<>"",HN17+1,"") | HP17: =IF(HO17<>"",HO17+1,"") | HQ17: =IF(HP17<>"",HP17+1,"") | HR17: =IF(HQ17<>"",IF($D$6=TRUE,IF(HQ17>=$Q$8,"",HQ17+1),IF(HQ17>=$E$5,"",HQ17+1)),"") | HS17: =IF(HR17<>"",HR17+1,"") | HT17: =IF(HS17<>"",HS17+1,"") | HU17: =IF(HT17<>"",HT17+1,"") | HV17: =IF(HU17<>"",HU17+1,"") | HW17: =IF(HV17<>"",HV17+1,"") | HX17: =IF(HW17<>"",HW17+1,"") | HY17: =IF(HX17<>"",IF($D$6=TRUE,IF(HX17>=$Q$8,"",HX17+1),IF(HX17>=$E$5,"",HX17+1)),"") | HZ17: =IF(HY17<>"",HY17+1,"") | IA17: =IF(HZ17<>"",HZ17+1,"") | IB17: =IF(IA17<>"",IA17+1,"") | IC17: =IF(IB17<>"",IB17+1,"") | ID17: =IF(IC17<>"",IC17+1,"") | IE17: =IF(ID17<>"",ID17+1,"") | IF17: =IF(IE17<>"",IF($D$6=TRUE,IF(IE17>=$Q$8,"",IE17+1),IF(IE17>=$E$5,"",IE17+1)),"") | IG17: =IF(IF17<>"",IF17+1,"") | IH17: =IF(IG17<>"",IG17+1,"") | II17: =IF(IH17<>"",IH17+1,"") | IJ17: =IF(II17<>"",II17+1,"") | IK17: =IF(IJ17<>"",IJ17+1,"") | IL17: =IF(IK17<>"",IK17+1,"") | IM17: =IF('Gantt Chart'!F26=3,"",IF(IL17<>"",IF($D$6=TRUE,IF(IL17>=$Q$8,"",IL17+1),IF(IL17>=$E$5,"",IL17+1)),"")) | IN17: =IF(IM17<>"",IM17+1,"") | IO17: =IF(IN17<>"",IN17+1,"") | IP17: =IF(IO17<>"",IO17+1,"") | IQ17: =IF(IP17<>"",IP17+1,"") | IR17: =IF(IQ17<>"",IQ17+1,"") | IS17: =IF(IR17<>"",IR17+1,"") | IT17: =IF(IS17<>"",IF($D$6=TRUE,IF(IS17>=$Q$8,"",IS17+1),IF(IS17>=$E$5,"",IS17+1)),"") | IU17: =IF(IT17<>"",IT17+1,"") | IV17: =IF(IU17<>"",IU17+1,"") | IW17: =IF(IV17<>"",IV17+1,"") | IX17: =IF(IW17<>"",IW17+1,"") | IY17: =IF(IX17<>"",IX17+1,"") | IZ17: =IF(IY17<>"",IY17+1,"") | JA17: =IF(IZ17<>"",IF($D$6=TRUE,IF(IZ17>=$Q$8,"",IZ17+1),IF(IZ17>=$E$5,"",IZ17+1)),"") | JB17: =IF(JA17<>"",JA17+1,"") | JC17: =IF(JB17<>"",JB17+1,"") | JD17: =IF(JC17<>"",JC17+1,"") | JE17: =IF(JD17<>"",JD17+1,"") | JF17: =IF(JE17<>"",JE17+1,"") | JG17: =IF(JF17<>"",JF17+1,"") | JH17: =IF(JG17<>"",IF($D$6=TRUE,IF(JG17>=$Q$8,"",JG17+1),IF(JG17>=$E$5,"",JG17+1)),"") | JI17: =IF(JH17<>"",JH17+1,"") | JJ17: =IF(JI17<>"",JI17+1,"") | JK17: =IF(JJ17<>"",JJ17+1,"") | JL17: =IF(JK17<>"",JK17+1,"") | JM17: =IF(JL17<>"",JL17+1,"") | JN17: =IF(JM17<>"",JM17+1,"") | JO17: =IF(JN17<>"",IF($D$6=TRUE,IF(JN17>=$Q$8,"",JN17+1),IF(JN17>=$E$5,"",JN17+1)),"") | JP17: =IF(JO17<>"",JO17+1,"") | JQ17: =IF(JP17<>"",JP17+1,"") | JR17: =IF(JQ17<>"",JQ17+1,"") | JS17: =IF(JR17<>"",JR17+1,"") | JT17: =IF(JS17<>"",JS17+1,"") | JU17: =IF(JT17<>"",JT17+1,"") | JV17: =IF(JU17<>"",IF($D$6=TRUE,IF(JU17>=$Q$8,"",JU17+1),IF(JU17>=$E$5,"",JU17+1)),"") | JW17: =IF(JV17<>"",JV17+1,"") | JX17: =IF(JW17<>"",JW17+1,"") | JY17: =IF(JX17<>"",JX17+1,"") | JZ17: =IF(JY17<>"",JY17+1,"") | KA17: =IF(JZ17<>"",JZ17+1,"") | KB17: =IF(KA17<>"",KA17+1,"") | KC17: =IF(KB17<>"",IF($D$6=TRUE,IF(KB17>=$Q$8,"",KB17+1),IF(KB17>=$E$5,"",KB17+1)),"") | KD17: =IF(KC17<>"",KC17+1,"") | KE17: =IF(KD17<>"",KD17+1,"") | KF17: =IF(KE17<>"",KE17+1,"") | KG17: =IF(KF17<>"",KF17+1,"") | KH17: =IF(KG17<>"",KG17+1,"") | KI17: =IF(KH17<>"",KH17+1,"") | KJ17: =IF(KI17<>"",IF($D$6=TRUE,IF(KI17>=$Q$8,"",KI17+1),IF(KI17>=$E$5,"",KI17+1)),"") | KK17: =IF(KJ17<>"",KJ17+1,"") | KL17: =IF(KK17<>"",KK17+1,"") | KM17: =IF(KL17<>"",KL17+1,"") | KN17: =IF(KM17<>"",KM17+1,"") | KO17: =IF(KN17<>"",KN17+1,"") | KP17: =IF(KO17<>"",KO17+1,"") | KQ17: =IF(KP17<>"",IF($D$6=TRUE,IF(KP17>=$Q$8,"",KP17+1),IF(KP17>=$E$5,"",KP17+1)),"") | KR17: =IF(KQ17<>"",KQ17+1,"") | KS17: =IF(KR17<>"",KR17+1,"") | KT17: =IF(KS17<>"",KS17+1,"") | KU17: =IF(KT17<>"",KT17+1,"") | KV17: =IF(KU17<>"",KU17+1,"") | KW17: =IF(KV17<>"",KV17+1,"") | KX17: =IF(KW17<>"",IF($D$6=TRUE,IF(KW17>=$Q$8,"",KW17+1),IF(KW17>=$E$5,"",KW17+1)),"") | KY17: =IF(KX17<>"",KX17+1,"") | KZ17: =IF(KY17<>"",KY17+1,"") | LA17: =IF(KZ17<>"",KZ17+1,"") | LB17: =IF(LA17<>"",LA17+1,"") | LC17: =IF(LB17<>"",LB17+1,"") | LD17: =IF(LC17<>"",LC17+1,"") | LE17: =IF(LD17<>"",IF($D$6=TRUE,IF(LD17>=$Q$8,"",LD17+1),IF(LD17>=$E$5,"",LD17+1)),"") | LF17: =IF(LE17<>"",LE17+1,"") | LG17: =IF(LF17<>"",LF17+1,"") | LH17: =IF(LG17<>"",LG17+1,"") | LI17: =IF(LH17<>"",LH17+1,"") | LJ17: =IF(LI17<>"",LI17+1,"") | LK17: =IF(LJ17<>"",LJ17+1,"") | LL17: =IF(LK17<>"",IF($D$6=TRUE,IF(LK17>=$Q$8,"",LK17+1),IF(LK17>=$E$5,"",LK17+1)),"") | LM17: =IF(LL17<>"",LL17+1,"") | LN17: =IF(LM17<>"",LM17+1,"") | LO17: =IF(LN17<>"",LN17+1,"") | LP17: =IF(LO17<>"",LO17+1,"") | LQ17: =IF(LP17<>"",LP17+1,"") | LR17: =IF(LQ17<>"",LQ17+1,"") | LS17: =IF(LR17<>"",IF($D$6=TRUE,IF(LR17>=$Q$8,"",LR17+1),IF(LR17>=$E$5,"",LR17+1)),"") | LT17: =IF(LS17<>"",LS17+1,"") | LU17: =IF(LT17<>"",LT17+1,"") | LV17: =IF(LU17<>"",LU17+1,"") | LW17: =IF(LV17<>"",LV17+1,"") | LX17: =IF(LW17<>"",LW17+1,"") | LY17: =IF(LX17<>"",LX17+1,"") | LZ17: =IF(LY17<>"",IF($D$6=TRUE,IF(LY17>=$Q$8,"",LY17+1),IF(LY17>=$E$5,"",LY17+1)),"") | MA17: =IF(LZ17<>"",LZ17+1,"") | MB17: =IF(MA17<>"",MA17+1,"") | MC17: =IF(MB17<>"",MB17+1,"") | MD17: =IF(MC17<>"",MC17+1,"") | ME17: =IF(MD17<>"",MD17+1,"") | MF17: =IF(ME17<>"",ME17+1,"") | MG17: =IF(MF17<>"",IF($D$6=TRUE,IF(MF17>=$Q$8,"",MF17+1),IF(MF17>=$E$5,"",MF17+1)),"") | MH17: =IF(MG17<>"",MG17+1,"") | MI17: =IF(MH17<>"",MH17+1,"") | MJ17: =IF(MI17<>"",MI17+1,"") | MK17: =IF(MJ17<>"",MJ17+1,"") | ML17: =IF(MK17<>"",MK17+1,"") | MM17: =IF(ML17<>"",ML17+1,"") | MN17: =IF(MM17<>"",IF($D$6=TRUE,IF(MM17>=$Q$8,"",MM17+1),IF(MM17>=$E$5,"",MM17+1)),"") | MO17: =IF(MN17<>"",MN17+1,"") | MP17: =IF(MO17<>"",MO17+1,"") | MQ17: =IF(MP17<>"",MP17+1,"") | MR17: =IF(MQ17<>"",MQ17+1,"") | MS17: =IF(MR17<>"",MR17+1,"") | MT17: =IF(MS17<>"",MS17+1,"") | MU17: =IF(MT17<>"",IF($D$6=TRUE,IF(MT17>=$Q$8,"",MT17+1),IF(MT17>=$E$5,"",MT17+1)),"") | MV17: =IF(MU17<>"",MU17+1,"") | MW17: =IF(MV17<>"",MV17+1,"") | MX17: =IF(MW17<>"",MW17+1,"") | MY17: =IF(MX17<>"",MX17+1,"") | MZ17: =IF(MY17<>"",MY17+1,"") | NA17: =IF(MZ17<>"",MZ17+1,"") | NB17: =IF(NA17<>"",IF($D$6=TRUE,IF(NA17>=$Q$8,"",NA17+1),IF(NA17>=$E$5,"",NA17+1)),"") | NC17: =IF(NB17<>"",NB17+1,"") | ND17: =IF(NC17<>"",NC17+1,"") | NE17: =IF(ND17<>"",ND17+1,"") | NF17: =IF(NE17<>"",NE17+1,"") | NG17: =IF(NF17<>"",NF17+1,"") | NH17: =IF(NG17<>"",NG17+1,"") | NI17: =IF(NH17<>"",IF($D$6=TRUE,IF(NH17>=$Q$8,"",NH17+1),IF(NH17>=$E$5,"",NH17+1)),"") | NJ17: =IF(NI17<>"",NI17+1,"") | NK17: =IF(NJ17<>"",NJ17+1,"") | NL17: =IF(NK17<>"",NK17+1,"") | NM17: =IF(NL17<>"",NL17+1,"") | NN17: =IF(NM17<>"",NM17+1,"") | NO17: =IF(NN17<>"",NN17+1,"") | NP17: =IF(NO17<>"",IF($D$6=TRUE,IF(NO17>=$Q$8,"",NO17+1),IF(NO17>=$E$5,"",NO17+1)),"") | NQ17: =IF(NP17<>"",NP17+1,"") | NR17: =IF(NQ17<>"",NQ17+1,"") | NS17: =IF(NR17<>"",NR17+1,"") | NT17: =IF(NS17<>"",NS17+1,"") | NU17: =IF(NT17<>"",NT17+1,"") | NV17: =IF(NU17<>"",NU17+1,"")
B18: Level Type | D18: : | E18: 1; 1.1; 1.1.1; .. | F18: 0 | J18: 1 | K18: Product Package Preparation | M18: Bruce Jenner | O18: =IF(P18<>"",IF($G$17<=P18,P18,IF($G$17>=Q18,0,$G$17)),"") -> 0 | P18: 40910 | Q18: 40928 | R18: {=IF(ISERROR(IF(OR(P18<=0,Q18<=0,P18>Q18,ISNUMBER(P18)=FALSE,ISNUMBER(Q18)=FALSE),NA(),SUM(IF(ISERROR(MATCH(WEEKDAY(ROW(INDIRECT(P18&":"&Q18)),2),DunDay,0)),IF(ISERROR(MATCH(ROW(INDIRECT(P18&":"&Q18)),National,0)),1,0)),0))),"",IF(OR(P18<=0,Q18<=0,P18>Q18,ISNUMBER(P18)=FALSE,ISNUMBER(Q18)=FALSE),NA(),SUM(IF(ISERROR(MATCH(WEEKDAY(ROW(INDIRECT(P18&":"&Q18)),2),DunDay,0)),IF(ISERROR(MATCH(ROW(INDIRECT(P18&":"&Q18)),National,0)),1,0)),0)))} -> 14 | U18: {=IF(ISERROR(IF(OR(O18<=0,Q18<=0,O18>Q18,ISNUMBER(O18)=FALSE,ISNUMBER(Q18)=FALSE),NA(),SUM(IF(ISERROR(MATCH(WEEKDAY(ROW(INDIRECT(O18&":"&Q18)),2),DunDay,0)),IF(ISERROR(MATCH(ROW(INDIRECT(O18&":"&Q18)),National,0)),1,0)),0))),"",IF(OR(O18<=0,Q18<=0,O18>Q18,ISNUMBER(O18)=FALSE,ISNUMBER(Q18)=FALSE),NA(),SUM(IF(ISERROR(MATCH(WEEKDAY(ROW(INDIRECT(O18&":"&Q18)),2),DunDay,0)),IF(ISERROR(MATCH(ROW(INDIRECT(O18&":"&Q18)),National,0)),1,0)),0)))} | V18: {=IF(ISERROR(IF(S18<Q18,IF(OR(S18<=0,Q18<=0,S18>Q18,ISNUMBER(S18)=FALSE, ISNUMBER(Q18)=FALSE),NA(),SUM(IF(ISERROR(MATCH(WEEKDAY(ROW(INDIRECT(S18&":"&Q18))),DunDay,0)),IF(ISERROR(MATCH(ROW(INDIRECT(S18&":"&Q18)),National,0)),1,0)),0)),IF(OR(Q18<=0,S18<=0,Q18>S18,ISNUMBER(Q18)=FALSE, ISNUMBER(S18)=FALSE),NA(),SUM(IF(ISERROR(MATCH(WEEKDAY(ROW(INDIRECT(Q18&":"&S18))),DunDay,0)),IF(ISERROR(MATCH(ROW(INDIRECT(Q18&":"&S18)),National,0)),1,0)),0)))),"",IF(S18<Q18,IF(OR(S18<=0,Q18<=0,S18>Q18,ISNUMBER(S18)=FALSE, ISNUMBER(Q18)=FALSE),NA(),SUM(IF(ISERROR(MATCH(WEEKDAY(ROW(INDIRECT(S18&":"&Q18))),DunDay,0)),IF(ISERROR(MATCH(ROW(INDIRECT(S18&":"&Q18)),National,0)),1,0)),0)),IF(OR(Q18<=0,S18<=0,Q18>S18,ISNUMBER(Q18)=FALSE, ISNUMBER(S18)=FALSE),NA(),SUM(IF(ISERROR(MATCH(WEEKDAY(ROW(INDIRECT(Q18&":"&S18))),DunDay,0)),IF(ISERROR(MATCH(ROW(INDIRECT(Q18&":"&S18)),National,0)),1,0)),0))))}
B19: DAYS MARKER | J19: 1.1 | K19: Define Brand Name | M19: Bruce Jenner | O19: =IF(P19<>"",IF($G$17<=P19,P19,IF($G$17>=Q19,0,$G$17)),"") -> 0 | P19: 40910 | Q19: 40912 | R19: {=IF(ISERROR(IF(OR(P19<=0,Q19<=0,P19>Q19,ISNUMBER(P19)=FALSE,ISNUMBER(Q19)=FALSE),NA(),SUM(IF(ISERROR(MATCH(WEEKDAY(ROW(INDIRECT(P19&":"&Q19)),2),DunDay,0)),IF(ISERROR(MATCH(ROW(INDIRECT(P19&":"&Q19)),National,0)),1,0)),0))),"",IF(OR(P19<=0,Q19<=0,P19>Q19,ISNUMBER(P19)=FALSE,ISNUMBER(Q19)=FALSE),NA(),SUM(IF(ISERROR(MATCH(WEEKDAY(ROW(INDIRECT(P19&":"&Q19)),2),DunDay,0)),IF(ISERROR(MATCH(ROW(INDIRECT(P19&":"&Q19)),National,0)),1,0)),0)))} -> 3 | U19: {=IF(ISERROR(IF(OR(O19<=0,Q19<=0,O19>Q19,ISNUMBER(O19)=FALSE,ISNUMBER(Q19)=FALSE),NA(),SUM(IF(ISERROR(MATCH(WEEKDAY(ROW(INDIRECT(O19&":"&Q19)),2),DunDay,0)),IF(ISERROR(MATCH(ROW(INDIRECT(O19&":"&Q19)),National,0)),1,0)),0))),"",IF(OR(O19<=0,Q19<=0,O19>Q19,ISNUMBER(O19)=FALSE,ISNUMBER(Q19)=FALSE),NA(),SUM(IF(ISERROR(MATCH(WEEKDAY(ROW(INDIRECT(O19&":"&Q19)),2),DunDay,0)),IF(ISERROR(MATCH(ROW(INDIRECT(O19&":"&Q19)),National,0)),1,0)),0)))} | V19: {=IF(ISERROR(IF(S19<Q19,IF(OR(S19<=0,Q19<=0,S19>Q19,ISNUMBER(S19)=FALSE, ISNUMBER(Q19)=FALSE),NA(),SUM(IF(ISERROR(MATCH(WEEKDAY(ROW(INDIRECT(S19&":"&Q19))),DunDay,0)),IF(ISERROR(MATCH(ROW(INDIRECT(S19&":"&Q19)),National,0)),1,0)),0)),IF(OR(Q19<=0,S19<=0,Q19>S19,ISNUMBER(Q19)=FALSE, ISNUMBER(S19)=FALSE),NA(),SUM(IF(ISERROR(MATCH(WEEKDAY(ROW(INDIRECT(Q19&":"&S19))),DunDay,0)),IF(ISERROR(MATCH(ROW(INDIRECT(Q19&":"&S19)),National,0)),1,0)),0)))),"",IF(S19<Q19,IF(OR(S19<=0,Q19<=0,S19>Q19,ISNUMBER(S19)=FALSE, ISNUMBER(Q19)=FALSE),NA(),SUM(IF(ISERROR(MATCH(WEEKDAY(ROW(INDIRECT(S19&":"&Q19))),DunDay,0)),IF(ISERROR(MATCH(ROW(INDIRECT(S19&":"&Q19)),National,0)),1,0)),0)),IF(OR(Q19<=0,S19<=0,Q19>S19,ISNUMBER(Q19)=FALSE, ISNUMBER(S19)=FALSE),NA(),SUM(IF(ISERROR(MATCH(WEEKDAY(ROW(INDIRECT(Q19&":"&S19))),DunDay,0)),IF(ISERROR(MATCH(ROW(INDIRECT(Q19&":"&S19)),National,0)),1,0)),0))))}
B20: Today | D20: : | E20: Yes | F20: =IF(E20="Yes",1,0) -> 1 | J20: 1.2 | K20: Box Cover Design | M20: Lisa Girl | O20: =IF(P20<>"",IF($G$17<=P20,P20,IF($G$17>=Q20,0,$G$17)),"") -> 0 | P20: 40913 | Q20: 40917 | R20: {=IF(ISERROR(IF(OR(P20<=0,Q20<=0,P20>Q20,ISNUMBER(P20)=FALSE,ISNUMBER(Q20)=FALSE),NA(),SUM(IF(ISERROR(MATCH(WEEKDAY(ROW(INDIRECT(P20&":"&Q20)),2),DunDay,0)),IF(ISERROR(MATCH(ROW(INDIRECT(P20&":"&Q20)),National,0)),1,0)),0))),"",IF(OR(P20<=0,Q20<=0,P20>Q20,ISNUMBER(P20)=FALSE,ISNUMBER(Q20)=FALSE),NA(),SUM(IF(ISERROR(MATCH(WEEKDAY(ROW(INDIRECT(P20&":"&Q20)),2),DunDay,0)),IF(ISERROR(MATCH(ROW(INDIRECT(P20&":"&Q20)),National,0)),1,0)),0)))} -> 3 | U20: {=IF(ISERROR(IF(OR(O20<=0,Q20<=0,O20>Q20,ISNUMBER(O20)=FALSE,ISNUMBER(Q20)=FALSE),NA(),SUM(IF(ISERROR(MATCH(WEEKDAY(ROW(INDIRECT(O20&":"&Q20)),2),DunDay,0)),IF(ISERROR(MATCH(ROW(INDIRECT(O20&":"&Q20)),National,0)),1,0)),0))),"",IF(OR(O20<=0,Q20<=0,O20>Q20,ISNUMBER(O20)=FALSE,ISNUMBER(Q20)=FALSE),NA(),SUM(IF(ISERROR(MATCH(WEEKDAY(ROW(INDIRECT(O20&":"&Q20)),2),DunDay,0)),IF(ISERROR(MATCH(ROW(INDIRECT(O20&":"&Q20)),National,0)),1,0)),0)))} | V20: {=IF(ISERROR(IF(S20<Q20,IF(OR(S20<=0,Q20<=0,S20>Q20,ISNUMBER(S20)=FALSE, ISNUMBER(Q20)=FALSE),NA(),SUM(IF(ISERROR(MATCH(WEEKDAY(ROW(INDIRECT(S20&":"&Q20))),DunDay,0)),IF(ISERROR(MATCH(ROW(INDIRECT(S20&":"&Q20)),National,0)),1,0)),0)),IF(OR(Q20<=0,S20<=0,Q20>S20,ISNUMBER(Q20)=FALSE, ISNUMBER(S20)=FALSE),NA(),SUM(IF(ISERROR(MATCH(WEEKDAY(ROW(INDIRECT(Q20&":"&S20))),DunDay,0)),IF(ISERROR(MATCH(ROW(INDIRECT(Q20&":"&S20)),National,0)),1,0)),0)))),"",IF(S20<Q20,IF(OR(S20<=0,Q20<=0,S20>Q20,ISNUMBER(S20)=FALSE, ISNUMBER(Q20)=FALSE),NA(),SUM(IF(ISERROR(MATCH(WEEKDAY(ROW(INDIRECT(S20&":"&Q20))),DunDay,0)),IF(ISERROR(MATCH(ROW(INDIRECT(S20&":"&Q20)),National,0)),1,0)),0)),IF(OR(Q20<=0,S20<=0,Q20>S20,ISNUMBER(Q20)=FALSE, ISNUMBER(S20)=FALSE),NA(),SUM(IF(ISERROR(MATCH(WEEKDAY(ROW(INDIRECT(Q20&":"&S20))),DunDay,0)),IF(ISERROR(MATCH(ROW(INDIRECT(Q20&":"&S20)),National,0)),1,0)),0))))}
B21: Holiday | D21: : | E21: Yes | F21: =IF(E21="Yes",1,0) -> 1 | J21: 1.3 | K21: User Guide Cover Design | M21: Lisa Girl | O21: =IF(P21<>"",IF($G$17<=P21,P21,IF($G$17>=Q21,0,$G$17)),"") -> 0 | P21: 40913 | Q21: 40917 | R21: {=IF(ISERROR(IF(OR(P21<=0,Q21<=0,P21>Q21,ISNUMBER(P21)=FALSE,ISNUMBER(Q21)=FALSE),NA(),SUM(IF(ISERROR(MATCH(WEEKDAY(ROW(INDIRECT(P21&":"&Q21)),2),DunDay,0)),IF(ISERROR(MATCH(ROW(INDIRECT(P21&":"&Q21)),National,0)),1,0)),0))),"",IF(OR(P21<=0,Q21<=0,P21>Q21,ISNUMBER(P21)=FALSE,ISNUMBER(Q21)=FALSE),NA(),SUM(IF(ISERROR(MATCH(WEEKDAY(ROW(INDIRECT(P21&":"&Q21)),2),DunDay,0)),IF(ISERROR(MATCH(ROW(INDIRECT(P21&":"&Q21)),National,0)),1,0)),0)))} -> 3 | U21: {=IF(ISERROR(IF(OR(O21<=0,Q21<=0,O21>Q21,ISNUMBER(O21)=FALSE,ISNUMBER(Q21)=FALSE),NA(),SUM(IF(ISERROR(MATCH(WEEKDAY(ROW(INDIRECT(O21&":"&Q21)),2),DunDay,0)),IF(ISERROR(MATCH(ROW(INDIRECT(O21&":"&Q21)),National,0)),1,0)),0))),"",IF(OR(O21<=0,Q21<=0,O21>Q21,ISNUMBER(O21)=FALSE,ISNUMBER(Q21)=FALSE),NA(),SUM(IF(ISERROR(MATCH(WEEKDAY(ROW(INDIRECT(O21&":"&Q21)),2),DunDay,0)),IF(ISERROR(MATCH(ROW(INDIRECT(O21&":"&Q21)),National,0)),1,0)),0)))} | V21: {=IF(ISERROR(IF(S21<Q21,IF(OR(S21<=0,Q21<=0,S21>Q21,ISNUMBER(S21)=FALSE, ISNUMBER(Q21)=FALSE),NA(),SUM(IF(ISERROR(MATCH(WEEKDAY(ROW(INDIRECT(S21&":"&Q21))),DunDay,0)),IF(ISERROR(MATCH(ROW(INDIRECT(S21&":"&Q21)),National,0)),1,0)),0)),IF(OR(Q21<=0,S21<=0,Q21>S21,ISNUMBER(Q21)=FALSE, ISNUMBER(S21)=FALSE),NA(),SUM(IF(ISERROR(MATCH(WEEKDAY(ROW(INDIRECT(Q21&":"&S21))),DunDay,0)),IF(ISERROR(MATCH(ROW(INDIRECT(Q21&":"&S21)),National,0)),1,0)),0)))),"",IF(S21<Q21,IF(OR(S21<=0,Q21<=0,S21>Q21,ISNUMBER(S21)=FALSE, ISNUMBER(Q21)=FALSE),NA(),SUM(IF(ISERROR(MATCH(WEEKDAY(ROW(INDIRECT(S21&":"&Q21))),DunDay,0)),IF(ISERROR(MATCH(ROW(INDIRECT(S21&":"&Q21)),National,0)),1,0)),0)),IF(OR(Q21<=0,S21<=0,Q21>S21,ISNUMBER(Q21)=FALSE, ISNUMBER(S21)=FALSE),NA(),SUM(IF(ISERROR(MATCH(WEEKDAY(ROW(INDIRECT(Q21&":"&S21))),DunDay,0)),IF(ISERROR(MATCH(ROW(INDIRECT(Q21&":"&S21)),National,0)),1,0)),0))))}
B22: Leave | D22: : | E22: No | J22: 1.4 | K22: Warranty Card Design | M22: Lisa Girl | O22: =IF(P22<>"",IF($G$17<=P22,P22,IF($G$17>=Q22,0,$G$17)),"") -> 0 | P22: 40913 | Q22: 40917 | R22: {=IF(ISERROR(IF(OR(P22<=0,Q22<=0,P22>Q22,ISNUMBER(P22)=FALSE,ISNUMBER(Q22)=FALSE),NA(),SUM(IF(ISERROR(MATCH(WEEKDAY(ROW(INDIRECT(P22&":"&Q22)),2),DunDay,0)),IF(ISERROR(MATCH(ROW(INDIRECT(P22&":"&Q22)),National,0)),1,0)),0))),"",IF(OR(P22<=0,Q22<=0,P22>Q22,ISNUMBER(P22)=FALSE,ISNUMBER(Q22)=FALSE),NA(),SUM(IF(ISERROR(MATCH(WEEKDAY(ROW(INDIRECT(P22&":"&Q22)),2),DunDay,0)),IF(ISERROR(MATCH(ROW(INDIRECT(P22&":"&Q22)),National,0)),1,0)),0)))} -> 3 | U22: {=IF(ISERROR(IF(OR(O22<=0,Q22<=0,O22>Q22,ISNUMBER(O22)=FALSE,ISNUMBER(Q22)=FALSE),NA(),SUM(IF(ISERROR(MATCH(WEEKDAY(ROW(INDIRECT(O22&":"&Q22)),2),DunDay,0)),IF(ISERROR(MATCH(ROW(INDIRECT(O22&":"&Q22)),National,0)),1,0)),0))),"",IF(OR(O22<=0,Q22<=0,O22>Q22,ISNUMBER(O22)=FALSE,ISNUMBER(Q22)=FALSE),NA(),SUM(IF(ISERROR(MATCH(WEEKDAY(ROW(INDIRECT(O22&":"&Q22)),2),DunDay,0)),IF(ISERROR(MATCH(ROW(INDIRECT(O22&":"&Q22)),National,0)),1,0)),0)))} | V22: {=IF(ISERROR(IF(S22<Q22,IF(OR(S22<=0,Q22<=0,S22>Q22,ISNUMBER(S22)=FALSE, ISNUMBER(Q22)=FALSE),NA(),SUM(IF(ISERROR(MATCH(WEEKDAY(ROW(INDIRECT(S22&":"&Q22))),DunDay,0)),IF(ISERROR(MATCH(ROW(INDIRECT(S22&":"&Q22)),National,0)),1,0)),0)),IF(OR(Q22<=0,S22<=0,Q22>S22,ISNUMBER(Q22)=FALSE, ISNUMBER(S22)=FALSE),NA(),SUM(IF(ISERROR(MATCH(WEEKDAY(ROW(INDIRECT(Q22&":"&S22))),DunDay,0)),IF(ISERROR(MATCH(ROW(INDIRECT(Q22&":"&S22)),National,0)),1,0)),0)))),"",IF(S22<Q22,IF(OR(S22<=0,Q22<=0,S22>Q22,ISNUMBER(S22)=FALSE, ISNUMBER(Q22)=FALSE),NA(),SUM(IF(ISERROR(MATCH(WEEKDAY(ROW(INDIRECT(S22&":"&Q22))),DunDay,0)),IF(ISERROR(MATCH(ROW(INDIRECT(S22&":"&Q22)),National,0)),1,0)),0)),IF(OR(Q22<=0,S22<=0,Q22>S22,ISNUMBER(Q22)=FALSE, ISNUMBER(S22)=FALSE),NA(),SUM(IF(ISERROR(MATCH(WEEKDAY(ROW(INDIRECT(Q22&":"&S22))),DunDay,0)),IF(ISERROR(MATCH(ROW(INDIRECT(Q22&":"&S22)),National,0)),1,0)),0))))}
B23: Start/End | D23: : | E23: No | J23: 1.5 | K23: Production | M23: Lois Lang | O23: =IF(P23<>"",IF($G$17<=P23,P23,IF($G$17>=Q23,0,$G$17)),"") -> 0 | P23: 40918 | Q23: 40928 | R23: {=IF(ISERROR(IF(OR(P23<=0,Q23<=0,P23>Q23,ISNUMBER(P23)=FALSE,ISNUMBER(Q23)=FALSE),NA(),SUM(IF(ISERROR(MATCH(WEEKDAY(ROW(INDIRECT(P23&":"&Q23)),2),DunDay,0)),IF(ISERROR(MATCH(ROW(INDIRECT(P23&":"&Q23)),National,0)),1,0)),0))),"",IF(OR(P23<=0,Q23<=0,P23>Q23,ISNUMBER(P23)=FALSE,ISNUMBER(Q23)=FALSE),NA(),SUM(IF(ISERROR(MATCH(WEEKDAY(ROW(INDIRECT(P23&":"&Q23)),2),DunDay,0)),IF(ISERROR(MATCH(ROW(INDIRECT(P23&":"&Q23)),National,0)),1,0)),0)))} -> 8 | U23: {=IF(ISERROR(IF(OR(O23<=0,Q23<=0,O23>Q23,ISNUMBER(O23)=FALSE,ISNUMBER(Q23)=FALSE),NA(),SUM(IF(ISERROR(MATCH(WEEKDAY(ROW(INDIRECT(O23&":"&Q23)),2),DunDay,0)),IF(ISERROR(MATCH(ROW(INDIRECT(O23&":"&Q23)),National,0)),1,0)),0))),"",IF(OR(O23<=0,Q23<=0,O23>Q23,ISNUMBER(O23)=FALSE,ISNUMBER(Q23)=FALSE),NA(),SUM(IF(ISERROR(MATCH(WEEKDAY(ROW(INDIRECT(O23&":"&Q23)),2),DunDay,0)),IF(ISERROR(MATCH(ROW(INDIRECT(O23&":"&Q23)),National,0)),1,0)),0)))} | V23: {=IF(ISERROR(IF(S23<Q23,IF(OR(S23<=0,Q23<=0,S23>Q23,ISNUMBER(S23)=FALSE, ISNUMBER(Q23)=FALSE),NA(),SUM(IF(ISERROR(MATCH(WEEKDAY(ROW(INDIRECT(S23&":"&Q23))),DunDay,0)),IF(ISERROR(MATCH(ROW(INDIRECT(S23&":"&Q23)),National,0)),1,0)),0)),IF(OR(Q23<=0,S23<=0,Q23>S23,ISNUMBER(Q23)=FALSE, ISNUMBER(S23)=FALSE),NA(),SUM(IF(ISERROR(MATCH(WEEKDAY(ROW(INDIRECT(Q23&":"&S23))),DunDay,0)),IF(ISERROR(MATCH(ROW(INDIRECT(Q23&":"&S23)),National,0)),1,0)),0)))),"",IF(S23<Q23,IF(OR(S23<=0,Q23<=0,S23>Q23,ISNUMBER(S23)=FALSE, ISNUMBER(Q23)=FALSE),NA(),SUM(IF(ISERROR(MATCH(WEEKDAY(ROW(INDIRECT(S23&":"&Q23))),DunDay,0)),IF(ISERROR(MATCH(ROW(INDIRECT(S23&":"&Q23)),National,0)),1,0)),0)),IF(OR(Q23<=0,S23<=0,Q23>S23,ISNUMBER(Q23)=FALSE, ISNUMBER(S23)=FALSE),NA(),SUM(IF(ISERROR(MATCH(WEEKDAY(ROW(INDIRECT(Q23&":"&S23))),DunDay,0)),IF(ISERROR(MATCH(ROW(INDIRECT(Q23&":"&S23)),National,0)),1,0)),0))))}
B24: Passing Days | D24: : | E24: Yes | F24: =IF(E24="Yes",1,0) -> 1 | J24: 2 | K24: Marketing Kit | M24: John Wayne | O24: =IF(P24<>"",IF($G$17<=P24,P24,IF($G$17>=Q24,0,$G$17)),"") -> 0 | P24: 40918 | Q24: 40931 | R24: {=IF(ISERROR(IF(OR(P24<=0,Q24<=0,P24>Q24,ISNUMBER(P24)=FALSE,ISNUMBER(Q24)=FALSE),NA(),SUM(IF(ISERROR(MATCH(WEEKDAY(ROW(INDIRECT(P24&":"&Q24)),2),DunDay,0)),IF(ISERROR(MATCH(ROW(INDIRECT(P24&":"&Q24)),National,0)),1,0)),0))),"",IF(OR(P24<=0,Q24<=0,P24>Q24,ISNUMBER(P24)=FALSE,ISNUMBER(Q24)=FALSE),NA(),SUM(IF(ISERROR(MATCH(WEEKDAY(ROW(INDIRECT(P24&":"&Q24)),2),DunDay,0)),IF(ISERROR(MATCH(ROW(INDIRECT(P24&":"&Q24)),National,0)),1,0)),0)))} -> 9 | U24: {=IF(ISERROR(IF(OR(O24<=0,Q24<=0,O24>Q24,ISNUMBER(O24)=FALSE,ISNUMBER(Q24)=FALSE),NA(),SUM(IF(ISERROR(MATCH(WEEKDAY(ROW(INDIRECT(O24&":"&Q24)),2),DunDay,0)),IF(ISERROR(MATCH(ROW(INDIRECT(O24&":"&Q24)),National,0)),1,0)),0))),"",IF(OR(O24<=0,Q24<=0,O24>Q24,ISNUMBER(O24)=FALSE,ISNUMBER(Q24)=FALSE),NA(),SUM(IF(ISERROR(MATCH(WEEKDAY(ROW(INDIRECT(O24&":"&Q24)),2),DunDay,0)),IF(ISERROR(MATCH(ROW(INDIRECT(O24&":"&Q24)),National,0)),1,0)),0)))} | V24: {=IF(ISERROR(IF(S24<Q24,IF(OR(S24<=0,Q24<=0,S24>Q24,ISNUMBER(S24)=FALSE, ISNUMBER(Q24)=FALSE),NA(),SUM(IF(ISERROR(MATCH(WEEKDAY(ROW(INDIRECT(S24&":"&Q24))),DunDay,0)),IF(ISERROR(MATCH(ROW(INDIRECT(S24&":"&Q24)),National,0)),1,0)),0)),IF(OR(Q24<=0,S24<=0,Q24>S24,ISNUMBER(Q24)=FALSE, ISNUMBER(S24)=FALSE),NA(),SUM(IF(ISERROR(MATCH(WEEKDAY(ROW(INDIRECT(Q24&":"&S24))),DunDay,0)),IF(ISERROR(MATCH(ROW(INDIRECT(Q24&":"&S24)),National,0)),1,0)),0)))),"",IF(S24<Q24,IF(OR(S24<=0,Q24<=0,S24>Q24,ISNUMBER(S24)=FALSE, ISNUMBER(Q24)=FALSE),NA(),SUM(IF(ISERROR(MATCH(WEEKDAY(ROW(INDIRECT(S24&":"&Q24))),DunDay,0)),IF(ISERROR(MATCH(ROW(INDIRECT(S24&":"&Q24)),National,0)),1,0)),0)),IF(OR(Q24<=0,S24<=0,Q24>S24,ISNUMBER(Q24)=FALSE, ISNUMBER(S24)=FALSE),NA(),SUM(IF(ISERROR(MATCH(WEEKDAY(ROW(INDIRECT(Q24&":"&S24))),DunDay,0)),IF(ISERROR(MATCH(ROW(INDIRECT(Q24&":"&S24)),National,0)),1,0)),0))))}
B25: DISPLAY | J25: 2.1 | K25: Brochures | M25: John Wayne | O25: =IF(P25<>"",IF($G$17<=P25,P25,IF($G$17>=Q25,0,$G$17)),"") -> 0 | P25: 40918 | Q25: 40920 | R25: {=IF(ISERROR(IF(OR(P25<=0,Q25<=0,P25>Q25,ISNUMBER(P25)=FALSE,ISNUMBER(Q25)=FALSE),NA(),SUM(IF(ISERROR(MATCH(WEEKDAY(ROW(INDIRECT(P25&":"&Q25)),2),DunDay,0)),IF(ISERROR(MATCH(ROW(INDIRECT(P25&":"&Q25)),National,0)),1,0)),0))),"",IF(OR(P25<=0,Q25<=0,P25>Q25,ISNUMBER(P25)=FALSE,ISNUMBER(Q25)=FALSE),NA(),SUM(IF(ISERROR(MATCH(WEEKDAY(ROW(INDIRECT(P25&":"&Q25)),2),DunDay,0)),IF(ISERROR(MATCH(ROW(INDIRECT(P25&":"&Q25)),National,0)),1,0)),0)))} -> 3 | U25: {=IF(ISERROR(IF(OR(O25<=0,Q25<=0,O25>Q25,ISNUMBER(O25)=FALSE,ISNUMBER(Q25)=FALSE),NA(),SUM(IF(ISERROR(MATCH(WEEKDAY(ROW(INDIRECT(O25&":"&Q25)),2),DunDay,0)),IF(ISERROR(MATCH(ROW(INDIRECT(O25&":"&Q25)),National,0)),1,0)),0))),"",IF(OR(O25<=0,Q25<=0,O25>Q25,ISNUMBER(O25)=FALSE,ISNUMBER(Q25)=FALSE),NA(),SUM(IF(ISERROR(MATCH(WEEKDAY(ROW(INDIRECT(O25&":"&Q25)),2),DunDay,0)),IF(ISERROR(MATCH(ROW(INDIRECT(O25&":"&Q25)),National,0)),1,0)),0)))} | V25: {=IF(ISERROR(IF(S25<Q25,IF(OR(S25<=0,Q25<=0,S25>Q25,ISNUMBER(S25)=FALSE, ISNUMBER(Q25)=FALSE),NA(),SUM(IF(ISERROR(MATCH(WEEKDAY(ROW(INDIRECT(S25&":"&Q25))),DunDay,0)),IF(ISERROR(MATCH(ROW(INDIRECT(S25&":"&Q25)),National,0)),1,0)),0)),IF(OR(Q25<=0,S25<=0,Q25>S25,ISNUMBER(Q25)=FALSE, ISNUMBER(S25)=FALSE),NA(),SUM(IF(ISERROR(MATCH(WEEKDAY(ROW(INDIRECT(Q25&":"&S25))),DunDay,0)),IF(ISERROR(MATCH(ROW(INDIRECT(Q25&":"&S25)),National,0)),1,0)),0)))),"",IF(S25<Q25,IF(OR(S25<=0,Q25<=0,S25>Q25,ISNUMBER(S25)=FALSE, ISNUMBER(Q25)=FALSE),NA(),SUM(IF(ISERROR(MATCH(WEEKDAY(ROW(INDIRECT(S25&":"&Q25))),DunDay,0)),IF(ISERROR(MATCH(ROW(INDIRECT(S25&":"&Q25)),National,0)),1,0)),0)),IF(OR(Q25<=0,S25<=0,Q25>S25,ISNUMBER(Q25)=FALSE, ISNUMBER(S25)=FALSE),NA(),SUM(IF(ISERROR(MATCH(WEEKDAY(ROW(INDIRECT(Q25&":"&S25))),DunDay,0)),IF(ISERROR(MATCH(ROW(INDIRECT(Q25&":"&S25)),National,0)),1,0)),0))))}
B26: Window | D26: : | E26: 52 Week | F26: 4 | J26: 2.2 | K26: Banners | M26: John Harper | O26: =IF(P26<>"",IF($G$17<=P26,P26,IF($G$17>=Q26,0,$G$17)),"") -> 0 | P26: 40918 | Q26: 40920 | R26: {=IF(ISERROR(IF(OR(P26<=0,Q26<=0,P26>Q26,ISNUMBER(P26)=FALSE,ISNUMBER(Q26)=FALSE),NA(),SUM(IF(ISERROR(MATCH(WEEKDAY(ROW(INDIRECT(P26&":"&Q26)),2),DunDay,0)),IF(ISERROR(MATCH(ROW(INDIRECT(P26&":"&Q26)),National,0)),1,0)),0))),"",IF(OR(P26<=0,Q26<=0,P26>Q26,ISNUMBER(P26)=FALSE,ISNUMBER(Q26)=FALSE),NA(),SUM(IF(ISERROR(MATCH(WEEKDAY(ROW(INDIRECT(P26&":"&Q26)),2),DunDay,0)),IF(ISERROR(MATCH(ROW(INDIRECT(P26&":"&Q26)),National,0)),1,0)),0)))} -> 3 | U26: {=IF(ISERROR(IF(OR(O26<=0,Q26<=0,O26>Q26,ISNUMBER(O26)=FALSE,ISNUMBER(Q26)=FALSE),NA(),SUM(IF(ISERROR(MATCH(WEEKDAY(ROW(INDIRECT(O26&":"&Q26)),2),DunDay,0)),IF(ISERROR(MATCH(ROW(INDIRECT(O26&":"&Q26)),National,0)),1,0)),0))),"",IF(OR(O26<=0,Q26<=0,O26>Q26,ISNUMBER(O26)=FALSE,ISNUMBER(Q26)=FALSE),NA(),SUM(IF(ISERROR(MATCH(WEEKDAY(ROW(INDIRECT(O26&":"&Q26)),2),DunDay,0)),IF(ISERROR(MATCH(ROW(INDIRECT(O26&":"&Q26)),National,0)),1,0)),0)))} | V26: {=IF(ISERROR(IF(S26<Q26,IF(OR(S26<=0,Q26<=0,S26>Q26,ISNUMBER(S26)=FALSE, ISNUMBER(Q26)=FALSE),NA(),SUM(IF(ISERROR(MATCH(WEEKDAY(ROW(INDIRECT(S26&":"&Q26))),DunDay,0)),IF(ISERROR(MATCH(ROW(INDIRECT(S26&":"&Q26)),National,0)),1,0)),0)),IF(OR(Q26<=0,S26<=0,Q26>S26,ISNUMBER(Q26)=FALSE, ISNUMBER(S26)=FALSE),NA(),SUM(IF(ISERROR(MATCH(WEEKDAY(ROW(INDIRECT(Q26&":"&S26))),DunDay,0)),IF(ISERROR(MATCH(ROW(INDIRECT(Q26&":"&S26)),National,0)),1,0)),0)))),"",IF(S26<Q26,IF(OR(S26<=0,Q26<=0,S26>Q26,ISNUMBER(S26)=FALSE, ISNUMBER(Q26)=FALSE),NA(),SUM(IF(ISERROR(MATCH(WEEKDAY(ROW(INDIRECT(S26&":"&Q26))),DunDay,0)),IF(ISERROR(MATCH(ROW(INDIRECT(S26&":"&Q26)),National,0)),1,0)),0)),IF(OR(Q26<=0,S26<=0,Q26>S26,ISNUMBER(Q26)=FALSE, ISNUMBER(S26)=FALSE),NA(),SUM(IF(ISERROR(MATCH(WEEKDAY(ROW(INDIRECT(Q26&":"&S26))),DunDay,0)),IF(ISERROR(MATCH(ROW(INDIRECT(Q26&":"&S26)),National,0)),1,0)),0))))}
B27: Slider | D27: : | E27: Weekly | F27: 1 | J27: 2.3 | K27: Production | M27: Lois Lang | O27: =IF(P27<>"",IF($G$17<=P27,P27,IF($G$17>=Q27,0,$G$17)),"") -> 0 | P27: 40921 | Q27: 40931 | R27: {=IF(ISERROR(IF(OR(P27<=0,Q27<=0,P27>Q27,ISNUMBER(P27)=FALSE,ISNUMBER(Q27)=FALSE),NA(),SUM(IF(ISERROR(MATCH(WEEKDAY(ROW(INDIRECT(P27&":"&Q27)),2),DunDay,0)),IF(ISERROR(MATCH(ROW(INDIRECT(P27&":"&Q27)),National,0)),1,0)),0))),"",IF(OR(P27<=0,Q27<=0,P27>Q27,ISNUMBER(P27)=FALSE,ISNUMBER(Q27)=FALSE),NA(),SUM(IF(ISERROR(MATCH(WEEKDAY(ROW(INDIRECT(P27&":"&Q27)),2),DunDay,0)),IF(ISERROR(MATCH(ROW(INDIRECT(P27&":"&Q27)),National,0)),1,0)),0)))} -> 6 | U27: {=IF(ISERROR(IF(OR(O27<=0,Q27<=0,O27>Q27,ISNUMBER(O27)=FALSE,ISNUMBER(Q27)=FALSE),NA(),SUM(IF(ISERROR(MATCH(WEEKDAY(ROW(INDIRECT(O27&":"&Q27)),2),DunDay,0)),IF(ISERROR(MATCH(ROW(INDIRECT(O27&":"&Q27)),National,0)),1,0)),0))),"",IF(OR(O27<=0,Q27<=0,O27>Q27,ISNUMBER(O27)=FALSE,ISNUMBER(Q27)=FALSE),NA(),SUM(IF(ISERROR(MATCH(WEEKDAY(ROW(INDIRECT(O27&":"&Q27)),2),DunDay,0)),IF(ISERROR(MATCH(ROW(INDIRECT(O27&":"&Q27)),National,0)),1,0)),0)))} | V27: {=IF(ISERROR(IF(S27<Q27,IF(OR(S27<=0,Q27<=0,S27>Q27,ISNUMBER(S27)=FALSE, ISNUMBER(Q27)=FALSE),NA(),SUM(IF(ISERROR(MATCH(WEEKDAY(ROW(INDIRECT(S27&":"&Q27))),DunDay,0)),IF(ISERROR(MATCH(ROW(INDIRECT(S27&":"&Q27)),National,0)),1,0)),0)),IF(OR(Q27<=0,S27<=0,Q27>S27,ISNUMBER(Q27)=FALSE, ISNUMBER(S27)=FALSE),NA(),SUM(IF(ISERROR(MATCH(WEEKDAY(ROW(INDIRECT(Q27&":"&S27))),DunDay,0)),IF(ISERROR(MATCH(ROW(INDIRECT(Q27&":"&S27)),National,0)),1,0)),0)))),"",IF(S27<Q27,IF(OR(S27<=0,Q27<=0,S27>Q27,ISNUMBER(S27)=FALSE, ISNUMBER(Q27)=FALSE),NA(),SUM(IF(ISERROR(MATCH(WEEKDAY(ROW(INDIRECT(S27&":"&Q27))),DunDay,0)),IF(ISERROR(MATCH(ROW(INDIRECT(S27&":"&Q27)),National,0)),1,0)),0)),IF(OR(Q27<=0,S27<=0,Q27>S27,ISNUMBER(Q27)=FALSE, ISNUMBER(S27)=FALSE),NA(),SUM(IF(ISERROR(MATCH(WEEKDAY(ROW(INDIRECT(Q27&":"&S27))),DunDay,0)),IF(ISERROR(MATCH(ROW(INDIRECT(Q27&":"&S27)),National,0)),1,0)),0))))}
B28: ALERT | J28: 3 | K28: Event | M28: Sarah Parker | O28: =IF(P28<>"",IF($G$17<=P28,P28,IF($G$17>=Q28,0,$G$17)),"") -> 0 | P28: 40910 | Q28: 40940 | R28: {=IF(ISERROR(IF(OR(P28<=0,Q28<=0,P28>Q28,ISNUMBER(P28)=FALSE,ISNUMBER(Q28)=FALSE),NA(),SUM(IF(ISERROR(MATCH(WEEKDAY(ROW(INDIRECT(P28&":"&Q28)),2),DunDay,0)),IF(ISERROR(MATCH(ROW(INDIRECT(P28&":"&Q28)),National,0)),1,0)),0))),"",IF(OR(P28<=0,Q28<=0,P28>Q28,ISNUMBER(P28)=FALSE,ISNUMBER(Q28)=FALSE),NA(),SUM(IF(ISERROR(MATCH(WEEKDAY(ROW(INDIRECT(P28&":"&Q28)),2),DunDay,0)),IF(ISERROR(MATCH(ROW(INDIRECT(P28&":"&Q28)),National,0)),1,0)),0)))} -> 22 | U28: {=IF(ISERROR(IF(OR(O28<=0,Q28<=0,O28>Q28,ISNUMBER(O28)=FALSE,ISNUMBER(Q28)=FALSE),NA(),SUM(IF(ISERROR(MATCH(WEEKDAY(ROW(INDIRECT(O28&":"&Q28)),2),DunDay,0)),IF(ISERROR(MATCH(ROW(INDIRECT(O28&":"&Q28)),National,0)),1,0)),0))),"",IF(OR(O28<=0,Q28<=0,O28>Q28,ISNUMBER(O28)=FALSE,ISNUMBER(Q28)=FALSE),NA(),SUM(IF(ISERROR(MATCH(WEEKDAY(ROW(INDIRECT(O28&":"&Q28)),2),DunDay,0)),IF(ISERROR(MATCH(ROW(INDIRECT(O28&":"&Q28)),National,0)),1,0)),0)))} | V28: {=IF(ISERROR(IF(S28<Q28,IF(OR(S28<=0,Q28<=0,S28>Q28,ISNUMBER(S28)=FALSE, ISNUMBER(Q28)=FALSE),NA(),SUM(IF(ISERROR(MATCH(WEEKDAY(ROW(INDIRECT(S28&":"&Q28))),DunDay,0)),IF(ISERROR(MATCH(ROW(INDIRECT(S28&":"&Q28)),National,0)),1,0)),0)),IF(OR(Q28<=0,S28<=0,Q28>S28,ISNUMBER(Q28)=FALSE, ISNUMBER(S28)=FALSE),NA(),SUM(IF(ISERROR(MATCH(WEEKDAY(ROW(INDIRECT(Q28&":"&S28))),DunDay,0)),IF(ISERROR(MATCH(ROW(INDIRECT(Q28&":"&S28)),National,0)),1,0)),0)))),"",IF(S28<Q28,IF(OR(S28<=0,Q28<=0,S28>Q28,ISNUMBER(S28)=FALSE, ISNUMBER(Q28)=FALSE),NA(),SUM(IF(ISERROR(MATCH(WEEKDAY(ROW(INDIRECT(S28&":"&Q28))),DunDay,0)),IF(ISERROR(MATCH(ROW(INDIRECT(S28&":"&Q28)),National,0)),1,0)),0)),IF(OR(Q28<=0,S28<=0,Q28>S28,ISNUMBER(Q28)=FALSE, ISNUMBER(S28)=FALSE),NA(),SUM(IF(ISERROR(MATCH(WEEKDAY(ROW(INDIRECT(Q28&":"&S28))),DunDay,0)),IF(ISERROR(MATCH(ROW(INDIRECT(Q28&":"&S28)),National,0)),1,0)),0))))}
B29: Remaining Days | D29: : | E29: 0 | J29: 3.1 | K29: Define Location | M29: Sarah Parker | O29: =IF(P29<>"",IF($G$17<=P29,P29,IF($G$17>=Q29,0,$G$17)),"") -> 0 | P29: 40910 | Q29: 40912 | R29: {=IF(ISERROR(IF(OR(P29<=0,Q29<=0,P29>Q29,ISNUMBER(P29)=FALSE,ISNUMBER(Q29)=FALSE),NA(),SUM(IF(ISERROR(MATCH(WEEKDAY(ROW(INDIRECT(P29&":"&Q29)),2),DunDay,0)),IF(ISERROR(MATCH(ROW(INDIRECT(P29&":"&Q29)),National,0)),1,0)),0))),"",IF(OR(P29<=0,Q29<=0,P29>Q29,ISNUMBER(P29)=FALSE,ISNUMBER(Q29)=FALSE),NA(),SUM(IF(ISERROR(MATCH(WEEKDAY(ROW(INDIRECT(P29&":"&Q29)),2),DunDay,0)),IF(ISERROR(MATCH(ROW(INDIRECT(P29&":"&Q29)),National,0)),1,0)),0)))} -> 3 | U29: {=IF(ISERROR(IF(OR(O29<=0,Q29<=0,O29>Q29,ISNUMBER(O29)=FALSE,ISNUMBER(Q29)=FALSE),NA(),SUM(IF(ISERROR(MATCH(WEEKDAY(ROW(INDIRECT(O29&":"&Q29)),2),DunDay,0)),IF(ISERROR(MATCH(ROW(INDIRECT(O29&":"&Q29)),National,0)),1,0)),0))),"",IF(OR(O29<=0,Q29<=0,O29>Q29,ISNUMBER(O29)=FALSE,ISNUMBER(Q29)=FALSE),NA(),SUM(IF(ISERROR(MATCH(WEEKDAY(ROW(INDIRECT(O29&":"&Q29)),2),DunDay,0)),IF(ISERROR(MATCH(ROW(INDIRECT(O29&":"&Q29)),National,0)),1,0)),0)))} | V29: {=IF(ISERROR(IF(S29<Q29,IF(OR(S29<=0,Q29<=0,S29>Q29,ISNUMBER(S29)=FALSE, ISNUMBER(Q29)=FALSE),NA(),SUM(IF(ISERROR(MATCH(WEEKDAY(ROW(INDIRECT(S29&":"&Q29))),DunDay,0)),IF(ISERROR(MATCH(ROW(INDIRECT(S29&":"&Q29)),National,0)),1,0)),0)),IF(OR(Q29<=0,S29<=0,Q29>S29,ISNUMBER(Q29)=FALSE, ISNUMBER(S29)=FALSE),NA(),SUM(IF(ISERROR(MATCH(WEEKDAY(ROW(INDIRECT(Q29&":"&S29))),DunDay,0)),IF(ISERROR(MATCH(ROW(INDIRECT(Q29&":"&S29)),National,0)),1,0)),0)))),"",IF(S29<Q29,IF(OR(S29<=0,Q29<=0,S29>Q29,ISNUMBER(S29)=FALSE, ISNUMBER(Q29)=FALSE),NA(),SUM(IF(ISERROR(MATCH(WEEKDAY(ROW(INDIRECT(S29&":"&Q29))),DunDay,0)),IF(ISERROR(MATCH(ROW(INDIRECT(S29&":"&Q29)),National,0)),1,0)),0)),IF(OR(Q29<=0,S29<=0,Q29>S29,ISNUMBER(Q29)=FALSE, ISNUMBER(S29)=FALSE),NA(),SUM(IF(ISERROR(MATCH(WEEKDAY(ROW(INDIRECT(Q29&":"&S29))),DunDay,0)),IF(ISERROR(MATCH(ROW(INDIRECT(Q29&":"&S29)),National,0)),1,0)),0))))}
J30: 3.2 | K30: Book Location | M30: Sarah Parker | O30: =IF(P30<>"",IF($G$17<=P30,P30,IF($G$17>=Q30,0,$G$17)),"") -> 0 | P30: 40913 | Q30: 40913 | R30: {=IF(ISERROR(IF(OR(P30<=0,Q30<=0,P30>Q30,ISNUMBER(P30)=FALSE,ISNUMBER(Q30)=FALSE),NA(),SUM(IF(ISERROR(MATCH(WEEKDAY(ROW(INDIRECT(P30&":"&Q30)),2),DunDay,0)),IF(ISERROR(MATCH(ROW(INDIRECT(P30&":"&Q30)),National,0)),1,0)),0))),"",IF(OR(P30<=0,Q30<=0,P30>Q30,ISNUMBER(P30)=FALSE,ISNUMBER(Q30)=FALSE),NA(),SUM(IF(ISERROR(MATCH(WEEKDAY(ROW(INDIRECT(P30&":"&Q30)),2),DunDay,0)),IF(ISERROR(MATCH(ROW(INDIRECT(P30&":"&Q30)),National,0)),1,0)),0)))} -> 1 | U30: {=IF(ISERROR(IF(OR(O30<=0,Q30<=0,O30>Q30,ISNUMBER(O30)=FALSE,ISNUMBER(Q30)=FALSE),NA(),SUM(IF(ISERROR(MATCH(WEEKDAY(ROW(INDIRECT(O30&":"&Q30)),2),DunDay,0)),IF(ISERROR(MATCH(ROW(INDIRECT(O30&":"&Q30)),National,0)),1,0)),0))),"",IF(OR(O30<=0,Q30<=0,O30>Q30,ISNUMBER(O30)=FALSE,ISNUMBER(Q30)=FALSE),NA(),SUM(IF(ISERROR(MATCH(WEEKDAY(ROW(INDIRECT(O30&":"&Q30)),2),DunDay,0)),IF(ISERROR(MATCH(ROW(INDIRECT(O30&":"&Q30)),National,0)),1,0)),0)))} | V30: {=IF(ISERROR(IF(S30<Q30,IF(OR(S30<=0,Q30<=0,S30>Q30,ISNUMBER(S30)=FALSE, ISNUMBER(Q30)=FALSE),NA(),SUM(IF(ISERROR(MATCH(WEEKDAY(ROW(INDIRECT(S30&":"&Q30))),DunDay,0)),IF(ISERROR(MATCH(ROW(INDIRECT(S30&":"&Q30)),National,0)),1,0)),0)),IF(OR(Q30<=0,S30<=0,Q30>S30,ISNUMBER(Q30)=FALSE, ISNUMBER(S30)=FALSE),NA(),SUM(IF(ISERROR(MATCH(WEEKDAY(ROW(INDIRECT(Q30&":"&S30))),DunDay,0)),IF(ISERROR(MATCH(ROW(INDIRECT(Q30&":"&S30)),National,0)),1,0)),0)))),"",IF(S30<Q30,IF(OR(S30<=0,Q30<=0,S30>Q30,ISNUMBER(S30)=FALSE, ISNUMBER(Q30)=FALSE),NA(),SUM(IF(ISERROR(MATCH(WEEKDAY(ROW(INDIRECT(S30&":"&Q30))),DunDay,0)),IF(ISERROR(MATCH(ROW(INDIRECT(S30&":"&Q30)),National,0)),1,0)),0)),IF(OR(Q30<=0,S30<=0,Q30>S30,ISNUMBER(Q30)=FALSE, ISNUMBER(S30)=FALSE),NA(),SUM(IF(ISERROR(MATCH(WEEKDAY(ROW(INDIRECT(Q30&":"&S30))),DunDay,0)),IF(ISERROR(MATCH(ROW(INDIRECT(Q30&":"&S30)),National,0)),1,0)),0))))}
J31: 3.3 | K31: Press Conference | M31: Peter Kent | O31: =IF(P31<>"",IF($G$17<=P31,P31,IF($G$17>=Q31,0,$G$17)),"") -> 0 | P31: 40940 | Q31: 40940 | R31: {=IF(ISERROR(IF(OR(P31<=0,Q31<=0,P31>Q31,ISNUMBER(P31)=FALSE,ISNUMBER(Q31)=FALSE),NA(),SUM(IF(ISERROR(MATCH(WEEKDAY(ROW(INDIRECT(P31&":"&Q31)),2),DunDay,0)),IF(ISERROR(MATCH(ROW(INDIRECT(P31&":"&Q31)),National,0)),1,0)),0))),"",IF(OR(P31<=0,Q31<=0,P31>Q31,ISNUMBER(P31)=FALSE,ISNUMBER(Q31)=FALSE),NA(),SUM(IF(ISERROR(MATCH(WEEKDAY(ROW(INDIRECT(P31&":"&Q31)),2),DunDay,0)),IF(ISERROR(MATCH(ROW(INDIRECT(P31&":"&Q31)),National,0)),1,0)),0)))} -> 1 | U31: {=IF(ISERROR(IF(OR(O31<=0,Q31<=0,O31>Q31,ISNUMBER(O31)=FALSE,ISNUMBER(Q31)=FALSE),NA(),SUM(IF(ISERROR(MATCH(WEEKDAY(ROW(INDIRECT(O31&":"&Q31)),2),DunDay,0)),IF(ISERROR(MATCH(ROW(INDIRECT(O31&":"&Q31)),National,0)),1,0)),0))),"",IF(OR(O31<=0,Q31<=0,O31>Q31,ISNUMBER(O31)=FALSE,ISNUMBER(Q31)=FALSE),NA(),SUM(IF(ISERROR(MATCH(WEEKDAY(ROW(INDIRECT(O31&":"&Q31)),2),DunDay,0)),IF(ISERROR(MATCH(ROW(INDIRECT(O31&":"&Q31)),National,0)),1,0)),0)))} | V31: {=IF(ISERROR(IF(S31<Q31,IF(OR(S31<=0,Q31<=0,S31>Q31,ISNUMBER(S31)=FALSE, ISNUMBER(Q31)=FALSE),NA(),SUM(IF(ISERROR(MATCH(WEEKDAY(ROW(INDIRECT(S31&":"&Q31))),DunDay,0)),IF(ISERROR(MATCH(ROW(INDIRECT(S31&":"&Q31)),National,0)),1,0)),0)),IF(OR(Q31<=0,S31<=0,Q31>S31,ISNUMBER(Q31)=FALSE, ISNUMBER(S31)=FALSE),NA(),SUM(IF(ISERROR(MATCH(WEEKDAY(ROW(INDIRECT(Q31&":"&S31))),DunDay,0)),IF(ISERROR(MATCH(ROW(INDIRECT(Q31&":"&S31)),National,0)),1,0)),0)))),"",IF(S31<Q31,IF(OR(S31<=0,Q31<=0,S31>Q31,ISNUMBER(S31)=FALSE, ISNUMBER(Q31)=FALSE),NA(),SUM(IF(ISERROR(MATCH(WEEKDAY(ROW(INDIRECT(S31&":"&Q31))),DunDay,0)),IF(ISERROR(MATCH(ROW(INDIRECT(S31&":"&Q31)),National,0)),1,0)),0)),IF(OR(Q31<=0,S31<=0,Q31>S31,ISNUMBER(Q31)=FALSE, ISNUMBER(S31)=FALSE),NA(),SUM(IF(ISERROR(MATCH(WEEKDAY(ROW(INDIRECT(Q31&":"&S31))),DunDay,0)),IF(ISERROR(MATCH(ROW(INDIRECT(Q31&":"&S31)),National,0)),1,0)),0))))}
B32: © 2012 excelindo.com | O32: =IF(P32<>"",IF($G$17<=P32,P32,IF($G$17>=Q32,0,$G$17)),"") | R32: {=IF(ISERROR(IF(OR(P32<=0,Q32<=0,P32>Q32,ISNUMBER(P32)=FALSE,ISNUMBER(Q32)=FALSE),NA(),SUM(IF(ISERROR(MATCH(WEEKDAY(ROW(INDIRECT(P32&":"&Q32)),2),DunDay,0)),IF(ISERROR(MATCH(ROW(INDIRECT(P32&":"&Q32)),National,0)),1,0)),0))),"",IF(OR(P32<=0,Q32<=0,P32>Q32,ISNUMBER(P32)=FALSE,ISNUMBER(Q32)=FALSE),NA(),SUM(IF(ISERROR(MATCH(WEEKDAY(ROW(INDIRECT(P32&":"&Q32)),2),DunDay,0)),IF(ISERROR(MATCH(ROW(INDIRECT(P32&":"&Q32)),National,0)),1,0)),0)))} | U32: {=IF(ISERROR(IF(OR(O32<=0,Q32<=0,O32>Q32,ISNUMBER(O32)=FALSE,ISNUMBER(Q32)=FALSE),NA(),SUM(IF(ISERROR(MATCH(WEEKDAY(ROW(INDIRECT(O32&":"&Q32)),2),DunDay,0)),IF(ISERROR(MATCH(ROW(INDIRECT(O32&":"&Q32)),National,0)),1,0)),0))),"",IF(OR(O32<=0,Q32<=0,O32>Q32,ISNUMBER(O32)=FALSE,ISNUMBER(Q32)=FALSE),NA(),SUM(IF(ISERROR(MATCH(WEEKDAY(ROW(INDIRECT(O32&":"&Q32)),2),DunDay,0)),IF(ISERROR(MATCH(ROW(INDIRECT(O32&":"&Q32)),National,0)),1,0)),0)))} | V32: {=IF(ISERROR(IF(S32<Q32,IF(OR(S32<=0,Q32<=0,S32>Q32,ISNUMBER(S32)=FALSE, ISNUMBER(Q32)=FALSE),NA(),SUM(IF(ISERROR(MATCH(WEEKDAY(ROW(INDIRECT(S32&":"&Q32))),DunDay,0)),IF(ISERROR(MATCH(ROW(INDIRECT(S32&":"&Q32)),National,0)),1,0)),0)),IF(OR(Q32<=0,S32<=0,Q32>S32,ISNUMBER(Q32)=FALSE, ISNUMBER(S32)=FALSE),NA(),SUM(IF(ISERROR(MATCH(WEEKDAY(ROW(INDIRECT(Q32&":"&S32))),DunDay,0)),IF(ISERROR(MATCH(ROW(INDIRECT(Q32&":"&S32)),National,0)),1,0)),0)))),"",IF(S32<Q32,IF(OR(S32<=0,Q32<=0,S32>Q32,ISNUMBER(S32)=FALSE, ISNUMBER(Q32)=FALSE),NA(),SUM(IF(ISERROR(MATCH(WEEKDAY(ROW(INDIRECT(S32&":"&Q32))),DunDay,0)),IF(ISERROR(MATCH(ROW(INDIRECT(S32&":"&Q32)),National,0)),1,0)),0)),IF(OR(Q32<=0,S32<=0,Q32>S32,ISNUMBER(Q32)=FALSE, ISNUMBER(S32)=FALSE),NA(),SUM(IF(ISERROR(MATCH(WEEKDAY(ROW(INDIRECT(Q32&":"&S32))),DunDay,0)),IF(ISERROR(MATCH(ROW(INDIRECT(Q32&":"&S32)),National,0)),1,0)),0))))}
B33: more free templates at exceltemplate.net | O33: =IF(P33<>"",IF($G$17<=P33,P33,IF($G$17>=Q33,0,$G$17)),"") | R33: {=IF(ISERROR(IF(OR(P33<=0,Q33<=0,P33>Q33,ISNUMBER(P33)=FALSE,ISNUMBER(Q33)=FALSE),NA(),SUM(IF(ISERROR(MATCH(WEEKDAY(ROW(INDIRECT(P33&":"&Q33)),2),DunDay,0)),IF(ISERROR(MATCH(ROW(INDIRECT(P33&":"&Q33)),National,0)),1,0)),0))),"",IF(OR(P33<=0,Q33<=0,P33>Q33,ISNUMBER(P33)=FALSE,ISNUMBER(Q33)=FALSE),NA(),SUM(IF(ISERROR(MATCH(WEEKDAY(ROW(INDIRECT(P33&":"&Q33)),2),DunDay,0)),IF(ISERROR(MATCH(ROW(INDIRECT(P33&":"&Q33)),National,0)),1,0)),0)))} | U33: {=IF(ISERROR(IF(OR(O33<=0,Q33<=0,O33>Q33,ISNUMBER(O33)=FALSE,ISNUMBER(Q33)=FALSE),NA(),SUM(IF(ISERROR(MATCH(WEEKDAY(ROW(INDIRECT(O33&":"&Q33)),2),DunDay,0)),IF(ISERROR(MATCH(ROW(INDIRECT(O33&":"&Q33)),National,0)),1,0)),0))),"",IF(OR(O33<=0,Q33<=0,O33>Q33,ISNUMBER(O33)=FALSE,ISNUMBER(Q33)=FALSE),NA(),SUM(IF(ISERROR(MATCH(WEEKDAY(ROW(INDIRECT(O33&":"&Q33)),2),DunDay,0)),IF(ISERROR(MATCH(ROW(INDIRECT(O33&":"&Q33)),National,0)),1,0)),0)))} | V33: {=IF(ISERROR(IF(S33<Q33,IF(OR(S33<=0,Q33<=0,S33>Q33,ISNUMBER(S33)=FALSE, ISNUMBER(Q33)=FALSE),NA(),SUM(IF(ISERROR(MATCH(WEEKDAY(ROW(INDIRECT(S33&":"&Q33))),DunDay,0)),IF(ISERROR(MATCH(ROW(INDIRECT(S33&":"&Q33)),National,0)),1,0)),0)),IF(OR(Q33<=0,S33<=0,Q33>S33,ISNUMBER(Q33)=FALSE, ISNUMBER(S33)=FALSE),NA(),SUM(IF(ISERROR(MATCH(WEEKDAY(ROW(INDIRECT(Q33&":"&S33))),DunDay,0)),IF(ISERROR(MATCH(ROW(INDIRECT(Q33&":"&S33)),National,0)),1,0)),0)))),"",IF(S33<Q33,IF(OR(S33<=0,Q33<=0,S33>Q33,ISNUMBER(S33)=FALSE, ISNUMBER(Q33)=FALSE),NA(),SUM(IF(ISERROR(MATCH(WEEKDAY(ROW(INDIRECT(S33&":"&Q33))),DunDay,0)),IF(ISERROR(MATCH(ROW(INDIRECT(S33&":"&Q33)),National,0)),1,0)),0)),IF(OR(Q33<=0,S33<=0,Q33>S33,ISNUMBER(Q33)=FALSE, ISNUMBER(S33)=FALSE),NA(),SUM(IF(ISERROR(MATCH(WEEKDAY(ROW(INDIRECT(Q33&":"&S33))),DunDay,0)),IF(ISERROR(MATCH(ROW(INDIRECT(Q33&":"&S33)),National,0)),1,0)),0))))}
O34: =IF(P34<>"",IF($G$17<=P34,P34,IF($G$17>=Q34,0,$G$17)),"") | R34: {=IF(ISERROR(IF(OR(P34<=0,Q34<=0,P34>Q34,ISNUMBER(P34)=FALSE,ISNUMBER(Q34)=FALSE),NA(),SUM(IF(ISERROR(MATCH(WEEKDAY(ROW(INDIRECT(P34&":"&Q34)),2),DunDay,0)),IF(ISERROR(MATCH(ROW(INDIRECT(P34&":"&Q34)),National,0)),1,0)),0))),"",IF(OR(P34<=0,Q34<=0,P34>Q34,ISNUMBER(P34)=FALSE,ISNUMBER(Q34)=FALSE),NA(),SUM(IF(ISERROR(MATCH(WEEKDAY(ROW(INDIRECT(P34&":"&Q34)),2),DunDay,0)),IF(ISERROR(MATCH(ROW(INDIRECT(P34&":"&Q34)),National,0)),1,0)),0)))} | U34: {=IF(ISERROR(IF(OR(O34<=0,Q34<=0,O34>Q34,ISNUMBER(O34)=FALSE,ISNUMBER(Q34)=FALSE),NA(),SUM(IF(ISERROR(MATCH(WEEKDAY(ROW(INDIRECT(O34&":"&Q34)),2),DunDay,0)),IF(ISERROR(MATCH(ROW(INDIRECT(O34&":"&Q34)),National,0)),1,0)),0))),"",IF(OR(O34<=0,Q34<=0,O34>Q34,ISNUMBER(O34)=FALSE,ISNUMBER(Q34)=FALSE),NA(),SUM(IF(ISERROR(MATCH(WEEKDAY(ROW(INDIRECT(O34&":"&Q34)),2),DunDay,0)),IF(ISERROR(MATCH(ROW(INDIRECT(O34&":"&Q34)),National,0)),1,0)),0)))} | V34: {=IF(ISERROR(IF(S34<Q34,IF(OR(S34<=0,Q34<=0,S34>Q34,ISNUMBER(S34)=FALSE, ISNUMBER(Q34)=FALSE),NA(),SUM(IF(ISERROR(MATCH(WEEKDAY(ROW(INDIRECT(S34&":"&Q34))),DunDay,0)),IF(ISERROR(MATCH(ROW(INDIRECT(S34&":"&Q34)),National,0)),1,0)),0)),IF(OR(Q34<=0,S34<=0,Q34>S34,ISNUMBER(Q34)=FALSE, ISNUMBER(S34)=FALSE),NA(),SUM(IF(ISERROR(MATCH(WEEKDAY(ROW(INDIRECT(Q34&":"&S34))),DunDay,0)),IF(ISERROR(MATCH(ROW(INDIRECT(Q34&":"&S34)),National,0)),1,0)),0)))),"",IF(S34<Q34,IF(OR(S34<=0,Q34<=0,S34>Q34,ISNUMBER(S34)=FALSE, ISNUMBER(Q34)=FALSE),NA(),SUM(IF(ISERROR(MATCH(WEEKDAY(ROW(INDIRECT(S34&":"&Q34))),DunDay,0)),IF(ISERROR(MATCH(ROW(INDIRECT(S34&":"&Q34)),National,0)),1,0)),0)),IF(OR(Q34<=0,S34<=0,Q34>S34,ISNUMBER(Q34)=FALSE, ISNUMBER(S34)=FALSE),NA(),SUM(IF(ISERROR(MATCH(WEEKDAY(ROW(INDIRECT(Q34&":"&S34))),DunDay,0)),IF(ISERROR(MATCH(ROW(INDIRECT(Q34&":"&S34)),National,0)),1,0)),0))))}
O35: =IF(P35<>"",IF($G$17<=P35,P35,IF($G$17>=Q35,0,$G$17)),"") | R35: {=IF(ISERROR(IF(OR(P35<=0,Q35<=0,P35>Q35,ISNUMBER(P35)=FALSE,ISNUMBER(Q35)=FALSE),NA(),SUM(IF(ISERROR(MATCH(WEEKDAY(ROW(INDIRECT(P35&":"&Q35)),2),DunDay,0)),IF(ISERROR(MATCH(ROW(INDIRECT(P35&":"&Q35)),National,0)),1,0)),0))),"",IF(OR(P35<=0,Q35<=0,P35>Q35,ISNUMBER(P35)=FALSE,ISNUMBER(Q35)=FALSE),NA(),SUM(IF(ISERROR(MATCH(WEEKDAY(ROW(INDIRECT(P35&":"&Q35)),2),DunDay,0)),IF(ISERROR(MATCH(ROW(INDIRECT(P35&":"&Q35)),National,0)),1,0)),0)))} | U35: {=IF(ISERROR(IF(OR(O35<=0,Q35<=0,O35>Q35,ISNUMBER(O35)=FALSE,ISNUMBER(Q35)=FALSE),NA(),SUM(IF(ISERROR(MATCH(WEEKDAY(ROW(INDIRECT(O35&":"&Q35)),2),DunDay,0)),IF(ISERROR(MATCH(ROW(INDIRECT(O35&":"&Q35)),National,0)),1,0)),0))),"",IF(OR(O35<=0,Q35<=0,O35>Q35,ISNUMBER(O35)=FALSE,ISNUMBER(Q35)=FALSE),NA(),SUM(IF(ISERROR(MATCH(WEEKDAY(ROW(INDIRECT(O35&":"&Q35)),2),DunDay,0)),IF(ISERROR(MATCH(ROW(INDIRECT(O35&":"&Q35)),National,0)),1,0)),0)))} | V35: {=IF(ISERROR(IF(S35<Q35,IF(OR(S35<=0,Q35<=0,S35>Q35,ISNUMBER(S35)=FALSE, ISNUMBER(Q35)=FALSE),NA(),SUM(IF(ISERROR(MATCH(WEEKDAY(ROW(INDIRECT(S35&":"&Q35))),DunDay,0)),IF(ISERROR(MATCH(ROW(INDIRECT(S35&":"&Q35)),National,0)),1,0)),0)),IF(OR(Q35<=0,S35<=0,Q35>S35,ISNUMBER(Q35)=FALSE, ISNUMBER(S35)=FALSE),NA(),SUM(IF(ISERROR(MATCH(WEEKDAY(ROW(INDIRECT(Q35&":"&S35))),DunDay,0)),IF(ISERROR(MATCH(ROW(INDIRECT(Q35&":"&S35)),National,0)),1,0)),0)))),"",IF(S35<Q35,IF(OR(S35<=0,Q35<=0,S35>Q35,ISNUMBER(S35)=FALSE, ISNUMBER(Q35)=FALSE),NA(),SUM(IF(ISERROR(MATCH(WEEKDAY(ROW(INDIRECT(S35&":"&Q35))),DunDay,0)),IF(ISERROR(MATCH(ROW(INDIRECT(S35&":"&Q35)),National,0)),1,0)),0)),IF(OR(Q35<=0,S35<=0,Q35>S35,ISNUMBER(Q35)=FALSE, ISNUMBER(S35)=FALSE),NA(),SUM(IF(ISERROR(MATCH(WEEKDAY(ROW(INDIRECT(Q35&":"&S35))),DunDay,0)),IF(ISERROR(MATCH(ROW(INDIRECT(Q35&":"&S35)),National,0)),1,0)),0))))}
O36: =IF(P36<>"",IF($G$17<=P36,P36,IF($G$17>=Q36,0,$G$17)),"") | R36: {=IF(ISERROR(IF(OR(P36<=0,Q36<=0,P36>Q36,ISNUMBER(P36)=FALSE,ISNUMBER(Q36)=FALSE),NA(),SUM(IF(ISERROR(MATCH(WEEKDAY(ROW(INDIRECT(P36&":"&Q36)),2),DunDay,0)),IF(ISERROR(MATCH(ROW(INDIRECT(P36&":"&Q36)),National,0)),1,0)),0))),"",IF(OR(P36<=0,Q36<=0,P36>Q36,ISNUMBER(P36)=FALSE,ISNUMBER(Q36)=FALSE),NA(),SUM(IF(ISERROR(MATCH(WEEKDAY(ROW(INDIRECT(P36&":"&Q36)),2),DunDay,0)),IF(ISERROR(MATCH(ROW(INDIRECT(P36&":"&Q36)),National,0)),1,0)),0)))} | U36: {=IF(ISERROR(IF(OR(O36<=0,Q36<=0,O36>Q36,ISNUMBER(O36)=FALSE,ISNUMBER(Q36)=FALSE),NA(),SUM(IF(ISERROR(MATCH(WEEKDAY(ROW(INDIRECT(O36&":"&Q36)),2),DunDay,0)),IF(ISERROR(MATCH(ROW(INDIRECT(O36&":"&Q36)),National,0)),1,0)),0))),"",IF(OR(O36<=0,Q36<=0,O36>Q36,ISNUMBER(O36)=FALSE,ISNUMBER(Q36)=FALSE),NA(),SUM(IF(ISERROR(MATCH(WEEKDAY(ROW(INDIRECT(O36&":"&Q36)),2),DunDay,0)),IF(ISERROR(MATCH(ROW(INDIRECT(O36&":"&Q36)),National,0)),1,0)),0)))} | V36: {=IF(ISERROR(IF(S36<Q36,IF(OR(S36<=0,Q36<=0,S36>Q36,ISNUMBER(S36)=FALSE, ISNUMBER(Q36)=FALSE),NA(),SUM(IF(ISERROR(MATCH(WEEKDAY(ROW(INDIRECT(S36&":"&Q36))),DunDay,0)),IF(ISERROR(MATCH(ROW(INDIRECT(S36&":"&Q36)),National,0)),1,0)),0)),IF(OR(Q36<=0,S36<=0,Q36>S36,ISNUMBER(Q36)=FALSE, ISNUMBER(S36)=FALSE),NA(),SUM(IF(ISERROR(MATCH(WEEKDAY(ROW(INDIRECT(Q36&":"&S36))),DunDay,0)),IF(ISERROR(MATCH(ROW(INDIRECT(Q36&":"&S36)),National,0)),1,0)),0)))),"",IF(S36<Q36,IF(OR(S36<=0,Q36<=0,S36>Q36,ISNUMBER(S36)=FALSE, ISNUMBER(Q36)=FALSE),NA(),SUM(IF(ISERROR(MATCH(WEEKDAY(ROW(INDIRECT(S36&":"&Q36))),DunDay,0)),IF(ISERROR(MATCH(ROW(INDIRECT(S36&":"&Q36)),National,0)),1,0)),0)),IF(OR(Q36<=0,S36<=0,Q36>S36,ISNUMBER(Q36)=FALSE, ISNUMBER(S36)=FALSE),NA(),SUM(IF(ISERROR(MATCH(WEEKDAY(ROW(INDIRECT(Q36&":"&S36))),DunDay,0)),IF(ISERROR(MATCH(ROW(INDIRECT(Q36&":"&S36)),National,0)),1,0)),0))))}
O37: =IF(P37<>"",IF($G$17<=P37,P37,IF($G$17>=Q37,0,$G$17)),"") | R37: {=IF(ISERROR(IF(OR(P37<=0,Q37<=0,P37>Q37,ISNUMBER(P37)=FALSE,ISNUMBER(Q37)=FALSE),NA(),SUM(IF(ISERROR(MATCH(WEEKDAY(ROW(INDIRECT(P37&":"&Q37)),2),DunDay,0)),IF(ISERROR(MATCH(ROW(INDIRECT(P37&":"&Q37)),National,0)),1,0)),0))),"",IF(OR(P37<=0,Q37<=0,P37>Q37,ISNUMBER(P37)=FALSE,ISNUMBER(Q37)=FALSE),NA(),SUM(IF(ISERROR(MATCH(WEEKDAY(ROW(INDIRECT(P37&":"&Q37)),2),DunDay,0)),IF(ISERROR(MATCH(ROW(INDIRECT(P37&":"&Q37)),National,0)),1,0)),0)))} | U37: {=IF(ISERROR(IF(OR(O37<=0,Q37<=0,O37>Q37,ISNUMBER(O37)=FALSE,ISNUMBER(Q37)=FALSE),NA(),SUM(IF(ISERROR(MATCH(WEEKDAY(ROW(INDIRECT(O37&":"&Q37)),2),DunDay,0)),IF(ISERROR(MATCH(ROW(INDIRECT(O37&":"&Q37)),National,0)),1,0)),0))),"",IF(OR(O37<=0,Q37<=0,O37>Q37,ISNUMBER(O37)=FALSE,ISNUMBER(Q37)=FALSE),NA(),SUM(IF(ISERROR(MATCH(WEEKDAY(ROW(INDIRECT(O37&":"&Q37)),2),DunDay,0)),IF(ISERROR(MATCH(ROW(INDIRECT(O37&":"&Q37)),National,0)),1,0)),0)))} | V37: {=IF(ISERROR(IF(S37<Q37,IF(OR(S37<=0,Q37<=0,S37>Q37,ISNUMBER(S37)=FALSE, ISNUMBER(Q37)=FALSE),NA(),SUM(IF(ISERROR(MATCH(WEEKDAY(ROW(INDIRECT(S37&":"&Q37))),DunDay,0)),IF(ISERROR(MATCH(ROW(INDIRECT(S37&":"&Q37)),National,0)),1,0)),0)),IF(OR(Q37<=0,S37<=0,Q37>S37,ISNUMBER(Q37)=FALSE, ISNUMBER(S37)=FALSE),NA(),SUM(IF(ISERROR(MATCH(WEEKDAY(ROW(INDIRECT(Q37&":"&S37))),DunDay,0)),IF(ISERROR(MATCH(ROW(INDIRECT(Q37&":"&S37)),National,0)),1,0)),0)))),"",IF(S37<Q37,IF(OR(S37<=0,Q37<=0,S37>Q37,ISNUMBER(S37)=FALSE, ISNUMBER(Q37)=FALSE),NA(),SUM(IF(ISERROR(MATCH(WEEKDAY(ROW(INDIRECT(S37&":"&Q37))),DunDay,0)),IF(ISERROR(MATCH(ROW(INDIRECT(S37&":"&Q37)),National,0)),1,0)),0)),IF(OR(Q37<=0,S37<=0,Q37>S37,ISNUMBER(Q37)=FALSE, ISNUMBER(S37)=FALSE),NA(),SUM(IF(ISERROR(MATCH(WEEKDAY(ROW(INDIRECT(Q37&":"&S37))),DunDay,0)),IF(ISERROR(MATCH(ROW(INDIRECT(Q37&":"&S37)),National,0)),1,0)),0))))}
O38: =IF(P38<>"",IF($G$17<=P38,P38,IF($G$17>=Q38,0,$G$17)),"") | R38: {=IF(ISERROR(IF(OR(P38<=0,Q38<=0,P38>Q38,ISNUMBER(P38)=FALSE,ISNUMBER(Q38)=FALSE),NA(),SUM(IF(ISERROR(MATCH(WEEKDAY(ROW(INDIRECT(P38&":"&Q38)),2),DunDay,0)),IF(ISERROR(MATCH(ROW(INDIRECT(P38&":"&Q38)),National,0)),1,0)),0))),"",IF(OR(P38<=0,Q38<=0,P38>Q38,ISNUMBER(P38)=FALSE,ISNUMBER(Q38)=FALSE),NA(),SUM(IF(ISERROR(MATCH(WEEKDAY(ROW(INDIRECT(P38&":"&Q38)),2),DunDay,0)),IF(ISERROR(MATCH(ROW(INDIRECT(P38&":"&Q38)),National,0)),1,0)),0)))} | U38: {=IF(ISERROR(IF(OR(O38<=0,Q38<=0,O38>Q38,ISNUMBER(O38)=FALSE,ISNUMBER(Q38)=FALSE),NA(),SUM(IF(ISERROR(MATCH(WEEKDAY(ROW(INDIRECT(O38&":"&Q38)),2),DunDay,0)),IF(ISERROR(MATCH(ROW(INDIRECT(O38&":"&Q38)),National,0)),1,0)),0))),"",IF(OR(O38<=0,Q38<=0,O38>Q38,ISNUMBER(O38)=FALSE,ISNUMBER(Q38)=FALSE),NA(),SUM(IF(ISERROR(MATCH(WEEKDAY(ROW(INDIRECT(O38&":"&Q38)),2),DunDay,0)),IF(ISERROR(MATCH(ROW(INDIRECT(O38&":"&Q38)),National,0)),1,0)),0)))} | V38: {=IF(ISERROR(IF(S38<Q38,IF(OR(S38<=0,Q38<=0,S38>Q38,ISNUMBER(S38)=FALSE, ISNUMBER(Q38)=FALSE),NA(),SUM(IF(ISERROR(MATCH(WEEKDAY(ROW(INDIRECT(S38&":"&Q38))),DunDay,0)),IF(ISERROR(MATCH(ROW(INDIRECT(S38&":"&Q38)),National,0)),1,0)),0)),IF(OR(Q38<=0,S38<=0,Q38>S38,ISNUMBER(Q38)=FALSE, ISNUMBER(S38)=FALSE),NA(),SUM(IF(ISERROR(MATCH(WEEKDAY(ROW(INDIRECT(Q38&":"&S38))),DunDay,0)),IF(ISERROR(MATCH(ROW(INDIRECT(Q38&":"&S38)),National,0)),1,0)),0)))),"",IF(S38<Q38,IF(OR(S38<=0,Q38<=0,S38>Q38,ISNUMBER(S38)=FALSE, ISNUMBER(Q38)=FALSE),NA(),SUM(IF(ISERROR(MATCH(WEEKDAY(ROW(INDIRECT(S38&":"&Q38))),DunDay,0)),IF(ISERROR(MATCH(ROW(INDIRECT(S38&":"&Q38)),National,0)),1,0)),0)),IF(OR(Q38<=0,S38<=0,Q38>S38,ISNUMBER(Q38)=FALSE, ISNUMBER(S38)=FALSE),NA(),SUM(IF(ISERROR(MATCH(WEEKDAY(ROW(INDIRECT(Q38&":"&S38))),DunDay,0)),IF(ISERROR(MATCH(ROW(INDIRECT(Q38&":"&S38)),National,0)),1,0)),0))))}
O39: =IF(P39<>"",IF($G$17<=P39,P39,IF($G$17>=Q39,0,$G$17)),"") | R39: {=IF(ISERROR(IF(OR(P39<=0,Q39<=0,P39>Q39,ISNUMBER(P39)=FALSE,ISNUMBER(Q39)=FALSE),NA(),SUM(IF(ISERROR(MATCH(WEEKDAY(ROW(INDIRECT(P39&":"&Q39)),2),DunDay,0)),IF(ISERROR(MATCH(ROW(INDIRECT(P39&":"&Q39)),National,0)),1,0)),0))),"",IF(OR(P39<=0,Q39<=0,P39>Q39,ISNUMBER(P39)=FALSE,ISNUMBER(Q39)=FALSE),NA(),SUM(IF(ISERROR(MATCH(WEEKDAY(ROW(INDIRECT(P39&":"&Q39)),2),DunDay,0)),IF(ISERROR(MATCH(ROW(INDIRECT(P39&":"&Q39)),National,0)),1,0)),0)))} | U39: {=IF(ISERROR(IF(OR(O39<=0,Q39<=0,O39>Q39,ISNUMBER(O39)=FALSE,ISNUMBER(Q39)=FALSE),NA(),SUM(IF(ISERROR(MATCH(WEEKDAY(ROW(INDIRECT(O39&":"&Q39)),2),DunDay,0)),IF(ISERROR(MATCH(ROW(INDIRECT(O39&":"&Q39)),National,0)),1,0)),0))),"",IF(OR(O39<=0,Q39<=0,O39>Q39,ISNUMBER(O39)=FALSE,ISNUMBER(Q39)=FALSE),NA(),SUM(IF(ISERROR(MATCH(WEEKDAY(ROW(INDIRECT(O39&":"&Q39)),2),DunDay,0)),IF(ISERROR(MATCH(ROW(INDIRECT(O39&":"&Q39)),National,0)),1,0)),0)))} | V39: {=IF(ISERROR(IF(S39<Q39,IF(OR(S39<=0,Q39<=0,S39>Q39,ISNUMBER(S39)=FALSE, ISNUMBER(Q39)=FALSE),NA(),SUM(IF(ISERROR(MATCH(WEEKDAY(ROW(INDIRECT(S39&":"&Q39))),DunDay,0)),IF(ISERROR(MATCH(ROW(INDIRECT(S39&":"&Q39)),National,0)),1,0)),0)),IF(OR(Q39<=0,S39<=0,Q39>S39,ISNUMBER(Q39)=FALSE, ISNUMBER(S39)=FALSE),NA(),SUM(IF(ISERROR(MATCH(WEEKDAY(ROW(INDIRECT(Q39&":"&S39))),DunDay,0)),IF(ISERROR(MATCH(ROW(INDIRECT(Q39&":"&S39)),National,0)),1,0)),0)))),"",IF(S39<Q39,IF(OR(S39<=0,Q39<=0,S39>Q39,ISNUMBER(S39)=FALSE, ISNUMBER(Q39)=FALSE),NA(),SUM(IF(ISERROR(MATCH(WEEKDAY(ROW(INDIRECT(S39&":"&Q39))),DunDay,0)),IF(ISERROR(MATCH(ROW(INDIRECT(S39&":"&Q39)),National,0)),1,0)),0)),IF(OR(Q39<=0,S39<=0,Q39>S39,ISNUMBER(Q39)=FALSE, ISNUMBER(S39)=FALSE),NA(),SUM(IF(ISERROR(MATCH(WEEKDAY(ROW(INDIRECT(Q39&":"&S39))),DunDay,0)),IF(ISERROR(MATCH(ROW(INDIRECT(Q39&":"&S39)),National,0)),1,0)),0))))}
O40: =IF(P40<>"",IF($G$17<=P40,P40,IF($G$17>=Q40,0,$G$17)),"") | R40: {=IF(ISERROR(IF(OR(P40<=0,Q40<=0,P40>Q40,ISNUMBER(P40)=FALSE,ISNUMBER(Q40)=FALSE),NA(),SUM(IF(ISERROR(MATCH(WEEKDAY(ROW(INDIRECT(P40&":"&Q40)),2),DunDay,0)),IF(ISERROR(MATCH(ROW(INDIRECT(P40&":"&Q40)),National,0)),1,0)),0))),"",IF(OR(P40<=0,Q40<=0,P40>Q40,ISNUMBER(P40)=FALSE,ISNUMBER(Q40)=FALSE),NA(),SUM(IF(ISERROR(MATCH(WEEKDAY(ROW(INDIRECT(P40&":"&Q40)),2),DunDay,0)),IF(ISERROR(MATCH(ROW(INDIRECT(P40&":"&Q40)),National,0)),1,0)),0)))} | U40: {=IF(ISERROR(IF(OR(O40<=0,Q40<=0,O40>Q40,ISNUMBER(O40)=FALSE,ISNUMBER(Q40)=FALSE),NA(),SUM(IF(ISERROR(MATCH(WEEKDAY(ROW(INDIRECT(O40&":"&Q40)),2),DunDay,0)),IF(ISERROR(MATCH(ROW(INDIRECT(O40&":"&Q40)),National,0)),1,0)),0))),"",IF(OR(O40<=0,Q40<=0,O40>Q40,ISNUMBER(O40)=FALSE,ISNUMBER(Q40)=FALSE),NA(),SUM(IF(ISERROR(MATCH(WEEKDAY(ROW(INDIRECT(O40&":"&Q40)),2),DunDay,0)),IF(ISERROR(MATCH(ROW(INDIRECT(O40&":"&Q40)),National,0)),1,0)),0)))} | V40: {=IF(ISERROR(IF(S40<Q40,IF(OR(S40<=0,Q40<=0,S40>Q40,ISNUMBER(S40)=FALSE, ISNUMBER(Q40)=FALSE),NA(),SUM(IF(ISERROR(MATCH(WEEKDAY(ROW(INDIRECT(S40&":"&Q40))),DunDay,0)),IF(ISERROR(MATCH(ROW(INDIRECT(S40&":"&Q40)),National,0)),1,0)),0)),IF(OR(Q40<=0,S40<=0,Q40>S40,ISNUMBER(Q40)=FALSE, ISNUMBER(S40)=FALSE),NA(),SUM(IF(ISERROR(MATCH(WEEKDAY(ROW(INDIRECT(Q40&":"&S40))),DunDay,0)),IF(ISERROR(MATCH(ROW(INDIRECT(Q40&":"&S40)),National,0)),1,0)),0)))),"",IF(S40<Q40,IF(OR(S40<=0,Q40<=0,S40>Q40,ISNUMBER(S40)=FALSE, ISNUMBER(Q40)=FALSE),NA(),SUM(IF(ISERROR(MATCH(WEEKDAY(ROW(INDIRECT(S40&":"&Q40))),DunDay,0)),IF(ISERROR(MATCH(ROW(INDIRECT(S40&":"&Q40)),National,0)),1,0)),0)),IF(OR(Q40<=0,S40<=0,Q40>S40,ISNUMBER(Q40)=FALSE, ISNUMBER(S40)=FALSE),NA(),SUM(IF(ISERROR(MATCH(WEEKDAY(ROW(INDIRECT(Q40&":"&S40))),DunDay,0)),IF(ISERROR(MATCH(ROW(INDIRECT(Q40&":"&S40)),National,0)),1,0)),0))))}
O41: =IF(P41<>"",IF($G$17<=P41,P41,IF($G$17>=Q41,0,$G$17)),"") | R41: {=IF(ISERROR(IF(OR(P41<=0,Q41<=0,P41>Q41,ISNUMBER(P41)=FALSE,ISNUMBER(Q41)=FALSE),NA(),SUM(IF(ISERROR(MATCH(WEEKDAY(ROW(INDIRECT(P41&":"&Q41)),2),DunDay,0)),IF(ISERROR(MATCH(ROW(INDIRECT(P41&":"&Q41)),National,0)),1,0)),0))),"",IF(OR(P41<=0,Q41<=0,P41>Q41,ISNUMBER(P41)=FALSE,ISNUMBER(Q41)=FALSE),NA(),SUM(IF(ISERROR(MATCH(WEEKDAY(ROW(INDIRECT(P41&":"&Q41)),2),DunDay,0)),IF(ISERROR(MATCH(ROW(INDIRECT(P41&":"&Q41)),National,0)),1,0)),0)))} | U41: {=IF(ISERROR(IF(OR(O41<=0,Q41<=0,O41>Q41,ISNUMBER(O41)=FALSE,ISNUMBER(Q41)=FALSE),NA(),SUM(IF(ISERROR(MATCH(WEEKDAY(ROW(INDIRECT(O41&":"&Q41)),2),DunDay,0)),IF(ISERROR(MATCH(ROW(INDIRECT(O41&":"&Q41)),National,0)),1,0)),0))),"",IF(OR(O41<=0,Q41<=0,O41>Q41,ISNUMBER(O41)=FALSE,ISNUMBER(Q41)=FALSE),NA(),SUM(IF(ISERROR(MATCH(WEEKDAY(ROW(INDIRECT(O41&":"&Q41)),2),DunDay,0)),IF(ISERROR(MATCH(ROW(INDIRECT(O41&":"&Q41)),National,0)),1,0)),0)))} | V41: {=IF(ISERROR(IF(S41<Q41,IF(OR(S41<=0,Q41<=0,S41>Q41,ISNUMBER(S41)=FALSE, ISNUMBER(Q41)=FALSE),NA(),SUM(IF(ISERROR(MATCH(WEEKDAY(ROW(INDIRECT(S41&":"&Q41))),DunDay,0)),IF(ISERROR(MATCH(ROW(INDIRECT(S41&":"&Q41)),National,0)),1,0)),0)),IF(OR(Q41<=0,S41<=0,Q41>S41,ISNUMBER(Q41)=FALSE, ISNUMBER(S41)=FALSE),NA(),SUM(IF(ISERROR(MATCH(WEEKDAY(ROW(INDIRECT(Q41&":"&S41))),DunDay,0)),IF(ISERROR(MATCH(ROW(INDIRECT(Q41&":"&S41)),National,0)),1,0)),0)))),"",IF(S41<Q41,IF(OR(S41<=0,Q41<=0,S41>Q41,ISNUMBER(S41)=FALSE, ISNUMBER(Q41)=FALSE),NA(),SUM(IF(ISERROR(MATCH(WEEKDAY(ROW(INDIRECT(S41&":"&Q41))),DunDay,0)),IF(ISERROR(MATCH(ROW(INDIRECT(S41&":"&Q41)),National,0)),1,0)),0)),IF(OR(Q41<=0,S41<=0,Q41>S41,ISNUMBER(Q41)=FALSE, ISNUMBER(S41)=FALSE),NA(),SUM(IF(ISERROR(MATCH(WEEKDAY(ROW(INDIRECT(Q41&":"&S41))),DunDay,0)),IF(ISERROR(MATCH(ROW(INDIRECT(Q41&":"&S41)),National,0)),1,0)),0))))}
O42: =IF(P42<>"",IF($G$17<=P42,P42,IF($G$17>=Q42,0,$G$17)),"") | R42: {=IF(ISERROR(IF(OR(P42<=0,Q42<=0,P42>Q42,ISNUMBER(P42)=FALSE,ISNUMBER(Q42)=FALSE),NA(),SUM(IF(ISERROR(MATCH(WEEKDAY(ROW(INDIRECT(P42&":"&Q42)),2),DunDay,0)),IF(ISERROR(MATCH(ROW(INDIRECT(P42&":"&Q42)),National,0)),1,0)),0))),"",IF(OR(P42<=0,Q42<=0,P42>Q42,ISNUMBER(P42)=FALSE,ISNUMBER(Q42)=FALSE),NA(),SUM(IF(ISERROR(MATCH(WEEKDAY(ROW(INDIRECT(P42&":"&Q42)),2),DunDay,0)),IF(ISERROR(MATCH(ROW(INDIRECT(P42&":"&Q42)),National,0)),1,0)),0)))} | U42: {=IF(ISERROR(IF(OR(O42<=0,Q42<=0,O42>Q42,ISNUMBER(O42)=FALSE,ISNUMBER(Q42)=FALSE),NA(),SUM(IF(ISERROR(MATCH(WEEKDAY(ROW(INDIRECT(O42&":"&Q42)),2),DunDay,0)),IF(ISERROR(MATCH(ROW(INDIRECT(O42&":"&Q42)),National,0)),1,0)),0))),"",IF(OR(O42<=0,Q42<=0,O42>Q42,ISNUMBER(O42)=FALSE,ISNUMBER(Q42)=FALSE),NA(),SUM(IF(ISERROR(MATCH(WEEKDAY(ROW(INDIRECT(O42&":"&Q42)),2),DunDay,0)),IF(ISERROR(MATCH(ROW(INDIRECT(O42&":"&Q42)),National,0)),1,0)),0)))} | V42: {=IF(ISERROR(IF(S42<Q42,IF(OR(S42<=0,Q42<=0,S42>Q42,ISNUMBER(S42)=FALSE, ISNUMBER(Q42)=FALSE),NA(),SUM(IF(ISERROR(MATCH(WEEKDAY(ROW(INDIRECT(S42&":"&Q42))),DunDay,0)),IF(ISERROR(MATCH(ROW(INDIRECT(S42&":"&Q42)),National,0)),1,0)),0)),IF(OR(Q42<=0,S42<=0,Q42>S42,ISNUMBER(Q42)=FALSE, ISNUMBER(S42)=FALSE),NA(),SUM(IF(ISERROR(MATCH(WEEKDAY(ROW(INDIRECT(Q42&":"&S42))),DunDay,0)),IF(ISERROR(MATCH(ROW(INDIRECT(Q42&":"&S42)),National,0)),1,0)),0)))),"",IF(S42<Q42,IF(OR(S42<=0,Q42<=0,S42>Q42,ISNUMBER(S42)=FALSE, ISNUMBER(Q42)=FALSE),NA(),SUM(IF(ISERROR(MATCH(WEEKDAY(ROW(INDIRECT(S42&":"&Q42))),DunDay,0)),IF(ISERROR(MATCH(ROW(INDIRECT(S42&":"&Q42)),National,0)),1,0)),0)),IF(OR(Q42<=0,S42<=0,Q42>S42,ISNUMBER(Q42)=FALSE, ISNUMBER(S42)=FALSE),NA(),SUM(IF(ISERROR(MATCH(WEEKDAY(ROW(INDIRECT(Q42&":"&S42))),DunDay,0)),IF(ISERROR(MATCH(ROW(INDIRECT(Q42&":"&S42)),National,0)),1,0)),0))))}
O43: =IF(P43<>"",IF($G$17<=P43,P43,IF($G$17>=Q43,0,$G$17)),"") | R43: {=IF(ISERROR(IF(OR(P43<=0,Q43<=0,P43>Q43,ISNUMBER(P43)=FALSE,ISNUMBER(Q43)=FALSE),NA(),SUM(IF(ISERROR(MATCH(WEEKDAY(ROW(INDIRECT(P43&":"&Q43)),2),DunDay,0)),IF(ISERROR(MATCH(ROW(INDIRECT(P43&":"&Q43)),National,0)),1,0)),0))),"",IF(OR(P43<=0,Q43<=0,P43>Q43,ISNUMBER(P43)=FALSE,ISNUMBER(Q43)=FALSE),NA(),SUM(IF(ISERROR(MATCH(WEEKDAY(ROW(INDIRECT(P43&":"&Q43)),2),DunDay,0)),IF(ISERROR(MATCH(ROW(INDIRECT(P43&":"&Q43)),National,0)),1,0)),0)))} | U43: {=IF(ISERROR(IF(OR(O43<=0,Q43<=0,O43>Q43,ISNUMBER(O43)=FALSE,ISNUMBER(Q43)=FALSE),NA(),SUM(IF(ISERROR(MATCH(WEEKDAY(ROW(INDIRECT(O43&":"&Q43)),2),DunDay,0)),IF(ISERROR(MATCH(ROW(INDIRECT(O43&":"&Q43)),National,0)),1,0)),0))),"",IF(OR(O43<=0,Q43<=0,O43>Q43,ISNUMBER(O43)=FALSE,ISNUMBER(Q43)=FALSE),NA(),SUM(IF(ISERROR(MATCH(WEEKDAY(ROW(INDIRECT(O43&":"&Q43)),2),DunDay,0)),IF(ISERROR(MATCH(ROW(INDIRECT(O43&":"&Q43)),National,0)),1,0)),0)))} | V43: {=IF(ISERROR(IF(S43<Q43,IF(OR(S43<=0,Q43<=0,S43>Q43,ISNUMBER(S43)=FALSE, ISNUMBER(Q43)=FALSE),NA(),SUM(IF(ISERROR(MATCH(WEEKDAY(ROW(INDIRECT(S43&":"&Q43))),DunDay,0)),IF(ISERROR(MATCH(ROW(INDIRECT(S43&":"&Q43)),National,0)),1,0)),0)),IF(OR(Q43<=0,S43<=0,Q43>S43,ISNUMBER(Q43)=FALSE, ISNUMBER(S43)=FALSE),NA(),SUM(IF(ISERROR(MATCH(WEEKDAY(ROW(INDIRECT(Q43&":"&S43))),DunDay,0)),IF(ISERROR(MATCH(ROW(INDIRECT(Q43&":"&S43)),National,0)),1,0)),0)))),"",IF(S43<Q43,IF(OR(S43<=0,Q43<=0,S43>Q43,ISNUMBER(S43)=FALSE, ISNUMBER(Q43)=FALSE),NA(),SUM(IF(ISERROR(MATCH(WEEKDAY(ROW(INDIRECT(S43&":"&Q43))),DunDay,0)),IF(ISERROR(MATCH(ROW(INDIRECT(S43&":"&Q43)),National,0)),1,0)),0)),IF(OR(Q43<=0,S43<=0,Q43>S43,ISNUMBER(Q43)=FALSE, ISNUMBER(S43)=FALSE),NA(),SUM(IF(ISERROR(MATCH(WEEKDAY(ROW(INDIRECT(Q43&":"&S43))),DunDay,0)),IF(ISERROR(MATCH(ROW(INDIRECT(Q43&":"&S43)),National,0)),1,0)),0))))}
O44: =IF(P44<>"",IF($G$17<=P44,P44,IF($G$17>=Q44,0,$G$17)),"") | R44: {=IF(ISERROR(IF(OR(P44<=0,Q44<=0,P44>Q44,ISNUMBER(P44)=FALSE,ISNUMBER(Q44)=FALSE),NA(),SUM(IF(ISERROR(MATCH(WEEKDAY(ROW(INDIRECT(P44&":"&Q44)),2),DunDay,0)),IF(ISERROR(MATCH(ROW(INDIRECT(P44&":"&Q44)),National,0)),1,0)),0))),"",IF(OR(P44<=0,Q44<=0,P44>Q44,ISNUMBER(P44)=FALSE,ISNUMBER(Q44)=FALSE),NA(),SUM(IF(ISERROR(MATCH(WEEKDAY(ROW(INDIRECT(P44&":"&Q44)),2),DunDay,0)),IF(ISERROR(MATCH(ROW(INDIRECT(P44&":"&Q44)),National,0)),1,0)),0)))} | U44: {=IF(ISERROR(IF(OR(O44<=0,Q44<=0,O44>Q44,ISNUMBER(O44)=FALSE,ISNUMBER(Q44)=FALSE),NA(),SUM(IF(ISERROR(MATCH(WEEKDAY(ROW(INDIRECT(O44&":"&Q44)),2),DunDay,0)),IF(ISERROR(MATCH(ROW(INDIRECT(O44&":"&Q44)),National,0)),1,0)),0))),"",IF(OR(O44<=0,Q44<=0,O44>Q44,ISNUMBER(O44)=FALSE,ISNUMBER(Q44)=FALSE),NA(),SUM(IF(ISERROR(MATCH(WEEKDAY(ROW(INDIRECT(O44&":"&Q44)),2),DunDay,0)),IF(ISERROR(MATCH(ROW(INDIRECT(O44&":"&Q44)),National,0)),1,0)),0)))} | V44: {=IF(ISERROR(IF(S44<Q44,IF(OR(S44<=0,Q44<=0,S44>Q44,ISNUMBER(S44)=FALSE, ISNUMBER(Q44)=FALSE),NA(),SUM(IF(ISERROR(MATCH(WEEKDAY(ROW(INDIRECT(S44&":"&Q44))),DunDay,0)),IF(ISERROR(MATCH(ROW(INDIRECT(S44&":"&Q44)),National,0)),1,0)),0)),IF(OR(Q44<=0,S44<=0,Q44>S44,ISNUMBER(Q44)=FALSE, ISNUMBER(S44)=FALSE),NA(),SUM(IF(ISERROR(MATCH(WEEKDAY(ROW(INDIRECT(Q44&":"&S44))),DunDay,0)),IF(ISERROR(MATCH(ROW(INDIRECT(Q44&":"&S44)),National,0)),1,0)),0)))),"",IF(S44<Q44,IF(OR(S44<=0,Q44<=0,S44>Q44,ISNUMBER(S44)=FALSE, ISNUMBER(Q44)=FALSE),NA(),SUM(IF(ISERROR(MATCH(WEEKDAY(ROW(INDIRECT(S44&":"&Q44))),DunDay,0)),IF(ISERROR(MATCH(ROW(INDIRECT(S44&":"&Q44)),National,0)),1,0)),0)),IF(OR(Q44<=0,S44<=0,Q44>S44,ISNUMBER(Q44)=FALSE, ISNUMBER(S44)=FALSE),NA(),SUM(IF(ISERROR(MATCH(WEEKDAY(ROW(INDIRECT(Q44&":"&S44))),DunDay,0)),IF(ISERROR(MATCH(ROW(INDIRECT(Q44&":"&S44)),National,0)),1,0)),0))))}
O45: =IF(P45<>"",IF($G$17<=P45,P45,IF($G$17>=Q45,0,$G$17)),"") | R45: {=IF(ISERROR(IF(OR(P45<=0,Q45<=0,P45>Q45,ISNUMBER(P45)=FALSE,ISNUMBER(Q45)=FALSE),NA(),SUM(IF(ISERROR(MATCH(WEEKDAY(ROW(INDIRECT(P45&":"&Q45)),2),DunDay,0)),IF(ISERROR(MATCH(ROW(INDIRECT(P45&":"&Q45)),National,0)),1,0)),0))),"",IF(OR(P45<=0,Q45<=0,P45>Q45,ISNUMBER(P45)=FALSE,ISNUMBER(Q45)=FALSE),NA(),SUM(IF(ISERROR(MATCH(WEEKDAY(ROW(INDIRECT(P45&":"&Q45)),2),DunDay,0)),IF(ISERROR(MATCH(ROW(INDIRECT(P45&":"&Q45)),National,0)),1,0)),0)))} | U45: {=IF(ISERROR(IF(OR(O45<=0,Q45<=0,O45>Q45,ISNUMBER(O45)=FALSE,ISNUMBER(Q45)=FALSE),NA(),SUM(IF(ISERROR(MATCH(WEEKDAY(ROW(INDIRECT(O45&":"&Q45)),2),DunDay,0)),IF(ISERROR(MATCH(ROW(INDIRECT(O45&":"&Q45)),National,0)),1,0)),0))),"",IF(OR(O45<=0,Q45<=0,O45>Q45,ISNUMBER(O45)=FALSE,ISNUMBER(Q45)=FALSE),NA(),SUM(IF(ISERROR(MATCH(WEEKDAY(ROW(INDIRECT(O45&":"&Q45)),2),DunDay,0)),IF(ISERROR(MATCH(ROW(INDIRECT(O45&":"&Q45)),National,0)),1,0)),0)))} | V45: {=IF(ISERROR(IF(S45<Q45,IF(OR(S45<=0,Q45<=0,S45>Q45,ISNUMBER(S45)=FALSE, ISNUMBER(Q45)=FALSE),NA(),SUM(IF(ISERROR(MATCH(WEEKDAY(ROW(INDIRECT(S45&":"&Q45))),DunDay,0)),IF(ISERROR(MATCH(ROW(INDIRECT(S45&":"&Q45)),National,0)),1,0)),0)),IF(OR(Q45<=0,S45<=0,Q45>S45,ISNUMBER(Q45)=FALSE, ISNUMBER(S45)=FALSE),NA(),SUM(IF(ISERROR(MATCH(WEEKDAY(ROW(INDIRECT(Q45&":"&S45))),DunDay,0)),IF(ISERROR(MATCH(ROW(INDIRECT(Q45&":"&S45)),National,0)),1,0)),0)))),"",IF(S45<Q45,IF(OR(S45<=0,Q45<=0,S45>Q45,ISNUMBER(S45)=FALSE, ISNUMBER(Q45)=FALSE),NA(),SUM(IF(ISERROR(MATCH(WEEKDAY(ROW(INDIRECT(S45&":"&Q45))),DunDay,0)),IF(ISERROR(MATCH(ROW(INDIRECT(S45&":"&Q45)),National,0)),1,0)),0)),IF(OR(Q45<=0,S45<=0,Q45>S45,ISNUMBER(Q45)=FALSE, ISNUMBER(S45)=FALSE),NA(),SUM(IF(ISERROR(MATCH(WEEKDAY(ROW(INDIRECT(Q45&":"&S45))),DunDay,0)),IF(ISERROR(MATCH(ROW(INDIRECT(Q45&":"&S45)),National,0)),1,0)),0))))}
... O119: =IF(P119<>"",IF($G$17<=P119,P119,IF($G$17>=Q119,0,$G$17)),"") | R119: {=IF(ISERROR(IF(OR(P119<=0,Q119<=0,P119>Q119,ISNUMBER(P119)=FALSE,ISNUMBER(Q119)=FALSE),NA(),SUM(IF(ISERROR(MATCH(WEEKDAY(ROW(INDIRECT(P119&":"&Q119)),2),DunDay,0)),IF(ISERROR(MATCH(ROW(INDIRECT(P119&":"&Q119)),National,0)),1,0)),0))),"",IF(OR(P119<=0,Q119<=0,P119>Q119,ISNUMBER(P119)=FALSE,ISNUMBER(Q119)=FALSE),NA(),SUM(IF(ISERROR(MATCH(WEEKDAY(ROW(INDIRECT(P119&":"&Q119)),2),DunDay,0)),IF(ISERROR(MATCH(ROW(INDIRECT(P119&":"&Q119)),National,0)),1,0)),0)))} | U119: {=IF(ISERROR(IF(OR(O119<=0,Q119<=0,O119>Q119,ISNUMBER(O119)=FALSE,ISNUMBER(Q119)=FALSE),NA(),SUM(IF(ISERROR(MATCH(WEEKDAY(ROW(INDIRECT(O119&":"&Q119)),2),DunDay,0)),IF(ISERROR(MATCH(ROW(INDIRECT(O119&":"&Q119)),National,0)),1,0)),0))),"",IF(OR(O119<=0,Q119<=0,O119>Q119,ISNUMBER(O119)=FALSE,ISNUMBER(Q119)=FALSE),NA(),SUM(IF(ISERROR(MATCH(WEEKDAY(ROW(INDIRECT(O119&":"&Q119)),2),DunDay,0)),IF(ISERROR(MATCH(ROW(INDIRECT(O119&":"&Q119)),National,0)),1,0)),0)))} | V119: {=IF(ISERROR(IF(S119<Q119,IF(OR(S119<=0,Q119<=0,S119>Q119,ISNUMBER(S119)=FALSE, ISNUMBER(Q119)=FALSE),NA(),SUM(IF(ISERROR(MATCH(WEEKDAY(ROW(INDIRECT(S119&":"&Q119))),DunDay,0)),IF(ISERROR(MATCH(ROW(INDIRECT(S119&":"&Q119)),National,0)),1,0)),0)),IF(OR(Q119<=0,S119<=0,Q119>S119,ISNUMBER(Q119)=FALSE, ISNUMBER(S119)=FALSE),NA(),SUM(IF(ISERROR(MATCH(WEEKDAY(ROW(INDIRECT(Q119&":"&S119))),DunDay,0)),IF(ISERROR(MATCH(ROW(INDIRECT(Q119&":"&S119)),National,0)),1,0)),0)))),"",IF(S119<Q119,IF(OR(S119<=0,Q119<=0,S119>Q119,ISNUMBER(S119)=FALSE, ISNUMBER(Q119)=FALSE),NA(),SUM(IF(ISERROR(MATCH(WEEKDAY(ROW(INDIRECT(S119&":"&Q119))),DunDay,0)),IF(ISERROR(MATCH(ROW(INDIRECT(S119&":"&Q119)),National,0)),1,0)),0)),IF(OR(Q119<=0,S119<=0,Q119>S119,ISNUMBER(Q119)=FALSE, ISNUMBER(S119)=FALSE),NA(),SUM(IF(ISERROR(MATCH(WEEKDAY(ROW(INDIRECT(Q119&":"&S119))),DunDay,0)),IF(ISERROR(MATCH(ROW(INDIRECT(Q119&":"&S119)),National,0)),1,0)),0))))}

Sheet Holiday List
A2: Date | B2: Holiday
A3: 40909 | B3: New Year’s Day
A4: 40924 | B4: Martin Luther King, Jr. Day
A5: 40959 | B5: Presidents’ Day
A6: 41057 | B6: Memorial Day
A7: 41094 | B7: Independence Day
A8: 41155 | B8: Labor Day
A9: 41190 | B9: Columbus Day
A10: 41224 | B10: Veterans Day
A11: 40869 | B11: Thanksgiving Day
A12: 41268 | B12: Christmas Day

Sheet Premium Edition Features
B2: PRICE | C2: Excelindo Gantt Chart Premium Edition - Single User License | I2: Full Features but Formula still protected | L2: US$ 17.99 | M2: click here to buy premium edition at excelindo.com
C3: Excelindo Gantt Chart Premium Edition - Multi User License | L3: US$ 34.99
C4: Excelindo Gantt Chart Premium Password | I4: To unlocked all formula on Premium Edition | L4: US$ 5.99
B6: EXCELINDO GANTT CHART PREMIUM EDITION FEATURES
